Workbook
Name CelkemObjekty: Stavba!$I$30
Name CenaStavby: Stavba!$D$8
Name cisloobjektu: '[1]Krycí list'!$A$5
Name CisloRozpoctu: '[1]Krycí list'!$C$2
Name CisloStavby: Stavba!$D$5
Name cislostavby: '[1]Krycí list'!$A$7
Name dadresa: Stavba!#REF!
Name DIČ: Stavba!#REF!
Name dmisto: Stavba!#REF!
Name dpsc: Stavba!#REF!
Name IČO: Stavba!#REF!
Name MenaStavby: Stavba!$E$8
Name MistoStavby: Stavba!$F$5
Name NazevObjektu: Stavba!#REF!
Name nazevobjektu: '[1]Krycí list'!$C$5
Name NazevRozpoctu: '[1]Krycí list'!$D$2
Name NazevStavby: Stavba!$D$6
Name nazevstavby: '[1]Krycí list'!$C$7
Name Objednatel: Stavba!$D$11
Name Objekt: Stavba!#REF!
Name odic: Stavba!#REF!
Name oico: Stavba!#REF!
Name omisto: Stavba!$D$13
Name onazev: Stavba!$D$12
Name opsc: Stavba!$C$13
Name padresa: Stavba!$D$16
Name pmisto: Stavba!$D$17
Name PocetMJ: #REF!
Name PoptavkaID: Stavba!$A$1
Name ppsc: Stavba!$C$17
Name Projektant: Stavba!$D$15
Name SazbaDPH1: Stavba!#REF!
Name SazbaDPH1: '[1]Krycí list'!$C$30
Name SazbaDPH2: Stavba!#REF!
Name SazbaDPH2: '[1]Krycí list'!$C$32
Name SloupecCC: #REF!
Name SloupecCisloPol: #REF!
Name SloupecJC: #REF!
Name SloupecMJ: #REF!
Name SloupecMnozstvi: #REF!
Name SloupecNazPol: #REF!
Name SloupecPC: #REF!
Name SoucetDilu: Stavba!#REF!
Name StavbaCelkem: Stavba!#REF!
Name Zhotovitel: Stavba!#REF!

Sheet Uchazeč
A2: Vyplňte následující údaje o Vaší společnosti
A5: Obchodní název
A6: Ulice a č.p.
A7: Místo
A8: PSČ
A9: IČO
A10: DIČ
A11: Kontaktní osoba
A12: telefon, fax
A13: e-mail
A16: Poznámka :
A17: Ve všech listech tohoto souboru můžete měnit pouze buňky s modrým pozadím. Jedná se o tyto údaje : - údaje o firmě - jednotkové ceny položek zadané na maximálně dvě desetinná místa

Sheet Stavba
A1: -1
E2: Soupis stavebních prací, dodávek a služeb
B5: Stavba : | D5: 4529 | F5: Valašské Příkazy
D6: Kanalizace Valašské Příkazy
B11: Zadavatel : | D11: Obec Valašské Příkazy | H11: IČO : | I11: 00304395
D12: 1 | H12: DIČ :
C13: 75612 | D13: Valašské Příkazy
B15: Projektant : | D15: AQUA PROCON s.r.o. | H15: IČO : | I15: 46964371
D16: Palackého třída 768/12 | H16: DIČ : | I16: CZ46964371
C17: 61200 | D17: Brno-Královo Pole
B19: Rekapitulace stavebních objektů a provozních souborů
B21: Číslo a název objektu / provozního souboru | H21: JKSO | I21: Počet | J21: Cena
B22: Ostatní a vedlejší náklady | I22: 1
B23: 000 | C23: Vedlejší a ostatní náklady | I23: 1 | J23: ='Rekapitulace Objekt 000'!H19 -> 0 | O23: ='Rekapitulace Objekt 000'!O21 -> 0 | P23: ='Rekapitulace Objekt 000'!P21 -> 0
B24: Inženýrský objekt | I24: 5
B25: SO01 | C25: Stoka A | H25: 827.21.A.1.1 | I25: 5 | J25: ='Rekapitulace Objekt SO01'!H27 -> 0 | O25: ='Rekapitulace Objekt SO01'!O29 -> 0 | P25: ='Rekapitulace Objekt SO01'!P29 -> 0
B26: SO02 | C26: Stoka A2 | H26: 827.21.A.1.1 | I26: 4 | J26: ='Rekapitulace Objekt SO02'!H26 -> 0 | O26: ='Rekapitulace Objekt SO02'!O28 -> 0 | P26: ='Rekapitulace Objekt SO02'!P28 -> 0
B27: SO03 | C27: Stoka A3 | H27: 827.21.A3.1.1 | I27: 3 | J27: ='Rekapitulace Objekt SO03'!H26 -> 0 | O27: ='Rekapitulace Objekt SO03'!O28 -> 0 | P27: ='Rekapitulace Objekt SO03'!P28 -> 0
B28: SO04 | C28: Stoka A4 | H28: 827.21.A3.1.1 | I28: 4 | J28: ='Rekapitulace Objekt SO04'!H27 -> 0 | O28: ='Rekapitulace Objekt SO04'!O29 -> 0 | P28: ='Rekapitulace Objekt SO04'!P29 -> 0
B29: SO05 | C29: Stoka A5 | H29: 827.22.1.2 | I29: 1 | J29: ='Rekapitulace Objekt SO05'!H22 -> 0 | O29: ='Rekapitulace Objekt SO05'!O24 -> 0 | P29: ='Rekapitulace Objekt SO05'!P24 -> 0
B30: Celkem za stavbu | J30: =SUM(J22:J29) -> 0
B32: Rekapitulace DPH | J32: Cena
B33: Základ pro DPH | E33: 15 | F33: % | J33: =SUM(O23:O30) -> 0
B34: DPH | E34: 15 | F34: % | J34: =J33*(E34/100) -> 0
B35: Základ pro DPH | E35: 21 | F35: % | J35: =SUM(P23:P30) -> 0
B36: DPH | E36: 21 | F36: % | J36: =J35*(E36/100) -> 0
B37: Celkem za stavbu s DPH | J37: =SUM(J33:J36) -> 0
B39: PREAMBULE k soupisu prací, dodávek a služeb | AZ39: =B39 -> PREAMBULE k soupisu prací, dodávek a služeb
B41: Tento soupis stavebních prací, dodávek a služeb je sestaven jako podklad pro zpracování nabídek dodavatelů na veřejnou zakázku na stavební práce. Účelem tohoto soupisu je zabezpečit obsahovou shodu všech nabídkových cen a usnadnit následné posouzení dodavateli předložených cenových nabídek. | AZ41: =B41 -> Tento soupis stavebních prací, dodávek a služeb je sestaven jako podklad pro zpracování nabídek dodavatelů na veřejnou zakázku na stavební práce. Účelem tohoto soupisu je zabezpečit obsahovou shodu všech nabídkových cen a usnadnit následné posouzení dodavateli předložených cenových nabídek.
B43: Předpokládá se, že dodavatel si prostuduje Soupis prací, dodávek a služeb spolu s ostatní zadávací dokumentací a považuje se za samozřejmé, že dodavatel se sám seznámil s podrobnými popisy díla, které má být realizováno a způsobem, jak má být realizováno. Celkové dílo má být provedeno v souladu se skutečným záměrem a významem díla a objednatel prostřednictvím správce stavby ho má považovat za zcela vyhovující. | AZ43: =B43 -> Předpokládá se, že dodavatel si prostuduje Soupis prací, dodávek a služeb spolu s ostatní zadávací dokumentací a považuje se za samozřejmé, že dodavatel se sám seznámil s podrobnými popisy díla, které má být realizováno a způsobem, jak má být realizováno. Celkové dílo má být provedeno v souladu se skutečným záměrem a významem díla a objednatel prostřednictvím správce stavby ho má považovat za zcela vyhovující.
B45: Zadavatel nemůže vzít v úvahu žádnou dodatečnou výhradu dodavatele k soupisu stavebních prací, dodávek a služeb. | AZ45: =B45 -> Zadavatel nemůže vzít v úvahu žádnou dodatečnou výhradu dodavatele k soupisu stavebních prací, dodávek a služeb.
B47: Vymezení některých pojmů | AZ47: =B47 -> Vymezení některých pojmů
B49: Pro účely tohoto svazku zadávací dokumentace (platí i pro ostatní svazky) se rozumí: | AZ49: =B49 -> Pro účely tohoto svazku zadávací dokumentace (platí i pro ostatní svazky) se rozumí:
B51: a) Soupisem stavebních prací dodávek a služeb dokument, ve kterém jsou definovány zadavatelem požadované stavební práce, dodávky a služby v podrobnostech nezbytných pro zpracování cenové nabídky dodavatele. Soupis obsahuje i definici požadovaného množství stavebních prací, dodávek a služeb. | AZ51: =B51 -> a) Soupisem stavebních prací dodávek a služeb dokument, ve kterém jsou definovány zadavatelem požadované stavební práce, dodávky a služby v podrobnostech nezbytných pro zpracování cenové nabídky dodavatele. Soupis obsahuje i definici požadovaného množství stavebních prací, dodávek a služeb.
B53: b) Cenovou soustavou uspořádaný soubor informací o stavebních a montážních pracích, materiálech a výrobcích obsahující zatřídění položek, podrobný popis a měrnou jednotku, způsob měření a další technické a cenové podmínky pro možnost sestavení kalkulace nezbytných nákladů a stanovení jednotkové ceny. | AZ53: =B53 -> b) Cenovou soustavou uspořádaný soubor informací o stavebních a montážních pracích, materiálech a výrobcích obsahující zatřídění položek, podrobný popis a měrnou jednotku, způsob měření a další technické a cenové podmínky pro možnost sestavení kalkulace nezbytných nákladů a stanovení jednotkové ceny.
B55: c) Položkovým rozpočtem dokument odpovídající svým obsahem a strukturou soupisu stavebních prací, dodávek a služeb, předaného zadavatelem dodavateli ke zpracování nabídky, v němž dodavatel doplní k jednotlivým položkám stavebních prací, dodávek nebo služeb svoje nabídkové jednotkové ceny a stanoví i celkovou nabídkovou cenu příslušné položky a dále stanoví nabídkové ceny jednotlivých částí soupisu až po celkovou nabídkovou cenu za veškeré stavební práce, dodávky nebo služby, které jsou obsahem soupisu stavebních prací, dodávek a služeb. | AZ55: =B55 -> c) Položkovým rozpočtem dokument odpovídající svým obsahem a strukturou soupisu stavebních prací, dodávek a služeb, předaného zadavatelem dodavateli ke zpracování nabídky, v němž dodavatel doplní k jednotlivým položkám stavebních prací, dodávek nebo služeb svoje nabídkové jednotkové ceny a stanoví i celkovou nabídkovou cenu příslušné položky a dále stanoví nabídkové ceny jednotlivých částí soupisu až po celkovou nabídkovou cenu za veškeré stavební práce, dodávky nebo služby, které jsou obsahem soupisu stavebních prací, dodávek a služeb.
B57: d) Profilem zadavatele elektronický nástroj, prostřednictvím kterého zadavatel podle zákona uveřejňuje informace a dokumenty ke svým veřejným zakázkám a který umožňuje neomezený a přímý dálkový přístup, a jehož internetová adresa je uveřejněna ve Věstníku veřejných zakázek. | AZ57: =B57 -> d) Profilem zadavatele elektronický nástroj, prostřednictvím kterého zadavatel podle zákona uveřejňuje informace a dokumenty ke svým veřejným zakázkám a který umožňuje neomezený a přímý dálkový přístup, a jehož internetová adresa je uveřejněna ve Věstníku veřejných zakázek.
B60: Cenová soustava | AZ60: =B60 -> Cenová soustava
B62: Použitá cenová soustava | AZ62: =B62 -> Použitá cenová soustava
... B165: Příslušná dokumentace a soupisy stavebních prací, dodávek a služeb jsou zpracovány s maximální snahou na vymezení technických standardů prací, dodávek a služeb, jejichž splnění zadavatel požaduje. Protože však běžně používané cenové soustavy mají ve svých databázích definovány i položky, u nichž je v textu použit i popis a označení reprezentativního materiálu, umožňuje zadavatel v takovém případě použít pro plnění veřejné zakázky i jiných, kvalitativně a technicky obdobných řešení, pokud zadávací podmínky výslovně nestanoví z objektivních důvodů jinak. | AZ165: =B165 -> Příslušná dokumentace a soupisy stavebních prací, dodávek a služeb jsou zpracovány s maximální snahou na vymezení technických standardů prací, dodávek a služeb, jejichž splnění zadavatel požaduje. Protože však běžně používané cenové soustavy mají ve svých databázích definovány i položky, u nichž je v textu použit i popis a označení reprezentativního materiálu, umožňuje zadavatel v takovém případě použít pro plnění veřejné zakázky i jiných, kvalitativně a technicky obdobných řešení, pokud zadávací podmínky výslovně nestanoví z objektivních důvodů jinak.
...

Sheet VzorObjekt
A1: Stavba : | B1: =Stavba!CisloStavby -> 4529 | C1: =Stavba!NazevStavby -> Kanalizace Valašské Příkazy
A2: Objekt : | G2: JKSO :
A4: Rekapitulace stavebního objektu
A6: Zákl. údaje | B6: =B2 -> 0
B7: =C2 -> 0
A9: Třídník stavebních objektů:

Sheet VzorPolozky
A1: Položkový rozpočet
A2: S:
A3: O:
A4: R:
A6: P.č. | B6: Číslo položky | C6: Název položky | D6: MJ | E6: množství | F6: cena / MJ | G6: celkem

Sheet Rekapitulace Objekt 000
A1: Stavba : | B1: =Stavba!CisloStavby -> 4529 | C1: =Stavba!NazevStavby -> Kanalizace Valašské Příkazy
A2: Objekt : | B2: 000 | C2: Vedlejší a ostatní náklady | G2: JKSO : | O2: NAK
A4: Rekapitulace stavebního objektu
A6: Zákl. údaje | B6: =B2 -> 000
B7: =C2 -> Vedlejší a ostatní náklady
A9: Třídník stavebních objektů:
A14: Rozsah:
A16: Rekapitulace soupisů náležejících k objektu
A17: Soupis | H17: Cena (Kč)
A18: 01 | B18: Vedlejší a ostatní náklady | H18: ='000 01 Naklady'!G50 -> 0 | O18: ='000 01 Naklady'!AN6 -> 0 | P18: ='000 01 Naklady'!AO6 -> 0
B19: Celkem objekt | D19: =B2 -> 000 | H19: =SUM(H18:H18) -> 0
H21: Rekapitulace DPH | O21: =H22 -> 0 | P21: =H24 -> 0
A22: Základ pro DPH | D22: 15 | E22: % | H22: =SUM(O18:O19) -> 0
A23: DPH | D23: 15 | E23: % | H23: =H22*(D23/100) -> 0
A24: Základ pro DPH | D24: 21 | E24: % | H24: =SUM(P18:P19) -> 0
A25: DPH | D25: 21 | E25: % | H25: =H24*(D25/100) -> 0
A26: Celkem za objekt s DPH | H26: =SUM(H22:H25) -> 0
A28: Rekapitulace soupisu | D28: 01 | E28: Vedlejší a ostatní náklady | BC28: =E28 -> Vedlejší a ostatní náklady
A29: Stavební díl | H29: Cena (Kč)
A30: VN | B30: Vedlejší náklady | H30: ='000 01 Naklady'!F8 -> 0
A31: ON | B31: Ostatní náklady | H31: ='000 01 Naklady'!F16 -> 0
B32: Celkem soupis | D32: =D28 -> 01 | H32: =SUM(H30:H31) -> 0

Sheet 000 01 Naklady
A1: Soupis vedlejších a ostatních nákladů | AC1: #LevelZatrideniCeniku#
A2: S: | B2: 4529 | C2: Kanalizace Valašské Příkazy
A3: O: | B3: 000 | C3: Vedlejší a ostatní náklady | AC3: NAK
A4: R: | B4: 01 | C4: Vedlejší a ostatní náklady
AN5: 15 | AO5: 21
A6: P.č. | B6: Číslo položky | C6: Název položky | D6: MJ | E6: množství | F6: cena / MJ | G6: celkem | H6: Ceník | I6: Cen. soustava | AN6: =SUMIF(AM8:AM50,AN5,G8:G50) -> 0 | AO6: =SUMIF(AM8:AM50,AO5,G8:G50) -> 0
B7: Ceník, kapitola | C7: Poznámka uchazeče
A8: Díl: | B8: VN | C8: Vedlejší náklady | F8: =SUM(G9:G15) -> 0 | AE8: DIL
A9: 1 | B9: 005111020R | C9: Vytyčení stavby | D9: Soubor | E9: 1 | G9: =ROUND(E9*F9,2) -> 0 | I9: RTS 17/ I | AE9: POL | AM9: 21
C10: Geodetické zaměření rohů stavby, stabilizace bodů a sestavení laviček. | BA10: =C10 -> Geodetické zaměření rohů stavby, stabilizace bodů a sestavení laviček.
C11: Vyhotovení protokolu o vytyčení stavby se seznamem souřadnic vytyčených bodů a jejich polohopisnými (S-JTSK) a výškopisnými (Bpv) hodnotami. | BA11: =C11 -> Vyhotovení protokolu o vytyčení stavby se seznamem souřadnic vytyčených bodů a jejich polohopisnými (S-JTSK) a výškopisnými (Bpv) hodnotami.
C12: viz příloha Všeobecné požadavky, vedlejší a ostatní náklady : 1 | E12: 1
A13: 2 | B13: 005121 R | C13: Zařízení staveniště | D13: Soubor | E13: 1 | G13: =ROUND(E13*F13,2) -> 0 | I13: RTS 17/ I | AE13: POL | AM13: 21
C14: Veškeré náklady spojené s vybudováním, provozem a odstraněním zařízení staveniště. | BA14: =C14 -> Veškeré náklady spojené s vybudováním, provozem a odstraněním zařízení staveniště.
C15: viz příloha Všeobecné požadavky, vedlejší a ostatní náklady : 1 | E15: 1
A16: Díl: | B16: ON | C16: Ostatní náklady | F16: =SUM(G17:G47) -> 0 | AE16: DIL
A17: 3 | B17: 004111901T | C17: Upřesněná dokumentace pro provedení stavby | D17: Soubor | E17: 1 | G17: =ROUND(E17*F17,2) -> 0 | I17: Vlastní | AE17: POL | AM17: 21
C18: Náklady na provedení upřesnění a doplnění obsahu dokumentace provedení stavby | BA18: =C18 -> Náklady na provedení upřesnění a doplnění obsahu dokumentace provedení stavby
C19: viz příloha Všeobecné požadavky, vedlejší a ostatní náklady : 1 | E19: 1
A20: 4 | B20: 005111601T | C20: Geometrické plány | D20: Soubor | E20: 1 | G20: =ROUND(E20*F20,2) -> 0 | I20: Vlastní | AE20: POL | AM20: 21
C21: viz příloha Všeobecné požadavky, vedlejší a ostatní náklady : 1 | E21: 1
A22: 5 | B22: 005211030R | C22: Dočasná dopravní opatření | D22: Soubor | E22: 1 | G22: =ROUND(E22*F22,2) -> 0 | I22: RTS 17/ I | AE22: POL | AM22: 21
C23: Náklady na vyhotovení návrhu dočasného dopravního značení, jeho projednání s dotčenými orgány a organizacemi, dodání dopravních značek a světelné signalizace, jejich rozmístění a přemísťování a jejich údržba v průběhu výstavby včetně následného odstranění po ukončení stavebních prací. | BA23: =C23 -> Náklady na vyhotovení návrhu dočasného dopravního značení, jeho projednání s dotčenými orgány a organizacemi, dodání dopravních značek a světelné signalizace, jejich rozmístění a přemísťování a jejich údržba v průběhu výstavby včetně následného odstranění po ukončení stavebních prací.
C24: viz příloha Všeobecné požadavky, vedlejší a ostatní náklady : 1 | E24: 1
A25: 6 | B25: 005211901T | C25: Provizorní zařízení po dobu odstávky vodovodu a náhradní zásobování vodou | D25: Soubor | E25: 1 | G25: =ROUND(E25*F25,2) -> 0 | I25: Vlastní | AE25: POL | AM25: 21
C26: viz příloha Všeobecné požadavky, vedlejší a ostatní náklady : 1 | E26: 1
A27: 7 | B27: 005211902T | C27: Náhradní transport odpadních vod a provizorní propoje a čerpání při rekonstrukcích | D27: Soubor | E27: 1 | G27: =ROUND(E27*F27,2) -> 0 | I27: Vlastní | AE27: POL | AM27: 21
C28: viz příloha Všeobecné požadavky, vedlejší a ostatní náklady : 1 | E28: 1
A29: 8 | B29: 005231040T | C29: Provozní řád | D29: Soubor | E29: 1 | G29: =ROUND(E29*F29,2) -> 0 | I29: Vlastní | AE29: POL_NEZ | AF29: 99_2 | AM29: 21
C30: viz příloha Všeobecné požadavky, vedlejší a ostatní náklady : 1 | E30: 1
A31: 9 | B31: 005231901T | C31: Kanalizační řády | D31: Soubor | E31: 1 | G31: =ROUND(E31*F31,2) -> 0 | I31: Vlastní | AE31: POL | AM31: 21
C32: viz příloha Všeobecné požadavky, vedlejší a ostatní náklady : 1 | E32: 1
A33: 10 | B33: 005231903T | C33: Zaškolení obsluhy | D33: Soubor | E33: 1 | G33: =ROUND(E33*F33,2) -> 0 | I33: Vlastní | AE33: POL | AM33: 21
C34: viz příloha Všeobecné požadavky, vedlejší a ostatní náklady : 1 | E34: 1
A35: 11 | B35: 005231T | C35: Zkoušky | D35: Soubor | E35: 1 | G35: =ROUND(E35*F35,2) -> 0 | I35: Vlastní | AE35: POL | AM35: 21
C36: Náklady na zkoušky pro zajištění kontroly a kvality díla dle plánu kontrol a zkoušek | BA36: =C36 -> Náklady na zkoušky pro zajištění kontroly a kvality díla dle plánu kontrol a zkoušek
C37: neuvedené v jiných položkách | BA37: =C37 -> neuvedené v jiných položkách
A38: 12 | B38: 005241010R | C38: Dokumentace skutečného provedení | D38: Soubor | E38: 1 | G38: =ROUND(E38*F38,2) -> 0 | I38: RTS 17/ I | AE38: POL | AM38: 21
C39: Náklady na vyhotovení dokumentace skutečného provedení stavby a její předání objednateli v požadované formě a požadovaném počtu. | BA39: =C39 -> Náklady na vyhotovení dokumentace skutečného provedení stavby a její předání objednateli v požadované formě a požadovaném počtu.
C40: viz příloha Všeobecné požadavky, vedlejší a ostatní náklady : 1 | E40: 1
...

Sheet Rekapitulace Objekt SO01
A1: Stavba : | B1: =Stavba!CisloStavby -> 4529 | C1: =Stavba!NazevStavby -> Kanalizace Valašské Příkazy
A2: Objekt : | B2: SO01 | C2: Stoka A | G2: JKSO : | H2: 827.21.A.1.1 | O2: ING
A4: Rekapitulace stavebního objektu
A6: Zákl. údaje | B6: =B2 -> SO01
B7: =C2 -> Stoka A
A9: Třídník stavebních objektů: | B9: 827 | C9: Vedení trubní dálková přípojná
B10: 827.2 | C10: Kanalizace trubní
B11: 827.21 | C11: sítě kanalizační
B12: 827.21.A | C12: profil potrubí DN do 1000 mm
B14: 827.21.A.1 | C14: potrubí z trub z plastických hmot a sklolaminátu
B16: 827.21.A.1.1 | C16: novostavba objektu
A18: Rozsah: | C18: m
A20: Rekapitulace soupisů náležejících k objektu
A21: Soupis | H21: Cena (Kč)
A22: 01.1 | B22: Stoka A - kanalizační stoka | H22: ='SO01 01.1 Pol'!G2193 -> 0 | O22: ='SO01 01.1 Pol'!AN6 -> 0 | P22: ='SO01 01.1 Pol'!AO6 -> 0
A23: 01.2 | B23: Stoka A - odbočky pro domovní přípojky | H23: ='SO01 01.2 Pol'!G320 -> 0 | O23: ='SO01 01.2 Pol'!AN6 -> 0 | P23: ='SO01 01.2 Pol'!AO6 -> 0
A24: 01.3 | B24: Stoka A - opravy místních komunikací | H24: ='SO01 01.3 Pol'!G169 -> 0 | O24: ='SO01 01.3 Pol'!AN6 -> 0 | P24: ='SO01 01.3 Pol'!AO6 -> 0
A25: 01.4 | B25: Přípojka NN pro měrný objekt | H25: ='SO01 01.4 Pol'!G40 -> 0 | O25: ='SO01 01.4 Pol'!AN6 -> 0 | P25: ='SO01 01.4 Pol'!AO6 -> 0
A26: 01.5 | B26: Měrný objekt - elektrotechnická část | H26: ='SO01 01.5 Pol'!G60 -> 0 | O26: ='SO01 01.5 Pol'!AN6 -> 0 | P26: ='SO01 01.5 Pol'!AO6 -> 0
B27: Celkem objekt | D27: =B2 -> SO01 | H27: =SUM(H22:H26) -> 0
H29: Rekapitulace DPH | O29: =H30 -> 0 | P29: =H32 -> 0
A30: Základ pro DPH | D30: 15 | E30: % | H30: =SUM(O22:O27) -> 0
A31: DPH | D31: 15 | E31: % | H31: =H30*(D31/100) -> 0
A32: Základ pro DPH | D32: 21 | E32: % | H32: =SUM(P22:P27) -> 0
A33: DPH | D33: 21 | E33: % | H33: =H32*(D33/100) -> 0
A34: Celkem za objekt s DPH | H34: =SUM(H30:H33) -> 0
A36: Rekapitulace soupisu | D36: 01.1 | E36: Stoka A - kanalizační stoka | BC36: =E36 -> Stoka A - kanalizační stoka
A37: Stavební díl | H37: Cena (Kč)
A38: 1 | B38: Zemní práce | H38: ='SO01 01.1 Pol'!F8 -> 0
A39: 11 | B39: Přípravné a přidružené práce | H39: ='SO01 01.1 Pol'!F1185 -> 0
A40: 113 | B40: Přípravné a přidružené práce - živice | H40: ='SO01 01.1 Pol'!F1217 -> 0
A41: 2 | B41: Základy a zvláštní zakládání | H41: ='SO01 01.1 Pol'!F1250 -> 0
A42: 26 | B42: Vrty | H42: ='SO01 01.1 Pol'!F1296 -> 0
A43: 3 | B43: Svislé a kompletní konstrukce | H43: ='SO01 01.1 Pol'!F1347 -> 0
A44: 38 | B44: Kompletní konstrukce | H44: ='SO01 01.1 Pol'!F1396 -> 0
A45: 45 | B45: Podkladní a vedlejší konstrukce | H45: ='SO01 01.1 Pol'!F1406 -> 0
A46: 46 | B46: Zpevněné plochy | H46: ='SO01 01.1 Pol'!F1494 -> 0
A47: 461 | B47: Hřiště | H47: ='SO01 01.1 Pol'!F1624 -> 0
A48: 8 | B48: Trubní vedení | H48: ='SO01 01.1 Pol'!F1660 -> 0
A49: 89 | B49: Ostatní konstrukce na trubním vedení | H49: ='SO01 01.1 Pol'!F2020 -> 0
...

Sheet SO01 01.1 Pol
A1: Položkový soupis prací a dodávek | AC1: #LevelZatrideniCeniku#
A2: S: | B2: 4529 | C2: Kanalizace Valašské Příkazy
A3: O: | B3: SO01 | C3: Stoka A | AC3: ING
A4: R: | B4: 01.1 | C4: Stoka A - kanalizační stoka
AN5: 15 | AO5: 21
A6: P.č. | B6: Číslo položky | C6: Název položky | D6: MJ | E6: množství | F6: cena / MJ | G6: celkem | H6: Ceník | I6: Cen. soustava | AN6: =SUMIF(AM8:AM2193,AN5,G8:G2193) -> 0 | AO6: =SUMIF(AM8:AM2193,AO5,G8:G2193) -> 0
B7: Ceník, kapitola | C7: Poznámka uchazeče
A8: Díl: | B8: 1 | C8: Zemní práce | F8: =SUM(G9:G1184) -> 0 | AE8: DIL
B9: 111 20-11 Odstranění křovin a stromů o průměru do 10 cm | AC9: 0
B10: s odstraněním kořenů a s případným nutným odklizením křovin a stromů na hromady na vzdálenost do 50 m nebo s naložením na dopravní prostředek, do sklonu terénu 1 : 5, | AE10: SPX | AZ10: =B10 -> s odstraněním kořenů a s případným nutným odklizením křovin a stromů na hromady na vzdálenost do 50 m nebo s naložením na dopravní prostředek, do sklonu terénu 1 : 5,
A11: 1 | B11: 111201101R00 | C11: ...při celkové ploše do 1 000 m2 | D11: m2 | E11: 1000 | G11: =ROUND(E11*F11,2) -> 0 | H11: 800-1 | I11: RTS 17/ I | AE11: POL | AM11: 21
C12: viz.příloha D.1.1 :
C13: stoka A : 1000,0 | E13: 1000
B14: 111 20-14 Spálení odstraněných křovin a stromů | AC14: 0
B15: o průměru kmene do 100 mm na hromadách pro jakoukoliv plochu, | AE15: SPX
A16: 2 | B16: 111201401R00 | C16: ...pro jakoukolv plochu | D16: m2 | E16: 1000 | G16: =ROUND(E16*F16,2) -> 0 | H16: 800-1 | I16: RTS 17/ I | AE16: POL | AM16: 21
C17: Včetně nákladů na přihrnování křovin, očištění spáleniště, uložení popela a zbytků na hromadu. | BA17: =C17 -> Včetně nákladů na přihrnování křovin, očištění spáleniště, uložení popela a zbytků na hromadu.
C18: viz.příloha D.1.1 :
C19: stoka A : 1000,0 | E19: 1000
B20: 111 20-15 Spálení větví | AC20: 0
B21: stromů o průměru kmene přes 100 mm, na hromadách, pro všechny druhy stromů, | AE21: SPX
A22: 3 | B22: 111201501R00 | C22: ...pro všechny druhy stromů | D22: kus | E22: 19 | G22: =ROUND(E22*F22,2) -> 0 | H22: 800-1 | I22: RTS 17/ I | AE22: POL | AM22: 21
C23: Včetně nákladů na přihrnování větví, očištění spáleniště, uložení popela a zbytků na hromadu. | BA23: =C23 -> Včetně nákladů na přihrnování větví, očištění spáleniště, uložení popela a zbytků na hromadu.
C24: viz.příloha D.1.1 :
C25: stoka A : 19 | E25: 19
B26: 112 10 Kácení stromů | AC26: 0
B27: s odřezáním kmene a odvětvením, včetně případného odklizení kmene a větví na oddělené hromady na vzdálenost do 50 m nebo s naložením na dopravní prostředek, | AE27: SPX | AZ27: =B27 -> s odřezáním kmene a odvětvením, včetně případného odklizení kmene a větví na oddělené hromady na vzdálenost do 50 m nebo s naložením na dopravní prostředek,
B28: 112 10-1 listnatých | AC28: 1
A29: 4 | B29: 112101101R00 | C29: ...o průměru kmene přes 100 do 300 mm | D29: kus | E29: 19 | G29: =ROUND(E29*F29,2) -> 0 | H29: 800-1 | I29: RTS 17/ I | AE29: POL | AM29: 21
C30: viz.příloha D.1.1 :
C31: stoka A : 19 | E31: 19
B32: 112 20-11 Odstranění pařezů pod úrovní terénu | AC32: 0
B33: s jejich vykopáním nebo vytrháním, s přesekáním kořenů a s případným nutným přemístěním pařezů na hromady do vzdálenosti do 50 m nebo s naložením na dopravní prostředek, | AE33: SPX | AZ33: =B33 -> s jejich vykopáním nebo vytrháním, s přesekáním kořenů a s případným nutným přemístěním pařezů na hromady do vzdálenosti do 50 m nebo s naložením na dopravní prostředek,
B34: 112 20-111 vykopáním | AC34: 1
A35: 5 | B35: 112201101R00 | C35: ...o průměru přes 100 do 300 mm | D35: kus | E35: 19 | G35: =ROUND(E35*F35,2) -> 0 | H35: 800-1 | I35: RTS 17/ I | AE35: POL | AM35: 21
C36: viz.příloha D.1.1 :
C37: stoka A : 19 | E37: 19
B38: 114 20-32 Očištění kamene nebo tvárnic | AC38: 0
B39: získaných při rozebrání dlažeb, záhozů, rovnanin a soustřeďovacích staveb, | AE39: SPX
A40: 6 | B40: 114203201R00 | C40: ...od hlíny nebo písku | D40: m3 | E40: 3.6 | G40: =ROUND(E40*F40,2) -> 0 | H40: 800-1 | I40: RTS 17/ I | AE40: POL | AM40: 21
...

Sheet SO01 01.2 Pol
A1: Položkový soupis prací a dodávek | AC1: #LevelZatrideniCeniku#
A2: S: | B2: 4529 | C2: Kanalizace Valašské Příkazy
A3: O: | B3: SO01 | C3: Stoka A | AC3: ING
A4: R: | B4: 01.2 | C4: Stoka A - odbočky pro domovní přípojky
AN5: 15 | AO5: 21
A6: P.č. | B6: Číslo položky | C6: Název položky | D6: MJ | E6: množství | F6: cena / MJ | G6: celkem | H6: Ceník | I6: Cen. soustava | AN6: =SUMIF(AM8:AM320,AN5,G8:G320) -> 0 | AO6: =SUMIF(AM8:AM320,AO5,G8:G320) -> 0
B7: Ceník, kapitola | C7: Poznámka uchazeče
A8: Díl: | B8: 1 | C8: Zemní práce | F8: =SUM(G9:G149) -> 0 | AE8: DIL
B9: 121 10-11 Sejmutí ornice | AC9: 0
B10: nebo lesní půdy, s vodorovným přemístěním na hromady v místě upotřebení nebo na dočasné či trvalé skládky se složením | AE10: SPX
A11: 1 | B11: 121101101R00 | C11: ...s přemístěním na vzdálenost do 50 m | D11: m3 | E11: 31.28 | G11: =ROUND(E11*F11,2) -> 0 | H11: 800-1 | I11: RTS 17/ I | AE11: POL | AM11: 21
C12: nezp., louka : 8,2*2,0*0,2 | E12: 3.28
C13: nezp.tráva : 71,0*2,0*0,1 | E13: 14.2
C14: zahrada : 31,8*2,0*0,2 | E14: 12.72
C15: hřiště : 4,5*2,0*0,12 | E15: 1.08
B16: 132 20 Hloubení rýh šířky přes 60 do 200 cm | AC16: 0
B17: zapažených i nezapažených, s urovnáním dna do předepsaného profilu a spádu, s případně nutným přehozením výkopku na vzdálenost do 3 m ve výkopišti, s přehozením výkopku na přilehlém terénu na vzdálenost do 5 m od podélné osy rýhy nebo s naložením výkopku na dopravní prostředek. | AE17: SPX | AZ17: =B17 -> zapažených i nezapažených, s urovnáním dna do předepsaného profilu a spádu, s případně nutným přehozením výkopku na vzdálenost do 3 m ve výkopišti, s přehozením výkopku na přilehlém terénu na vzdálenost do 5 m od podélné osy rýhy nebo s naložením výkopku na dopravní prostředek.
A18: 2 | B18: 132201219R00 | C18: ...příplatek za lepivost, v hornině 3, | D18: m3 | E18: 105.76727 | G18: =ROUND(E18*F18,2) -> 0 | H18: 800-1 | I18: RTS 17/ I | AE18: POL | AM18: 21
C19: lepivost 45% :
C20: Položka pořadí 5 : 235.03838*0,45 | E20: 105.76727
A21: 3 | B21: 132301219R00 | C21: ...příplatek za lepivost, v hornině 4, | D21: m3 | E21: 31.02507 | G21: =ROUND(E21*F21,2) -> 0 | H21: 800-1 | I21: RTS 17/ I | AE21: POL | AM21: 21
C22: lepivost 45% :
C23: Položka pořadí 6 : 68.94460*0,45 | E23: 31.02507
B24: 138 Dolamování hloubených vykopávek | AC24: 0
B25: zapažených i nezapažených v hor. 5 - 7 s případným nutným přemístěním výkopku ve výkopišti, bez naložení. | AE25: SPX
B26: 138 2 rýh ve vrstvě tloušťky do 500 mm | AC26: 1
A27: 4 | B27: 138401201R00 | C27: ...v hornině 5 | D27: m3 | E27: 9.40154 | G27: =ROUND(E27*F27,2) -> 0 | H27: 800-1 | I27: RTS 17/ I | AE27: POL | AM27: 21
C28: hor.tř. V - 3% :
C29: přípojky A - ruční výkop, dolamování : 313,3845*0,03 | E29: 9.40154
B30: 139 6 Ruční výkop jam, rýh a šachet | AC30: 0
B31: s přehozením na vzdálenost do 5 m nebo s naložením na ruční dopravní prostředek | AE31: SPX
A32: 5 | B32: 139601102R00 | C32: ...v hornině 3 | D32: m3 | E32: 235.03838 | G32: =ROUND(E32*F32,2) -> 0 | H32: 800-1 | I32: RTS 17/ I | AE32: POL | AM32: 21
C33: Začátek provozního součtu
C34: PVC DN150 :
C35: nové přípojky : 155,5*0,9*(3,3+1,6)/2 | E35: 342.8775
C36: odpočet povrchů :
C37: MK - asfalt : -25,7*0,9*0,45 | E37: -10.4085
C38: MK - penetr. makadam : -9,1*0,9*0,45 | E38: -3.6855
C39: MK - štěrk : -2,9*0,9*0,15 | E39: -0.3915
C40: nezp., louka : -8,2*0,9*0,2 | E40: -1.476
...

Sheet SO01 01.3 Pol
A1: Položkový soupis prací a dodávek | AC1: #LevelZatrideniCeniku#
A2: S: | B2: 4529 | C2: Kanalizace Valašské Příkazy
A3: O: | B3: SO01 | C3: Stoka A | AC3: ING
A4: R: | B4: 01.3 | C4: Stoka A - opravy místních komunikací
AN5: 15 | AO5: 21
A6: P.č. | B6: Číslo položky | C6: Název položky | D6: MJ | E6: množství | F6: cena / MJ | G6: celkem | H6: Ceník | I6: Cen. soustava | AN6: =SUMIF(AM8:AM169,AN5,G8:G169) -> 0 | AO6: =SUMIF(AM8:AM169,AO5,G8:G169) -> 0
B7: Ceník, kapitola | C7: Poznámka uchazeče
A8: Díl: | B8: 11 | C8: Přípravné a přidružené práce | F8: =SUM(G9:G37) -> 0 | AE8: DIL
B9: 113 10-7 Odstranění podkladů nebo krytů | AC9: 0
A10: 1 | B10: 113107315R00 | C10: ...z kameniva těženého, v ploše jednotlivě do 50 m2, tloušťka vrstvy 150 mm | D10: m2 | E10: 549.603 | G10: =ROUND(E10*F10,2) -> 0 | H10: 822-1 | I10: RTS 17/ I | AE10: POL | AM10: 21
C11: rozšíření opravy - typ II :
C12: MK - penetr. makadam :
C13: Položka pořadí 8 : 477.32300 | E13: 477.323
C14: rozšíření opravy od hrany rýhy 2x 0,2 m :
C15: MK - asfalt :
C16: Položka pořadí 9 : 72.28000 | E16: 72.28
A17: 2 | B17: 113107520R00 | C17: ...z kameniva hrubého drceného, v ploše jednotlivě do 50 m2, tloušťka vrstvy 200 mm | D17: m2 | E17: 477.323 | G17: =ROUND(E17*F17,2) -> 0 | H17: 822-1 | I17: RTS 17/ I | AE17: POL | AM17: 21
C18: MK - penetr. makadam :
C19: Položka pořadí 8 : 477.32300 | E19: 477.323
A20: 3 | B20: 113111120R00 | C20: ...z kameniva zpevněného cementem, v ploše jednotlivě do 50 m2, tloušťka vrstvy 200 mm | D20: m2 | E20: 72.28 | G20: =ROUND(E20*F20,2) -> 0 | H20: 822-1 | I20: RTS 17/ I | AE20: POL | AM20: 21
C21: rozšíření opravy od hrany rýhy 2x 0,2 m :
C22: MK - asfalt :
C23: Položka pořadí 9 : 72.28000 | E23: 72.28
B24: 979 08-2 Vodorovná doprava suti po suchu | AC24: 0
A25: 4 | B25: 979082213R00 | C25: ...bez naložení, ale se složením a hrubým urovnáním na vzdálenost do 1 km | D25: t | E25: 428.31607 | G25: =ROUND(E25*F25,2) -> 0 | H25: 822-1 | I25: RTS 17/ I | AE25: POL | AM25: 21
C26: Demontážní hmotnosti z položek s pořadovými čísly: :
C27: 1,2,3, :
C28: Součet: : 428,31607 | E28: 428.31607
A29: 5 | B29: 979082219R00 | C29: ...příplatek k ceně za každý další i započatý 1 km přes 1 km | D29: t | E29: 9851.2696 | G29: =ROUND(E29*F29,2) -> 0 | H29: 822-1 | I29: RTS 17/ I | AE29: POL | AM29: 21
C30: Demontážní hmotnosti z položek s pořadovými čísly: :
C31: 1,2,3, :
C32: Součet: : 9851,26963 | E32: 9851.2696
B33: 979 08-4 Poplatek za skládku | AC33: 0
A34: 6 | B34: 979990001R00 | C34: ...stavební suti | D34: t | E34: 428.31607 | G34: =ROUND(E34*F34,2) -> 0 | H34: 801-3 | I34: RTS 17/ I | AE34: POL | AM34: 21
C35: Demontážní hmotnosti z položek s pořadovými čísly: :
C36: 1,2,3, :
C37: Součet: : 428,31607 | E37: 428.31607
A38: Díl: | B38: 113 | C38: Přípravné a přidružené práce - živice | F38: =SUM(G39:G77) -> 0 | AE38: DIL
B39: 113 10-7 Odstranění podkladů nebo krytů | AC39: 0
A40: 7 | B40: 113108305R00 | C40: ...živičných, v ploše jednotlivě do 50 m2, tloušťka vrstvy 50 mm | D40: m2 | E40: 72.28 | G40: =ROUND(E40*F40,2) -> 0 | H40: 822-1 | I40: RTS 17/ I | AE40: POL | AM40: 21
...

Sheet SO01 01.4 Pol
A1: Položkový soupis prací a dodávek | AC1: #LevelZatrideniCeniku#
A2: S: | B2: 4529 | C2: Kanalizace Valašské Příkazy
A3: O: | B3: SO01 | C3: Stoka A | AC3: ING
A4: R: | B4: 01.4 | C4: Přípojka NN pro měrný objekt
AN5: 15 | AO5: 21
A6: P.č. | B6: Číslo položky | C6: Název položky | D6: MJ | E6: množství | F6: cena / MJ | G6: celkem | H6: Ceník | I6: Cen. soustava | AN6: =SUMIF(AM8:AM40,AN5,G8:G40) -> 0 | AO6: =SUMIF(AM8:AM40,AO5,G8:G40) -> 0
B7: Ceník, kapitola | C7: Poznámka uchazeče
A8: Díl: | B8: D1 | C8: Dodávky | F8: =SUM(G9:G13) -> 0 | AE8: DIL
A9: 1 | B9: 1 | C9: Rozváděč RE 1 | D9: kpl | E9: 1 | G9: =ROUND(E9*F9,2) -> 0 | I9: Vlastní | AE9: POL_NEZ | AF9: 3_1 | AM9: 21
C10: Elektroměrová typová plastová rozvodnice v kompaktním plastovém pilířku pro přímé měření do 80A, celk.rozměry: š.400, v.1930, hl.240mm, IP44/20, | BA10: =C10 -> Elektroměrová typová plastová rozvodnice v kompaktním plastovém pilířku pro přímé měření do 80A, celk.rozměry: š.400, v.1930, hl.240mm, IP44/20,
C11: vč. jednosazbového elektroměru ( dodá poskytovatel připojení ) a hlavního jističe 1x16A/B, přívod CYKY-J 3x10 mm2 a vývod CYKY-J 3x10 mm2 | BA11: =C11 -> vč. jednosazbového elektroměru ( dodá poskytovatel připojení ) a hlavního jističe 1x16A/B, přívod CYKY-J 3x10 mm2 a vývod CYKY-J 3x10 mm2
A12: 2 | B12: 2 | C12: Pojistková přípojková skříň MP 1 | D12: kpl | E12: 1 | G12: =ROUND(E12*F12,2) -> 0 | I12: Vlastní | AE12: POL_NEZ | AF12: 3_1 | AM12: 21
C13: Pojistková typová plastová přípojková skříň na sloup 3x160A, celk.rozměry: š.300, v.290, hl.115bmm, IP44/20, přívod a vývod CYKY-J 3x10 mm2 | BA13: =C13 -> Pojistková typová plastová přípojková skříň na sloup 3x160A, celk.rozměry: š.300, v.290, hl.115bmm, IP44/20, přívod a vývod CYKY-J 3x10 mm2
A14: Díl: | B14: D2 | C14: Montážní materiál | F14: =SUM(G15:G23) -> 0 | AE14: DIL
A15: 3 | B15: 3 | C15: Pojistka výkonová 3x25A/gG | D15: kus | E15: 3 | G15: =ROUND(E15*F15,2) -> 0 | I15: Vlastní | AE15: POL_NEZ | AF15: 3_1 | AM15: 21
A16: 4 | B16: 4 | C16: Kabel CYKY-J 3x10 mm2 | D16: m | E16: 175 | G16: =ROUND(E16*F16,2) -> 0 | I16: Vlastní | AE16: POL_NEZ | AF16: 3_1 | AM16: 21
A17: 5 | B17: 5 | C17: Ukončení kabelu CYKY do 3x10 mm2 | D17: kus | E17: 6 | G17: =ROUND(E17*F17,2) -> 0 | I17: Vlastní | AE17: POL_NEZ | AF17: 1_ | AM17: 21
A18: 6 | B18: 6 | C18: Výstražná folie PVC | D18: m | E18: 137 | G18: =ROUND(E18*F18,2) -> 0 | I18: Vlastní | AE18: POL_NEZ | AF18: 3_1 | AM18: 21
A19: 7 | B19: 7 | C19: PVC korugovaná chránička Js110 vč.spojek | D19: m | E19: 25 | G19: =ROUND(E19*F19,2) -> 0 | I19: Vlastní | AE19: POL_NEZ | AF19: 3_1 | AM19: 21
A20: 8 | B20: 8 | C20: Pozinkovaný pásek FeZn 30/4mm | D20: m | E20: 50 | G20: =ROUND(E20*F20,2) -> 0 | I20: Vlastní | AE20: POL_NEZ | AF20: 3_1 | AM20: 21
A21: 9 | B21: 9 | C21: Trubka tuhá PVC do 42mm včetně uchycení nerezovým páskem na sloup | D21: m | E21: 3 | G21: =ROUND(E21*F21,2) -> 0 | I21: Vlastní | AE21: POL_NEZ | AF21: 3_1 | AM21: 21
A22: 10 | B22: 10 | C22: Drobný elektroinstalační materiál a ostatní materiál potřebný pro dokončení díla | D22: kpl | E22: 1 | G22: =ROUND(E22*F22,2) -> 0 | I22: Vlastní | AE22: POL_NEZ | AF22: 3_1 | AM22: 21
A23: 11 | B23: 11 | C23: Montáž, zapojení, oživení všech uvedených zařízení | D23: kpl | E23: 1 | G23: =ROUND(E23*F23,2) -> 0 | I23: Vlastní | AE23: POL_NEZ | AF23: 1_ | AM23: 21
A24: Díl: | B24: D3 | C24: Přidružené práce | F24: =SUM(G25:G25) -> 0 | AE24: DIL
A25: 12 | B25: 12 | C25: Výchozí revize elektrozařízení | D25: kpl | E25: 1 | G25: =ROUND(E25*F25,2) -> 0 | I25: Vlastní | AE25: POL_NEZ | AF25: 1_ | AM25: 21
A26: Díl: | B26: D4 | C26: Zemní práce | F26: =SUM(G27:G37) -> 0 | AE26: DIL
A27: 13 | B27: 13 | C27: Vytýčení trasy | D27: m | E27: 160 | G27: =ROUND(E27*F27,2) -> 0 | I27: Vlastní | AE27: POL_NEZ | AF27: 1_1 | AM27: 21
A28: 14 | B28: 14 | C28: Výkop kabelové rýhy 35x80cm, zemina třídy 3 | D28: m | E28: 137 | G28: =ROUND(E28*F28,2) -> 0 | I28: Vlastní | AE28: POL_NEZ | AF28: 1_1 | AM28: 21
A29: 15 | B29: 15 | C29: Zához kabelové rýhy 35x60cm, zemina třídy 3 | D29: m | E29: 137 | G29: =ROUND(E29*F29,2) -> 0 | I29: Vlastní | AE29: POL_NEZ | AF29: 1_1 | AM29: 21
A30: 16 | B30: 16 | C30: Kabelové lože pískové, š. 35cm, tl.10cm | D30: m | E30: 137 | G30: =ROUND(E30*F30,2) -> 0 | I30: Vlastní | AE30: POL_NEZ | AF30: 1_ | AM30: 21
A31: 17 | B31: 17 | C31: Výkop kabelové rýhy 50x120cm, zemina třídy 3 | D31: m | E31: 23 | G31: =ROUND(E31*F31,2) -> 0 | I31: Vlastní | AE31: POL_NEZ | AF31: 1_1 | AM31: 21
A32: 18 | B32: 18 | C32: Zához kabelové rýhy 50x100cm, zemina třídy 3 | D32: m | E32: 23 | G32: =ROUND(E32*F32,2) -> 0 | I32: Vlastní | AE32: POL_NEZ | AF32: 1_1 | AM32: 21
A33: 19 | B33: 19 | C33: Odvoz zeminy do 1km | D33: m3 | E33: 14 | G33: =ROUND(E33*F33,2) -> 0 | I33: Vlastní | AE33: POL_NEZ | AF33: 1_1 | AM33: 21
A34: 20 | B34: 20 | C34: Provizorní úprava terénu | D34: m2 | E34: 137 | G34: =ROUND(E34*F34,2) -> 0 | I34: Vlastní | AE34: POL_NEZ | AF34: 1_1 | AM34: 21
A35: 21 | B35: 21 | C35: Řezání asfaltu | D35: m | E35: 40 | G35: =ROUND(E35*F35,2) -> 0 | I35: Vlastní | AE35: POL_NEZ | AF35: 1_1 | AM35: 21
A36: 22 | B36: 22 | C36: Utěsnění kabelu v chráničce proti vodě | D36: kpl | E36: 1 | G36: =ROUND(E36*F36,2) -> 0 | I36: Vlastní | AE36: POL_NEZ | AF36: 1_1 | AM36: 21
A37: 23 | B37: 23 | C37: Výkop jámy pro pilíř rozvaděče RE 1 | D37: m3 | E37: 0.5 | G37: =ROUND(E37*F37,2) -> 0 | I37: Vlastní | AE37: POL_NEZ | AF37: 1_1 | AM37: 21
B40: Celkem za objekt | G40: =F8+F14+F24+F26 -> 0

Sheet SO01 01.5 Pol
A1: Položkový soupis prací a dodávek | AC1: #LevelZatrideniCeniku#
A2: S: | B2: 4529 | C2: Kanalizace Valašské Příkazy
A3: O: | B3: SO01 | C3: Stoka A | AC3: ING
A4: R: | B4: 01.5 | C4: Měrný objekt - elektrotechnická část
AN5: 15 | AO5: 21
A6: P.č. | B6: Číslo položky | C6: Název položky | D6: MJ | E6: množství | F6: cena / MJ | G6: celkem | H6: Ceník | I6: Cen. soustava | AN6: =SUMIF(AM8:AM60,AN5,G8:G60) -> 0 | AO6: =SUMIF(AM8:AM60,AO5,G8:G60) -> 0
B7: Ceník, kapitola | C7: Poznámka uchazeče
A8: Díl: | B8: D1 | C8: Dodávky | F8: =SUM(G9:G31) -> 0 | AE8: DIL
A9: 1 | B9: 1 | C9: Rozváděč RMD | D9: kpl | E9: 1 | G9: =ROUND(E9*F9,2) -> 0 | I9: Vlastní | AE9: POL_NEZ | AF9: 3_1 | AM9: 21
C10: Celoplastový pilíř o celkových rozměrech: š x v x h 660x1930x240mm, IP44/20: | BA10: =C10 -> Celoplastový pilíř o celkových rozměrech: š x v x h 660x1930x240mm, IP44/20:
C11: montážní panel, krytí IP44/20, zámek FAB, přívody a vývody zespodu | BA11: =C11 -> montážní panel, krytí IP44/20, zámek FAB, přívody a vývody zespodu
C12: 1 kpl dvoupólový otočný vypínač s aretací na dveře 20 A, 400 V "0-I" pro montáž na panel, signalizace napájení, jištění ovládacího obvodu | BA12: =C12 -> 1 kpl dvoupólový otočný vypínač s aretací na dveře 20 A, 400 V "0-I" pro montáž na panel, signalizace napájení, jištění ovládacího obvodu
C13: 1 kpl jednopólová přepěťová ochrana I. a II. stupně na vstupu, výměnné moduly, signalizace, síť TN-C, včetně odjištění | BA13: =C13 -> 1 kpl jednopólová přepěťová ochrana I. a II. stupně na vstupu, výměnné moduly, signalizace, síť TN-C, včetně odjištění
C14: 1 kpl pomocné relé včetně odjištění, indikující výpadek napájení | BA14: =C14 -> 1 kpl pomocné relé včetně odjištění, indikující výpadek napájení
C15: 1 kpl dvoupólový proudový chránič 25A/4/30mA, jednopólový a trojpólový jistič včetně montážní zásuvky 16A/230V AC | BA15: =C15 -> 1 kpl dvoupólový proudový chránič 25A/4/30mA, jednopólový a trojpólový jistič včetně montážní zásuvky 16A/230V AC
C16: 1 kpl temperace rozvaděče 230V včetně odjištění a termostatu na DIN, IP20 | BA16: =C16 -> 1 kpl temperace rozvaděče 230V včetně odjištění a termostatu na DIN, IP20
C17: 1 kpl osvětlení rozvaděče zářivkovým svítidlem s vlastním spínačem 230V, 10W, IP20 včetně odjištění | BA17: =C17 -> 1 kpl osvětlení rozvaděče zářivkovým svítidlem s vlastním spínačem 230V, 10W, IP20 včetně odjištění
C18: 1 kpl dvoupólová přepěťová ochrana III. Stupně, 230V pro síť TN-S před MaR a ASŘ se signalizací, včetně 2 ks rázová oddělovací tlumivka a včetně odjištění | BA18: =C18 -> 1 kpl dvoupólová přepěťová ochrana III. Stupně, 230V pro síť TN-S před MaR a ASŘ se signalizací, včetně 2 ks rázová oddělovací tlumivka a včetně odjištění
C19: 1 kpl vývod pro měření průtoku 230V včetně odjištění | BA19: =C19 -> 1 kpl vývod pro měření průtoku 230V včetně odjištění
C20: 2 kpl vývody pro koncové spínače poklopů, včetně odjištění (svorka s trubičkovou pojistkou do 1A) a pomocného relé 12V DC | BA20: =C20 -> 2 kpl vývody pro koncové spínače poklopů, včetně odjištění (svorka s trubičkovou pojistkou do 1A) a pomocného relé 12V DC
C21: 1 kpl zálohový zdroj UPS včetně odjištění a příslušenství | BA21: =C21 -> 1 kpl zálohový zdroj UPS včetně odjištění a příslušenství
... C31: 1 kpl osazení přístrojů do skříně včetně prodrátování, úložného, nosného a drobného materiálu | BA31: =C31 -> 1 kpl osazení přístrojů do skříně včetně prodrátování, úložného, nosného a drobného materiálu
A32: Díl: | B32: D2 | C32: MONTÁŽNÍ MATERIÁL | F32: =SUM(G33:G43) -> 0 | AE32: DIL
A33: 2 | B33: 2 | C33: Kabel sdělovací stíněný JYTY 4x1,0 | D33: m | E33: 15 | G33: =ROUND(E33*F33,2) -> 0 | I33: Vlastní | AE33: POL_NEZ | AF33: 3_1 | AM33: 21
A34: 3 | B34: 3 | C34: Vodič izolovaný směděným jádrem H07V-U6 zl/žl | D34: m | E34: 10 | G34: =ROUND(E34*F34,2) -> 0 | I34: Vlastní | AE34: POL_NEZ | AF34: 3_ | AM34: 21
A35: 4 | B35: 4 | C35: Trubka tuhá střední namáhání PVC do 32mm | D35: kpl | E35: 1 | G35: =ROUND(E35*F35,2) -> 0 | I35: Vlastní | AE35: POL_NEZ | AF35: 3_1 | AM35: 21
A36: 5 | B36: 5 | C36: Chránička ohebná PE DN75 mm | D36: m | E36: 10 | G36: =ROUND(E36*F36,2) -> 0 | I36: Vlastní | AE36: POL_NEZ | AF36: 3_1 | AM36: 21
A37: 6 | B37: 6 | C37: Koncový pružinový kontakt na poklop | D37: ks | E37: 1 | G37: =ROUND(E37*F37,2) -> 0 | I37: Vlastní | AE37: POL_NEZ | AF37: 3_1 | AM37: 21
A38: 7 | B38: 7 | C38: Magnetický dveřní kontakt | D38: ks | E38: 1 | G38: =ROUND(E38*F38,2) -> 0 | I38: Vlastní | AE38: POL_NEZ | AF38: 3_1 | AM38: 21
A39: 8 | B39: 8 | C39: Ultrazvukový snímač průtoku | D39: kpl | E39: 1 | G39: =ROUND(E39*F39,2) -> 0 | I39: Vlastní | AE39: POL_NEZ | AF39: 3_1 | AM39: 21
C40: Ultrazvukový snímač průtoku s vyhodnocovací jednotkou, napájení 24 V DC, výstup : 4-20 mA, detekční rozsah: 0-2000 mm, délka kabelu 15 m, vč.nerez konzoly, IP68 | BA40: =C40 -> Ultrazvukový snímač průtoku s vyhodnocovací jednotkou, napájení 24 V DC, výstup : 4-20 mA, detekční rozsah: 0-2000 mm, délka kabelu 15 m, vč.nerez konzoly, IP68
A41: 9 | B41: 9 | C41: Zatěsnění otvorů pro kabely | D41: kpl | E41: 1 | G41: =ROUND(E41*F41,2) -> 0 | I41: Vlastní | AE41: POL_NEZ | AF41: 1_ | AM41: 21
A42: 10 | B42: 10 | C42: Prostupy betonem | D42: kpl | E42: 1 | G42: =ROUND(E42*F42,2) -> 0 | I42: Vlastní | AE42: POL_NEZ | AF42: 1_ | AM42: 21
A43: 11 | B43: 11 | C43: Drobný elektroinstalační materiál a ostatní materiál potřebný pro dokončení díla | D43: kpl | E43: 1 | G43: =ROUND(E43*F43,2) -> 0 | I43: Vlastní | AE43: POL_NEZ | AF43: 3_1 | AM43: 21
A44: Díl: | B44: D3 | C44: PŘENOS A DISPEČINK | F44: =SUM(G45:G47) -> 0 | AE44: DIL
A45: 12 | B45: 12 | C45: Doplnění SW pro komunikaci s dispečinkem provozovatele | D45: kpl | E45: 1 | G45: =ROUND(E45*F45,2) -> 0 | I45: Vlastní | AE45: POL_NEZ | AF45: 1_ | AM45: 21
A46: 13 | B46: 13 | C46: Doplnění vizualizace objektu na monitoru dispečera centrálního dispečinku provozovatele | D46: kpl | E46: 1 | G46: =ROUND(E46*F46,2) -> 0 | I46: Vlastní | AE46: POL_NEZ | AF46: 1_ | AM46: 21
A47: 14 | B47: 14 | C47: Doplnění databázového zpracování dat | D47: kpl | E47: 1 | G47: =ROUND(E47*F47,2) -> 0 | I47: Vlastní | AE47: POL_NEZ | AF47: 1_ | AM47: 21
A48: Díl: | B48: D4 | C48: Zemní práce | F48: =SUM(G49:G52) -> 0 | AE48: DIL
A49: 15 | B49: 15 | C49: Vytýčení trasy | D49: m | E49: 3 | G49: =ROUND(E49*F49,2) -> 0 | I49: Vlastní | AE49: POL_NEZ | AF49: 1_ | AM49: 21
...

Sheet Rekapitulace Objekt SO02
A1: Stavba : | B1: =Stavba!CisloStavby -> 4529 | C1: =Stavba!NazevStavby -> Kanalizace Valašské Příkazy
A2: Objekt : | B2: SO02 | C2: Stoka A2 | G2: JKSO : | H2: 827.21.A.1.1 | O2: ING
A4: Rekapitulace stavebního objektu
A6: Zákl. údaje | B6: =B2 -> SO02
B7: =C2 -> Stoka A2
A9: Třídník stavebních objektů: | B9: 827 | C9: Vedení trubní dálková přípojná
B10: 827.2 | C10: Kanalizace trubní
B11: 827.21 | C11: sítě kanalizační
B12: 827.21.A | C12: profil potrubí DN do 1000 mm
B14: 827.21.A.1 | C14: potrubí z trub z plastických hmot a sklolaminátu
B16: 827.21.A.1.1 | C16: novostavba objektu
A18: Rozsah: | C18: m
A20: Rekapitulace soupisů náležejících k objektu
A21: Soupis | H21: Cena (Kč)
A22: 02.1 | B22: Stoka A2 - kanalizační stoka | H22: ='SO02 02.1 Pol'!G1935 -> 0 | O22: ='SO02 02.1 Pol'!AN6 -> 0 | P22: ='SO02 02.1 Pol'!AO6 -> 0
A23: 02.2 | B23: Stoka A2 - odbočky pro domovní přípojky | H23: ='SO02 02.2 Pol'!G651 -> 0 | O23: ='SO02 02.2 Pol'!AN6 -> 0 | P23: ='SO02 02.2 Pol'!AO6 -> 0
A24: 02.3 | B24: Stoka A2 - opravy místních komunikací | H24: ='SO02 02.3 Pol'!G237 -> 0 | O24: ='SO02 02.3 Pol'!AN6 -> 0 | P24: ='SO02 02.3 Pol'!AO6 -> 0
A25: 02.4 | B25: Stoka A2 - opravy krajských komunikací | H25: ='SO02 02.4 Pol'!G160 -> 0 | O25: ='SO02 02.4 Pol'!AN6 -> 0 | P25: ='SO02 02.4 Pol'!AO6 -> 0
B26: Celkem objekt | D26: =B2 -> SO02 | H26: =SUM(H22:H25) -> 0
H28: Rekapitulace DPH | O28: =H29 -> 0 | P28: =H31 -> 0
A29: Základ pro DPH | D29: 15 | E29: % | H29: =SUM(O22:O26) -> 0
A30: DPH | D30: 15 | E30: % | H30: =H29*(D30/100) -> 0
A31: Základ pro DPH | D31: 21 | E31: % | H31: =SUM(P22:P26) -> 0
A32: DPH | D32: 21 | E32: % | H32: =H31*(D32/100) -> 0
A33: Celkem za objekt s DPH | H33: =SUM(H29:H32) -> 0
A35: Rekapitulace soupisu | D35: 02.1 | E35: Stoka A2 - kanalizační stoka | BC35: =E35 -> Stoka A2 - kanalizační stoka
A36: Stavební díl | H36: Cena (Kč)
A37: 1 | B37: Zemní práce | H37: ='SO02 02.1 Pol'!F8 -> 0
A38: 11 | B38: Přípravné a přidružené práce | H38: ='SO02 02.1 Pol'!F1179 -> 0
A39: 113 | B39: Přípravné a přidružené práce - živice | H39: ='SO02 02.1 Pol'!F1291 -> 0
A40: 2 | B40: Základy a zvláštní zakládání | H40: ='SO02 02.1 Pol'!F1339 -> 0
A41: 45 | B41: Podkladní a vedlejší konstrukce | H41: ='SO02 02.1 Pol'!F1376 -> 0
A42: 46 | B42: Zpevněné plochy | H42: ='SO02 02.1 Pol'!F1488 -> 0
A43: 5 | B43: Komunikace | H43: ='SO02 02.1 Pol'!F1508 -> 0
A44: 8 | B44: Trubní vedení | H44: ='SO02 02.1 Pol'!F1522 -> 0
A45: 9 | B45: Ostatní konstrukce, bourání | H45: ='SO02 02.1 Pol'!F1809 -> 0
A46: 91 | B46: Doplňující práce na komunikaci | H46: ='SO02 02.1 Pol'!F1854 -> 0
A47: 99 | B47: Staveništní přesun hmot | H47: ='SO02 02.1 Pol'!F1878 -> 0
A48: M23 | B48: Montáže potrubí | H48: ='SO02 02.1 Pol'!F1888 -> 0
A49: M46 | B49: Zemní práce při montážích | H49: ='SO02 02.1 Pol'!F1910 -> 0
...

Sheet SO02 02.1 Pol
A1: Položkový soupis prací a dodávek | AC1: #LevelZatrideniCeniku#
A2: S: | B2: 4529 | C2: Kanalizace Valašské Příkazy
A3: O: | B3: SO02 | C3: Stoka A2 | AC3: ING
A4: R: | B4: 02.1 | C4: Stoka A2 - kanalizační stoka
AN5: 15 | AO5: 21
A6: P.č. | B6: Číslo položky | C6: Název položky | D6: MJ | E6: množství | F6: cena / MJ | G6: celkem | H6: Ceník | I6: Cen. soustava | AN6: =SUMIF(AM8:AM1935,AN5,G8:G1935) -> 0 | AO6: =SUMIF(AM8:AM1935,AO5,G8:G1935) -> 0
B7: Ceník, kapitola | C7: Poznámka uchazeče
A8: Díl: | B8: 1 | C8: Zemní práce | F8: =SUM(G9:G1178) -> 0 | AE8: DIL
B9: 115 00 Převedení vody | AC9: 0
B10: získané při čerpání potrubím nebo žlaby, montáž a demontáž potrubí nebo žlabu, jeho utěsnění po dobu provozu a opotřebení materiálu potrubí nebo žlabu, podpěrná konstrukce. | AE10: SPX | AZ10: =B10 -> získané při čerpání potrubím nebo žlaby, montáž a demontáž potrubí nebo žlabu, jeho utěsnění po dobu provozu a opotřebení materiálu potrubí nebo žlabu, podpěrná konstrukce.
A11: 1 | B11: 115001105R00 | C11: ...při průměru potrubí DN přes 300 do 600 mm | D11: m | E11: 10 | G11: =ROUND(E11*F11,2) -> 0 | H11: 800-1 | I11: RTS 17/ I | AE11: POL | AM11: 21
C12: Začátek provozního součtu
C13: překop Klobouckého potoka :
C14: stoka A2 : 1 | E14: 1
C15: Mezisoučet | E15: 1
C16: Konec provozního součtu
C17: překop vodního toku : 10*1 | E17: 10
C18: Mezisoučet | E18: 10
B19: 115 10-12 Čerpání vody | AC19: 0
B20: na vzdálenost (výšku) od hladiny vody v jímce po výšku roviny proložené osou nejvyššího bodu výtlačného potrubí, odpadní potrubí v délce do 20 m, | AE20: SPX | AZ20: =B20 -> na vzdálenost (výšku) od hladiny vody v jímce po výšku roviny proložené osou nejvyššího bodu výtlačného potrubí, odpadní potrubí v délce do 20 m,
B21: 115 10-121 na dopravní výšku do 10 m | AC21: 1
A22: 2 | B22: 115101201R00 | C22: ...s uvažovaným průměrným přítokem do 500 l/min | D22: h | E22: 252 | G22: =ROUND(E22*F22,2) -> 0 | H22: 800-1 | I22: RTS 17/ I | AE22: POL | AM22: 21
C23: Začátek provozního součtu
C24: stoka A2 : 57 | E24: 57
C25: Mezisoučet | E25: 57
C26: předpoklad (40m/týden) : 57/40 | E26: 1.425
C27: Konec provozního součtu
C28: čerpání cca 6h/den : 2*7*6 | E28: 84
C29: Mezisoučet | E29: 84
C30: překop vodního toku :
C31: Kloboucký potok : 24*7 | E31: 168
C32: Mezisoučet | E32: 168
B33: 115 10-13 Pohotovost záložní čerpací soupravy | AC33: 0
B34: na vzdálenost (výšku) od hladiny vody v jímce po výšku roviny proložené osou nejvyššího bodu výtlačného potrubí, včetně sacího a výtlačného potrubí, příp. odpadní žlaby a lešení pod čerpadlo a pod potrubí nebo pod odpadní žlaby, | AE34: SPX | AZ34: =B34 -> na vzdálenost (výšku) od hladiny vody v jímce po výšku roviny proložené osou nejvyššího bodu výtlačného potrubí, včetně sacího a výtlačného potrubí, příp. odpadní žlaby a lešení pod čerpadlo a pod potrubí nebo pod odpadní žlaby,
B35: 115 10-131 na dopravní výšku do 10 m | AC35: 1
A36: 3 | B36: 115101301R00 | C36: ...s uvažovaným průměrným přítokem do 500 l/min | D36: den | E36: 21 | G36: =ROUND(E36*F36,2) -> 0 | H36: 800-1 | I36: RTS 17/ I | AE36: POL | AM36: 21
C37: povrchové odvodnění :
C38: čerpání cca 6h/den : 2*7 | E38: 14
C39: Mezisoučet | E39: 14
C40: překop vodního toku :
...

Sheet SO02 02.2 Pol
A1: Položkový soupis prací a dodávek | AC1: #LevelZatrideniCeniku#
A2: S: | B2: 4529 | C2: Kanalizace Valašské Příkazy
A3: O: | B3: SO02 | C3: Stoka A2 | AC3: ING
A4: R: | B4: 02.2 | C4: Stoka A2 - odbočky pro domovní přípojky
AN5: 15 | AO5: 21
A6: P.č. | B6: Číslo položky | C6: Název položky | D6: MJ | E6: množství | F6: cena / MJ | G6: celkem | H6: Ceník | I6: Cen. soustava | AN6: =SUMIF(AM8:AM651,AN5,G8:G651) -> 0 | AO6: =SUMIF(AM8:AM651,AO5,G8:G651) -> 0
B7: Ceník, kapitola | C7: Poznámka uchazeče
A8: Díl: | B8: 1 | C8: Zemní práce | F8: =SUM(G9:G281) -> 0 | AE8: DIL
B9: 121 10-11 Sejmutí ornice | AC9: 0
B10: nebo lesní půdy, s vodorovným přemístěním na hromady v místě upotřebení nebo na dočasné či trvalé skládky se složením | AE10: SPX
A11: 1 | B11: 121101101R00 | C11: ...s přemístěním na vzdálenost do 50 m | D11: m3 | E11: 14.16 | G11: =ROUND(E11*F11,2) -> 0 | H11: 800-1 | I11: RTS 17/ I | AE11: POL | AM11: 21
C12: stoka A2 :
C13: nezpevněno tráva : 29,3*2*0,1 | E13: 5.86
C14: nezpevněno : 1,3*2*0,1 | E14: 0.26
C15: zahrada : 16,4*2*0,2 | E15: 6.56
C16: Mezisoučet | E16: 12.68
C17: stoka A2.1 :
C18: nezpevněno tráva : 6,6*2*0,1 | E18: 1.32
C19: zahrada : 0,4*2*0,2 | E19: 0.16
C20: Mezisoučet | E20: 1.48
B21: 130 90 Bourání konstrukcí v hloubených vykopávkách | AC21: 0
B22: s přemístěním suti na hromady na vzdálenost do 20 m nebo s uložením na dopravní prostředek, | AE22: SPX
A23: 2 | B23: 130901121R00 | C23: ...z betonu, prostého, pneumatickým kladivem | D23: m3 | E23: 0.48773 | G23: =ROUND(E23*F23,2) -> 0 | H23: 800-1 | I23: RTS 17/ I | AE23: POL | AM23: 21
C24: bourání stáv. kanalizace :
C25: DN500 : 0,9*3,1416*(0,325*0,325-0,25*0,25)*4 | E25: 0.48773
B26: 132 20 Hloubení rýh šířky přes 60 do 200 cm | AC26: 0
B27: zapažených i nezapažených, s urovnáním dna do předepsaného profilu a spádu, s případně nutným přehozením výkopku na vzdálenost do 3 m ve výkopišti, s přehozením výkopku na přilehlém terénu na vzdálenost do 5 m od podélné osy rýhy nebo s naložením výkopku na dopravní prostředek. | AE27: SPX | AZ27: =B27 -> zapažených i nezapažených, s urovnáním dna do předepsaného profilu a spádu, s případně nutným přehozením výkopku na vzdálenost do 3 m ve výkopišti, s přehozením výkopku na přilehlém terénu na vzdálenost do 5 m od podélné osy rýhy nebo s naložením výkopku na dopravní prostředek.
A28: 3 | B28: 132201219R00 | C28: ...příplatek za lepivost, v hornině 3, | D28: m3 | E28: 29.44053 | G28: =ROUND(E28*F28,2) -> 0 | H28: 800-1 | I28: RTS 17/ I | AE28: POL | AM28: 21
C29: lepivost 50% :
C30: ruční výkop :
C31: stoka A2 : 142,92*0,37*0,5 | E31: 26.4402
C32: stoka A2.1 : 16,218*0,37*0,5 | E32: 3.00033
C33: Mezisoučet | E33: 29.44053
A34: 4 | B34: 132301219R00 | C34: ...příplatek za lepivost, v hornině 4, | D34: m3 | E34: 35.80605 | G34: =ROUND(E34*F34,2) -> 0 | H34: 800-1 | I34: RTS 17/ I | AE34: POL | AM34: 21
C35: lepivost 50% :
C36: ruční výkop :
C37: stoka A2 : 142,92*0,45*0,5 | E37: 32.157
C38: stoka A2.1 : 16,218*0,45*0,5 | E38: 3.64905
C39: Mezisoučet | E39: 35.80605
B40: 138 Dolamování hloubených vykopávek | AC40: 0
...

Sheet SO02 02.3 Pol
A1: Položkový soupis prací a dodávek | AC1: #LevelZatrideniCeniku#
A2: S: | B2: 4529 | C2: Kanalizace Valašské Příkazy
A3: O: | B3: SO02 | C3: Stoka A2 | AC3: ING
A4: R: | B4: 02.3 | C4: Stoka A2 - opravy místních komunikací
AN5: 15 | AO5: 21
A6: P.č. | B6: Číslo položky | C6: Název položky | D6: MJ | E6: množství | F6: cena / MJ | G6: celkem | H6: Ceník | I6: Cen. soustava | AN6: =SUMIF(AM8:AM237,AN5,G8:G237) -> 0 | AO6: =SUMIF(AM8:AM237,AO5,G8:G237) -> 0
B7: Ceník, kapitola | C7: Poznámka uchazeče
A8: Díl: | B8: 11 | C8: Přípravné a přidružené práce | F8: =SUM(G9:G37) -> 0 | AE8: DIL
B9: 113 10-7 Odstranění podkladů nebo krytů | AC9: 0
A10: 1 | B10: 113107315R00 | C10: ...z kameniva těženého, v ploše jednotlivě do 50 m2, tloušťka vrstvy 150 mm | D10: m2 | E10: 172.06 | G10: =ROUND(E10*F10,2) -> 0 | H10: 822-1 | I10: RTS 17/ I | AE10: POL | AM10: 21
C11: rozšíření opravy :
C12: MK - penetr. makadam :
C13: Položka pořadí 8 : 166.94000 | E13: 166.94
C14: rozšíření opravy od hrany rýhy 2x 0,2 m :
C15: MK - asfalt :
C16: Položka pořadí 9 : 5.12000 | E16: 5.12
A17: 2 | B17: 113107520R00 | C17: ...z kameniva hrubého drceného, v ploše jednotlivě do 50 m2, tloušťka vrstvy 200 mm | D17: m2 | E17: 166.94 | G17: =ROUND(E17*F17,2) -> 0 | H17: 822-1 | I17: RTS 17/ I | AE17: POL | AM17: 21
C18: MK - penetr. makadam :
C19: Položka pořadí 8 : 166.94000 | E19: 166.94
A20: 3 | B20: 113111120R00 | C20: ...z kameniva zpevněného cementem, v ploše jednotlivě do 50 m2, tloušťka vrstvy 200 mm | D20: m2 | E20: 5.12 | G20: =ROUND(E20*F20,2) -> 0 | H20: 822-1 | I20: RTS 17/ I | AE20: POL | AM20: 21
C21: rozšíření opravy od hrany rýhy 2x 0,2 m :
C22: MK - asfalt :
C23: Položka pořadí 9 : 5.12000 | E23: 5.12
B24: 979 08-2 Vodorovná doprava suti po suchu | AC24: 0
A25: 4 | B25: 979082213R00 | C25: ...bez naložení, ale se složením a hrubým urovnáním na vzdálenost do 1 km | D25: t | E25: 132.849 | G25: =ROUND(E25*F25,2) -> 0 | H25: 822-1 | I25: RTS 17/ I | AE25: POL | AM25: 21
C26: Demontážní hmotnosti z položek s pořadovými čísly: :
C27: 1,2,3, :
C28: Součet: : 132,84900 | E28: 132.849
A29: 5 | B29: 979082219R00 | C29: ...příplatek k ceně za každý další i započatý 1 km přes 1 km | D29: t | E29: 3055.5271 | G29: =ROUND(E29*F29,2) -> 0 | H29: 822-1 | I29: RTS 17/ I | AE29: POL | AM29: 21
C30: Demontážní hmotnosti z položek s pořadovými čísly: :
C31: 1,2,3, :
C32: Součet: : 3055,52707 | E32: 3055.5271
B33: 979 08-4 Poplatek za skládku | AC33: 0
A34: 6 | B34: 979990001R00 | C34: ...stavební suti | D34: t | E34: 132.849 | G34: =ROUND(E34*F34,2) -> 0 | H34: 801-3 | I34: RTS 17/ I | AE34: POL | AM34: 21
C35: Demontážní hmotnosti z položek s pořadovými čísly: :
C36: 1,2,3, :
C37: Součet: : 132,84900 | E37: 132.849
A38: Díl: | B38: 113 | C38: Přípravné a přidružené práce - živice | F38: =SUM(G39:G79) -> 0 | AE38: DIL
B39: 113 10-7 Odstranění podkladů nebo krytů | AC39: 0
A40: 7 | B40: 113108305R00 | C40: ...živičných, v ploše jednotlivě do 50 m2, tloušťka vrstvy 50 mm | D40: m2 | E40: 5.12 | G40: =ROUND(E40*F40,2) -> 0 | H40: 822-1 | I40: RTS 17/ I | AE40: POL | AM40: 21
...

Sheet SO02 02.4 Pol
A1: Položkový soupis prací a dodávek | AC1: #LevelZatrideniCeniku#
A2: S: | B2: 4529 | C2: Kanalizace Valašské Příkazy
A3: O: | B3: SO02 | C3: Stoka A2 | AC3: ING
A4: R: | B4: 02.4 | C4: Stoka A2 - opravy krajských komunikací
AN5: 15 | AO5: 21
A6: P.č. | B6: Číslo položky | C6: Název položky | D6: MJ | E6: množství | F6: cena / MJ | G6: celkem | H6: Ceník | I6: Cen. soustava | AN6: =SUMIF(AM8:AM160,AN5,G8:G160) -> 0 | AO6: =SUMIF(AM8:AM160,AO5,G8:G160) -> 0
B7: Ceník, kapitola | C7: Poznámka uchazeče
A8: Díl: | B8: 11 | C8: Přípravné a přidružené práce | F8: =SUM(G9:G50) -> 0 | AE8: DIL
B9: 113 10-7 Odstranění podkladů nebo krytů | AC9: 0
A10: 1 | B10: 113107520R00 | C10: ...z kameniva hrubého drceného, v ploše jednotlivě do 50 m2, tloušťka vrstvy 200 mm | D10: m2 | E10: 2.85 | G10: =ROUND(E10*F10,2) -> 0 | H10: 822-1 | I10: RTS 17/ I | AE10: POL | AM10: 21
C11: dobourání 15 cm na obě strany :
C12: stoka :
C13: stoka A2 :
C14: státní komunikace : 9*(0,15*2) | E14: 2.7
C15: odbočky :
C16: stoka A2 :
C17: státní komunikace : 0,5*(0,15*2) | E17: 0.15
C18: Mezisoučet | E18: 2.85
A19: 2 | B19: 113107545R00 | C19: ...z kameniva hrubého drceného, v ploše jednotlivě do 50 m2, tloušťka vrstvy 450 mm | D19: m2 | E19: 10.35 | G19: =ROUND(E19*F19,2) -> 0 | H19: 822-1 | I19: RTS 17/ I | AE19: POL | AM19: 21
C20: odstranění provizorní opravy :
C21: stoka :
C22: stoka A2 :
C23: státní komunikace : 9*1,1 | E23: 9.9
C24: odbočky :
C25: stoka A2 :
C26: státní komunikace : 0,5*0,9 | E26: 0.45
C27: Mezisoučet | E27: 10.35
A28: 3 | B28: 113111120R00 | C28: ...z kameniva zpevněného cementem, v ploše jednotlivě do 50 m2, tloušťka vrstvy 200 mm | D28: m2 | E28: 5.7 | G28: =ROUND(E28*F28,2) -> 0 | H28: 822-1 | I28: RTS 17/ I | AE28: POL | AM28: 21
C29: dobourání 30 cm na obě strany :
C30: stoka :
C31: stoka A2 :
C32: státní komunikace : 9*(0,3*2) | E32: 5.4
C33: odbočky :
C34: stoka A2 :
C35: státní komunikace : 0,5*(0,3*2) | E35: 0.3
C36: Mezisoučet | E36: 5.7
B37: 979 08-2 Vodorovná doprava suti po suchu | AC37: 0
A38: 4 | B38: 979082213R00 | C38: ...bez naložení, ale se složením a hrubým urovnáním na vzdálenost do 1 km | D38: t | E38: 14.4124 | G38: =ROUND(E38*F38,2) -> 0 | H38: 822-1 | I38: RTS 17/ I | AE38: POL | AM38: 21
C39: Demontážní hmotnosti z položek s pořadovými čísly: :
C40: 1,2,3, :
...

Sheet Rekapitulace Objekt SO03
A1: Stavba : | B1: =Stavba!CisloStavby -> 4529 | C1: =Stavba!NazevStavby -> Kanalizace Valašské Příkazy
A2: Objekt : | B2: SO03 | C2: Stoka A3 | G2: JKSO : | H2: 827.21.A3.1.1 | O2: ING
A4: Rekapitulace stavebního objektu
A6: Zákl. údaje | B6: =B2 -> SO03
B7: =C2 -> Stoka A3
A9: Třídník stavebních objektů: | B9: 827 | C9: Vedení trubní dálková přípojná
B10: 827.2 | C10: Kanalizace trubní
B11: 827.21 | C11: sítě kanalizační
B12: 827.21.A | C12: profil potrubí DN do 1000 mm
B13: 827.21.A3 | C13: Profil potrubí DN do 300 mm
B15: 827.21.A3.1 | C15: potrubí z trub z plastických hmot a sklolaminátu
B17: 827.21.A3.1.1 | C17: novostavba objektu
A19: Rozsah: | B19: 76 | C19: m
A21: Rekapitulace soupisů náležejících k objektu
A22: Soupis | H22: Cena (Kč)
A23: 03.1 | B23: Stoka A3 - kanalizační stoka | H23: ='SO03 03.1 Pol'!G428 -> 0 | O23: ='SO03 03.1 Pol'!AN6 -> 0 | P23: ='SO03 03.1 Pol'!AO6 -> 0
A24: 03.2 | B24: Stoka A3 - odbočky pro domovní přípojky | H24: ='SO03 03.2 Pol'!G316 -> 0 | O24: ='SO03 03.2 Pol'!AN6 -> 0 | P24: ='SO03 03.2 Pol'!AO6 -> 0
A25: 03.3 | B25: Stoka A3 - opravy místních komunikací | H25: ='SO03 03.3 Pol'!G159 -> 0 | O25: ='SO03 03.3 Pol'!AN6 -> 0 | P25: ='SO03 03.3 Pol'!AO6 -> 0
B26: Celkem objekt | D26: =B2 -> SO03 | H26: =SUM(H23:H25) -> 0
H28: Rekapitulace DPH | O28: =H29 -> 0 | P28: =H31 -> 0
A29: Základ pro DPH | D29: 15 | E29: % | H29: =SUM(O23:O26) -> 0
A30: DPH | D30: 15 | E30: % | H30: =H29*(D30/100) -> 0
A31: Základ pro DPH | D31: 21 | E31: % | H31: =SUM(P23:P26) -> 0
A32: DPH | D32: 21 | E32: % | H32: =H31*(D32/100) -> 0
A33: Celkem za objekt s DPH | H33: =SUM(H29:H32) -> 0
A35: Rekapitulace soupisu | D35: 03.1 | E35: Stoka A3 - kanalizační stoka | BC35: =E35 -> Stoka A3 - kanalizační stoka
A36: Stavební díl | H36: Cena (Kč)
A37: 1 | B37: Zemní práce | H37: ='SO03 03.1 Pol'!F8 -> 0
A38: 11 | B38: Přípravné a přidružené práce | H38: ='SO03 03.1 Pol'!F245 -> 0
A39: 113 | B39: Přípravné a přidružené práce - živice | H39: ='SO03 03.1 Pol'!F269 -> 0
A40: 45 | B40: Podkladní a vedlejší konstrukce | H40: ='SO03 03.1 Pol'!F288 -> 0
A41: 8 | B41: Trubní vedení | H41: ='SO03 03.1 Pol'!F324 -> 0
A42: 9 | B42: Ostatní konstrukce, bourání | H42: ='SO03 03.1 Pol'!F393 -> 0
A43: 91 | B43: Doplňující práce na komunikaci | H43: ='SO03 03.1 Pol'!F399 -> 0
A44: 99 | B44: Staveništní přesun hmot | H44: ='SO03 03.1 Pol'!F418 -> 0
B45: Celkem soupis | D45: =D35 -> 03.1 | H45: =SUM(H37:H44) -> 0
A47: Rekapitulace soupisu | D47: 03.2 | E47: Stoka A3 - odbočky pro domovní přípojky | BC47: =E47 -> Stoka A3 - odbočky pro domovní přípojky
A48: Stavební díl | H48: Cena (Kč)
