Workbook
Name CelkemObjekty: Stavba!$I$30
Name CenaStavby: Stavba!$D$8
Name cisloobjektu: '[1]Krycí list'!$A$5
Name CisloRozpoctu: '[1]Krycí list'!$C$2
Name CisloStavby: Stavba!$D$5
Name cislostavby: '[1]Krycí list'!$A$7
Name dadresa: Stavba!#REF!
Name DIČ: Stavba!#REF!
Name dmisto: Stavba!#REF!
Name dpsc: Stavba!#REF!
Name IČO: Stavba!#REF!
Name MenaStavby: Stavba!$E$8
Name MistoStavby: Stavba!$F$5
Name NazevObjektu: Stavba!#REF!
Name nazevobjektu: '[1]Krycí list'!$C$5
Name NazevRozpoctu: '[1]Krycí list'!$D$2
Name NazevStavby: Stavba!$D$6
Name nazevstavby: '[1]Krycí list'!$C$7
Name Objednatel: Stavba!$D$11
Name Objekt: Stavba!#REF!
Name odic: Stavba!#REF!
Name oico: Stavba!#REF!
Name omisto: Stavba!$D$13
Name onazev: Stavba!$D$12
Name opsc: Stavba!$C$13
Name padresa: Stavba!$D$16
Name pmisto: Stavba!$D$17
Name PocetMJ: #REF!
Name PoptavkaID: Stavba!$A$1
Name ppsc: Stavba!$C$17
Name Projektant: Stavba!$D$15
Name SazbaDPH1: Stavba!#REF!
Name SazbaDPH1: '[1]Krycí list'!$C$30
Name SazbaDPH2: Stavba!#REF!
Name SazbaDPH2: '[1]Krycí list'!$C$32
Name SloupecCC: #REF!
Name SloupecCisloPol: #REF!
Name SloupecJC: #REF!
Name SloupecMJ: #REF!
Name SloupecMnozstvi: #REF!
Name SloupecNazPol: #REF!
Name SloupecPC: #REF!
Name SoucetDilu: Stavba!#REF!
Name StavbaCelkem: Stavba!#REF!
Name Zhotovitel: Stavba!#REF!

Sheet Uchazeč
A2: Vyplňte následující údaje o Vaší společnosti
A5: Obchodní název
A6: Ulice a č.p.
A7: Místo
A8: PSČ
A9: IČO
A10: DIČ
A11: Kontaktní osoba
A12: telefon, fax
A13: e-mail
A16: Poznámka :
A17: Ve všech listech tohoto souboru můžete měnit pouze buňky s modrým pozadím. Jedná se o tyto údaje : - údaje o firmě - jednotkové ceny položek zadané na maximálně dvě desetinná místa

Sheet Stavba
A1: -1
E2: Soupis stavebních prací, dodávek a služeb
B5: Stavba : | D5: 4529 | F5: Valašské Příkazy
D6: Kanalizace Valašské Příkazy
B11: Zadavatel : | D11: Obec Valašské Příkazy | H11: IČO : | I11: 00304395
D12: 1 | H12: DIČ :
C13: 75612 | D13: Valašské Příkazy
B15: Projektant : | D15: AQUA PROCON s.r.o. | H15: IČO : | I15: 46964371
D16: Palackého třída 768/12 | H16: DIČ : | I16: CZ46964371
C17: 61200 | D17: Brno-Královo Pole
B19: Rekapitulace stavebních objektů a provozních souborů
B21: Číslo a název objektu / provozního souboru | H21: JKSO | I21: Počet | J21: Cena
B22: Ostatní a vedlejší náklady | I22: 1
B23: 000 | C23: Vedlejší a ostatní náklady | I23: 1 | J23: ='Rekapitulace Objekt 000'!H19 -> 0 | O23: ='Rekapitulace Objekt 000'!O21 -> 0 | P23: ='Rekapitulace Objekt 000'!P21 -> 0
B24: Inženýrský objekt | I24: 5
B25: SO01 | C25: Stoka A | H25: 827.21.A.1.1 | I25: 5 | J25: ='Rekapitulace Objekt SO01'!H27 -> 0 | O25: ='Rekapitulace Objekt SO01'!O29 -> 0 | P25: ='Rekapitulace Objekt SO01'!P29 -> 0
B26: SO02 | C26: Stoka A2 | H26: 827.21.A.1.1 | I26: 4 | J26: ='Rekapitulace Objekt SO02'!H26 -> 0 | O26: ='Rekapitulace Objekt SO02'!O28 -> 0 | P26: ='Rekapitulace Objekt SO02'!P28 -> 0
B27: SO03 | C27: Stoka A3 | H27: 827.21.A3.1.1 | I27: 3 | J27: ='Rekapitulace Objekt SO03'!H26 -> 0 | O27: ='Rekapitulace Objekt SO03'!O28 -> 0 | P27: ='Rekapitulace Objekt SO03'!P28 -> 0
B28: SO04 | C28: Stoka A4 | H28: 827.21.A3.1.1 | I28: 4 | J28: ='Rekapitulace Objekt SO04'!H27 -> 0 | O28: ='Rekapitulace Objekt SO04'!O29 -> 0 | P28: ='Rekapitulace Objekt SO04'!P29 -> 0
B29: SO05 | C29: Stoka A5 | H29: 827.22.1.2 | I29: 1 | J29: ='Rekapitulace Objekt SO05'!H22 -> 0 | O29: ='Rekapitulace Objekt SO05'!O24 -> 0 | P29: ='Rekapitulace Objekt SO05'!P24 -> 0
B30: Celkem za stavbu | J30: =SUM(J22:J29) -> 0
B32: Rekapitulace DPH | J32: Cena
B33: Základ pro DPH | E33: 15 | F33: % | J33: =SUM(O23:O30) -> 0
B34: DPH | E34: 15 | F34: % | J34: =J33*(E34/100) -> 0
B35: Základ pro DPH | E35: 21 | F35: % | J35: =SUM(P23:P30) -> 0
B36: DPH | E36: 21 | F36: % | J36: =J35*(E36/100) -> 0
B37: Celkem za stavbu s DPH | J37: =SUM(J33:J36) -> 0
B39: PREAMBULE k soupisu prací, dodávek a služeb | AZ39: =B39 -> PREAMBULE k soupisu prací, dodávek a služeb
B41: Tento soupis stavebních prací, dodávek a služeb je sestaven jako podklad pro zpracování nabídek dodavatelů na veřejnou zakázku na stavební práce. Účelem tohoto soupisu je zabezpečit obsahovou shodu všech nabídkových cen a usnadnit následné posouzení dodavateli předložených cenových nabídek. | AZ41: =B41 -> Tento soupis stavebních prací, dodávek a služeb je sestaven jako podklad pro zpracování nabídek dodavatelů na veřejnou zakázku na stavební práce. Účelem tohoto soupisu je zabezpečit obsahovou shodu všech nabídkových cen a usnadnit následné posouzení dodavateli předložených cenových nabídek.
B43: Předpokládá se, že dodavatel si prostuduje Soupis prací, dodávek a služeb spolu s ostatní zadávací dokumentací a považuje se za samozřejmé, že dodavatel se sám seznámil s podrobnými popisy díla, které má být realizováno a způsobem, jak má být realizováno. Celkové dílo má být provedeno v souladu se skutečným záměrem a významem díla a objednatel prostřednictvím správce stavby ho má považovat za zcela vyhovující. | AZ43: =B43 -> Předpokládá se, že dodavatel si prostuduje Soupis prací, dodávek a služeb spolu s ostatní zadávací dokumentací a považuje se za samozřejmé, že dodavatel se sám seznámil s podrobnými popisy díla, které má být realizováno a způsobem, jak má být realizováno. Celkové dílo má být provedeno v souladu se skutečným záměrem a významem díla a objednatel prostřednictvím správce stavby ho má považovat za zcela vyhovující.
B45: Zadavatel nemůže vzít v úvahu žádnou dodatečnou výhradu dodavatele k soupisu stavebních prací, dodávek a služeb. | AZ45: =B45 -> Zadavatel nemůže vzít v úvahu žádnou dodatečnou výhradu dodavatele k soupisu stavebních prací, dodávek a služeb.
B47: Vymezení některých pojmů | AZ47: =B47 -> Vymezení některých pojmů
B49: Pro účely tohoto svazku zadávací dokumentace (platí i pro ostatní svazky) se rozumí: | AZ49: =B49 -> Pro účely tohoto svazku zadávací dokumentace (platí i pro ostatní svazky) se rozumí:
B51: a) Soupisem stavebních prací dodávek a služeb dokument, ve kterém jsou definovány zadavatelem požadované stavební práce, dodávky a služby v podrobnostech nezbytných pro zpracování cenové nabídky dodavatele. Soupis obsahuje i definici požadovaného množství stavebních prací, dodávek a služeb. | AZ51: =B51 -> a) Soupisem stavebních prací dodávek a služeb dokument, ve kterém jsou definovány zadavatelem požadované stavební práce, dodávky a služby v podrobnostech nezbytných pro zpracování cenové nabídky dodavatele. Soupis obsahuje i definici požadovaného množství stavebních prací, dodávek a služeb.
B53: b) Cenovou soustavou uspořádaný soubor informací o stavebních a montážních pracích, materiálech a výrobcích obsahující zatřídění položek, podrobný popis a měrnou jednotku, způsob měření a další technické a cenové podmínky pro možnost sestavení kalkulace nezbytných nákladů a stanovení jednotkové ceny. | AZ53: =B53 -> b) Cenovou soustavou uspořádaný soubor informací o stavebních a montážních pracích, materiálech a výrobcích obsahující zatřídění položek, podrobný popis a měrnou jednotku, způsob měření a další technické a cenové podmínky pro možnost sestavení kalkulace nezbytných nákladů a stanovení jednotkové ceny.
B55: c) Položkovým rozpočtem dokument odpovídající svým obsahem a strukturou soupisu stavebních prací, dodávek a služeb, předaného zadavatelem dodavateli ke zpracování nabídky, v němž dodavatel doplní k jednotlivým položkám stavebních prací, dodávek nebo služeb svoje nabídkové jednotkové ceny a stanoví i celkovou nabídkovou cenu příslušné položky a dále stanoví nabídkové ceny jednotlivých částí soupisu až po celkovou nabídkovou cenu za veškeré stavební práce, dodávky nebo služby, které jsou obsahem soupisu stavebních prací, dodávek a služeb. | AZ55: =B55 -> c) Položkovým rozpočtem dokument odpovídající svým obsahem a strukturou soupisu stavebních prací, dodávek a služeb, předaného zadavatelem dodavateli ke zpracování nabídky, v němž dodavatel doplní k jednotlivým položkám stavebních prací, dodávek nebo služeb svoje nabídkové jednotkové ceny a stanoví i celkovou nabídkovou cenu příslušné položky a dále stanoví nabídkové ceny jednotlivých částí soupisu až po celkovou nabídkovou cenu za veškeré stavební práce, dodávky nebo služby, které jsou obsahem soupisu stavebních prací, dodávek a služeb.
B57: d) Profilem zadavatele elektronický nástroj, prostřednictvím kterého zadavatel podle zákona uveřejňuje informace a dokumenty ke svým veřejným zakázkám a který umožňuje neomezený a přímý dálkový přístup, a jehož internetová adresa je uveřejněna ve Věstníku veřejných zakázek. | AZ57: =B57 -> d) Profilem zadavatele elektronický nástroj, prostřednictvím kterého zadavatel podle zákona uveřejňuje informace a dokumenty ke svým veřejným zakázkám a který umožňuje neomezený a přímý dálkový přístup, a jehož internetová adresa je uveřejněna ve Věstníku veřejných zakázek.
B60: Cenová soustava | AZ60: =B60 -> Cenová soustava
B62: Použitá cenová soustava | AZ62: =B62 -> Použitá cenová soustava
... B165: Příslušná dokumentace a soupisy stavebních prací, dodávek a služeb jsou zpracovány s maximální snahou na vymezení technických standardů prací, dodávek a služeb, jejichž splnění zadavatel požaduje. Protože však běžně používané cenové soustavy mají ve svých databázích definovány i položky, u nichž je v textu použit i popis a označení reprezentativního materiálu, umožňuje zadavatel v takovém případě použít pro plnění veřejné zakázky i jiných, kvalitativně a technicky obdobných řešení, pokud zadávací podmínky výslovně nestanoví z objektivních důvodů jinak. | AZ165: =B165 -> Příslušná dokumentace a soupisy stavebních prací, dodávek a služeb jsou zpracovány s maximální snahou na vymezení technických standardů prací, dodávek a služeb, jejichž splnění zadavatel požaduje. Protože však běžně používané cenové soustavy mají ve svých databázích definovány i položky, u nichž je v textu použit i popis a označení reprezentativního materiálu, umožňuje zadavatel v takovém případě použít pro plnění veřejné zakázky i jiných, kvalitativně a technicky obdobných řešení, pokud zadávací podmínky výslovně nestanoví z objektivních důvodů jinak.
B173: Rekapitulace dílů
B175: Číslo | C175: Název | J175: Celkem
B176: 1 | C176: Zemní práce | J176: ='SO01 01.1 Pol'!F8+'SO01 01.2 Pol'!F8+'SO02 02.1 Pol'!F8+'SO02 02.2 Pol'!F8+'SO03 03.1 Pol'!F8+'SO03 03.2 Pol'!F8+'SO04 04.1 Pol'!F8+'SO04 04.2 Pol'!F8+'SO04 04.4 Pol'!F8+'SO05 05.1 Pol'!F8 -> 0
B177: 11 | C177: Přípravné a přidružené práce | J177: ='SO01 01.1 Pol'!F1185+'SO01 01.2 Pol'!F150+'SO01 01.3 Pol'!F8+'SO02 02.1 Pol'!F1179+'SO02 02.2 Pol'!F282+'SO02 02.3 Pol'!F8+'SO02 02.4 Pol'!F8+'SO03 03.1 Pol'!F245+'SO03 03.2 Pol'!F158+'SO03 03.3 Pol'!F8+'SO04 04.1 Pol'!F374+'SO04 04.2 Pol'!F155+'SO04 04.3 Pol'!F8+'SO04 04.4 Pol'!F102 -> 0
B178: 113 | C178: Přípravné a přidružené práce - živice | J178: ='SO01 01.1 Pol'!F1217+'SO01 01.2 Pol'!F177+'SO01 01.3 Pol'!F38+'SO02 02.1 Pol'!F1291+'SO02 02.2 Pol'!F364+'SO02 02.3 Pol'!F38+'SO02 02.4 Pol'!F51+'SO03 03.1 Pol'!F269+'SO03 03.2 Pol'!F188+'SO03 03.3 Pol'!F42+'SO04 04.1 Pol'!F405+'SO04 04.2 Pol'!F185+'SO04 04.3 Pol'!F46+'SO04 04.4 Pol'!F122 -> 0
B179: 2 | C179: Základy a zvláštní zakládání | J179: ='SO01 01.1 Pol'!F1250+'SO02 02.1 Pol'!F1339+'SO04 04.1 Pol'!F436+'SO05 05.1 Pol'!F211 -> 0
B180: 26 | C180: Vrty | J180: ='SO01 01.1 Pol'!F1296 -> 0
B181: 3 | C181: Svislé a kompletní konstrukce | J181: ='SO01 01.1 Pol'!F1347 -> 0
B182: 38 | C182: Kompletní konstrukce | J182: ='SO01 01.1 Pol'!F1396+'SO05 05.1 Pol'!F218 -> 0
B183: 45 | C183: Podkladní a vedlejší konstrukce | J183: ='SO01 01.1 Pol'!F1406+'SO01 01.2 Pol'!F201+'SO02 02.1 Pol'!F1376+'SO02 02.2 Pol'!F416+'SO03 03.1 Pol'!F288+'SO03 03.2 Pol'!F212+'SO04 04.1 Pol'!F458+'SO04 04.2 Pol'!F209+'SO04 04.4 Pol'!F144+'SO05 05.1 Pol'!F228 -> 0
B184: 46 | C184: Zpevněné plochy | J184: ='SO01 01.1 Pol'!F1494+'SO02 02.1 Pol'!F1488 -> 0
B185: 461 | C185: Hřiště | J185: ='SO01 01.1 Pol'!F1624+'SO01 01.2 Pol'!F206 -> 0
B186: 5 | C186: Komunikace | J186: ='SO01 01.3 Pol'!F78+'SO02 02.1 Pol'!F1508+'SO02 02.2 Pol'!F439+'SO02 02.3 Pol'!F80+'SO02 02.4 Pol'!F97+'SO03 03.3 Pol'!F72+'SO04 04.3 Pol'!F84 -> 0
B187: 8 | C187: Trubní vedení | J187: ='SO01 01.1 Pol'!F1660+'SO01 01.2 Pol'!F228+'SO02 02.1 Pol'!F1522+'SO02 02.2 Pol'!F453+'SO03 03.1 Pol'!F324+'SO03 03.2 Pol'!F217+'SO04 04.1 Pol'!F498+'SO04 04.2 Pol'!F214+'SO04 04.4 Pol'!F158+'SO05 05.1 Pol'!F250 -> 0
B188: 89 | C188: Ostatní konstrukce na trubním vedení | J188: ='SO01 01.1 Pol'!F2020 -> 0
B189: 9 | C189: Ostatní konstrukce, bourání | J189: ='SO01 01.1 Pol'!F2057+'SO01 01.2 Pol'!F300+'SO01 01.3 Pol'!F141+'SO02 02.1 Pol'!F1809+'SO02 02.2 Pol'!F607+'SO02 02.3 Pol'!F196+'SO03 03.1 Pol'!F393+'SO03 03.2 Pol'!F296+'SO03 03.3 Pol'!F137+'SO04 04.1 Pol'!F609+'SO04 04.2 Pol'!F270+'SO04 04.3 Pol'!F145+'SO04 04.4 Pol'!F190 -> 0
B190: 91 | C190: Doplňující práce na komunikaci | J190: ='SO01 01.1 Pol'!F2081+'SO02 02.1 Pol'!F1854+'SO03 03.1 Pol'!F399+'SO04 04.1 Pol'!F619+'SO05 05.1 Pol'!F317 -> 0
B191: 99 | C191: Staveništní přesun hmot | J191: ='SO01 01.1 Pol'!F2112+'SO01 01.2 Pol'!F310+'SO01 01.3 Pol'!F160+'SO02 02.1 Pol'!F1878+'SO02 02.2 Pol'!F641+'SO02 02.3 Pol'!F228+'SO02 02.4 Pol'!F151+'SO03 03.1 Pol'!F418+'SO03 03.2 Pol'!F306+'SO03 03.3 Pol'!F150+'SO04 04.1 Pol'!F638+'SO04 04.2 Pol'!F280+'SO04 04.3 Pol'!F166+'SO04 04.4 Pol'!F199+'SO05 05.1 Pol'!F329 -> 0
B192: 711 | C192: Izolace proti vodě | J192: ='SO01 01.1 Pol'!F2123 -> 0
B193: D1 | C193: Dodávky | J193: ='SO01 01.4 Pol'!F8+'SO01 01.5 Pol'!F8 -> 0
B194: D2 | C194: MONTÁŽNÍ MATERIÁL | J194: ='SO01 01.5 Pol'!F32 -> 0
B195: D3 | C195: PŘENOS A DISPEČINK | J195: ='SO01 01.5 Pol'!F44 -> 0
B196: D3 | C196: Přidružené práce | J196: ='SO01 01.4 Pol'!F24 -> 0
B197: D4 | C197: Zemní práce | J197: ='SO01 01.4 Pol'!F26+'SO01 01.5 Pol'!F48 -> 0
B198: D5 | C198: PŘIDRUŽENÉ PRÁCE | J198: ='SO01 01.5 Pol'!F53 -> 0
B199: M21 | C199: Elektromontáže | J199: ='SO04 04.4 Pol'!F207 -> 0
B200: M23 | C200: Montáže potrubí | J200: ='SO01 01.1 Pol'!F2155+'SO02 02.1 Pol'!F1888+'SO04 04.1 Pol'!F647 -> 0
B201: M46 | C201: Zemní práce při montážích | J201: ='SO01 01.1 Pol'!F2184+'SO02 02.1 Pol'!F1910+'SO04 04.1 Pol'!F655 -> 0
B202: VN | C202: Vedlejší náklady | J202: ='000 01 Naklady'!F8 -> 0
B203: ON | C203: Ostatní náklady | J203: ='000 01 Naklady'!F16 -> 0
B204: Cena celkem | J204: =SUM(J176:J203) -> 0

Sheet VzorObjekt
A1: Stavba : | B1: =Stavba!CisloStavby -> 4529 | C1: =Stavba!NazevStavby -> Kanalizace Valašské Příkazy
A2: Objekt : | G2: JKSO :
A4: Rekapitulace stavebního objektu
A6: Zákl. údaje | B6: =B2 -> 0
B7: =C2 -> 0
A9: Třídník stavebních objektů:

Sheet VzorPolozky
A1: Položkový rozpočet
A2: S:
A3: O:
A4: R:
A6: P.č. | B6: Číslo položky | C6: Název položky | D6: MJ | E6: množství | F6: cena / MJ | G6: celkem

Sheet Rekapitulace Objekt 000
A1: Stavba : | B1: =Stavba!CisloStavby -> 4529 | C1: =Stavba!NazevStavby -> Kanalizace Valašské Příkazy
A2: Objekt : | B2: 000 | C2: Vedlejší a ostatní náklady | G2: JKSO : | O2: NAK
A4: Rekapitulace stavebního objektu
A6: Zákl. údaje | B6: =B2 -> 000
B7: =C2 -> Vedlejší a ostatní náklady
A9: Třídník stavebních objektů:
A14: Rozsah:
A16: Rekapitulace soupisů náležejících k objektu
A17: Soupis | H17: Cena (Kč)
A18: 01 | B18: Vedlejší a ostatní náklady | H18: ='000 01 Naklady'!G50 -> 0 | O18: ='000 01 Naklady'!AN6 -> 0 | P18: ='000 01 Naklady'!AO6 -> 0
B19: Celkem objekt | D19: =B2 -> 000 | H19: =SUM(H18:H18) -> 0
H21: Rekapitulace DPH | O21: =H22 -> 0 | P21: =H24 -> 0
A22: Základ pro DPH | D22: 15 | E22: % | H22: =SUM(O18:O19) -> 0
A23: DPH | D23: 15 | E23: % | H23: =H22*(D23/100) -> 0
A24: Základ pro DPH | D24: 21 | E24: % | H24: =SUM(P18:P19) -> 0
A25: DPH | D25: 21 | E25: % | H25: =H24*(D25/100) -> 0
A26: Celkem za objekt s DPH | H26: =SUM(H22:H25) -> 0
A28: Rekapitulace soupisu | D28: 01 | E28: Vedlejší a ostatní náklady | BC28: =E28 -> Vedlejší a ostatní náklady
A29: Stavební díl | H29: Cena (Kč)
A30: VN | B30: Vedlejší náklady | H30: ='000 01 Naklady'!F8 -> 0
A31: ON | B31: Ostatní náklady | H31: ='000 01 Naklady'!F16 -> 0
B32: Celkem soupis | D32: =D28 -> 01 | H32: =SUM(H30:H31) -> 0

Sheet 000 01 Naklady
A1: Soupis vedlejších a ostatních nákladů | AC1: #LevelZatrideniCeniku#
A2: S: | B2: 4529 | C2: Kanalizace Valašské Příkazy
A3: O: | B3: 000 | C3: Vedlejší a ostatní náklady | AC3: NAK
A4: R: | B4: 01 | C4: Vedlejší a ostatní náklady
AN5: 15 | AO5: 21
A6: P.č. | B6: Číslo položky | C6: Název položky | D6: MJ | E6: množství | F6: cena / MJ | G6: celkem | H6: Ceník | I6: Cen. soustava | AN6: =SUMIF(AM8:AM50,AN5,G8:G50) -> 0 | AO6: =SUMIF(AM8:AM50,AO5,G8:G50) -> 0
B7: Ceník, kapitola | C7: Poznámka uchazeče
A8: Díl: | B8: VN | C8: Vedlejší náklady | F8: =SUM(G9:G15) -> 0 | AE8: DIL
A9: 1 | B9: 005111020R | C9: Vytyčení stavby | D9: Soubor | E9: 1 | G9: =ROUND(E9*F9,2) -> 0 | I9: RTS 17/ I | AE9: POL | AM9: 21
C10: Geodetické zaměření rohů stavby, stabilizace bodů a sestavení laviček. | BA10: =C10 -> Geodetické zaměření rohů stavby, stabilizace bodů a sestavení laviček.
C11: Vyhotovení protokolu o vytyčení stavby se seznamem souřadnic vytyčených bodů a jejich polohopisnými (S-JTSK) a výškopisnými (Bpv) hodnotami. | BA11: =C11 -> Vyhotovení protokolu o vytyčení stavby se seznamem souřadnic vytyčených bodů a jejich polohopisnými (S-JTSK) a výškopisnými (Bpv) hodnotami.
C12: viz příloha Všeobecné požadavky, vedlejší a ostatní náklady : 1 | E12: 1
A13: 2 | B13: 005121 R | C13: Zařízení staveniště | D13: Soubor | E13: 1 | G13: =ROUND(E13*F13,2) -> 0 | I13: RTS 17/ I | AE13: POL | AM13: 21
C14: Veškeré náklady spojené s vybudováním, provozem a odstraněním zařízení staveniště. | BA14: =C14 -> Veškeré náklady spojené s vybudováním, provozem a odstraněním zařízení staveniště.
C15: viz příloha Všeobecné požadavky, vedlejší a ostatní náklady : 1 | E15: 1
A16: Díl: | B16: ON | C16: Ostatní náklady | F16: =SUM(G17:G47) -> 0 | AE16: DIL
A17: 3 | B17: 004111901T | C17: Upřesněná dokumentace pro provedení stavby | D17: Soubor | E17: 1 | G17: =ROUND(E17*F17,2) -> 0 | I17: Vlastní | AE17: POL | AM17: 21
C18: Náklady na provedení upřesnění a doplnění obsahu dokumentace provedení stavby | BA18: =C18 -> Náklady na provedení upřesnění a doplnění obsahu dokumentace provedení stavby
C19: viz příloha Všeobecné požadavky, vedlejší a ostatní náklady : 1 | E19: 1
A20: 4 | B20: 005111601T | C20: Geometrické plány | D20: Soubor | E20: 1 | G20: =ROUND(E20*F20,2) -> 0 | I20: Vlastní | AE20: POL | AM20: 21
C21: viz příloha Všeobecné požadavky, vedlejší a ostatní náklady : 1 | E21: 1
A22: 5 | B22: 005211030R | C22: Dočasná dopravní opatření | D22: Soubor | E22: 1 | G22: =ROUND(E22*F22,2) -> 0 | I22: RTS 17/ I | AE22: POL | AM22: 21
C23: Náklady na vyhotovení návrhu dočasného dopravního značení, jeho projednání s dotčenými orgány a organizacemi, dodání dopravních značek a světelné signalizace, jejich rozmístění a přemísťování a jejich údržba v průběhu výstavby včetně následného odstranění po ukončení stavebních prací. | BA23: =C23 -> Náklady na vyhotovení návrhu dočasného dopravního značení, jeho projednání s dotčenými orgány a organizacemi, dodání dopravních značek a světelné signalizace, jejich rozmístění a přemísťování a jejich údržba v průběhu výstavby včetně následného odstranění po ukončení stavebních prací.
C24: viz příloha Všeobecné požadavky, vedlejší a ostatní náklady : 1 | E24: 1
A25: 6 | B25: 005211901T | C25: Provizorní zařízení po dobu odstávky vodovodu a náhradní zásobování vodou | D25: Soubor | E25: 1 | G25: =ROUND(E25*F25,2) -> 0 | I25: Vlastní | AE25: POL | AM25: 21
C26: viz příloha Všeobecné požadavky, vedlejší a ostatní náklady : 1 | E26: 1
A27: 7 | B27: 005211902T | C27: Náhradní transport odpadních vod a provizorní propoje a čerpání při rekonstrukcích | D27: Soubor | E27: 1 | G27: =ROUND(E27*F27,2) -> 0 | I27: Vlastní | AE27: POL | AM27: 21
C28: viz příloha Všeobecné požadavky, vedlejší a ostatní náklady : 1 | E28: 1
A29: 8 | B29: 005231040T | C29: Provozní řád | D29: Soubor | E29: 1 | G29: =ROUND(E29*F29,2) -> 0 | I29: Vlastní | AE29: POL_NEZ | AF29: 99_2 | AM29: 21
C30: viz příloha Všeobecné požadavky, vedlejší a ostatní náklady : 1 | E30: 1
A31: 9 | B31: 005231901T | C31: Kanalizační řády | D31: Soubor | E31: 1 | G31: =ROUND(E31*F31,2) -> 0 | I31: Vlastní | AE31: POL | AM31: 21
C32: viz příloha Všeobecné požadavky, vedlejší a ostatní náklady : 1 | E32: 1
A33: 10 | B33: 005231903T | C33: Zaškolení obsluhy | D33: Soubor | E33: 1 | G33: =ROUND(E33*F33,2) -> 0 | I33: Vlastní | AE33: POL | AM33: 21
C34: viz příloha Všeobecné požadavky, vedlejší a ostatní náklady : 1 | E34: 1
A35: 11 | B35: 005231T | C35: Zkoušky | D35: Soubor | E35: 1 | G35: =ROUND(E35*F35,2) -> 0 | I35: Vlastní | AE35: POL | AM35: 21
C36: Náklady na zkoušky pro zajištění kontroly a kvality díla dle plánu kontrol a zkoušek | BA36: =C36 -> Náklady na zkoušky pro zajištění kontroly a kvality díla dle plánu kontrol a zkoušek
C37: neuvedené v jiných položkách | BA37: =C37 -> neuvedené v jiných položkách
A38: 12 | B38: 005241010R | C38: Dokumentace skutečného provedení | D38: Soubor | E38: 1 | G38: =ROUND(E38*F38,2) -> 0 | I38: RTS 17/ I | AE38: POL | AM38: 21
C39: Náklady na vyhotovení dokumentace skutečného provedení stavby a její předání objednateli v požadované formě a požadovaném počtu. | BA39: =C39 -> Náklady na vyhotovení dokumentace skutečného provedení stavby a její předání objednateli v požadované formě a požadovaném počtu.
C40: viz příloha Všeobecné požadavky, vedlejší a ostatní náklady : 1 | E40: 1
A41: 13 | B41: 005241020R | C41: Geodetické zaměření skutečného provedení | D41: Soubor | E41: 1 | G41: =ROUND(E41*F41,2) -> 0 | I41: RTS 17/ I | AE41: POL | AM41: 21
C42: Náklady na provedení skutečného zaměření stavby v rozsahu nezbytném pro zápis změny do katastru nemovitostí. | BA42: =C42 -> Náklady na provedení skutečného zaměření stavby v rozsahu nezbytném pro zápis změny do katastru nemovitostí.
C43: viz příloha Všeobecné požadavky, vedlejší a ostatní náklady : 1 | E43: 1
A44: 14 | B44: 005901T | C44: Pasportizace objektů a statické zajištění | D44: Soubor | E44: 1 | G44: =ROUND(E44*F44,2) -> 0 | I44: Vlastní | AE44: POL | AM44: 21
C45: viz příloha Všeobecné požadavky, vedlejší a ostatní náklady : 1 | E45: 1
A46: 15 | B46: 005902T | C46: Předčasné užívání | D46: Soubor | E46: 1 | G46: =ROUND(E46*F46,2) -> 0 | I46: Vlastní | AE46: POL | AM46: 21
C47: viz příloha Všeobecné požadavky, vedlejší a ostatní náklady : 1 | E47: 1
B50: Celkem za objekt | G50: =F8+F16 -> 0

Sheet Rekapitulace Objekt SO01
A1: Stavba : | B1: =Stavba!CisloStavby -> 4529 | C1: =Stavba!NazevStavby -> Kanalizace Valašské Příkazy
A2: Objekt : | B2: SO01 | C2: Stoka A | G2: JKSO : | H2: 827.21.A.1.1 | O2: ING
A4: Rekapitulace stavebního objektu
A6: Zákl. údaje | B6: =B2 -> SO01
B7: =C2 -> Stoka A
A9: Třídník stavebních objektů: | B9: 827 | C9: Vedení trubní dálková přípojná
B10: 827.2 | C10: Kanalizace trubní
B11: 827.21 | C11: sítě kanalizační
B12: 827.21.A | C12: profil potrubí DN do 1000 mm
B14: 827.21.A.1 | C14: potrubí z trub z plastických hmot a sklolaminátu
B16: 827.21.A.1.1 | C16: novostavba objektu
A18: Rozsah: | C18: m
A20: Rekapitulace soupisů náležejících k objektu
A21: Soupis | H21: Cena (Kč)
A22: 01.1 | B22: Stoka A - kanalizační stoka | H22: ='SO01 01.1 Pol'!G2193 -> 0 | O22: ='SO01 01.1 Pol'!AN6 -> 0 | P22: ='SO01 01.1 Pol'!AO6 -> 0
A23: 01.2 | B23: Stoka A - odbočky pro domovní přípojky | H23: ='SO01 01.2 Pol'!G320 -> 0 | O23: ='SO01 01.2 Pol'!AN6 -> 0 | P23: ='SO01 01.2 Pol'!AO6 -> 0
A24: 01.3 | B24: Stoka A - opravy místních komunikací | H24: ='SO01 01.3 Pol'!G169 -> 0 | O24: ='SO01 01.3 Pol'!AN6 -> 0 | P24: ='SO01 01.3 Pol'!AO6 -> 0
A25: 01.4 | B25: Přípojka NN pro měrný objekt | H25: ='SO01 01.4 Pol'!G40 -> 0 | O25: ='SO01 01.4 Pol'!AN6 -> 0 | P25: ='SO01 01.4 Pol'!AO6 -> 0
A26: 01.5 | B26: Měrný objekt - elektrotechnická část | H26: ='SO01 01.5 Pol'!G60 -> 0 | O26: ='SO01 01.5 Pol'!AN6 -> 0 | P26: ='SO01 01.5 Pol'!AO6 -> 0
B27: Celkem objekt | D27: =B2 -> SO01 | H27: =SUM(H22:H26) -> 0
H29: Rekapitulace DPH | O29: =H30 -> 0 | P29: =H32 -> 0
A30: Základ pro DPH | D30: 15 | E30: % | H30: =SUM(O22:O27) -> 0
A31: DPH | D31: 15 | E31: % | H31: =H30*(D31/100) -> 0
A32: Základ pro DPH | D32: 21 | E32: % | H32: =SUM(P22:P27) -> 0
A33: DPH | D33: 21 | E33: % | H33: =H32*(D33/100) -> 0
A34: Celkem za objekt s DPH | H34: =SUM(H30:H33) -> 0
A36: Rekapitulace soupisu | D36: 01.1 | E36: Stoka A - kanalizační stoka | BC36: =E36 -> Stoka A - kanalizační stoka
A37: Stavební díl | H37: Cena (Kč)
A38: 1 | B38: Zemní práce | H38: ='SO01 01.1 Pol'!F8 -> 0
A39: 11 | B39: Přípravné a přidružené práce | H39: ='SO01 01.1 Pol'!F1185 -> 0
A40: 113 | B40: Přípravné a přidružené práce - živice | H40: ='SO01 01.1 Pol'!F1217 -> 0
A41: 2 | B41: Základy a zvláštní zakládání | H41: ='SO01 01.1 Pol'!F1250 -> 0
A42: 26 | B42: Vrty | H42: ='SO01 01.1 Pol'!F1296 -> 0
A43: 3 | B43: Svislé a kompletní konstrukce | H43: ='SO01 01.1 Pol'!F1347 -> 0
A44: 38 | B44: Kompletní konstrukce | H44: ='SO01 01.1 Pol'!F1396 -> 0
A45: 45 | B45: Podkladní a vedlejší konstrukce | H45: ='SO01 01.1 Pol'!F1406 -> 0
A46: 46 | B46: Zpevněné plochy | H46: ='SO01 01.1 Pol'!F1494 -> 0
A47: 461 | B47: Hřiště | H47: ='SO01 01.1 Pol'!F1624 -> 0
A48: 8 | B48: Trubní vedení | H48: ='SO01 01.1 Pol'!F1660 -> 0
A49: 89 | B49: Ostatní konstrukce na trubním vedení | H49: ='SO01 01.1 Pol'!F2020 -> 0
A50: 9 | B50: Ostatní konstrukce, bourání | H50: ='SO01 01.1 Pol'!F2057 -> 0
A51: 91 | B51: Doplňující práce na komunikaci | H51: ='SO01 01.1 Pol'!F2081 -> 0
A52: 99 | B52: Staveništní přesun hmot | H52: ='SO01 01.1 Pol'!F2112 -> 0
A53: 711 | B53: Izolace proti vodě | H53: ='SO01 01.1 Pol'!F2123 -> 0
A54: M23 | B54: Montáže potrubí | H54: ='SO01 01.1 Pol'!F2155 -> 0
A55: M46 | B55: Zemní práce při montážích | H55: ='SO01 01.1 Pol'!F2184 -> 0
B56: Celkem soupis | D56: =D36 -> 01.1 | H56: =SUM(H38:H55) -> 0
A58: Rekapitulace soupisu | D58: 01.2 | E58: Stoka A - odbočky pro domovní přípojky | BC58: =E58 -> Stoka A - odbočky pro domovní přípojky
A59: Stavební díl | H59: Cena (Kč)
A60: 1 | B60: Zemní práce | H60: ='SO01 01.2 Pol'!F8 -> 0
A61: 11 | B61: Přípravné a přidružené práce | H61: ='SO01 01.2 Pol'!F150 -> 0
A62: 113 | B62: Přípravné a přidružené práce - živice | H62: ='SO01 01.2 Pol'!F177 -> 0
A63: 45 | B63: Podkladní a vedlejší konstrukce | H63: ='SO01 01.2 Pol'!F201 -> 0
A64: 461 | B64: Hřiště | H64: ='SO01 01.2 Pol'!F206 -> 0
A65: 8 | B65: Trubní vedení | H65: ='SO01 01.2 Pol'!F228 -> 0
A66: 9 | B66: Ostatní konstrukce, bourání | H66: ='SO01 01.2 Pol'!F300 -> 0
A67: 99 | B67: Staveništní přesun hmot | H67: ='SO01 01.2 Pol'!F310 -> 0
B68: Celkem soupis | D68: =D58 -> 01.2 | H68: =SUM(H60:H67) -> 0
A70: Rekapitulace soupisu | D70: 01.3 | E70: Stoka A - opravy místních komunikací | BC70: =E70 -> Stoka A - opravy místních komunikací
A71: Stavební díl | H71: Cena (Kč)
A72: 11 | B72: Přípravné a přidružené práce | H72: ='SO01 01.3 Pol'!F8 -> 0
A73: 113 | B73: Přípravné a přidružené práce - živice | H73: ='SO01 01.3 Pol'!F38 -> 0
A74: 5 | B74: Komunikace | H74: ='SO01 01.3 Pol'!F78 -> 0
A75: 9 | B75: Ostatní konstrukce, bourání | H75: ='SO01 01.3 Pol'!F141 -> 0
A76: 99 | B76: Staveništní přesun hmot | H76: ='SO01 01.3 Pol'!F160 -> 0
B77: Celkem soupis | D77: =D70 -> 01.3 | H77: =SUM(H72:H76) -> 0
A79: Rekapitulace soupisu | D79: 01.4 | E79: Přípojka NN pro měrný objekt | BC79: =E79 -> Přípojka NN pro měrný objekt
A80: Stavební díl | H80: Cena (Kč)
A81: D1 | B81: Dodávky | H81: ='SO01 01.4 Pol'!F8 -> 0
A82: D2 | B82: Montážní materiál | H82: ='SO01 01.4 Pol'!F14 -> 0
A83: D3 | B83: Přidružené práce | H83: ='SO01 01.4 Pol'!F24 -> 0
A84: D4 | B84: Zemní práce | H84: ='SO01 01.4 Pol'!F26 -> 0
B85: Celkem soupis | D85: =D79 -> 01.4 | H85: =SUM(H81:H84) -> 0
A87: Rekapitulace soupisu | D87: 01.5 | E87: Měrný objekt - elektrotechnická část | BC87: =E87 -> Měrný objekt - elektrotechnická část
A88: Stavební díl | H88: Cena (Kč)
A89: D1 | B89: Dodávky | H89: ='SO01 01.5 Pol'!F8 -> 0
A90: D2 | B90: MONTÁŽNÍ MATERIÁL | H90: ='SO01 01.5 Pol'!F32 -> 0
A91: D3 | B91: PŘENOS A DISPEČINK | H91: ='SO01 01.5 Pol'!F44 -> 0
A92: D4 | B92: Zemní práce | H92: ='SO01 01.5 Pol'!F48 -> 0
A93: D5 | B93: PŘIDRUŽENÉ PRÁCE | H93: ='SO01 01.5 Pol'!F53 -> 0
B94: Celkem soupis | D94: =D87 -> 01.5 | H94: =SUM(H89:H93) -> 0

Sheet SO01 01.1 Pol
A1: Položkový soupis prací a dodávek | AC1: #LevelZatrideniCeniku#
A2: S: | B2: 4529 | C2: Kanalizace Valašské Příkazy
A3: O: | B3: SO01 | C3: Stoka A | AC3: ING
A4: R: | B4: 01.1 | C4: Stoka A - kanalizační stoka
AN5: 15 | AO5: 21
A6: P.č. | B6: Číslo položky | C6: Název položky | D6: MJ | E6: množství | F6: cena / MJ | G6: celkem | H6: Ceník | I6: Cen. soustava | AN6: =SUMIF(AM8:AM2193,AN5,G8:G2193) -> 0 | AO6: =SUMIF(AM8:AM2193,AO5,G8:G2193) -> 0
B7: Ceník, kapitola | C7: Poznámka uchazeče
A8: Díl: | B8: 1 | C8: Zemní práce | F8: =SUM(G9:G1184) -> 0 | AE8: DIL
B9: 111 20-11 Odstranění křovin a stromů o průměru do 10 cm | AC9: 0
B10: s odstraněním kořenů a s případným nutným odklizením křovin a stromů na hromady na vzdálenost do 50 m nebo s naložením na dopravní prostředek, do sklonu terénu 1 : 5, | AE10: SPX | AZ10: =B10 -> s odstraněním kořenů a s případným nutným odklizením křovin a stromů na hromady na vzdálenost do 50 m nebo s naložením na dopravní prostředek, do sklonu terénu 1 : 5,
A11: 1 | B11: 111201101R00 | C11: ...při celkové ploše do 1 000 m2 | D11: m2 | E11: 1000 | G11: =ROUND(E11*F11,2) -> 0 | H11: 800-1 | I11: RTS 17/ I | AE11: POL | AM11: 21
C12: viz.příloha D.1.1 :
C13: stoka A : 1000,0 | E13: 1000
B14: 111 20-14 Spálení odstraněných křovin a stromů | AC14: 0
B15: o průměru kmene do 100 mm na hromadách pro jakoukoliv plochu, | AE15: SPX
A16: 2 | B16: 111201401R00 | C16: ...pro jakoukolv plochu | D16: m2 | E16: 1000 | G16: =ROUND(E16*F16,2) -> 0 | H16: 800-1 | I16: RTS 17/ I | AE16: POL | AM16: 21
C17: Včetně nákladů na přihrnování křovin, očištění spáleniště, uložení popela a zbytků na hromadu. | BA17: =C17 -> Včetně nákladů na přihrnování křovin, očištění spáleniště, uložení popela a zbytků na hromadu.
C18: viz.příloha D.1.1 :
C19: stoka A : 1000,0 | E19: 1000
B20: 111 20-15 Spálení větví | AC20: 0
B21: stromů o průměru kmene přes 100 mm, na hromadách, pro všechny druhy stromů, | AE21: SPX
A22: 3 | B22: 111201501R00 | C22: ...pro všechny druhy stromů | D22: kus | E22: 19 | G22: =ROUND(E22*F22,2) -> 0 | H22: 800-1 | I22: RTS 17/ I | AE22: POL | AM22: 21
C23: Včetně nákladů na přihrnování větví, očištění spáleniště, uložení popela a zbytků na hromadu. | BA23: =C23 -> Včetně nákladů na přihrnování větví, očištění spáleniště, uložení popela a zbytků na hromadu.
C24: viz.příloha D.1.1 :
C25: stoka A : 19 | E25: 19
B26: 112 10 Kácení stromů | AC26: 0
B27: s odřezáním kmene a odvětvením, včetně případného odklizení kmene a větví na oddělené hromady na vzdálenost do 50 m nebo s naložením na dopravní prostředek, | AE27: SPX | AZ27: =B27 -> s odřezáním kmene a odvětvením, včetně případného odklizení kmene a větví na oddělené hromady na vzdálenost do 50 m nebo s naložením na dopravní prostředek,
B28: 112 10-1 listnatých | AC28: 1
A29: 4 | B29: 112101101R00 | C29: ...o průměru kmene přes 100 do 300 mm | D29: kus | E29: 19 | G29: =ROUND(E29*F29,2) -> 0 | H29: 800-1 | I29: RTS 17/ I | AE29: POL | AM29: 21
C30: viz.příloha D.1.1 :
C31: stoka A : 19 | E31: 19
B32: 112 20-11 Odstranění pařezů pod úrovní terénu | AC32: 0
B33: s jejich vykopáním nebo vytrháním, s přesekáním kořenů a s případným nutným přemístěním pařezů na hromady do vzdálenosti do 50 m nebo s naložením na dopravní prostředek, | AE33: SPX | AZ33: =B33 -> s jejich vykopáním nebo vytrháním, s přesekáním kořenů a s případným nutným přemístěním pařezů na hromady do vzdálenosti do 50 m nebo s naložením na dopravní prostředek,
B34: 112 20-111 vykopáním | AC34: 1
A35: 5 | B35: 112201101R00 | C35: ...o průměru přes 100 do 300 mm | D35: kus | E35: 19 | G35: =ROUND(E35*F35,2) -> 0 | H35: 800-1 | I35: RTS 17/ I | AE35: POL | AM35: 21
C36: viz.příloha D.1.1 :
C37: stoka A : 19 | E37: 19
B38: 114 20-32 Očištění kamene nebo tvárnic | AC38: 0
B39: získaných při rozebrání dlažeb, záhozů, rovnanin a soustřeďovacích staveb, | AE39: SPX
A40: 6 | B40: 114203201R00 | C40: ...od hlíny nebo písku | D40: m3 | E40: 3.6 | G40: =ROUND(E40*F40,2) -> 0 | H40: 800-1 | I40: RTS 17/ I | AE40: POL | AM40: 21
C41: stoka A :
C42: překop Klobouckého potoka v km 0,586 :
C43: rozebrání stáv.kam.opevnění v místě překopu : 12,0*0,3 | E43: 3.6
B44: 115 00 Převedení vody | AC44: 0
B45: získané při čerpání potrubím nebo žlaby, montáž a demontáž potrubí nebo žlabu, jeho utěsnění po dobu provozu a opotřebení materiálu potrubí nebo žlabu, podpěrná konstrukce. | AE45: SPX | AZ45: =B45 -> získané při čerpání potrubím nebo žlaby, montáž a demontáž potrubí nebo žlabu, jeho utěsnění po dobu provozu a opotřebení materiálu potrubí nebo žlabu, podpěrná konstrukce.
A46: 7 | B46: 115001105R00 | C46: ...při průměru potrubí DN přes 300 do 600 mm | D46: m | E46: 81.5 | G46: =ROUND(E46*F46,2) -> 0 | H46: 800-1 | I46: RTS 17/ I | AE46: POL | AM46: 21
C47: stoka A :
C48: úsek Š9-Š10 :
C49: překop toku Rakové : 11,0 | E49: 11
C50: úsek Š16-Š17, stoka OS1A ( VO-OSA1) :
C51: překop Klobouckého potoka : 35,0 | E51: 35
C52: úsek Š25-Š26 :
C53: překop Klobouckého potoka : 13,5 | E53: 13.5
C54: úsek Š50-Š51 :
C55: překop toku Dolina : 22,0 | E55: 22
B56: 115 10-12 Čerpání vody | AC56: 0
B57: na vzdálenost (výšku) od hladiny vody v jímce po výšku roviny proložené osou nejvyššího bodu výtlačného potrubí, odpadní potrubí v délce do 20 m, | AE57: SPX | AZ57: =B57 -> na vzdálenost (výšku) od hladiny vody v jímce po výšku roviny proložené osou nejvyššího bodu výtlačného potrubí, odpadní potrubí v délce do 20 m,
B58: 115 10-121 na dopravní výšku do 10 m | AC58: 1
A59: 8 | B59: 115101201R00 | C59: ...s uvažovaným průměrným přítokem do 500 l/min | D59: h | E59: 4578 | G59: =ROUND(E59*F59,2) -> 0 | H59: 800-1 | I59: RTS 17/ I | AE59: POL | AM59: 21
C60: Začátek provozního součtu
C61: odvodnění hloubkové hydrovrty :
C62: stoka A :
C63: km 0,356-0,598...17x HV hl.7m : 242,0 | E63: 242
C64: km 0,842-0,912...5x HV hl.7m : 70,0 | E64: 70
C65: Mezisoučet | E65: 312
C66: předpoklad (40m/týden) : 312,0/40 | E66: 7.8
C67: týden navíc (snížení HPV před zahájením stavby) : 1 | E67: 1
C68: celk.počet týdnů : 8+1 | E68: 9
C69: Konec provozního součtu
C70: čerpání 1l/s z HV (současně pracuje 3-4 HV...240 l/min) : 9*7*24 | E70: 1512
C72: Začátek provozního součtu
C73: odvodnění povrchové :
C74: čerpání 0,5-2l/s /10bm :
C75: stoka A :
C76: km 0,000-1,542 : 1542,0-45,0-13,5-55,5 | E76: 1428
C77: km 1,985-2,042 : 57,0 | E77: 57
C78: Mezisoučet | E78: 1485
C79: předpoklad (40m/týden) : 1485,0/40 | E79: 37.125
C80: Konec provozního součtu
C81: čerpání cca 6h/den : 37*7*6 | E81: 1554
C83: Začátek provozního součtu
C84: překop vodoteče :
C85: stoka A :
C86: úsek Š9-Š10 :
C87: překop toku Rakové : 1 | E87: 1
C88: úsek Š16-Š17, stoka OS1A ( VO-OSA1) :
C89: překop Klobouckého potoka : 3 | E89: 3
C90: úsek Š25-Š26 :
C91: překop Klobouckého potoka : 2 | E91: 2
C92: úsek Š50-Š51 :
C93: překop toku Dolina : 3 | E93: 3
C94: Mezisoučet | E94: 9
C95: Konec provozního součtu
C96: překop vodoteče : 9*7*24 | E96: 1512
B97: 115 10-13 Pohotovost záložní čerpací soupravy | AC97: 0
B98: na vzdálenost (výšku) od hladiny vody v jímce po výšku roviny proložené osou nejvyššího bodu výtlačného potrubí, včetně sacího a výtlačného potrubí, příp. odpadní žlaby a lešení pod čerpadlo a pod potrubí nebo pod odpadní žlaby, | AE98: SPX | AZ98: =B98 -> na vzdálenost (výšku) od hladiny vody v jímce po výšku roviny proložené osou nejvyššího bodu výtlačného potrubí, včetně sacího a výtlačného potrubí, příp. odpadní žlaby a lešení pod čerpadlo a pod potrubí nebo pod odpadní žlaby,
B99: 115 10-131 na dopravní výšku do 10 m | AC99: 1
A100: 9 | B100: 115101301R00 | C100: ...s uvažovaným průměrným přítokem do 500 l/min | D100: den | E100: 385 | G100: =ROUND(E100*F100,2) -> 0 | H100: 800-1 | I100: RTS 17/ I | AE100: POL | AM100: 21
C101: odvodnění hloubkové hydrovrty : 9*7 | E101: 63
C102: odvodnění povrchové : 37*7 | E102: 259
...

Sheet SO01 01.2 Pol
A1: Položkový soupis prací a dodávek | AC1: #LevelZatrideniCeniku#
A2: S: | B2: 4529 | C2: Kanalizace Valašské Příkazy
A3: O: | B3: SO01 | C3: Stoka A | AC3: ING
A4: R: | B4: 01.2 | C4: Stoka A - odbočky pro domovní přípojky
AN5: 15 | AO5: 21
A6: P.č. | B6: Číslo položky | C6: Název položky | D6: MJ | E6: množství | F6: cena / MJ | G6: celkem | H6: Ceník | I6: Cen. soustava | AN6: =SUMIF(AM8:AM320,AN5,G8:G320) -> 0 | AO6: =SUMIF(AM8:AM320,AO5,G8:G320) -> 0
B7: Ceník, kapitola | C7: Poznámka uchazeče
A8: Díl: | B8: 1 | C8: Zemní práce | F8: =SUM(G9:G149) -> 0 | AE8: DIL
B9: 121 10-11 Sejmutí ornice | AC9: 0
B10: nebo lesní půdy, s vodorovným přemístěním na hromady v místě upotřebení nebo na dočasné či trvalé skládky se složením | AE10: SPX
A11: 1 | B11: 121101101R00 | C11: ...s přemístěním na vzdálenost do 50 m | D11: m3 | E11: 31.28 | G11: =ROUND(E11*F11,2) -> 0 | H11: 800-1 | I11: RTS 17/ I | AE11: POL | AM11: 21
C12: nezp., louka : 8,2*2,0*0,2 | E12: 3.28
C13: nezp.tráva : 71,0*2,0*0,1 | E13: 14.2
C14: zahrada : 31,8*2,0*0,2 | E14: 12.72
C15: hřiště : 4,5*2,0*0,12 | E15: 1.08
B16: 132 20 Hloubení rýh šířky přes 60 do 200 cm | AC16: 0
B17: zapažených i nezapažených, s urovnáním dna do předepsaného profilu a spádu, s případně nutným přehozením výkopku na vzdálenost do 3 m ve výkopišti, s přehozením výkopku na přilehlém terénu na vzdálenost do 5 m od podélné osy rýhy nebo s naložením výkopku na dopravní prostředek. | AE17: SPX | AZ17: =B17 -> zapažených i nezapažených, s urovnáním dna do předepsaného profilu a spádu, s případně nutným přehozením výkopku na vzdálenost do 3 m ve výkopišti, s přehozením výkopku na přilehlém terénu na vzdálenost do 5 m od podélné osy rýhy nebo s naložením výkopku na dopravní prostředek.
A18: 2 | B18: 132201219R00 | C18: ...příplatek za lepivost, v hornině 3, | D18: m3 | E18: 105.76727 | G18: =ROUND(E18*F18,2) -> 0 | H18: 800-1 | I18: RTS 17/ I | AE18: POL | AM18: 21
C19: lepivost 45% :
C20: Položka pořadí 5 : 235.03838*0,45 | E20: 105.76727
A21: 3 | B21: 132301219R00 | C21: ...příplatek za lepivost, v hornině 4, | D21: m3 | E21: 31.02507 | G21: =ROUND(E21*F21,2) -> 0 | H21: 800-1 | I21: RTS 17/ I | AE21: POL | AM21: 21
C22: lepivost 45% :
C23: Položka pořadí 6 : 68.94460*0,45 | E23: 31.02507
B24: 138 Dolamování hloubených vykopávek | AC24: 0
B25: zapažených i nezapažených v hor. 5 - 7 s případným nutným přemístěním výkopku ve výkopišti, bez naložení. | AE25: SPX
B26: 138 2 rýh ve vrstvě tloušťky do 500 mm | AC26: 1
A27: 4 | B27: 138401201R00 | C27: ...v hornině 5 | D27: m3 | E27: 9.40154 | G27: =ROUND(E27*F27,2) -> 0 | H27: 800-1 | I27: RTS 17/ I | AE27: POL | AM27: 21
C28: hor.tř. V - 3% :
C29: přípojky A - ruční výkop, dolamování : 313,3845*0,03 | E29: 9.40154
B30: 139 6 Ruční výkop jam, rýh a šachet | AC30: 0
B31: s přehozením na vzdálenost do 5 m nebo s naložením na ruční dopravní prostředek | AE31: SPX
A32: 5 | B32: 139601102R00 | C32: ...v hornině 3 | D32: m3 | E32: 235.03838 | G32: =ROUND(E32*F32,2) -> 0 | H32: 800-1 | I32: RTS 17/ I | AE32: POL | AM32: 21
C33: Začátek provozního součtu
C34: PVC DN150 :
C35: nové přípojky : 155,5*0,9*(3,3+1,6)/2 | E35: 342.8775
C36: odpočet povrchů :
C37: MK - asfalt : -25,7*0,9*0,45 | E37: -10.4085
C38: MK - penetr. makadam : -9,1*0,9*0,45 | E38: -3.6855
C39: MK - štěrk : -2,9*0,9*0,15 | E39: -0.3915
C40: nezp., louka : -8,2*0,9*0,2 | E40: -1.476
C41: nezp., tráva : -71,0*0,9*0,1 | E41: -6.39
C42: hřiště : -4,5*0,9*0,35 | E42: -1.4175
C43: zahrada : -31,8*0,9*0,2 | E43: -5.724
C44: Mezisoučet | E44: 313.3845
C45: Konec provozního součtu
C46: hor.tř. III - 75% :
C47: přípojky A - ruční výkop : 313,3845*0,75 | E47: 235.03838
A48: 6 | B48: 139601103R00 | C48: ...v hornině 4 | D48: m3 | E48: 68.94459 | G48: =ROUND(E48*F48,2) -> 0 | H48: 800-1 | I48: RTS 17/ I | AE48: POL | AM48: 21
C49: hor.tř. IV - 22% :
C50: přípojky A - ruční výkop : 313,3845*0,22 | E50: 68.94459
B51: 151 10 Zřízení pažení a rozepření stěn rýh | AC51: 0
B52: pro podzemní vedení pro všechny šířky rýhy, | AE52: SPX
A53: 7 | B53: 151101101R00 | C53: ...příložné pro jakoukoliv mezerovitost, hloubky do 2 m | D53: m2 | E53: 127.8 | G53: =ROUND(E53*F53,2) -> 0 | H53: 800-1 | I53: RTS 17/ I | AE53: POL | AM53: 21
C54: nové přípojky : 35,5*2*(2,0+1,6)/2 | E54: 127.8
A55: 8 | B55: 151101102R00 | C55: ...příložné pro jakoukoliv mezerovitost, hloubky do 4 m | D55: m2 | E55: 636 | G55: =ROUND(E55*F55,2) -> 0 | H55: 800-1 | I55: RTS 17/ I | AE55: POL | AM55: 21
C56: nové přípojky : 120,0*2*(3,3+2,0)/2 | E56: 636
B57: 151 11 Odstranění pažení a rozepření rýh | AC57: 0
B58: pro podzemní vedení s uložením materiálu na vzdálenost do 3 m od kraje výkopu, | AE58: SPX
A59: 9 | B59: 151101111R00 | C59: ...příložné , hloubky do 2 m | D59: m2 | E59: 127.8 | G59: =ROUND(E59*F59,2) -> 0 | H59: 800-1 | I59: RTS 17/ I | AE59: POL | AM59: 21
C60: Položka pořadí 7 : 127.80000 | E60: 127.8
A61: 10 | B61: 151101112R00 | C61: ...příložné , hloubky do 4 m | D61: m2 | E61: 636 | G61: =ROUND(E61*F61,2) -> 0 | H61: 800-1 | I61: RTS 17/ I | AE61: POL | AM61: 21
C62: Položka pořadí 8 : 636.00000 | E62: 636
B63: 161 10-11 Svislé přemístění výkopku | AC63: 0
B64: bez naložení do dopravní nádoby, ale s vyprázdněním dopravní nádoby na hromadu nebo na dopravní prostředek, | AE64: SPX
A65: 11 | B65: 161101101R00 | C65: ...z horniny 1 až 4, při hloubce výkopu přes 1 do 2,5 m | D65: m3 | E65: 303.98297 | G65: =ROUND(E65*F65,2) -> 0 | H65: 800-1 | I65: RTS 17/ I | AE65: POL | AM65: 21
C66: ruční výkop - 100% :
C67: Položka pořadí 5 : 235.03838 | E67: 235.03838
C68: Položka pořadí 6 : 68.94459 | E68: 68.94459
A69: 12 | B69: 161101151R00 | C69: ...z horniny 5 až 7, při hloubce výkopu přes 1 do 2,5 m | D69: m3 | E69: 9.40154 | G69: =ROUND(E69*F69,2) -> 0 | H69: 800-1 | I69: RTS 17/ I | AE69: POL | AM69: 21
C70: ruční výkop, dolamování - 100% :
C71: Položka pořadí 4 : 9.40154 | E71: 9.40154
B72: 162 10 Vodorovné přemístění výkopku | AC72: 0
B73: po suchu, bez ohledu na druh dopravního prostředku, bez naložení výkopku, avšak se složením bez rozhrnutí, | AE73: SPX
A74: 13 | B74: 162301102R00 | C74: ...z horniny 1 až 4, na vzdálenost přes 500 do 1 000 m | D74: m3 | E74: 332.3574 | G74: =ROUND(E74*F74,2) -> 0 | H74: 800-1 | I74: RTS 17/ I | AE74: POL | AM74: 21
C75: odvoz na mezideponii a zpět :
C76: Položka pořadí 18 : 166.17870*2 | E76: 332.3574
A77: 14 | B77: 162701105R00 | C77: ...z horniny 1 až 4, na vzdálenost přes 9 000 do 10 000 m | D77: m3 | E77: 137.80427 | G77: =ROUND(E77*F77,2) -> 0 | H77: 800-1 | I77: RTS 17/ I | AE77: POL | AM77: 21
C78: vytěžená zemina :
C79: Položka pořadí 5 : 235.03838 | E79: 235.03838
C80: Položka pořadí 6 : 68.94459 | E80: 68.94459
C81: odvoz na meziskládku :
C82: Položka pořadí 18 : 166.17870*-1 | E82: -166.1787
A83: 15 | B83: 162701155R00 | C83: ...z horniny 5 až 7, na vzdálenost přes 9 000 do 10 000 m | D83: m3 | E83: 9.40154 | G83: =ROUND(E83*F83,2) -> 0 | H83: 800-1 | I83: RTS 17/ I | AE83: POL | AM83: 21
C84: ruční výkop, dolamování :
C85: Položka pořadí 4 : 9.40154 | E85: 9.40154
B86: 162 10-9 příplatek k ceně za každých dalších i započatých 1 000 m přes 10 000 m | AC86: 1
A87: 16 | B87: 162701109R00 | C87: ...z horniny 1 až 4 | D87: m3 | E87: 1929.2597 | G87: =ROUND(E87*F87,2) -> 0 | H87: 800-1 | I87: RTS 17/ I | AE87: POL | AM87: 21
C88: skládka 24 km :
C89: Položka pořadí 14 : 137.80427*14 | E89: 1929.2597
B90: 162 10 Vodorovné přemístění výkopku | AC90: 0
B91: po suchu, bez ohledu na druh dopravního prostředku, bez naložení výkopku, avšak se složením bez rozhrnutí, | AE91: SPX
B92: 162 10-9 příplatek k ceně za každých dalších i započatých 1 000 m přes 10 000 m | AC92: 1
A93: 17 | B93: 162701159R00 | C93: ...z horniny 5 až 7 | D93: m3 | E93: 131.62149 | G93: =ROUND(E93*F93,2) -> 0 | H93: 800-1 | I93: RTS 17/ I | AE93: POL | AM93: 21
C94: skládka 24 km :
C95: Položka pořadí 15 : 9.40154*14 | E95: 131.62149
B96: 167 10 Nakládání, skládání, překládání neulehlého výkopku | AC96: 0
B97: 167 10-1 nakládání výkopku | AC97: 1
A98: 18 | B98: 167101101R00 | C98: ...do 100 m3, z horniny 1 až 4 | D98: m3 | E98: 166.1787 | G98: =ROUND(E98*F98,2) -> 0 | H98: 800-1 | I98: RTS 17/ I | AE98: POL | AM98: 21
C99: naložení na mezideponii :
C100: zásyp :
...

Sheet SO01 01.3 Pol
A1: Položkový soupis prací a dodávek | AC1: #LevelZatrideniCeniku#
A2: S: | B2: 4529 | C2: Kanalizace Valašské Příkazy
A3: O: | B3: SO01 | C3: Stoka A | AC3: ING
A4: R: | B4: 01.3 | C4: Stoka A - opravy místních komunikací
AN5: 15 | AO5: 21
A6: P.č. | B6: Číslo položky | C6: Název položky | D6: MJ | E6: množství | F6: cena / MJ | G6: celkem | H6: Ceník | I6: Cen. soustava | AN6: =SUMIF(AM8:AM169,AN5,G8:G169) -> 0 | AO6: =SUMIF(AM8:AM169,AO5,G8:G169) -> 0
B7: Ceník, kapitola | C7: Poznámka uchazeče
A8: Díl: | B8: 11 | C8: Přípravné a přidružené práce | F8: =SUM(G9:G37) -> 0 | AE8: DIL
B9: 113 10-7 Odstranění podkladů nebo krytů | AC9: 0
A10: 1 | B10: 113107315R00 | C10: ...z kameniva těženého, v ploše jednotlivě do 50 m2, tloušťka vrstvy 150 mm | D10: m2 | E10: 549.603 | G10: =ROUND(E10*F10,2) -> 0 | H10: 822-1 | I10: RTS 17/ I | AE10: POL | AM10: 21
C11: rozšíření opravy - typ II :
C12: MK - penetr. makadam :
C13: Položka pořadí 8 : 477.32300 | E13: 477.323
C14: rozšíření opravy od hrany rýhy 2x 0,2 m :
C15: MK - asfalt :
C16: Položka pořadí 9 : 72.28000 | E16: 72.28
A17: 2 | B17: 113107520R00 | C17: ...z kameniva hrubého drceného, v ploše jednotlivě do 50 m2, tloušťka vrstvy 200 mm | D17: m2 | E17: 477.323 | G17: =ROUND(E17*F17,2) -> 0 | H17: 822-1 | I17: RTS 17/ I | AE17: POL | AM17: 21
C18: MK - penetr. makadam :
C19: Položka pořadí 8 : 477.32300 | E19: 477.323
A20: 3 | B20: 113111120R00 | C20: ...z kameniva zpevněného cementem, v ploše jednotlivě do 50 m2, tloušťka vrstvy 200 mm | D20: m2 | E20: 72.28 | G20: =ROUND(E20*F20,2) -> 0 | H20: 822-1 | I20: RTS 17/ I | AE20: POL | AM20: 21
C21: rozšíření opravy od hrany rýhy 2x 0,2 m :
C22: MK - asfalt :
C23: Položka pořadí 9 : 72.28000 | E23: 72.28
B24: 979 08-2 Vodorovná doprava suti po suchu | AC24: 0
A25: 4 | B25: 979082213R00 | C25: ...bez naložení, ale se složením a hrubým urovnáním na vzdálenost do 1 km | D25: t | E25: 428.31607 | G25: =ROUND(E25*F25,2) -> 0 | H25: 822-1 | I25: RTS 17/ I | AE25: POL | AM25: 21
C26: Demontážní hmotnosti z položek s pořadovými čísly: :
C27: 1,2,3, :
C28: Součet: : 428,31607 | E28: 428.31607
A29: 5 | B29: 979082219R00 | C29: ...příplatek k ceně za každý další i započatý 1 km přes 1 km | D29: t | E29: 9851.2696 | G29: =ROUND(E29*F29,2) -> 0 | H29: 822-1 | I29: RTS 17/ I | AE29: POL | AM29: 21
C30: Demontážní hmotnosti z položek s pořadovými čísly: :
C31: 1,2,3, :
C32: Součet: : 9851,26963 | E32: 9851.2696
B33: 979 08-4 Poplatek za skládku | AC33: 0
A34: 6 | B34: 979990001R00 | C34: ...stavební suti | D34: t | E34: 428.31607 | G34: =ROUND(E34*F34,2) -> 0 | H34: 801-3 | I34: RTS 17/ I | AE34: POL | AM34: 21
C35: Demontážní hmotnosti z položek s pořadovými čísly: :
C36: 1,2,3, :
C37: Součet: : 428,31607 | E37: 428.31607
A38: Díl: | B38: 113 | C38: Přípravné a přidružené práce - živice | F38: =SUM(G39:G77) -> 0 | AE38: DIL
B39: 113 10-7 Odstranění podkladů nebo krytů | AC39: 0
A40: 7 | B40: 113108305R00 | C40: ...živičných, v ploše jednotlivě do 50 m2, tloušťka vrstvy 50 mm | D40: m2 | E40: 72.28 | G40: =ROUND(E40*F40,2) -> 0 | H40: 822-1 | I40: RTS 17/ I | AE40: POL | AM40: 21
C41: rozšíření opravy od hrany rýhy 2x 0,2 m :
C42: MK - asfalt :
C43: Položka pořadí 9 : 72.28000 | E43: 72.28
A44: 8 | B44: 113108310R00 | C44: ...živičných, v ploše jednotlivě do 50 m2, tloušťka vrstvy 100 mm | D44: m2 | E44: 477.323 | G44: =ROUND(E44*F44,2) -> 0 | H44: 822-1 | I44: RTS 17/ I | AE44: POL | AM44: 21
C45: celková oprava MK - penetrační makadam :
C46: typ II : 132,57*5,0 | E46: 662.85
C47: odpočet odstranění v 01.1 a 01.2 :
C48: stoka :
C49: MK - penetr. makadam : -132,57*1,1 | E49: -145.827
C50: -2,6*(2,6-1,1)*4 | E50: -15.6
C51: -6,1*(2,6-1,1)*1 | E51: -9.15
C52: -2,6*2,6*1 | E52: -6.76
C53: odbočky :
C54: MK - penetr. makadam : -9,1*0,9 | E54: -8.19
B55: 113 15 Odstranění podkladu, krytu frézováním | AC55: 0
B56: s naložením na dopravní prostředek, očištění povrchu od frézované plochy, opotřebování frézovacích nástrojů (nožů, upínacích kroužků, držáků) nutné ruční odstranění (vybourání) živičného krytu kolem překážek, | AE56: SPX | AZ56: =B56 -> s naložením na dopravní prostředek, očištění povrchu od frézované plochy, opotřebování frézovacích nástrojů (nožů, upínacích kroužků, držáků) nutné ruční odstranění (vybourání) živičného krytu kolem překážek,
A57: 9 | B57: 113151114R00 | C57: ...povrch živičný, plochy do 500 m2 na jednom objektu nebo při provádění pruhu šířky do 750 mm, tloušťky 50 mm | D57: m2 | E57: 72.28 | G57: =ROUND(E57*F57,2) -> 0 | H57: 822-1 | I57: RTS 17/ I | AE57: POL | AM57: 21
C58: rozšíření opravy od hrany rýhy 2x 0,2 m :
C59: MK - asfalt :
C60: stoka : 95,5*2*0,2 | E60: 38.2
C61: stoka : 46,0*2*0,2 | E61: 18.4
C62: stoka : 13,5*2*0,2 | E62: 5.4
C63: odbočky : 25,7*2*0,2 | E63: 10.28
B64: 979 08-2 Vodorovná doprava suti po suchu | AC64: 0
A65: 10 | B65: 979082213R00 | C65: ...bez naložení, ale se složením a hrubým urovnáním na vzdálenost do 1 km | D65: t | E65: 120.91266 | G65: =ROUND(E65*F65,2) -> 0 | H65: 822-1 | I65: RTS 17/ I | AE65: POL | AM65: 21
C66: Demontážní hmotnosti z položek s pořadovými čísly: :
C67: 7,8,9, :
C68: Součet: : 120,91266 | E68: 120.91266
A69: 11 | B69: 979082219R00 | C69: ...příplatek k ceně za každý další i započatý 1 km přes 1 km | D69: t | E69: 2780.9912 | G69: =ROUND(E69*F69,2) -> 0 | H69: 822-1 | I69: RTS 17/ I | AE69: POL | AM69: 21
C70: Demontážní hmotnosti z položek s pořadovými čísly: :
C71: 7,8,9, :
C72: Součet: : 2780,99118 | E72: 2780.9912
B73: 979 08-4 Poplatek za skládku | AC73: 0
A74: 12 | B74: 979990113R00 | C74: ...obalovaný asfalt | D74: t | E74: 120.91266 | G74: =ROUND(E74*F74,2) -> 0 | H74: 801-3 | I74: RTS 17/ I | AE74: POL | AM74: 21
C75: Demontážní hmotnosti z položek s pořadovými čísly: :
C76: 7,8,9, :
C77: Součet: : 120,91266 | E77: 120.91266
A78: Díl: | B78: 5 | C78: Komunikace | F78: =SUM(G79:G140) -> 0 | AE78: DIL
B79: 564 2.-11 Podklad nebo podsyp ze štěrkopísku | AC79: 0
B80: s rozprostřením, vlhčením a zhutněním | AE80: SPX
A81: 13 | B81: 564251111R00 | C81: ...tloušťka po zhutnění 150 mm | D81: m2 | E81: 978.43 | G81: =ROUND(E81*F81,2) -> 0 | H81: 822-1 | I81: RTS 17/ I | AE81: POL | AM81: 21
C82: MK - asfalt :
C83: Položka pořadí 22 : 315.58000 | E83: 315.58
C84: MK - penetr. makadam :
C85: Položka pořadí 21 : 662.85000 | E85: 662.85
B86: 564 72-1 Podklad nebo kryt z kameniva hrubého drceného | AC86: 0
B87: velikost 32 - 63 mm s rozprostřením a zhutněním | AE87: SPX
A88: 14 | B88: 564761111R00 | C88: ...tloušťka po zhutnění 200 mm | D88: m2 | E88: 662.85 | G88: =ROUND(E88*F88,2) -> 0 | H88: 822-1 | I88: RTS 17/ I | AE88: POL | AM88: 21
C89: MK - penetr. makadam :
C90: Položka pořadí 21 : 662.85000 | E90: 662.85
B91: 564 72-2 Podklad nebo kryt z kameniva hrubého s výplň. kam. | AC91: 0
B92: kamenivo hrubé drcené vel. 32 - 63 mm s výplňovým kamenivem (vibrovaný štěrk), s rozprostřením, vlhčením a zhutněním | AE92: SPX
A93: 15 | B93: 564752111R00 | C93: ...tloušťka po zhutnění 150 mm | D93: m2 | E93: 37.47 | G93: =ROUND(E93*F93,2) -> 0 | H93: 822-1 | I93: RTS 17/ I | AE93: POL | AM93: 21
C94: MK - štěrk :
C95: Položka pořadí 18 : 37.47000 | E95: 37.47
B96: 565 13-1 Podklad z kameniva obaleného asfaltem | AC96: 0
B97: s rozprostřením a zhutněním | AE97: SPX
A98: 16 | B98: 565131111R00 | C98: ...v pruhu šířky do 3 m, třídy 1, tloušťka po zhutnění 50 mm | D98: m2 | E98: 315.58 | G98: =ROUND(E98*F98,2) -> 0 | H98: 822-1 | I98: RTS 17/ I | AE98: POL | AM98: 21
C99: Položka pořadí 22 : 315.58000 | E99: 315.58
B100: 567 41 Podklad ze štěrku částečně vyplněného maltou (ŠCM) | AC100: 0
...

Sheet SO01 01.4 Pol
A1: Položkový soupis prací a dodávek | AC1: #LevelZatrideniCeniku#
A2: S: | B2: 4529 | C2: Kanalizace Valašské Příkazy
A3: O: | B3: SO01 | C3: Stoka A | AC3: ING
A4: R: | B4: 01.4 | C4: Přípojka NN pro měrný objekt
AN5: 15 | AO5: 21
A6: P.č. | B6: Číslo položky | C6: Název položky | D6: MJ | E6: množství | F6: cena / MJ | G6: celkem | H6: Ceník | I6: Cen. soustava | AN6: =SUMIF(AM8:AM40,AN5,G8:G40) -> 0 | AO6: =SUMIF(AM8:AM40,AO5,G8:G40) -> 0
B7: Ceník, kapitola | C7: Poznámka uchazeče
A8: Díl: | B8: D1 | C8: Dodávky | F8: =SUM(G9:G13) -> 0 | AE8: DIL
A9: 1 | B9: 1 | C9: Rozváděč RE 1 | D9: kpl | E9: 1 | G9: =ROUND(E9*F9,2) -> 0 | I9: Vlastní | AE9: POL_NEZ | AF9: 3_1 | AM9: 21
C10: Elektroměrová typová plastová rozvodnice v kompaktním plastovém pilířku pro přímé měření do 80A, celk.rozměry: š.400, v.1930, hl.240mm, IP44/20, | BA10: =C10 -> Elektroměrová typová plastová rozvodnice v kompaktním plastovém pilířku pro přímé měření do 80A, celk.rozměry: š.400, v.1930, hl.240mm, IP44/20,
C11: vč. jednosazbového elektroměru ( dodá poskytovatel připojení ) a hlavního jističe 1x16A/B, přívod CYKY-J 3x10 mm2 a vývod CYKY-J 3x10 mm2 | BA11: =C11 -> vč. jednosazbového elektroměru ( dodá poskytovatel připojení ) a hlavního jističe 1x16A/B, přívod CYKY-J 3x10 mm2 a vývod CYKY-J 3x10 mm2
A12: 2 | B12: 2 | C12: Pojistková přípojková skříň MP 1 | D12: kpl | E12: 1 | G12: =ROUND(E12*F12,2) -> 0 | I12: Vlastní | AE12: POL_NEZ | AF12: 3_1 | AM12: 21
C13: Pojistková typová plastová přípojková skříň na sloup 3x160A, celk.rozměry: š.300, v.290, hl.115bmm, IP44/20, přívod a vývod CYKY-J 3x10 mm2 | BA13: =C13 -> Pojistková typová plastová přípojková skříň na sloup 3x160A, celk.rozměry: š.300, v.290, hl.115bmm, IP44/20, přívod a vývod CYKY-J 3x10 mm2
A14: Díl: | B14: D2 | C14: Montážní materiál | F14: =SUM(G15:G23) -> 0 | AE14: DIL
A15: 3 | B15: 3 | C15: Pojistka výkonová 3x25A/gG | D15: kus | E15: 3 | G15: =ROUND(E15*F15,2) -> 0 | I15: Vlastní | AE15: POL_NEZ | AF15: 3_1 | AM15: 21
A16: 4 | B16: 4 | C16: Kabel CYKY-J 3x10 mm2 | D16: m | E16: 175 | G16: =ROUND(E16*F16,2) -> 0 | I16: Vlastní | AE16: POL_NEZ | AF16: 3_1 | AM16: 21
A17: 5 | B17: 5 | C17: Ukončení kabelu CYKY do 3x10 mm2 | D17: kus | E17: 6 | G17: =ROUND(E17*F17,2) -> 0 | I17: Vlastní | AE17: POL_NEZ | AF17: 1_ | AM17: 21
A18: 6 | B18: 6 | C18: Výstražná folie PVC | D18: m | E18: 137 | G18: =ROUND(E18*F18,2) -> 0 | I18: Vlastní | AE18: POL_NEZ | AF18: 3_1 | AM18: 21
A19: 7 | B19: 7 | C19: PVC korugovaná chránička Js110 vč.spojek | D19: m | E19: 25 | G19: =ROUND(E19*F19,2) -> 0 | I19: Vlastní | AE19: POL_NEZ | AF19: 3_1 | AM19: 21
A20: 8 | B20: 8 | C20: Pozinkovaný pásek FeZn 30/4mm | D20: m | E20: 50 | G20: =ROUND(E20*F20,2) -> 0 | I20: Vlastní | AE20: POL_NEZ | AF20: 3_1 | AM20: 21
A21: 9 | B21: 9 | C21: Trubka tuhá PVC do 42mm včetně uchycení nerezovým páskem na sloup | D21: m | E21: 3 | G21: =ROUND(E21*F21,2) -> 0 | I21: Vlastní | AE21: POL_NEZ | AF21: 3_1 | AM21: 21
A22: 10 | B22: 10 | C22: Drobný elektroinstalační materiál a ostatní materiál potřebný pro dokončení díla | D22: kpl | E22: 1 | G22: =ROUND(E22*F22,2) -> 0 | I22: Vlastní | AE22: POL_NEZ | AF22: 3_1 | AM22: 21
A23: 11 | B23: 11 | C23: Montáž, zapojení, oživení všech uvedených zařízení | D23: kpl | E23: 1 | G23: =ROUND(E23*F23,2) -> 0 | I23: Vlastní | AE23: POL_NEZ | AF23: 1_ | AM23: 21
A24: Díl: | B24: D3 | C24: Přidružené práce | F24: =SUM(G25:G25) -> 0 | AE24: DIL
A25: 12 | B25: 12 | C25: Výchozí revize elektrozařízení | D25: kpl | E25: 1 | G25: =ROUND(E25*F25,2) -> 0 | I25: Vlastní | AE25: POL_NEZ | AF25: 1_ | AM25: 21
A26: Díl: | B26: D4 | C26: Zemní práce | F26: =SUM(G27:G37) -> 0 | AE26: DIL
A27: 13 | B27: 13 | C27: Vytýčení trasy | D27: m | E27: 160 | G27: =ROUND(E27*F27,2) -> 0 | I27: Vlastní | AE27: POL_NEZ | AF27: 1_1 | AM27: 21
A28: 14 | B28: 14 | C28: Výkop kabelové rýhy 35x80cm, zemina třídy 3 | D28: m | E28: 137 | G28: =ROUND(E28*F28,2) -> 0 | I28: Vlastní | AE28: POL_NEZ | AF28: 1_1 | AM28: 21
A29: 15 | B29: 15 | C29: Zához kabelové rýhy 35x60cm, zemina třídy 3 | D29: m | E29: 137 | G29: =ROUND(E29*F29,2) -> 0 | I29: Vlastní | AE29: POL_NEZ | AF29: 1_1 | AM29: 21
A30: 16 | B30: 16 | C30: Kabelové lože pískové, š. 35cm, tl.10cm | D30: m | E30: 137 | G30: =ROUND(E30*F30,2) -> 0 | I30: Vlastní | AE30: POL_NEZ | AF30: 1_ | AM30: 21
A31: 17 | B31: 17 | C31: Výkop kabelové rýhy 50x120cm, zemina třídy 3 | D31: m | E31: 23 | G31: =ROUND(E31*F31,2) -> 0 | I31: Vlastní | AE31: POL_NEZ | AF31: 1_1 | AM31: 21
A32: 18 | B32: 18 | C32: Zához kabelové rýhy 50x100cm, zemina třídy 3 | D32: m | E32: 23 | G32: =ROUND(E32*F32,2) -> 0 | I32: Vlastní | AE32: POL_NEZ | AF32: 1_1 | AM32: 21
A33: 19 | B33: 19 | C33: Odvoz zeminy do 1km | D33: m3 | E33: 14 | G33: =ROUND(E33*F33,2) -> 0 | I33: Vlastní | AE33: POL_NEZ | AF33: 1_1 | AM33: 21
A34: 20 | B34: 20 | C34: Provizorní úprava terénu | D34: m2 | E34: 137 | G34: =ROUND(E34*F34,2) -> 0 | I34: Vlastní | AE34: POL_NEZ | AF34: 1_1 | AM34: 21
A35: 21 | B35: 21 | C35: Řezání asfaltu | D35: m | E35: 40 | G35: =ROUND(E35*F35,2) -> 0 | I35: Vlastní | AE35: POL_NEZ | AF35: 1_1 | AM35: 21
A36: 22 | B36: 22 | C36: Utěsnění kabelu v chráničce proti vodě | D36: kpl | E36: 1 | G36: =ROUND(E36*F36,2) -> 0 | I36: Vlastní | AE36: POL_NEZ | AF36: 1_1 | AM36: 21
A37: 23 | B37: 23 | C37: Výkop jámy pro pilíř rozvaděče RE 1 | D37: m3 | E37: 0.5 | G37: =ROUND(E37*F37,2) -> 0 | I37: Vlastní | AE37: POL_NEZ | AF37: 1_1 | AM37: 21
B40: Celkem za objekt | G40: =F8+F14+F24+F26 -> 0

Sheet SO01 01.5 Pol
A1: Položkový soupis prací a dodávek | AC1: #LevelZatrideniCeniku#
A2: S: | B2: 4529 | C2: Kanalizace Valašské Příkazy
A3: O: | B3: SO01 | C3: Stoka A | AC3: ING
A4: R: | B4: 01.5 | C4: Měrný objekt - elektrotechnická část
AN5: 15 | AO5: 21
A6: P.č. | B6: Číslo položky | C6: Název položky | D6: MJ | E6: množství | F6: cena / MJ | G6: celkem | H6: Ceník | I6: Cen. soustava | AN6: =SUMIF(AM8:AM60,AN5,G8:G60) -> 0 | AO6: =SUMIF(AM8:AM60,AO5,G8:G60) -> 0
B7: Ceník, kapitola | C7: Poznámka uchazeče
A8: Díl: | B8: D1 | C8: Dodávky | F8: =SUM(G9:G31) -> 0 | AE8: DIL
A9: 1 | B9: 1 | C9: Rozváděč RMD | D9: kpl | E9: 1 | G9: =ROUND(E9*F9,2) -> 0 | I9: Vlastní | AE9: POL_NEZ | AF9: 3_1 | AM9: 21
C10: Celoplastový pilíř o celkových rozměrech: š x v x h 660x1930x240mm, IP44/20: | BA10: =C10 -> Celoplastový pilíř o celkových rozměrech: š x v x h 660x1930x240mm, IP44/20:
C11: montážní panel, krytí IP44/20, zámek FAB, přívody a vývody zespodu | BA11: =C11 -> montážní panel, krytí IP44/20, zámek FAB, přívody a vývody zespodu
C12: 1 kpl dvoupólový otočný vypínač s aretací na dveře 20 A, 400 V "0-I" pro montáž na panel, signalizace napájení, jištění ovládacího obvodu | BA12: =C12 -> 1 kpl dvoupólový otočný vypínač s aretací na dveře 20 A, 400 V "0-I" pro montáž na panel, signalizace napájení, jištění ovládacího obvodu
C13: 1 kpl jednopólová přepěťová ochrana I. a II. stupně na vstupu, výměnné moduly, signalizace, síť TN-C, včetně odjištění | BA13: =C13 -> 1 kpl jednopólová přepěťová ochrana I. a II. stupně na vstupu, výměnné moduly, signalizace, síť TN-C, včetně odjištění
C14: 1 kpl pomocné relé včetně odjištění, indikující výpadek napájení | BA14: =C14 -> 1 kpl pomocné relé včetně odjištění, indikující výpadek napájení
C15: 1 kpl dvoupólový proudový chránič 25A/4/30mA, jednopólový a trojpólový jistič včetně montážní zásuvky 16A/230V AC | BA15: =C15 -> 1 kpl dvoupólový proudový chránič 25A/4/30mA, jednopólový a trojpólový jistič včetně montážní zásuvky 16A/230V AC
C16: 1 kpl temperace rozvaděče 230V včetně odjištění a termostatu na DIN, IP20 | BA16: =C16 -> 1 kpl temperace rozvaděče 230V včetně odjištění a termostatu na DIN, IP20
C17: 1 kpl osvětlení rozvaděče zářivkovým svítidlem s vlastním spínačem 230V, 10W, IP20 včetně odjištění | BA17: =C17 -> 1 kpl osvětlení rozvaděče zářivkovým svítidlem s vlastním spínačem 230V, 10W, IP20 včetně odjištění
C18: 1 kpl dvoupólová přepěťová ochrana III. Stupně, 230V pro síť TN-S před MaR a ASŘ se signalizací, včetně 2 ks rázová oddělovací tlumivka a včetně odjištění | BA18: =C18 -> 1 kpl dvoupólová přepěťová ochrana III. Stupně, 230V pro síť TN-S před MaR a ASŘ se signalizací, včetně 2 ks rázová oddělovací tlumivka a včetně odjištění
C19: 1 kpl vývod pro měření průtoku 230V včetně odjištění | BA19: =C19 -> 1 kpl vývod pro měření průtoku 230V včetně odjištění
C20: 2 kpl vývody pro koncové spínače poklopů, včetně odjištění (svorka s trubičkovou pojistkou do 1A) a pomocného relé 12V DC | BA20: =C20 -> 2 kpl vývody pro koncové spínače poklopů, včetně odjištění (svorka s trubičkovou pojistkou do 1A) a pomocného relé 12V DC
C21: 1 kpl zálohový zdroj UPS včetně odjištění a příslušenství | BA21: =C21 -> 1 kpl zálohový zdroj UPS včetně odjištění a příslušenství
... C31: 1 kpl osazení přístrojů do skříně včetně prodrátování, úložného, nosného a drobného materiálu | BA31: =C31 -> 1 kpl osazení přístrojů do skříně včetně prodrátování, úložného, nosného a drobného materiálu
A32: Díl: | B32: D2 | C32: MONTÁŽNÍ MATERIÁL | F32: =SUM(G33:G43) -> 0 | AE32: DIL
A33: 2 | B33: 2 | C33: Kabel sdělovací stíněný JYTY 4x1,0 | D33: m | E33: 15 | G33: =ROUND(E33*F33,2) -> 0 | I33: Vlastní | AE33: POL_NEZ | AF33: 3_1 | AM33: 21
A34: 3 | B34: 3 | C34: Vodič izolovaný směděným jádrem H07V-U6 zl/žl | D34: m | E34: 10 | G34: =ROUND(E34*F34,2) -> 0 | I34: Vlastní | AE34: POL_NEZ | AF34: 3_ | AM34: 21
A35: 4 | B35: 4 | C35: Trubka tuhá střední namáhání PVC do 32mm | D35: kpl | E35: 1 | G35: =ROUND(E35*F35,2) -> 0 | I35: Vlastní | AE35: POL_NEZ | AF35: 3_1 | AM35: 21
A36: 5 | B36: 5 | C36: Chránička ohebná PE DN75 mm | D36: m | E36: 10 | G36: =ROUND(E36*F36,2) -> 0 | I36: Vlastní | AE36: POL_NEZ | AF36: 3_1 | AM36: 21
A37: 6 | B37: 6 | C37: Koncový pružinový kontakt na poklop | D37: ks | E37: 1 | G37: =ROUND(E37*F37,2) -> 0 | I37: Vlastní | AE37: POL_NEZ | AF37: 3_1 | AM37: 21
A38: 7 | B38: 7 | C38: Magnetický dveřní kontakt | D38: ks | E38: 1 | G38: =ROUND(E38*F38,2) -> 0 | I38: Vlastní | AE38: POL_NEZ | AF38: 3_1 | AM38: 21
A39: 8 | B39: 8 | C39: Ultrazvukový snímač průtoku | D39: kpl | E39: 1 | G39: =ROUND(E39*F39,2) -> 0 | I39: Vlastní | AE39: POL_NEZ | AF39: 3_1 | AM39: 21
C40: Ultrazvukový snímač průtoku s vyhodnocovací jednotkou, napájení 24 V DC, výstup : 4-20 mA, detekční rozsah: 0-2000 mm, délka kabelu 15 m, vč.nerez konzoly, IP68 | BA40: =C40 -> Ultrazvukový snímač průtoku s vyhodnocovací jednotkou, napájení 24 V DC, výstup : 4-20 mA, detekční rozsah: 0-2000 mm, délka kabelu 15 m, vč.nerez konzoly, IP68
A41: 9 | B41: 9 | C41: Zatěsnění otvorů pro kabely | D41: kpl | E41: 1 | G41: =ROUND(E41*F41,2) -> 0 | I41: Vlastní | AE41: POL_NEZ | AF41: 1_ | AM41: 21
A42: 10 | B42: 10 | C42: Prostupy betonem | D42: kpl | E42: 1 | G42: =ROUND(E42*F42,2) -> 0 | I42: Vlastní | AE42: POL_NEZ | AF42: 1_ | AM42: 21
A43: 11 | B43: 11 | C43: Drobný elektroinstalační materiál a ostatní materiál potřebný pro dokončení díla | D43: kpl | E43: 1 | G43: =ROUND(E43*F43,2) -> 0 | I43: Vlastní | AE43: POL_NEZ | AF43: 3_1 | AM43: 21
A44: Díl: | B44: D3 | C44: PŘENOS A DISPEČINK | F44: =SUM(G45:G47) -> 0 | AE44: DIL
A45: 12 | B45: 12 | C45: Doplnění SW pro komunikaci s dispečinkem provozovatele | D45: kpl | E45: 1 | G45: =ROUND(E45*F45,2) -> 0 | I45: Vlastní | AE45: POL_NEZ | AF45: 1_ | AM45: 21
A46: 13 | B46: 13 | C46: Doplnění vizualizace objektu na monitoru dispečera centrálního dispečinku provozovatele | D46: kpl | E46: 1 | G46: =ROUND(E46*F46,2) -> 0 | I46: Vlastní | AE46: POL_NEZ | AF46: 1_ | AM46: 21
A47: 14 | B47: 14 | C47: Doplnění databázového zpracování dat | D47: kpl | E47: 1 | G47: =ROUND(E47*F47,2) -> 0 | I47: Vlastní | AE47: POL_NEZ | AF47: 1_ | AM47: 21
A48: Díl: | B48: D4 | C48: Zemní práce | F48: =SUM(G49:G52) -> 0 | AE48: DIL
A49: 15 | B49: 15 | C49: Vytýčení trasy | D49: m | E49: 3 | G49: =ROUND(E49*F49,2) -> 0 | I49: Vlastní | AE49: POL_NEZ | AF49: 1_ | AM49: 21
A50: 16 | B50: 16 | C50: Výkop kabelové rýhy 35x80cm, zemina třídy 3 | D50: m | E50: 3 | G50: =ROUND(E50*F50,2) -> 0 | I50: Vlastní | AE50: POL_NEZ | AF50: 1_ | AM50: 21
A51: 17 | B51: 17 | C51: Zához kabelové rýhy 35x60cm, zemina třídy 3 | D51: m | E51: 3 | G51: =ROUND(E51*F51,2) -> 0 | I51: Vlastní | AE51: POL_NEZ | AF51: 1_ | AM51: 21
A52: 18 | B52: 18 | C52: Kabelové lože pískové, š. 35cm, tl.10cm | D52: m | E52: 3 | G52: =ROUND(E52*F52,2) -> 0 | I52: Vlastní | AE52: POL_NEZ | AF52: 1_ | AM52: 21
A53: Díl: | B53: D5 | C53: PŘIDRUŽENÉ PRÁCE | F53: =SUM(G54:G57) -> 0 | AE53: DIL
A54: 19 | B54: 19 | C54: Montáž, zapojení, oživení výše uvedených zařízení | D54: kpl | E54: 1 | G54: =ROUND(E54*F54,2) -> 0 | I54: Vlastní | AE54: POL_NEZ | AF54: 1_ | AM54: 21
A55: 20 | B55: 20 | C55: Výchozí revize elektrozařízení | D55: kpl | E55: 1 | G55: =ROUND(E55*F55,2) -> 0 | I55: Vlastní | AE55: POL_NEZ | AF55: 1_ | AM55: 21
A56: 21 | B56: 21 | C56: Komplexní zkoušky | D56: kpl | E56: 1 | G56: =ROUND(E56*F56,2) -> 0 | I56: Vlastní | AE56: POL_NEZ | AF56: 1_ | AM56: 21
A57: 22 | B57: 22 | C57: Projekt skutečného provedení | D57: kpl | E57: 1 | G57: =ROUND(E57*F57,2) -> 0 | I57: Vlastní | AE57: POL_NEZ | AF57: 1_ | AM57: 21
B60: Celkem za objekt | G60: =F8+F32+F44+F48+F53 -> 0

Sheet Rekapitulace Objekt SO02
A1: Stavba : | B1: =Stavba!CisloStavby -> 4529 | C1: =Stavba!NazevStavby -> Kanalizace Valašské Příkazy
A2: Objekt : | B2: SO02 | C2: Stoka A2 | G2: JKSO : | H2: 827.21.A.1.1 | O2: ING
A4: Rekapitulace stavebního objektu
A6: Zákl. údaje | B6: =B2 -> SO02
B7: =C2 -> Stoka A2
A9: Třídník stavebních objektů: | B9: 827 | C9: Vedení trubní dálková přípojná
B10: 827.2 | C10: Kanalizace trubní
B11: 827.21 | C11: sítě kanalizační
B12: 827.21.A | C12: profil potrubí DN do 1000 mm
B14: 827.21.A.1 | C14: potrubí z trub z plastických hmot a sklolaminátu
B16: 827.21.A.1.1 | C16: novostavba objektu
A18: Rozsah: | C18: m
A20: Rekapitulace soupisů náležejících k objektu
A21: Soupis | H21: Cena (Kč)
A22: 02.1 | B22: Stoka A2 - kanalizační stoka | H22: ='SO02 02.1 Pol'!G1935 -> 0 | O22: ='SO02 02.1 Pol'!AN6 -> 0 | P22: ='SO02 02.1 Pol'!AO6 -> 0
A23: 02.2 | B23: Stoka A2 - odbočky pro domovní přípojky | H23: ='SO02 02.2 Pol'!G651 -> 0 | O23: ='SO02 02.2 Pol'!AN6 -> 0 | P23: ='SO02 02.2 Pol'!AO6 -> 0
A24: 02.3 | B24: Stoka A2 - opravy místních komunikací | H24: ='SO02 02.3 Pol'!G237 -> 0 | O24: ='SO02 02.3 Pol'!AN6 -> 0 | P24: ='SO02 02.3 Pol'!AO6 -> 0
A25: 02.4 | B25: Stoka A2 - opravy krajských komunikací | H25: ='SO02 02.4 Pol'!G160 -> 0 | O25: ='SO02 02.4 Pol'!AN6 -> 0 | P25: ='SO02 02.4 Pol'!AO6 -> 0
B26: Celkem objekt | D26: =B2 -> SO02 | H26: =SUM(H22:H25) -> 0
H28: Rekapitulace DPH | O28: =H29 -> 0 | P28: =H31 -> 0
A29: Základ pro DPH | D29: 15 | E29: % | H29: =SUM(O22:O26) -> 0
A30: DPH | D30: 15 | E30: % | H30: =H29*(D30/100) -> 0
A31: Základ pro DPH | D31: 21 | E31: % | H31: =SUM(P22:P26) -> 0
A32: DPH | D32: 21 | E32: % | H32: =H31*(D32/100) -> 0
A33: Celkem za objekt s DPH | H33: =SUM(H29:H32) -> 0
A35: Rekapitulace soupisu | D35: 02.1 | E35: Stoka A2 - kanalizační stoka | BC35: =E35 -> Stoka A2 - kanalizační stoka
A36: Stavební díl | H36: Cena (Kč)
A37: 1 | B37: Zemní práce | H37: ='SO02 02.1 Pol'!F8 -> 0
A38: 11 | B38: Přípravné a přidružené práce | H38: ='SO02 02.1 Pol'!F1179 -> 0
A39: 113 | B39: Přípravné a přidružené práce - živice | H39: ='SO02 02.1 Pol'!F1291 -> 0
A40: 2 | B40: Základy a zvláštní zakládání | H40: ='SO02 02.1 Pol'!F1339 -> 0
A41: 45 | B41: Podkladní a vedlejší konstrukce | H41: ='SO02 02.1 Pol'!F1376 -> 0
A42: 46 | B42: Zpevněné plochy | H42: ='SO02 02.1 Pol'!F1488 -> 0
A43: 5 | B43: Komunikace | H43: ='SO02 02.1 Pol'!F1508 -> 0
A44: 8 | B44: Trubní vedení | H44: ='SO02 02.1 Pol'!F1522 -> 0
A45: 9 | B45: Ostatní konstrukce, bourání | H45: ='SO02 02.1 Pol'!F1809 -> 0
A46: 91 | B46: Doplňující práce na komunikaci | H46: ='SO02 02.1 Pol'!F1854 -> 0
A47: 99 | B47: Staveništní přesun hmot | H47: ='SO02 02.1 Pol'!F1878 -> 0
A48: M23 | B48: Montáže potrubí | H48: ='SO02 02.1 Pol'!F1888 -> 0
A49: M46 | B49: Zemní práce při montážích | H49: ='SO02 02.1 Pol'!F1910 -> 0
B50: Celkem soupis | D50: =D35 -> 02.1 | H50: =SUM(H37:H49) -> 0
A52: Rekapitulace soupisu | D52: 02.2 | E52: Stoka A2 - odbočky pro domovní přípojky | BC52: =E52 -> Stoka A2 - odbočky pro domovní přípojky
A53: Stavební díl | H53: Cena (Kč)
A54: 1 | B54: Zemní práce | H54: ='SO02 02.2 Pol'!F8 -> 0
A55: 11 | B55: Přípravné a přidružené práce | H55: ='SO02 02.2 Pol'!F282 -> 0
A56: 113 | B56: Přípravné a přidružené práce - živice | H56: ='SO02 02.2 Pol'!F364 -> 0
A57: 45 | B57: Podkladní a vedlejší konstrukce | H57: ='SO02 02.2 Pol'!F416 -> 0
A58: 5 | B58: Komunikace | H58: ='SO02 02.2 Pol'!F439 -> 0
A59: 8 | B59: Trubní vedení | H59: ='SO02 02.2 Pol'!F453 -> 0
A60: 9 | B60: Ostatní konstrukce, bourání | H60: ='SO02 02.2 Pol'!F607 -> 0
A61: 99 | B61: Staveništní přesun hmot | H61: ='SO02 02.2 Pol'!F641 -> 0
B62: Celkem soupis | D62: =D52 -> 02.2 | H62: =SUM(H54:H61) -> 0
A64: Rekapitulace soupisu | D64: 02.3 | E64: Stoka A2 - opravy místních komunikací | BC64: =E64 -> Stoka A2 - opravy místních komunikací
A65: Stavební díl | H65: Cena (Kč)
A66: 11 | B66: Přípravné a přidružené práce | H66: ='SO02 02.3 Pol'!F8 -> 0
A67: 113 | B67: Přípravné a přidružené práce - živice | H67: ='SO02 02.3 Pol'!F38 -> 0
A68: 5 | B68: Komunikace | H68: ='SO02 02.3 Pol'!F80 -> 0
A69: 9 | B69: Ostatní konstrukce, bourání | H69: ='SO02 02.3 Pol'!F196 -> 0
A70: 99 | B70: Staveništní přesun hmot | H70: ='SO02 02.3 Pol'!F228 -> 0
B71: Celkem soupis | D71: =D64 -> 02.3 | H71: =SUM(H66:H70) -> 0
A73: Rekapitulace soupisu | D73: 02.4 | E73: Stoka A2 - opravy krajských komunikací | BC73: =E73 -> Stoka A2 - opravy krajských komunikací
A74: Stavební díl | H74: Cena (Kč)
A75: 11 | B75: Přípravné a přidružené práce | H75: ='SO02 02.4 Pol'!F8 -> 0
A76: 113 | B76: Přípravné a přidružené práce - živice | H76: ='SO02 02.4 Pol'!F51 -> 0
A77: 5 | B77: Komunikace | H77: ='SO02 02.4 Pol'!F97 -> 0
A78: 99 | B78: Staveništní přesun hmot | H78: ='SO02 02.4 Pol'!F151 -> 0
B79: Celkem soupis | D79: =D73 -> 02.4 | H79: =SUM(H75:H78) -> 0

Sheet SO02 02.1 Pol
A1: Položkový soupis prací a dodávek | AC1: #LevelZatrideniCeniku#
A2: S: | B2: 4529 | C2: Kanalizace Valašské Příkazy
A3: O: | B3: SO02 | C3: Stoka A2 | AC3: ING
A4: R: | B4: 02.1 | C4: Stoka A2 - kanalizační stoka
AN5: 15 | AO5: 21
A6: P.č. | B6: Číslo položky | C6: Název položky | D6: MJ | E6: množství | F6: cena / MJ | G6: celkem | H6: Ceník | I6: Cen. soustava | AN6: =SUMIF(AM8:AM1935,AN5,G8:G1935) -> 0 | AO6: =SUMIF(AM8:AM1935,AO5,G8:G1935) -> 0
B7: Ceník, kapitola | C7: Poznámka uchazeče
A8: Díl: | B8: 1 | C8: Zemní práce | F8: =SUM(G9:G1178) -> 0 | AE8: DIL
B9: 115 00 Převedení vody | AC9: 0
B10: získané při čerpání potrubím nebo žlaby, montáž a demontáž potrubí nebo žlabu, jeho utěsnění po dobu provozu a opotřebení materiálu potrubí nebo žlabu, podpěrná konstrukce. | AE10: SPX | AZ10: =B10 -> získané při čerpání potrubím nebo žlaby, montáž a demontáž potrubí nebo žlabu, jeho utěsnění po dobu provozu a opotřebení materiálu potrubí nebo žlabu, podpěrná konstrukce.
A11: 1 | B11: 115001105R00 | C11: ...při průměru potrubí DN přes 300 do 600 mm | D11: m | E11: 10 | G11: =ROUND(E11*F11,2) -> 0 | H11: 800-1 | I11: RTS 17/ I | AE11: POL | AM11: 21
C12: Začátek provozního součtu
C13: překop Klobouckého potoka :
C14: stoka A2 : 1 | E14: 1
C15: Mezisoučet | E15: 1
C16: Konec provozního součtu
C17: překop vodního toku : 10*1 | E17: 10
C18: Mezisoučet | E18: 10
B19: 115 10-12 Čerpání vody | AC19: 0
B20: na vzdálenost (výšku) od hladiny vody v jímce po výšku roviny proložené osou nejvyššího bodu výtlačného potrubí, odpadní potrubí v délce do 20 m, | AE20: SPX | AZ20: =B20 -> na vzdálenost (výšku) od hladiny vody v jímce po výšku roviny proložené osou nejvyššího bodu výtlačného potrubí, odpadní potrubí v délce do 20 m,
B21: 115 10-121 na dopravní výšku do 10 m | AC21: 1
A22: 2 | B22: 115101201R00 | C22: ...s uvažovaným průměrným přítokem do 500 l/min | D22: h | E22: 252 | G22: =ROUND(E22*F22,2) -> 0 | H22: 800-1 | I22: RTS 17/ I | AE22: POL | AM22: 21
C23: Začátek provozního součtu
C24: stoka A2 : 57 | E24: 57
C25: Mezisoučet | E25: 57
C26: předpoklad (40m/týden) : 57/40 | E26: 1.425
C27: Konec provozního součtu
C28: čerpání cca 6h/den : 2*7*6 | E28: 84
C29: Mezisoučet | E29: 84
C30: překop vodního toku :
C31: Kloboucký potok : 24*7 | E31: 168
C32: Mezisoučet | E32: 168
B33: 115 10-13 Pohotovost záložní čerpací soupravy | AC33: 0
B34: na vzdálenost (výšku) od hladiny vody v jímce po výšku roviny proložené osou nejvyššího bodu výtlačného potrubí, včetně sacího a výtlačného potrubí, příp. odpadní žlaby a lešení pod čerpadlo a pod potrubí nebo pod odpadní žlaby, | AE34: SPX | AZ34: =B34 -> na vzdálenost (výšku) od hladiny vody v jímce po výšku roviny proložené osou nejvyššího bodu výtlačného potrubí, včetně sacího a výtlačného potrubí, příp. odpadní žlaby a lešení pod čerpadlo a pod potrubí nebo pod odpadní žlaby,
B35: 115 10-131 na dopravní výšku do 10 m | AC35: 1
A36: 3 | B36: 115101301R00 | C36: ...s uvažovaným průměrným přítokem do 500 l/min | D36: den | E36: 21 | G36: =ROUND(E36*F36,2) -> 0 | H36: 800-1 | I36: RTS 17/ I | AE36: POL | AM36: 21
C37: povrchové odvodnění :
C38: čerpání cca 6h/den : 2*7 | E38: 14
C39: Mezisoučet | E39: 14
C40: překop vodního toku :
C41: Kloboucký potok : 7 | E41: 7
C42: Mezisoučet | E42: 7
B43: 119 00-14 Dočasné zajištění podzemního potrubí nebo vedení | AC43: 0
B44: ve výkopišti ve stavu a poloze, ve kterých byla na začátku zemních prací, a to podepřením, vzepřením nebo vyvěšením, případně s ochranným bedněním, se zřízením a odstraněním zajišťovací konstrukce a včetně opotřebení použitých materiálů, | AE44: SPX | AZ44: =B44 -> ve výkopišti ve stavu a poloze, ve kterých byla na začátku zemních prací, a to podepřením, vzepřením nebo vyvěšením, případně s ochranným bedněním, se zřízením a odstraněním zajišťovací konstrukce a včetně opotřebení použitých materiálů,
B45: 119 00-141 ocelového potrubí | AC45: 1
A46: 4 | B46: 119001401R00 | C46: ...DN do 200 mm | D46: m | E46: 8.8 | G46: =ROUND(E46*F46,2) -> 0 | H46: 800-1 | I46: RTS 17/ I | AE46: POL | AM46: 21
C47: stoka A2 :
C48: křížení inženýrských sítí :
C49: křížení STL plynovod : 1,1 | E49: 1.1
C50: vodovod DN80 : 1,1 | E50: 1.1
C51: křížení stl plynovod : 1,1 | E51: 1.1
C52: křížení STL plynovod : 1,1 | E52: 1.1
C53: křížení stl plynovod : 1,1 | E53: 1.1
C54: křížení STL plynovod : 1,1 | E54: 1.1
C55: křížení vodovod : 1,1 | E55: 1.1
C56: Mezisoučet | E56: 7.7
C57: stoka A2.1 :
C58: křížení inženýrských sítí :
C59: křížení STL plynovod : 1,1 | E59: 1.1
C60: Mezisoučet | E60: 1.1
B61: 119 00-14 Dočasné zajištění podzemního potrubí nebo vedení | AC61: 0
B62: ve výkopišti ve stavu a poloze, ve kterých byla na začátku zemních prací, a to podepřením, vzepřením nebo vyvěšením, případně s ochranným bedněním, se zřízením a odstraněním zajišťovací konstrukce a včetně opotřebení použitých materiálů, | AE62: SPX | AZ62: =B62 -> ve výkopišti ve stavu a poloze, ve kterých byla na začátku zemních prací, a to podepřením, vzepřením nebo vyvěšením, případně s ochranným bedněním, se zřízením a odstraněním zajišťovací konstrukce a včetně opotřebení použitých materiálů,
B63: 119 00-143 kabelů | AC63: 1
A64: 5 | B64: 119001421R00 | C64: ...do 3 kabelů | D64: m | E64: 14.3 | G64: =ROUND(E64*F64,2) -> 0 | H64: 800-1 | I64: RTS 17/ I | AE64: POL | AM64: 21
C65: stoka A2 :
C66: křížení inženýrských sítí :
C67: křížení SDK místní : 1,1 | E67: 1.1
C68: křížení SDK místní : 1,1 | E68: 1.1
C69: křížení SDK místní : 1,1 | E69: 1.1
C70: křížení SDK místní : 1,1 | E70: 1.1
C71: křížení SDK místní : 1,1 | E71: 1.1
C72: křížení SDK místní : 1,1 | E72: 1.1
C73: křížení SDK místní : 1,1 | E73: 1.1
C74: křížení SDK místní : 1,1 | E74: 1.1
C75: křížení silnoproudu NN : 1,1 | E75: 1.1
C76: křížení silnoproudu NN : 1,1 | E76: 1.1
C77: křížení silnoproudu NN : 1,1 | E77: 1.1
C78: křížení silnoproudu NN : 1,1 | E78: 1.1
C79: Mezisoučet | E79: 13.2
C80: stoka A2.1 :
C81: křížení inženýrských sítí :
C82: křížení SDK místní : 1,1 | E82: 1.1
C83: Mezisoučet | E83: 1.1
B84: 119 00-14 Dočasné zajištění podzemního potrubí nebo vedení | AC84: 0
B85: Dočasné zajištění podzemního potrubí a podzemních vedení ve výkopišti ve stavu a poloze, ve kterých byla na začátku zemních prací, a to podepřením, vzepřením nebo vyvěšením, případně s ochranným bedněním, se zřízením a odstraněním zajišťovací konstrukce a včetně opotřebení použitých materiálů. | AE85: SPX | AZ85: =B85 -> Dočasné zajištění podzemního potrubí a podzemních vedení ve výkopišti ve stavu a poloze, ve kterých byla na začátku zemních prací, a to podepřením, vzepřením nebo vyvěšením, případně s ochranným bedněním, se zřízením a odstraněním zajišťovací konstrukce a včetně opotřebení použitých materiálů.
A86: 6 | B86: 119001413T00 | C86: Dočasné zajištění beton.a plast.potrubí nad DN 500 | D86: m | E86: 5.5 | G86: =ROUND(E86*F86,2) -> 0 | H86: 800-1 | I86: Vlastní | AE86: POL | AM86: 21
C87: stoka A2 :
C88: křížení inženýrských sítí :
C89: propustek DN1000 : 1,1 | E89: 1.1
C90: propustek DN1000 : 1,1 | E90: 1.1
C91: propustek DN500 : 1,1 | E91: 1.1
C92: dešťová kanalizace DN600 : 1,1 | E92: 1.1
C93: propustek DN500 : 1,1 | E93: 1.1
C94: Mezisoučet | E94: 5.5
B95: 121 10-11 Sejmutí ornice | AC95: 0
B96: nebo lesní půdy, s vodorovným přemístěním na hromady v místě upotřebení nebo na dočasné či trvalé skládky se složením | AE96: SPX
A97: 7 | B97: 121101101R00 | C97: ...s přemístěním na vzdálenost do 50 m | D97: m3 | E97: 44.856 | G97: =ROUND(E97*F97,2) -> 0 | H97: 800-1 | I97: RTS 17/ I | AE97: POL | AM97: 21
C98: stoka A2 :
C99: nezpevněno tráva : 90,3*2*0,1 | E99: 18.06
C100: 50,4*2*0,1 | E100: 10.08
...

Sheet SO02 02.2 Pol
A1: Položkový soupis prací a dodávek | AC1: #LevelZatrideniCeniku#
A2: S: | B2: 4529 | C2: Kanalizace Valašské Příkazy
A3: O: | B3: SO02 | C3: Stoka A2 | AC3: ING
A4: R: | B4: 02.2 | C4: Stoka A2 - odbočky pro domovní přípojky
AN5: 15 | AO5: 21
A6: P.č. | B6: Číslo položky | C6: Název položky | D6: MJ | E6: množství | F6: cena / MJ | G6: celkem | H6: Ceník | I6: Cen. soustava | AN6: =SUMIF(AM8:AM651,AN5,G8:G651) -> 0 | AO6: =SUMIF(AM8:AM651,AO5,G8:G651) -> 0
B7: Ceník, kapitola | C7: Poznámka uchazeče
A8: Díl: | B8: 1 | C8: Zemní práce | F8: =SUM(G9:G281) -> 0 | AE8: DIL
B9: 121 10-11 Sejmutí ornice | AC9: 0
B10: nebo lesní půdy, s vodorovným přemístěním na hromady v místě upotřebení nebo na dočasné či trvalé skládky se složením | AE10: SPX
A11: 1 | B11: 121101101R00 | C11: ...s přemístěním na vzdálenost do 50 m | D11: m3 | E11: 14.16 | G11: =ROUND(E11*F11,2) -> 0 | H11: 800-1 | I11: RTS 17/ I | AE11: POL | AM11: 21
C12: stoka A2 :
C13: nezpevněno tráva : 29,3*2*0,1 | E13: 5.86
C14: nezpevněno : 1,3*2*0,1 | E14: 0.26
C15: zahrada : 16,4*2*0,2 | E15: 6.56
C16: Mezisoučet | E16: 12.68
C17: stoka A2.1 :
C18: nezpevněno tráva : 6,6*2*0,1 | E18: 1.32
C19: zahrada : 0,4*2*0,2 | E19: 0.16
C20: Mezisoučet | E20: 1.48
B21: 130 90 Bourání konstrukcí v hloubených vykopávkách | AC21: 0
B22: s přemístěním suti na hromady na vzdálenost do 20 m nebo s uložením na dopravní prostředek, | AE22: SPX
A23: 2 | B23: 130901121R00 | C23: ...z betonu, prostého, pneumatickým kladivem | D23: m3 | E23: 0.48773 | G23: =ROUND(E23*F23,2) -> 0 | H23: 800-1 | I23: RTS 17/ I | AE23: POL | AM23: 21
C24: bourání stáv. kanalizace :
C25: DN500 : 0,9*3,1416*(0,325*0,325-0,25*0,25)*4 | E25: 0.48773
B26: 132 20 Hloubení rýh šířky přes 60 do 200 cm | AC26: 0
B27: zapažených i nezapažených, s urovnáním dna do předepsaného profilu a spádu, s případně nutným přehozením výkopku na vzdálenost do 3 m ve výkopišti, s přehozením výkopku na přilehlém terénu na vzdálenost do 5 m od podélné osy rýhy nebo s naložením výkopku na dopravní prostředek. | AE27: SPX | AZ27: =B27 -> zapažených i nezapažených, s urovnáním dna do předepsaného profilu a spádu, s případně nutným přehozením výkopku na vzdálenost do 3 m ve výkopišti, s přehozením výkopku na přilehlém terénu na vzdálenost do 5 m od podélné osy rýhy nebo s naložením výkopku na dopravní prostředek.
A28: 3 | B28: 132201219R00 | C28: ...příplatek za lepivost, v hornině 3, | D28: m3 | E28: 29.44053 | G28: =ROUND(E28*F28,2) -> 0 | H28: 800-1 | I28: RTS 17/ I | AE28: POL | AM28: 21
C29: lepivost 50% :
C30: ruční výkop :
C31: stoka A2 : 142,92*0,37*0,5 | E31: 26.4402
C32: stoka A2.1 : 16,218*0,37*0,5 | E32: 3.00033
C33: Mezisoučet | E33: 29.44053
A34: 4 | B34: 132301219R00 | C34: ...příplatek za lepivost, v hornině 4, | D34: m3 | E34: 35.80605 | G34: =ROUND(E34*F34,2) -> 0 | H34: 800-1 | I34: RTS 17/ I | AE34: POL | AM34: 21
C35: lepivost 50% :
C36: ruční výkop :
C37: stoka A2 : 142,92*0,45*0,5 | E37: 32.157
C38: stoka A2.1 : 16,218*0,45*0,5 | E38: 3.64905
C39: Mezisoučet | E39: 35.80605
B40: 138 Dolamování hloubených vykopávek | AC40: 0
B41: zapažených i nezapažených v hor. 5 - 7 s případným nutným přemístěním výkopku ve výkopišti, bez naložení. | AE41: SPX
B42: 138 2 rýh ve vrstvě tloušťky do 500 mm | AC42: 1
A43: 5 | B43: 138401201R00 | C43: ...v hornině 5 | D43: m3 | E43: 23.8707 | G43: =ROUND(E43*F43,2) -> 0 | H43: 800-1 | I43: RTS 17/ I | AE43: POL | AM43: 21
C44: ruční výkop - hornina tř.5 - 15% :
C45: stoka A2 : 142,92*0,15 | E45: 21.438
C46: stoka A2.1 : 16,218*0,15 | E46: 2.4327
C47: Mezisoučet | E47: 23.8707
B48: 138 Dolamování hloubených vykopávek | AC48: 0
B49: zapažených i nezapažených v hor. 5 - 7 s případným nutným přemístěním výkopku ve výkopišti, bez naložení. | AE49: SPX
B50: 138 2 rýh ve vrstvě tloušťky do 500 mm | AC50: 1
A51: 6 | B51: 138501201R00 | C51: ...v hornině 6 | D51: m3 | E51: 4.77414 | G51: =ROUND(E51*F51,2) -> 0 | H51: 800-1 | I51: RTS 17/ I | AE51: POL | AM51: 21
C52: ruční výkop - hornina tř.6 - 3% :
C53: stoka A2 : 142,92*0,03 | E53: 4.2876
C54: stoka A2.1 : 16,218*0,03 | E54: 0.48654
C55: Mezisoučet | E55: 4.77414
B56: 139 6 Ruční výkop jam, rýh a šachet | AC56: 0
B57: s přehozením na vzdálenost do 5 m nebo s naložením na ruční dopravní prostředek | AE57: SPX
A58: 7 | B58: 139601102R00 | C58: ...v hornině 3 | D58: m3 | E58: 58.88106 | G58: =ROUND(E58*F58,2) -> 0 | H58: 800-1 | I58: RTS 17/ I | AE58: POL | AM58: 21
C59: Začátek provozního součtu
C60: stoka A2 :
C61: PVC DN150 :
C62: příložné pažení : 94*0,9*(2,16+1,6)/2 | E62: 159.048
C63: odpočet povrchů :
C64: státní komunikace : -0,5*0,9*0,6 | E64: -0.27
C65: MK asfalt : -8,9*0,9*0,45 | E65: -3.6045
C66: místní komunikace makadam : -14,4*0,9*0,45 | E66: -5.832
C67: cesta beton : -1,5*0,9*0,3 | E67: -0.405
C68: chodník asfalt : -1,5*0,9*0,23 | E68: -0.3105
C69: nezpevněno tráva : -29,3*0,9*0,1 | E69: -2.637
C70: nezpevněno : -1,3*0,9*0,1 | E70: -0.117
C71: zahrada : -16,4*0,9*0,2 | E71: -2.952
C72: Mezisoučet | E72: 142.92
C73: stoka A2.1 :
C74: PVC DN150 :
C75: příložné pažení : 11,8*0,9*(1,9+1,6)/2 | E75: 18.585
C76: odpočet povrchů :
C77: MK asfalt : -3,9*0,9*0,45 | E77: -1.5795
C78: cesta štěrk : -0,9*0,9*0,15 | E78: -0.1215
C79: nezpevněno tráva : -6,6*0,9*0,1 | E79: -0.594
C80: zahrada : -0,4*0,9*0,2 | E80: -0.072
C81: Mezisoučet | E81: 16.218
C82: Konec provozního součtu
C83: ruční výkop - hornina tř.3 - 37% :
C84: stoka A2 : 142,92*0,37 | E84: 52.8804
C85: stoka A2.1 : 16,218*0,37 | E85: 6.00066
C86: Mezisoučet | E86: 58.88106
A87: 8 | B87: 139601103R00 | C87: ...v hornině 4 | D87: m3 | E87: 73.07172 | G87: =ROUND(E87*F87,2) -> 0 | H87: 800-1 | I87: RTS 17/ I | AE87: POL | AM87: 21
C88: ruční výkop - hornina tř.4 - 45% :
C89: stoka A2 : 142,92*0,45 | E89: 64.314
C90: stoka A2.1 : 16,218*0,54 | E90: 8.75772
C91: Mezisoučet | E91: 73.07172
B92: 151 10 Zřízení pažení a rozepření stěn rýh | AC92: 0
B93: pro podzemní vedení pro všechny šířky rýhy, | AE93: SPX
A94: 9 | B94: 151101101R00 | C94: ...příložné pro jakoukoliv mezerovitost, hloubky do 2 m | D94: m2 | E94: 394.74 | G94: =ROUND(E94*F94,2) -> 0 | H94: 800-1 | I94: RTS 17/ I | AE94: POL | AM94: 21
C95: stoka A2 :
C96: příložné pažení : 94*2*(2,16+1,6)/2 | E96: 353.44
C97: Mezisoučet | E97: 353.44
C98: stoka A2.1 :
C99: příložné pažení : 11,8*2*(1,9+1,6)/2 | E99: 41.3
C100: Mezisoučet | E100: 41.3
...

Sheet SO02 02.3 Pol
A1: Položkový soupis prací a dodávek | AC1: #LevelZatrideniCeniku#
A2: S: | B2: 4529 | C2: Kanalizace Valašské Příkazy
A3: O: | B3: SO02 | C3: Stoka A2 | AC3: ING
A4: R: | B4: 02.3 | C4: Stoka A2 - opravy místních komunikací
AN5: 15 | AO5: 21
A6: P.č. | B6: Číslo položky | C6: Název položky | D6: MJ | E6: množství | F6: cena / MJ | G6: celkem | H6: Ceník | I6: Cen. soustava | AN6: =SUMIF(AM8:AM237,AN5,G8:G237) -> 0 | AO6: =SUMIF(AM8:AM237,AO5,G8:G237) -> 0
B7: Ceník, kapitola | C7: Poznámka uchazeče
A8: Díl: | B8: 11 | C8: Přípravné a přidružené práce | F8: =SUM(G9:G37) -> 0 | AE8: DIL
B9: 113 10-7 Odstranění podkladů nebo krytů | AC9: 0
A10: 1 | B10: 113107315R00 | C10: ...z kameniva těženého, v ploše jednotlivě do 50 m2, tloušťka vrstvy 150 mm | D10: m2 | E10: 172.06 | G10: =ROUND(E10*F10,2) -> 0 | H10: 822-1 | I10: RTS 17/ I | AE10: POL | AM10: 21
C11: rozšíření opravy :
C12: MK - penetr. makadam :
C13: Položka pořadí 8 : 166.94000 | E13: 166.94
C14: rozšíření opravy od hrany rýhy 2x 0,2 m :
C15: MK - asfalt :
C16: Položka pořadí 9 : 5.12000 | E16: 5.12
A17: 2 | B17: 113107520R00 | C17: ...z kameniva hrubého drceného, v ploše jednotlivě do 50 m2, tloušťka vrstvy 200 mm | D17: m2 | E17: 166.94 | G17: =ROUND(E17*F17,2) -> 0 | H17: 822-1 | I17: RTS 17/ I | AE17: POL | AM17: 21
C18: MK - penetr. makadam :
C19: Položka pořadí 8 : 166.94000 | E19: 166.94
A20: 3 | B20: 113111120R00 | C20: ...z kameniva zpevněného cementem, v ploše jednotlivě do 50 m2, tloušťka vrstvy 200 mm | D20: m2 | E20: 5.12 | G20: =ROUND(E20*F20,2) -> 0 | H20: 822-1 | I20: RTS 17/ I | AE20: POL | AM20: 21
C21: rozšíření opravy od hrany rýhy 2x 0,2 m :
C22: MK - asfalt :
C23: Položka pořadí 9 : 5.12000 | E23: 5.12
B24: 979 08-2 Vodorovná doprava suti po suchu | AC24: 0
A25: 4 | B25: 979082213R00 | C25: ...bez naložení, ale se složením a hrubým urovnáním na vzdálenost do 1 km | D25: t | E25: 132.849 | G25: =ROUND(E25*F25,2) -> 0 | H25: 822-1 | I25: RTS 17/ I | AE25: POL | AM25: 21
C26: Demontážní hmotnosti z položek s pořadovými čísly: :
C27: 1,2,3, :
C28: Součet: : 132,84900 | E28: 132.849
A29: 5 | B29: 979082219R00 | C29: ...příplatek k ceně za každý další i započatý 1 km přes 1 km | D29: t | E29: 3055.5271 | G29: =ROUND(E29*F29,2) -> 0 | H29: 822-1 | I29: RTS 17/ I | AE29: POL | AM29: 21
C30: Demontážní hmotnosti z položek s pořadovými čísly: :
C31: 1,2,3, :
C32: Součet: : 3055,52707 | E32: 3055.5271
B33: 979 08-4 Poplatek za skládku | AC33: 0
A34: 6 | B34: 979990001R00 | C34: ...stavební suti | D34: t | E34: 132.849 | G34: =ROUND(E34*F34,2) -> 0 | H34: 801-3 | I34: RTS 17/ I | AE34: POL | AM34: 21
C35: Demontážní hmotnosti z položek s pořadovými čísly: :
C36: 1,2,3, :
C37: Součet: : 132,84900 | E37: 132.849
A38: Díl: | B38: 113 | C38: Přípravné a přidružené práce - živice | F38: =SUM(G39:G79) -> 0 | AE38: DIL
B39: 113 10-7 Odstranění podkladů nebo krytů | AC39: 0
A40: 7 | B40: 113108305R00 | C40: ...živičných, v ploše jednotlivě do 50 m2, tloušťka vrstvy 50 mm | D40: m2 | E40: 5.12 | G40: =ROUND(E40*F40,2) -> 0 | H40: 822-1 | I40: RTS 17/ I | AE40: POL | AM40: 21
C41: rozšíření opravy od hrany rýhy 2x 0,2 m :
C42: MK - asfalt :
C43: Položka pořadí 9 : 5.12000 | E43: 5.12
A44: 8 | B44: 113108310R00 | C44: ...živičných, v ploše jednotlivě do 50 m2, tloušťka vrstvy 100 mm | D44: m2 | E44: 166.94 | G44: =ROUND(E44*F44,2) -> 0 | H44: 822-1 | I44: RTS 17/ I | AE44: POL | AM44: 21
C45: celková oprava MK - penetrační makadam :
C46: Položka pořadí 26 : 432.57000 | E46: 432.57
C47: odpočet odstranění v 02.1 a 02.2 :
C48: stoka A2 :
C49: parkoviště makadam : -92,7*1,1 | E49: -101.97
C50: -2,0*1,1*5 | E50: -11
C51: RŠ : -2,6*(2,6-1,1)*5 | E51: -19.5
C52: UV : -1,6*1,6*5 | E52: -12.8
C53: místní komunikace makadam - typ I : -29,6*1,1 | E53: -32.56
C54: stoka A2.1 :
C55: místní komunikace makadam - typ II : -56,1*1,1 | E55: -61.71
C56: RŠ : -2,6*(2,6-1,1)*2 | E56: -7.8
C57: RŠ : -(2,6*2,6/2+2,6*(2,6-1,1)/2) | E57: -5.33
C58: odbočky :
C59: místní komunikace makadam : -14,4*0,9 | E59: -12.96
B60: 113 15 Odstranění podkladu, krytu frézováním | AC60: 0
B61: s naložením na dopravní prostředek, očištění povrchu od frézované plochy, opotřebování frézovacích nástrojů (nožů, upínacích kroužků, držáků) nutné ruční odstranění (vybourání) živičného krytu kolem překážek, | AE61: SPX | AZ61: =B61 -> s naložením na dopravní prostředek, očištění povrchu od frézované plochy, opotřebování frézovacích nástrojů (nožů, upínacích kroužků, držáků) nutné ruční odstranění (vybourání) živičného krytu kolem překážek,
A62: 9 | B62: 113151114R00 | C62: ...povrch živičný, plochy do 500 m2 na jednom objektu nebo při provádění pruhu šířky do 750 mm, tloušťky 50 mm | D62: m2 | E62: 5.12 | G62: =ROUND(E62*F62,2) -> 0 | H62: 822-1 | I62: RTS 17/ I | AE62: POL | AM62: 21
C63: rozšíření opravy od hrany rýhy 2x 0,2 m :
C64: odbočky :
C65: MK - asfalt : (8,9+3,9)*0,2*2 | E65: 5.12
B66: 979 08-2 Vodorovná doprava suti po suchu | AC66: 0
A67: 10 | B67: 979082213R00 | C67: ...bez naložení, ale se složením a hrubým urovnáním na vzdálenost do 1 km | D67: t | E67: 37.8532 | G67: =ROUND(E67*F67,2) -> 0 | H67: 822-1 | I67: RTS 17/ I | AE67: POL | AM67: 21
C68: Demontážní hmotnosti z položek s pořadovými čísly: :
C69: 7,8,9, :
C70: Součet: : 37,85320 | E70: 37.8532
A71: 11 | B71: 979082219R00 | C71: ...příplatek k ceně za každý další i započatý 1 km přes 1 km | D71: t | E71: 870.6236 | G71: =ROUND(E71*F71,2) -> 0 | H71: 822-1 | I71: RTS 17/ I | AE71: POL | AM71: 21
C72: Demontážní hmotnosti z položek s pořadovými čísly: :
C73: 7,8,9, :
C74: Součet: : 870,62360 | E74: 870.6236
B75: 979 08-4 Poplatek za skládku | AC75: 0
A76: 12 | B76: 979990113R00 | C76: ...obalovaný asfalt | D76: t | E76: 37.8532 | G76: =ROUND(E76*F76,2) -> 0 | H76: 801-3 | I76: RTS 17/ I | AE76: POL | AM76: 21
C77: Demontážní hmotnosti z položek s pořadovými čísly: :
C78: 7,8,9, :
C79: Součet: : 37,85320 | E79: 37.8532
A80: Díl: | B80: 5 | C80: Komunikace | F80: =SUM(G81:G195) -> 0 | AE80: DIL
B81: 564 2.-11 Podklad nebo podsyp ze štěrkopísku | AC81: 0
B82: s rozprostřením, vlhčením a zhutněním | AE82: SPX
A83: 13 | B83: 564251111R00 | C83: ...tloušťka po zhutnění 150 mm | D83: m2 | E83: 449.21 | G83: =ROUND(E83*F83,2) -> 0 | H83: 822-1 | I83: RTS 17/ I | AE83: POL | AM83: 21
C84: MK - asfalt :
C85: Položka pořadí 27 : 16.64000 | E85: 16.64
C86: MK - penetr. makadam :
C87: Položka pořadí 26 : 432.57000 | E87: 432.57
B88: 564 72-1 Podklad nebo kryt z kameniva hrubého drceného | AC88: 0
B89: velikost 32 - 63 mm s rozprostřením a zhutněním | AE89: SPX
A90: 14 | B90: 564761111R00 | C90: ...tloušťka po zhutnění 200 mm | D90: m2 | E90: 432.57 | G90: =ROUND(E90*F90,2) -> 0 | H90: 822-1 | I90: RTS 17/ I | AE90: POL | AM90: 21
C91: MK - penetr. makadam :
C92: Položka pořadí 26 : 432.57000 | E92: 432.57
B93: 564 72-2 Podklad nebo kryt z kameniva hrubého s výplň. kam. | AC93: 0
B94: kamenivo hrubé drcené vel. 32 - 63 mm s výplňovým kamenivem (vibrovaný štěrk), s rozprostřením, vlhčením a zhutněním | AE94: SPX
A95: 15 | B95: 564752111R00 | C95: ...tloušťka po zhutnění 150 mm | D95: m2 | E95: 26.93 | G95: =ROUND(E95*F95,2) -> 0 | H95: 822-1 | I95: RTS 17/ I | AE95: POL | AM95: 21
C96: MK - štěrk :
C97: Položka pořadí 23 : 26.93000 | E97: 26.93
B98: 564 8 Podklad ze štěrkodrti s rozprostřením a zhutněním | AC98: 0
A99: 16 | B99: 564831111R00 | C99: ...tloušťka po zhutnění 100 mm | D99: m2 | E99: 96.31 | G99: =ROUND(E99*F99,2) -> 0 | H99: 822-1 | I99: RTS 17/ I | AE99: POL | AM99: 21
C100: chodník - litý asfalt :
...

Sheet SO02 02.4 Pol
A1: Položkový soupis prací a dodávek | AC1: #LevelZatrideniCeniku#
A2: S: | B2: 4529 | C2: Kanalizace Valašské Příkazy
A3: O: | B3: SO02 | C3: Stoka A2 | AC3: ING
A4: R: | B4: 02.4 | C4: Stoka A2 - opravy krajských komunikací
AN5: 15 | AO5: 21
A6: P.č. | B6: Číslo položky | C6: Název položky | D6: MJ | E6: množství | F6: cena / MJ | G6: celkem | H6: Ceník | I6: Cen. soustava | AN6: =SUMIF(AM8:AM160,AN5,G8:G160) -> 0 | AO6: =SUMIF(AM8:AM160,AO5,G8:G160) -> 0
B7: Ceník, kapitola | C7: Poznámka uchazeče
A8: Díl: | B8: 11 | C8: Přípravné a přidružené práce | F8: =SUM(G9:G50) -> 0 | AE8: DIL
B9: 113 10-7 Odstranění podkladů nebo krytů | AC9: 0
A10: 1 | B10: 113107520R00 | C10: ...z kameniva hrubého drceného, v ploše jednotlivě do 50 m2, tloušťka vrstvy 200 mm | D10: m2 | E10: 2.85 | G10: =ROUND(E10*F10,2) -> 0 | H10: 822-1 | I10: RTS 17/ I | AE10: POL | AM10: 21
C11: dobourání 15 cm na obě strany :
C12: stoka :
C13: stoka A2 :
C14: státní komunikace : 9*(0,15*2) | E14: 2.7
C15: odbočky :
C16: stoka A2 :
C17: státní komunikace : 0,5*(0,15*2) | E17: 0.15
C18: Mezisoučet | E18: 2.85
A19: 2 | B19: 113107545R00 | C19: ...z kameniva hrubého drceného, v ploše jednotlivě do 50 m2, tloušťka vrstvy 450 mm | D19: m2 | E19: 10.35 | G19: =ROUND(E19*F19,2) -> 0 | H19: 822-1 | I19: RTS 17/ I | AE19: POL | AM19: 21
C20: odstranění provizorní opravy :
C21: stoka :
C22: stoka A2 :
C23: státní komunikace : 9*1,1 | E23: 9.9
C24: odbočky :
C25: stoka A2 :
C26: státní komunikace : 0,5*0,9 | E26: 0.45
C27: Mezisoučet | E27: 10.35
A28: 3 | B28: 113111120R00 | C28: ...z kameniva zpevněného cementem, v ploše jednotlivě do 50 m2, tloušťka vrstvy 200 mm | D28: m2 | E28: 5.7 | G28: =ROUND(E28*F28,2) -> 0 | H28: 822-1 | I28: RTS 17/ I | AE28: POL | AM28: 21
C29: dobourání 30 cm na obě strany :
C30: stoka :
C31: stoka A2 :
C32: státní komunikace : 9*(0,3*2) | E32: 5.4
C33: odbočky :
C34: stoka A2 :
C35: státní komunikace : 0,5*(0,3*2) | E35: 0.3
C36: Mezisoučet | E36: 5.7
B37: 979 08-2 Vodorovná doprava suti po suchu | AC37: 0
A38: 4 | B38: 979082213R00 | C38: ...bez naložení, ale se složením a hrubým urovnáním na vzdálenost do 1 km | D38: t | E38: 14.4124 | G38: =ROUND(E38*F38,2) -> 0 | H38: 822-1 | I38: RTS 17/ I | AE38: POL | AM38: 21
C39: Demontážní hmotnosti z položek s pořadovými čísly: :
C40: 1,2,3, :
C41: Součet: : 14,41240 | E41: 14.4124
A42: 5 | B42: 979082219R00 | C42: ...příplatek k ceně za každý další i započatý 1 km přes 1 km | D42: t | E42: 331.48525 | G42: =ROUND(E42*F42,2) -> 0 | H42: 822-1 | I42: RTS 17/ I | AE42: POL | AM42: 21
C43: Demontážní hmotnosti z položek s pořadovými čísly: :
C44: 1,2,3, :
C45: Součet: : 331,48525 | E45: 331.48525
B46: 979 08-4 Poplatek za skládku | AC46: 0
A47: 6 | B47: 979990001R00 | C47: ...stavební suti | D47: t | E47: 14.4124 | G47: =ROUND(E47*F47,2) -> 0 | H47: 801-3 | I47: RTS 17/ I | AE47: POL | AM47: 21
C48: Demontážní hmotnosti z položek s pořadovými čísly: :
C49: 1,2,3, :
C50: Součet: : 14,41240 | E50: 14.4124
A51: Díl: | B51: 113 | C51: Přípravné a přidružené práce - živice | F51: =SUM(G52:G96) -> 0 | AE51: DIL
B52: 113 10-7 Odstranění podkladů nebo krytů | AC52: 0
A53: 7 | B53: 113108315R00 | C53: ...živičných, v ploše jednotlivě do 50 m2, tloušťka vrstvy 150 mm | D53: m2 | E53: 18.9 | G53: =ROUND(E53*F53,2) -> 0 | H53: 822-1 | I53: RTS 17/ I | AE53: POL | AM53: 21
C54: odstranění provizorní opravy :
C55: stoka :
C56: stoka A2 :
C57: státní komunikace : 9*1,1 | E57: 9.9
C58: odbočky :
C59: stoka A2 :
C60: státní komunikace : 0,5*0,9 | E60: 0.45
C61: Mezisoučet | E61: 10.35
C62: dobourání 45 cm na obě strany :
C63: stoka :
C64: stoka A2 :
C65: státní komunikace : 9*(0,45*2) | E65: 8.1
C66: odbočky :
C67: stoka A2 :
C68: státní komunikace : 0,5*(0,45*2) | E68: 0.45
C69: Mezisoučet | E69: 8.55
B70: 113 15 Odstranění podkladu, krytu frézováním | AC70: 0
B71: s naložením na dopravní prostředek, očištění povrchu od frézované plochy, opotřebování frézovacích nástrojů (nožů, upínacích kroužků, držáků) nutné ruční odstranění (vybourání) živičného krytu kolem překážek, | AE71: SPX | AZ71: =B71 -> s naložením na dopravní prostředek, očištění povrchu od frézované plochy, opotřebování frézovacích nástrojů (nožů, upínacích kroužků, držáků) nutné ruční odstranění (vybourání) živičného krytu kolem překážek,
A72: 8 | B72: 113151114R00 | C72: ...povrch živičný, plochy do 500 m2 na jednom objektu nebo při provádění pruhu šířky do 750 mm, tloušťky 50 mm | D72: m2 | E72: 18.15 | G72: =ROUND(E72*F72,2) -> 0 | H72: 822-1 | I72: RTS 17/ I | AE72: POL | AM72: 21
C73: ofrézování na šíři 3m :
C74: stoka :
C75: stoka A2 :
C76: státní komunikace : 9*3 | E76: 27
C77: státní komunikace : -9*1,1 | E77: -9.9
C78: odbočky :
C79: stoka A2 :
C80: státní komunikace : 0,5*3 | E80: 1.5
C81: státní komunikace : -0,5*0,9 | E81: -0.45
C82: Mezisoučet | E82: 18.15
B83: 979 08-2 Vodorovná doprava suti po suchu | AC83: 0
A84: 9 | B84: 979082213R00 | C84: ...bez naložení, ale se složením a hrubým urovnáním na vzdálenost do 1 km | D84: t | E84: 8.2335 | G84: =ROUND(E84*F84,2) -> 0 | H84: 822-1 | I84: RTS 17/ I | AE84: POL | AM84: 21
C85: Demontážní hmotnosti z položek s pořadovými čísly: :
C86: 7,8, :
C87: Součet: : 8,23350 | E87: 8.2335
A88: 10 | B88: 979082219R00 | C88: ...příplatek k ceně za každý další i započatý 1 km přes 1 km | D88: t | E88: 189.3705 | G88: =ROUND(E88*F88,2) -> 0 | H88: 822-1 | I88: RTS 17/ I | AE88: POL | AM88: 21
C89: Demontážní hmotnosti z položek s pořadovými čísly: :
C90: 7,8, :
C91: Součet: : 189,37050 | E91: 189.3705
B92: 979 08-4 Poplatek za skládku | AC92: 0
A93: 11 | B93: 979990113R00 | C93: ...obalovaný asfalt | D93: t | E93: 8.2335 | G93: =ROUND(E93*F93,2) -> 0 | H93: 801-3 | I93: RTS 17/ I | AE93: POL | AM93: 21
C94: Demontážní hmotnosti z položek s pořadovými čísly: :
C95: 7,8, :
C96: Součet: : 8,23350 | E96: 8.2335
A97: Díl: | B97: 5 | C97: Komunikace | F97: =SUM(G98:G150) -> 0 | AE97: DIL
B98: 564 8 Podklad ze štěrkodrti s rozprostřením a zhutněním | AC98: 0
A99: 12 | B99: 564861111R00 | C99: ...tloušťka po zhutnění 200 mm | D99: m2 | E99: 13.2 | G99: =ROUND(E99*F99,2) -> 0 | H99: 822-1 | I99: RTS 17/ I | AE99: POL | AM99: 21
C100: ŠD - tl. 20cm :
...

Sheet Rekapitulace Objekt SO03
A1: Stavba : | B1: =Stavba!CisloStavby -> 4529 | C1: =Stavba!NazevStavby -> Kanalizace Valašské Příkazy
A2: Objekt : | B2: SO03 | C2: Stoka A3 | G2: JKSO : | H2: 827.21.A3.1.1 | O2: ING
A4: Rekapitulace stavebního objektu
A6: Zákl. údaje | B6: =B2 -> SO03
B7: =C2 -> Stoka A3
A9: Třídník stavebních objektů: | B9: 827 | C9: Vedení trubní dálková přípojná
B10: 827.2 | C10: Kanalizace trubní
B11: 827.21 | C11: sítě kanalizační
B12: 827.21.A | C12: profil potrubí DN do 1000 mm
B13: 827.21.A3 | C13: Profil potrubí DN do 300 mm
B15: 827.21.A3.1 | C15: potrubí z trub z plastických hmot a sklolaminátu
B17: 827.21.A3.1.1 | C17: novostavba objektu
A19: Rozsah: | B19: 76 | C19: m
A21: Rekapitulace soupisů náležejících k objektu
A22: Soupis | H22: Cena (Kč)
A23: 03.1 | B23: Stoka A3 - kanalizační stoka | H23: ='SO03 03.1 Pol'!G428 -> 0 | O23: ='SO03 03.1 Pol'!AN6 -> 0 | P23: ='SO03 03.1 Pol'!AO6 -> 0
A24: 03.2 | B24: Stoka A3 - odbočky pro domovní přípojky | H24: ='SO03 03.2 Pol'!G316 -> 0 | O24: ='SO03 03.2 Pol'!AN6 -> 0 | P24: ='SO03 03.2 Pol'!AO6 -> 0
A25: 03.3 | B25: Stoka A3 - opravy místních komunikací | H25: ='SO03 03.3 Pol'!G159 -> 0 | O25: ='SO03 03.3 Pol'!AN6 -> 0 | P25: ='SO03 03.3 Pol'!AO6 -> 0
B26: Celkem objekt | D26: =B2 -> SO03 | H26: =SUM(H23:H25) -> 0
H28: Rekapitulace DPH | O28: =H29 -> 0 | P28: =H31 -> 0
A29: Základ pro DPH | D29: 15 | E29: % | H29: =SUM(O23:O26) -> 0
A30: DPH | D30: 15 | E30: % | H30: =H29*(D30/100) -> 0
A31: Základ pro DPH | D31: 21 | E31: % | H31: =SUM(P23:P26) -> 0
A32: DPH | D32: 21 | E32: % | H32: =H31*(D32/100) -> 0
A33: Celkem za objekt s DPH | H33: =SUM(H29:H32) -> 0
A35: Rekapitulace soupisu | D35: 03.1 | E35: Stoka A3 - kanalizační stoka | BC35: =E35 -> Stoka A3 - kanalizační stoka
A36: Stavební díl | H36: Cena (Kč)
A37: 1 | B37: Zemní práce | H37: ='SO03 03.1 Pol'!F8 -> 0
A38: 11 | B38: Přípravné a přidružené práce | H38: ='SO03 03.1 Pol'!F245 -> 0
A39: 113 | B39: Přípravné a přidružené práce - živice | H39: ='SO03 03.1 Pol'!F269 -> 0
A40: 45 | B40: Podkladní a vedlejší konstrukce | H40: ='SO03 03.1 Pol'!F288 -> 0
A41: 8 | B41: Trubní vedení | H41: ='SO03 03.1 Pol'!F324 -> 0
A42: 9 | B42: Ostatní konstrukce, bourání | H42: ='SO03 03.1 Pol'!F393 -> 0
A43: 91 | B43: Doplňující práce na komunikaci | H43: ='SO03 03.1 Pol'!F399 -> 0
A44: 99 | B44: Staveništní přesun hmot | H44: ='SO03 03.1 Pol'!F418 -> 0
B45: Celkem soupis | D45: =D35 -> 03.1 | H45: =SUM(H37:H44) -> 0
A47: Rekapitulace soupisu | D47: 03.2 | E47: Stoka A3 - odbočky pro domovní přípojky | BC47: =E47 -> Stoka A3 - odbočky pro domovní přípojky
A48: Stavební díl | H48: Cena (Kč)
A49: 1 | B49: Zemní práce | H49: ='SO03 03.2 Pol'!F8 -> 0
A50: 11 | B50: Přípravné a přidružené práce | H50: ='SO03 03.2 Pol'!F158 -> 0
A51: 113 | B51: Přípravné a přidružené práce - živice | H51: ='SO03 03.2 Pol'!F188 -> 0
A52: 45 | B52: Podkladní a vedlejší konstrukce | H52: ='SO03 03.2 Pol'!F212 -> 0
A53: 8 | B53: Trubní vedení | H53: ='SO03 03.2 Pol'!F217 -> 0
A54: 9 | B54: Ostatní konstrukce, bourání | H54: ='SO03 03.2 Pol'!F296 -> 0
A55: 99 | B55: Staveništní přesun hmot | H55: ='SO03 03.2 Pol'!F306 -> 0
B56: Celkem soupis | D56: =D47 -> 03.2 | H56: =SUM(H49:H55) -> 0
A58: Rekapitulace soupisu | D58: 03.3 | E58: Stoka A3 - opravy místních komunikací | BC58: =E58 -> Stoka A3 - opravy místních komunikací
A59: Stavební díl | H59: Cena (Kč)
A60: 11 | B60: Přípravné a přidružené práce | H60: ='SO03 03.3 Pol'!F8 -> 0
A61: 113 | B61: Přípravné a přidružené práce - živice | H61: ='SO03 03.3 Pol'!F42 -> 0
A62: 5 | B62: Komunikace | H62: ='SO03 03.3 Pol'!F72 -> 0
A63: 9 | B63: Ostatní konstrukce, bourání | H63: ='SO03 03.3 Pol'!F137 -> 0
A64: 99 | B64: Staveništní přesun hmot | H64: ='SO03 03.3 Pol'!F150 -> 0
B65: Celkem soupis | D65: =D58 -> 03.3 | H65: =SUM(H60:H64) -> 0

Sheet SO03 03.1 Pol
A1: Položkový soupis prací a dodávek | AC1: #LevelZatrideniCeniku#
A2: S: | B2: 4529 | C2: Kanalizace Valašské Příkazy
A3: O: | B3: SO03 | C3: Stoka A3 | AC3: ING
A4: R: | B4: 03.1 | C4: Stoka A3 - kanalizační stoka
AN5: 15 | AO5: 21
A6: P.č. | B6: Číslo položky | C6: Název položky | D6: MJ | E6: množství | F6: cena / MJ | G6: celkem | H6: Ceník | I6: Cen. soustava | AN6: =SUMIF(AM8:AM428,AN5,G8:G428) -> 0 | AO6: =SUMIF(AM8:AM428,AO5,G8:G428) -> 0
B7: Ceník, kapitola | C7: Poznámka uchazeče
A8: Díl: | B8: 1 | C8: Zemní práce | F8: =SUM(G9:G244) -> 0 | AE8: DIL
B9: 119 00-14 Dočasné zajištění podzemního potrubí nebo vedení | AC9: 0
B10: ve výkopišti ve stavu a poloze, ve kterých byla na začátku zemních prací, a to podepřením, vzepřením nebo vyvěšením, případně s ochranným bedněním, se zřízením a odstraněním zajišťovací konstrukce a včetně opotřebení použitých materiálů, | AE10: SPX | AZ10: =B10 -> ve výkopišti ve stavu a poloze, ve kterých byla na začátku zemních prací, a to podepřením, vzepřením nebo vyvěšením, případně s ochranným bedněním, se zřízením a odstraněním zajišťovací konstrukce a včetně opotřebení použitých materiálů,
B11: 119 00-141 ocelového potrubí | AC11: 1
A12: 1 | B12: 119001401R00 | C12: ...DN do 200 mm | D12: m | E12: 2.2 | G12: =ROUND(E12*F12,2) -> 0 | H12: 800-1 | I12: RTS 17/ I | AE12: POL | AM12: 21
C13: křížení inženýrských sítí :
C14: stoka A3 :
C15: Plynovod : 1,1*2 | E15: 2.2
B16: 121 10-11 Sejmutí ornice | AC16: 0
B17: nebo lesní půdy, s vodorovným přemístěním na hromady v místě upotřebení nebo na dočasné či trvalé skládky se složením | AE17: SPX
A18: 2 | B18: 121101101R00 | C18: ...s přemístěním na vzdálenost do 50 m | D18: m3 | E18: 12.224 | G18: =ROUND(E18*F18,2) -> 0 | H18: 800-1 | I18: RTS 17/ I | AE18: POL | AM18: 21
C19: stoka A3 :
C20: nezp.tráva : 58,0*2,0*0,1 | E20: 11.6
C21: rozš. pro Š : 2,6*(2,6-2,0)*0,1*4 | E21: 0.624
B22: 130 00 Příplatek k cenám za ztížené vykopávky | AC22: 0
B23: Příplatek k cenám hloubených vykopávek za ztížení vykopávky v blízkosti podzemního vedení nebo výbušnin pro jakoukoliv třídu horniny. | AE23: SPX
A24: 3 | B24: 130001101R00 | C24: ...v horninách jakékoliv třídy | D24: m3 | E24: 6.248 | G24: =ROUND(E24*F24,2) -> 0 | H24: 800-1 | I24: RTS 17/ I | AE24: POL | AM24: 21
C25: křížení inženýrských sítí :
C26: plynovod : 2,0*1,1*(1,7-0,45) | E26: 2.75
C27: plynovod : 2,0*1,1*(1,74-0,15) | E27: 3.498
B28: 130 90 Bourání konstrukcí v hloubených vykopávkách | AC28: 0
B29: s přemístěním suti na hromady na vzdálenost do 20 m nebo s uložením na dopravní prostředek, | AE29: SPX
A30: 4 | B30: 130901121R00 | C30: ...z betonu, prostého, pneumatickým kladivem | D30: m3 | E30: 0.20735 | G30: =ROUND(E30*F30,2) -> 0 | H30: 800-1 | I30: RTS 17/ I | AE30: POL | AM30: 21
C31: bourání stáv. kanalizace :
C32: stáv. UV : 3,1416*(0,3*0,3-0,25*0,25)*2,4*1 | E32: 0.20735
B33: 132 20 Hloubení rýh šířky přes 60 do 200 cm | AC33: 0
B34: zapažených i nezapažených, s urovnáním dna do předepsaného profilu a spádu, s případně nutným přehozením výkopku na vzdálenost do 3 m ve výkopišti, s přehozením výkopku na přilehlém terénu na vzdálenost do 5 m od podélné osy rýhy nebo s naložením výkopku na dopravní prostředek. | AE34: SPX | AZ34: =B34 -> zapažených i nezapažených, s urovnáním dna do předepsaného profilu a spádu, s případně nutným přehozením výkopku na vzdálenost do 3 m ve výkopišti, s přehozením výkopku na přilehlém terénu na vzdálenost do 5 m od podélné osy rýhy nebo s naložením výkopku na dopravní prostředek.
A35: 5 | B35: 132201213R00 | C35: ...do 10000 m3, v hornině 3, hloubení strojně | D35: m3 | E35: 60.20492 | G35: =ROUND(E35*F35,2) -> 0 | H35: 800-1 | I35: RTS 17/ I | AE35: POL | AM35: 21
C36: hor.tř.III - 37% :
C37: stoka A3 - strojní výkop : 175,96*0,37 | E37: 65.1052
C38: Začátek provozního součtu
C39: PP DN250 :
C40: 76,0*1,1*1,75 | E40: 146.3
C41: rozš pro Š : (2,6*2,6*2,1-2,6/2*1,1*1,75*2)*5 | E41: 45.955
C42: odpočet povrchů :
C43: MK - penetr. makadam : -11,0*1,1*0,45 | E43: -5.445
C44: -2,6*(2,6-1,1)*0,45*1 | E44: -1.755
C45: MK - štěrk : -7,0*1,1*0,15 | E45: -1.155
C46: nezp.tráva : -58,0*1,1*0,1 | E46: -6.38
C47: -2,6*(2,6-1,1)*0,1*4 | E47: -1.56
C48: Mezisoučet | E48: 175.96
C49: Konec provozního součtu
C50: odpočet ruční výkop (křížení sítí) :
C51: Položka pořadí 13 : 4.90028*-1 | E51: -4.90028
A52: 6 | B52: 132201219R00 | C52: ...příplatek za lepivost, v hornině 3, | D52: m3 | E52: 32.5526 | G52: =ROUND(E52*F52,2) -> 0 | H52: 800-1 | I52: RTS 17/ I | AE52: POL | AM52: 21
C53: lepivost 50% :
C54: Položka pořadí 5 : 60.20492*0,5 | E54: 30.10246
C55: Položka pořadí 13 : 4.90028*0,5 | E55: 2.45014
A56: 7 | B56: 132301212R00 | C56: ...do 1000 m3, v hornině 4, hloubení strojně | D56: m3 | E56: 73.2222 | G56: =ROUND(E56*F56,2) -> 0 | H56: 800-1 | I56: RTS 17/ I | AE56: POL | AM56: 21
C57: hor.tř.IV - 45% :
C58: stoka A3 - strojní výkop : 175,96*0,45 | E58: 79.182
C59: odpočet ruční výkop (křížení sítí) :
C60: Položka pořadí 14 : 5.95980*-1 | E60: -5.9598
A61: 8 | B61: 132301219R00 | C61: ...příplatek za lepivost, v hornině 4, | D61: m3 | E61: 39.591 | G61: =ROUND(E61*F61,2) -> 0 | H61: 800-1 | I61: RTS 17/ I | AE61: POL | AM61: 21
C62: lepivost 50% :
C63: Položka pořadí 7 : 73.22220*0,5 | E63: 36.6111
C64: Položka pořadí 14 : 5.95980*0,5 | E64: 2.9799
A65: 9 | B65: 132401211R00 | C65: ...jakékoliv množství, v hornině 5, hloubení strojně | D65: m3 | E65: 24.4074 | G65: =ROUND(E65*F65,2) -> 0 | H65: 800-1 | I65: RTS 17/ I | AE65: POL | AM65: 21
C66: hor.tř.V - 15% :
C67: stoka A3 - strojní výkop : 175,96*0,15 | E67: 26.394
C68: odpočet ruční výkop, dolamování (křížení sítí) :
C69: Položka pořadí 11 : 1.98660*-1 | E69: -1.9866
A70: 10 | B70: 132501211R00 | C70: ...jakékoliv množství, v hornině 6, skalní frézou | D70: m3 | E70: 4.88148 | G70: =ROUND(E70*F70,2) -> 0 | H70: 800-1 | I70: RTS 17/ I | AE70: POL | AM70: 21
C71: hor.tř.VI - 3% :
C72: stoka A3 - strojní výkop : 175,96*0,03 | E72: 5.2788
C73: odpočet ruční výkop, dolamování (křížení sítí) :
C74: Položka pořadí 12 : 0.39732*-1 | E74: -0.39732
B75: 138 Dolamování hloubených vykopávek | AC75: 0
B76: zapažených i nezapažených v hor. 5 - 7 s případným nutným přemístěním výkopku ve výkopišti, bez naložení. | AE76: SPX
B77: 138 2 rýh ve vrstvě tloušťky do 500 mm | AC77: 1
A78: 11 | B78: 138401201R00 | C78: ...v hornině 5 | D78: m3 | E78: 1.9866 | G78: =ROUND(E78*F78,2) -> 0 | H78: 800-1 | I78: RTS 17/ I | AE78: POL | AM78: 21
C79: hor.tř. V - 15% :
C80: stoka A3 - ruční výkop, dolamování : 13,244*0,15 | E80: 1.9866
B81: 138 Dolamování hloubených vykopávek | AC81: 0
B82: zapažených i nezapažených v hor. 5 - 7 s případným nutným přemístěním výkopku ve výkopišti, bez naložení. | AE82: SPX
B83: 138 2 rýh ve vrstvě tloušťky do 500 mm | AC83: 1
A84: 12 | B84: 138501201R00 | C84: ...v hornině 6 | D84: m3 | E84: 0.39732 | G84: =ROUND(E84*F84,2) -> 0 | H84: 800-1 | I84: RTS 17/ I | AE84: POL | AM84: 21
C85: hor.tř. VI - 3% :
C86: stoka A3 - ruční výkop, dolamování : 13,244*0,03 | E86: 0.39732
B87: 139 6 Ruční výkop jam, rýh a šachet | AC87: 0
B88: s přehozením na vzdálenost do 5 m nebo s naložením na ruční dopravní prostředek | AE88: SPX
A89: 13 | B89: 139601102R00 | C89: ...v hornině 3 | D89: m3 | E89: 4.90028 | G89: =ROUND(E89*F89,2) -> 0 | H89: 800-1 | I89: RTS 17/ I | AE89: POL | AM89: 21
C90: hor.tř. III - 37% :
C91: stoka A3 - ruční výkop : 13,244*0,37 | E91: 4.90028
C92: křížení inženýrských sítí :
C93: Začátek provozního součtu
C94: plynovod : 2,0*1,1*(1,7-0,45) | E94: 2.75
C95: plynovod : 0*1,1*(1,74-0,15)
C96: nadzemní NN : 6,0*1,1*(1,74-0,15) | E96: 10.494
C97: Mezisoučet | E97: 13.244
C98: Konec provozního součtu
A99: 14 | B99: 139601103R00 | C99: ...v hornině 4 | D99: m3 | E99: 5.9598 | G99: =ROUND(E99*F99,2) -> 0 | H99: 800-1 | I99: RTS 17/ I | AE99: POL | AM99: 21
C100: hor.tř. IV - 45% :
...

Sheet SO03 03.2 Pol
A1: Položkový soupis prací a dodávek | AC1: #LevelZatrideniCeniku#
A2: S: | B2: 4529 | C2: Kanalizace Valašské Příkazy
A3: O: | B3: SO03 | C3: Stoka A3 | AC3: ING
A4: R: | B4: 03.2 | C4: Stoka A3 - odbočky pro domovní přípojky
AN5: 15 | AO5: 21
A6: P.č. | B6: Číslo položky | C6: Název položky | D6: MJ | E6: množství | F6: cena / MJ | G6: celkem | H6: Ceník | I6: Cen. soustava | AN6: =SUMIF(AM8:AM316,AN5,G8:G316) -> 0 | AO6: =SUMIF(AM8:AM316,AO5,G8:G316) -> 0
B7: Ceník, kapitola | C7: Poznámka uchazeče
A8: Díl: | B8: 1 | C8: Zemní práce | F8: =SUM(G9:G157) -> 0 | AE8: DIL
B9: 121 10-11 Sejmutí ornice | AC9: 0
B10: nebo lesní půdy, s vodorovným přemístěním na hromady v místě upotřebení nebo na dočasné či trvalé skládky se složením | AE10: SPX
A11: 1 | B11: 121101101R00 | C11: ...s přemístěním na vzdálenost do 50 m | D11: m3 | E11: 1.06 | G11: =ROUND(E11*F11,2) -> 0 | H11: 800-1 | I11: RTS 17/ I | AE11: POL | AM11: 21
C12: stoka A3 :
C13: nezp.tráva : 5,3*2,0*0,1 | E13: 1.06
B14: 132 20 Hloubení rýh šířky přes 60 do 200 cm | AC14: 0
B15: zapažených i nezapažených, s urovnáním dna do předepsaného profilu a spádu, s případně nutným přehozením výkopku na vzdálenost do 3 m ve výkopišti, s přehozením výkopku na přilehlém terénu na vzdálenost do 5 m od podélné osy rýhy nebo s naložením výkopku na dopravní prostředek. | AE15: SPX | AZ15: =B15 -> zapažených i nezapažených, s urovnáním dna do předepsaného profilu a spádu, s případně nutným přehozením výkopku na vzdálenost do 3 m ve výkopišti, s přehozením výkopku na přilehlém terénu na vzdálenost do 5 m od podélné osy rýhy nebo s naložením výkopku na dopravní prostředek.
A16: 2 | B16: 132201219R00 | C16: ...příplatek za lepivost, v hornině 3, | D16: m3 | E16: 5.25016 | G16: =ROUND(E16*F16,2) -> 0 | H16: 800-1 | I16: RTS 17/ I | AE16: POL | AM16: 21
C17: lepivost 50% :
C18: Položka pořadí 6 : 10.50032*0,5 | E18: 5.25016
A19: 3 | B19: 132301219R00 | C19: ...příplatek za lepivost, v hornině 4, | D19: m3 | E19: 6.38533 | G19: =ROUND(E19*F19,2) -> 0 | H19: 800-1 | I19: RTS 17/ I | AE19: POL | AM19: 21
C20: lepivost 50% :
C21: Položka pořadí 7 : 12.77066*0,5 | E21: 6.38533
B22: 138 Dolamování hloubených vykopávek | AC22: 0
B23: zapažených i nezapažených v hor. 5 - 7 s případným nutným přemístěním výkopku ve výkopišti, bez naložení. | AE23: SPX
B24: 138 2 rýh ve vrstvě tloušťky do 500 mm | AC24: 1
A25: 4 | B25: 138401201R00 | C25: ...v hornině 5 | D25: m3 | E25: 4.25689 | G25: =ROUND(E25*F25,2) -> 0 | H25: 800-1 | I25: RTS 17/ I | AE25: POL | AM25: 21
C26: hor.tř. V - 15% :
C27: přípojky A3 - ruční výkop, dolamování : 28,37925*0,15 | E27: 4.25689
B28: 138 Dolamování hloubených vykopávek | AC28: 0
B29: zapažených i nezapažených v hor. 5 - 7 s případným nutným přemístěním výkopku ve výkopišti, bez naložení. | AE29: SPX
B30: 138 2 rýh ve vrstvě tloušťky do 500 mm | AC30: 1
A31: 5 | B31: 138501201R00 | C31: ...v hornině 6 | D31: m3 | E31: 0.85138 | G31: =ROUND(E31*F31,2) -> 0 | H31: 800-1 | I31: RTS 17/ I | AE31: POL | AM31: 21
C32: hor.tř. VI - 3% :
C33: přípojky A3 - ruční výkop, dolamování : 28,37925*0,03 | E33: 0.85138
B34: 139 6 Ruční výkop jam, rýh a šachet | AC34: 0
B35: s přehozením na vzdálenost do 5 m nebo s naložením na ruční dopravní prostředek | AE35: SPX
A36: 6 | B36: 139601102R00 | C36: ...v hornině 3 | D36: m3 | E36: 10.50032 | G36: =ROUND(E36*F36,2) -> 0 | H36: 800-1 | I36: RTS 17/ I | AE36: POL | AM36: 21
C37: Začátek provozního součtu
C38: PVC DN150 :
C39: nové přípojky : 16,3*0,9*(1,75+1,6)/2 | E39: 24.57225
C40: rekonstukce UV : 2,0*0,9*1,7+1,5*1,5*2,5 | E40: 8.685
C41: odpočet povrchů :
C42: MK - asfalt : -9,4*0,9*0,45 | E42: -3.807
C43: MK - penetr. makadam : -1,0*0,9*0,45 | E43: -0.405
C44: panely : -0,6*0,9*0,35 | E44: -0.189
C45: nezp., tráva : -5,3*0,9*0,1 | E45: -0.477
C46: Mezisoučet | E46: 28.37925
C47: Konec provozního součtu
C48: hor.tř. III - 37% :
C49: přípojky A3 - ruční výkop : 28,37925*0,37 | E49: 10.50032
A50: 7 | B50: 139601103R00 | C50: ...v hornině 4 | D50: m3 | E50: 12.77066 | G50: =ROUND(E50*F50,2) -> 0 | H50: 800-1 | I50: RTS 17/ I | AE50: POL | AM50: 21
C51: hor.tř. IV - 45% :
C52: přípojky A3 - ruční výkop : 28,37925*0,45 | E52: 12.77066
B53: 151 10 Zřízení pažení a rozepření stěn rýh | AC53: 0
B54: pro podzemní vedení pro všechny šířky rýhy, | AE54: SPX
A55: 8 | B55: 151101101R00 | C55: ...příložné pro jakoukoliv mezerovitost, hloubky do 2 m | D55: m2 | E55: 61.405 | G55: =ROUND(E55*F55,2) -> 0 | H55: 800-1 | I55: RTS 17/ I | AE55: POL | AM55: 21
C56: nové přípojky : 16,3*2*(1,75+1,6)/2 | E56: 54.605
C57: rekonstukce UV : 2,0*2*1,7 | E57: 6.8
A58: 9 | B58: 151101102R00 | C58: ...příložné pro jakoukoliv mezerovitost, hloubky do 4 m | D58: m2 | E58: 11.25 | G58: =ROUND(E58*F58,2) -> 0 | H58: 800-1 | I58: RTS 17/ I | AE58: POL | AM58: 21
C59: rekonstrukce UV : 3*1,5*2,5 | E59: 11.25
B60: 151 11 Odstranění pažení a rozepření rýh | AC60: 0
B61: pro podzemní vedení s uložením materiálu na vzdálenost do 3 m od kraje výkopu, | AE61: SPX
A62: 10 | B62: 151101111R00 | C62: ...příložné , hloubky do 2 m | D62: m2 | E62: 61.405 | G62: =ROUND(E62*F62,2) -> 0 | H62: 800-1 | I62: RTS 17/ I | AE62: POL | AM62: 21
C63: Položka pořadí 8 : 61.40500 | E63: 61.405
A64: 11 | B64: 151101112R00 | C64: ...příložné , hloubky do 4 m | D64: m2 | E64: 11.25 | G64: =ROUND(E64*F64,2) -> 0 | H64: 800-1 | I64: RTS 17/ I | AE64: POL | AM64: 21
C65: Položka pořadí 9 : 11.25000 | E65: 11.25
B66: 161 10-11 Svislé přemístění výkopku | AC66: 0
B67: bez naložení do dopravní nádoby, ale s vyprázdněním dopravní nádoby na hromadu nebo na dopravní prostředek, | AE67: SPX
A68: 12 | B68: 161101101R00 | C68: ...z horniny 1 až 4, při hloubce výkopu přes 1 do 2,5 m | D68: m3 | E68: 23.27099 | G68: =ROUND(E68*F68,2) -> 0 | H68: 800-1 | I68: RTS 17/ I | AE68: POL | AM68: 21
C69: ruční výkop - 100% :
C70: Položka pořadí 6 : 10.50032 | E70: 10.50032
C71: Položka pořadí 7 : 12.77066 | E71: 12.77066
A72: 13 | B72: 161101151R00 | C72: ...z horniny 5 až 7, při hloubce výkopu přes 1 do 2,5 m | D72: m3 | E72: 5.10827 | G72: =ROUND(E72*F72,2) -> 0 | H72: 800-1 | I72: RTS 17/ I | AE72: POL | AM72: 21
C73: ruční výkop, dolamování - 100% :
C74: Položka pořadí 4 : 4.25689 | E74: 4.25689
C75: Položka pořadí 5 : 0.85138 | E75: 0.85138
B76: 162 10 Vodorovné přemístění výkopku | AC76: 0
B77: po suchu, bez ohledu na druh dopravního prostředku, bez naložení výkopku, avšak se složením bez rozhrnutí, | AE77: SPX
A78: 14 | B78: 162301102R00 | C78: ...z horniny 1 až 4, na vzdálenost přes 500 do 1 000 m | D78: m3 | E78: 25.09668 | G78: =ROUND(E78*F78,2) -> 0 | H78: 800-1 | I78: RTS 17/ I | AE78: POL | AM78: 21
C79: odvoz na mezideponii a zpět :
C80: Položka pořadí 19 : 12.54834*2 | E80: 25.09668
A81: 15 | B81: 162701105R00 | C81: ...z horniny 1 až 4, na vzdálenost přes 9 000 do 10 000 m | D81: m3 | E81: 10.72265 | G81: =ROUND(E81*F81,2) -> 0 | H81: 800-1 | I81: RTS 17/ I | AE81: POL | AM81: 21
C82: vytěžená zemina :
C83: Položka pořadí 6 : 10.50032 | E83: 10.50032
C84: Položka pořadí 7 : 12.77066 | E84: 12.77066
C85: odvoz na meziskládku :
C86: Položka pořadí 19 : 12.54834*-1 | E86: -12.54834
A87: 16 | B87: 162701155R00 | C87: ...z horniny 5 až 7, na vzdálenost přes 9 000 do 10 000 m | D87: m3 | E87: 5.10827 | G87: =ROUND(E87*F87,2) -> 0 | H87: 800-1 | I87: RTS 17/ I | AE87: POL | AM87: 21
C88: ruční výkop, dolamování :
C89: Položka pořadí 4 : 4.25689 | E89: 4.25689
C90: Položka pořadí 5 : 0.85138 | E90: 0.85138
B91: 162 10-9 příplatek k ceně za každých dalších i započatých 1 000 m přes 10 000 m | AC91: 1
A92: 17 | B92: 162701109R00 | C92: ...z horniny 1 až 4 | D92: m3 | E92: 150.11703 | G92: =ROUND(E92*F92,2) -> 0 | H92: 800-1 | I92: RTS 17/ I | AE92: POL | AM92: 21
C93: skládka 24 km :
C94: Položka pořadí 15 : 10.72265*14 | E94: 150.11703
B95: 162 10 Vodorovné přemístění výkopku | AC95: 0
B96: po suchu, bez ohledu na druh dopravního prostředku, bez naložení výkopku, avšak se složením bez rozhrnutí, | AE96: SPX
B97: 162 10-9 příplatek k ceně za každých dalších i započatých 1 000 m přes 10 000 m | AC97: 1
A98: 18 | B98: 162701159R00 | C98: ...z horniny 5 až 7 | D98: m3 | E98: 71.51571 | G98: =ROUND(E98*F98,2) -> 0 | H98: 800-1 | I98: RTS 17/ I | AE98: POL | AM98: 21
C99: skládka 24 km :
C100: Položka pořadí 16 : 5.10827*14 | E100: 71.51571
...

Sheet SO03 03.3 Pol
A1: Položkový soupis prací a dodávek | AC1: #LevelZatrideniCeniku#
A2: S: | B2: 4529 | C2: Kanalizace Valašské Příkazy
A3: O: | B3: SO03 | C3: Stoka A3 | AC3: ING
A4: R: | B4: 03.3 | C4: Stoka A3 - opravy místních komunikací
AN5: 15 | AO5: 21
A6: P.č. | B6: Číslo položky | C6: Název položky | D6: MJ | E6: množství | F6: cena / MJ | G6: celkem | H6: Ceník | I6: Cen. soustava | AN6: =SUMIF(AM8:AM159,AN5,G8:G159) -> 0 | AO6: =SUMIF(AM8:AM159,AO5,G8:G159) -> 0
B7: Ceník, kapitola | C7: Poznámka uchazeče
A8: Díl: | B8: 11 | C8: Přípravné a přidružené práce | F8: =SUM(G9:G41) -> 0 | AE8: DIL
B9: 113 10-7 Odstranění podkladů nebo krytů | AC9: 0
A10: 1 | B10: 113107315R00 | C10: ...z kameniva těženého, v ploše jednotlivě do 50 m2, tloušťka vrstvy 150 mm | D10: m2 | E10: 15.76 | G10: =ROUND(E10*F10,2) -> 0 | H10: 822-1 | I10: RTS 17/ I | AE10: POL | AM10: 21
C11: rozšíření opravy od hrany rýhy :
C12: stoka :
C13: MK - penetr. makadam : 11,0*0,5*2 | E13: 11
C14: odbočky :
C15: MK - asfalt : 9,4*0,2*2 | E15: 3.76
C16: MK - penetr. makadam : 1,0*0,5*2 | E16: 1
A17: 2 | B17: 113107515R00 | C17: ...z kameniva hrubého drceného, v ploše jednotlivě do 50 m2, tloušťka vrstvy 150 mm | D17: m2 | E17: 2.46 | G17: =ROUND(E17*F17,2) -> 0 | H17: 822-1 | I17: RTS 17/ I | AE17: POL | AM17: 21
C18: odbočky :
C19: panely : 3,0-0,6*0,9 | E19: 2.46
A20: 3 | B20: 113107520R00 | C20: ...z kameniva hrubého drceného, v ploše jednotlivě do 50 m2, tloušťka vrstvy 200 mm | D20: m2 | E20: 12 | G20: =ROUND(E20*F20,2) -> 0 | H20: 822-1 | I20: RTS 17/ I | AE20: POL | AM20: 21
C21: stoka :
C22: MK - penetr. makadam : 11,0*0,5*2 | E22: 11
C23: odbočky :
C24: MK - penetr. makadam : 1,0*0,5*2 | E24: 1
A25: 4 | B25: 113111120R00 | C25: ...z kameniva zpevněného cementem, v ploše jednotlivě do 50 m2, tloušťka vrstvy 200 mm | D25: m2 | E25: 3.76 | G25: =ROUND(E25*F25,2) -> 0 | H25: 822-1 | I25: RTS 17/ I | AE25: POL | AM25: 21
C26: odbočky :
C27: MK - asfalt : 9,4*0,2*2 | E27: 3.76
B28: 979 08-2 Vodorovná doprava suti po suchu | AC28: 0
A29: 5 | B29: 979082213R00 | C29: ...bez naložení, ale se složením a hrubým urovnáním na vzdálenost do 1 km | D29: t | E29: 13.21343 | G29: =ROUND(E29*F29,2) -> 0 | H29: 822-1 | I29: RTS 17/ I | AE29: POL | AM29: 21
C30: Demontážní hmotnosti z položek s pořadovými čísly: :
C31: 1,2,3,4, :
C32: Součet: : 13,21343 | E32: 13.21343
A33: 6 | B33: 979082219R00 | C33: ...příplatek k ceně za každý další i započatý 1 km přes 1 km | D33: t | E33: 303.90897 | G33: =ROUND(E33*F33,2) -> 0 | H33: 822-1 | I33: RTS 17/ I | AE33: POL | AM33: 21
C34: Demontážní hmotnosti z položek s pořadovými čísly: :
C35: 1,2,3,4, :
C36: Součet: : 303,90897 | E36: 303.90897
B37: 979 08-4 Poplatek za skládku | AC37: 0
A38: 7 | B38: 979990001R00 | C38: ...stavební suti | D38: t | E38: 13.21343 | G38: =ROUND(E38*F38,2) -> 0 | H38: 801-3 | I38: RTS 17/ I | AE38: POL | AM38: 21
C39: Demontážní hmotnosti z položek s pořadovými čísly: :
C40: 1,2,3,4, :
C41: Součet: : 13,21343 | E41: 13.21343
A42: Díl: | B42: 113 | C42: Přípravné a přidružené práce - živice | F42: =SUM(G43:G71) -> 0 | AE42: DIL
B43: 113 10-7 Odstranění podkladů nebo krytů | AC43: 0
A44: 8 | B44: 113108305R00 | C44: ...živičných, v ploše jednotlivě do 50 m2, tloušťka vrstvy 50 mm | D44: m2 | E44: 3.76 | G44: =ROUND(E44*F44,2) -> 0 | H44: 822-1 | I44: RTS 17/ I | AE44: POL | AM44: 21
C45: rozšíření opravy od hrany rýhy :
C46: odbočky :
C47: MK - asfalt : 9,4*0,2*2 | E47: 3.76
A48: 9 | B48: 113108310R00 | C48: ...živičných, v ploše jednotlivě do 50 m2, tloušťka vrstvy 100 mm | D48: m2 | E48: 12 | G48: =ROUND(E48*F48,2) -> 0 | H48: 822-1 | I48: RTS 17/ I | AE48: POL | AM48: 21
C49: stoka :
C50: MK - penetr. makadam : 11,0*0,5*2 | E50: 11
C51: odbočky :
C52: MK - penetr. makadam : 1,0*0,5*2 | E52: 1
B53: 113 15 Odstranění podkladu, krytu frézováním | AC53: 0
B54: s naložením na dopravní prostředek, očištění povrchu od frézované plochy, opotřebování frézovacích nástrojů (nožů, upínacích kroužků, držáků) nutné ruční odstranění (vybourání) živičného krytu kolem překážek, | AE54: SPX | AZ54: =B54 -> s naložením na dopravní prostředek, očištění povrchu od frézované plochy, opotřebování frézovacích nástrojů (nožů, upínacích kroužků, držáků) nutné ruční odstranění (vybourání) živičného krytu kolem překážek,
A55: 10 | B55: 113151114R00 | C55: ...povrch živičný, plochy do 500 m2 na jednom objektu nebo při provádění pruhu šířky do 750 mm, tloušťky 50 mm | D55: m2 | E55: 3.76 | G55: =ROUND(E55*F55,2) -> 0 | H55: 822-1 | I55: RTS 17/ I | AE55: POL | AM55: 21
C56: odbočky :
C57: MK - asfalt : 9,4*0,2*2 | E57: 3.76
B58: 979 08-2 Vodorovná doprava suti po suchu | AC58: 0
A59: 11 | B59: 979082213R00 | C59: ...bez naložení, ale se složením a hrubým urovnáním na vzdálenost do 1 km | D59: t | E59: 3.4672 | G59: =ROUND(E59*F59,2) -> 0 | H59: 822-1 | I59: RTS 17/ I | AE59: POL | AM59: 21
C60: Demontážní hmotnosti z položek s pořadovými čísly: :
C61: 8,9,10, :
C62: Součet: : 3,46720 | E62: 3.4672
A63: 12 | B63: 979082219R00 | C63: ...příplatek k ceně za každý další i započatý 1 km přes 1 km | D63: t | E63: 79.7456 | G63: =ROUND(E63*F63,2) -> 0 | H63: 822-1 | I63: RTS 17/ I | AE63: POL | AM63: 21
C64: Demontážní hmotnosti z položek s pořadovými čísly: :
C65: 8,9,10, :
C66: Součet: : 79,74560 | E66: 79.7456
B67: 979 08-4 Poplatek za skládku | AC67: 0
A68: 13 | B68: 979990113R00 | C68: ...obalovaný asfalt | D68: t | E68: 3.4672 | G68: =ROUND(E68*F68,2) -> 0 | H68: 801-3 | I68: RTS 17/ I | AE68: POL | AM68: 21
C69: Demontážní hmotnosti z položek s pořadovými čísly: :
C70: 8,9,10, :
C71: Součet: : 3,46720 | E71: 3.4672
A72: Díl: | B72: 5 | C72: Komunikace | F72: =SUM(G73:G136) -> 0 | AE72: DIL
B73: 564 2.-11 Podklad nebo podsyp ze štěrkopísku | AC73: 0
B74: s rozprostřením, vlhčením a zhutněním | AE74: SPX
A75: 14 | B75: 564251111R00 | C75: ...tloušťka po zhutnění 150 mm | D75: m2 | E75: 37.22 | G75: =ROUND(E75*F75,2) -> 0 | H75: 822-1 | I75: RTS 17/ I | AE75: POL | AM75: 21
C76: MK - asfalt :
C77: Položka pořadí 23 : 12.22000 | E77: 12.22
C78: MK - penetr. makadam :
C79: Položka pořadí 22 : 25.00000 | E79: 25
B80: 564 72-1 Podklad nebo kryt z kameniva hrubého drceného | AC80: 0
B81: velikost 32 - 63 mm s rozprostřením a zhutněním | AE81: SPX
A82: 15 | B82: 564761111R00 | C82: ...tloušťka po zhutnění 200 mm | D82: m2 | E82: 25 | G82: =ROUND(E82*F82,2) -> 0 | H82: 822-1 | I82: RTS 17/ I | AE82: POL | AM82: 21
C83: MK - penetr. makadam :
C84: Položka pořadí 22 : 25.00000 | E84: 25
B85: 564 72-2 Podklad nebo kryt z kameniva hrubého s výplň. kam. | AC85: 0
B86: kamenivo hrubé drcené vel. 32 - 63 mm s výplňovým kamenivem (vibrovaný štěrk), s rozprostřením, vlhčením a zhutněním | AE86: SPX
A87: 16 | B87: 564752111R00 | C87: ...tloušťka po zhutnění 150 mm | D87: m2 | E87: 10.7 | G87: =ROUND(E87*F87,2) -> 0 | H87: 822-1 | I87: RTS 17/ I | AE87: POL | AM87: 21
C88: MK - štěrk :
C89: Položka pořadí 19 : 7.70000 | E89: 7.7
C90: panely :
C91: Položka pořadí 24 : 3.00000 | E91: 3
B92: 565 13-1 Podklad z kameniva obaleného asfaltem | AC92: 0
B93: s rozprostřením a zhutněním | AE93: SPX
A94: 17 | B94: 565131111R00 | C94: ...v pruhu šířky do 3 m, třídy 1, tloušťka po zhutnění 50 mm | D94: m2 | E94: 12.22 | G94: =ROUND(E94*F94,2) -> 0 | H94: 822-1 | I94: RTS 17/ I | AE94: POL | AM94: 21
C95: Položka pořadí 23 : 12.22000 | E95: 12.22
B96: 567 41 Podklad ze štěrku částečně vyplněného maltou (ŠCM) | AC96: 0
B97: podkladní vrstva dle ČSN 73 6127-1 | AE97: SPX
A98: 18 | B98: 567411120R00 | C98: ...tloušťka 200 mm | D98: m2 | E98: 12.22 | G98: =ROUND(E98*F98,2) -> 0 | H98: 822-1 | I98: RTS 17/ I | AE98: POL | AM98: 21
C99: MK asfalt :
C100: Položka pořadí 23 : 12.22000 | E100: 12.22
...

Sheet Rekapitulace Objekt SO04
A1: Stavba : | B1: =Stavba!CisloStavby -> 4529 | C1: =Stavba!NazevStavby -> Kanalizace Valašské Příkazy
A2: Objekt : | B2: SO04 | C2: Stoka A4 | G2: JKSO : | H2: 827.21.A3.1.1 | O2: ING
A4: Rekapitulace stavebního objektu
A6: Zákl. údaje | B6: =B2 -> SO04
B7: =C2 -> Stoka A4
A9: Třídník stavebních objektů: | B9: 827 | C9: Vedení trubní dálková přípojná
B10: 827.2 | C10: Kanalizace trubní
B11: 827.21 | C11: sítě kanalizační
B12: 827.21.A | C12: profil potrubí DN do 1000 mm
B13: 827.21.A3 | C13: Profil potrubí DN do 300 mm
B15: 827.21.A3.1 | C15: potrubí z trub z plastických hmot a sklolaminátu
B17: 827.21.A3.1.1 | C17: novostavba objektu
A19: Rozsah: | B19: 493.1 | C19: m
A21: Rekapitulace soupisů náležejících k objektu
A22: Soupis | H22: Cena (Kč)
A23: 04.1 | B23: Stoka A4 - kanalizační stoka | H23: ='SO04 04.1 Pol'!G662 -> 0 | O23: ='SO04 04.1 Pol'!AN6 -> 0 | P23: ='SO04 04.1 Pol'!AO6 -> 0
A24: 04.2 | B24: Stoka A4 - odbočky pro domovní přípojky | H24: ='SO04 04.2 Pol'!G290 -> 0 | O24: ='SO04 04.2 Pol'!AN6 -> 0 | P24: ='SO04 04.2 Pol'!AO6 -> 0
A25: 04.3 | B25: Stoka A4 - opravy místních komunikací | H25: ='SO04 04.3 Pol'!G175 -> 0 | O25: ='SO04 04.3 Pol'!AN6 -> 0 | P25: ='SO04 04.3 Pol'!AO6 -> 0
A26: 04.4 | B26: Stoka A4 - přeložka vodovodu | H26: ='SO04 04.4 Pol'!G213 -> 0 | O26: ='SO04 04.4 Pol'!AN6 -> 0 | P26: ='SO04 04.4 Pol'!AO6 -> 0
B27: Celkem objekt | D27: =B2 -> SO04 | H27: =SUM(H23:H26) -> 0
H29: Rekapitulace DPH | O29: =H30 -> 0 | P29: =H32 -> 0
A30: Základ pro DPH | D30: 15 | E30: % | H30: =SUM(O23:O27) -> 0
A31: DPH | D31: 15 | E31: % | H31: =H30*(D31/100) -> 0
A32: Základ pro DPH | D32: 21 | E32: % | H32: =SUM(P23:P27) -> 0
A33: DPH | D33: 21 | E33: % | H33: =H32*(D33/100) -> 0
A34: Celkem za objekt s DPH | H34: =SUM(H30:H33) -> 0
A36: Rekapitulace soupisu | D36: 04.1 | E36: Stoka A4 - kanalizační stoka | BC36: =E36 -> Stoka A4 - kanalizační stoka
A37: Stavební díl | H37: Cena (Kč)
A38: 1 | B38: Zemní práce | H38: ='SO04 04.1 Pol'!F8 -> 0
A39: 11 | B39: Přípravné a přidružené práce | H39: ='SO04 04.1 Pol'!F374 -> 0
A40: 113 | B40: Přípravné a přidružené práce - živice | H40: ='SO04 04.1 Pol'!F405 -> 0
A41: 2 | B41: Základy a zvláštní zakládání | H41: ='SO04 04.1 Pol'!F436 -> 0
A42: 45 | B42: Podkladní a vedlejší konstrukce | H42: ='SO04 04.1 Pol'!F458 -> 0
A43: 8 | B43: Trubní vedení | H43: ='SO04 04.1 Pol'!F498 -> 0
A44: 9 | B44: Ostatní konstrukce, bourání | H44: ='SO04 04.1 Pol'!F609 -> 0
A45: 91 | B45: Doplňující práce na komunikaci | H45: ='SO04 04.1 Pol'!F619 -> 0
A46: 99 | B46: Staveništní přesun hmot | H46: ='SO04 04.1 Pol'!F638 -> 0
A47: M23 | B47: Montáže potrubí | H47: ='SO04 04.1 Pol'!F647 -> 0
A48: M46 | B48: Zemní práce při montážích | H48: ='SO04 04.1 Pol'!F655 -> 0
B49: Celkem soupis | D49: =D36 -> 04.1 | H49: =SUM(H38:H48) -> 0
A51: Rekapitulace soupisu | D51: 04.2 | E51: Stoka A4 - odbočky pro domovní přípojky | BC51: =E51 -> Stoka A4 - odbočky pro domovní přípojky
A52: Stavební díl | H52: Cena (Kč)
A53: 1 | B53: Zemní práce | H53: ='SO04 04.2 Pol'!F8 -> 0
A54: 11 | B54: Přípravné a přidružené práce | H54: ='SO04 04.2 Pol'!F155 -> 0
A55: 113 | B55: Přípravné a přidružené práce - živice | H55: ='SO04 04.2 Pol'!F185 -> 0
A56: 45 | B56: Podkladní a vedlejší konstrukce | H56: ='SO04 04.2 Pol'!F209 -> 0
A57: 8 | B57: Trubní vedení | H57: ='SO04 04.2 Pol'!F214 -> 0
A58: 9 | B58: Ostatní konstrukce, bourání | H58: ='SO04 04.2 Pol'!F270 -> 0
A59: 99 | B59: Staveništní přesun hmot | H59: ='SO04 04.2 Pol'!F280 -> 0
B60: Celkem soupis | D60: =D51 -> 04.2 | H60: =SUM(H53:H59) -> 0
A62: Rekapitulace soupisu | D62: 04.3 | E62: Stoka A4 - opravy místních komunikací | BC62: =E62 -> Stoka A4 - opravy místních komunikací
A63: Stavební díl | H63: Cena (Kč)
A64: 11 | B64: Přípravné a přidružené práce | H64: ='SO04 04.3 Pol'!F8 -> 0
A65: 113 | B65: Přípravné a přidružené práce - živice | H65: ='SO04 04.3 Pol'!F46 -> 0
A66: 5 | B66: Komunikace | H66: ='SO04 04.3 Pol'!F84 -> 0
A67: 9 | B67: Ostatní konstrukce, bourání | H67: ='SO04 04.3 Pol'!F145 -> 0
A68: 99 | B68: Staveništní přesun hmot | H68: ='SO04 04.3 Pol'!F166 -> 0
B69: Celkem soupis | D69: =D62 -> 04.3 | H69: =SUM(H64:H68) -> 0
A71: Rekapitulace soupisu | D71: 04.4 | E71: Stoka A4 - přeložka vodovodu | BC71: =E71 -> Stoka A4 - přeložka vodovodu
A72: Stavební díl | H72: Cena (Kč)
A73: 1 | B73: Zemní práce | H73: ='SO04 04.4 Pol'!F8 -> 0
A74: 11 | B74: Přípravné a přidružené práce | H74: ='SO04 04.4 Pol'!F102 -> 0
A75: 113 | B75: Přípravné a přidružené práce - živice | H75: ='SO04 04.4 Pol'!F122 -> 0
A76: 45 | B76: Podkladní a vedlejší konstrukce | H76: ='SO04 04.4 Pol'!F144 -> 0
A77: 8 | B77: Trubní vedení | H77: ='SO04 04.4 Pol'!F158 -> 0
A78: 9 | B78: Ostatní konstrukce, bourání | H78: ='SO04 04.4 Pol'!F190 -> 0
A79: 99 | B79: Staveništní přesun hmot | H79: ='SO04 04.4 Pol'!F199 -> 0
A80: M21 | B80: Elektromontáže | H80: ='SO04 04.4 Pol'!F207 -> 0
B81: Celkem soupis | D81: =D71 -> 04.4 | H81: =SUM(H73:H80) -> 0

Sheet SO04 04.1 Pol
A1: Položkový soupis prací a dodávek | AC1: #LevelZatrideniCeniku#
A2: S: | B2: 4529 | C2: Kanalizace Valašské Příkazy
A3: O: | B3: SO04 | C3: Stoka A4 | AC3: ING
A4: R: | B4: 04.1 | C4: Stoka A4 - kanalizační stoka
AN5: 15 | AO5: 21
A6: P.č. | B6: Číslo položky | C6: Název položky | D6: MJ | E6: množství | F6: cena / MJ | G6: celkem | H6: Ceník | I6: Cen. soustava | AN6: =SUMIF(AM8:AM662,AN5,G8:G662) -> 0 | AO6: =SUMIF(AM8:AM662,AO5,G8:G662) -> 0
B7: Ceník, kapitola | C7: Poznámka uchazeče
A8: Díl: | B8: 1 | C8: Zemní práce | F8: =SUM(G9:G373) -> 0 | AE8: DIL
B9: 115 10-12 Čerpání vody | AC9: 0
B10: na vzdálenost (výšku) od hladiny vody v jímce po výšku roviny proložené osou nejvyššího bodu výtlačného potrubí, odpadní potrubí v délce do 20 m, | AE10: SPX | AZ10: =B10 -> na vzdálenost (výšku) od hladiny vody v jímce po výšku roviny proložené osou nejvyššího bodu výtlačného potrubí, odpadní potrubí v délce do 20 m,
B11: 115 10-121 na dopravní výšku do 10 m | AC11: 1
A12: 1 | B12: 115101201R00 | C12: ...s uvažovaným průměrným přítokem do 500 l/min | D12: h | E12: 126 | G12: =ROUND(E12*F12,2) -> 0 | H12: 800-1 | I12: RTS 17/ I | AE12: POL | AM12: 21
C13: Začátek provozního součtu
C14: odvodnění povrchové :
C15: Š110 - Š112 : 54,3+15,5 | E15: 69.8
C16: Š115 - Š117 : 25,0+20,5 | E16: 45.5
C17: Mezisoučet | E17: 115.3
C18: předpoklad (40m/týden) : 115,3/40 | E18: 2.8825
C19: Konec provozního součtu
C20: čerpání cca 6h/den : 3*7*6 | E20: 126
B21: 115 10-13 Pohotovost záložní čerpací soupravy | AC21: 0
B22: na vzdálenost (výšku) od hladiny vody v jímce po výšku roviny proložené osou nejvyššího bodu výtlačného potrubí, včetně sacího a výtlačného potrubí, příp. odpadní žlaby a lešení pod čerpadlo a pod potrubí nebo pod odpadní žlaby, | AE22: SPX | AZ22: =B22 -> na vzdálenost (výšku) od hladiny vody v jímce po výšku roviny proložené osou nejvyššího bodu výtlačného potrubí, včetně sacího a výtlačného potrubí, příp. odpadní žlaby a lešení pod čerpadlo a pod potrubí nebo pod odpadní žlaby,
B23: 115 10-131 na dopravní výšku do 10 m | AC23: 1
A24: 2 | B24: 115101301R00 | C24: ...s uvažovaným průměrným přítokem do 500 l/min | D24: den | E24: 21 | G24: =ROUND(E24*F24,2) -> 0 | H24: 800-1 | I24: RTS 17/ I | AE24: POL | AM24: 21
C25: Začátek provozního součtu
C26: předpoklad (40m/týden) : 115,3/40 | E26: 2.8825
C27: Konec provozního součtu
C28: čerpání cca 6h/den : 3*7 | E28: 21
B29: 119 00-14 Dočasné zajištění podzemního potrubí nebo vedení | AC29: 0
B30: ve výkopišti ve stavu a poloze, ve kterých byla na začátku zemních prací, a to podepřením, vzepřením nebo vyvěšením, případně s ochranným bedněním, se zřízením a odstraněním zajišťovací konstrukce a včetně opotřebení použitých materiálů, | AE30: SPX | AZ30: =B30 -> ve výkopišti ve stavu a poloze, ve kterých byla na začátku zemních prací, a to podepřením, vzepřením nebo vyvěšením, případně s ochranným bedněním, se zřízením a odstraněním zajišťovací konstrukce a včetně opotřebení použitých materiálů,
B31: 119 00-141 ocelového potrubí | AC31: 1
A32: 3 | B32: 119001401R00 | C32: ...DN do 200 mm | D32: m | E32: 9.4 | G32: =ROUND(E32*F32,2) -> 0 | H32: 800-1 | I32: RTS 17/ I | AE32: POL | AM32: 21
C33: křížení inženýrských sítí :
C34: stoka A4 :
C35: plynovod : 1,1*3 | E35: 3.3
C36: plynovod : 1,3*1 | E36: 1.3
C37: vodovod : 1,1*2 | E37: 2.2
C38: vodovod : 1,3*2 | E38: 2.6
B39: 119 00-14 Dočasné zajištění podzemního potrubí nebo vedení | AC39: 0
B40: ve výkopišti ve stavu a poloze, ve kterých byla na začátku zemních prací, a to podepřením, vzepřením nebo vyvěšením, případně s ochranným bedněním, se zřízením a odstraněním zajišťovací konstrukce a včetně opotřebení použitých materiálů, | AE40: SPX | AZ40: =B40 -> ve výkopišti ve stavu a poloze, ve kterých byla na začátku zemních prací, a to podepřením, vzepřením nebo vyvěšením, případně s ochranným bedněním, se zřízením a odstraněním zajišťovací konstrukce a včetně opotřebení použitých materiálů,
B41: 119 00-143 kabelů | AC41: 1
A42: 4 | B42: 119001421R00 | C42: ...do 3 kabelů | D42: m | E42: 3.5 | G42: =ROUND(E42*F42,2) -> 0 | H42: 800-1 | I42: RTS 17/ I | AE42: POL | AM42: 21
C43: SDK místní : 1,1*2 | E43: 2.2
C44: SDK místní : 1,3 | E44: 1.3
B45: 119 00-14 Dočasné zajištění podzemního potrubí nebo vedení | AC45: 0
B46: Dočasné zajištění podzemního potrubí a podzemních vedení ve výkopišti ve stavu a poloze, ve kterých byla na začátku zemních prací, a to podepřením, vzepřením nebo vyvěšením, případně s ochranným bedněním, se zřízením a odstraněním zajišťovací konstrukce a včetně opotřebení použitých materiálů. | AE46: SPX | AZ46: =B46 -> Dočasné zajištění podzemního potrubí a podzemních vedení ve výkopišti ve stavu a poloze, ve kterých byla na začátku zemních prací, a to podepřením, vzepřením nebo vyvěšením, případně s ochranným bedněním, se zřízením a odstraněním zajišťovací konstrukce a včetně opotřebení použitých materiálů.
A47: 5 | B47: 119001413T00 | C47: Dočasné zajištění beton.a plast.potrubí nad DN 500 | D47: m | E47: 2.6 | G47: =ROUND(E47*F47,2) -> 0 | H47: 800-1 | I47: Vlastní | AE47: POL | AM47: 21
C48: propustek DN800 : 1,3 | E48: 1.3
C49: propustek DN1400 : 1,3 | E49: 1.3
B50: 121 10-11 Sejmutí ornice | AC50: 0
B51: nebo lesní půdy, s vodorovným přemístěním na hromady v místě upotřebení nebo na dočasné či trvalé skládky se složením | AE51: SPX
A52: 6 | B52: 121101101R00 | C52: ...s přemístěním na vzdálenost do 50 m | D52: m3 | E52: 18.712 | G52: =ROUND(E52*F52,2) -> 0 | H52: 800-1 | I52: RTS 17/ I | AE52: POL | AM52: 21
C53: stoka A4 :
C54: nezp.tráva : 6,0*2,0*0,1 | E54: 1.2
C55: zahrada : 43,0*2,0*0,2 | E55: 17.2
C56: rozš. pro Š : 2,6*(2,6-2,0)*0,2*1 | E56: 0.312
B57: 130 00 Příplatek k cenám za ztížené vykopávky | AC57: 0
B58: Příplatek k cenám hloubených vykopávek za ztížení vykopávky v blízkosti podzemního vedení nebo výbušnin pro jakoukoliv třídu horniny. | AE58: SPX
A59: 7 | B59: 130001101R00 | C59: ...v horninách jakékoliv třídy | D59: m3 | E59: 57.3562 | G59: =ROUND(E59*F59,2) -> 0 | H59: 800-1 | I59: RTS 17/ I | AE59: POL | AM59: 21
C60: křížení inženýrských sítí :
C61: plynovod : 2,0*1,1*(1,97-0,45) | E61: 3.344
C62: vodovod : 2,0*1,1*(2,6-0,1) | E62: 5.5
C63: vodovod : 2,0*1,1*(2,03-0,1) | E63: 4.246
C64: plynovod : 2,0*1,1*(2,18-0,1) | E64: 4.576
C65: SDK místní : 2,0*1,1*(2,25-0,1) | E65: 4.73
C66: vodovod : 2,0*1,1*(2,59-0,45) | E66: 4.708
C67: propustek DN800 : 2,8*1,1*(2,13-0,45) | E67: 5.1744
C68: plynovod : 2,0*1,1*(2,25-0,45) | E68: 3.96
C69: SDK místní : 2,0*1,1*(2,25-0,45) | E69: 3.96
C70: propustek DN1400 : 3,4*1,1*(2,82-0,45) | E70: 8.8638
C71: vodovod : 2,0*1,1*(2,82-0,45) | E71: 5.214
C72: plynovod : 2,0*1,1*(1,85-0,45) | E72: 3.08
B73: 132 20 Hloubení rýh šířky přes 60 do 200 cm | AC73: 0
B74: zapažených i nezapažených, s urovnáním dna do předepsaného profilu a spádu, s případně nutným přehozením výkopku na vzdálenost do 3 m ve výkopišti, s přehozením výkopku na přilehlém terénu na vzdálenost do 5 m od podélné osy rýhy nebo s naložením výkopku na dopravní prostředek. | AE74: SPX | AZ74: =B74 -> zapažených i nezapažených, s urovnáním dna do předepsaného profilu a spádu, s případně nutným přehozením výkopku na vzdálenost do 3 m ve výkopišti, s přehozením výkopku na přilehlém terénu na vzdálenost do 5 m od podélné osy rýhy nebo s naložením výkopku na dopravní prostředek.
A75: 8 | B75: 132201213R00 | C75: ...do 10000 m3, v hornině 3, hloubení strojně | D75: m3 | E75: 335.4844 | G75: =ROUND(E75*F75,2) -> 0 | H75: 800-1 | I75: RTS 17/ I | AE75: POL | AM75: 21
C76: Začátek provozního součtu
C77: stoka A4 :
C78: 10,0*1,1*(2,14+2,01)/2 | E78: 22.825
C79: 8,0*1,1*(2,01+2,04)/2 | E79: 17.82
C80: 30,0*1,1*(2,04+1,88)/2 | E80: 64.68
C81: 17,0*1,1*(1,88+2,05)/2 | E81: 36.7455
C82: 24,5*1,1*(2,05+2,65)/2 | E82: 63.3325
C83: 8,5*1,1*(2,65+2,03)/2 | E83: 21.879
C84: 38,7*1,1*(2,03+2,58)/2 | E84: 98.12385
C85: 38,3*1,1*(2,58+2,74)/2 | E85: 112.0658
C86: 54,3*1,3*(2,89+2,43)/2 | E86: 187.7694
C87: 15,5*1,3*(2,43+2,52)/2 | E87: 49.87125
C88: 34,0*1,1*(2,37+2,46)/2 | E88: 90.321
C89: 22,0*1,1*(2,46+2,94)/2 | E89: 65.34
... C92: 20,5*1,3*(2,94+2,96)/2 | E92: 78.6175
C93: stávající potrubí : 25,0*1,1*(2,81+1,73)/2*0
C94: 27,5*1,1*(1,73+2,34)/2 | E94: 61.55875
C95: 21,5*1,1*(2,34+1,97)/2 | E95: 50.96575
C96: 40,0*1,1*(1,97+1,84)/2 | E96: 83.82
C97: 7,8*1,1*(1,84+1,9)/2 | E97: 16.0446
C98: rozš. pro Š :
C99: Š103 : 2,6*2,6*2,38-2,6/2*(1,1*2,01+1,1*2,01) | E99: 10.3402
C100: Š104 : 2,6*2,6*2,41-2,6/2*(1,1*2,04+1,1*2,04) | E100: 10.4572
C101: Š105 : 2,6*2,6*2,25-2,6/2*(1,1*1,88+1,1*1,88) | E101: 9.8332
C102: Š106 : 2,6*2,6*2,42-2,6/2*(1,1*2,05+1,1*2,05) | E102: 10.4962
...

Sheet SO04 04.2 Pol
A1: Položkový soupis prací a dodávek | AC1: #LevelZatrideniCeniku#
A2: S: | B2: 4529 | C2: Kanalizace Valašské Příkazy
A3: O: | B3: SO04 | C3: Stoka A4 | AC3: ING
A4: R: | B4: 04.2 | C4: Stoka A4 - odbočky pro domovní přípojky
AN5: 15 | AO5: 21
A6: P.č. | B6: Číslo položky | C6: Název položky | D6: MJ | E6: množství | F6: cena / MJ | G6: celkem | H6: Ceník | I6: Cen. soustava | AN6: =SUMIF(AM8:AM290,AN5,G8:G290) -> 0 | AO6: =SUMIF(AM8:AM290,AO5,G8:G290) -> 0
B7: Ceník, kapitola | C7: Poznámka uchazeče
A8: Díl: | B8: 1 | C8: Zemní práce | F8: =SUM(G9:G154) -> 0 | AE8: DIL
B9: 121 10-11 Sejmutí ornice | AC9: 0
B10: nebo lesní půdy, s vodorovným přemístěním na hromady v místě upotřebení nebo na dočasné či trvalé skládky se složením | AE10: SPX
A11: 1 | B11: 121101101R00 | C11: ...s přemístěním na vzdálenost do 50 m | D11: m3 | E11: 2.68 | G11: =ROUND(E11*F11,2) -> 0 | H11: 800-1 | I11: RTS 17/ I | AE11: POL | AM11: 21
C12: nezp.tráva : 11,4*2,0*0,1 | E12: 2.28
C13: zahrada : 1,0*2,0*0,2 | E13: 0.4
B14: 132 20 Hloubení rýh šířky přes 60 do 200 cm | AC14: 0
B15: zapažených i nezapažených, s urovnáním dna do předepsaného profilu a spádu, s případně nutným přehozením výkopku na vzdálenost do 3 m ve výkopišti, s přehozením výkopku na přilehlém terénu na vzdálenost do 5 m od podélné osy rýhy nebo s naložením výkopku na dopravní prostředek. | AE15: SPX | AZ15: =B15 -> zapažených i nezapažených, s urovnáním dna do předepsaného profilu a spádu, s případně nutným přehozením výkopku na vzdálenost do 3 m ve výkopišti, s přehozením výkopku na přilehlém terénu na vzdálenost do 5 m od podélné osy rýhy nebo s naložením výkopku na dopravní prostředek.
A16: 2 | B16: 132201219R00 | C16: ...příplatek za lepivost, v hornině 3, | D16: m3 | E16: 9.51914 | G16: =ROUND(E16*F16,2) -> 0 | H16: 800-1 | I16: RTS 17/ I | AE16: POL | AM16: 21
C17: lepivost 50% :
C18: Položka pořadí 6 : 19.03828*0,5 | E18: 9.51914
A19: 3 | B19: 132301219R00 | C19: ...příplatek za lepivost, v hornině 4, | D19: m3 | E19: 11.57733 | G19: =ROUND(E19*F19,2) -> 0 | H19: 800-1 | I19: RTS 17/ I | AE19: POL | AM19: 21
C20: lepivost 50% :
C21: Položka pořadí 7 : 23.15466*0,5 | E21: 11.57733
B22: 138 Dolamování hloubených vykopávek | AC22: 0
B23: zapažených i nezapažených v hor. 5 - 7 s případným nutným přemístěním výkopku ve výkopišti, bez naložení. | AE23: SPX
B24: 138 2 rýh ve vrstvě tloušťky do 500 mm | AC24: 1
A25: 4 | B25: 138401201R00 | C25: ...v hornině 5 | D25: m3 | E25: 7.71822 | G25: =ROUND(E25*F25,2) -> 0 | H25: 800-1 | I25: RTS 17/ I | AE25: POL | AM25: 21
C26: hor.tř. V - 15% :
C27: přípojky A4 - ruční výkop, dolamování : 51,4548*0,15 | E27: 7.71822
B28: 138 Dolamování hloubených vykopávek | AC28: 0
B29: zapažených i nezapažených v hor. 5 - 7 s případným nutným přemístěním výkopku ve výkopišti, bez naložení. | AE29: SPX
B30: 138 2 rýh ve vrstvě tloušťky do 500 mm | AC30: 1
A31: 5 | B31: 138501201R00 | C31: ...v hornině 6 | D31: m3 | E31: 1.54364 | G31: =ROUND(E31*F31,2) -> 0 | H31: 800-1 | I31: RTS 17/ I | AE31: POL | AM31: 21
C32: hor.tř. VI - 3% :
C33: přípojky A4 - ruční výkop, dolamování : 51,4548*0,03 | E33: 1.54364
B34: 139 6 Ruční výkop jam, rýh a šachet | AC34: 0
B35: s přehozením na vzdálenost do 5 m nebo s naložením na ruční dopravní prostředek | AE35: SPX
A36: 6 | B36: 139601102R00 | C36: ...v hornině 3 | D36: m3 | E36: 19.03828 | G36: =ROUND(E36*F36,2) -> 0 | H36: 800-1 | I36: RTS 17/ I | AE36: POL | AM36: 21
C37: Začátek provozního součtu
C38: PVC DN150 :
C39: nové přípojky : 34,2*0,9*(2,32+1,6)/2 | E39: 60.3288
C40: odpočet povrchů :
C41: MK - asfalt : -16,5*0,9*0,45 | E41: -6.6825
C42: MK - penetr. makadam : -1,5*0,9*0,45 | E42: -0.6075
C43: MK - štěrk : -2,8*0,9*0,15 | E43: -0.378
C44: nezp., tráva : -11,4*0,9*0,1 | E44: -1.026
C45: zahrada : -1,0*0,9*0,2 | E45: -0.18
C46: Mezisoučet | E46: 51.4548
C47: Konec provozního součtu
C48: hor.tř. III - 37% :
C49: přípojky A4 - ruční výkop : 51,4548*0,37 | E49: 19.03828
A50: 7 | B50: 139601103R00 | C50: ...v hornině 4 | D50: m3 | E50: 23.15466 | G50: =ROUND(E50*F50,2) -> 0 | H50: 800-1 | I50: RTS 17/ I | AE50: POL | AM50: 21
C51: hor.tř. IV - 45% :
C52: přípojky A4 - ruční výkop : 51,4548*0,45 | E52: 23.15466
B53: 151 10 Zřízení pažení a rozepření stěn rýh | AC53: 0
B54: pro podzemní vedení pro všechny šířky rýhy, | AE54: SPX
A55: 8 | B55: 151101101R00 | C55: ...příložné pro jakoukoliv mezerovitost, hloubky do 2 m | D55: m2 | E55: 61.92 | G55: =ROUND(E55*F55,2) -> 0 | H55: 800-1 | I55: RTS 17/ I | AE55: POL | AM55: 21
C56: nové přípojky : 17,2*2*(2,0+1,6)/2 | E56: 61.92
A57: 9 | B57: 151101102R00 | C57: ...příložné pro jakoukoliv mezerovitost, hloubky do 4 m | D57: m2 | E57: 73.44 | G57: =ROUND(E57*F57,2) -> 0 | H57: 800-1 | I57: RTS 17/ I | AE57: POL | AM57: 21
C58: nové přípojky : 17,0*2*(2,32+2,0)/2 | E58: 73.44
B59: 151 11 Odstranění pažení a rozepření rýh | AC59: 0
B60: pro podzemní vedení s uložením materiálu na vzdálenost do 3 m od kraje výkopu, | AE60: SPX
A61: 10 | B61: 151101111R00 | C61: ...příložné , hloubky do 2 m | D61: m2 | E61: 61.92 | G61: =ROUND(E61*F61,2) -> 0 | H61: 800-1 | I61: RTS 17/ I | AE61: POL | AM61: 21
C62: Položka pořadí 8 : 61.92000 | E62: 61.92
A63: 11 | B63: 151101112R00 | C63: ...příložné , hloubky do 4 m | D63: m2 | E63: 73.44 | G63: =ROUND(E63*F63,2) -> 0 | H63: 800-1 | I63: RTS 17/ I | AE63: POL | AM63: 21
C64: Položka pořadí 9 : 73.44000 | E64: 73.44
B65: 161 10-11 Svislé přemístění výkopku | AC65: 0
B66: bez naložení do dopravní nádoby, ale s vyprázdněním dopravní nádoby na hromadu nebo na dopravní prostředek, | AE66: SPX
A67: 12 | B67: 161101101R00 | C67: ...z horniny 1 až 4, při hloubce výkopu přes 1 do 2,5 m | D67: m3 | E67: 42.19294 | G67: =ROUND(E67*F67,2) -> 0 | H67: 800-1 | I67: RTS 17/ I | AE67: POL | AM67: 21
C68: ruční výkop - 100% :
C69: Položka pořadí 6 : 19.03828 | E69: 19.03828
C70: Položka pořadí 7 : 23.15466 | E70: 23.15466
A71: 13 | B71: 161101151R00 | C71: ...z horniny 5 až 7, při hloubce výkopu přes 1 do 2,5 m | D71: m3 | E71: 9.26186 | G71: =ROUND(E71*F71,2) -> 0 | H71: 800-1 | I71: RTS 17/ I | AE71: POL | AM71: 21
C72: ruční výkop, dolamování - 100% :
C73: Položka pořadí 4 : 7.71822 | E73: 7.71822
C74: Položka pořadí 5 : 1.54364 | E74: 1.54364
B75: 162 10 Vodorovné přemístění výkopku | AC75: 0
B76: po suchu, bez ohledu na druh dopravního prostředku, bez naložení výkopku, avšak se složením bez rozhrnutí, | AE76: SPX
A77: 14 | B77: 162301102R00 | C77: ...z horniny 1 až 4, na vzdálenost přes 500 do 1 000 m | D77: m3 | E77: 29.7378 | G77: =ROUND(E77*F77,2) -> 0 | H77: 800-1 | I77: RTS 17/ I | AE77: POL | AM77: 21
C78: odvoz na mezideponii a zpět :
C79: Položka pořadí 19 : 14.86890*2 | E79: 29.7378
A80: 15 | B80: 162701105R00 | C80: ...z horniny 1 až 4, na vzdálenost přes 9 000 do 10 000 m | D80: m3 | E80: 27.32404 | G80: =ROUND(E80*F80,2) -> 0 | H80: 800-1 | I80: RTS 17/ I | AE80: POL | AM80: 21
C81: vytěžená zemina :
C82: Položka pořadí 6 : 19.03828 | E82: 19.03828
C83: Položka pořadí 7 : 23.15466 | E83: 23.15466
C84: odvoz na meziskládku :
C85: Položka pořadí 19 : 14.86890*-1 | E85: -14.8689
A86: 16 | B86: 162701155R00 | C86: ...z horniny 5 až 7, na vzdálenost přes 9 000 do 10 000 m | D86: m3 | E86: 9.26186 | G86: =ROUND(E86*F86,2) -> 0 | H86: 800-1 | I86: RTS 17/ I | AE86: POL | AM86: 21
C87: ruční výkop, dolamování :
C88: Položka pořadí 4 : 7.71822 | E88: 7.71822
C89: Položka pořadí 5 : 1.54364 | E89: 1.54364
B90: 162 10-9 příplatek k ceně za každých dalších i započatých 1 000 m přes 10 000 m | AC90: 1
A91: 17 | B91: 162701109R00 | C91: ...z horniny 1 až 4 | D91: m3 | E91: 382.5365 | G91: =ROUND(E91*F91,2) -> 0 | H91: 800-1 | I91: RTS 17/ I | AE91: POL | AM91: 21
C92: skládka 24 km :
C93: Položka pořadí 15 : 27.32404*14 | E93: 382.5365
B94: 162 10 Vodorovné přemístění výkopku | AC94: 0
B95: po suchu, bez ohledu na druh dopravního prostředku, bez naložení výkopku, avšak se složením bez rozhrnutí, | AE95: SPX
B96: 162 10-9 příplatek k ceně za každých dalších i započatých 1 000 m přes 10 000 m | AC96: 1
A97: 18 | B97: 162701159R00 | C97: ...z horniny 5 až 7 | D97: m3 | E97: 129.6661 | G97: =ROUND(E97*F97,2) -> 0 | H97: 800-1 | I97: RTS 17/ I | AE97: POL | AM97: 21
C98: skládka 24 km :
C99: Položka pořadí 16 : 9.26186*14 | E99: 129.6661
B100: 167 10 Nakládání, skládání, překládání neulehlého výkopku | AC100: 0
...

Sheet SO04 04.3 Pol
A1: Položkový soupis prací a dodávek | AC1: #LevelZatrideniCeniku#
A2: S: | B2: 4529 | C2: Kanalizace Valašské Příkazy
A3: O: | B3: SO04 | C3: Stoka A4 | AC3: ING
A4: R: | B4: 04.3 | C4: Stoka A4 - opravy místních komunikací
AN5: 15 | AO5: 21
A6: P.č. | B6: Číslo položky | C6: Název položky | D6: MJ | E6: množství | F6: cena / MJ | G6: celkem | H6: Ceník | I6: Cen. soustava | AN6: =SUMIF(AM8:AM175,AN5,G8:G175) -> 0 | AO6: =SUMIF(AM8:AM175,AO5,G8:G175) -> 0
B7: Ceník, kapitola | C7: Poznámka uchazeče
A8: Díl: | B8: 11 | C8: Přípravné a přidružené práce | F8: =SUM(G9:G45) -> 0 | AE8: DIL
B9: 113 10-7 Odstranění podkladů nebo krytů | AC9: 0
A10: 1 | B10: 113107415R00 | C10: ...z kameniva těženého, v ploše jednotlivě nad 50 m2, tloušťka vrstvy 150 mm | D10: m2 | E10: 267.98 | G10: =ROUND(E10*F10,2) -> 0 | H10: 822-1 | I10: RTS 17/ I | AE10: POL | AM10: 21
C11: rozšíření opravy od hrany rýhy :
C12: stoka :
C13: MK - asfalt : 285,7*0,2*2 | E13: 114.28
C14: MK - penetr. makadam : 133,4*0,5*2 | E14: 133.4
C15: odbočky :
C16: MK - asfalt : 16,5*0,2*2 | E16: 6.6
C17: MK - penetr. makadam : 1,5*0,5*2 | E17: 1.5
C18: přeložka vodovodu :
C19: MK - asfalt : 30,5*0,2*2 | E19: 12.2
A20: 2 | B20: 113107620R00 | C20: ...z kameniva hrubého drceného, v ploše jednotlivě nad 50 m2, tloušťka vrstvy 200 mm | D20: m2 | E20: 134.9 | G20: =ROUND(E20*F20,2) -> 0 | H20: 822-1 | I20: RTS 17/ I | AE20: POL | AM20: 21
C21: stoka :
C22: MK - penetr. makadam : 133,4*0,5*2 | E22: 133.4
C23: odbočky :
C24: MK - penetr. makadam : 1,5*0,5*2 | E24: 1.5
A25: 3 | B25: 113111220R00 | C25: ...z kameniva zpevněného cementem, v ploše jednotlivě nad 50 m2, tloušťka vrstvy 200 mm | D25: m2 | E25: 133.08 | G25: =ROUND(E25*F25,2) -> 0 | H25: 822-1 | I25: RTS 17/ I | AE25: POL | AM25: 21
C26: stoka :
C27: MK - asfalt : 285,7*0,2*2 | E27: 114.28
C28: odbočky :
C29: MK - asfalt : 16,5*0,2*2 | E29: 6.6
C30: přeložka vodovodu :
C31: MK - asfalt : 30,5*0,2*2 | E31: 12.2
B32: 979 08-2 Vodorovná doprava suti po suchu | AC32: 0
A33: 4 | B33: 979082213R00 | C33: ...bez naložení, ale se složením a hrubým urovnáním na vzdálenost do 1 km | D33: t | E33: 215.77465 | G33: =ROUND(E33*F33,2) -> 0 | H33: 822-1 | I33: RTS 17/ I | AE33: POL | AM33: 21
C34: Demontážní hmotnosti z položek s pořadovými čísly: :
C35: 1,2,3, :
C36: Součet: : 215,77465 | E36: 215.77465
A37: 5 | B37: 979082219R00 | C37: ...příplatek k ceně za každý další i započatý 1 km přes 1 km | D37: t | E37: 4962.8169 | G37: =ROUND(E37*F37,2) -> 0 | H37: 822-1 | I37: RTS 17/ I | AE37: POL | AM37: 21
C38: Demontážní hmotnosti z položek s pořadovými čísly: :
C39: 1,2,3, :
C40: Součet: : 4962,81692 | E40: 4962.8169
B41: 979 08-4 Poplatek za skládku | AC41: 0
A42: 6 | B42: 979990001R00 | C42: ...stavební suti | D42: t | E42: 215.77465 | G42: =ROUND(E42*F42,2) -> 0 | H42: 801-3 | I42: RTS 17/ I | AE42: POL | AM42: 21
C43: Demontážní hmotnosti z položek s pořadovými čísly: :
C44: 1,2,3, :
C45: Součet: : 215,77465 | E45: 215.77465
A46: Díl: | B46: 113 | C46: Přípravné a přidružené práce - živice | F46: =SUM(G47:G83) -> 0 | AE46: DIL
B47: 113 10-7 Odstranění podkladů nebo krytů | AC47: 0
A48: 7 | B48: 113108405R00 | C48: ...živičných, v ploše jednotlivě nad 50 m2, tloušťka vrstvy 50 mm | D48: m2 | E48: 133.08 | G48: =ROUND(E48*F48,2) -> 0 | H48: 822-1 | I48: RTS 17/ I | AE48: POL | AM48: 21
C49: rozšíření opravy od hrany rýhy :
C50: stoka :
C51: MK - asfalt : 285,7*0,2*2 | E51: 114.28
C52: odbočky :
C53: MK - asfalt : 16,5*0,2*2 | E53: 6.6
C54: přeložka vodovodu :
C55: MK - asfalt : 30,5*0,2*2 | E55: 12.2
A56: 8 | B56: 113108410R00 | C56: ...živičných, v ploše jednotlivě nad 50 m2, tloušťka vrstvy 100 mm | D56: m2 | E56: 134.9 | G56: =ROUND(E56*F56,2) -> 0 | H56: 822-1 | I56: RTS 17/ I | AE56: POL | AM56: 21
C57: stoka :
C58: MK - penetr. makadam : 133,4*0,5*2 | E58: 133.4
C59: odbočky :
C60: MK - penetr. makadam : 1,5*0,5*2 | E60: 1.5
B61: 113 15 Odstranění podkladu, krytu frézováním | AC61: 0
B62: s naložením na dopravní prostředek, očištění povrchu od frézované plochy, opotřebování frézovacích nástrojů (nožů, upínacích kroužků, držáků) nutné ruční odstranění (vybourání) živičného krytu kolem překážek, | AE62: SPX | AZ62: =B62 -> s naložením na dopravní prostředek, očištění povrchu od frézované plochy, opotřebování frézovacích nástrojů (nožů, upínacích kroužků, držáků) nutné ruční odstranění (vybourání) živičného krytu kolem překážek,
A63: 9 | B63: 113151114R00 | C63: ...povrch živičný, plochy do 500 m2 na jednom objektu nebo při provádění pruhu šířky do 750 mm, tloušťky 50 mm | D63: m2 | E63: 133.08 | G63: =ROUND(E63*F63,2) -> 0 | H63: 822-1 | I63: RTS 17/ I | AE63: POL | AM63: 21
C64: stoka :
C65: MK - asfalt : 285,7*0,2*2 | E65: 114.28
C66: odbočky :
C67: MK - asfalt : 16,5*0,2*2 | E67: 6.6
C68: přeložka vodovodu :
C69: MK - asfalt : 30,5*0,2*2 | E69: 12.2
B70: 979 08-2 Vodorovná doprava suti po suchu | AC70: 0
A71: 10 | B71: 979082213R00 | C71: ...bez naložení, ale se složením a hrubým urovnáním na vzdálenost do 1 km | D71: t | E71: 58.9556 | G71: =ROUND(E71*F71,2) -> 0 | H71: 822-1 | I71: RTS 17/ I | AE71: POL | AM71: 21
C72: Demontážní hmotnosti z položek s pořadovými čísly: :
C73: 7,8,9, :
C74: Součet: : 58,95560 | E74: 58.9556
A75: 11 | B75: 979082219R00 | C75: ...příplatek k ceně za každý další i započatý 1 km přes 1 km | D75: t | E75: 1355.9788 | G75: =ROUND(E75*F75,2) -> 0 | H75: 822-1 | I75: RTS 17/ I | AE75: POL | AM75: 21
C76: Demontážní hmotnosti z položek s pořadovými čísly: :
C77: 7,8,9, :
C78: Součet: : 1355,97880 | E78: 1355.9788
B79: 979 08-4 Poplatek za skládku | AC79: 0
A80: 12 | B80: 979990113R00 | C80: ...obalovaný asfalt | D80: t | E80: 58.9556 | G80: =ROUND(E80*F80,2) -> 0 | H80: 801-3 | I80: RTS 17/ I | AE80: POL | AM80: 21
C81: Demontážní hmotnosti z položek s pořadovými čísly: :
C82: 7,8,9, :
C83: Součet: : 58,95560 | E83: 58.9556
A84: Díl: | B84: 5 | C84: Komunikace | F84: =SUM(G85:G144) -> 0 | AE84: DIL
B85: 564 2.-11 Podklad nebo podsyp ze štěrkopísku | AC85: 0
B86: s rozprostřením, vlhčením a zhutněním | AE86: SPX
A87: 13 | B87: 564251111R00 | C87: ...tloušťka po zhutnění 150 mm | D87: m2 | E87: 864.05 | G87: =ROUND(E87*F87,2) -> 0 | H87: 822-1 | I87: RTS 17/ I | AE87: POL | AM87: 21
C88: MK - asfalt :
C89: Položka pořadí 22 : 561.56000 | E89: 561.56
C90: MK - penetr. makadam :
C91: Položka pořadí 21 : 302.49000 | E91: 302.49
B92: 564 72-1 Podklad nebo kryt z kameniva hrubého drceného | AC92: 0
B93: velikost 32 - 63 mm s rozprostřením a zhutněním | AE93: SPX
A94: 14 | B94: 564761111R00 | C94: ...tloušťka po zhutnění 200 mm | D94: m2 | E94: 302.49 | G94: =ROUND(E94*F94,2) -> 0 | H94: 822-1 | I94: RTS 17/ I | AE94: POL | AM94: 21
C95: MK - penetr. makadam :
C96: Položka pořadí 21 : 302.49000 | E96: 302.49
B97: 564 72-2 Podklad nebo kryt z kameniva hrubého s výplň. kam. | AC97: 0
B98: kamenivo hrubé drcené vel. 32 - 63 mm s výplňovým kamenivem (vibrovaný štěrk), s rozprostřením, vlhčením a zhutněním | AE98: SPX
A99: 15 | B99: 564752111R00 | C99: ...tloušťka po zhutnění 150 mm | D99: m2 | E99: 2.52 | G99: =ROUND(E99*F99,2) -> 0 | H99: 822-1 | I99: RTS 17/ I | AE99: POL | AM99: 21
C100: MK - štěrk :
...

Sheet SO04 04.4 Pol
A1: Položkový soupis prací a dodávek | AC1: #LevelZatrideniCeniku#
A2: S: | B2: 4529 | C2: Kanalizace Valašské Příkazy
A3: O: | B3: SO04 | C3: Stoka A4 | AC3: ING
A4: R: | B4: 04.4 | C4: Stoka A4 - přeložka vodovodu
AN5: 15 | AO5: 21
A6: P.č. | B6: Číslo položky | C6: Název položky | D6: MJ | E6: množství | F6: cena / MJ | G6: celkem | H6: Ceník | I6: Cen. soustava | AN6: =SUMIF(AM8:AM213,AN5,G8:G213) -> 0 | AO6: =SUMIF(AM8:AM213,AO5,G8:G213) -> 0
B7: Ceník, kapitola | C7: Poznámka uchazeče
A8: Díl: | B8: 1 | C8: Zemní práce | F8: =SUM(G9:G101) -> 0 | AE8: DIL
B9: 138 Dolamování hloubených vykopávek | AC9: 0
B10: zapažených i nezapažených v hor. 5 - 7 s případným nutným přemístěním výkopku ve výkopišti, bez naložení. | AE10: SPX
B11: 138 2 rýh ve vrstvě tloušťky do 500 mm | AC11: 1
A12: 1 | B12: 138401201R00 | C12: ...v hornině 5 | D12: m3 | E12: 4.209 | G12: =ROUND(E12*F12,2) -> 0 | H12: 800-1 | I12: RTS 17/ I | AE12: POL | AM12: 21
C13: hor.tř. V - 15% :
C14: přeložka vodovodu : 28,06*0,15 | E14: 4.209
B15: 138 Dolamování hloubených vykopávek | AC15: 0
B16: zapažených i nezapažených v hor. 5 - 7 s případným nutným přemístěním výkopku ve výkopišti, bez naložení. | AE16: SPX
B17: 138 2 rýh ve vrstvě tloušťky do 500 mm | AC17: 1
A18: 2 | B18: 138501201R00 | C18: ...v hornině 6 | D18: m3 | E18: 0.8418 | G18: =ROUND(E18*F18,2) -> 0 | H18: 800-1 | I18: RTS 17/ I | AE18: POL | AM18: 21
C19: hor.tř. VI - 3% :
C20: přeložka vodovodu : 28,06*0,03 | E20: 0.8418
B21: 139 6 Ruční výkop jam, rýh a šachet | AC21: 0
B22: s přehozením na vzdálenost do 5 m nebo s naložením na ruční dopravní prostředek | AE22: SPX
A23: 3 | B23: 139601102R00 | C23: ...v hornině 3 | D23: m3 | E23: 10.3822 | G23: =ROUND(E23*F23,2) -> 0 | H23: 800-1 | I23: RTS 17/ I | AE23: POL | AM23: 21
C24: Začátek provozního součtu
C25: přeložka vodovodu PE100 RC d110x6,6 mm : 30,5*0,8*1,6 | E25: 39.04
C26: odpočet povrchů :
C27: MK - asfalt : -30,5*0,8*0,45 | E27: -10.98
C28: Mezisoučet | E28: 28.06
C29: Konec provozního součtu
C30: hor.tř. III - 37% :
C31: přeložka vodovodu : 28,06*0,37 | E31: 10.3822
A32: 4 | B32: 139601103R00 | C32: ...v hornině 4 | D32: m3 | E32: 12.627 | G32: =ROUND(E32*F32,2) -> 0 | H32: 800-1 | I32: RTS 17/ I | AE32: POL | AM32: 21
C33: hor.tř. IV - 45% :
C34: přeložka vodovodu : 28,06*0,45 | E34: 12.627
B35: 151 10 Zřízení pažení a rozepření stěn rýh | AC35: 0
B36: pro podzemní vedení pro všechny šířky rýhy, | AE36: SPX
A37: 5 | B37: 151101101R00 | C37: ...příložné pro jakoukoliv mezerovitost, hloubky do 2 m | D37: m2 | E37: 97.6 | G37: =ROUND(E37*F37,2) -> 0 | H37: 800-1 | I37: RTS 17/ I | AE37: POL | AM37: 21
C38: přeložka vodovodu PE100 RC d110x6,6 mm : 30,5*2*1,6 | E38: 97.6
B39: 151 11 Odstranění pažení a rozepření rýh | AC39: 0
B40: pro podzemní vedení s uložením materiálu na vzdálenost do 3 m od kraje výkopu, | AE40: SPX
A41: 6 | B41: 151101111R00 | C41: ...příložné , hloubky do 2 m | D41: m2 | E41: 97.6 | G41: =ROUND(E41*F41,2) -> 0 | H41: 800-1 | I41: RTS 17/ I | AE41: POL | AM41: 21
C42: Položka pořadí 5 : 97.60000 | E42: 97.6
B43: 161 10-11 Svislé přemístění výkopku | AC43: 0
B44: bez naložení do dopravní nádoby, ale s vyprázdněním dopravní nádoby na hromadu nebo na dopravní prostředek, | AE44: SPX
A45: 7 | B45: 161101101R00 | C45: ...z horniny 1 až 4, při hloubce výkopu přes 1 do 2,5 m | D45: m3 | E45: 23.0092 | G45: =ROUND(E45*F45,2) -> 0 | H45: 800-1 | I45: RTS 17/ I | AE45: POL | AM45: 21
C46: ruční výkop - 100% :
C47: Položka pořadí 3 : 10.38220 | E47: 10.3822
C48: Položka pořadí 4 : 12.62700 | E48: 12.627
A49: 8 | B49: 161101151R00 | C49: ...z horniny 5 až 7, při hloubce výkopu přes 1 do 2,5 m | D49: m3 | E49: 5.0508 | G49: =ROUND(E49*F49,2) -> 0 | H49: 800-1 | I49: RTS 17/ I | AE49: POL | AM49: 21
C50: ruční výkop, dolamování - 100% :
C51: Položka pořadí 1 : 4.20900 | E51: 4.209
C52: Položka pořadí 2 : 0.84180 | E52: 0.8418
B53: 162 10 Vodorovné přemístění výkopku | AC53: 0
B54: po suchu, bez ohledu na druh dopravního prostředku, bez naložení výkopku, avšak se složením bez rozhrnutí, | AE54: SPX
A55: 9 | B55: 162701105R00 | C55: ...z horniny 1 až 4, na vzdálenost přes 9 000 do 10 000 m | D55: m3 | E55: 28.06 | G55: =ROUND(E55*F55,2) -> 0 | H55: 800-1 | I55: RTS 17/ I | AE55: POL | AM55: 21
C56: vytěžená zemina :
C57: Položka pořadí 1 : 4.20900 | E57: 4.209
C58: Položka pořadí 2 : 0.84180 | E58: 0.8418
C59: Položka pořadí 3 : 10.38220 | E59: 10.3822
C60: Položka pořadí 4 : 12.62700 | E60: 12.627
A61: 10 | B61: 162701155R00 | C61: ...z horniny 5 až 7, na vzdálenost přes 9 000 do 10 000 m | D61: m3 | E61: 5.0508 | G61: =ROUND(E61*F61,2) -> 0 | H61: 800-1 | I61: RTS 17/ I | AE61: POL | AM61: 21
C62: ruční výkop, dolamování :
C63: Položka pořadí 1 : 4.20900 | E63: 4.209
C64: Položka pořadí 2 : 0.84180 | E64: 0.8418
B65: 162 10-9 příplatek k ceně za každých dalších i započatých 1 000 m přes 10 000 m | AC65: 1
A66: 11 | B66: 162701109R00 | C66: ...z horniny 1 až 4 | D66: m3 | E66: 392.84 | G66: =ROUND(E66*F66,2) -> 0 | H66: 800-1 | I66: RTS 17/ I | AE66: POL | AM66: 21
C67: skládka 24 km :
C68: Položka pořadí 9 : 28.06000*14 | E68: 392.84
B69: 162 10 Vodorovné přemístění výkopku | AC69: 0
B70: po suchu, bez ohledu na druh dopravního prostředku, bez naložení výkopku, avšak se složením bez rozhrnutí, | AE70: SPX
B71: 162 10-9 příplatek k ceně za každých dalších i započatých 1 000 m přes 10 000 m | AC71: 1
A72: 12 | B72: 162701159R00 | C72: ...z horniny 5 až 7 | D72: m3 | E72: 70.7112 | G72: =ROUND(E72*F72,2) -> 0 | H72: 800-1 | I72: RTS 17/ I | AE72: POL | AM72: 21
C73: skládka 24 km :
C74: Položka pořadí 10 : 5.05080*14 | E74: 70.7112
B75: 174 10-11 Zásyp sypaninou se zhutněním | AC75: 0
B76: z jakékoliv horniny s uložením výkopku po vrstvách, | AE76: SPX
A77: 13 | B77: 174101101R00 | C77: ...jam, šachet, rýh nebo kolem objektů v těchto vykopávkách | D77: m3 | E77: 15.616 | G77: =ROUND(E77*F77,2) -> 0 | H77: 800-1 | I77: RTS 17/ I | AE77: POL | AM77: 21
C78: včetně strojního přemístění materiálu pro zásyp ze vzdálenosti do 10 m od okraje zásypu | BA78: =C78 -> včetně strojního přemístění materiálu pro zásyp ze vzdálenosti do 10 m od okraje zásypu
C79: vytěžená zemina :
C80: Položka pořadí 1 : 4.20900 | E80: 4.209
C81: Položka pořadí 2 : 0.84180 | E81: 0.8418
C82: Položka pořadí 3 : 10.38220 | E82: 10.3822
C83: Položka pořadí 4 : 12.62700 | E83: 12.627
C84: Mezisoučet | E84: 28.06
C85: vytlačená zemina :
C86: obsyp+potrubí+lože :
C87: přeložka vodovodu PE100 RC d110x6,6 mm : -30,5*0,8*(0,3+0,11+0,1) | E87: -12.444
B88: 175 10-11 Obsyp potrubí | AC88: 0
B89: sypaninou z vhodných hornin tř. 1 - 4 nebo materiálem připraveným podél výkopu ve vzdálenosti do 3 m od jeho kraje, pro jakoukoliv hloubku výkopu a jakoukoliv míru zhutnění, | AE89: SPX | AZ89: =B89 -> sypaninou z vhodných hornin tř. 1 - 4 nebo materiálem připraveným podél výkopu ve vzdálenosti do 3 m od jeho kraje, pro jakoukoliv hloubku výkopu a jakoukoliv míru zhutnění,
A90: 14 | B90: 175101101RT2 | C90: ...bez prohození sypaniny | D90: m3 | E90: 10.004 | G90: =ROUND(E90*F90,2) -> 0 | H90: 800-1 | I90: RTS 17/ I | AE90: POL | AM90: 21
C91: přeložka vodovodu PE100 RC d110x6,6 mm : 30,5*0,8*(0,3+0,11) | E91: 10.004
B92: 199 Poplatky za skládku | AC92: 0
A93: 15 | B93: 199000002R00 | C93: ...horniny 1- 4 | D93: m3 | E93: 28.06 | G93: =ROUND(E93*F93,2) -> 0 | H93: 800-1 | I93: RTS 17/ I | AE93: POL | AM93: 21
C94: Položka pořadí 9 : 28.06000 | E94: 28.06
A95: 16 | B95: 199000003R00 | C95: ...horniny 5 - 7 | D95: m3 | E95: 5.0508 | G95: =ROUND(E95*F95,2) -> 0 | H95: 800-1 | I95: RTS 17/ I | AE95: POL | AM95: 21
C96: ruční výkop, dolamování :
C97: Položka pořadí 1 : 4.20900 | E97: 4.209
C98: Položka pořadí 2 : 0.84180 | E98: 0.8418
A99: 17 | B99: 583PC08 | C99: Vhodný zásypový materiál pro místní komunikace dle TP 146 vč. dopravy na staveniště | D99: m3 | E99: 17.34938 | G99: =ROUND(E99*F99,2) -> 0 | I99: Vlastní | AE99: POL_NEZ | AF99: 3_ | AM99: 21
C100: zásyp v MK dovez.mat. :
...

Sheet Rekapitulace Objekt SO05
A1: Stavba : | B1: =Stavba!CisloStavby -> 4529 | C1: =Stavba!NazevStavby -> Kanalizace Valašské Příkazy
A2: Objekt : | B2: SO05 | C2: Stoka A5 | G2: JKSO : | H2: 827.22.1.2 | O2: ING
A4: Rekapitulace stavebního objektu
A6: Zákl. údaje | B6: =B2 -> SO05
B7: =C2 -> Stoka A5
A9: Třídník stavebních objektů: | B9: 827 | C9: Vedení trubní dálková přípojná
B10: 827.2 | C10: Kanalizace trubní
B11: 827.22 | C11: sběrače kanalizační a stoky odlehčovací
B13: 827.22.1 | C13: potrubí z trub z plastických hmot a sklolaminátu
B15: 827.22.1.2 | C15: rekonstrukce a modernizace objektu prostá
A17: Rozsah: | B17: 34.39 | C17: m
A19: Rekapitulace soupisů náležejících k objektu
A20: Soupis | H20: Cena (Kč)
A21: 05.1 | B21: Stoka A5 - kanalizační stoka | H21: ='SO05 05.1 Pol'!G339 -> 0 | O21: ='SO05 05.1 Pol'!AN6 -> 0 | P21: ='SO05 05.1 Pol'!AO6 -> 0
B22: Celkem objekt | D22: =B2 -> SO05 | H22: =SUM(H21:H21) -> 0
H24: Rekapitulace DPH | O24: =H25 -> 0 | P24: =H27 -> 0
A25: Základ pro DPH | D25: 15 | E25: % | H25: =SUM(O21:O22) -> 0
A26: DPH | D26: 15 | E26: % | H26: =H25*(D26/100) -> 0
A27: Základ pro DPH | D27: 21 | E27: % | H27: =SUM(P21:P22) -> 0
A28: DPH | D28: 21 | E28: % | H28: =H27*(D28/100) -> 0
A29: Celkem za objekt s DPH | H29: =SUM(H25:H28) -> 0
A31: Rekapitulace soupisu | D31: 05.1 | E31: Stoka A5 - kanalizační stoka | BC31: =E31 -> Stoka A5 - kanalizační stoka
A32: Stavební díl | H32: Cena (Kč)
A33: 1 | B33: Zemní práce | H33: ='SO05 05.1 Pol'!F8 -> 0
A34: 2 | B34: Základy a zvláštní zakládání | H34: ='SO05 05.1 Pol'!F211 -> 0
A35: 38 | B35: Kompletní konstrukce | H35: ='SO05 05.1 Pol'!F218 -> 0
A36: 45 | B36: Podkladní a vedlejší konstrukce | H36: ='SO05 05.1 Pol'!F228 -> 0
A37: 8 | B37: Trubní vedení | H37: ='SO05 05.1 Pol'!F250 -> 0
A38: 91 | B38: Doplňující práce na komunikaci | H38: ='SO05 05.1 Pol'!F317 -> 0
A39: 99 | B39: Staveništní přesun hmot | H39: ='SO05 05.1 Pol'!F329 -> 0
B40: Celkem soupis | D40: =D31 -> 05.1 | H40: =SUM(H33:H39) -> 0

Sheet SO05 05.1 Pol
A1: Položkový soupis prací a dodávek | AC1: #LevelZatrideniCeniku#
A2: S: | B2: 4529 | C2: Kanalizace Valašské Příkazy
A3: O: | B3: SO05 | C3: Stoka A5 | AC3: ING
A4: R: | B4: 05.1 | C4: Stoka A5 - kanalizační stoka
AN5: 15 | AO5: 21
A6: P.č. | B6: Číslo položky | C6: Název položky | D6: MJ | E6: množství | F6: cena / MJ | G6: celkem | H6: Ceník | I6: Cen. soustava | AN6: =SUMIF(AM8:AM339,AN5,G8:G339) -> 0 | AO6: =SUMIF(AM8:AM339,AO5,G8:G339) -> 0
B7: Ceník, kapitola | C7: Poznámka uchazeče
A8: Díl: | B8: 1 | C8: Zemní práce | F8: =SUM(G9:G210) -> 0 | AE8: DIL
B9: 119 00-14 Dočasné zajištění podzemního potrubí nebo vedení | AC9: 0
B10: ve výkopišti ve stavu a poloze, ve kterých byla na začátku zemních prací, a to podepřením, vzepřením nebo vyvěšením, případně s ochranným bedněním, se zřízením a odstraněním zajišťovací konstrukce a včetně opotřebení použitých materiálů, | AE10: SPX | AZ10: =B10 -> ve výkopišti ve stavu a poloze, ve kterých byla na začátku zemních prací, a to podepřením, vzepřením nebo vyvěšením, případně s ochranným bedněním, se zřízením a odstraněním zajišťovací konstrukce a včetně opotřebení použitých materiálů,
B11: 119 00-141 ocelového potrubí | AC11: 1
A12: 1 | B12: 119001401R00 | C12: ...DN do 200 mm | D12: m | E12: 1.35 | G12: =ROUND(E12*F12,2) -> 0 | H12: 800-1 | I12: RTS 17/ I | AE12: POL | AM12: 21
C13: křížení inženýrských sítí :
C14: plynovod : 1,35*1 | E14: 1.35
B15: 121 10-11 Sejmutí ornice | AC15: 0
B16: nebo lesní půdy, s vodorovným přemístěním na hromady v místě upotřebení nebo na dočasné či trvalé skládky se složením | AE16: SPX
A17: 2 | B17: 121101101R00 | C17: ...s přemístěním na vzdálenost do 50 m | D17: m3 | E17: 11.13 | G17: =ROUND(E17*F17,2) -> 0 | H17: 800-1 | I17: RTS 17/ I | AE17: POL | AM17: 21
C18: stoka A5 :
C19: nezp.tráva : 35,0*2,0*0,1 | E19: 7
C20: rozš. pro OK1 : 4,5*(3,0-2,0)*0,1*1 | E20: 0.45
C21: OS1A5 :
C22: nezp.tráva : 18,4*2,0*0,1 | E22: 3.68
B23: 130 00 Příplatek k cenám za ztížené vykopávky | AC23: 0
B24: Příplatek k cenám hloubených vykopávek za ztížení vykopávky v blízkosti podzemního vedení nebo výbušnin pro jakoukoliv třídu horniny. | AE24: SPX
A25: 3 | B25: 130001101R00 | C25: ...v horninách jakékoliv třídy | D25: m3 | E25: 6.48 | G25: =ROUND(E25*F25,2) -> 0 | H25: 800-1 | I25: RTS 17/ I | AE25: POL | AM25: 21
C26: křížení inženýrských sítí :
C27: plynovod : 2,0*1,35*2,4 | E27: 6.48
B28: 130 90 Bourání konstrukcí v hloubených vykopávkách | AC28: 0
B29: s přemístěním suti na hromady na vzdálenost do 20 m nebo s uložením na dopravní prostředek, | AE29: SPX
A30: 4 | B30: 130901121R00 | C30: ...z betonu, prostého, pneumatickým kladivem | D30: m3 | E30: 4.66056 | G30: =ROUND(E30*F30,2) -> 0 | H30: 800-1 | I30: RTS 17/ I | AE30: POL | AM30: 21
C31: bourání stáv. kanalizace :
C32: DN500 : 34,4*3,1416*(0,325*0,325-0,25*0,25) | E32: 4.66056
B33: 132 20 Hloubení rýh šířky přes 60 do 200 cm | AC33: 0
B34: zapažených i nezapažených, s urovnáním dna do předepsaného profilu a spádu, s případně nutným přehozením výkopku na vzdálenost do 3 m ve výkopišti, s přehozením výkopku na přilehlém terénu na vzdálenost do 5 m od podélné osy rýhy nebo s naložením výkopku na dopravní prostředek. | AE34: SPX | AZ34: =B34 -> zapažených i nezapažených, s urovnáním dna do předepsaného profilu a spádu, s případně nutným přehozením výkopku na vzdálenost do 3 m ve výkopišti, s přehozením výkopku na přilehlém terénu na vzdálenost do 5 m od podélné osy rýhy nebo s naložením výkopku na dopravní prostředek.
A35: 5 | B35: 132201212R00 | C35: ...do 1000 m3, v hornině 3, hloubení strojně | D35: m3 | E35: 151.3098 | G35: =ROUND(E35*F35,2) -> 0 | H35: 800-1 | I35: RTS 17/ I | AE35: POL | AM35: 21
C36: Začátek provozního součtu
C37: stoka A5 :
C38: 19,0*1,1*3,1 | E38: 64.79
C39: 16,0*1,35*2,5 | E39: 54
C40: rozš. pro OK1 : 4,2*2,6*(2,77+0,25+0,2) | E40: 35.1624
C41: OS1A5 :
C42: 18,4*1,35*2,5 | E42: 62.1
C43: odpočet povrchů :
C44: stoka A5 :
C45: nezp.tráva : -19,0*1,1*0,1 | E45: -2.09
C46: nezp.tráva : -16,0*1,35*0,1 | E46: -2.16
C47: rozš. pro OK1 : -4,2*2,6*0,1*1 | E47: -1.092
C48: OS1A5 :
C49: nezp.tráva : -18,4*1,35*0,1 | E49: -2.484
C51: Mezisoučet | E51: 208.2264
C52: Konec provozního součtu
C53: strojní výkop - hor.tř.III - 75% :
C54: stoka A5 + OS1A5 : 208,2264*0,75 | E54: 156.1698
C55: odpočet ruční výkop (křížení sítí) :
C56: Položka pořadí 11 : 4.86000*-1 | E56: -4.86
A57: 6 | B57: 132201219R00 | C57: ...příplatek za lepivost, v hornině 3, | D57: m3 | E57: 70.27641 | G57: =ROUND(E57*F57,2) -> 0 | H57: 800-1 | I57: RTS 17/ I | AE57: POL | AM57: 21
C58: lepivost 45% :
C59: Položka pořadí 5 : 151.30980*0,45 | E59: 68.08941
C60: Položka pořadí 11 : 4.86000*0,45 | E60: 2.187
A61: 7 | B61: 132301212R00 | C61: ...do 1000 m3, v hornině 4, hloubení strojně | D61: m3 | E61: 44.38421 | G61: =ROUND(E61*F61,2) -> 0 | H61: 800-1 | I61: RTS 17/ I | AE61: POL | AM61: 21
C62: hor.tř.IV - 22% :
C63: stoka A5 - strojní výkop : 208,2264*0,22 | E63: 45.80981
C64: odpočet ruční výkop (křížení sítí) :
C65: Položka pořadí 12 : 1.42560*-1 | E65: -1.4256
A66: 8 | B66: 132301219R00 | C66: ...příplatek za lepivost, v hornině 4, | D66: m3 | E66: 20.61441 | G66: =ROUND(E66*F66,2) -> 0 | H66: 800-1 | I66: RTS 17/ I | AE66: POL | AM66: 21
C67: lepivost 45% :
C68: Položka pořadí 7 : 44.38420*0,45 | E68: 19.97289
C69: Položka pořadí 12 : 1.42560*0,45 | E69: 0.64152
A70: 9 | B70: 132401211R00 | C70: ...jakékoliv množství, v hornině 5, hloubení strojně | D70: m3 | E70: 6.05239 | G70: =ROUND(E70*F70,2) -> 0 | H70: 800-1 | I70: RTS 17/ I | AE70: POL | AM70: 21
C71: hor.tř.V - 3% :
C72: stoka A5 - strojní výkop : 208,2264*0,03 | E72: 6.24679
C73: odpočet ruční výkop, dolamování (křížení sítí) :
C74: Položka pořadí 10 : 0.19440*-1 | E74: -0.1944
B75: 138 Dolamování hloubených vykopávek | AC75: 0
B76: zapažených i nezapažených v hor. 5 - 7 s případným nutným přemístěním výkopku ve výkopišti, bez naložení. | AE76: SPX
B77: 138 2 rýh ve vrstvě tloušťky do 500 mm | AC77: 1
A78: 10 | B78: 138401201R00 | C78: ...v hornině 5 | D78: m3 | E78: 0.1944 | G78: =ROUND(E78*F78,2) -> 0 | H78: 800-1 | I78: RTS 17/ I | AE78: POL | AM78: 21
C79: hor.tř. V - 3% :
C80: stoka A5 - ruční výkop, dolamování : 6,48*0,03 | E80: 0.1944
B81: 139 6 Ruční výkop jam, rýh a šachet | AC81: 0
B82: s přehozením na vzdálenost do 5 m nebo s naložením na ruční dopravní prostředek | AE82: SPX
A83: 11 | B83: 139601102R00 | C83: ...v hornině 3 | D83: m3 | E83: 4.86 | G83: =ROUND(E83*F83,2) -> 0 | H83: 800-1 | I83: RTS 17/ I | AE83: POL | AM83: 21
C84: Začátek provozního součtu
C85: křížení inženýrských sítí :
C86: plynovod : 2,0*1,35*2,4 | E86: 6.48
C87: Mezisoučet | E87: 6.48
C88: Konec provozního součtu
C89: ruční výkop - hor.tř. III - 75% :
C90: stoka A5 + OS1A5 : 6,48*0,75 | E90: 4.86
A91: 12 | B91: 139601103R00 | C91: ...v hornině 4 | D91: m3 | E91: 1.4256 | G91: =ROUND(E91*F91,2) -> 0 | H91: 800-1 | I91: RTS 17/ I | AE91: POL | AM91: 21
C92: hor.tř. IV - 22% :
C93: stoka A5 - ruční výkop : 6,48*0,22 | E93: 1.4256
B94: 151 10 Zřízení pažení a rozepření stěn rýh | AC94: 0
B95: pro podzemní vedení pro všechny šířky rýhy, | AE95: SPX
A96: 13 | B96: 151101102R00 | C96: ...příložné pro jakoukoliv mezerovitost, hloubky do 4 m | D96: m2 | E96: 333.592 | G96: =ROUND(E96*F96,2) -> 0 | H96: 800-1 | I96: RTS 17/ I | AE96: POL | AM96: 21
C97: stoka A5 :
C98: 19,0*2*3,1 | E98: 117.8
C99: 16,0*2*2,5 | E99: 80
C100: rozš. pro OK1 : (4,2*2+2,6*2)*(2,77+0,25+0,2) | E100: 43.792
C101: OS1A5 :
...
