Workbook
Name CelkemDPHVypocet: Stavba!$H$49
Name CenaCelkem: Stavba!$G$29
Name CenaCelkemBezDPH: Stavba!$G$28
Name CenaCelkemVypocet: Stavba!$I$49
Name cisloobjektu: Stavba!$D$3
Name CisloRozpoctu: '[1]Krycí list'!$C$2
Name CisloStavby: Stavba!$D$2
Name cislostavby: '[1]Krycí list'!$A$7
Name CisloStavebnihoRozpoctu: Stavba!$D$4
Name dadresa: Stavba!$D$12:$G$12
Name DIČ: Stavba!$I$12
Name dmisto: Stavba!$D$13:$G$13
Name DPHSni: Stavba!$G$24
Name DPHZakl: Stavba!$G$26
Name dpsc: Stavba!$C$13
Name IČO: Stavba!$I$11
Name Mena: Stavba!$J$29
Name MistoStavby: Stavba!$D$4
Name nazevobjektu: Stavba!$E$3
Name NazevRozpoctu: '[1]Krycí list'!$D$2
Name NazevStavby: Stavba!$E$2
Name nazevstavby: '[1]Krycí list'!$C$7
Name NazevStavebnihoRozpoctu: Stavba!$E$4
Name oadresa: Stavba!$D$6
Name Objednatel: Stavba!$D$5
Name Objekt: Stavba!$B$38
Name odic: Stavba!$I$6
Name oico: Stavba!$I$5
Name omisto: Stavba!$D$7
Name onazev: Stavba!$D$6
Name opsc: Stavba!$C$7
Name padresa: Stavba!$D$9
Name pdic: Stavba!$I$9
Name pico: Stavba!$I$8
Name pmisto: Stavba!$D$10
Name PocetMJ: #REF!
Name PoptavkaID: Stavba!$A$1
Name pPSC: Stavba!$C$10
Name Projektant: Stavba!$D$8
Name SazbaDPH1: Stavba!$E$23
Name SazbaDPH1: '[1]Krycí list'!$C$30
Name SazbaDPH2: Stavba!$E$25
Name SazbaDPH2: '[1]Krycí list'!$C$32
Name SloupecCC: #REF!
Name SloupecCisloPol: #REF!
Name SloupecJC: #REF!
Name SloupecMJ: #REF!
Name SloupecMnozstvi: #REF!
Name SloupecNazPol: #REF!
Name SloupecPC: #REF!
Name Vypracoval: Stavba!$D$14
Name ZakladDPHSni: Stavba!$G$23
Name ZakladDPHSniVypocet: Stavba!$F$49
Name ZakladDPHZakl: Stavba!$G$25
Name ZakladDPHZaklVypocet: Stavba!$G$49
Name Zaokrouhleni: Stavba!$G$27
Name Zhotovitel: Stavba!$D$11:$G$11

Sheet Pokyny pro vyplnění
A1: Pokyny pro vyplnění
A2: Ve všech listech tohoto souboru můžete měnit pouze buňky s modrým pozadím. Jedná se o tyto údaje : - údaje o firmě - jednotkové ceny položek zadané na maximálně dvě desetinná místa

Sheet Stavba
A1: #RTSROZP# | B1: Položkový rozpočet stavby
B2: Stavba: | D2: 20 | E2: Výstavba chodníku v ul. Lipovská
B5: Objednatel: | H5: IČO:
H6: DIČ:
B8: Projektant: | D8: NELL PROJEKT s.r.o. | H8: IČO: | I8: 29209081
D9: Plesníkova 5559 | H9: DIČ:
C10: 76005 | D10: Zlín
B11: Zhotovitel: | H11: IČO:
H12: DIČ:
B14: Vypracoval: | D14: Ing. Tomáš Ruth
B15: Rozpis ceny | I15: Celkem
A16: HSV | B16: HSV | I16: =SUMIF(F65:F78,A16,I65:I78)+SUMIF(F65:F78,"PSU",I65:I78) -> 0
A17: PSV | B17: PSV | I17: =SUMIF(F65:F78,A17,I65:I78) -> 0
A18: MON | B18: MON | I18: =SUMIF(F65:F78,A18,I65:I78) -> 0
A19: VN | B19: Vedlejší a ostatní náklady | I19: =SUMIF(F65:F78,A19,I65:I78) -> 0
A20: ON
B21: Celkem | I21: =SUM(I16:J20) -> 0
B22: Rekapitulace daní
B23: Základ pro sníženou DPH | E23: 15 | F23: % | G23: =ZakladDPHSniVypocet -> 0 | J23: =Mena -> CZK
B24: Snížená DPH | E24: =SazbaDPH1 -> 15 | F24: % | G24: =ZakladDPHSni*SazbaDPH1/100 -> 0 | J24: =Mena -> CZK
B25: Základ pro základní DPH | E25: 21 | F25: % | G25: =ZakladDPHZaklVypocet -> 0 | J25: =Mena -> CZK
B26: Základní DPH | E26: =SazbaDPH2 -> 21 | F26: % | G26: =ZakladDPHZakl*SazbaDPH2/100 -> 0 | J26: =Mena -> CZK
B27: Zaokrouhlení | G27: =0 -> 0 | J27: =Mena -> CZK
B28: Cena celkem bez DPH | G28: =ZakladDPHSniVypocet+ZakladDPHZaklVypocet -> 0 | J28: =Mena -> CZK
B29: Cena celkem s DPH | G29: =ZakladDPHSni+DPHSni+ZakladDPHZakl+DPHZakl+Zaokrouhleni -> 0 | J29: CZK
C32: v | F32: dne | H32: =TODAY() -> 42781
D35: Za zhotovitele | H35: Za objednatele
B37: Rekapitulace dílčích částí
A38: #CASTI>> | B38: Číslo | C38: Název | F38: =B23 -> Základ pro sníženou DPH | G38: =B25 -> Základ pro základní DPH | H38: DPH celkem | I38: Cena celkem | J38: %
A39: 1 | B39: Stavba | F39: ='1 1 Naklady'!AE38+'SO 101 1 Pol'!AE265+'SO 101 2 Pol'!AE84+'SO 102 SO 102 Pol'!AE142+'SO 103 SO 103 Pol'!AE146 -> 0 | G39: ='1 1 Naklady'!AF38+'SO 101 1 Pol'!AF265+'SO 101 2 Pol'!AF84+'SO 102 SO 102 Pol'!AF142+'SO 103 SO 103 Pol'!AF146 -> 0 | H39: =(F39*SazbaDPH1/100)+(G39*SazbaDPH2/100) -> 0 | I39: =F39+G39+H39 -> 0 | J39: =IF(CenaCelkemVypocet=0,"",I39/CenaCelkemVypocet*100)
A40: 2 | B40: 1 | C40: Vedlejší a ostatní náklady | F40: ='1 1 Naklady'!AE38 -> 0 | G40: ='1 1 Naklady'!AF38 -> 0 | H40: =(F40*SazbaDPH1/100)+(G40*SazbaDPH2/100) -> 0 | I40: =F40+G40+H40 -> 0 | J40: =IF(CenaCelkemVypocet=0,"",I40/CenaCelkemVypocet*100)
A41: 3 | B41: 1 | C41: Vedlejší a ostatní náklady | F41: ='1 1 Naklady'!AE38 -> 0 | G41: ='1 1 Naklady'!AF38 -> 0 | H41: =(F41*SazbaDPH1/100)+(G41*SazbaDPH2/100) -> 0 | I41: =F41+G41+H41 -> 0 | J41: =IF(CenaCelkemVypocet=0,"",I41/CenaCelkemVypocet*100)
A42: 2 | B42: SO 101 | C42: Chodníky | F42: ='SO 101 1 Pol'!AE265+'SO 101 2 Pol'!AE84 -> 0 | G42: ='SO 101 1 Pol'!AF265+'SO 101 2 Pol'!AF84 -> 0 | H42: =(F42*SazbaDPH1/100)+(G42*SazbaDPH2/100) -> 0 | I42: =F42+G42+H42 -> 0 | J42: =IF(CenaCelkemVypocet=0,"",I42/CenaCelkemVypocet*100)
A43: 3 | B43: 1 | C43: Chodníky | F43: ='SO 101 1 Pol'!AE265 -> 0 | G43: ='SO 101 1 Pol'!AF265 -> 0 | H43: =(F43*SazbaDPH1/100)+(G43*SazbaDPH2/100) -> 0 | I43: =F43+G43+H43 -> 0 | J43: =IF(CenaCelkemVypocet=0,"",I43/CenaCelkemVypocet*100)
A44: 3 | B44: 2 | C44: Opěrná stěna | F44: ='SO 101 2 Pol'!AE84 -> 0 | G44: ='SO 101 2 Pol'!AF84 -> 0 | H44: =(F44*SazbaDPH1/100)+(G44*SazbaDPH2/100) -> 0 | I44: =F44+G44+H44 -> 0 | J44: =IF(CenaCelkemVypocet=0,"",I44/CenaCelkemVypocet*100)
A45: 2 | B45: SO 102 | C45: Kanalizace | F45: ='SO 102 SO 102 Pol'!AE142 -> 0 | G45: ='SO 102 SO 102 Pol'!AF142 -> 0 | H45: =(F45*SazbaDPH1/100)+(G45*SazbaDPH2/100) -> 0 | I45: =F45+G45+H45 -> 0 | J45: =IF(CenaCelkemVypocet=0,"",I45/CenaCelkemVypocet*100)
A46: 3 | B46: SO 102 | C46: Kanalizace | F46: ='SO 102 SO 102 Pol'!AE142 -> 0 | G46: ='SO 102 SO 102 Pol'!AF142 -> 0 | H46: =(F46*SazbaDPH1/100)+(G46*SazbaDPH2/100) -> 0 | I46: =F46+G46+H46 -> 0 | J46: =IF(CenaCelkemVypocet=0,"",I46/CenaCelkemVypocet*100)
A47: 2 | B47: SO 103 | C47: Komunikace do obytné zóny | F47: ='SO 103 SO 103 Pol'!AE146 -> 0 | G47: ='SO 103 SO 103 Pol'!AF146 -> 0 | H47: =(F47*SazbaDPH1/100)+(G47*SazbaDPH2/100) -> 0 | I47: =F47+G47+H47 -> 0 | J47: =IF(CenaCelkemVypocet=0,"",I47/CenaCelkemVypocet*100)
A48: 3 | B48: SO 103 | C48: Komunikace do obytné zóny | F48: ='SO 103 SO 103 Pol'!AE146 -> 0 | G48: ='SO 103 SO 103 Pol'!AF146 -> 0 | H48: =(F48*SazbaDPH1/100)+(G48*SazbaDPH2/100) -> 0 | I48: =F48+G48+H48 -> 0 | J48: =IF(CenaCelkemVypocet=0,"",I48/CenaCelkemVypocet*100)
B49: Celkem za stavbu | F49: =SUMIF(A39:A48,"=1",F39:F48) -> 0 | G49: =SUMIF(A39:A48,"=1",G39:G48) -> 0 | H49: =SUMIF(A39:A48,"=1",H39:H48) -> 0 | I49: =SUMIF(A39:A48,"=1",I39:I48) -> 0 | J49: =SUMIF(A39:A48,"=1",J39:J48) -> 0
...

Sheet VzorPolozky
A1: Položkový rozpočet
A2: S:
A3: O:
A4: R:

Sheet 1 1 Naklady
A1: Položkový rozpočet | AG1: #TypZaznamu#
A2: S: | B2: 20 | C2: Výstavba chodníku v ul. Lipovská | AG2: STA
A3: O: | B3: 1 | C3: Vedlejší a ostatní náklady | AC3: NAK | AG3: OBJ
A4: R: | B4: 1 | C4: Vedlejší a ostatní náklady | AG4: ROZ
A6: P.č. | B6: Číslo položky | C6: Název položky | D6: MJ | E6: množství | F6: cena / MJ | G6: Celkem | H6: Dodávka | I6: Dodávka celk. | J6: Montáž | K6: Montáž celk. | L6: DPH | M6: cena s DPH | N6: hmotnost / MJ | O6: hmotnost celk.(t) | P6: dem. hmotnost / MJ | Q6: dem. hmotnost celk.(t) | R6: Ceník | S6: Cen. soustava | T6: Nhod / MJ | U6: Nhod celk. | V6: Dodavatel
A7: Díl: | B7: VN | C7: Vedlejší náklady | G7: =SUMIF(AG8:AG36,"<>NOR",G8:G36) -> 0 | I7: =SUM(I8:I36) -> 0 | K7: =SUM(K8:K36) -> 0 | M7: =SUM(M8:M36) -> 0 | O7: =SUM(O8:O36) -> 0 | Q7: =SUM(Q8:Q36) -> 0 | U7: =SUM(U8:U36) -> 0 | AG7: DIL
A8: 1 | B8: 005111020R | C8: Vytyčení stavby | D8: Soubor | E8: 1 | G8: =ROUND(E8*F8,2) -> 0 | I8: =ROUND(E8*H8,2) -> 0 | K8: =ROUND(E8*J8,2) -> 0 | L8: 21 | M8: =G8*(1+L8/100) -> 0 | N8: 0 | O8: =ROUND(E8*N8,2) -> 0 | P8: 0 | Q8: =ROUND(E8*P8,2) -> 0 | R8: 800-0 | S8: RTS 17/ I | T8: 0 | U8: =ROUND(E8*T8,2) -> 0 | AG8: POL99_8
C9: Geodetické zaměření rohů stavby, stabilizace bodů a sestavení laviček. | AG9: POP | BA9: =C9 -> Geodetické zaměření rohů stavby, stabilizace bodů a sestavení laviček.
C10: Vyhotovení protokolu o vytyčení stavby se seznamem souřadnic vytyčených bodů a jejich polohopisnými (S-JTSK) a výškopisnými (Bpv) hodnotami. | AG10: POP | BA10: =C10 -> Vyhotovení protokolu o vytyčení stavby se seznamem souřadnic vytyčených bodů a jejich polohopisnými (S-JTSK) a výškopisnými (Bpv) hodnotami.
A11: 2 | B11: 005111021R | C11: Vytyčení inženýrských sítí | D11: Soubor | E11: 1 | G11: =ROUND(E11*F11,2) -> 0 | I11: =ROUND(E11*H11,2) -> 0 | K11: =ROUND(E11*J11,2) -> 0 | L11: 21 | M11: =G11*(1+L11/100) -> 0 | N11: 0 | O11: =ROUND(E11*N11,2) -> 0 | P11: 0 | Q11: =ROUND(E11*P11,2) -> 0 | R11: 800-0 | S11: RTS 17/ I | T11: 0 | U11: =ROUND(E11*T11,2) -> 0 | AG11: POL99_8
C12: Zaměření a vytýčení stávajících inženýrských sítí v místě stavby z hlediska jejich ochrany při provádění stavby. | AG12: POP | BA12: =C12 -> Zaměření a vytýčení stávajících inženýrských sítí v místě stavby z hlediska jejich ochrany při provádění stavby.
A13: 3 | B13: 005241020R | C13: Geodetické zaměření skutečného provedení | D13: Soubor | E13: 1 | G13: =ROUND(E13*F13,2) -> 0 | I13: =ROUND(E13*H13,2) -> 0 | K13: =ROUND(E13*J13,2) -> 0 | L13: 21 | M13: =G13*(1+L13/100) -> 0 | N13: 0 | O13: =ROUND(E13*N13,2) -> 0 | P13: 0 | Q13: =ROUND(E13*P13,2) -> 0 | R13: 800-0 | S13: RTS 17/ I | T13: 0 | U13: =ROUND(E13*T13,2) -> 0 | AG13: POL99_8
C14: - náklady na provedení skutečného zaměření stavby v rozsahu nezbytném pro zápis změny do katastru nemovitostí. | AG14: POP | BA14: =C14 -> - náklady na provedení skutečného zaměření stavby v rozsahu nezbytném pro zápis změny do katastru nemovitostí.
A15: 4 | B15: 005241010R | C15: Dokumentace skutečného provedení | D15: Soubor | E15: 1 | G15: =ROUND(E15*F15,2) -> 0 | I15: =ROUND(E15*H15,2) -> 0 | K15: =ROUND(E15*J15,2) -> 0 | L15: 21 | M15: =G15*(1+L15/100) -> 0 | N15: 0 | O15: =ROUND(E15*N15,2) -> 0 | P15: 0 | Q15: =ROUND(E15*P15,2) -> 0 | R15: 800-0 | S15: RTS 17/ I | T15: 0 | U15: =ROUND(E15*T15,2) -> 0 | AG15: POL99_8
C16: Náklady na vyhotovení dokumentace skutečného provedení stavby a její předání objednateli v požadované formě a požadovaném počtu. | AG16: POP | BA16: =C16 -> Náklady na vyhotovení dokumentace skutečného provedení stavby a její předání objednateli v požadované formě a požadovaném počtu.
C17: - 2x vyhotovení - dokumentace v listinné a digitální podobě, zakreslení změn PD, vč. revizí, prohlášení o shodě apod. | AG17: POP | BA17: =C17 -> - 2x vyhotovení - dokumentace v listinné a digitální podobě, zakreslení změn PD, vč. revizí, prohlášení o shodě apod.
C18: - 6x vyhotovéní - geometrický plán pro výkup pozemků - dokumentace v listinné a digitální podobě | AG18: POP | BA18: =C18 -> - 6x vyhotovéní - geometrický plán pro výkup pozemků - dokumentace v listinné a digitální podobě
A19: 5 | B19: 00523 R | C19: Zkoušky a revize | D19: Soubor | E19: 1 | G19: =ROUND(E19*F19,2) -> 0 | I19: =ROUND(E19*H19,2) -> 0 | K19: =ROUND(E19*J19,2) -> 0 | L19: 21 | M19: =G19*(1+L19/100) -> 0 | N19: 0 | O19: =ROUND(E19*N19,2) -> 0 | P19: 0 | Q19: =ROUND(E19*P19,2) -> 0 | R19: 800-0 | S19: RTS 17/ I | T19: 0 | U19: =ROUND(E19*T19,2) -> 0 | AG19: POL99_8
C20: Náklady zhotovitele, související s prováděním zkoušek a revizí předepsaných technickými normami nebo objednatelem a které jsou pro provedení díla nezbytné. | AG20: POP | BA20: =C20 -> Náklady zhotovitele, související s prováděním zkoušek a revizí předepsaných technickými normami nebo objednatelem a které jsou pro provedení díla nezbytné.
A21: 6 | B21: 005211030R | C21: Dočasná dopravní opatření | D21: Soubor | E21: 1 | G21: =ROUND(E21*F21,2) -> 0 | I21: =ROUND(E21*H21,2) -> 0 | K21: =ROUND(E21*J21,2) -> 0 | L21: 21 | M21: =G21*(1+L21/100) -> 0 | N21: 0 | O21: =ROUND(E21*N21,2) -> 0 | P21: 0 | Q21: =ROUND(E21*P21,2) -> 0 | R21: 800-0 | S21: RTS 17/ I | T21: 0 | U21: =ROUND(E21*T21,2) -> 0 | AG21: POL99_8
C22: Náklady na vyhotovení návrhu dočasného dopravního značení, jeho projednání s dotčenými orgány a organizacemi, dodání dopravních značek a světelné signalizace, jejich rozmístění a přemísťování a jejich údržba v průběhu výstavby včetně následného odstranění po ukončení stavebních prací. | AG22: POP | BA22: =C22 -> Náklady na vyhotovení návrhu dočasného dopravního značení, jeho projednání s dotčenými orgány a organizacemi, dodání dopravních značek a světelné signalizace, jejich rozmístění a přemísťování a jejich údržba v průběhu výstavby včetně následného odstranění po ukončení stavebních prací.
A23: 7 | B23: 005211040R | C23: Užívání veřejných ploch a prostranství | D23: Soubor | E23: 1 | G23: =ROUND(E23*F23,2) -> 0 | I23: =ROUND(E23*H23,2) -> 0 | K23: =ROUND(E23*J23,2) -> 0 | L23: 21 | M23: =G23*(1+L23/100) -> 0 | N23: 0 | O23: =ROUND(E23*N23,2) -> 0 | P23: 0 | Q23: =ROUND(E23*P23,2) -> 0 | R23: 800-0 | S23: RTS 17/ I | T23: 0 | U23: =ROUND(E23*T23,2) -> 0 | AG23: POL99_8
C24: Náklady a poplatky spojené s užíváním veřejných ploch a prostranství, pokud jsou stavebními pracemi nebo souvisejícími činnostmi dotčeny, a to včetně užívání ploch v souvislosti s uložením stavebního materiálu nebo stavebního odpadu. | AG24: POP | BA24: =C24 -> Náklady a poplatky spojené s užíváním veřejných ploch a prostranství, pokud jsou stavebními pracemi nebo souvisejícími činnostmi dotčeny, a to včetně užívání ploch v souvislosti s uložením stavebního materiálu nebo stavebního odpadu.
A25: 8 | B25: R | C25: Fotodokumentace stavby | D25: soubor | E25: 1 | G25: =ROUND(E25*F25,2) -> 0 | I25: =ROUND(E25*H25,2) -> 0 | K25: =ROUND(E25*J25,2) -> 0 | L25: 21 | M25: =G25*(1+L25/100) -> 0 | N25: 0 | O25: =ROUND(E25*N25,2) -> 0 | P25: 0 | Q25: =ROUND(E25*P25,2) -> 0 | S25: Vlastní | T25: 0 | U25: =ROUND(E25*T25,2) -> 0 | AG25: POL99_8
C26: Fotodokumentace stavby před zahájením stavby, v průběhu výstavby a po stavbě. Zařazení fotek do fotoalba v časové posloupnosti a popisem činnosti a číslem objektů v listinné a digitální podobě. | AG26: POP | BA26: =C26 -> Fotodokumentace stavby před zahájením stavby, v průběhu výstavby a po stavbě. Zařazení fotek do fotoalba v časové posloupnosti a popisem činnosti a číslem objektů v listinné a digitální podobě.
A27: 9 | B27: 00524 R | C27: Předání a převzetí díla | D27: Soubor | E27: 1 | G27: =ROUND(E27*F27,2) -> 0 | I27: =ROUND(E27*H27,2) -> 0 | K27: =ROUND(E27*J27,2) -> 0 | L27: 21 | M27: =G27*(1+L27/100) -> 0 | N27: 0 | O27: =ROUND(E27*N27,2) -> 0 | P27: 0 | Q27: =ROUND(E27*P27,2) -> 0 | R27: 800-0 | S27: RTS 17/ I | T27: 0 | U27: =ROUND(E27*T27,2) -> 0 | AG27: POL99_8
C28: Náklady zhotovitele, které vzniknou v souvislosti s povinnostmi zhotovitele při předání a převzetí díla. | AG28: POP | BA28: =C28 -> Náklady zhotovitele, které vzniknou v souvislosti s povinnostmi zhotovitele při předání a převzetí díla.
A29: 10 | B29: 005121 R | C29: Zařízení staveniště | D29: Soubor | E29: 1 | G29: =ROUND(E29*F29,2) -> 0 | I29: =ROUND(E29*H29,2) -> 0 | K29: =ROUND(E29*J29,2) -> 0 | L29: 21 | M29: =G29*(1+L29/100) -> 0 | N29: 0 | O29: =ROUND(E29*N29,2) -> 0 | P29: 0 | Q29: =ROUND(E29*P29,2) -> 0 | R29: 800-0 | S29: RTS 17/ I | T29: 0 | U29: =ROUND(E29*T29,2) -> 0 | AG29: POL99_8
C30: Veškeré náklady spojené s vybudováním, provozem a odstraněním zařízení staveniště. | AG30: POP | BA30: =C30 -> Veškeré náklady spojené s vybudováním, provozem a odstraněním zařízení staveniště.
A31: 11 | B31: 00528 R1 | C31: Zajištění publicity dle poskytovatele dotace | D31: Soubor | E31: 1 | G31: =ROUND(E31*F31,2) -> 0 | I31: =ROUND(E31*H31,2) -> 0 | K31: =ROUND(E31*J31,2) -> 0 | L31: 21 | M31: =G31*(1+L31/100) -> 0 | N31: 0 | O31: =ROUND(E31*N31,2) -> 0 | P31: 0 | Q31: =ROUND(E31*P31,2) -> 0 | S31: Vlastní | T31: 0 | U31: =ROUND(E31*T31,2) -> 0 | AG31: POL99_8
C32: Instalace informačního panelu (banneru) a informační tabule (pamětní desky). Výrobu si zajišťuje zadavatel | AG32: POP | BA32: =C32 -> Instalace informačního panelu (banneru) a informační tabule (pamětní desky). Výrobu si zajišťuje zadavatel
A33: 12 | B33: 005261020R | C33: Bankovní záruky | D33: Soubor | E33: 1 | G33: =ROUND(E33*F33,2) -> 0 | I33: =ROUND(E33*H33,2) -> 0 | K33: =ROUND(E33*J33,2) -> 0 | L33: 21 | M33: =G33*(1+L33/100) -> 0 | N33: 0 | O33: =ROUND(E33*N33,2) -> 0 | P33: 0 | Q33: =ROUND(E33*P33,2) -> 0 | S33: RTS 17/ I | T33: 0 | U33: =ROUND(E33*T33,2) -> 0 | AG33: POL99_8
C34: Náklady zhotovitele spojené se zabezpečením a poskytnutím zajišťovacích bankovních záruk, pokud je zadavatel požaduje v obchodních podmínkách. | AG34: POP | BA34: =C34 -> Náklady zhotovitele spojené se zabezpečením a poskytnutím zajišťovacích bankovních záruk, pokud je zadavatel požaduje v obchodních podmínkách.
A35: 13 | B35: 005261010R | C35: Pojištění dodavatele a pojištění díla | D35: Soubor | E35: 1 | G35: =ROUND(E35*F35,2) -> 0 | I35: =ROUND(E35*H35,2) -> 0 | K35: =ROUND(E35*J35,2) -> 0 | L35: 21 | M35: =G35*(1+L35/100) -> 0 | N35: 0 | O35: =ROUND(E35*N35,2) -> 0 | P35: 0 | Q35: =ROUND(E35*P35,2) -> 0 | S35: RTS 17/ I | T35: 0 | U35: =ROUND(E35*T35,2) -> 0 | AG35: POL99_8
C36: Náklady zhotovitele spojené s pojištěním proti škodám způsobeným jeho činností, případně nečinností, včetně možných škod pracovníků zhotovitele a to až do výše ceny díla vč. DPH v souladu s SoD | AG36: POP | BA36: =C36 -> Náklady zhotovitele spojené s pojištěním proti škodám způsobeným jeho činností, případně nečinností, včetně možných škod pracovníků zhotovitele a to až do výše ceny díla vč. DPH v souladu s SoD
AE37: 15 | AF37: 21
B38: Celkem | G38: =G7 -> 0 | AE38: =SUMIF(L7:L36,AE37,G7:G36) -> 0 | AF38: =SUMIF(L7:L36,AF37,G7:G36) -> 0 | AG38: SUM
A41: Poznámky uchazeče k zadání
AG42: POPUZIV
AG48: END

Sheet SO 101 1 Pol
A1: Položkový rozpočet | AG1: #TypZaznamu#
A2: S: | B2: 20 | C2: Výstavba chodníku v ul. Lipovská | AG2: STA
A3: O: | B3: SO 101 | C3: Chodníky | AC3: STA | AG3: OBJ
A4: R: | B4: 1 | C4: Chodníky | AG4: ROZ
A6: P.č. | B6: Číslo položky | C6: Název položky | D6: MJ | E6: množství | F6: cena / MJ | G6: Celkem | H6: Dodávka | I6: Dodávka celk. | J6: Montáž | K6: Montáž celk. | L6: DPH | M6: cena s DPH | N6: hmotnost / MJ | O6: hmotnost celk.(t) | P6: dem. hmotnost / MJ | Q6: dem. hmotnost celk.(t) | R6: Ceník | S6: Cen. soustava | T6: Nhod / MJ | U6: Nhod celk. | V6: Dodavatel
A7: Díl: | B7: 1 | C7: Zemní práce | G7: =SUMIF(AG8:AG83,"<>NOR",G8:G83) -> 0 | I7: =SUM(I8:I83) -> 0 | K7: =SUM(K8:K83) -> 0 | M7: =SUM(M8:M83) -> 0 | O7: =SUM(O8:O83) -> 231.09 | Q7: =SUM(Q8:Q83) -> 168.8 | U7: =SUM(U8:U83) -> 806.9 | AG7: DIL
A8: 1 | B8: R | C8: Demontáž stávající lavičky včetně odvozu a poplatku za skládku | D8: ks | E8: 1 | G8: =ROUND(E8*F8,2) -> 0 | I8: =ROUND(E8*H8,2) -> 0 | K8: =ROUND(E8*J8,2) -> 0 | L8: 21 | M8: =G8*(1+L8/100) -> 0 | N8: 0 | O8: =ROUND(E8*N8,2) -> 0 | P8: 0 | Q8: =ROUND(E8*P8,2) -> 0 | S8: Vlastní | T8: 0 | U8: =ROUND(E8*T8,2) -> 0 | AG8: POL1_
C9: Množství z C.2. Situace | AG9: POP | BA9: =C9 -> Množství z C.2. Situace
A10: 2 | B10: R-pol | C10: Demontáž stávajícícho odpadkového koše včetně odvozu a poplatku za skládku | D10: t | E10: 1 | G10: =ROUND(E10*F10,2) -> 0 | I10: =ROUND(E10*H10,2) -> 0 | K10: =ROUND(E10*J10,2) -> 0 | L10: 21 | M10: =G10*(1+L10/100) -> 0 | N10: 0 | O10: =ROUND(E10*N10,2) -> 0 | P10: 0 | Q10: =ROUND(E10*P10,2) -> 0 | S10: Vlastní | T10: 0 | U10: =ROUND(E10*T10,2) -> 0 | AG10: POL1_
C11: Množství z C.2. Situace | AG11: POP | BA11: =C11 -> Množství z C.2. Situace
A12: 3 | B12: 112101103R00 | C12: Kácení stromů listnatých o průměru kmene 50-70 cm | D12: kus | E12: 2 | G12: =ROUND(E12*F12,2) -> 0 | I12: =ROUND(E12*H12,2) -> 0 | K12: =ROUND(E12*J12,2) -> 0 | L12: 21 | M12: =G12*(1+L12/100) -> 0 | N12: 0 | O12: =ROUND(E12*N12,2) -> 0 | P12: 0 | Q12: =ROUND(E12*P12,2) -> 0 | R12: 800-1 | S12: RTS 17/ I | T12: 1.42 | U12: =ROUND(E12*T12,2) -> 2.84 | AG12: POL1_1
C13: Počet z C.2 Situace | AG13: POP | BA13: =C13 -> Počet z C.2 Situace
A14: 4 | B14: 112201103R00 | C14: Odstranění pařezů pod úrovní, o průměru 50 - 70 cm | D14: kus | E14: 2 | G14: =ROUND(E14*F14,2) -> 0 | I14: =ROUND(E14*H14,2) -> 0 | K14: =ROUND(E14*J14,2) -> 0 | L14: 21 | M14: =G14*(1+L14/100) -> 0 | N14: 0.0001 | O14: =ROUND(E14*N14,2) -> 0 | P14: 0 | Q14: =ROUND(E14*P14,2) -> 0 | R14: 800-1 | S14: RTS 17/ I | T14: 2.562 | U14: =ROUND(E14*T14,2) -> 5.12 | AG14: POL1_1
A15: 5 | B15: 162301402R00 | C15: Vod.přemístění větví listnatých, D 50cm do 5000 m | D15: kus | E15: 1 | G15: =ROUND(E15*F15,2) -> 0 | I15: =ROUND(E15*H15,2) -> 0 | K15: =ROUND(E15*J15,2) -> 0 | L15: 21 | M15: =G15*(1+L15/100) -> 0 | N15: 0 | O15: =ROUND(E15*N15,2) -> 0 | P15: 0 | Q15: =ROUND(E15*P15,2) -> 0 | R15: 800-1 | S15: RTS 17/ I | T15: 0.245 | U15: =ROUND(E15*T15,2) -> 0.25 | AG15: POL1_1
A16: 6 | B16: 162301403R00 | C16: Vod.přemístění větví listnatých, D 70cm do 5000 m | D16: kus | E16: 1 | G16: =ROUND(E16*F16,2) -> 0 | I16: =ROUND(E16*H16,2) -> 0 | K16: =ROUND(E16*J16,2) -> 0 | L16: 21 | M16: =G16*(1+L16/100) -> 0 | N16: 0 | O16: =ROUND(E16*N16,2) -> 0 | P16: 0 | Q16: =ROUND(E16*P16,2) -> 0 | R16: 800-1 | S16: RTS 17/ I | T16: 0.658 | U16: =ROUND(E16*T16,2) -> 0.66 | AG16: POL1_1
A17: 7 | B17: 162301412R00 | C17: Vod.přemístění kmenů listnatých, D 50cm do 5000 m | D17: kus | E17: 1 | G17: =ROUND(E17*F17,2) -> 0 | I17: =ROUND(E17*H17,2) -> 0 | K17: =ROUND(E17*J17,2) -> 0 | L17: 21 | M17: =G17*(1+L17/100) -> 0 | N17: 0 | O17: =ROUND(E17*N17,2) -> 0 | P17: 0 | Q17: =ROUND(E17*P17,2) -> 0 | R17: 800-1 | S17: RTS 17/ I | T17: 0.96 | U17: =ROUND(E17*T17,2) -> 0.96 | AG17: POL1_1
A18: 8 | B18: 162301413R00 | C18: Vod.přemístění kmenů listnatých, D 70cm do 5000 m | D18: kus | E18: 1 | G18: =ROUND(E18*F18,2) -> 0 | I18: =ROUND(E18*H18,2) -> 0 | K18: =ROUND(E18*J18,2) -> 0 | L18: 21 | M18: =G18*(1+L18/100) -> 0 | N18: 0 | O18: =ROUND(E18*N18,2) -> 0 | P18: 0 | Q18: =ROUND(E18*P18,2) -> 0 | R18: 800-1 | S18: RTS 17/ I | T18: 2.271 | U18: =ROUND(E18*T18,2) -> 2.27 | AG18: POL1_1
A19: 9 | B19: 162301423R00 | C19: Vodorovné přemístění pařezů D 70 cm do 5000 m | D19: kus | E19: 2 | G19: =ROUND(E19*F19,2) -> 0 | I19: =ROUND(E19*H19,2) -> 0 | K19: =ROUND(E19*J19,2) -> 0 | L19: 21 | M19: =G19*(1+L19/100) -> 0 | N19: 0 | O19: =ROUND(E19*N19,2) -> 0 | P19: 0 | Q19: =ROUND(E19*P19,2) -> 0 | R19: 800-1 | S19: RTS 17/ I | T19: 0.555 | U19: =ROUND(E19*T19,2) -> 1.11 | AG19: POL1_1
A20: 10 | B20: 174201203R00 | C20: Zásyp jam po pařezech D 70 cm | D20: kus | E20: 2 | G20: =ROUND(E20*F20,2) -> 0 | I20: =ROUND(E20*H20,2) -> 0 | K20: =ROUND(E20*J20,2) -> 0 | L20: 21 | M20: =G20*(1+L20/100) -> 0 | N20: 0 | O20: =ROUND(E20*N20,2) -> 0 | P20: 0 | Q20: =ROUND(E20*P20,2) -> 0 | R20: 800-1 | S20: RTS 17/ I | T20: 1.43 | U20: =ROUND(E20*T20,2) -> 2.86 | AG20: POL1_1
A21: 11 | B21: 919735112R00 | C21: Řezání stávajícího živičného krytu tl. 5 - 10 cm | D21: m | E21: 673 | G21: =ROUND(E21*F21,2) -> 0 | I21: =ROUND(E21*H21,2) -> 0 | K21: =ROUND(E21*J21,2) -> 0 | L21: 21 | M21: =G21*(1+L21/100) -> 0 | N21: 0 | O21: =ROUND(E21*N21,2) -> 0 | P21: 0 | Q21: =ROUND(E21*P21,2) -> 0 | R21: 822-1 | S21: RTS 17/ I | T21: 0.037 | U21: =ROUND(E21*T21,2) -> 24.9 | AG21: POL1_1
C22: Délka z C.2. Situace | AG22: POP | BA22: =C22 -> Délka z C.2. Situace
A23: 12 | B23: 113151119R00 | C23: Fréz.živič.krytu pl.do 500 m2,pruh do 75cm,tl.10cm | D23: m2 | E23: 813 | G23: =ROUND(E23*F23,2) -> 0 | I23: =ROUND(E23*H23,2) -> 0 | K23: =ROUND(E23*J23,2) -> 0 | L23: 21 | M23: =G23*(1+L23/100) -> 0 | N23: 0 | O23: =ROUND(E23*N23,2) -> 0 | P23: 0.12 | Q23: =ROUND(E23*P23,2) -> 97.56 | R23: 822-1 | S23: RTS 17/ I | T23: 0.12 | U23: =ROUND(E23*T23,2) -> 97.56 | AG23: POL1_1
C24: Plocha z C.2. Situace | AG24: POP | BA24: =C24 -> Plocha z C.2. Situace
A25: 13 | B25: 113202111R00 | C25: Vytrhání obrub z krajníků nebo obrubníků stojatých | D25: m | E25: 20 | G25: =ROUND(E25*F25,2) -> 0 | I25: =ROUND(E25*H25,2) -> 0 | K25: =ROUND(E25*J25,2) -> 0 | L25: 21 | M25: =G25*(1+L25/100) -> 0 | N25: 0 | O25: =ROUND(E25*N25,2) -> 0 | P25: 0.145 | Q25: =ROUND(E25*P25,2) -> 2.9 | R25: 822-1 | S25: RTS 17/ I | T25: 0.123 | U25: =ROUND(E25*T25,2) -> 2.46 | AG25: POL1_1
C26: Délka z C.2. Situace | AG26: POP | BA26: =C26 -> Délka z C.2. Situace
A27: 14 | B27: 113204111R00 | C27: Vytrhání obrub záhonových | D27: m | E27: 11 | G27: =ROUND(E27*F27,2) -> 0 | I27: =ROUND(E27*H27,2) -> 0 | K27: =ROUND(E27*J27,2) -> 0 | L27: 21 | M27: =G27*(1+L27/100) -> 0 | N27: 0 | O27: =ROUND(E27*N27,2) -> 0 | P27: 0.04 | Q27: =ROUND(E27*P27,2) -> 0.44 | R27: 822-1 | S27: RTS 17/ I | T27: 0.08 | U27: =ROUND(E27*T27,2) -> 0.88 | AG27: POL1_1
C28: Délka z C.2. Situace | AG28: POP | BA28: =C28 -> Délka z C.2. Situace
A29: 15 | B29: 113106231R00 | C29: Rozebrání dlažeb ze zámkové dlažby v kamenivu | D29: m2 | E29: 55 | G29: =ROUND(E29*F29,2) -> 0 | I29: =ROUND(E29*H29,2) -> 0 | K29: =ROUND(E29*J29,2) -> 0 | L29: 21 | M29: =G29*(1+L29/100) -> 0 | N29: 0 | O29: =ROUND(E29*N29,2) -> 0 | P29: 0.225 | Q29: =ROUND(E29*P29,2) -> 12.38 | R29: 822-1 | S29: RTS 14/ I | T29: 0.142 | U29: =ROUND(E29*T29,2) -> 7.81 | AG29: POL1_
C30: Plocha z C.2. Situace | AG30: POP | BA30: =C30 -> Plocha z C.2. Situace
A31: 16 | B31: 113106121R00 | C31: Rozebrání dlažeb z betonových dlaždic na sucho | D31: m2 | E31: 13 | G31: =ROUND(E31*F31,2) -> 0 | I31: =ROUND(E31*H31,2) -> 0 | K31: =ROUND(E31*J31,2) -> 0 | L31: 21 | M31: =G31*(1+L31/100) -> 0 | N31: 0 | O31: =ROUND(E31*N31,2) -> 0 | P31: 0.138 | Q31: =ROUND(E31*P31,2) -> 1.79 | R31: 822-1 | S31: RTS 17/ I | T31: 0.16 | U31: =ROUND(E31*T31,2) -> 2.08 | AG31: POL1_1
C32: Plocha z C.2. Situace | AG32: POP | BA32: =C32 -> Plocha z C.2. Situace
A33: 17 | B33: 113107515R00 | C33: Odstranění podkladu pl. 50 m2,kam.drcené tl.15 cm | D33: m2 | E33: 10 | G33: =ROUND(E33*F33,2) -> 0 | I33: =ROUND(E33*H33,2) -> 0 | K33: =ROUND(E33*J33,2) -> 0 | L33: 21 | M33: =G33*(1+L33/100) -> 0 | N33: 0 | O33: =ROUND(E33*N33,2) -> 0 | P33: 0.33 | Q33: =ROUND(E33*P33,2) -> 3.3 | R33: 822-1 | S33: RTS 14/ I | T33: 0.5265 | U33: =ROUND(E33*T33,2) -> 5.27 | AG33: POL1_
C34: 9x1,1 | AG34: POP | BA34: =C34 -> 9x1,1
A35: 18 | B35: 113107630R00 | C35: Odstranění podkladu nad 50 m2,kam.drcené tl.30 cm | D35: m2 | E35: 75 | G35: =ROUND(E35*F35,2) -> 0 | I35: =ROUND(E35*H35,2) -> 0 | K35: =ROUND(E35*J35,2) -> 0 | L35: 21 | M35: =G35*(1+L35/100) -> 0 | N35: 0 | O35: =ROUND(E35*N35,2) -> 0 | P35: 0.66 | Q35: =ROUND(E35*P35,2) -> 49.5 | R35: 822-1 | S35: RTS 16/ I | T35: 0.119 | U35: =ROUND(E35*T35,2) -> 8.93 | AG35: POL1_1
C36: Chodník (35+21)x1,1 | AG36: POP | BA36: =C36 -> Chodník (35+21)x1,1
C37: Překop VO 6,5x2 | AG37: POP | BA37: =C37 -> Překop VO 6,5x2
A38: 19 | B38: 122202202R00 | C38: Odkopávky pro silnice v hor. 3 do 1000 m3 | D38: m3 | E38: 492 | G38: =ROUND(E38*F38,2) -> 0 | I38: =ROUND(E38*H38,2) -> 0 | K38: =ROUND(E38*J38,2) -> 0 | L38: 21 | M38: =G38*(1+L38/100) -> 0 | N38: 0 | O38: =ROUND(E38*N38,2) -> 0 | P38: 0 | Q38: =ROUND(E38*P38,2) -> 0 | R38: 800-1 | S38: RTS 17/ I | T38: 0.223 | U38: =ROUND(E38*T38,2) -> 109.72 | AG38: POL1_1
C39: Silnice 248x0,45+43x0,45+18x0,45+132x0,45 | AG39: POP | BA39: =C39 -> Silnice 248x0,45+43x0,45+18x0,45+132x0,45
C40: Sjezd 61x0,4+13x0,4 | AG40: POP | BA40: =C40 -> Sjezd 61x0,4+13x0,4
C41: Chodník 614x0,2+173x0,3+74x0,2+374x0,2 | AG41: POP | BA41: =C41 -> Chodník 614x0,2+173x0,3+74x0,2+374x0,2
...

Sheet SO 101 2 Pol
A1: Položkový rozpočet | AG1: #TypZaznamu#
A2: S: | B2: 20 | C2: Výstavba chodníku v ul. Lipovská | AG2: STA
A3: O: | B3: SO 101 | C3: Chodníky | AC3: STA | AG3: OBJ
A4: R: | B4: 2 | C4: Opěrná stěna | AG4: ROZ
A6: P.č. | B6: Číslo položky | C6: Název položky | D6: MJ | E6: množství | F6: cena / MJ | G6: Celkem | H6: Dodávka | I6: Dodávka celk. | J6: Montáž | K6: Montáž celk. | L6: DPH | M6: cena s DPH | N6: hmotnost / MJ | O6: hmotnost celk.(t) | P6: dem. hmotnost / MJ | Q6: dem. hmotnost celk.(t) | R6: Ceník | S6: Cen. soustava | T6: Nhod / MJ | U6: Nhod celk. | V6: Dodavatel
A7: Díl: | B7: 1 | C7: Zemní práce | G7: =SUMIF(AG8:AG30,"<>NOR",G8:G30) -> 0 | I7: =SUM(I8:I30) -> 0 | K7: =SUM(K8:K30) -> 0 | M7: =SUM(M8:M30) -> 0 | O7: =SUM(O8:O30) -> 5.18 | Q7: =SUM(Q8:Q30) -> 0 | U7: =SUM(U8:U30) -> 72.74 | AG7: DIL
A8: 1 | B8: 132201212R00 | C8: Hloubení rýh š.do 200 cm hor.3 do 1000m3,STROJNĚ | D8: m3 | E8: 99.2 | G8: =ROUND(E8*F8,2) -> 0 | I8: =ROUND(E8*H8,2) -> 0 | K8: =ROUND(E8*J8,2) -> 0 | L8: 21 | M8: =G8*(1+L8/100) -> 0 | N8: 0 | O8: =ROUND(E8*N8,2) -> 0 | P8: 0 | Q8: =ROUND(E8*P8,2) -> 0 | R8: 800-1 | S8: RTS 17/ I | T8: 0.16 | U8: =ROUND(E8*T8,2) -> 15.87 | AG8: POL1_1
C9: 3,2x31 | AG9: POP | BA9: =C9 -> 3,2x31
A10: 2 | B10: 132201219R00 | C10: Příplatek za lepivost - hloubení rýh 200cm v hor.3 | D10: m3 | E10: 39.2 | G10: =ROUND(E10*F10,2) -> 0 | I10: =ROUND(E10*H10,2) -> 0 | K10: =ROUND(E10*J10,2) -> 0 | L10: 21 | M10: =G10*(1+L10/100) -> 0 | N10: 0 | O10: =ROUND(E10*N10,2) -> 0 | P10: 0 | Q10: =ROUND(E10*P10,2) -> 0 | R10: 800-1 | S10: RTS 17/ I | T10: 0.084 | U10: =ROUND(E10*T10,2) -> 3.29 | AG10: POL1_1
A11: 3 | B11: 120001101R00 | C11: Příplatek za ztížení vykopávky v blízkosti vedení | D11: m3 | E11: 19.2 | G11: =ROUND(E11*F11,2) -> 0 | I11: =ROUND(E11*H11,2) -> 0 | K11: =ROUND(E11*J11,2) -> 0 | L11: 21 | M11: =G11*(1+L11/100) -> 0 | N11: 0 | O11: =ROUND(E11*N11,2) -> 0 | P11: 0 | Q11: =ROUND(E11*P11,2) -> 0 | R11: 800-1 | S11: RTS 17/ I | T11: 1.548 | U11: =ROUND(E11*T11,2) -> 29.72 | AG11: POL1_1
A12: 4 | B12: 174101101R00 | C12: Zásyp jam, rýh, šachet se zhutněním | D12: m3 | E12: 62 | G12: =ROUND(E12*F12,2) -> 0 | I12: =ROUND(E12*H12,2) -> 0 | K12: =ROUND(E12*J12,2) -> 0 | L12: 21 | M12: =G12*(1+L12/100) -> 0 | N12: 0 | O12: =ROUND(E12*N12,2) -> 0 | P12: 0 | Q12: =ROUND(E12*P12,2) -> 0 | R12: 800-1 | S12: RTS 17/ I | T12: 0.202 | U12: =ROUND(E12*T12,2) -> 12.52 | AG12: POL1_1
C13: 2x31 | AG13: POP | BA13: =C13 -> 2x31
A14: 5 | B14: 162301102R00 | C14: Vodorovné přemístění výkopku z hor.1-4 do 1000 m | D14: m3 | E14: 124 | G14: =ROUND(E14*F14,2) -> 0 | I14: =ROUND(E14*H14,2) -> 0 | K14: =ROUND(E14*J14,2) -> 0 | L14: 21 | M14: =G14*(1+L14/100) -> 0 | N14: 0 | O14: =ROUND(E14*N14,2) -> 0 | P14: 0 | Q14: =ROUND(E14*P14,2) -> 0 | R14: 800-1 | S14: RTS 17/ I | T14: 0.011 | U14: =ROUND(E14*T14,2) -> 1.36 | AG14: POL1_1
C15: Uložení na mezideponii a zpětný dovoz | AG15: POP | BA15: =C15 -> Uložení na mezideponii a zpětný dovoz
C16: 62x2 | AG16: POP | BA16: =C16 -> 62x2
A17: 6 | B17: 162701105R00 | C17: Vodorovné přemístění výkopku z hor.1-4 do 10000 m | D17: m3 | E17: 37.2 | G17: =ROUND(E17*F17,2) -> 0 | I17: =ROUND(E17*H17,2) -> 0 | K17: =ROUND(E17*J17,2) -> 0 | L17: 21 | M17: =G17*(1+L17/100) -> 0 | N17: 0 | O17: =ROUND(E17*N17,2) -> 0 | P17: 0 | Q17: =ROUND(E17*P17,2) -> 0 | R17: 800-1 | S17: RTS 17/ I | T17: 0.011 | U17: =ROUND(E17*T17,2) -> 0.41 | AG17: POL1_1
C18: Odvoz na skládku | AG18: POP | BA18: =C18 -> Odvoz na skládku
C19: 99,2-62 | AG19: POP | BA19: =C19 -> 99,2-62
A20: 7 | B20: 171201201R00 | C20: Uložení sypaniny na skl.-modelace na výšku přes 2m | D20: m3 | E20: 99.2 | G20: =ROUND(E20*F20,2) -> 0 | I20: =ROUND(E20*H20,2) -> 0 | K20: =ROUND(E20*J20,2) -> 0 | L20: 21 | M20: =G20*(1+L20/100) -> 0 | N20: 0 | O20: =ROUND(E20*N20,2) -> 0 | P20: 0 | Q20: =ROUND(E20*P20,2) -> 0 | R20: 800-1 | S20: RTS 17/ I | T20: 0.009 | U20: =ROUND(E20*T20,2) -> 0.89 | AG20: POL1_1
A21: 8 | B21: 199000002R00 | C21: Poplatek za skládku horniny 1- 4 | D21: m3 | E21: 99.2 | G21: =ROUND(E21*F21,2) -> 0 | I21: =ROUND(E21*H21,2) -> 0 | K21: =ROUND(E21*J21,2) -> 0 | L21: 21 | M21: =G21*(1+L21/100) -> 0 | N21: 0 | O21: =ROUND(E21*N21,2) -> 0 | P21: 0 | Q21: =ROUND(E21*P21,2) -> 0 | R21: 800-1 | S21: RTS 17/ I | T21: 0 | U21: =ROUND(E21*T21,2) -> 0 | AG21: POL1_1
A22: 9 | B22: 182001111R00 | C22: Plošná úprava terénu, nerovnosti do 10 cm v rovině | D22: m2 | E22: 31 | G22: =ROUND(E22*F22,2) -> 0 | I22: =ROUND(E22*H22,2) -> 0 | K22: =ROUND(E22*J22,2) -> 0 | L22: 21 | M22: =G22*(1+L22/100) -> 0 | N22: 0 | O22: =ROUND(E22*N22,2) -> 0 | P22: 0 | Q22: =ROUND(E22*P22,2) -> 0 | R22: 823-1 | S22: RTS 17/ I | T22: 0.09 | U22: =ROUND(E22*T22,2) -> 2.79 | AG22: POL1_1
C23: Plocha z Situace | AG23: POP | BA23: =C23 -> Plocha z Situace
A24: 10 | B24: 181301101R00 | C24: Rozprostření ornice, rovina, tl. do 10 cm do 500m2 | D24: m2 | E24: 31 | G24: =ROUND(E24*F24,2) -> 0 | I24: =ROUND(E24*H24,2) -> 0 | K24: =ROUND(E24*J24,2) -> 0 | L24: 21 | M24: =G24*(1+L24/100) -> 0 | N24: 0 | O24: =ROUND(E24*N24,2) -> 0 | P24: 0 | Q24: =ROUND(E24*P24,2) -> 0 | R24: 800-1 | S24: RTS 17/ I | T24: 0.13 | U24: =ROUND(E24*T24,2) -> 4.03 | AG24: POL1_1
A25: 11 | B25: 10364200R | C25: Ornice pro pozemkové úpravy | D25: m3 | E25: 3.1 | G25: =ROUND(E25*F25,2) -> 0 | I25: =ROUND(E25*H25,2) -> 0 | K25: =ROUND(E25*J25,2) -> 0 | L25: 21 | M25: =G25*(1+L25/100) -> 0 | N25: 1.67 | O25: =ROUND(E25*N25,2) -> 5.18 | P25: 0 | Q25: =ROUND(E25*P25,2) -> 0 | R25: SPCM | S25: RTS 17/ I | T25: 0 | U25: =ROUND(E25*T25,2) -> 0 | AG25: POL3_0
C26: 31x0,1 | AG26: POP | BA26: =C26 -> 31x0,1
A27: 12 | B27: 180402111R00 | C27: Založení trávníku parkového výsevem v rovině | D27: m2 | E27: 31 | G27: =ROUND(E27*F27,2) -> 0 | I27: =ROUND(E27*H27,2) -> 0 | K27: =ROUND(E27*J27,2) -> 0 | L27: 21 | M27: =G27*(1+L27/100) -> 0 | N27: 0 | O27: =ROUND(E27*N27,2) -> 0 | P27: 0 | Q27: =ROUND(E27*P27,2) -> 0 | R27: 823-1 | S27: RTS 17/ I | T27: 0.06 | U27: =ROUND(E27*T27,2) -> 1.86 | AG27: POL1_1
C28: Plocha z Situace | AG28: POP | BA28: =C28 -> Plocha z Situace
A29: 13 | B29: 00572410R | C29: Směs travní parková II. mírná zátěž PROFI | D29: kg | E29: 0.8 | G29: =ROUND(E29*F29,2) -> 0 | I29: =ROUND(E29*H29,2) -> 0 | K29: =ROUND(E29*J29,2) -> 0 | L29: 21 | M29: =G29*(1+L29/100) -> 0 | N29: 0.001 | O29: =ROUND(E29*N29,2) -> 0 | P29: 0 | Q29: =ROUND(E29*P29,2) -> 0 | R29: SPCM | S29: RTS 17/ I | T29: 0 | U29: =ROUND(E29*T29,2) -> 0 | AG29: POL3_0
C30: 31x0,025 kg/m2 | AG30: POP | BA30: =C30 -> 31x0,025 kg/m2
A31: Díl: | B31: 2 | C31: Základy,zvláštní zakládání | G31: =SUMIF(AG32:AG44,"<>NOR",G32:G44) -> 0 | I31: =SUM(I32:I44) -> 0 | K31: =SUM(K32:K44) -> 0 | M31: =SUM(M32:M44) -> 0 | O31: =SUM(O32:O44) -> 161.58 | Q31: =SUM(Q32:Q44) -> 0 | U31: =SUM(U32:U44) -> 91.08 | AG31: DIL
A32: 14 | B32: 271571111R00 | C32: Polštář základu ze štěrkopísku tříděného | D32: m3 | E32: 8.1 | G32: =ROUND(E32*F32,2) -> 0 | I32: =ROUND(E32*H32,2) -> 0 | K32: =ROUND(E32*J32,2) -> 0 | L32: 21 | M32: =G32*(1+L32/100) -> 0 | N32: 1.9397 | O32: =ROUND(E32*N32,2) -> 15.71 | P32: 0 | Q32: =ROUND(E32*P32,2) -> 0 | R32: 800-2 | S32: RTS 17/ I | T32: 0.965 | U32: =ROUND(E32*T32,2) -> 7.82 | AG32: POL1_1
C33: 1,8x30x0,15 | AG33: POP | BA33: =C33 -> 1,8x30x0,15
A34: 15 | B34: 273311311R00 | C34: Beton základových desek prokládaný kamenem C 8/10 | D34: m3 | E34: 7.2 | G34: =ROUND(E34*F34,2) -> 0 | I34: =ROUND(E34*H34,2) -> 0 | K34: =ROUND(E34*J34,2) -> 0 | L34: 21 | M34: =G34*(1+L34/100) -> 0 | N34: 3.1487 | O34: =ROUND(E34*N34,2) -> 22.67 | P34: 0 | Q34: =ROUND(E34*P34,2) -> 0 | R34: 801-1 | S34: RTS 17/ I | T34: 0.97 | U34: =ROUND(E34*T34,2) -> 6.98 | AG34: POL1_1
C35: Podklad beton 1,6x30x0,15 | AG35: POP | BA35: =C35 -> Podklad beton 1,6x30x0,15
A36: 16 | B36: 274321321R00 | C36: Železobeton základových pasů C 20/25 , XC4, XF4, XD3 | D36: m3 | E36: 48 | G36: =ROUND(E36*F36,2) -> 0 | I36: =ROUND(E36*H36,2) -> 0 | K36: =ROUND(E36*J36,2) -> 0 | L36: 21 | M36: =G36*(1+L36/100) -> 0 | N36: 2.525 | O36: =ROUND(E36*N36,2) -> 121.2 | P36: 0 | Q36: =ROUND(E36*P36,2) -> 0 | R36: 801-1 | S36: RTS 17/ I | T36: 0.48 | U36: =ROUND(E36*T36,2) -> 23.04 | AG36: POL1_1
C37: 1,6x30 | AG37: POP | BA37: =C37 -> 1,6x30
A38: 17 | B38: 274362021R00 | C38: Výztuž základových pasů ze svařovaných sítí KARI | D38: t | E38: 0.766 | G38: =ROUND(E38*F38,2) -> 0 | I38: =ROUND(E38*H38,2) -> 0 | K38: =ROUND(E38*J38,2) -> 0 | L38: 21 | M38: =G38*(1+L38/100) -> 0 | N38: 1.05693 | O38: =ROUND(E38*N38,2) -> 0.81 | P38: 0 | Q38: =ROUND(E38*P38,2) -> 0 | R38: 801-1 | S38: RTS 17/ I | T38: 15.231 | U38: =ROUND(E38*T38,2) -> 11.67 | AG38: POL1_1
C39: 3,3x29=95,7 m2 x 8 kg/m2 | AG39: POP | BA39: =C39 -> 3,3x29=95,7 m2 x 8 kg/m2
A40: 18 | B40: 274361821R00 | C40: Výztuž základových pasů z betonářské oceli 10 505, provázka | D40: t | E40: 0.02 | G40: =ROUND(E40*F40,2) -> 0 | I40: =ROUND(E40*H40,2) -> 0 | K40: =ROUND(E40*J40,2) -> 0 | L40: 21 | M40: =G40*(1+L40/100) -> 0 | N40: 1.02116 | O40: =ROUND(E40*N40,2) -> 0.02 | P40: 0 | Q40: =ROUND(E40*P40,2) -> 0 | R40: 801-1 | S40: RTS 17/ I | T40: 23.531 | U40: =ROUND(E40*T40,2) -> 0.47 | AG40: POL1_1
C41: 3,3x29=95,7 m2 x 8 kg/m2 | AG41: POP | BA41: =C41 -> 3,3x29=95,7 m2 x 8 kg/m2
...

Sheet SO 102 SO 102 Pol
A1: Položkový rozpočet | AG1: #TypZaznamu#
A2: S: | B2: 20 | C2: Výstavba chodníku v ul. Lipovská | AG2: STA
A3: O: | B3: SO 102 | C3: Kanalizace | AC3: STA | AG3: OBJ
A4: R: | B4: SO 102 | C4: Kanalizace | AG4: ROZ
A6: P.č. | B6: Číslo položky | C6: Název položky | D6: MJ | E6: množství | F6: cena / MJ | G6: Celkem | H6: Dodávka | I6: Dodávka celk. | J6: Montáž | K6: Montáž celk. | L6: DPH | M6: cena s DPH | N6: hmotnost / MJ | O6: hmotnost celk.(t) | P6: dem. hmotnost / MJ | Q6: dem. hmotnost celk.(t) | R6: Ceník | S6: Cen. soustava | T6: Nhod / MJ | U6: Nhod celk. | V6: Dodavatel
A7: Díl: | B7: 1 | C7: Zemní práce | G7: =SUMIF(AG8:AG62,"<>NOR",G8:G62) -> 0 | I7: =SUM(I8:I62) -> 0 | K7: =SUM(K8:K62) -> 0 | M7: =SUM(M8:M62) -> 0 | O7: =SUM(O8:O62) -> 1089 | Q7: =SUM(Q8:Q62) -> 18.69 | U7: =SUM(U8:U62) -> 1074.09 | AG7: DIL
A8: 1 | B8: 919735112R00 | C8: Řezání stávajícího živičného krytu tl. 5 - 10 cm | D8: m | E8: 29 | G8: =ROUND(E8*F8,2) -> 0 | I8: =ROUND(E8*H8,2) -> 0 | K8: =ROUND(E8*J8,2) -> 0 | L8: 21 | M8: =G8*(1+L8/100) -> 0 | N8: 0 | O8: =ROUND(E8*N8,2) -> 0 | P8: 0 | Q8: =ROUND(E8*P8,2) -> 0 | R8: 822-1 | S8: RTS 17/ I | T8: 0.037 | U8: =ROUND(E8*T8,2) -> 1.07 | AG8: POL1_1
C9: V místě napojení MK, které nejsou součástí SO 101 | AG9: POP | BA9: =C9 -> V místě napojení MK, které nejsou součástí SO 101
A10: 2 | B10: 113151119R00 | C10: Fréz.živič.krytu pl.do 500 m2,pruh do 75cm,tl.10cm | D10: m2 | E10: 21 | G10: =ROUND(E10*F10,2) -> 0 | I10: =ROUND(E10*H10,2) -> 0 | K10: =ROUND(E10*J10,2) -> 0 | L10: 21 | M10: =G10*(1+L10/100) -> 0 | N10: 0 | O10: =ROUND(E10*N10,2) -> 0 | P10: 0.12 | Q10: =ROUND(E10*P10,2) -> 2.52 | R10: 822-1 | S10: RTS 17/ I | T10: 0.12 | U10: =ROUND(E10*T10,2) -> 2.52 | AG10: POL1_1
C11: V místě napojení MK, které nejsou součástí SO 101 | AG11: POP | BA11: =C11 -> V místě napojení MK, které nejsou součástí SO 101
A12: 3 | B12: 113107535R00 | C12: Odstranění podkladu pl. 50 m2,kam.drcené tl.35 cm | D12: m2 | E12: 21 | G12: =ROUND(E12*F12,2) -> 0 | I12: =ROUND(E12*H12,2) -> 0 | K12: =ROUND(E12*J12,2) -> 0 | L12: 21 | M12: =G12*(1+L12/100) -> 0 | N12: 0 | O12: =ROUND(E12*N12,2) -> 0 | P12: 0.77 | Q12: =ROUND(E12*P12,2) -> 16.17 | R12: 822-1 | S12: RTS 17/ I | T12: 1.1505 | U12: =ROUND(E12*T12,2) -> 24.16 | AG12: POL1_1
A13: 4 | B13: 132201213R00 | C13: Hloubení rýh š.do 200 cm hor.3 do 10000 m3,STROJNĚ | D13: m3 | E13: 557 | G13: =ROUND(E13*F13,2) -> 0 | I13: =ROUND(E13*H13,2) -> 0 | K13: =ROUND(E13*J13,2) -> 0 | L13: 21 | M13: =G13*(1+L13/100) -> 0 | N13: 0 | O13: =ROUND(E13*N13,2) -> 0 | P13: 0 | Q13: =ROUND(E13*P13,2) -> 0 | R13: 800-1 | S13: RTS 17/ I | T13: 0.12 | U13: =ROUND(E13*T13,2) -> 66.84 | AG13: POL1_1
C14: Nová stoka 214x1,2x2=514 | AG14: POP | BA14: =C14 -> Nová stoka 214x1,2x2=514
C15: Výměna potrubí 18x1,2x2=43 | AG15: POP | BA15: =C15 -> Výměna potrubí 18x1,2x2=43
A16: 5 | B16: 132201219R00 | C16: Příplatek za lepivost - hloubení rýh 200cm v hor.3 | D16: m3 | E16: 167 | G16: =ROUND(E16*F16,2) -> 0 | I16: =ROUND(E16*H16,2) -> 0 | K16: =ROUND(E16*J16,2) -> 0 | L16: 21 | M16: =G16*(1+L16/100) -> 0 | N16: 0 | O16: =ROUND(E16*N16,2) -> 0 | P16: 0 | Q16: =ROUND(E16*P16,2) -> 0 | R16: 800-1 | S16: RTS 17/ I | T16: 0.084 | U16: =ROUND(E16*T16,2) -> 14.03 | AG16: POL1_1
C17: 557x30% | AG17: POP | BA17: =C17 -> 557x30%
A18: 6 | B18: 130001101R00 | C18: Příplatek za ztížené hloubení v blízkosti vedení | D18: m3 | E18: 167 | G18: =ROUND(E18*F18,2) -> 0 | I18: =ROUND(E18*H18,2) -> 0 | K18: =ROUND(E18*J18,2) -> 0 | L18: 21 | M18: =G18*(1+L18/100) -> 0 | N18: 0 | O18: =ROUND(E18*N18,2) -> 0 | P18: 0 | Q18: =ROUND(E18*P18,2) -> 0 | R18: 800-1 | S18: RTS 17/ I | T18: 1.763 | U18: =ROUND(E18*T18,2) -> 294.42 | AG18: POL1_1
C19: 557x30% | AG19: POP | BA19: =C19 -> 557x30%
A20: 7 | B20: 131201202R00 | C20: Hloubení zapažených jam v hor.3 do 1000 m3 | D20: m3 | E20: 64.5 | G20: =ROUND(E20*F20,2) -> 0 | I20: =ROUND(E20*H20,2) -> 0 | K20: =ROUND(E20*J20,2) -> 0 | L20: 21 | M20: =G20*(1+L20/100) -> 0 | N20: 0 | O20: =ROUND(E20*N20,2) -> 0 | P20: 0 | Q20: =ROUND(E20*P20,2) -> 0 | R20: 800-1 | S20: RTS 17/ I | T20: 1.556 | U20: =ROUND(E20*T20,2) -> 100.36 | AG20: POL1_1
C21: Šachty 1,5x1,5x2x4=18 | AG21: POP | BA21: =C21 -> Šachty 1,5x1,5x2x4=18
C22: Odstranění překážek 1,5x1,5x2x7=31,5 | AG22: POP | BA22: =C22 -> Odstranění překážek 1,5x1,5x2x7=31,5
C23: HP 1,5x2,5x2x2=15 | AG23: POP | BA23: =C23 -> HP 1,5x2,5x2x2=15
A24: 8 | B24: 131201119R00 | C24: Příplatek za lepivost - hloubení nezap.jam v hor.3 | D24: m3 | E24: 19.4 | G24: =ROUND(E24*F24,2) -> 0 | I24: =ROUND(E24*H24,2) -> 0 | K24: =ROUND(E24*J24,2) -> 0 | L24: 21 | M24: =G24*(1+L24/100) -> 0 | N24: 0 | O24: =ROUND(E24*N24,2) -> 0 | P24: 0 | Q24: =ROUND(E24*P24,2) -> 0 | R24: 800-1 | S24: RTS 17/ I | T24: 0.0431 | U24: =ROUND(E24*T24,2) -> 0.84 | AG24: POL1_1
C25: 64,5x30% | AG25: POP | BA25: =C25 -> 64,5x30%
A26: 9 | B26: 119001401R00 | C26: Dočasné zajištění ocelového potrubí do DN 200 mm | D26: m | E26: 20 | G26: =ROUND(E26*F26,2) -> 0 | I26: =ROUND(E26*H26,2) -> 0 | K26: =ROUND(E26*J26,2) -> 0 | L26: 21 | M26: =G26*(1+L26/100) -> 0 | N26: 0.00869 | O26: =ROUND(E26*N26,2) -> 0.17 | P26: 0 | Q26: =ROUND(E26*P26,2) -> 0 | R26: 800-1 | S26: RTS 17/ I | T26: 0.703 | U26: =ROUND(E26*T26,2) -> 14.06 | AG26: POL1_1
A27: 10 | B27: 119001421R00 | C27: Dočasné zajištění kabelů - do počtu 3 kabelů | D27: m | E27: 30 | G27: =ROUND(E27*F27,2) -> 0 | I27: =ROUND(E27*H27,2) -> 0 | K27: =ROUND(E27*J27,2) -> 0 | L27: 21 | M27: =G27*(1+L27/100) -> 0 | N27: 0.02478 | O27: =ROUND(E27*N27,2) -> 0.74 | P27: 0 | Q27: =ROUND(E27*P27,2) -> 0 | R27: 800-1 | S27: RTS 17/ I | T27: 0.547 | U27: =ROUND(E27*T27,2) -> 16.41 | AG27: POL1_1
A28: 11 | B28: 119001422R00 | C28: Dočasné zajištění kabelů - v počtu 3 - 6 kabelů | D28: m | E28: 30 | G28: =ROUND(E28*F28,2) -> 0 | I28: =ROUND(E28*H28,2) -> 0 | K28: =ROUND(E28*J28,2) -> 0 | L28: 21 | M28: =G28*(1+L28/100) -> 0 | N28: 0.03974 | O28: =ROUND(E28*N28,2) -> 1.19 | P28: 0 | Q28: =ROUND(E28*P28,2) -> 0 | R28: 800-1 | S28: RTS 17/ I | T28: 0.753 | U28: =ROUND(E28*T28,2) -> 22.59 | AG28: POL1_1
A29: 12 | B29: 151101101R00 | C29: Pažení a rozepření stěn rýh - příložné - hl. do 2m | D29: m2 | E29: 1014 | G29: =ROUND(E29*F29,2) -> 0 | I29: =ROUND(E29*H29,2) -> 0 | K29: =ROUND(E29*J29,2) -> 0 | L29: 21 | M29: =G29*(1+L29/100) -> 0 | N29: 0.00099 | O29: =ROUND(E29*N29,2) -> 1 | P29: 0 | Q29: =ROUND(E29*P29,2) -> 0 | R29: 800-1 | S29: RTS 17/ I | T29: 0.236 | U29: =ROUND(E29*T29,2) -> 239.3 | AG29: POL1_1
C30: Nová stoka 214x2x2=856 | AG30: POP | BA30: =C30 -> Nová stoka 214x2x2=856
C31: Výměna potrubí 18x2x2=72 | AG31: POP | BA31: =C31 -> Výměna potrubí 18x2x2=72
C32: Šachty 1,5x2x2x4=24 | AG32: POP | BA32: =C32 -> Šachty 1,5x2x2x4=24
C33: Odstranění překážek 1,5x2x2x7=42 | AG33: POP | BA33: =C33 -> Odstranění překážek 1,5x2x2x7=42
C34: HP 2x2,5x2x2=20 | AG34: POP | BA34: =C34 -> HP 2x2,5x2x2=20
A35: 13 | B35: 151101111R00 | C35: Odstranění pažení stěn rýh - příložné - hl. do 2 m | D35: m2 | E35: 1014 | G35: =ROUND(E35*F35,2) -> 0 | I35: =ROUND(E35*H35,2) -> 0 | K35: =ROUND(E35*J35,2) -> 0 | L35: 21 | M35: =G35*(1+L35/100) -> 0 | N35: 0 | O35: =ROUND(E35*N35,2) -> 0 | P35: 0 | Q35: =ROUND(E35*P35,2) -> 0 | R35: 800-1 | S35: RTS 17/ I | T35: 0.07 | U35: =ROUND(E35*T35,2) -> 70.98 | AG35: POL1_1
A36: 14 | B36: 174101101R00 | C36: Zásyp jam, rýh, šachet se zhutněním | D36: m3 | E36: 493.6 | G36: =ROUND(E36*F36,2) -> 0 | I36: =ROUND(E36*H36,2) -> 0 | K36: =ROUND(E36*J36,2) -> 0 | L36: 21 | M36: =G36*(1+L36/100) -> 0 | N36: 0 | O36: =ROUND(E36*N36,2) -> 0 | P36: 0 | Q36: =ROUND(E36*P36,2) -> 0 | R36: 800-1 | S36: RTS 17/ I | T36: 0.202 | U36: =ROUND(E36*T36,2) -> 99.71 | AG36: POL1_1
C37: Stoka 557x0,8=445,6 | AG37: POP | BA37: =C37 -> Stoka 557x0,8=445,6
C38: Šachty 18x0,5=9 | AG38: POP | BA38: =C38 -> Šachty 18x0,5=9
C39: Odstranění překážek 31,5 | AG39: POP | BA39: =C39 -> Odstranění překážek 31,5
C40: HP 15x0,5=7,5 | AG40: POP | BA40: =C40 -> HP 15x0,5=7,5
A41: 15 | B41: 583412034R | C41: Kamenivo drcené frakce 0/4 B Olomoucký kraj | D41: T | E41: 217.2 | G41: =ROUND(E41*F41,2) -> 0 | I41: =ROUND(E41*H41,2) -> 0 | K41: =ROUND(E41*J41,2) -> 0 | L41: 21 | M41: =G41*(1+L41/100) -> 0 | N41: 1 | O41: =ROUND(E41*N41,2) -> 217.2 | P41: 0 | Q41: =ROUND(E41*P41,2) -> 0 | R41: SPCM | S41: RTS 17/ I | T41: 0 | U41: =ROUND(E41*T41,2) -> 0 | AG41: POL3_0
...

Sheet SO 103 SO 103 Pol
A1: Položkový rozpočet | AG1: #TypZaznamu#
A2: S: | B2: 20 | C2: Výstavba chodníku v ul. Lipovská | AG2: STA
A3: O: | B3: SO 103 | C3: Komunikace do obytné zóny | AC3: STA | AG3: OBJ
A4: R: | B4: SO 103 | C4: Komunikace do obytné zóny | AG4: ROZ
A6: P.č. | B6: Číslo položky | C6: Název položky | D6: MJ | E6: množství | F6: cena / MJ | G6: Celkem | H6: Dodávka | I6: Dodávka celk. | J6: Montáž | K6: Montáž celk. | L6: DPH | M6: cena s DPH | N6: hmotnost / MJ | O6: hmotnost celk.(t) | P6: dem. hmotnost / MJ | Q6: dem. hmotnost celk.(t) | R6: Ceník | S6: Cen. soustava | T6: Nhod / MJ | U6: Nhod celk. | V6: Dodavatel
A7: Díl: | B7: 1 | C7: Zemní práce | G7: =SUMIF(AG8:AG60,"<>NOR",G8:G60) -> 0 | I7: =SUM(I8:I60) -> 0 | K7: =SUM(K8:K60) -> 0 | M7: =SUM(M8:M60) -> 0 | O7: =SUM(O8:O60) -> 61.63 | Q7: =SUM(Q8:Q60) -> 123.26 | U7: =SUM(U8:U60) -> 234.11 | AG7: DIL
A8: 1 | B8: 112101103R00 | C8: Kácení stromů listnatých o průměru kmene 50-70 cm | D8: kus | E8: 3 | G8: =ROUND(E8*F8,2) -> 0 | I8: =ROUND(E8*H8,2) -> 0 | K8: =ROUND(E8*J8,2) -> 0 | L8: 21 | M8: =G8*(1+L8/100) -> 0 | N8: 0 | O8: =ROUND(E8*N8,2) -> 0 | P8: 0 | Q8: =ROUND(E8*P8,2) -> 0 | R8: 800-1 | S8: RTS 17/ I | T8: 1.42 | U8: =ROUND(E8*T8,2) -> 4.26 | AG8: POL1_1
C9: Počet z C.2. Situace | AG9: POP | BA9: =C9 -> Počet z C.2. Situace
A10: 2 | B10: 112201103R00 | C10: Odstranění pařezů pod úrovní, o průměru 50 - 70 cm | D10: kus | E10: 3 | G10: =ROUND(E10*F10,2) -> 0 | I10: =ROUND(E10*H10,2) -> 0 | K10: =ROUND(E10*J10,2) -> 0 | L10: 21 | M10: =G10*(1+L10/100) -> 0 | N10: 0.0001 | O10: =ROUND(E10*N10,2) -> 0 | P10: 0 | Q10: =ROUND(E10*P10,2) -> 0 | R10: 800-1 | S10: RTS 17/ I | T10: 2.562 | U10: =ROUND(E10*T10,2) -> 7.69 | AG10: POL1_1
A11: 3 | B11: 162301402R00 | C11: Vod.přemístění větví listnatých, D 50cm do 5000 m | D11: kus | E11: 2 | G11: =ROUND(E11*F11,2) -> 0 | I11: =ROUND(E11*H11,2) -> 0 | K11: =ROUND(E11*J11,2) -> 0 | L11: 21 | M11: =G11*(1+L11/100) -> 0 | N11: 0 | O11: =ROUND(E11*N11,2) -> 0 | P11: 0 | Q11: =ROUND(E11*P11,2) -> 0 | R11: 800-1 | S11: RTS 17/ I | T11: 0.245 | U11: =ROUND(E11*T11,2) -> 0.49 | AG11: POL1_1
A12: 4 | B12: 162301403R00 | C12: Vod.přemístění větví listnatých, D 70cm do 5000 m | D12: kus | E12: 1 | G12: =ROUND(E12*F12,2) -> 0 | I12: =ROUND(E12*H12,2) -> 0 | K12: =ROUND(E12*J12,2) -> 0 | L12: 21 | M12: =G12*(1+L12/100) -> 0 | N12: 0 | O12: =ROUND(E12*N12,2) -> 0 | P12: 0 | Q12: =ROUND(E12*P12,2) -> 0 | R12: 800-1 | S12: RTS 17/ I | T12: 0.658 | U12: =ROUND(E12*T12,2) -> 0.66 | AG12: POL1_1
A13: 5 | B13: 162301423R00 | C13: Vodorovné přemístění pařezů D 70 cm do 5000 m | D13: kus | E13: 3 | G13: =ROUND(E13*F13,2) -> 0 | I13: =ROUND(E13*H13,2) -> 0 | K13: =ROUND(E13*J13,2) -> 0 | L13: 21 | M13: =G13*(1+L13/100) -> 0 | N13: 0 | O13: =ROUND(E13*N13,2) -> 0 | P13: 0 | Q13: =ROUND(E13*P13,2) -> 0 | R13: 800-1 | S13: RTS 17/ I | T13: 0.555 | U13: =ROUND(E13*T13,2) -> 1.67 | AG13: POL1_1
A14: 6 | B14: 162301402R00 | C14: Vod.přemístění větví listnatých, D 50cm do 5000 m | D14: kus | E14: 2 | G14: =ROUND(E14*F14,2) -> 0 | I14: =ROUND(E14*H14,2) -> 0 | K14: =ROUND(E14*J14,2) -> 0 | L14: 21 | M14: =G14*(1+L14/100) -> 0 | N14: 0 | O14: =ROUND(E14*N14,2) -> 0 | P14: 0 | Q14: =ROUND(E14*P14,2) -> 0 | R14: 800-1 | S14: RTS 17/ I | T14: 0.245 | U14: =ROUND(E14*T14,2) -> 0.49 | AG14: POL1_1
A15: 7 | B15: 162301403R00 | C15: Vod.přemístění větví listnatých, D 70cm do 5000 m | D15: kus | E15: 1 | G15: =ROUND(E15*F15,2) -> 0 | I15: =ROUND(E15*H15,2) -> 0 | K15: =ROUND(E15*J15,2) -> 0 | L15: 21 | M15: =G15*(1+L15/100) -> 0 | N15: 0 | O15: =ROUND(E15*N15,2) -> 0 | P15: 0 | Q15: =ROUND(E15*P15,2) -> 0 | R15: 800-1 | S15: RTS 17/ I | T15: 0.658 | U15: =ROUND(E15*T15,2) -> 0.66 | AG15: POL1_1
A16: 8 | B16: 174201203R00 | C16: Zásyp jam po pařezech D 70 cm | D16: kus | E16: 3 | G16: =ROUND(E16*F16,2) -> 0 | I16: =ROUND(E16*H16,2) -> 0 | K16: =ROUND(E16*J16,2) -> 0 | L16: 21 | M16: =G16*(1+L16/100) -> 0 | N16: 0 | O16: =ROUND(E16*N16,2) -> 0 | P16: 0 | Q16: =ROUND(E16*P16,2) -> 0 | R16: 800-1 | S16: RTS 17/ I | T16: 1.43 | U16: =ROUND(E16*T16,2) -> 4.29 | AG16: POL1_1
A17: 9 | B17: 919735112R00 | C17: Řezání stávajícího živičného krytu tl. 5 - 10 cm | D17: m | E17: 30 | G17: =ROUND(E17*F17,2) -> 0 | I17: =ROUND(E17*H17,2) -> 0 | K17: =ROUND(E17*J17,2) -> 0 | L17: 21 | M17: =G17*(1+L17/100) -> 0 | N17: 0 | O17: =ROUND(E17*N17,2) -> 0 | P17: 0 | Q17: =ROUND(E17*P17,2) -> 0 | R17: 822-1 | S17: RTS 17/ I | T17: 0.037 | U17: =ROUND(E17*T17,2) -> 1.11 | AG17: POL1_1
C18: Délka z C.2. Situace | AG18: POP | BA18: =C18 -> Délka z C.2. Situace
A19: 10 | B19: 1131511191.R0 | C19: Fréz.živič.krytu pl.do 500 m2,tl.10cm | D19: m2 | E19: 162 | G19: =ROUND(E19*F19,2) -> 0 | I19: =ROUND(E19*H19,2) -> 0 | K19: =ROUND(E19*J19,2) -> 0 | L19: 21 | M19: =G19*(1+L19/100) -> 0 | N19: 0 | O19: =ROUND(E19*N19,2) -> 0 | P19: 0.12 | Q19: =ROUND(E19*P19,2) -> 19.44 | S19: Vlastní | T19: 0 | U19: =ROUND(E19*T19,2) -> 0 | AG19: POL1_1
C20: Plocha z C.2. Situace | AG20: POP | BA20: =C20 -> Plocha z C.2. Situace
A21: 11 | B21: 113107630R00 | C21: Odstranění podkladu nad 50 m2,kam.drcené tl.30 cm | D21: m2 | E21: 157.3 | G21: =ROUND(E21*F21,2) -> 0 | I21: =ROUND(E21*H21,2) -> 0 | K21: =ROUND(E21*J21,2) -> 0 | L21: 21 | M21: =G21*(1+L21/100) -> 0 | N21: 0 | O21: =ROUND(E21*N21,2) -> 0 | P21: 0.66 | Q21: =ROUND(E21*P21,2) -> 103.82 | R21: 822-1 | S21: RTS 17/ I | T21: 0.119 | U21: =ROUND(E21*T21,2) -> 18.72 | AG21: POL1_1
C22: 143x1,1 | AG22: POP | BA22: =C22 -> 143x1,1
A23: 12 | B23: 122202201R00 | C23: Odkopávky pro silnice v hor. 3 do 100 m3 | D23: m3 | E23: 91 | G23: =ROUND(E23*F23,2) -> 0 | I23: =ROUND(E23*H23,2) -> 0 | K23: =ROUND(E23*J23,2) -> 0 | L23: 21 | M23: =G23*(1+L23/100) -> 0 | N23: 0 | O23: =ROUND(E23*N23,2) -> 0 | P23: 0 | Q23: =ROUND(E23*P23,2) -> 0 | R23: 800-1 | S23: RTS 17/ I | T23: 0.422 | U23: =ROUND(E23*T23,2) -> 38.4 | AG23: POL1_1
C24: Zemní pláň 202x0,45 | AG24: POP | BA24: =C24 -> Zemní pláň 202x0,45
A25: 13 | B25: 120001101R00 | C25: Příplatek za ztížení vykopávky v blízkosti vedení | D25: m3 | E25: 11 | G25: =ROUND(E25*F25,2) -> 0 | I25: =ROUND(E25*H25,2) -> 0 | K25: =ROUND(E25*J25,2) -> 0 | L25: 21 | M25: =G25*(1+L25/100) -> 0 | N25: 0 | O25: =ROUND(E25*N25,2) -> 0 | P25: 0 | Q25: =ROUND(E25*P25,2) -> 0 | R25: 800-1 | S25: RTS 17/ I | T25: 1.548 | U25: =ROUND(E25*T25,2) -> 17.03 | AG25: POL1_1
A26: 14 | B26: 132201110R00 | C26: Hloubení rýh š.do 60 cm v hor.3 do 50 m3, STROJNĚ | D26: m3 | E26: 14 | G26: =ROUND(E26*F26,2) -> 0 | I26: =ROUND(E26*H26,2) -> 0 | K26: =ROUND(E26*J26,2) -> 0 | L26: 21 | M26: =G26*(1+L26/100) -> 0 | N26: 0 | O26: =ROUND(E26*N26,2) -> 0 | P26: 0 | Q26: =ROUND(E26*P26,2) -> 0 | R26: 800-1 | S26: RTS 17/ I | T26: 0.365 | U26: =ROUND(E26*T26,2) -> 5.11 | AG26: POL1_1
C27: Příkop 1x0,5x28 | AG27: POP | BA27: =C27 -> Příkop 1x0,5x28
A28: 15 | B28: 139601102R00 | C28: Ruční výkop jam, rýh a šachet v hornině tř. 3 | D28: m3 | E28: 15 | G28: =ROUND(E28*F28,2) -> 0 | I28: =ROUND(E28*H28,2) -> 0 | K28: =ROUND(E28*J28,2) -> 0 | L28: 21 | M28: =G28*(1+L28/100) -> 0 | N28: 0 | O28: =ROUND(E28*N28,2) -> 0 | P28: 0 | Q28: =ROUND(E28*P28,2) -> 0 | R28: 800-1 | S28: RTS 17/ I | T28: 3.533 | U28: =ROUND(E28*T28,2) -> 53 | AG28: POL1_1
C29: Vedení SEK 30x0,5x1 | AG29: POP | BA29: =C29 -> Vedení SEK 30x0,5x1
A30: 16 | B30: 130001101R00 | C30: Příplatek za ztížené hloubení v blízkosti vedení | D30: m3 | E30: 5 | G30: =ROUND(E30*F30,2) -> 0 | I30: =ROUND(E30*H30,2) -> 0 | K30: =ROUND(E30*J30,2) -> 0 | L30: 21 | M30: =G30*(1+L30/100) -> 0 | N30: 0 | O30: =ROUND(E30*N30,2) -> 0 | P30: 0 | Q30: =ROUND(E30*P30,2) -> 0 | R30: 800-1 | S30: RTS 17/ I | T30: 1.763 | U30: =ROUND(E30*T30,2) -> 8.82 | AG30: POL1_1
C31: 5,4x0,3 | AG31: POP | BA31: =C31 -> 5,4x0,3
A32: 17 | B32: 174101101R00 | C32: Zásyp jam, rýh, šachet se zhutněním | D32: m3 | E32: 12 | G32: =ROUND(E32*F32,2) -> 0 | I32: =ROUND(E32*H32,2) -> 0 | K32: =ROUND(E32*J32,2) -> 0 | L32: 21 | M32: =G32*(1+L32/100) -> 0 | N32: 0 | O32: =ROUND(E32*N32,2) -> 0 | P32: 0 | Q32: =ROUND(E32*P32,2) -> 0 | R32: 800-1 | S32: RTS 17/ I | T32: 0.202 | U32: =ROUND(E32*T32,2) -> 2.42 | AG32: POL1_1
C33: 15x0,8 | AG33: POP | BA33: =C33 -> 15x0,8
A34: 18 | B34: 583412034R | C34: Kamenivo drcené frakce 0/4 B Olomoucký kraj | D34: T | E34: 5.3 | G34: =ROUND(E34*F34,2) -> 0 | I34: =ROUND(E34*H34,2) -> 0 | K34: =ROUND(E34*J34,2) -> 0 | L34: 21 | M34: =G34*(1+L34/100) -> 0 | N34: 1 | O34: =ROUND(E34*N34,2) -> 5.3 | P34: 0 | Q34: =ROUND(E34*P34,2) -> 0 | R34: SPCM | S34: RTS 17/ I | T34: 0 | U34: =ROUND(E34*T34,2) -> 0 | AG34: POL3_0
C35: 12x2,2x0,2 | AG35: POP | BA35: =C35 -> 12x2,2x0,2
A36: 19 | B36: 58344198R | C36: Štěrkodrtě frakce 0-63 B | D36: T | E36: 21.1 | G36: =ROUND(E36*F36,2) -> 0 | I36: =ROUND(E36*H36,2) -> 0 | K36: =ROUND(E36*J36,2) -> 0 | L36: 21 | M36: =G36*(1+L36/100) -> 0 | N36: 1 | O36: =ROUND(E36*N36,2) -> 21.1 | P36: 0 | Q36: =ROUND(E36*P36,2) -> 0 | R36: SPCM | S36: RTS 17/ I | T36: 0 | U36: =ROUND(E36*T36,2) -> 0 | AG36: POL3_0
C37: 12x2,2x0,8 | AG37: POP | BA37: =C37 -> 12x2,2x0,8
A38: 20 | B38: 174101101R00 | C38: Zásyp jam, rýh, šachet se zhutněním | D38: m3 | E38: 34 | G38: =ROUND(E38*F38,2) -> 0 | I38: =ROUND(E38*H38,2) -> 0 | K38: =ROUND(E38*J38,2) -> 0 | L38: 21 | M38: =G38*(1+L38/100) -> 0 | N38: 0 | O38: =ROUND(E38*N38,2) -> 0 | P38: 0 | Q38: =ROUND(E38*P38,2) -> 0 | R38: 800-1 | S38: RTS 17/ I | T38: 0.202 | U38: =ROUND(E38*T38,2) -> 6.87 | AG38: POL1_1
C39: Zásyp za zrušenou komunikaci 112x0,3 | AG39: POP | BA39: =C39 -> Zásyp za zrušenou komunikaci 112x0,3
A40: 21 | B40: 181101102R00 | C40: Úprava pláně v zářezech v hor. 1-4, se zhutněním | D40: m2 | E40: 245 | G40: =ROUND(E40*F40,2) -> 0 | I40: =ROUND(E40*H40,2) -> 0 | K40: =ROUND(E40*J40,2) -> 0 | L40: 21 | M40: =G40*(1+L40/100) -> 0 | N40: 0 | O40: =ROUND(E40*N40,2) -> 0 | P40: 0 | Q40: =ROUND(E40*P40,2) -> 0 | R40: 800-1 | S40: RTS 17/ I | T40: 0.018 | U40: =ROUND(E40*T40,2) -> 4.41 | AG40: POL1_1
C41: 44+201 | AG41: POP | BA41: =C41 -> 44+201
...
