Workbook
Name CelkemDPHVypocet: Stavba!$H$49
Name CenaCelkem: Stavba!$G$29
Name CenaCelkemBezDPH: Stavba!$G$28
Name CenaCelkemVypocet: Stavba!$I$49
Name cisloobjektu: Stavba!$D$3
Name CisloRozpoctu: '[1]Krycí list'!$C$2
Name CisloStavby: Stavba!$D$2
Name cislostavby: '[1]Krycí list'!$A$7
Name CisloStavebnihoRozpoctu: Stavba!$D$4
Name dadresa: Stavba!$D$12:$G$12
Name DIČ: Stavba!$I$12
Name dmisto: Stavba!$D$13:$G$13
Name DPHSni: Stavba!$G$24
Name DPHZakl: Stavba!$G$26
Name dpsc: Stavba!$C$13
Name IČO: Stavba!$I$11
Name Mena: Stavba!$J$29
Name MistoStavby: Stavba!$D$4
Name nazevobjektu: Stavba!$E$3
Name NazevRozpoctu: '[1]Krycí list'!$D$2
Name NazevStavby: Stavba!$E$2
Name nazevstavby: '[1]Krycí list'!$C$7
Name NazevStavebnihoRozpoctu: Stavba!$E$4
Name oadresa: Stavba!$D$6
Name Objednatel: Stavba!$D$5
Name Objekt: Stavba!$B$38
Name odic: Stavba!$I$6
Name oico: Stavba!$I$5
Name omisto: Stavba!$D$7
Name onazev: Stavba!$D$6
Name opsc: Stavba!$C$7
Name padresa: Stavba!$D$9
Name pdic: Stavba!$I$9
Name pico: Stavba!$I$8
Name pmisto: Stavba!$D$10
Name PocetMJ: #REF!
Name PoptavkaID: Stavba!$A$1
Name pPSC: Stavba!$C$10
Name Projektant: Stavba!$D$8
Name SazbaDPH1: Stavba!$E$23
Name SazbaDPH1: '[1]Krycí list'!$C$30
Name SazbaDPH2: Stavba!$E$25
Name SazbaDPH2: '[1]Krycí list'!$C$32
Name SloupecCC: #REF!
Name SloupecCisloPol: #REF!
Name SloupecJC: #REF!
Name SloupecMJ: #REF!
Name SloupecMnozstvi: #REF!
Name SloupecNazPol: #REF!
Name SloupecPC: #REF!
Name Vypracoval: Stavba!$D$14
Name ZakladDPHSni: Stavba!$G$23
Name ZakladDPHSniVypocet: Stavba!$F$49
Name ZakladDPHZakl: Stavba!$G$25
Name ZakladDPHZaklVypocet: Stavba!$G$49
Name Zaokrouhleni: Stavba!$G$27
Name Zhotovitel: Stavba!$D$11:$G$11

Sheet Pokyny pro vyplnění
A1: Pokyny pro vyplnění
A2: Ve všech listech tohoto souboru můžete měnit pouze buňky s modrým pozadím. Jedná se o tyto údaje : - údaje o firmě - jednotkové ceny položek zadané na maximálně dvě desetinná místa

Sheet Stavba
A1: #RTSROZP# | B1: Položkový rozpočet stavby
B2: Stavba: | D2: 20 | E2: Výstavba chodníku v ul. Lipovská
B5: Objednatel: | H5: IČO:
H6: DIČ:
B8: Projektant: | D8: NELL PROJEKT s.r.o. | H8: IČO: | I8: 29209081
D9: Plesníkova 5559 | H9: DIČ:
C10: 76005 | D10: Zlín
B11: Zhotovitel: | H11: IČO:
H12: DIČ:
B14: Vypracoval: | D14: Ing. Tomáš Ruth
B15: Rozpis ceny | I15: Celkem
A16: HSV | B16: HSV | I16: =SUMIF(F65:F78,A16,I65:I78)+SUMIF(F65:F78,"PSU",I65:I78) -> 0
A17: PSV | B17: PSV | I17: =SUMIF(F65:F78,A17,I65:I78) -> 0
A18: MON | B18: MON | I18: =SUMIF(F65:F78,A18,I65:I78) -> 0
A19: VN | B19: Vedlejší a ostatní náklady | I19: =SUMIF(F65:F78,A19,I65:I78) -> 0
A20: ON
B21: Celkem | I21: =SUM(I16:J20) -> 0
B22: Rekapitulace daní
B23: Základ pro sníženou DPH | E23: 15 | F23: % | G23: =ZakladDPHSniVypocet -> 0 | J23: =Mena -> CZK
B24: Snížená DPH | E24: =SazbaDPH1 -> 15 | F24: % | G24: =ZakladDPHSni*SazbaDPH1/100 -> 0 | J24: =Mena -> CZK
B25: Základ pro základní DPH | E25: 21 | F25: % | G25: =ZakladDPHZaklVypocet -> 0 | J25: =Mena -> CZK
B26: Základní DPH | E26: =SazbaDPH2 -> 21 | F26: % | G26: =ZakladDPHZakl*SazbaDPH2/100 -> 0 | J26: =Mena -> CZK
B27: Zaokrouhlení | G27: =0 -> 0 | J27: =Mena -> CZK
B28: Cena celkem bez DPH | G28: =ZakladDPHSniVypocet+ZakladDPHZaklVypocet -> 0 | J28: =Mena -> CZK
B29: Cena celkem s DPH | G29: =ZakladDPHSni+DPHSni+ZakladDPHZakl+DPHZakl+Zaokrouhleni -> 0 | J29: CZK
C32: v | F32: dne | H32: =TODAY() -> 42781
D35: Za zhotovitele | H35: Za objednatele
B37: Rekapitulace dílčích částí
A38: #CASTI>> | B38: Číslo | C38: Název | F38: =B23 -> Základ pro sníženou DPH | G38: =B25 -> Základ pro základní DPH | H38: DPH celkem | I38: Cena celkem | J38: %
A39: 1 | B39: Stavba | F39: ='1 1 Naklady'!AE38+'SO 101 1 Pol'!AE265+'SO 101 2 Pol'!AE84+'SO 102 SO 102 Pol'!AE142+'SO 103 SO 103 Pol'!AE146 -> 0 | G39: ='1 1 Naklady'!AF38+'SO 101 1 Pol'!AF265+'SO 101 2 Pol'!AF84+'SO 102 SO 102 Pol'!AF142+'SO 103 SO 103 Pol'!AF146 -> 0 | H39: =(F39*SazbaDPH1/100)+(G39*SazbaDPH2/100) -> 0 | I39: =F39+G39+H39 -> 0 | J39: =IF(CenaCelkemVypocet=0,"",I39/CenaCelkemVypocet*100)
A40: 2 | B40: 1 | C40: Vedlejší a ostatní náklady | F40: ='1 1 Naklady'!AE38 -> 0 | G40: ='1 1 Naklady'!AF38 -> 0 | H40: =(F40*SazbaDPH1/100)+(G40*SazbaDPH2/100) -> 0 | I40: =F40+G40+H40 -> 0 | J40: =IF(CenaCelkemVypocet=0,"",I40/CenaCelkemVypocet*100)
A41: 3 | B41: 1 | C41: Vedlejší a ostatní náklady | F41: ='1 1 Naklady'!AE38 -> 0 | G41: ='1 1 Naklady'!AF38 -> 0 | H41: =(F41*SazbaDPH1/100)+(G41*SazbaDPH2/100) -> 0 | I41: =F41+G41+H41 -> 0 | J41: =IF(CenaCelkemVypocet=0,"",I41/CenaCelkemVypocet*100)
A42: 2 | B42: SO 101 | C42: Chodníky | F42: ='SO 101 1 Pol'!AE265+'SO 101 2 Pol'!AE84 -> 0 | G42: ='SO 101 1 Pol'!AF265+'SO 101 2 Pol'!AF84 -> 0 | H42: =(F42*SazbaDPH1/100)+(G42*SazbaDPH2/100) -> 0 | I42: =F42+G42+H42 -> 0 | J42: =IF(CenaCelkemVypocet=0,"",I42/CenaCelkemVypocet*100)
A43: 3 | B43: 1 | C43: Chodníky | F43: ='SO 101 1 Pol'!AE265 -> 0 | G43: ='SO 101 1 Pol'!AF265 -> 0 | H43: =(F43*SazbaDPH1/100)+(G43*SazbaDPH2/100) -> 0 | I43: =F43+G43+H43 -> 0 | J43: =IF(CenaCelkemVypocet=0,"",I43/CenaCelkemVypocet*100)
A44: 3 | B44: 2 | C44: Opěrná stěna | F44: ='SO 101 2 Pol'!AE84 -> 0 | G44: ='SO 101 2 Pol'!AF84 -> 0 | H44: =(F44*SazbaDPH1/100)+(G44*SazbaDPH2/100) -> 0 | I44: =F44+G44+H44 -> 0 | J44: =IF(CenaCelkemVypocet=0,"",I44/CenaCelkemVypocet*100)
A45: 2 | B45: SO 102 | C45: Kanalizace | F45: ='SO 102 SO 102 Pol'!AE142 -> 0 | G45: ='SO 102 SO 102 Pol'!AF142 -> 0 | H45: =(F45*SazbaDPH1/100)+(G45*SazbaDPH2/100) -> 0 | I45: =F45+G45+H45 -> 0 | J45: =IF(CenaCelkemVypocet=0,"",I45/CenaCelkemVypocet*100)
A46: 3 | B46: SO 102 | C46: Kanalizace | F46: ='SO 102 SO 102 Pol'!AE142 -> 0 | G46: ='SO 102 SO 102 Pol'!AF142 -> 0 | H46: =(F46*SazbaDPH1/100)+(G46*SazbaDPH2/100) -> 0 | I46: =F46+G46+H46 -> 0 | J46: =IF(CenaCelkemVypocet=0,"",I46/CenaCelkemVypocet*100)
A47: 2 | B47: SO 103 | C47: Komunikace do obytné zóny | F47: ='SO 103 SO 103 Pol'!AE146 -> 0 | G47: ='SO 103 SO 103 Pol'!AF146 -> 0 | H47: =(F47*SazbaDPH1/100)+(G47*SazbaDPH2/100) -> 0 | I47: =F47+G47+H47 -> 0 | J47: =IF(CenaCelkemVypocet=0,"",I47/CenaCelkemVypocet*100)
A48: 3 | B48: SO 103 | C48: Komunikace do obytné zóny | F48: ='SO 103 SO 103 Pol'!AE146 -> 0 | G48: ='SO 103 SO 103 Pol'!AF146 -> 0 | H48: =(F48*SazbaDPH1/100)+(G48*SazbaDPH2/100) -> 0 | I48: =F48+G48+H48 -> 0 | J48: =IF(CenaCelkemVypocet=0,"",I48/CenaCelkemVypocet*100)
B49: Celkem za stavbu | F49: =SUMIF(A39:A48,"=1",F39:F48) -> 0 | G49: =SUMIF(A39:A48,"=1",G39:G48) -> 0 | H49: =SUMIF(A39:A48,"=1",H39:H48) -> 0 | I49: =SUMIF(A39:A48,"=1",I39:I48) -> 0 | J49: =SUMIF(A39:A48,"=1",J39:J48) -> 0
B51: Popis rozpočtu: 2 - Opěrná stěna
B52: Výstavba chodníku a VO je součásti SO 101 - Chodník | AZ52: =B52 -> Výstavba chodníku a VO je součásti SO 101 - Chodník
B54: Popis rozpočtu: SO 102 - Kanalizace
B55: Úprava povrchů je součástí SO 101 Chodník | AZ55: =B55 -> Úprava povrchů je součástí SO 101 Chodník
B56: V rozpočtu je počítáno s výměnou zásypu. V případě vhodné vytěžené zeminy možno k zásypu použít tuto. | AZ56: =B56 -> V rozpočtu je počítáno s výměnou zásypu. V případě vhodné vytěžené zeminy možno k zásypu použít tuto.
B58: Popis rozpočtu: SO 103 - Komunikace do obytné zóny
B59: SO se zabývá výstavbou komunikace a retardéru, včetně obrub podél komunikace. | AZ59: =B59 -> SO se zabývá výstavbou komunikace a retardéru, včetně obrub podél komunikace.
B62: Rekapitulace dílů
B64: Číslo | C64: Název | F64: Typ dílu | I64: Celkem | J64: %
B65: 1 | C65: Zemní práce | F65: HSV | I65: ='SO 101 1 Pol'!G7+'SO 101 2 Pol'!G7+'SO 102 SO 102 Pol'!G7+'SO 103 SO 103 Pol'!G7 -> 0 | J65: =IF(I79=0,"",I65/I79*100)
B66: 2 | C66: Základy,zvláštní zakládání | F66: HSV | I66: ='SO 101 2 Pol'!G31 -> 0 | J66: =IF(I79=0,"",I66/I79*100)
B67: 3 | C67: Svislé a kompletní konstrukce | F67: HSV | I67: ='SO 101 2 Pol'!G45 -> 0 | J67: =IF(I79=0,"",I67/I79*100)
B68: 5 | C68: Komunikace | F68: HSV | I68: ='SO 101 1 Pol'!G84+'SO 102 SO 102 Pol'!G63+'SO 103 SO 103 Pol'!G61 -> 0 | J68: =IF(I79=0,"",I68/I79*100)
B69: 8 | C69: Trubní vedení | F69: HSV | I69: ='SO 101 1 Pol'!G135+'SO 102 SO 102 Pol'!G75+'SO 103 SO 103 Pol'!G90 -> 0 | J69: =IF(I79=0,"",I69/I79*100)
B70: 91 | C70: Doplňující práce na komunikaci | F70: HSV | I70: ='SO 101 1 Pol'!G160+'SO 103 SO 103 Pol'!G95 -> 0 | J70: =IF(I79=0,"",I70/I79*100)
B71: 96 | C71: Bourání konstrukcí | F71: HSV | I71: ='SO 101 1 Pol'!G188+'SO 102 SO 102 Pol'!G109 -> 0 | J71: =IF(I79=0,"",I71/I79*100)
B72: 99 | C72: Staveništní přesun hmot | F72: HSV | I72: ='SO 101 1 Pol'!G191+'SO 101 2 Pol'!G51+'SO 102 SO 102 Pol'!G115+'SO 103 SO 103 Pol'!G108 -> 0 | J72: =IF(I79=0,"",I72/I79*100)
B73: 711 | C73: Izolace proti vodě | F73: PSV | I73: ='SO 101 2 Pol'!G59 -> 0 | J73: =IF(I79=0,"",I73/I79*100)
B74: 767 | C74: Konstrukce zámečnické | F74: PSV | I74: ='SO 101 1 Pol'!G220+'SO 101 2 Pol'!G63 -> 0 | J74: =IF(I79=0,"",I74/I79*100)
B75: 783 | C75: Nátěry | F75: PSV | I75: ='SO 101 2 Pol'!G80 -> 0 | J75: =IF(I79=0,"",I75/I79*100)
B76: M21 | C76: Elektromontáže | F76: MON | I76: ='SO 101 1 Pol'!G227+'SO 103 SO 103 Pol'!G128 -> 0 | J76: =IF(I79=0,"",I76/I79*100)
B77: M46 | C77: Zemní práce při montážích | F77: MON | I77: ='SO 101 1 Pol'!G254+'SO 103 SO 103 Pol'!G138 -> 0 | J77: =IF(I79=0,"",I77/I79*100)
B78: VN | C78: Vedlejší náklady | F78: VN | I78: ='1 1 Naklady'!G7 -> 0 | J78: =IF(I79=0,"",I78/I79*100)
B79: Cena celkem | I79: =SUM(I65:I78) -> 0 | J79: =SUM(J65:J78) -> 0

Sheet VzorPolozky
A1: Položkový rozpočet
A2: S:
A3: O:
A4: R:

Sheet 1 1 Naklady
A1: Položkový rozpočet | AG1: #TypZaznamu#
A2: S: | B2: 20 | C2: Výstavba chodníku v ul. Lipovská | AG2: STA
A3: O: | B3: 1 | C3: Vedlejší a ostatní náklady | AC3: NAK | AG3: OBJ
A4: R: | B4: 1 | C4: Vedlejší a ostatní náklady | AG4: ROZ
A6: P.č. | B6: Číslo položky | C6: Název položky | D6: MJ | E6: množství | F6: cena / MJ | G6: Celkem | H6: Dodávka | I6: Dodávka celk. | J6: Montáž | K6: Montáž celk. | L6: DPH | M6: cena s DPH | N6: hmotnost / MJ | O6: hmotnost celk.(t) | P6: dem. hmotnost / MJ | Q6: dem. hmotnost celk.(t) | R6: Ceník | S6: Cen. soustava | T6: Nhod / MJ | U6: Nhod celk. | V6: Dodavatel
A7: Díl: | B7: VN | C7: Vedlejší náklady | G7: =SUMIF(AG8:AG36,"<>NOR",G8:G36) -> 0 | I7: =SUM(I8:I36) -> 0 | K7: =SUM(K8:K36) -> 0 | M7: =SUM(M8:M36) -> 0 | O7: =SUM(O8:O36) -> 0 | Q7: =SUM(Q8:Q36) -> 0 | U7: =SUM(U8:U36) -> 0 | AG7: DIL
A8: 1 | B8: 005111020R | C8: Vytyčení stavby | D8: Soubor | E8: 1 | G8: =ROUND(E8*F8,2) -> 0 | I8: =ROUND(E8*H8,2) -> 0 | K8: =ROUND(E8*J8,2) -> 0 | L8: 21 | M8: =G8*(1+L8/100) -> 0 | N8: 0 | O8: =ROUND(E8*N8,2) -> 0 | P8: 0 | Q8: =ROUND(E8*P8,2) -> 0 | R8: 800-0 | S8: RTS 17/ I | T8: 0 | U8: =ROUND(E8*T8,2) -> 0 | AG8: POL99_8
C9: Geodetické zaměření rohů stavby, stabilizace bodů a sestavení laviček. | AG9: POP | BA9: =C9 -> Geodetické zaměření rohů stavby, stabilizace bodů a sestavení laviček.
C10: Vyhotovení protokolu o vytyčení stavby se seznamem souřadnic vytyčených bodů a jejich polohopisnými (S-JTSK) a výškopisnými (Bpv) hodnotami. | AG10: POP | BA10: =C10 -> Vyhotovení protokolu o vytyčení stavby se seznamem souřadnic vytyčených bodů a jejich polohopisnými (S-JTSK) a výškopisnými (Bpv) hodnotami.
A11: 2 | B11: 005111021R | C11: Vytyčení inženýrských sítí | D11: Soubor | E11: 1 | G11: =ROUND(E11*F11,2) -> 0 | I11: =ROUND(E11*H11,2) -> 0 | K11: =ROUND(E11*J11,2) -> 0 | L11: 21 | M11: =G11*(1+L11/100) -> 0 | N11: 0 | O11: =ROUND(E11*N11,2) -> 0 | P11: 0 | Q11: =ROUND(E11*P11,2) -> 0 | R11: 800-0 | S11: RTS 17/ I | T11: 0 | U11: =ROUND(E11*T11,2) -> 0 | AG11: POL99_8
C12: Zaměření a vytýčení stávajících inženýrských sítí v místě stavby z hlediska jejich ochrany při provádění stavby. | AG12: POP | BA12: =C12 -> Zaměření a vytýčení stávajících inženýrských sítí v místě stavby z hlediska jejich ochrany při provádění stavby.
A13: 3 | B13: 005241020R | C13: Geodetické zaměření skutečného provedení | D13: Soubor | E13: 1 | G13: =ROUND(E13*F13,2) -> 0 | I13: =ROUND(E13*H13,2) -> 0 | K13: =ROUND(E13*J13,2) -> 0 | L13: 21 | M13: =G13*(1+L13/100) -> 0 | N13: 0 | O13: =ROUND(E13*N13,2) -> 0 | P13: 0 | Q13: =ROUND(E13*P13,2) -> 0 | R13: 800-0 | S13: RTS 17/ I | T13: 0 | U13: =ROUND(E13*T13,2) -> 0 | AG13: POL99_8
C14: - náklady na provedení skutečného zaměření stavby v rozsahu nezbytném pro zápis změny do katastru nemovitostí. | AG14: POP | BA14: =C14 -> - náklady na provedení skutečného zaměření stavby v rozsahu nezbytném pro zápis změny do katastru nemovitostí.
A15: 4 | B15: 005241010R | C15: Dokumentace skutečného provedení | D15: Soubor | E15: 1 | G15: =ROUND(E15*F15,2) -> 0 | I15: =ROUND(E15*H15,2) -> 0 | K15: =ROUND(E15*J15,2) -> 0 | L15: 21 | M15: =G15*(1+L15/100) -> 0 | N15: 0 | O15: =ROUND(E15*N15,2) -> 0 | P15: 0 | Q15: =ROUND(E15*P15,2) -> 0 | R15: 800-0 | S15: RTS 17/ I | T15: 0 | U15: =ROUND(E15*T15,2) -> 0 | AG15: POL99_8
C16: Náklady na vyhotovení dokumentace skutečného provedení stavby a její předání objednateli v požadované formě a požadovaném počtu. | AG16: POP | BA16: =C16 -> Náklady na vyhotovení dokumentace skutečného provedení stavby a její předání objednateli v požadované formě a požadovaném počtu.
C17: - 2x vyhotovení - dokumentace v listinné a digitální podobě, zakreslení změn PD, vč. revizí, prohlášení o shodě apod. | AG17: POP | BA17: =C17 -> - 2x vyhotovení - dokumentace v listinné a digitální podobě, zakreslení změn PD, vč. revizí, prohlášení o shodě apod.
C18: - 6x vyhotovéní - geometrický plán pro výkup pozemků - dokumentace v listinné a digitální podobě | AG18: POP | BA18: =C18 -> - 6x vyhotovéní - geometrický plán pro výkup pozemků - dokumentace v listinné a digitální podobě
A19: 5 | B19: 00523 R | C19: Zkoušky a revize | D19: Soubor | E19: 1 | G19: =ROUND(E19*F19,2) -> 0 | I19: =ROUND(E19*H19,2) -> 0 | K19: =ROUND(E19*J19,2) -> 0 | L19: 21 | M19: =G19*(1+L19/100) -> 0 | N19: 0 | O19: =ROUND(E19*N19,2) -> 0 | P19: 0 | Q19: =ROUND(E19*P19,2) -> 0 | R19: 800-0 | S19: RTS 17/ I | T19: 0 | U19: =ROUND(E19*T19,2) -> 0 | AG19: POL99_8
C20: Náklady zhotovitele, související s prováděním zkoušek a revizí předepsaných technickými normami nebo objednatelem a které jsou pro provedení díla nezbytné. | AG20: POP | BA20: =C20 -> Náklady zhotovitele, související s prováděním zkoušek a revizí předepsaných technickými normami nebo objednatelem a které jsou pro provedení díla nezbytné.
A21: 6 | B21: 005211030R | C21: Dočasná dopravní opatření | D21: Soubor | E21: 1 | G21: =ROUND(E21*F21,2) -> 0 | I21: =ROUND(E21*H21,2) -> 0 | K21: =ROUND(E21*J21,2) -> 0 | L21: 21 | M21: =G21*(1+L21/100) -> 0 | N21: 0 | O21: =ROUND(E21*N21,2) -> 0 | P21: 0 | Q21: =ROUND(E21*P21,2) -> 0 | R21: 800-0 | S21: RTS 17/ I | T21: 0 | U21: =ROUND(E21*T21,2) -> 0 | AG21: POL99_8
C22: Náklady na vyhotovení návrhu dočasného dopravního značení, jeho projednání s dotčenými orgány a organizacemi, dodání dopravních značek a světelné signalizace, jejich rozmístění a přemísťování a jejich údržba v průběhu výstavby včetně následného odstranění po ukončení stavebních prací. | AG22: POP | BA22: =C22 -> Náklady na vyhotovení návrhu dočasného dopravního značení, jeho projednání s dotčenými orgány a organizacemi, dodání dopravních značek a světelné signalizace, jejich rozmístění a přemísťování a jejich údržba v průběhu výstavby včetně následného odstranění po ukončení stavebních prací.
A23: 7 | B23: 005211040R | C23: Užívání veřejných ploch a prostranství | D23: Soubor | E23: 1 | G23: =ROUND(E23*F23,2) -> 0 | I23: =ROUND(E23*H23,2) -> 0 | K23: =ROUND(E23*J23,2) -> 0 | L23: 21 | M23: =G23*(1+L23/100) -> 0 | N23: 0 | O23: =ROUND(E23*N23,2) -> 0 | P23: 0 | Q23: =ROUND(E23*P23,2) -> 0 | R23: 800-0 | S23: RTS 17/ I | T23: 0 | U23: =ROUND(E23*T23,2) -> 0 | AG23: POL99_8
C24: Náklady a poplatky spojené s užíváním veřejných ploch a prostranství, pokud jsou stavebními pracemi nebo souvisejícími činnostmi dotčeny, a to včetně užívání ploch v souvislosti s uložením stavebního materiálu nebo stavebního odpadu. | AG24: POP | BA24: =C24 -> Náklady a poplatky spojené s užíváním veřejných ploch a prostranství, pokud jsou stavebními pracemi nebo souvisejícími činnostmi dotčeny, a to včetně užívání ploch v souvislosti s uložením stavebního materiálu nebo stavebního odpadu.
A25: 8 | B25: R | C25: Fotodokumentace stavby | D25: soubor | E25: 1 | G25: =ROUND(E25*F25,2) -> 0 | I25: =ROUND(E25*H25,2) -> 0 | K25: =ROUND(E25*J25,2) -> 0 | L25: 21 | M25: =G25*(1+L25/100) -> 0 | N25: 0 | O25: =ROUND(E25*N25,2) -> 0 | P25: 0 | Q25: =ROUND(E25*P25,2) -> 0 | S25: Vlastní | T25: 0 | U25: =ROUND(E25*T25,2) -> 0 | AG25: POL99_8
C26: Fotodokumentace stavby před zahájením stavby, v průběhu výstavby a po stavbě. Zařazení fotek do fotoalba v časové posloupnosti a popisem činnosti a číslem objektů v listinné a digitální podobě. | AG26: POP | BA26: =C26 -> Fotodokumentace stavby před zahájením stavby, v průběhu výstavby a po stavbě. Zařazení fotek do fotoalba v časové posloupnosti a popisem činnosti a číslem objektů v listinné a digitální podobě.
A27: 9 | B27: 00524 R | C27: Předání a převzetí díla | D27: Soubor | E27: 1 | G27: =ROUND(E27*F27,2) -> 0 | I27: =ROUND(E27*H27,2) -> 0 | K27: =ROUND(E27*J27,2) -> 0 | L27: 21 | M27: =G27*(1+L27/100) -> 0 | N27: 0 | O27: =ROUND(E27*N27,2) -> 0 | P27: 0 | Q27: =ROUND(E27*P27,2) -> 0 | R27: 800-0 | S27: RTS 17/ I | T27: 0 | U27: =ROUND(E27*T27,2) -> 0 | AG27: POL99_8
C28: Náklady zhotovitele, které vzniknou v souvislosti s povinnostmi zhotovitele při předání a převzetí díla. | AG28: POP | BA28: =C28 -> Náklady zhotovitele, které vzniknou v souvislosti s povinnostmi zhotovitele při předání a převzetí díla.
A29: 10 | B29: 005121 R | C29: Zařízení staveniště | D29: Soubor | E29: 1 | G29: =ROUND(E29*F29,2) -> 0 | I29: =ROUND(E29*H29,2) -> 0 | K29: =ROUND(E29*J29,2) -> 0 | L29: 21 | M29: =G29*(1+L29/100) -> 0 | N29: 0 | O29: =ROUND(E29*N29,2) -> 0 | P29: 0 | Q29: =ROUND(E29*P29,2) -> 0 | R29: 800-0 | S29: RTS 17/ I | T29: 0 | U29: =ROUND(E29*T29,2) -> 0 | AG29: POL99_8
C30: Veškeré náklady spojené s vybudováním, provozem a odstraněním zařízení staveniště. | AG30: POP | BA30: =C30 -> Veškeré náklady spojené s vybudováním, provozem a odstraněním zařízení staveniště.
A31: 11 | B31: 00528 R1 | C31: Zajištění publicity dle poskytovatele dotace | D31: Soubor | E31: 1 | G31: =ROUND(E31*F31,2) -> 0 | I31: =ROUND(E31*H31,2) -> 0 | K31: =ROUND(E31*J31,2) -> 0 | L31: 21 | M31: =G31*(1+L31/100) -> 0 | N31: 0 | O31: =ROUND(E31*N31,2) -> 0 | P31: 0 | Q31: =ROUND(E31*P31,2) -> 0 | S31: Vlastní | T31: 0 | U31: =ROUND(E31*T31,2) -> 0 | AG31: POL99_8
C32: Instalace informačního panelu (banneru) a informační tabule (pamětní desky). Výrobu si zajišťuje zadavatel | AG32: POP | BA32: =C32 -> Instalace informačního panelu (banneru) a informační tabule (pamětní desky). Výrobu si zajišťuje zadavatel
A33: 12 | B33: 005261020R | C33: Bankovní záruky | D33: Soubor | E33: 1 | G33: =ROUND(E33*F33,2) -> 0 | I33: =ROUND(E33*H33,2) -> 0 | K33: =ROUND(E33*J33,2) -> 0 | L33: 21 | M33: =G33*(1+L33/100) -> 0 | N33: 0 | O33: =ROUND(E33*N33,2) -> 0 | P33: 0 | Q33: =ROUND(E33*P33,2) -> 0 | S33: RTS 17/ I | T33: 0 | U33: =ROUND(E33*T33,2) -> 0 | AG33: POL99_8
C34: Náklady zhotovitele spojené se zabezpečením a poskytnutím zajišťovacích bankovních záruk, pokud je zadavatel požaduje v obchodních podmínkách. | AG34: POP | BA34: =C34 -> Náklady zhotovitele spojené se zabezpečením a poskytnutím zajišťovacích bankovních záruk, pokud je zadavatel požaduje v obchodních podmínkách.
A35: 13 | B35: 005261010R | C35: Pojištění dodavatele a pojištění díla | D35: Soubor | E35: 1 | G35: =ROUND(E35*F35,2) -> 0 | I35: =ROUND(E35*H35,2) -> 0 | K35: =ROUND(E35*J35,2) -> 0 | L35: 21 | M35: =G35*(1+L35/100) -> 0 | N35: 0 | O35: =ROUND(E35*N35,2) -> 0 | P35: 0 | Q35: =ROUND(E35*P35,2) -> 0 | S35: RTS 17/ I | T35: 0 | U35: =ROUND(E35*T35,2) -> 0 | AG35: POL99_8
C36: Náklady zhotovitele spojené s pojištěním proti škodám způsobeným jeho činností, případně nečinností, včetně možných škod pracovníků zhotovitele a to až do výše ceny díla vč. DPH v souladu s SoD | AG36: POP | BA36: =C36 -> Náklady zhotovitele spojené s pojištěním proti škodám způsobeným jeho činností, případně nečinností, včetně možných škod pracovníků zhotovitele a to až do výše ceny díla vč. DPH v souladu s SoD
AE37: 15 | AF37: 21
B38: Celkem | G38: =G7 -> 0 | AE38: =SUMIF(L7:L36,AE37,G7:G36) -> 0 | AF38: =SUMIF(L7:L36,AF37,G7:G36) -> 0 | AG38: SUM
A41: Poznámky uchazeče k zadání
AG42: POPUZIV
AG48: END

Sheet SO 101 1 Pol
A1: Položkový rozpočet | AG1: #TypZaznamu#
A2: S: | B2: 20 | C2: Výstavba chodníku v ul. Lipovská | AG2: STA
A3: O: | B3: SO 101 | C3: Chodníky | AC3: STA | AG3: OBJ
A4: R: | B4: 1 | C4: Chodníky | AG4: ROZ
A6: P.č. | B6: Číslo položky | C6: Název položky | D6: MJ | E6: množství | F6: cena / MJ | G6: Celkem | H6: Dodávka | I6: Dodávka celk. | J6: Montáž | K6: Montáž celk. | L6: DPH | M6: cena s DPH | N6: hmotnost / MJ | O6: hmotnost celk.(t) | P6: dem. hmotnost / MJ | Q6: dem. hmotnost celk.(t) | R6: Ceník | S6: Cen. soustava | T6: Nhod / MJ | U6: Nhod celk. | V6: Dodavatel
A7: Díl: | B7: 1 | C7: Zemní práce | G7: =SUMIF(AG8:AG83,"<>NOR",G8:G83) -> 0 | I7: =SUM(I8:I83) -> 0 | K7: =SUM(K8:K83) -> 0 | M7: =SUM(M8:M83) -> 0 | O7: =SUM(O8:O83) -> 231.09 | Q7: =SUM(Q8:Q83) -> 168.8 | U7: =SUM(U8:U83) -> 806.9 | AG7: DIL
A8: 1 | B8: R | C8: Demontáž stávající lavičky včetně odvozu a poplatku za skládku | D8: ks | E8: 1 | G8: =ROUND(E8*F8,2) -> 0 | I8: =ROUND(E8*H8,2) -> 0 | K8: =ROUND(E8*J8,2) -> 0 | L8: 21 | M8: =G8*(1+L8/100) -> 0 | N8: 0 | O8: =ROUND(E8*N8,2) -> 0 | P8: 0 | Q8: =ROUND(E8*P8,2) -> 0 | S8: Vlastní | T8: 0 | U8: =ROUND(E8*T8,2) -> 0 | AG8: POL1_
C9: Množství z C.2. Situace | AG9: POP | BA9: =C9 -> Množství z C.2. Situace
A10: 2 | B10: R-pol | C10: Demontáž stávajícícho odpadkového koše včetně odvozu a poplatku za skládku | D10: t | E10: 1 | G10: =ROUND(E10*F10,2) -> 0 | I10: =ROUND(E10*H10,2) -> 0 | K10: =ROUND(E10*J10,2) -> 0 | L10: 21 | M10: =G10*(1+L10/100) -> 0 | N10: 0 | O10: =ROUND(E10*N10,2) -> 0 | P10: 0 | Q10: =ROUND(E10*P10,2) -> 0 | S10: Vlastní | T10: 0 | U10: =ROUND(E10*T10,2) -> 0 | AG10: POL1_
C11: Množství z C.2. Situace | AG11: POP | BA11: =C11 -> Množství z C.2. Situace
A12: 3 | B12: 112101103R00 | C12: Kácení stromů listnatých o průměru kmene 50-70 cm | D12: kus | E12: 2 | G12: =ROUND(E12*F12,2) -> 0 | I12: =ROUND(E12*H12,2) -> 0 | K12: =ROUND(E12*J12,2) -> 0 | L12: 21 | M12: =G12*(1+L12/100) -> 0 | N12: 0 | O12: =ROUND(E12*N12,2) -> 0 | P12: 0 | Q12: =ROUND(E12*P12,2) -> 0 | R12: 800-1 | S12: RTS 17/ I | T12: 1.42 | U12: =ROUND(E12*T12,2) -> 2.84 | AG12: POL1_1
C13: Počet z C.2 Situace | AG13: POP | BA13: =C13 -> Počet z C.2 Situace
A14: 4 | B14: 112201103R00 | C14: Odstranění pařezů pod úrovní, o průměru 50 - 70 cm | D14: kus | E14: 2 | G14: =ROUND(E14*F14,2) -> 0 | I14: =ROUND(E14*H14,2) -> 0 | K14: =ROUND(E14*J14,2) -> 0 | L14: 21 | M14: =G14*(1+L14/100) -> 0 | N14: 0.0001 | O14: =ROUND(E14*N14,2) -> 0 | P14: 0 | Q14: =ROUND(E14*P14,2) -> 0 | R14: 800-1 | S14: RTS 17/ I | T14: 2.562 | U14: =ROUND(E14*T14,2) -> 5.12 | AG14: POL1_1
A15: 5 | B15: 162301402R00 | C15: Vod.přemístění větví listnatých, D 50cm do 5000 m | D15: kus | E15: 1 | G15: =ROUND(E15*F15,2) -> 0 | I15: =ROUND(E15*H15,2) -> 0 | K15: =ROUND(E15*J15,2) -> 0 | L15: 21 | M15: =G15*(1+L15/100) -> 0 | N15: 0 | O15: =ROUND(E15*N15,2) -> 0 | P15: 0 | Q15: =ROUND(E15*P15,2) -> 0 | R15: 800-1 | S15: RTS 17/ I | T15: 0.245 | U15: =ROUND(E15*T15,2) -> 0.25 | AG15: POL1_1
A16: 6 | B16: 162301403R00 | C16: Vod.přemístění větví listnatých, D 70cm do 5000 m | D16: kus | E16: 1 | G16: =ROUND(E16*F16,2) -> 0 | I16: =ROUND(E16*H16,2) -> 0 | K16: =ROUND(E16*J16,2) -> 0 | L16: 21 | M16: =G16*(1+L16/100) -> 0 | N16: 0 | O16: =ROUND(E16*N16,2) -> 0 | P16: 0 | Q16: =ROUND(E16*P16,2) -> 0 | R16: 800-1 | S16: RTS 17/ I | T16: 0.658 | U16: =ROUND(E16*T16,2) -> 0.66 | AG16: POL1_1
A17: 7 | B17: 162301412R00 | C17: Vod.přemístění kmenů listnatých, D 50cm do 5000 m | D17: kus | E17: 1 | G17: =ROUND(E17*F17,2) -> 0 | I17: =ROUND(E17*H17,2) -> 0 | K17: =ROUND(E17*J17,2) -> 0 | L17: 21 | M17: =G17*(1+L17/100) -> 0 | N17: 0 | O17: =ROUND(E17*N17,2) -> 0 | P17: 0 | Q17: =ROUND(E17*P17,2) -> 0 | R17: 800-1 | S17: RTS 17/ I | T17: 0.96 | U17: =ROUND(E17*T17,2) -> 0.96 | AG17: POL1_1
A18: 8 | B18: 162301413R00 | C18: Vod.přemístění kmenů listnatých, D 70cm do 5000 m | D18: kus | E18: 1 | G18: =ROUND(E18*F18,2) -> 0 | I18: =ROUND(E18*H18,2) -> 0 | K18: =ROUND(E18*J18,2) -> 0 | L18: 21 | M18: =G18*(1+L18/100) -> 0 | N18: 0 | O18: =ROUND(E18*N18,2) -> 0 | P18: 0 | Q18: =ROUND(E18*P18,2) -> 0 | R18: 800-1 | S18: RTS 17/ I | T18: 2.271 | U18: =ROUND(E18*T18,2) -> 2.27 | AG18: POL1_1
A19: 9 | B19: 162301423R00 | C19: Vodorovné přemístění pařezů D 70 cm do 5000 m | D19: kus | E19: 2 | G19: =ROUND(E19*F19,2) -> 0 | I19: =ROUND(E19*H19,2) -> 0 | K19: =ROUND(E19*J19,2) -> 0 | L19: 21 | M19: =G19*(1+L19/100) -> 0 | N19: 0 | O19: =ROUND(E19*N19,2) -> 0 | P19: 0 | Q19: =ROUND(E19*P19,2) -> 0 | R19: 800-1 | S19: RTS 17/ I | T19: 0.555 | U19: =ROUND(E19*T19,2) -> 1.11 | AG19: POL1_1
A20: 10 | B20: 174201203R00 | C20: Zásyp jam po pařezech D 70 cm | D20: kus | E20: 2 | G20: =ROUND(E20*F20,2) -> 0 | I20: =ROUND(E20*H20,2) -> 0 | K20: =ROUND(E20*J20,2) -> 0 | L20: 21 | M20: =G20*(1+L20/100) -> 0 | N20: 0 | O20: =ROUND(E20*N20,2) -> 0 | P20: 0 | Q20: =ROUND(E20*P20,2) -> 0 | R20: 800-1 | S20: RTS 17/ I | T20: 1.43 | U20: =ROUND(E20*T20,2) -> 2.86 | AG20: POL1_1
A21: 11 | B21: 919735112R00 | C21: Řezání stávajícího živičného krytu tl. 5 - 10 cm | D21: m | E21: 673 | G21: =ROUND(E21*F21,2) -> 0 | I21: =ROUND(E21*H21,2) -> 0 | K21: =ROUND(E21*J21,2) -> 0 | L21: 21 | M21: =G21*(1+L21/100) -> 0 | N21: 0 | O21: =ROUND(E21*N21,2) -> 0 | P21: 0 | Q21: =ROUND(E21*P21,2) -> 0 | R21: 822-1 | S21: RTS 17/ I | T21: 0.037 | U21: =ROUND(E21*T21,2) -> 24.9 | AG21: POL1_1
C22: Délka z C.2. Situace | AG22: POP | BA22: =C22 -> Délka z C.2. Situace
A23: 12 | B23: 113151119R00 | C23: Fréz.živič.krytu pl.do 500 m2,pruh do 75cm,tl.10cm | D23: m2 | E23: 813 | G23: =ROUND(E23*F23,2) -> 0 | I23: =ROUND(E23*H23,2) -> 0 | K23: =ROUND(E23*J23,2) -> 0 | L23: 21 | M23: =G23*(1+L23/100) -> 0 | N23: 0 | O23: =ROUND(E23*N23,2) -> 0 | P23: 0.12 | Q23: =ROUND(E23*P23,2) -> 97.56 | R23: 822-1 | S23: RTS 17/ I | T23: 0.12 | U23: =ROUND(E23*T23,2) -> 97.56 | AG23: POL1_1
C24: Plocha z C.2. Situace | AG24: POP | BA24: =C24 -> Plocha z C.2. Situace
A25: 13 | B25: 113202111R00 | C25: Vytrhání obrub z krajníků nebo obrubníků stojatých | D25: m | E25: 20 | G25: =ROUND(E25*F25,2) -> 0 | I25: =ROUND(E25*H25,2) -> 0 | K25: =ROUND(E25*J25,2) -> 0 | L25: 21 | M25: =G25*(1+L25/100) -> 0 | N25: 0 | O25: =ROUND(E25*N25,2) -> 0 | P25: 0.145 | Q25: =ROUND(E25*P25,2) -> 2.9 | R25: 822-1 | S25: RTS 17/ I | T25: 0.123 | U25: =ROUND(E25*T25,2) -> 2.46 | AG25: POL1_1
C26: Délka z C.2. Situace | AG26: POP | BA26: =C26 -> Délka z C.2. Situace
A27: 14 | B27: 113204111R00 | C27: Vytrhání obrub záhonových | D27: m | E27: 11 | G27: =ROUND(E27*F27,2) -> 0 | I27: =ROUND(E27*H27,2) -> 0 | K27: =ROUND(E27*J27,2) -> 0 | L27: 21 | M27: =G27*(1+L27/100) -> 0 | N27: 0 | O27: =ROUND(E27*N27,2) -> 0 | P27: 0.04 | Q27: =ROUND(E27*P27,2) -> 0.44 | R27: 822-1 | S27: RTS 17/ I | T27: 0.08 | U27: =ROUND(E27*T27,2) -> 0.88 | AG27: POL1_1
C28: Délka z C.2. Situace | AG28: POP | BA28: =C28 -> Délka z C.2. Situace
A29: 15 | B29: 113106231R00 | C29: Rozebrání dlažeb ze zámkové dlažby v kamenivu | D29: m2 | E29: 55 | G29: =ROUND(E29*F29,2) -> 0 | I29: =ROUND(E29*H29,2) -> 0 | K29: =ROUND(E29*J29,2) -> 0 | L29: 21 | M29: =G29*(1+L29/100) -> 0 | N29: 0 | O29: =ROUND(E29*N29,2) -> 0 | P29: 0.225 | Q29: =ROUND(E29*P29,2) -> 12.38 | R29: 822-1 | S29: RTS 14/ I | T29: 0.142 | U29: =ROUND(E29*T29,2) -> 7.81 | AG29: POL1_
C30: Plocha z C.2. Situace | AG30: POP | BA30: =C30 -> Plocha z C.2. Situace
A31: 16 | B31: 113106121R00 | C31: Rozebrání dlažeb z betonových dlaždic na sucho | D31: m2 | E31: 13 | G31: =ROUND(E31*F31,2) -> 0 | I31: =ROUND(E31*H31,2) -> 0 | K31: =ROUND(E31*J31,2) -> 0 | L31: 21 | M31: =G31*(1+L31/100) -> 0 | N31: 0 | O31: =ROUND(E31*N31,2) -> 0 | P31: 0.138 | Q31: =ROUND(E31*P31,2) -> 1.79 | R31: 822-1 | S31: RTS 17/ I | T31: 0.16 | U31: =ROUND(E31*T31,2) -> 2.08 | AG31: POL1_1
C32: Plocha z C.2. Situace | AG32: POP | BA32: =C32 -> Plocha z C.2. Situace
A33: 17 | B33: 113107515R00 | C33: Odstranění podkladu pl. 50 m2,kam.drcené tl.15 cm | D33: m2 | E33: 10 | G33: =ROUND(E33*F33,2) -> 0 | I33: =ROUND(E33*H33,2) -> 0 | K33: =ROUND(E33*J33,2) -> 0 | L33: 21 | M33: =G33*(1+L33/100) -> 0 | N33: 0 | O33: =ROUND(E33*N33,2) -> 0 | P33: 0.33 | Q33: =ROUND(E33*P33,2) -> 3.3 | R33: 822-1 | S33: RTS 14/ I | T33: 0.5265 | U33: =ROUND(E33*T33,2) -> 5.27 | AG33: POL1_
C34: 9x1,1 | AG34: POP | BA34: =C34 -> 9x1,1
A35: 18 | B35: 113107630R00 | C35: Odstranění podkladu nad 50 m2,kam.drcené tl.30 cm | D35: m2 | E35: 75 | G35: =ROUND(E35*F35,2) -> 0 | I35: =ROUND(E35*H35,2) -> 0 | K35: =ROUND(E35*J35,2) -> 0 | L35: 21 | M35: =G35*(1+L35/100) -> 0 | N35: 0 | O35: =ROUND(E35*N35,2) -> 0 | P35: 0.66 | Q35: =ROUND(E35*P35,2) -> 49.5 | R35: 822-1 | S35: RTS 16/ I | T35: 0.119 | U35: =ROUND(E35*T35,2) -> 8.93 | AG35: POL1_1
C36: Chodník (35+21)x1,1 | AG36: POP | BA36: =C36 -> Chodník (35+21)x1,1
C37: Překop VO 6,5x2 | AG37: POP | BA37: =C37 -> Překop VO 6,5x2
A38: 19 | B38: 122202202R00 | C38: Odkopávky pro silnice v hor. 3 do 1000 m3 | D38: m3 | E38: 492 | G38: =ROUND(E38*F38,2) -> 0 | I38: =ROUND(E38*H38,2) -> 0 | K38: =ROUND(E38*J38,2) -> 0 | L38: 21 | M38: =G38*(1+L38/100) -> 0 | N38: 0 | O38: =ROUND(E38*N38,2) -> 0 | P38: 0 | Q38: =ROUND(E38*P38,2) -> 0 | R38: 800-1 | S38: RTS 17/ I | T38: 0.223 | U38: =ROUND(E38*T38,2) -> 109.72 | AG38: POL1_1
C39: Silnice 248x0,45+43x0,45+18x0,45+132x0,45 | AG39: POP | BA39: =C39 -> Silnice 248x0,45+43x0,45+18x0,45+132x0,45
C40: Sjezd 61x0,4+13x0,4 | AG40: POP | BA40: =C40 -> Sjezd 61x0,4+13x0,4
C41: Chodník 614x0,2+173x0,3+74x0,2+374x0,2 | AG41: POP | BA41: =C41 -> Chodník 614x0,2+173x0,3+74x0,2+374x0,2
A42: 20 | B42: 120001101R00 | C42: Příplatek za ztížení vykopávky v blízkosti vedení | D42: m3 | E42: 122 | G42: =ROUND(E42*F42,2) -> 0 | I42: =ROUND(E42*H42,2) -> 0 | K42: =ROUND(E42*J42,2) -> 0 | L42: 21 | M42: =G42*(1+L42/100) -> 0 | N42: 0 | O42: =ROUND(E42*N42,2) -> 0 | P42: 0 | Q42: =ROUND(E42*P42,2) -> 0 | R42: 800-1 | S42: RTS 17/ I | T42: 1.548 | U42: =ROUND(E42*T42,2) -> 188.86 | AG42: POL1_1
A43: 21 | B43: 132201111R00 | C43: Hloubení rýh š.do 60 cm v hor.3 do 100 m3, STROJNĚ | D43: m3 | E43: 86.2 | G43: =ROUND(E43*F43,2) -> 0 | I43: =ROUND(E43*H43,2) -> 0 | K43: =ROUND(E43*J43,2) -> 0 | L43: 21 | M43: =G43*(1+L43/100) -> 0 | N43: 0 | O43: =ROUND(E43*N43,2) -> 0 | P43: 0 | Q43: =ROUND(E43*P43,2) -> 0 | R43: 800-1 | S43: RTS 17/ I | T43: 0.23 | U43: =ROUND(E43*T43,2) -> 19.83 | AG43: POL1_1
C44: VO (25+27+29)x1,4x0,6 | AG44: POP | BA44: =C44 -> VO (25+27+29)x1,4x0,6
C45: Kanalizace 12x1,5x0,6 +8x1,5x0,6 | AG45: POP | BA45: =C45 -> Kanalizace 12x1,5x0,6 +8x1,5x0,6
A46: 22 | B46: 130001101R00 | C46: Příplatek za ztížené hloubení v blízkosti vedení | D46: m3 | E46: 19 | G46: =ROUND(E46*F46,2) -> 0 | I46: =ROUND(E46*H46,2) -> 0 | K46: =ROUND(E46*J46,2) -> 0 | L46: 21 | M46: =G46*(1+L46/100) -> 0 | N46: 0 | O46: =ROUND(E46*N46,2) -> 0 | P46: 0 | Q46: =ROUND(E46*P46,2) -> 0 | R46: 800-1 | S46: RTS 17/ I | T46: 1.763 | U46: =ROUND(E46*T46,2) -> 33.5 | AG46: POL1_1
C47: 5,4x0,3 | AG47: POP | BA47: =C47 -> 5,4x0,3
A48: 23 | B48: 151101101R00 | C48: Pažení a rozepření stěn rýh - příložné - hl. do 2m | D48: m2 | E48: 287 | G48: =ROUND(E48*F48,2) -> 0 | I48: =ROUND(E48*H48,2) -> 0 | K48: =ROUND(E48*J48,2) -> 0 | L48: 21 | M48: =G48*(1+L48/100) -> 0 | N48: 0.00099 | O48: =ROUND(E48*N48,2) -> 0.28 | P48: 0 | Q48: =ROUND(E48*P48,2) -> 0 | R48: 800-1 | S48: RTS 17/ I | T48: 0.236 | U48: =ROUND(E48*T48,2) -> 67.73 | AG48: POL1_1
C49: 81x1,4x2 | AG49: POP | BA49: =C49 -> 81x1,4x2
C50: 12x1,5x2 | AG50: POP | BA50: =C50 -> 12x1,5x2
C51: 8x1,5x2 | AG51: POP | BA51: =C51 -> 8x1,5x2
A52: 24 | B52: 151101111R00 | C52: Odstranění pažení stěn rýh - příložné - hl. do 2 m | D52: m2 | E52: 287 | G52: =ROUND(E52*F52,2) -> 0 | I52: =ROUND(E52*H52,2) -> 0 | K52: =ROUND(E52*J52,2) -> 0 | L52: 21 | M52: =G52*(1+L52/100) -> 0 | N52: 0 | O52: =ROUND(E52*N52,2) -> 0 | P52: 0 | Q52: =ROUND(E52*P52,2) -> 0 | R52: 800-1 | S52: RTS 17/ I | T52: 0.07 | U52: =ROUND(E52*T52,2) -> 20.09 | AG52: POL1_1
A53: 25 | B53: 174101101R00 | C53: Zásyp jam, rýh, šachet se zhutněním | D53: m3 | E53: 69 | G53: =ROUND(E53*F53,2) -> 0 | I53: =ROUND(E53*H53,2) -> 0 | K53: =ROUND(E53*J53,2) -> 0 | L53: 21 | M53: =G53*(1+L53/100) -> 0 | N53: 0 | O53: =ROUND(E53*N53,2) -> 0 | P53: 0 | Q53: =ROUND(E53*P53,2) -> 0 | R53: 800-1 | S53: RTS 17/ I | T53: 0.202 | U53: =ROUND(E53*T53,2) -> 13.94 | AG53: POL1_1
C54: 79x0,8 | AG54: POP | BA54: =C54 -> 79x0,8
C55: 7,2x0,8 | AG55: POP | BA55: =C55 -> 7,2x0,8
A56: 26 | B56: 583412034R | C56: Kamenivo drcené frakce 0/4 B Olomoucký kraj | D56: T | E56: 30.4 | G56: =ROUND(E56*F56,2) -> 0 | I56: =ROUND(E56*H56,2) -> 0 | K56: =ROUND(E56*J56,2) -> 0 | L56: 21 | M56: =G56*(1+L56/100) -> 0 | N56: 1 | O56: =ROUND(E56*N56,2) -> 30.4 | P56: 0 | Q56: =ROUND(E56*P56,2) -> 0 | R56: SPCM | S56: RTS 17/ I | T56: 0 | U56: =ROUND(E56*T56,2) -> 0 | AG56: POL3_0
C57: 63,2x2,2x0,2 | AG57: POP | BA57: =C57 -> 63,2x2,2x0,2
C58: 5,8x2,2x0,2 | AG58: POP | BA58: =C58 -> 5,8x2,2x0,2
A59: 27 | B59: 58344198R | C59: Štěrkodrtě frakce 0-63 B | D59: T | E59: 121.4 | G59: =ROUND(E59*F59,2) -> 0 | I59: =ROUND(E59*H59,2) -> 0 | K59: =ROUND(E59*J59,2) -> 0 | L59: 21 | M59: =G59*(1+L59/100) -> 0 | N59: 1 | O59: =ROUND(E59*N59,2) -> 121.4 | P59: 0 | Q59: =ROUND(E59*P59,2) -> 0 | R59: SPCM | S59: RTS 17/ I | T59: 0 | U59: =ROUND(E59*T59,2) -> 0 | AG59: POL3_0
C60: 63,2x2,2x0,8 | AG60: POP | BA60: =C60 -> 63,2x2,2x0,8
C61: 5,8x2,2x0,8 | AG61: POP | BA61: =C61 -> 5,8x2,2x0,8
A62: 28 | B62: 181101102R00 | C62: Úprava pláně v zářezech v hor. 1-4, se zhutněním | D62: m2 | E62: 1750 | G62: =ROUND(E62*F62,2) -> 0 | I62: =ROUND(E62*H62,2) -> 0 | K62: =ROUND(E62*J62,2) -> 0 | L62: 21 | M62: =G62*(1+L62/100) -> 0 | N62: 0 | O62: =ROUND(E62*N62,2) -> 0 | P62: 0 | Q62: =ROUND(E62*P62,2) -> 0 | R62: 800-1 | S62: RTS 17/ I | T62: 0.018 | U62: =ROUND(E62*T62,2) -> 31.5 | AG62: POL1_1
C63: 248+61+614+216+92+519 | AG63: POP | BA63: =C63 -> 248+61+614+216+92+519
A64: 29 | B64: 162701105R00 | C64: Vodorovné přemístění výkopku z hor.1-4 do 10000 m | D64: m3 | E64: 578 | G64: =ROUND(E64*F64,2) -> 0 | I64: =ROUND(E64*H64,2) -> 0 | K64: =ROUND(E64*J64,2) -> 0 | L64: 21 | M64: =G64*(1+L64/100) -> 0 | N64: 0 | O64: =ROUND(E64*N64,2) -> 0 | P64: 0 | Q64: =ROUND(E64*P64,2) -> 0 | R64: 800-1 | S64: RTS 17/ I | T64: 0.011 | U64: =ROUND(E64*T64,2) -> 6.36 | AG64: POL1_1
C65: 259+79+71+23+146 | AG65: POP | BA65: =C65 -> 259+79+71+23+146
A66: 30 | B66: 171201201R00 | C66: Uložení sypaniny na skl.-modelace na výšku přes 2m | D66: m3 | E66: 587 | G66: =ROUND(E66*F66,2) -> 0 | I66: =ROUND(E66*H66,2) -> 0 | K66: =ROUND(E66*J66,2) -> 0 | L66: 21 | M66: =G66*(1+L66/100) -> 0 | N66: 0 | O66: =ROUND(E66*N66,2) -> 0 | P66: 0 | Q66: =ROUND(E66*P66,2) -> 0 | R66: 800-1 | S66: RTS 17/ I | T66: 0.009 | U66: =ROUND(E66*T66,2) -> 5.28 | AG66: POL1_1
A67: 31 | B67: 199000002R00 | C67: Poplatek za skládku horniny 1- 4 | D67: m3 | E67: 587 | G67: =ROUND(E67*F67,2) -> 0 | I67: =ROUND(E67*H67,2) -> 0 | K67: =ROUND(E67*J67,2) -> 0 | L67: 21 | M67: =G67*(1+L67/100) -> 0 | N67: 0 | O67: =ROUND(E67*N67,2) -> 0 | P67: 0 | Q67: =ROUND(E67*P67,2) -> 0 | R67: 800-1 | S67: RTS 17/ I | T67: 0 | U67: =ROUND(E67*T67,2) -> 0 | AG67: POL1_1
A68: 32 | B68: 182001111R00 | C68: Plošná úprava terénu, nerovnosti do 10 cm v rovině | D68: m2 | E68: 473 | G68: =ROUND(E68*F68,2) -> 0 | I68: =ROUND(E68*H68,2) -> 0 | K68: =ROUND(E68*J68,2) -> 0 | L68: 21 | M68: =G68*(1+L68/100) -> 0 | N68: 0 | O68: =ROUND(E68*N68,2) -> 0 | P68: 0 | Q68: =ROUND(E68*P68,2) -> 0 | R68: 823-1 | S68: RTS 17/ I | T68: 0.09 | U68: =ROUND(E68*T68,2) -> 42.57 | AG68: POL1_1
C69: Plocha z C.2. Situace | AG69: POP | BA69: =C69 -> Plocha z C.2. Situace
A70: 33 | B70: 181301101R00 | C70: Rozprostření ornice, rovina, tl. do 10 cm do 500m2 | D70: m2 | E70: 473 | G70: =ROUND(E70*F70,2) -> 0 | I70: =ROUND(E70*H70,2) -> 0 | K70: =ROUND(E70*J70,2) -> 0 | L70: 21 | M70: =G70*(1+L70/100) -> 0 | N70: 0 | O70: =ROUND(E70*N70,2) -> 0 | P70: 0 | Q70: =ROUND(E70*P70,2) -> 0 | R70: 800-1 | S70: RTS 17/ I | T70: 0.13 | U70: =ROUND(E70*T70,2) -> 61.49 | AG70: POL1_1
A71: 34 | B71: 10364200R | C71: Ornice pro pozemkové úpravy | D71: m3 | E71: 47.3 | G71: =ROUND(E71*F71,2) -> 0 | I71: =ROUND(E71*H71,2) -> 0 | K71: =ROUND(E71*J71,2) -> 0 | L71: 21 | M71: =G71*(1+L71/100) -> 0 | N71: 1.67 | O71: =ROUND(E71*N71,2) -> 78.99 | P71: 0 | Q71: =ROUND(E71*P71,2) -> 0 | R71: SPCM | S71: RTS 17/ I | T71: 0 | U71: =ROUND(E71*T71,2) -> 0 | AG71: POL3_0
C72: 473x0,1 | AG72: POP | BA72: =C72 -> 473x0,1
C73: Možno užít skrytou ornici v místě zeleně | AG73: POP | BA73: =C73 -> Možno užít skrytou ornici v místě zeleně
A74: 35 | B74: 180402111R00 | C74: Založení trávníku parkového výsevem v rovině | D74: m2 | E74: 473 | G74: =ROUND(E74*F74,2) -> 0 | I74: =ROUND(E74*H74,2) -> 0 | K74: =ROUND(E74*J74,2) -> 0 | L74: 21 | M74: =G74*(1+L74/100) -> 0 | N74: 0 | O74: =ROUND(E74*N74,2) -> 0 | P74: 0 | Q74: =ROUND(E74*P74,2) -> 0 | R74: 823-1 | S74: RTS 17/ I | T74: 0.06 | U74: =ROUND(E74*T74,2) -> 28.38 | AG74: POL1_1
C75: Plocha z C.2. Situace | AG75: POP | BA75: =C75 -> Plocha z C.2. Situace
A76: 36 | B76: 00572410R | C76: Směs travní parková II. mírná zátěž PROFI | D76: kg | E76: 11.8 | G76: =ROUND(E76*F76,2) -> 0 | I76: =ROUND(E76*H76,2) -> 0 | K76: =ROUND(E76*J76,2) -> 0 | L76: 21 | M76: =G76*(1+L76/100) -> 0 | N76: 0.001 | O76: =ROUND(E76*N76,2) -> 0.01 | P76: 0 | Q76: =ROUND(E76*P76,2) -> 0 | R76: SPCM | S76: RTS 17/ I | T76: 0 | U76: =ROUND(E76*T76,2) -> 0 | AG76: POL3_0
C77: 473x0,025 kg/m2 | AG77: POP | BA77: =C77 -> 473x0,025 kg/m2
A78: 37 | B78: 979054441R00 | C78: Očištění vybour. dlaždic s výplní kamen. těženým | D78: m2 | E78: 20 | G78: =ROUND(E78*F78,2) -> 0 | I78: =ROUND(E78*H78,2) -> 0 | K78: =ROUND(E78*J78,2) -> 0 | L78: 21 | M78: =G78*(1+L78/100) -> 0 | N78: 0 | O78: =ROUND(E78*N78,2) -> 0 | P78: 0 | Q78: =ROUND(E78*P78,2) -> 0 | R78: 822-1 | S78: RTS 14/ I | T78: 0.115 | U78: =ROUND(E78*T78,2) -> 2.3 | AG78: POL1_
C79: Bude užito zpětně na stavbě | AG79: POP | BA79: =C79 -> Bude užito zpětně na stavbě
A80: 38 | B80: 113231426R00 | C80: Bourání odvodňovacího žlabu, zatíž. D400, š.260 mm | D80: m | E80: 2 | G80: =ROUND(E80*F80,2) -> 0 | I80: =ROUND(E80*H80,2) -> 0 | K80: =ROUND(E80*J80,2) -> 0 | L80: 21 | M80: =G80*(1+L80/100) -> 0 | N80: 0 | O80: =ROUND(E80*N80,2) -> 0 | P80: 0.46432 | Q80: =ROUND(E80*P80,2) -> 0.93 | R80: 822-1 | S80: RTS 16/ I | T80: 0.265 | U80: =ROUND(E80*T80,2) -> 0.53 | AG80: POL1_
C81: včetně betonového lože | AG81: POP | BA81: =C81 -> včetně betonového lože
A82: 39 | B82: 938908411R00 | C82: Očištění povrchu krytu saponátovým roztokem | D82: m2 | E82: 554 | G82: =ROUND(E82*F82,2) -> 0 | I82: =ROUND(E82*H82,2) -> 0 | K82: =ROUND(E82*J82,2) -> 0 | L82: 21 | M82: =G82*(1+L82/100) -> 0 | N82: 1e-05 | O82: =ROUND(E82*N82,2) -> 0.01 | P82: 0 | Q82: =ROUND(E82*P82,2) -> 0 | R82: 822-1 | S82: RTS 17/ I | T82: 0.016 | U82: =ROUND(E82*T82,2) -> 8.86 | AG82: POL1_1
C83: 250x0,025 kg/m2 | AG83: POP | BA83: =C83 -> 250x0,025 kg/m2
A84: Díl: | B84: 5 | C84: Komunikace | G84: =SUMIF(AG85:AG134,"<>NOR",G85:G134) -> 0 | I84: =SUM(I85:I134) -> 0 | K84: =SUM(K85:K134) -> 0 | M84: =SUM(M85:M134) -> 0 | O84: =SUM(O85:O134) -> 1558.24 | Q84: =SUM(Q85:Q134) -> 0 | U84: =SUM(U85:U134) -> 796.73 | AG84: DIL
A85: 40 | B85: 577141212R001 | C85: Beton asfalt. ACO 11, do 3 m, tl.5 cm | D85: m2 | E85: 779 | G85: =ROUND(E85*F85,2) -> 0 | I85: =ROUND(E85*H85,2) -> 0 | K85: =ROUND(E85*J85,2) -> 0 | L85: 21 | M85: =G85*(1+L85/100) -> 0 | N85: 0.12715 | O85: =ROUND(E85*N85,2) -> 99.05 | P85: 0 | Q85: =ROUND(E85*P85,2) -> 0 | S85: Vlastní | T85: 0.072 | U85: =ROUND(E85*T85,2) -> 56.09 | AG85: POL1_1
C86: Plocha z C.2. Situace | AG86: POP | BA86: =C86 -> Plocha z C.2. Situace
A87: 41 | B87: 573231111R00 | C87: Postřik živičný spojovací z emulze 0,5-0,7 kg/m2 | D87: m2 | E87: 779 | G87: =ROUND(E87*F87,2) -> 0 | I87: =ROUND(E87*H87,2) -> 0 | K87: =ROUND(E87*J87,2) -> 0 | L87: 21 | M87: =G87*(1+L87/100) -> 0 | N87: 0.00071 | O87: =ROUND(E87*N87,2) -> 0.55 | P87: 0 | Q87: =ROUND(E87*P87,2) -> 0 | R87: 822-1 | S87: RTS 17/ I | T87: 0.002 | U87: =ROUND(E87*T87,2) -> 1.56 | AG87: POL1_1
A88: 42 | B88: 5771411221.R0 | C88: Beton asfalt. ACP 16, š. do 3 m, tl. 5 cm | D88: m2 | E88: 779 | G88: =ROUND(E88*F88,2) -> 0 | I88: =ROUND(E88*H88,2) -> 0 | K88: =ROUND(E88*J88,2) -> 0 | L88: 21 | M88: =G88*(1+L88/100) -> 0 | N88: 0.12966 | O88: =ROUND(E88*N88,2) -> 101.01 | P88: 0 | Q88: =ROUND(E88*P88,2) -> 0 | S88: Vlastní | T88: 0 | U88: =ROUND(E88*T88,2) -> 0 | AG88: POL1_1
A89: 43 | B89: 573111113R00 | C89: Postřik živičný infiltr.+ posyp, asfalt 1,5 kg/m2 | D89: m2 | E89: 779 | G89: =ROUND(E89*F89,2) -> 0 | I89: =ROUND(E89*H89,2) -> 0 | K89: =ROUND(E89*J89,2) -> 0 | L89: 21 | M89: =G89*(1+L89/100) -> 0 | N89: 0.00652 | O89: =ROUND(E89*N89,2) -> 5.08 | P89: 0 | Q89: =ROUND(E89*P89,2) -> 0 | R89: 822-1 | S89: RTS 17/ I | T89: 0.004 | U89: =ROUND(E89*T89,2) -> 3.12 | AG89: POL1_1
A90: 44 | B90: 5671221141.R0 | C90: Podklad z kameniva zpev.cementem ŠCM tl.15 cm | D90: m2 | E90: 402 | G90: =ROUND(E90*F90,2) -> 0 | I90: =ROUND(E90*H90,2) -> 0 | K90: =ROUND(E90*J90,2) -> 0 | L90: 21 | M90: =G90*(1+L90/100) -> 0 | N90: 0.38314 | O90: =ROUND(E90*N90,2) -> 154.02 | P90: 0 | Q90: =ROUND(E90*P90,2) -> 0 | S90: Vlastní | T90: 0 | U90: =ROUND(E90*T90,2) -> 0 | AG90: POL1_1
A91: 45 | B91: 564851115R00 | C91: Podklad ze štěrkodrti po zhutnění tloušťky 19 cm | D91: m2 | E91: 442 | G91: =ROUND(E91*F91,2) -> 0 | I91: =ROUND(E91*H91,2) -> 0 | K91: =ROUND(E91*J91,2) -> 0 | L91: 21 | M91: =G91*(1+L91/100) -> 0 | N91: 0.35263 | O91: =ROUND(E91*N91,2) -> 155.86 | P91: 0 | Q91: =ROUND(E91*P91,2) -> 0 | R91: 822-1 | S91: RTS 17/ I | T91: 0.029 | U91: =ROUND(E91*T91,2) -> 12.82 | AG91: POL1_1
C92: ŠDA 0/63 | AG92: POP | BA92: =C92 -> ŠDA 0/63
C93: 402x1,1 | AG93: POP | BA93: =C93 -> 402x1,1
A94: 46 | B94: 919721211R00 | C94: Dilatační spáry vkládané vyplněné asfalt. zálivkou | D94: m | E94: 667 | G94: =ROUND(E94*F94,2) -> 0 | I94: =ROUND(E94*H94,2) -> 0 | K94: =ROUND(E94*J94,2) -> 0 | L94: 21 | M94: =G94*(1+L94/100) -> 0 | N94: 0.0043 | O94: =ROUND(E94*N94,2) -> 2.87 | P94: 0 | Q94: =ROUND(E94*P94,2) -> 0 | R94: 822-1 | S94: RTS 17/ I | T94: 0.208 | U94: =ROUND(E94*T94,2) -> 138.74 | AG94: POL1_1
C95: Délka z C.2. Situace | AG95: POP | BA95: =C95 -> Délka z C.2. Situace
A96: 47 | B96: 596215040R00 | C96: Kladení zámkové dlažby tl. 8 cm do drtě tl. 4 cm | D96: m2 | E96: 62 | G96: =ROUND(E96*F96,2) -> 0 | I96: =ROUND(E96*H96,2) -> 0 | K96: =ROUND(E96*J96,2) -> 0 | L96: 21 | M96: =G96*(1+L96/100) -> 0 | N96: 0.0739 | O96: =ROUND(E96*N96,2) -> 4.58 | P96: 0 | Q96: =ROUND(E96*P96,2) -> 0 | R96: 822-1 | S96: RTS 17/ I | T96: 0.478 | U96: =ROUND(E96*T96,2) -> 29.64 | AG96: POL1_1
C97: Plocha z C.2. Situace | AG97: POP | BA97: =C97 -> Plocha z C.2. Situace
A98: 48 | B98: 592451171.5 | C98: Dlažba zámková 20x10x8 cm přírodní | D98: m2 | E98: 47 | G98: =ROUND(E98*F98,2) -> 0 | I98: =ROUND(E98*H98,2) -> 0 | K98: =ROUND(E98*J98,2) -> 0 | L98: 21 | M98: =G98*(1+L98/100) -> 0 | N98: 0.17245 | O98: =ROUND(E98*N98,2) -> 8.11 | P98: 0 | Q98: =ROUND(E98*P98,2) -> 0 | S98: Vlastní | T98: 0 | U98: =ROUND(E98*T98,2) -> 0 | AG98: POL3_0
A99: 49 | B99: 592451151.8 | C99: Dlažba zámková SLP 20x10x8 cm červená | D99: m2 | E99: 15 | G99: =ROUND(E99*F99,2) -> 0 | I99: =ROUND(E99*H99,2) -> 0 | K99: =ROUND(E99*J99,2) -> 0 | L99: 21 | M99: =G99*(1+L99/100) -> 0 | N99: 0.17824 | O99: =ROUND(E99*N99,2) -> 2.67 | P99: 0 | Q99: =ROUND(E99*P99,2) -> 0 | S99: Vlastní | T99: 0 | U99: =ROUND(E99*T99,2) -> 0 | AG99: POL3_0
A100: 50 | B100: 567122111R00 | C100: Podklad z kameniva zpev.cementem KZC 1 tl.12 cm | D100: m2 | E100: 68 | G100: =ROUND(E100*F100,2) -> 0 | I100: =ROUND(E100*H100,2) -> 0 | K100: =ROUND(E100*J100,2) -> 0 | L100: 21 | M100: =G100*(1+L100/100) -> 0 | N100: 0.30651 | O100: =ROUND(E100*N100,2) -> 20.84 | P100: 0 | Q100: =ROUND(E100*P100,2) -> 0 | R100: 822-1 | S100: RTS 17/ I | T100: 0.025 | U100: =ROUND(E100*T100,2) -> 1.7 | AG100: POL1_1
C101: 62x1,1 | AG101: POP | BA101: =C101 -> 62x1,1
...

Sheet SO 101 2 Pol
A1: Položkový rozpočet | AG1: #TypZaznamu#
A2: S: | B2: 20 | C2: Výstavba chodníku v ul. Lipovská | AG2: STA
A3: O: | B3: SO 101 | C3: Chodníky | AC3: STA | AG3: OBJ
A4: R: | B4: 2 | C4: Opěrná stěna | AG4: ROZ
A6: P.č. | B6: Číslo položky | C6: Název položky | D6: MJ | E6: množství | F6: cena / MJ | G6: Celkem | H6: Dodávka | I6: Dodávka celk. | J6: Montáž | K6: Montáž celk. | L6: DPH | M6: cena s DPH | N6: hmotnost / MJ | O6: hmotnost celk.(t) | P6: dem. hmotnost / MJ | Q6: dem. hmotnost celk.(t) | R6: Ceník | S6: Cen. soustava | T6: Nhod / MJ | U6: Nhod celk. | V6: Dodavatel
A7: Díl: | B7: 1 | C7: Zemní práce | G7: =SUMIF(AG8:AG30,"<>NOR",G8:G30) -> 0 | I7: =SUM(I8:I30) -> 0 | K7: =SUM(K8:K30) -> 0 | M7: =SUM(M8:M30) -> 0 | O7: =SUM(O8:O30) -> 5.18 | Q7: =SUM(Q8:Q30) -> 0 | U7: =SUM(U8:U30) -> 72.74 | AG7: DIL
A8: 1 | B8: 132201212R00 | C8: Hloubení rýh š.do 200 cm hor.3 do 1000m3,STROJNĚ | D8: m3 | E8: 99.2 | G8: =ROUND(E8*F8,2) -> 0 | I8: =ROUND(E8*H8,2) -> 0 | K8: =ROUND(E8*J8,2) -> 0 | L8: 21 | M8: =G8*(1+L8/100) -> 0 | N8: 0 | O8: =ROUND(E8*N8,2) -> 0 | P8: 0 | Q8: =ROUND(E8*P8,2) -> 0 | R8: 800-1 | S8: RTS 17/ I | T8: 0.16 | U8: =ROUND(E8*T8,2) -> 15.87 | AG8: POL1_1
C9: 3,2x31 | AG9: POP | BA9: =C9 -> 3,2x31
A10: 2 | B10: 132201219R00 | C10: Příplatek za lepivost - hloubení rýh 200cm v hor.3 | D10: m3 | E10: 39.2 | G10: =ROUND(E10*F10,2) -> 0 | I10: =ROUND(E10*H10,2) -> 0 | K10: =ROUND(E10*J10,2) -> 0 | L10: 21 | M10: =G10*(1+L10/100) -> 0 | N10: 0 | O10: =ROUND(E10*N10,2) -> 0 | P10: 0 | Q10: =ROUND(E10*P10,2) -> 0 | R10: 800-1 | S10: RTS 17/ I | T10: 0.084 | U10: =ROUND(E10*T10,2) -> 3.29 | AG10: POL1_1
A11: 3 | B11: 120001101R00 | C11: Příplatek za ztížení vykopávky v blízkosti vedení | D11: m3 | E11: 19.2 | G11: =ROUND(E11*F11,2) -> 0 | I11: =ROUND(E11*H11,2) -> 0 | K11: =ROUND(E11*J11,2) -> 0 | L11: 21 | M11: =G11*(1+L11/100) -> 0 | N11: 0 | O11: =ROUND(E11*N11,2) -> 0 | P11: 0 | Q11: =ROUND(E11*P11,2) -> 0 | R11: 800-1 | S11: RTS 17/ I | T11: 1.548 | U11: =ROUND(E11*T11,2) -> 29.72 | AG11: POL1_1
A12: 4 | B12: 174101101R00 | C12: Zásyp jam, rýh, šachet se zhutněním | D12: m3 | E12: 62 | G12: =ROUND(E12*F12,2) -> 0 | I12: =ROUND(E12*H12,2) -> 0 | K12: =ROUND(E12*J12,2) -> 0 | L12: 21 | M12: =G12*(1+L12/100) -> 0 | N12: 0 | O12: =ROUND(E12*N12,2) -> 0 | P12: 0 | Q12: =ROUND(E12*P12,2) -> 0 | R12: 800-1 | S12: RTS 17/ I | T12: 0.202 | U12: =ROUND(E12*T12,2) -> 12.52 | AG12: POL1_1
C13: 2x31 | AG13: POP | BA13: =C13 -> 2x31
A14: 5 | B14: 162301102R00 | C14: Vodorovné přemístění výkopku z hor.1-4 do 1000 m | D14: m3 | E14: 124 | G14: =ROUND(E14*F14,2) -> 0 | I14: =ROUND(E14*H14,2) -> 0 | K14: =ROUND(E14*J14,2) -> 0 | L14: 21 | M14: =G14*(1+L14/100) -> 0 | N14: 0 | O14: =ROUND(E14*N14,2) -> 0 | P14: 0 | Q14: =ROUND(E14*P14,2) -> 0 | R14: 800-1 | S14: RTS 17/ I | T14: 0.011 | U14: =ROUND(E14*T14,2) -> 1.36 | AG14: POL1_1
C15: Uložení na mezideponii a zpětný dovoz | AG15: POP | BA15: =C15 -> Uložení na mezideponii a zpětný dovoz
C16: 62x2 | AG16: POP | BA16: =C16 -> 62x2
A17: 6 | B17: 162701105R00 | C17: Vodorovné přemístění výkopku z hor.1-4 do 10000 m | D17: m3 | E17: 37.2 | G17: =ROUND(E17*F17,2) -> 0 | I17: =ROUND(E17*H17,2) -> 0 | K17: =ROUND(E17*J17,2) -> 0 | L17: 21 | M17: =G17*(1+L17/100) -> 0 | N17: 0 | O17: =ROUND(E17*N17,2) -> 0 | P17: 0 | Q17: =ROUND(E17*P17,2) -> 0 | R17: 800-1 | S17: RTS 17/ I | T17: 0.011 | U17: =ROUND(E17*T17,2) -> 0.41 | AG17: POL1_1
C18: Odvoz na skládku | AG18: POP | BA18: =C18 -> Odvoz na skládku
C19: 99,2-62 | AG19: POP | BA19: =C19 -> 99,2-62
A20: 7 | B20: 171201201R00 | C20: Uložení sypaniny na skl.-modelace na výšku přes 2m | D20: m3 | E20: 99.2 | G20: =ROUND(E20*F20,2) -> 0 | I20: =ROUND(E20*H20,2) -> 0 | K20: =ROUND(E20*J20,2) -> 0 | L20: 21 | M20: =G20*(1+L20/100) -> 0 | N20: 0 | O20: =ROUND(E20*N20,2) -> 0 | P20: 0 | Q20: =ROUND(E20*P20,2) -> 0 | R20: 800-1 | S20: RTS 17/ I | T20: 0.009 | U20: =ROUND(E20*T20,2) -> 0.89 | AG20: POL1_1
A21: 8 | B21: 199000002R00 | C21: Poplatek za skládku horniny 1- 4 | D21: m3 | E21: 99.2 | G21: =ROUND(E21*F21,2) -> 0 | I21: =ROUND(E21*H21,2) -> 0 | K21: =ROUND(E21*J21,2) -> 0 | L21: 21 | M21: =G21*(1+L21/100) -> 0 | N21: 0 | O21: =ROUND(E21*N21,2) -> 0 | P21: 0 | Q21: =ROUND(E21*P21,2) -> 0 | R21: 800-1 | S21: RTS 17/ I | T21: 0 | U21: =ROUND(E21*T21,2) -> 0 | AG21: POL1_1
A22: 9 | B22: 182001111R00 | C22: Plošná úprava terénu, nerovnosti do 10 cm v rovině | D22: m2 | E22: 31 | G22: =ROUND(E22*F22,2) -> 0 | I22: =ROUND(E22*H22,2) -> 0 | K22: =ROUND(E22*J22,2) -> 0 | L22: 21 | M22: =G22*(1+L22/100) -> 0 | N22: 0 | O22: =ROUND(E22*N22,2) -> 0 | P22: 0 | Q22: =ROUND(E22*P22,2) -> 0 | R22: 823-1 | S22: RTS 17/ I | T22: 0.09 | U22: =ROUND(E22*T22,2) -> 2.79 | AG22: POL1_1
C23: Plocha z Situace | AG23: POP | BA23: =C23 -> Plocha z Situace
A24: 10 | B24: 181301101R00 | C24: Rozprostření ornice, rovina, tl. do 10 cm do 500m2 | D24: m2 | E24: 31 | G24: =ROUND(E24*F24,2) -> 0 | I24: =ROUND(E24*H24,2) -> 0 | K24: =ROUND(E24*J24,2) -> 0 | L24: 21 | M24: =G24*(1+L24/100) -> 0 | N24: 0 | O24: =ROUND(E24*N24,2) -> 0 | P24: 0 | Q24: =ROUND(E24*P24,2) -> 0 | R24: 800-1 | S24: RTS 17/ I | T24: 0.13 | U24: =ROUND(E24*T24,2) -> 4.03 | AG24: POL1_1
A25: 11 | B25: 10364200R | C25: Ornice pro pozemkové úpravy | D25: m3 | E25: 3.1 | G25: =ROUND(E25*F25,2) -> 0 | I25: =ROUND(E25*H25,2) -> 0 | K25: =ROUND(E25*J25,2) -> 0 | L25: 21 | M25: =G25*(1+L25/100) -> 0 | N25: 1.67 | O25: =ROUND(E25*N25,2) -> 5.18 | P25: 0 | Q25: =ROUND(E25*P25,2) -> 0 | R25: SPCM | S25: RTS 17/ I | T25: 0 | U25: =ROUND(E25*T25,2) -> 0 | AG25: POL3_0
C26: 31x0,1 | AG26: POP | BA26: =C26 -> 31x0,1
A27: 12 | B27: 180402111R00 | C27: Založení trávníku parkového výsevem v rovině | D27: m2 | E27: 31 | G27: =ROUND(E27*F27,2) -> 0 | I27: =ROUND(E27*H27,2) -> 0 | K27: =ROUND(E27*J27,2) -> 0 | L27: 21 | M27: =G27*(1+L27/100) -> 0 | N27: 0 | O27: =ROUND(E27*N27,2) -> 0 | P27: 0 | Q27: =ROUND(E27*P27,2) -> 0 | R27: 823-1 | S27: RTS 17/ I | T27: 0.06 | U27: =ROUND(E27*T27,2) -> 1.86 | AG27: POL1_1
C28: Plocha z Situace | AG28: POP | BA28: =C28 -> Plocha z Situace
A29: 13 | B29: 00572410R | C29: Směs travní parková II. mírná zátěž PROFI | D29: kg | E29: 0.8 | G29: =ROUND(E29*F29,2) -> 0 | I29: =ROUND(E29*H29,2) -> 0 | K29: =ROUND(E29*J29,2) -> 0 | L29: 21 | M29: =G29*(1+L29/100) -> 0 | N29: 0.001 | O29: =ROUND(E29*N29,2) -> 0 | P29: 0 | Q29: =ROUND(E29*P29,2) -> 0 | R29: SPCM | S29: RTS 17/ I | T29: 0 | U29: =ROUND(E29*T29,2) -> 0 | AG29: POL3_0
C30: 31x0,025 kg/m2 | AG30: POP | BA30: =C30 -> 31x0,025 kg/m2
A31: Díl: | B31: 2 | C31: Základy,zvláštní zakládání | G31: =SUMIF(AG32:AG44,"<>NOR",G32:G44) -> 0 | I31: =SUM(I32:I44) -> 0 | K31: =SUM(K32:K44) -> 0 | M31: =SUM(M32:M44) -> 0 | O31: =SUM(O32:O44) -> 161.58 | Q31: =SUM(Q32:Q44) -> 0 | U31: =SUM(U32:U44) -> 91.08 | AG31: DIL
A32: 14 | B32: 271571111R00 | C32: Polštář základu ze štěrkopísku tříděného | D32: m3 | E32: 8.1 | G32: =ROUND(E32*F32,2) -> 0 | I32: =ROUND(E32*H32,2) -> 0 | K32: =ROUND(E32*J32,2) -> 0 | L32: 21 | M32: =G32*(1+L32/100) -> 0 | N32: 1.9397 | O32: =ROUND(E32*N32,2) -> 15.71 | P32: 0 | Q32: =ROUND(E32*P32,2) -> 0 | R32: 800-2 | S32: RTS 17/ I | T32: 0.965 | U32: =ROUND(E32*T32,2) -> 7.82 | AG32: POL1_1
C33: 1,8x30x0,15 | AG33: POP | BA33: =C33 -> 1,8x30x0,15
A34: 15 | B34: 273311311R00 | C34: Beton základových desek prokládaný kamenem C 8/10 | D34: m3 | E34: 7.2 | G34: =ROUND(E34*F34,2) -> 0 | I34: =ROUND(E34*H34,2) -> 0 | K34: =ROUND(E34*J34,2) -> 0 | L34: 21 | M34: =G34*(1+L34/100) -> 0 | N34: 3.1487 | O34: =ROUND(E34*N34,2) -> 22.67 | P34: 0 | Q34: =ROUND(E34*P34,2) -> 0 | R34: 801-1 | S34: RTS 17/ I | T34: 0.97 | U34: =ROUND(E34*T34,2) -> 6.98 | AG34: POL1_1
C35: Podklad beton 1,6x30x0,15 | AG35: POP | BA35: =C35 -> Podklad beton 1,6x30x0,15
A36: 16 | B36: 274321321R00 | C36: Železobeton základových pasů C 20/25 , XC4, XF4, XD3 | D36: m3 | E36: 48 | G36: =ROUND(E36*F36,2) -> 0 | I36: =ROUND(E36*H36,2) -> 0 | K36: =ROUND(E36*J36,2) -> 0 | L36: 21 | M36: =G36*(1+L36/100) -> 0 | N36: 2.525 | O36: =ROUND(E36*N36,2) -> 121.2 | P36: 0 | Q36: =ROUND(E36*P36,2) -> 0 | R36: 801-1 | S36: RTS 17/ I | T36: 0.48 | U36: =ROUND(E36*T36,2) -> 23.04 | AG36: POL1_1
C37: 1,6x30 | AG37: POP | BA37: =C37 -> 1,6x30
A38: 17 | B38: 274362021R00 | C38: Výztuž základových pasů ze svařovaných sítí KARI | D38: t | E38: 0.766 | G38: =ROUND(E38*F38,2) -> 0 | I38: =ROUND(E38*H38,2) -> 0 | K38: =ROUND(E38*J38,2) -> 0 | L38: 21 | M38: =G38*(1+L38/100) -> 0 | N38: 1.05693 | O38: =ROUND(E38*N38,2) -> 0.81 | P38: 0 | Q38: =ROUND(E38*P38,2) -> 0 | R38: 801-1 | S38: RTS 17/ I | T38: 15.231 | U38: =ROUND(E38*T38,2) -> 11.67 | AG38: POL1_1
C39: 3,3x29=95,7 m2 x 8 kg/m2 | AG39: POP | BA39: =C39 -> 3,3x29=95,7 m2 x 8 kg/m2
A40: 18 | B40: 274361821R00 | C40: Výztuž základových pasů z betonářské oceli 10 505, provázka | D40: t | E40: 0.02 | G40: =ROUND(E40*F40,2) -> 0 | I40: =ROUND(E40*H40,2) -> 0 | K40: =ROUND(E40*J40,2) -> 0 | L40: 21 | M40: =G40*(1+L40/100) -> 0 | N40: 1.02116 | O40: =ROUND(E40*N40,2) -> 0.02 | P40: 0 | Q40: =ROUND(E40*P40,2) -> 0 | R40: 801-1 | S40: RTS 17/ I | T40: 23.531 | U40: =ROUND(E40*T40,2) -> 0.47 | AG40: POL1_1
C41: 3,3x29=95,7 m2 x 8 kg/m2 | AG41: POP | BA41: =C41 -> 3,3x29=95,7 m2 x 8 kg/m2
A42: 19 | B42: 274351215R00 | C42: Bednění stěn základových pasů - zřízení | D42: m2 | E42: 30 | G42: =ROUND(E42*F42,2) -> 0 | I42: =ROUND(E42*H42,2) -> 0 | K42: =ROUND(E42*J42,2) -> 0 | L42: 21 | M42: =G42*(1+L42/100) -> 0 | N42: 0.03916 | O42: =ROUND(E42*N42,2) -> 1.17 | P42: 0 | Q42: =ROUND(E42*P42,2) -> 0 | R42: 801-1 | S42: RTS 17/ I | T42: 1.05 | U42: =ROUND(E42*T42,2) -> 31.5 | AG42: POL1_1
C43: 0,5x2x30 | AG43: POP | BA43: =C43 -> 0,5x2x30
A44: 20 | B44: 274351216R00 | C44: Bednění stěn základových pasů - odstranění | D44: m2 | E44: 30 | G44: =ROUND(E44*F44,2) -> 0 | I44: =ROUND(E44*H44,2) -> 0 | K44: =ROUND(E44*J44,2) -> 0 | L44: 21 | M44: =G44*(1+L44/100) -> 0 | N44: 0 | O44: =ROUND(E44*N44,2) -> 0 | P44: 0 | Q44: =ROUND(E44*P44,2) -> 0 | R44: 801-1 | S44: RTS 17/ I | T44: 0.32 | U44: =ROUND(E44*T44,2) -> 9.6 | AG44: POL1_1
A45: Díl: | B45: 3 | C45: Svislé a kompletní konstrukce | G45: =SUMIF(AG46:AG50,"<>NOR",G46:G50) -> 0 | I45: =SUM(I46:I50) -> 0 | K45: =SUM(K46:K50) -> 0 | M45: =SUM(M46:M50) -> 0 | O45: =SUM(O46:O50) -> 19.35 | Q45: =SUM(Q46:Q50) -> 0.01 | U45: =SUM(U46:U50) -> 228.96 | AG45: DIL
A46: 21 | B46: 334121111R00 | C46: Osazení prefabrikovaných opěr z ŽB do 5 t | D46: kus | E46: 30 | G46: =ROUND(E46*F46,2) -> 0 | I46: =ROUND(E46*H46,2) -> 0 | K46: =ROUND(E46*J46,2) -> 0 | L46: 21 | M46: =G46*(1+L46/100) -> 0 | N46: 0.11206 | O46: =ROUND(E46*N46,2) -> 3.36 | P46: 0 | Q46: =ROUND(E46*P46,2) -> 0 | R46: 821-1 | S46: RTS 14/ I | T46: 6.132 | U46: =ROUND(E46*T46,2) -> 183.96 | AG46: POL1_
C47: Pro osazení konstrukcí výšky do 15 m. | AG47: POP | BA47: =C47 -> Pro osazení konstrukcí výšky do 15 m.
A48: 22 | B48: 59384405R1 | C48: Opěra, opěrný prvek, 990/700/1550 | D48: kus | E48: 30 | G48: =ROUND(E48*F48,2) -> 0 | I48: =ROUND(E48*H48,2) -> 0 | K48: =ROUND(E48*J48,2) -> 0 | L48: 21 | M48: =G48*(1+L48/100) -> 0 | N48: 0.533 | O48: =ROUND(E48*N48,2) -> 15.99 | P48: 0 | Q48: =ROUND(E48*P48,2) -> 0 | S48: Vlastní | T48: 0 | U48: =ROUND(E48*T48,2) -> 0 | AG48: POL3_
A49: 23 | B49: 970251150R00 | C49: Řezání železobetonu hl. řezu 150 mm | D49: m | E49: 30 | G49: =ROUND(E49*F49,2) -> 0 | I49: =ROUND(E49*H49,2) -> 0 | K49: =ROUND(E49*J49,2) -> 0 | L49: 21 | M49: =G49*(1+L49/100) -> 0 | N49: 0 | O49: =ROUND(E49*N49,2) -> 0 | P49: 0.00046 | Q49: =ROUND(E49*P49,2) -> 0.01 | R49: 801-3 | S49: RTS 14/ I | T49: 1.5 | U49: =ROUND(E49*T49,2) -> 45 | AG49: POL1_
C50: Seříznutí vrholu stěny | AG50: POP | BA50: =C50 -> Seříznutí vrholu stěny
A51: Díl: | B51: 99 | C51: Staveništní přesun hmot | G51: =SUMIF(AG52:AG58,"<>NOR",G52:G58) -> 0 | I51: =SUM(I52:I58) -> 0 | K51: =SUM(K52:K58) -> 0 | M51: =SUM(M52:M58) -> 0 | O51: =SUM(O52:O58) -> 0 | Q51: =SUM(Q52:Q58) -> 0 | U51: =SUM(U52:U58) -> 225.5 | AG51: DIL
A52: 24 | B52: 998012021R00 | C52: Přesun hmot pro budovy monolitické výšky do 6 m | D52: t | E52: 161 | G52: =ROUND(E52*F52,2) -> 0 | I52: =ROUND(E52*H52,2) -> 0 | K52: =ROUND(E52*J52,2) -> 0 | L52: 21 | M52: =G52*(1+L52/100) -> 0 | N52: 0 | O52: =ROUND(E52*N52,2) -> 0 | P52: 0 | Q52: =ROUND(E52*P52,2) -> 0 | R52: 801-1 | S52: RTS 17/ I | T52: 1.264 | U52: =ROUND(E52*T52,2) -> 203.5 | AG52: POL1_
C53: (0,25+0,2)x30 | AG53: POP | BA53: =C53 -> (0,25+0,2)x30
A54: 25 | B54: 998012038R00 | C54: Přesun hmot, budovy monolitické, příplatek do 5 km | D54: t | E54: 161 | G54: =ROUND(E54*F54,2) -> 0 | I54: =ROUND(E54*H54,2) -> 0 | K54: =ROUND(E54*J54,2) -> 0 | L54: 21 | M54: =G54*(1+L54/100) -> 0 | N54: 0 | O54: =ROUND(E54*N54,2) -> 0 | P54: 0 | Q54: =ROUND(E54*P54,2) -> 0 | R54: 801-1 | S54: RTS 17/ I | T54: 0.117 | U54: =ROUND(E54*T54,2) -> 18.84 | AG54: POL1_
A55: 26 | B55: 998012039R00 | C55: Přesun hmot, budovy monol., přípl. za dalších 5 km | D55: t | E55: 161 | G55: =ROUND(E55*F55,2) -> 0 | I55: =ROUND(E55*H55,2) -> 0 | K55: =ROUND(E55*J55,2) -> 0 | L55: 21 | M55: =G55*(1+L55/100) -> 0 | N55: 0 | O55: =ROUND(E55*N55,2) -> 0 | P55: 0 | Q55: =ROUND(E55*P55,2) -> 0 | R55: 801-1 | S55: RTS 17/ I | T55: 0 | U55: =ROUND(E55*T55,2) -> 0 | AG55: POL1_
A56: 27 | B56: 998152193R00 | C56: Přesun hmot, zdi a valy z dílců, příplatek do 1 km | D56: t | E56: 16 | G56: =ROUND(E56*F56,2) -> 0 | I56: =ROUND(E56*H56,2) -> 0 | K56: =ROUND(E56*J56,2) -> 0 | L56: 21 | M56: =G56*(1+L56/100) -> 0 | N56: 0 | O56: =ROUND(E56*N56,2) -> 0 | P56: 0 | Q56: =ROUND(E56*P56,2) -> 0 | R56: 801-2 | S56: RTS 14/ I | T56: 0.084 | U56: =ROUND(E56*T56,2) -> 1.34 | AG56: POL1_
A57: 28 | B57: 998152196R00 | C57: Přesun hmot, zdi a valy z dílců, příplatek do 5 km | D57: t | E57: 16 | G57: =ROUND(E57*F57,2) -> 0 | I57: =ROUND(E57*H57,2) -> 0 | K57: =ROUND(E57*J57,2) -> 0 | L57: 21 | M57: =G57*(1+L57/100) -> 0 | N57: 0 | O57: =ROUND(E57*N57,2) -> 0 | P57: 0 | Q57: =ROUND(E57*P57,2) -> 0 | R57: 801-2 | S57: RTS 14/ I | T57: 0.114 | U57: =ROUND(E57*T57,2) -> 1.82 | AG57: POL1_
A58: 29 | B58: 998152197R00 | C58: Přesun hmot, zdi a valy z dílců, příp. dalších 5km | D58: t | E58: 16 | G58: =ROUND(E58*F58,2) -> 0 | I58: =ROUND(E58*H58,2) -> 0 | K58: =ROUND(E58*J58,2) -> 0 | L58: 21 | M58: =G58*(1+L58/100) -> 0 | N58: 0 | O58: =ROUND(E58*N58,2) -> 0 | P58: 0 | Q58: =ROUND(E58*P58,2) -> 0 | R58: 801-2 | S58: RTS 14/ I | T58: 0 | U58: =ROUND(E58*T58,2) -> 0 | AG58: POL1_
A59: Díl: | B59: 711 | C59: Izolace proti vodě | G59: =SUMIF(AG60:AG62,"<>NOR",G60:G62) -> 0 | I59: =SUM(I60:I62) -> 0 | K59: =SUM(K60:K62) -> 0 | M59: =SUM(M60:M62) -> 0 | O59: =SUM(O60:O62) -> 0.04 | Q59: =SUM(Q60:Q62) -> 0 | U59: =SUM(U60:U62) -> 20.4 | AG59: DIL
A60: 30 | B60: 711132311R00 | C60: Prov. izolace nopovou fólií svisle, vč.uchyc.prvků | D60: m2 | E60: 60 | G60: =ROUND(E60*F60,2) -> 0 | I60: =ROUND(E60*H60,2) -> 0 | K60: =ROUND(E60*J60,2) -> 0 | L60: 21 | M60: =G60*(1+L60/100) -> 0 | N60: 8e-05 | O60: =ROUND(E60*N60,2) -> 0 | P60: 0 | Q60: =ROUND(E60*P60,2) -> 0 | R60: 800-711 | S60: RTS 17/ I | T60: 0.34 | U60: =ROUND(E60*T60,2) -> 20.4 | AG60: POL1_7
C61: 2x30 | AG61: POP | BA61: =C61 -> 2x30
A62: 31 | B62: 28324270.AR1 | C62: Fólie nopová z HDPE tl. 0,6 mm, nopy 8 mm | D62: m2 | E62: 60 | G62: =ROUND(E62*F62,2) -> 0 | I62: =ROUND(E62*H62,2) -> 0 | K62: =ROUND(E62*J62,2) -> 0 | L62: 21 | M62: =G62*(1+L62/100) -> 0 | N62: 0.0006 | O62: =ROUND(E62*N62,2) -> 0.04 | P62: 0 | Q62: =ROUND(E62*P62,2) -> 0 | S62: Vlastní | T62: 0 | U62: =ROUND(E62*T62,2) -> 0 | AG62: POL3_0
A63: Díl: | B63: 767 | C63: Konstrukce zámečnické | G63: =SUMIF(AG64:AG79,"<>NOR",G64:G79) -> 0 | I63: =SUM(I64:I79) -> 0 | K63: =SUM(K64:K79) -> 0 | M63: =SUM(M64:M79) -> 0 | O63: =SUM(O64:O79) -> 0.66 | Q63: =SUM(Q64:Q79) -> 0 | U63: =SUM(U64:U79) -> 55 | AG63: DIL
A64: 32 | B64: 348171211R00 | C64: Osazení oc.zábradlí na zdech a valech do 100 kg/m, včetně dodávky kotvících prvků a kotvení | D64: m | E64: 29 | G64: =ROUND(E64*F64,2) -> 0 | I64: =ROUND(E64*H64,2) -> 0 | K64: =ROUND(E64*J64,2) -> 0 | L64: 21 | M64: =G64*(1+L64/100) -> 0 | N64: 0.00329 | O64: =ROUND(E64*N64,2) -> 0.1 | P64: 0 | Q64: =ROUND(E64*P64,2) -> 0 | R64: 801-5 | S64: RTS 17/ I | T64: 1.877 | U64: =ROUND(E64*T64,2) -> 54.43 | AG64: POL1_1
C65: 2x30 | AG65: POP | BA65: =C65 -> 2x30
A66: 33 | B66: 145872641 | C66: Profil čtvercový uzavř.svařovaný S235 50 x 5 mm | D66: T | E66: 0.106 | G66: =ROUND(E66*F66,2) -> 0 | I66: =ROUND(E66*H66,2) -> 0 | K66: =ROUND(E66*J66,2) -> 0 | L66: 21 | M66: =G66*(1+L66/100) -> 0 | N66: 1 | O66: =ROUND(E66*N66,2) -> 0.11 | P66: 0 | Q66: =ROUND(E66*P66,2) -> 0 | S66: Vlastní | T66: 0 | U66: =ROUND(E66*T66,2) -> 0 | AG66: POL3_0
C67: Sloupek 1,03x16 ks = 16,5 x 6,4 kg/m | AG67: POP | BA67: =C67 -> Sloupek 1,03x16 ks = 16,5 x 6,4 kg/m
A68: 34 | B68: 14587263R | C68: Profil čtvercový uzavř.svařovaný S235 50 x 3 mm | D68: T | E68: 0.12 | G68: =ROUND(E68*F68,2) -> 0 | I68: =ROUND(E68*H68,2) -> 0 | K68: =ROUND(E68*J68,2) -> 0 | L68: 21 | M68: =G68*(1+L68/100) -> 0 | N68: 1 | O68: =ROUND(E68*N68,2) -> 0.12 | P68: 0 | Q68: =ROUND(E68*P68,2) -> 0 | R68: SPCM | S68: RTS 17/ I | T68: 0 | U68: =ROUND(E68*T68,2) -> 0 | AG68: POL3_0
C69: Madlo 29,2 x 4,1 kg/m | AG69: POP | BA69: =C69 -> Madlo 29,2 x 4,1 kg/m
A70: 35 | B70: 14587232R | C70: Profil čtvercový uzavř.svařovaný S235 30 x 3 mm | D70: T | E70: 0.067 | G70: =ROUND(E70*F70,2) -> 0 | I70: =ROUND(E70*H70,2) -> 0 | K70: =ROUND(E70*J70,2) -> 0 | L70: 21 | M70: =G70*(1+L70/100) -> 0 | N70: 1 | O70: =ROUND(E70*N70,2) -> 0.07 | P70: 0 | Q70: =ROUND(E70*P70,2) -> 0 | R70: SPCM | S70: RTS 17/ I | T70: 0 | U70: =ROUND(E70*T70,2) -> 0 | AG70: POL3_0
C71: Spodní příčel 29x2,3 kg/m | AG71: POP | BA71: =C71 -> Spodní příčel 29x2,3 kg/m
A72: 36 | B72: 145872121 | C72: Profil čtvercový uzavř.svařovaný S235 20 x 3 mm | D72: T | E72: 0.224 | G72: =ROUND(E72*F72,2) -> 0 | I72: =ROUND(E72*H72,2) -> 0 | K72: =ROUND(E72*J72,2) -> 0 | L72: 21 | M72: =G72*(1+L72/100) -> 0 | N72: 1 | O72: =ROUND(E72*N72,2) -> 0.22 | P72: 0 | Q72: =ROUND(E72*P72,2) -> 0 | S72: Vlastní | T72: 0 | U72: =ROUND(E72*T72,2) -> 0 | AG72: POL3_0
C73: Výplň 0,92x174 ks = 160 x 1,4 kg/m | AG73: POP | BA73: =C73 -> Výplň 0,92x174 ks = 160 x 1,4 kg/m
A74: 37 | B74: 133262361 | C74: Tyč ocelová plochá jakost 11523 150x15 mm | D74: T | E74: 0.043 | G74: =ROUND(E74*F74,2) -> 0 | I74: =ROUND(E74*H74,2) -> 0 | K74: =ROUND(E74*J74,2) -> 0 | L74: 21 | M74: =G74*(1+L74/100) -> 0 | N74: 1 | O74: =ROUND(E74*N74,2) -> 0.04 | P74: 0 | Q74: =ROUND(E74*P74,2) -> 0 | S74: Vlastní | T74: 0 | U74: =ROUND(E74*T74,2) -> 0 | AG74: POL3_0
C75: 0,15x16 kus = 2,4 x 17,7 kg/m | AG75: POP | BA75: =C75 -> 0,15x16 kus = 2,4 x 17,7 kg/m
A76: 38 | B76: 998767194R00 | C76: Příplatek zvětš. přesun, zámeč. konstr. do 1 km | D76: t | E76: 0.6 | G76: =ROUND(E76*F76,2) -> 0 | I76: =ROUND(E76*H76,2) -> 0 | K76: =ROUND(E76*J76,2) -> 0 | L76: 21 | M76: =G76*(1+L76/100) -> 0 | N76: 0 | O76: =ROUND(E76*N76,2) -> 0 | P76: 0 | Q76: =ROUND(E76*P76,2) -> 0 | R76: 800-767 | S76: RTS 17/ I | T76: 0.95 | U76: =ROUND(E76*T76,2) -> 0.57 | AG76: POL1_
A77: 39 | B77: 998767199R00 | C77: Příplatek zvětš. přesun, zámeč. konstr. další 1 km | D77: t | E77: 5.4 | G77: =ROUND(E77*F77,2) -> 0 | I77: =ROUND(E77*H77,2) -> 0 | K77: =ROUND(E77*J77,2) -> 0 | L77: 21 | M77: =G77*(1+L77/100) -> 0 | N77: 0 | O77: =ROUND(E77*N77,2) -> 0 | P77: 0 | Q77: =ROUND(E77*P77,2) -> 0 | R77: 800-767 | S77: RTS 17/ I | T77: 0 | U77: =ROUND(E77*T77,2) -> 0 | AG77: POL1_
C78: 0,6x9 | AG78: POP | BA78: =C78 -> 0,6x9
A79: 40 | B79: R-pol | C79: Žárové zinkování | D79: kg | E79: 600 | G79: =ROUND(E79*F79,2) -> 0 | I79: =ROUND(E79*H79,2) -> 0 | K79: =ROUND(E79*J79,2) -> 0 | L79: 21 | M79: =G79*(1+L79/100) -> 0 | N79: 0 | O79: =ROUND(E79*N79,2) -> 0 | P79: 0 | Q79: =ROUND(E79*P79,2) -> 0 | S79: Vlastní | T79: 0 | U79: =ROUND(E79*T79,2) -> 0 | AG79: POL3_
A80: Díl: | B80: 783 | C80: Nátěry | G80: =SUMIF(AG81:AG82,"<>NOR",G81:G82) -> 0 | I80: =SUM(I81:I82) -> 0 | K80: =SUM(K81:K82) -> 0 | M80: =SUM(M81:M82) -> 0 | O80: =SUM(O81:O82) -> 0.05 | Q80: =SUM(Q81:Q82) -> 0 | U80: =SUM(U81:U82) -> 21.92 | AG80: DIL
A81: 41 | B81: 783814110R00 | C81: Nátěr olejový betonových povrchů dvojnásobný | D81: m2 | E81: 78 | G81: =ROUND(E81*F81,2) -> 0 | I81: =ROUND(E81*H81,2) -> 0 | K81: =ROUND(E81*J81,2) -> 0 | L81: 21 | M81: =G81*(1+L81/100) -> 0 | N81: 0.00062 | O81: =ROUND(E81*N81,2) -> 0.05 | P81: 0 | Q81: =ROUND(E81*P81,2) -> 0 | R81: 800-783 | S81: RTS 17/ I | T81: 0.281 | U81: =ROUND(E81*T81,2) -> 21.92 | AG81: POL1_7
C82: 2,6x30 | AG82: POP | BA82: =C82 -> 2,6x30
AE83: 15 | AF83: 21
B84: Celkem | G84: =G7+G31+G45+G51+G59+G63+G80 -> 0 | AE84: =SUMIF(L7:L82,AE83,G7:G82) -> 0 | AF84: =SUMIF(L7:L82,AF83,G7:G82) -> 0 | AG84: SUM
A87: Poznámky uchazeče k zadání
AG88: POPUZIV
AG94: END

Sheet SO 102 SO 102 Pol
A1: Položkový rozpočet | AG1: #TypZaznamu#
A2: S: | B2: 20 | C2: Výstavba chodníku v ul. Lipovská | AG2: STA
A3: O: | B3: SO 102 | C3: Kanalizace | AC3: STA | AG3: OBJ
A4: R: | B4: SO 102 | C4: Kanalizace | AG4: ROZ
A6: P.č. | B6: Číslo položky | C6: Název položky | D6: MJ | E6: množství | F6: cena / MJ | G6: Celkem | H6: Dodávka | I6: Dodávka celk. | J6: Montáž | K6: Montáž celk. | L6: DPH | M6: cena s DPH | N6: hmotnost / MJ | O6: hmotnost celk.(t) | P6: dem. hmotnost / MJ | Q6: dem. hmotnost celk.(t) | R6: Ceník | S6: Cen. soustava | T6: Nhod / MJ | U6: Nhod celk. | V6: Dodavatel
A7: Díl: | B7: 1 | C7: Zemní práce | G7: =SUMIF(AG8:AG62,"<>NOR",G8:G62) -> 0 | I7: =SUM(I8:I62) -> 0 | K7: =SUM(K8:K62) -> 0 | M7: =SUM(M8:M62) -> 0 | O7: =SUM(O8:O62) -> 1089 | Q7: =SUM(Q8:Q62) -> 18.69 | U7: =SUM(U8:U62) -> 1074.09 | AG7: DIL
A8: 1 | B8: 919735112R00 | C8: Řezání stávajícího živičného krytu tl. 5 - 10 cm | D8: m | E8: 29 | G8: =ROUND(E8*F8,2) -> 0 | I8: =ROUND(E8*H8,2) -> 0 | K8: =ROUND(E8*J8,2) -> 0 | L8: 21 | M8: =G8*(1+L8/100) -> 0 | N8: 0 | O8: =ROUND(E8*N8,2) -> 0 | P8: 0 | Q8: =ROUND(E8*P8,2) -> 0 | R8: 822-1 | S8: RTS 17/ I | T8: 0.037 | U8: =ROUND(E8*T8,2) -> 1.07 | AG8: POL1_1
C9: V místě napojení MK, které nejsou součástí SO 101 | AG9: POP | BA9: =C9 -> V místě napojení MK, které nejsou součástí SO 101
A10: 2 | B10: 113151119R00 | C10: Fréz.živič.krytu pl.do 500 m2,pruh do 75cm,tl.10cm | D10: m2 | E10: 21 | G10: =ROUND(E10*F10,2) -> 0 | I10: =ROUND(E10*H10,2) -> 0 | K10: =ROUND(E10*J10,2) -> 0 | L10: 21 | M10: =G10*(1+L10/100) -> 0 | N10: 0 | O10: =ROUND(E10*N10,2) -> 0 | P10: 0.12 | Q10: =ROUND(E10*P10,2) -> 2.52 | R10: 822-1 | S10: RTS 17/ I | T10: 0.12 | U10: =ROUND(E10*T10,2) -> 2.52 | AG10: POL1_1
C11: V místě napojení MK, které nejsou součástí SO 101 | AG11: POP | BA11: =C11 -> V místě napojení MK, které nejsou součástí SO 101
A12: 3 | B12: 113107535R00 | C12: Odstranění podkladu pl. 50 m2,kam.drcené tl.35 cm | D12: m2 | E12: 21 | G12: =ROUND(E12*F12,2) -> 0 | I12: =ROUND(E12*H12,2) -> 0 | K12: =ROUND(E12*J12,2) -> 0 | L12: 21 | M12: =G12*(1+L12/100) -> 0 | N12: 0 | O12: =ROUND(E12*N12,2) -> 0 | P12: 0.77 | Q12: =ROUND(E12*P12,2) -> 16.17 | R12: 822-1 | S12: RTS 17/ I | T12: 1.1505 | U12: =ROUND(E12*T12,2) -> 24.16 | AG12: POL1_1
A13: 4 | B13: 132201213R00 | C13: Hloubení rýh š.do 200 cm hor.3 do 10000 m3,STROJNĚ | D13: m3 | E13: 557 | G13: =ROUND(E13*F13,2) -> 0 | I13: =ROUND(E13*H13,2) -> 0 | K13: =ROUND(E13*J13,2) -> 0 | L13: 21 | M13: =G13*(1+L13/100) -> 0 | N13: 0 | O13: =ROUND(E13*N13,2) -> 0 | P13: 0 | Q13: =ROUND(E13*P13,2) -> 0 | R13: 800-1 | S13: RTS 17/ I | T13: 0.12 | U13: =ROUND(E13*T13,2) -> 66.84 | AG13: POL1_1
C14: Nová stoka 214x1,2x2=514 | AG14: POP | BA14: =C14 -> Nová stoka 214x1,2x2=514
C15: Výměna potrubí 18x1,2x2=43 | AG15: POP | BA15: =C15 -> Výměna potrubí 18x1,2x2=43
A16: 5 | B16: 132201219R00 | C16: Příplatek za lepivost - hloubení rýh 200cm v hor.3 | D16: m3 | E16: 167 | G16: =ROUND(E16*F16,2) -> 0 | I16: =ROUND(E16*H16,2) -> 0 | K16: =ROUND(E16*J16,2) -> 0 | L16: 21 | M16: =G16*(1+L16/100) -> 0 | N16: 0 | O16: =ROUND(E16*N16,2) -> 0 | P16: 0 | Q16: =ROUND(E16*P16,2) -> 0 | R16: 800-1 | S16: RTS 17/ I | T16: 0.084 | U16: =ROUND(E16*T16,2) -> 14.03 | AG16: POL1_1
C17: 557x30% | AG17: POP | BA17: =C17 -> 557x30%
A18: 6 | B18: 130001101R00 | C18: Příplatek za ztížené hloubení v blízkosti vedení | D18: m3 | E18: 167 | G18: =ROUND(E18*F18,2) -> 0 | I18: =ROUND(E18*H18,2) -> 0 | K18: =ROUND(E18*J18,2) -> 0 | L18: 21 | M18: =G18*(1+L18/100) -> 0 | N18: 0 | O18: =ROUND(E18*N18,2) -> 0 | P18: 0 | Q18: =ROUND(E18*P18,2) -> 0 | R18: 800-1 | S18: RTS 17/ I | T18: 1.763 | U18: =ROUND(E18*T18,2) -> 294.42 | AG18: POL1_1
C19: 557x30% | AG19: POP | BA19: =C19 -> 557x30%
A20: 7 | B20: 131201202R00 | C20: Hloubení zapažených jam v hor.3 do 1000 m3 | D20: m3 | E20: 64.5 | G20: =ROUND(E20*F20,2) -> 0 | I20: =ROUND(E20*H20,2) -> 0 | K20: =ROUND(E20*J20,2) -> 0 | L20: 21 | M20: =G20*(1+L20/100) -> 0 | N20: 0 | O20: =ROUND(E20*N20,2) -> 0 | P20: 0 | Q20: =ROUND(E20*P20,2) -> 0 | R20: 800-1 | S20: RTS 17/ I | T20: 1.556 | U20: =ROUND(E20*T20,2) -> 100.36 | AG20: POL1_1
C21: Šachty 1,5x1,5x2x4=18 | AG21: POP | BA21: =C21 -> Šachty 1,5x1,5x2x4=18
C22: Odstranění překážek 1,5x1,5x2x7=31,5 | AG22: POP | BA22: =C22 -> Odstranění překážek 1,5x1,5x2x7=31,5
C23: HP 1,5x2,5x2x2=15 | AG23: POP | BA23: =C23 -> HP 1,5x2,5x2x2=15
A24: 8 | B24: 131201119R00 | C24: Příplatek za lepivost - hloubení nezap.jam v hor.3 | D24: m3 | E24: 19.4 | G24: =ROUND(E24*F24,2) -> 0 | I24: =ROUND(E24*H24,2) -> 0 | K24: =ROUND(E24*J24,2) -> 0 | L24: 21 | M24: =G24*(1+L24/100) -> 0 | N24: 0 | O24: =ROUND(E24*N24,2) -> 0 | P24: 0 | Q24: =ROUND(E24*P24,2) -> 0 | R24: 800-1 | S24: RTS 17/ I | T24: 0.0431 | U24: =ROUND(E24*T24,2) -> 0.84 | AG24: POL1_1
C25: 64,5x30% | AG25: POP | BA25: =C25 -> 64,5x30%
A26: 9 | B26: 119001401R00 | C26: Dočasné zajištění ocelového potrubí do DN 200 mm | D26: m | E26: 20 | G26: =ROUND(E26*F26,2) -> 0 | I26: =ROUND(E26*H26,2) -> 0 | K26: =ROUND(E26*J26,2) -> 0 | L26: 21 | M26: =G26*(1+L26/100) -> 0 | N26: 0.00869 | O26: =ROUND(E26*N26,2) -> 0.17 | P26: 0 | Q26: =ROUND(E26*P26,2) -> 0 | R26: 800-1 | S26: RTS 17/ I | T26: 0.703 | U26: =ROUND(E26*T26,2) -> 14.06 | AG26: POL1_1
A27: 10 | B27: 119001421R00 | C27: Dočasné zajištění kabelů - do počtu 3 kabelů | D27: m | E27: 30 | G27: =ROUND(E27*F27,2) -> 0 | I27: =ROUND(E27*H27,2) -> 0 | K27: =ROUND(E27*J27,2) -> 0 | L27: 21 | M27: =G27*(1+L27/100) -> 0 | N27: 0.02478 | O27: =ROUND(E27*N27,2) -> 0.74 | P27: 0 | Q27: =ROUND(E27*P27,2) -> 0 | R27: 800-1 | S27: RTS 17/ I | T27: 0.547 | U27: =ROUND(E27*T27,2) -> 16.41 | AG27: POL1_1
A28: 11 | B28: 119001422R00 | C28: Dočasné zajištění kabelů - v počtu 3 - 6 kabelů | D28: m | E28: 30 | G28: =ROUND(E28*F28,2) -> 0 | I28: =ROUND(E28*H28,2) -> 0 | K28: =ROUND(E28*J28,2) -> 0 | L28: 21 | M28: =G28*(1+L28/100) -> 0 | N28: 0.03974 | O28: =ROUND(E28*N28,2) -> 1.19 | P28: 0 | Q28: =ROUND(E28*P28,2) -> 0 | R28: 800-1 | S28: RTS 17/ I | T28: 0.753 | U28: =ROUND(E28*T28,2) -> 22.59 | AG28: POL1_1
A29: 12 | B29: 151101101R00 | C29: Pažení a rozepření stěn rýh - příložné - hl. do 2m | D29: m2 | E29: 1014 | G29: =ROUND(E29*F29,2) -> 0 | I29: =ROUND(E29*H29,2) -> 0 | K29: =ROUND(E29*J29,2) -> 0 | L29: 21 | M29: =G29*(1+L29/100) -> 0 | N29: 0.00099 | O29: =ROUND(E29*N29,2) -> 1 | P29: 0 | Q29: =ROUND(E29*P29,2) -> 0 | R29: 800-1 | S29: RTS 17/ I | T29: 0.236 | U29: =ROUND(E29*T29,2) -> 239.3 | AG29: POL1_1
C30: Nová stoka 214x2x2=856 | AG30: POP | BA30: =C30 -> Nová stoka 214x2x2=856
C31: Výměna potrubí 18x2x2=72 | AG31: POP | BA31: =C31 -> Výměna potrubí 18x2x2=72
C32: Šachty 1,5x2x2x4=24 | AG32: POP | BA32: =C32 -> Šachty 1,5x2x2x4=24
C33: Odstranění překážek 1,5x2x2x7=42 | AG33: POP | BA33: =C33 -> Odstranění překážek 1,5x2x2x7=42
C34: HP 2x2,5x2x2=20 | AG34: POP | BA34: =C34 -> HP 2x2,5x2x2=20
A35: 13 | B35: 151101111R00 | C35: Odstranění pažení stěn rýh - příložné - hl. do 2 m | D35: m2 | E35: 1014 | G35: =ROUND(E35*F35,2) -> 0 | I35: =ROUND(E35*H35,2) -> 0 | K35: =ROUND(E35*J35,2) -> 0 | L35: 21 | M35: =G35*(1+L35/100) -> 0 | N35: 0 | O35: =ROUND(E35*N35,2) -> 0 | P35: 0 | Q35: =ROUND(E35*P35,2) -> 0 | R35: 800-1 | S35: RTS 17/ I | T35: 0.07 | U35: =ROUND(E35*T35,2) -> 70.98 | AG35: POL1_1
A36: 14 | B36: 174101101R00 | C36: Zásyp jam, rýh, šachet se zhutněním | D36: m3 | E36: 493.6 | G36: =ROUND(E36*F36,2) -> 0 | I36: =ROUND(E36*H36,2) -> 0 | K36: =ROUND(E36*J36,2) -> 0 | L36: 21 | M36: =G36*(1+L36/100) -> 0 | N36: 0 | O36: =ROUND(E36*N36,2) -> 0 | P36: 0 | Q36: =ROUND(E36*P36,2) -> 0 | R36: 800-1 | S36: RTS 17/ I | T36: 0.202 | U36: =ROUND(E36*T36,2) -> 99.71 | AG36: POL1_1
C37: Stoka 557x0,8=445,6 | AG37: POP | BA37: =C37 -> Stoka 557x0,8=445,6
C38: Šachty 18x0,5=9 | AG38: POP | BA38: =C38 -> Šachty 18x0,5=9
C39: Odstranění překážek 31,5 | AG39: POP | BA39: =C39 -> Odstranění překážek 31,5
C40: HP 15x0,5=7,5 | AG40: POP | BA40: =C40 -> HP 15x0,5=7,5
A41: 15 | B41: 583412034R | C41: Kamenivo drcené frakce 0/4 B Olomoucký kraj | D41: T | E41: 217.2 | G41: =ROUND(E41*F41,2) -> 0 | I41: =ROUND(E41*H41,2) -> 0 | K41: =ROUND(E41*J41,2) -> 0 | L41: 21 | M41: =G41*(1+L41/100) -> 0 | N41: 1 | O41: =ROUND(E41*N41,2) -> 217.2 | P41: 0 | Q41: =ROUND(E41*P41,2) -> 0 | R41: SPCM | S41: RTS 17/ I | T41: 0 | U41: =ROUND(E41*T41,2) -> 0 | AG41: POL3_0
C42: 493,6x2,2x0,2 | AG42: POP | BA42: =C42 -> 493,6x2,2x0,2
A43: 16 | B43: 58344198R | C43: Štěrkodrtě frakce 0-63 B | D43: T | E43: 868.7 | G43: =ROUND(E43*F43,2) -> 0 | I43: =ROUND(E43*H43,2) -> 0 | K43: =ROUND(E43*J43,2) -> 0 | L43: 21 | M43: =G43*(1+L43/100) -> 0 | N43: 1 | O43: =ROUND(E43*N43,2) -> 868.7 | P43: 0 | Q43: =ROUND(E43*P43,2) -> 0 | R43: SPCM | S43: RTS 17/ I | T43: 0 | U43: =ROUND(E43*T43,2) -> 0 | AG43: POL3_0
C44: 493,6x2,2x0,8 | AG44: POP | BA44: =C44 -> 493,6x2,2x0,8
A45: 17 | B45: 181101102R00 | C45: Úprava pláně v zářezech v hor. 1-4, se zhutněním | D45: m2 | E45: 21 | G45: =ROUND(E45*F45,2) -> 0 | I45: =ROUND(E45*H45,2) -> 0 | K45: =ROUND(E45*J45,2) -> 0 | L45: 21 | M45: =G45*(1+L45/100) -> 0 | N45: 0 | O45: =ROUND(E45*N45,2) -> 0 | P45: 0 | Q45: =ROUND(E45*P45,2) -> 0 | R45: 800-1 | S45: RTS 17/ I | T45: 0.018 | U45: =ROUND(E45*T45,2) -> 0.38 | AG45: POL1_1
C46: 21 | AG46: POP | BA46: =C46 -> 21
A47: 18 | B47: 167101102R00 | C47: Nakládání výkopku z hor.1-4 v množství nad 100 m3 | D47: m3 | E47: 621.5 | G47: =ROUND(E47*F47,2) -> 0 | I47: =ROUND(E47*H47,2) -> 0 | K47: =ROUND(E47*J47,2) -> 0 | L47: 21 | M47: =G47*(1+L47/100) -> 0 | N47: 0 | O47: =ROUND(E47*N47,2) -> 0 | P47: 0 | Q47: =ROUND(E47*P47,2) -> 0 | R47: 800-1 | S47: RTS 17/ I | T47: 0.053 | U47: =ROUND(E47*T47,2) -> 32.94 | AG47: POL1_1
C48: 557+64,5 | AG48: POP | BA48: =C48 -> 557+64,5
A49: 19 | B49: 162701105R00 | C49: Vodorovné přemístění výkopku z hor.1-4 do 10000 m | D49: m3 | E49: 621.5 | G49: =ROUND(E49*F49,2) -> 0 | I49: =ROUND(E49*H49,2) -> 0 | K49: =ROUND(E49*J49,2) -> 0 | L49: 21 | M49: =G49*(1+L49/100) -> 0 | N49: 0 | O49: =ROUND(E49*N49,2) -> 0 | P49: 0 | Q49: =ROUND(E49*P49,2) -> 0 | R49: 800-1 | S49: RTS 17/ I | T49: 0.011 | U49: =ROUND(E49*T49,2) -> 6.84 | AG49: POL1_1
C50: 5966+468+456+143-480-114 | AG50: POP | BA50: =C50 -> 5966+468+456+143-480-114
A51: 20 | B51: 171201201R00 | C51: Uložení sypaniny na skl.-modelace na výšku přes 2m | D51: m3 | E51: 621.5 | G51: =ROUND(E51*F51,2) -> 0 | I51: =ROUND(E51*H51,2) -> 0 | K51: =ROUND(E51*J51,2) -> 0 | L51: 21 | M51: =G51*(1+L51/100) -> 0 | N51: 0 | O51: =ROUND(E51*N51,2) -> 0 | P51: 0 | Q51: =ROUND(E51*P51,2) -> 0 | R51: 800-1 | S51: RTS 17/ I | T51: 0.009 | U51: =ROUND(E51*T51,2) -> 5.59 | AG51: POL1_1
C52: 1104+175+71+52-22 | AG52: POP | BA52: =C52 -> 1104+175+71+52-22
A53: 21 | B53: 199000002R00 | C53: Poplatek za skládku horniny 1- 4 | D53: m3 | E53: 621.5 | G53: =ROUND(E53*F53,2) -> 0 | I53: =ROUND(E53*H53,2) -> 0 | K53: =ROUND(E53*J53,2) -> 0 | L53: 21 | M53: =G53*(1+L53/100) -> 0 | N53: 0 | O53: =ROUND(E53*N53,2) -> 0 | P53: 0 | Q53: =ROUND(E53*P53,2) -> 0 | R53: 800-1 | S53: RTS 17/ I | T53: 0 | U53: =ROUND(E53*T53,2) -> 0 | AG53: POL1_1
A54: 22 | B54: 182001111R00 | C54: Plošná úprava terénu, nerovnosti do 10 cm v rovině | D54: m2 | E54: 300 | G54: =ROUND(E54*F54,2) -> 0 | I54: =ROUND(E54*H54,2) -> 0 | K54: =ROUND(E54*J54,2) -> 0 | L54: 21 | M54: =G54*(1+L54/100) -> 0 | N54: 0 | O54: =ROUND(E54*N54,2) -> 0 | P54: 0 | Q54: =ROUND(E54*P54,2) -> 0 | R54: 823-1 | S54: RTS 17/ I | T54: 0.09 | U54: =ROUND(E54*T54,2) -> 27 | AG54: POL1_1
C55: Úprava po zásypu rýhy | AG55: POP | BA55: =C55 -> Úprava po zásypu rýhy
A56: 23 | B56: 181301101R00 | C56: Rozprostření ornice, rovina, tl. do 10 cm do 500m2 | D56: m2 | E56: 30 | G56: =ROUND(E56*F56,2) -> 0 | I56: =ROUND(E56*H56,2) -> 0 | K56: =ROUND(E56*J56,2) -> 0 | L56: 21 | M56: =G56*(1+L56/100) -> 0 | N56: 0 | O56: =ROUND(E56*N56,2) -> 0 | P56: 0 | Q56: =ROUND(E56*P56,2) -> 0 | R56: 800-1 | S56: RTS 17/ I | T56: 0.13 | U56: =ROUND(E56*T56,2) -> 3.9 | AG56: POL1_1
C57: Bude užito původní ornice | AG57: POP | BA57: =C57 -> Bude užito původní ornice
A58: 24 | B58: 180402111R00 | C58: Založení trávníku parkového výsevem v rovině | D58: m2 | E58: 30 | G58: =ROUND(E58*F58,2) -> 0 | I58: =ROUND(E58*H58,2) -> 0 | K58: =ROUND(E58*J58,2) -> 0 | L58: 21 | M58: =G58*(1+L58/100) -> 0 | N58: 0 | O58: =ROUND(E58*N58,2) -> 0 | P58: 0 | Q58: =ROUND(E58*P58,2) -> 0 | R58: 823-1 | S58: RTS 17/ I | T58: 0.06 | U58: =ROUND(E58*T58,2) -> 1.8 | AG58: POL1_1
A59: 25 | B59: 00572420R | C59: Směs travní parková III. dekorativní PROFI | D59: kg | E59: 0.75 | G59: =ROUND(E59*F59,2) -> 0 | I59: =ROUND(E59*H59,2) -> 0 | K59: =ROUND(E59*J59,2) -> 0 | L59: 21 | M59: =G59*(1+L59/100) -> 0 | N59: 0.001 | O59: =ROUND(E59*N59,2) -> 0 | P59: 0 | Q59: =ROUND(E59*P59,2) -> 0 | R59: SPCM | S59: RTS 17/ I | T59: 0 | U59: =ROUND(E59*T59,2) -> 0 | AG59: POL3_0
C60: 30x0,025 kg/m2 | AG60: POP | BA60: =C60 -> 30x0,025 kg/m2
A61: 26 | B61: 892601184R00 | C61: Čištění kanalizační stoky do DN 800, nad 100 m | D61: m | E61: 350 | G61: =ROUND(E61*F61,2) -> 0 | I61: =ROUND(E61*H61,2) -> 0 | K61: =ROUND(E61*J61,2) -> 0 | L61: 21 | M61: =G61*(1+L61/100) -> 0 | N61: 0 | O61: =ROUND(E61*N61,2) -> 0 | P61: 0 | Q61: =ROUND(E61*P61,2) -> 0 | R61: 827-1 | S61: RTS 17/ I | T61: 0.081 | U61: =ROUND(E61*T61,2) -> 28.35 | AG61: POL1_1
C62: Čištění stávající kanalizace | AG62: POP | BA62: =C62 -> Čištění stávající kanalizace
A63: Díl: | B63: 5 | C63: Komunikace | G63: =SUMIF(AG64:AG74,"<>NOR",G64:G74) -> 0 | I63: =SUM(I64:I74) -> 0 | K63: =SUM(K64:K74) -> 0 | M63: =SUM(M64:M74) -> 0 | O63: =SUM(O64:O74) -> 21.12 | Q63: =SUM(Q64:Q74) -> 0 | U63: =SUM(U64:U74) -> 8.27 | AG63: DIL
A64: 27 | B64: 577141212R00 | C64: Beton asfalt. ACO 11, do 3 m, tl.5 cm | D64: m2 | E64: 21 | G64: =ROUND(E64*F64,2) -> 0 | I64: =ROUND(E64*H64,2) -> 0 | K64: =ROUND(E64*J64,2) -> 0 | L64: 21 | M64: =G64*(1+L64/100) -> 0 | N64: 0.12715 | O64: =ROUND(E64*N64,2) -> 2.67 | P64: 0 | Q64: =ROUND(E64*P64,2) -> 0 | R64: 822-1 | S64: RTS 17/ I | T64: 0.072 | U64: =ROUND(E64*T64,2) -> 1.51 | AG64: POL1_1
C65: V místě napojení MK, které nejsou součástí SO 101 | AG65: POP | BA65: =C65 -> V místě napojení MK, které nejsou součástí SO 101
A66: 28 | B66: 573231111R00 | C66: Postřik živičný spojovací z emulze 0,5-0,7 kg/m2 | D66: m2 | E66: 21 | G66: =ROUND(E66*F66,2) -> 0 | I66: =ROUND(E66*H66,2) -> 0 | K66: =ROUND(E66*J66,2) -> 0 | L66: 21 | M66: =G66*(1+L66/100) -> 0 | N66: 0.00071 | O66: =ROUND(E66*N66,2) -> 0.01 | P66: 0 | Q66: =ROUND(E66*P66,2) -> 0 | R66: 822-1 | S66: RTS 17/ I | T66: 0.002 | U66: =ROUND(E66*T66,2) -> 0.04 | AG66: POL1_1
A67: 29 | B67: 5771411221.R0 | C67: Beton asfalt. ACP 16, š. do 3 m, tl. 5 cm | D67: m2 | E67: 21 | G67: =ROUND(E67*F67,2) -> 0 | I67: =ROUND(E67*H67,2) -> 0 | K67: =ROUND(E67*J67,2) -> 0 | L67: 21 | M67: =G67*(1+L67/100) -> 0 | N67: 0.12966 | O67: =ROUND(E67*N67,2) -> 2.72 | P67: 0 | Q67: =ROUND(E67*P67,2) -> 0 | S67: Vlastní | T67: 0 | U67: =ROUND(E67*T67,2) -> 0 | AG67: POL1_1
A68: 30 | B68: 573111113R00 | C68: Postřik živičný infiltr.+ posyp, asfalt 1,5 kg/m2 | D68: m2 | E68: 21 | G68: =ROUND(E68*F68,2) -> 0 | I68: =ROUND(E68*H68,2) -> 0 | K68: =ROUND(E68*J68,2) -> 0 | L68: 21 | M68: =G68*(1+L68/100) -> 0 | N68: 0.00652 | O68: =ROUND(E68*N68,2) -> 0.14 | P68: 0 | Q68: =ROUND(E68*P68,2) -> 0 | R68: 822-1 | S68: RTS 17/ I | T68: 0.004 | U68: =ROUND(E68*T68,2) -> 0.08 | AG68: POL1_1
A69: 31 | B69: 5671221141.R0 | C69: Podklad z kameniva zpev.cementem ŠCM 1 tl.15 cm | D69: m2 | E69: 21 | G69: =ROUND(E69*F69,2) -> 0 | I69: =ROUND(E69*H69,2) -> 0 | K69: =ROUND(E69*J69,2) -> 0 | L69: 21 | M69: =G69*(1+L69/100) -> 0 | N69: 0.38314 | O69: =ROUND(E69*N69,2) -> 8.05 | P69: 0 | Q69: =ROUND(E69*P69,2) -> 0 | S69: Vlastní | T69: 0 | U69: =ROUND(E69*T69,2) -> 0 | AG69: POL1_1
A70: 32 | B70: 564851115R00 | C70: Podklad ze štěrkodrti po zhutnění tloušťky 19 cm | D70: m2 | E70: 21 | G70: =ROUND(E70*F70,2) -> 0 | I70: =ROUND(E70*H70,2) -> 0 | K70: =ROUND(E70*J70,2) -> 0 | L70: 21 | M70: =G70*(1+L70/100) -> 0 | N70: 0.35263 | O70: =ROUND(E70*N70,2) -> 7.41 | P70: 0 | Q70: =ROUND(E70*P70,2) -> 0 | R70: 822-1 | S70: RTS 17/ I | T70: 0.029 | U70: =ROUND(E70*T70,2) -> 0.61 | AG70: POL1_1
C71: ŠDA 0/63 | AG71: POP | BA71: =C71 -> ŠDA 0/63
C72: 668x1,1 | AG72: POP | BA72: =C72 -> 668x1,1
A73: 33 | B73: 919721211R00 | C73: Dilatační spáry vkládané vyplněné asfalt. zálivkou | D73: m | E73: 29 | G73: =ROUND(E73*F73,2) -> 0 | I73: =ROUND(E73*H73,2) -> 0 | K73: =ROUND(E73*J73,2) -> 0 | L73: 21 | M73: =G73*(1+L73/100) -> 0 | N73: 0.0043 | O73: =ROUND(E73*N73,2) -> 0.12 | P73: 0 | Q73: =ROUND(E73*P73,2) -> 0 | R73: 822-1 | S73: RTS 17/ I | T73: 0.208 | U73: =ROUND(E73*T73,2) -> 6.03 | AG73: POL1_1
C74: V místě napojení MK, které nejsou součástí SO 101 | AG74: POP | BA74: =C74 -> V místě napojení MK, které nejsou součástí SO 101
A75: Díl: | B75: 8 | C75: Trubní vedení | G75: =SUMIF(AG76:AG108,"<>NOR",G76:G108) -> 0 | I75: =SUM(I76:I108) -> 0 | K75: =SUM(K76:K108) -> 0 | M75: =SUM(M76:M108) -> 0 | O75: =SUM(O76:O108) -> 36.45 | Q75: =SUM(Q76:Q108) -> 0 | U75: =SUM(U76:U108) -> 216.73 | AG75: DIL
A76: 34 | B76: R-pol | C76: Odstranění překážek na stávající kanalizaci | D76: kus | E76: 7 | G76: =ROUND(E76*F76,2) -> 0 | I76: =ROUND(E76*H76,2) -> 0 | K76: =ROUND(E76*J76,2) -> 0 | L76: 21 | M76: =G76*(1+L76/100) -> 0 | N76: 0 | O76: =ROUND(E76*N76,2) -> 0 | P76: 0 | Q76: =ROUND(E76*P76,2) -> 0 | S76: Vlastní | T76: 0 | U76: =ROUND(E76*T76,2) -> 0 | AG76: POL3_
A77: 35 | B77: 892661111R00 | C77: Zkouška těsnosti kanalizace DN do 600, vodou | D77: m | E77: 232 | G77: =ROUND(E77*F77,2) -> 0 | I77: =ROUND(E77*H77,2) -> 0 | K77: =ROUND(E77*J77,2) -> 0 | L77: 21 | M77: =G77*(1+L77/100) -> 0 | N77: 0 | O77: =ROUND(E77*N77,2) -> 0 | P77: 0 | Q77: =ROUND(E77*P77,2) -> 0 | R77: 827-1 | S77: RTS 17/ I | T77: 0.123 | U77: =ROUND(E77*T77,2) -> 28.54 | AG77: POL1_1
C78: 214+18 | AG78: POP | BA78: =C78 -> 214+18
A79: 36 | B79: 892663111R00 | C79: Zabezpečení konců kanal. potrubí DN do 600, vodou | D79: úsek | E79: 2 | G79: =ROUND(E79*F79,2) -> 0 | I79: =ROUND(E79*H79,2) -> 0 | K79: =ROUND(E79*J79,2) -> 0 | L79: 21 | M79: =G79*(1+L79/100) -> 0 | N79: 0.00032 | O79: =ROUND(E79*N79,2) -> 0 | P79: 0 | Q79: =ROUND(E79*P79,2) -> 0 | R79: 827-1 | S79: RTS 17/ I | T79: 8.8 | U79: =ROUND(E79*T79,2) -> 17.6 | AG79: POL1_1
A80: 37 | B80: 892855115R00 | C80: Kontrola kanalizace TV kamerou do 500 m | D80: m | E80: 232 | G80: =ROUND(E80*F80,2) -> 0 | I80: =ROUND(E80*H80,2) -> 0 | K80: =ROUND(E80*J80,2) -> 0 | L80: 21 | M80: =G80*(1+L80/100) -> 0 | N80: 0 | O80: =ROUND(E80*N80,2) -> 0 | P80: 0 | Q80: =ROUND(E80*P80,2) -> 0 | R80: 827-1 | S80: RTS 17/ I | T80: 0.039 | U80: =ROUND(E80*T80,2) -> 9.05 | AG80: POL1_1
A81: 38 | B81: 871423121R00 | C81: Montáž trub z plastu, gumový kroužek, DN 600 | D81: m | E81: 232 | G81: =ROUND(E81*F81,2) -> 0 | I81: =ROUND(E81*H81,2) -> 0 | K81: =ROUND(E81*J81,2) -> 0 | L81: 21 | M81: =G81*(1+L81/100) -> 0 | N81: 2e-05 | O81: =ROUND(E81*N81,2) -> 0 | P81: 0 | Q81: =ROUND(E81*P81,2) -> 0 | R81: 827-1 | S81: RTS 17/ I | T81: 0.189 | U81: =ROUND(E81*T81,2) -> 43.85 | AG81: POL1_1
A82: 39 | B82: 28614296R1 | C82: Trubka kanal. korug. DN 600x6000mm PP | D82: kus | E82: 39 | G82: =ROUND(E82*F82,2) -> 0 | I82: =ROUND(E82*H82,2) -> 0 | K82: =ROUND(E82*J82,2) -> 0 | L82: 21 | M82: =G82*(1+L82/100) -> 0 | N82: 0.1212 | O82: =ROUND(E82*N82,2) -> 4.73 | P82: 0 | Q82: =ROUND(E82*P82,2) -> 0 | S82: Vlastní | T82: 0 | U82: =ROUND(E82*T82,2) -> 0 | AG82: POL3_0
A83: 40 | B83: 877423121R00 | C83: Montáž tvarovek odboč. plast. gum. kroužek DN 600 | D83: kus | E83: 4 | G83: =ROUND(E83*F83,2) -> 0 | I83: =ROUND(E83*H83,2) -> 0 | K83: =ROUND(E83*J83,2) -> 0 | L83: 21 | M83: =G83*(1+L83/100) -> 0 | N83: 0.00014 | O83: =ROUND(E83*N83,2) -> 0 | P83: 0 | Q83: =ROUND(E83*P83,2) -> 0 | R83: 827-1 | S83: RTS 17/ I | T83: 0.742 | U83: =ROUND(E83*T83,2) -> 2.97 | AG83: POL1_1
A84: 41 | B84: 28654497.41 | C84: Odbočka 45° kanal.na KG DN 600/160 PP | D84: kus | E84: 2 | G84: =ROUND(E84*F84,2) -> 0 | I84: =ROUND(E84*H84,2) -> 0 | K84: =ROUND(E84*J84,2) -> 0 | L84: 21 | M84: =G84*(1+L84/100) -> 0 | N84: 0.0169 | O84: =ROUND(E84*N84,2) -> 0.03 | P84: 0 | Q84: =ROUND(E84*P84,2) -> 0 | S84: Vlastní | T84: 0 | U84: =ROUND(E84*T84,2) -> 0 | AG84: POL3_0
A85: 42 | B85: 28654495.71 | C85: Odbočka 45° kanalizační DN 600/600 PP | D85: kus | E85: 1 | G85: =ROUND(E85*F85,2) -> 0 | I85: =ROUND(E85*H85,2) -> 0 | K85: =ROUND(E85*J85,2) -> 0 | L85: 21 | M85: =G85*(1+L85/100) -> 0 | N85: 0.0293 | O85: =ROUND(E85*N85,2) -> 0.03 | P85: 0 | Q85: =ROUND(E85*P85,2) -> 0 | S85: Vlastní | T85: 0 | U85: =ROUND(E85*T85,2) -> 0 | AG85: POL3_0
A86: 43 | B86: 28654492.61 | C86: Koleno kanalizační DN 600 45° PP | D86: kus | E86: 1 | G86: =ROUND(E86*F86,2) -> 0 | I86: =ROUND(E86*H86,2) -> 0 | K86: =ROUND(E86*J86,2) -> 0 | L86: 21 | M86: =G86*(1+L86/100) -> 0 | N86: 0.01815 | O86: =ROUND(E86*N86,2) -> 0.02 | P86: 0 | Q86: =ROUND(E86*P86,2) -> 0 | S86: Vlastní | T86: 0 | U86: =ROUND(E86*T86,2) -> 0 | AG86: POL3_0
A87: 44 | B87: R-pol | C87: Napojení potrubí na stávající šachtu | D87: kus | E87: 2 | G87: =ROUND(E87*F87,2) -> 0 | I87: =ROUND(E87*H87,2) -> 0 | K87: =ROUND(E87*J87,2) -> 0 | L87: 21 | M87: =G87*(1+L87/100) -> 0 | N87: 0 | O87: =ROUND(E87*N87,2) -> 0 | P87: 0 | Q87: =ROUND(E87*P87,2) -> 0 | S87: Vlastní | T87: 0 | U87: =ROUND(E87*T87,2) -> 0 | AG87: POL12_0
A88: 45 | B88: 8959311111.R0 | C88: Vpusti kanal. horské z bet. C 20/25,vel.1300/1100 | D88: kus | E88: 2 | G88: =ROUND(E88*F88,2) -> 0 | I88: =ROUND(E88*H88,2) -> 0 | K88: =ROUND(E88*J88,2) -> 0 | L88: 21 | M88: =G88*(1+L88/100) -> 0 | N88: 2.92153 | O88: =ROUND(E88*N88,2) -> 5.84 | P88: 0 | Q88: =ROUND(E88*P88,2) -> 0 | S88: Vlastní | T88: 0 | U88: =ROUND(E88*T88,2) -> 0 | AG88: POL1_1
A89: 46 | B89: 935111111R00 | C89: Osazení přík. žlabu do štěrkopísku z tvárnic 50 cm | D89: m | E89: 4 | G89: =ROUND(E89*F89,2) -> 0 | I89: =ROUND(E89*H89,2) -> 0 | K89: =ROUND(E89*J89,2) -> 0 | L89: 21 | M89: =G89*(1+L89/100) -> 0 | N89: 0.07285 | O89: =ROUND(E89*N89,2) -> 0.29 | P89: 0 | Q89: =ROUND(E89*P89,2) -> 0 | R89: 822-1 | S89: RTS 17/ I | T89: 0.179 | U89: =ROUND(E89*T89,2) -> 0.72 | AG89: POL1_1
A90: 47 | B90: 59227516R | C90: Žlab odvodňovací TBZ 50/50/13 | D90: kus | E90: 8 | G90: =ROUND(E90*F90,2) -> 0 | I90: =ROUND(E90*H90,2) -> 0 | K90: =ROUND(E90*J90,2) -> 0 | L90: 21 | M90: =G90*(1+L90/100) -> 0 | N90: 0.058 | O90: =ROUND(E90*N90,2) -> 0.46 | P90: 0 | Q90: =ROUND(E90*P90,2) -> 0 | R90: SPCM | S90: RTS 17/ I | T90: 0 | U90: =ROUND(E90*T90,2) -> 0 | AG90: POL3_0
A91: 48 | B91: 899202111R00 | C91: Osazení mříží litinových s rámem do 100 kg | D91: kus | E91: 2 | G91: =ROUND(E91*F91,2) -> 0 | I91: =ROUND(E91*H91,2) -> 0 | K91: =ROUND(E91*J91,2) -> 0 | L91: 21 | M91: =G91*(1+L91/100) -> 0 | N91: 0.00936 | O91: =ROUND(E91*N91,2) -> 0.02 | P91: 0 | Q91: =ROUND(E91*P91,2) -> 0 | R91: 827-1 | S91: RTS 17/ I | T91: 1.314 | U91: =ROUND(E91*T91,2) -> 2.63 | AG91: POL1_1
C92: Mříž na HP | AG92: POP | BA92: =C92 -> Mříž na HP
A93: 49 | B93: 55340371R | C93: Mříž s rámem na horskou vpust B 125 litina | D93: kus | E93: 2 | G93: =ROUND(E93*F93,2) -> 0 | I93: =ROUND(E93*H93,2) -> 0 | K93: =ROUND(E93*J93,2) -> 0 | L93: 21 | M93: =G93*(1+L93/100) -> 0 | N93: 0.27 | O93: =ROUND(E93*N93,2) -> 0.54 | P93: 0 | Q93: =ROUND(E93*P93,2) -> 0 | R93: SPCM | S93: RTS 17/ I | T93: 0 | U93: =ROUND(E93*T93,2) -> 0 | AG93: POL3_0
A94: 50 | B94: 894411151R00 | C94: Zřízení šachet z dílců, dno C25/30, potrubí DN 600 | D94: kus | E94: 4 | G94: =ROUND(E94*F94,2) -> 0 | I94: =ROUND(E94*H94,2) -> 0 | K94: =ROUND(E94*J94,2) -> 0 | L94: 21 | M94: =G94*(1+L94/100) -> 0 | N94: 2.52931 | O94: =ROUND(E94*N94,2) -> 10.12 | P94: 0 | Q94: =ROUND(E94*P94,2) -> 0 | R94: 827-1 | S94: RTS 17/ I | T94: 25.977 | U94: =ROUND(E94*T94,2) -> 103.91 | AG94: POL1_1
A95: 51 | B95: 592243681.A | C95: Dno šachetní TZZ-Q 1000/1000 | D95: kus | E95: 4 | G95: =ROUND(E95*F95,2) -> 0 | I95: =ROUND(E95*H95,2) -> 0 | K95: =ROUND(E95*J95,2) -> 0 | L95: 21 | M95: =G95*(1+L95/100) -> 0 | N95: 2.1 | O95: =ROUND(E95*N95,2) -> 8.4 | P95: 0 | Q95: =ROUND(E95*P95,2) -> 0 | S95: Vlastní | T95: 0 | U95: =ROUND(E95*T95,2) -> 0 | AG95: POL3_0
C96: Počet z D.2. až D.4. Situace | AG96: POP | BA96: =C96 -> Počet z D.2. až D.4. Situace
A97: 52 | B97: 59224106R | C97: Skruž se stupadly TBS-Q 1000/250/90 SP (SP) | D97: kus | E97: 2 | G97: =ROUND(E97*F97,2) -> 0 | I97: =ROUND(E97*H97,2) -> 0 | K97: =ROUND(E97*J97,2) -> 0 | L97: 21 | M97: =G97*(1+L97/100) -> 0 | N97: 0.185 | O97: =ROUND(E97*N97,2) -> 0.37 | P97: 0 | Q97: =ROUND(E97*P97,2) -> 0 | R97: SPCM | S97: RTS 17/ I | T97: 0 | U97: =ROUND(E97*T97,2) -> 0 | AG97: POL3_0
A98: 53 | B98: 59224126R | C98: Skruž přechodová TBR-Q 625/600/90/SPK (SLK) | D98: kus | E98: 2 | G98: =ROUND(E98*F98,2) -> 0 | I98: =ROUND(E98*H98,2) -> 0 | K98: =ROUND(E98*J98,2) -> 0 | L98: 21 | M98: =G98*(1+L98/100) -> 0 | N98: 0.432 | O98: =ROUND(E98*N98,2) -> 0.86 | P98: 0 | Q98: =ROUND(E98*P98,2) -> 0 | R98: SPCM | S98: RTS 17/ I | T98: 0 | U98: =ROUND(E98*T98,2) -> 0 | AG98: POL3_0
A99: 54 | B99: 59224130R | C99: Deska přechodová TZK-Q 625/200/90/T | D99: kus | E99: 2 | G99: =ROUND(E99*F99,2) -> 0 | I99: =ROUND(E99*H99,2) -> 0 | K99: =ROUND(E99*J99,2) -> 0 | L99: 21 | M99: =G99*(1+L99/100) -> 0 | N99: 0.393 | O99: =ROUND(E99*N99,2) -> 0.79 | P99: 0 | Q99: =ROUND(E99*P99,2) -> 0 | R99: SPCM | S99: RTS 17/ I | T99: 0 | U99: =ROUND(E99*T99,2) -> 0 | AG99: POL3_0
A100: 55 | B100: 286971891.0 | C100: Těsnění k šachtové skruži DN 1000 Q.1 | D100: kus | E100: 6 | G100: =ROUND(E100*F100,2) -> 0 | I100: =ROUND(E100*H100,2) -> 0 | K100: =ROUND(E100*J100,2) -> 0 | L100: 21 | M100: =G100*(1+L100/100) -> 0 | N100: 0.0032 | O100: =ROUND(E100*N100,2) -> 0.02 | P100: 0 | Q100: =ROUND(E100*P100,2) -> 0 | S100: Vlastní | T100: 0 | U100: =ROUND(E100*T100,2) -> 0 | AG100: POL3_0
A101: 56 | B101: 452112111R00 | C101: Osazení beton, prstenců pod mříže, výšky do100 mm | D101: kus | E101: 4 | G101: =ROUND(E101*F101,2) -> 0 | I101: =ROUND(E101*H101,2) -> 0 | K101: =ROUND(E101*J101,2) -> 0 | L101: 21 | M101: =G101*(1+L101/100) -> 0 | N101: 0.0066 | O101: =ROUND(E101*N101,2) -> 0.03 | P101: 0 | Q101: =ROUND(E101*P101,2) -> 0 | R101: 827-1 | S101: RTS 17/ I | T101: 0.28 | U101: =ROUND(E101*T101,2) -> 1.12 | AG101: POL1_1
...

Sheet SO 103 SO 103 Pol
A1: Položkový rozpočet | AG1: #TypZaznamu#
A2: S: | B2: 20 | C2: Výstavba chodníku v ul. Lipovská | AG2: STA
A3: O: | B3: SO 103 | C3: Komunikace do obytné zóny | AC3: STA | AG3: OBJ
A4: R: | B4: SO 103 | C4: Komunikace do obytné zóny | AG4: ROZ
A6: P.č. | B6: Číslo položky | C6: Název položky | D6: MJ | E6: množství | F6: cena / MJ | G6: Celkem | H6: Dodávka | I6: Dodávka celk. | J6: Montáž | K6: Montáž celk. | L6: DPH | M6: cena s DPH | N6: hmotnost / MJ | O6: hmotnost celk.(t) | P6: dem. hmotnost / MJ | Q6: dem. hmotnost celk.(t) | R6: Ceník | S6: Cen. soustava | T6: Nhod / MJ | U6: Nhod celk. | V6: Dodavatel
A7: Díl: | B7: 1 | C7: Zemní práce | G7: =SUMIF(AG8:AG60,"<>NOR",G8:G60) -> 0 | I7: =SUM(I8:I60) -> 0 | K7: =SUM(K8:K60) -> 0 | M7: =SUM(M8:M60) -> 0 | O7: =SUM(O8:O60) -> 61.63 | Q7: =SUM(Q8:Q60) -> 123.26 | U7: =SUM(U8:U60) -> 234.11 | AG7: DIL
A8: 1 | B8: 112101103R00 | C8: Kácení stromů listnatých o průměru kmene 50-70 cm | D8: kus | E8: 3 | G8: =ROUND(E8*F8,2) -> 0 | I8: =ROUND(E8*H8,2) -> 0 | K8: =ROUND(E8*J8,2) -> 0 | L8: 21 | M8: =G8*(1+L8/100) -> 0 | N8: 0 | O8: =ROUND(E8*N8,2) -> 0 | P8: 0 | Q8: =ROUND(E8*P8,2) -> 0 | R8: 800-1 | S8: RTS 17/ I | T8: 1.42 | U8: =ROUND(E8*T8,2) -> 4.26 | AG8: POL1_1
C9: Počet z C.2. Situace | AG9: POP | BA9: =C9 -> Počet z C.2. Situace
A10: 2 | B10: 112201103R00 | C10: Odstranění pařezů pod úrovní, o průměru 50 - 70 cm | D10: kus | E10: 3 | G10: =ROUND(E10*F10,2) -> 0 | I10: =ROUND(E10*H10,2) -> 0 | K10: =ROUND(E10*J10,2) -> 0 | L10: 21 | M10: =G10*(1+L10/100) -> 0 | N10: 0.0001 | O10: =ROUND(E10*N10,2) -> 0 | P10: 0 | Q10: =ROUND(E10*P10,2) -> 0 | R10: 800-1 | S10: RTS 17/ I | T10: 2.562 | U10: =ROUND(E10*T10,2) -> 7.69 | AG10: POL1_1
A11: 3 | B11: 162301402R00 | C11: Vod.přemístění větví listnatých, D 50cm do 5000 m | D11: kus | E11: 2 | G11: =ROUND(E11*F11,2) -> 0 | I11: =ROUND(E11*H11,2) -> 0 | K11: =ROUND(E11*J11,2) -> 0 | L11: 21 | M11: =G11*(1+L11/100) -> 0 | N11: 0 | O11: =ROUND(E11*N11,2) -> 0 | P11: 0 | Q11: =ROUND(E11*P11,2) -> 0 | R11: 800-1 | S11: RTS 17/ I | T11: 0.245 | U11: =ROUND(E11*T11,2) -> 0.49 | AG11: POL1_1
A12: 4 | B12: 162301403R00 | C12: Vod.přemístění větví listnatých, D 70cm do 5000 m | D12: kus | E12: 1 | G12: =ROUND(E12*F12,2) -> 0 | I12: =ROUND(E12*H12,2) -> 0 | K12: =ROUND(E12*J12,2) -> 0 | L12: 21 | M12: =G12*(1+L12/100) -> 0 | N12: 0 | O12: =ROUND(E12*N12,2) -> 0 | P12: 0 | Q12: =ROUND(E12*P12,2) -> 0 | R12: 800-1 | S12: RTS 17/ I | T12: 0.658 | U12: =ROUND(E12*T12,2) -> 0.66 | AG12: POL1_1
A13: 5 | B13: 162301423R00 | C13: Vodorovné přemístění pařezů D 70 cm do 5000 m | D13: kus | E13: 3 | G13: =ROUND(E13*F13,2) -> 0 | I13: =ROUND(E13*H13,2) -> 0 | K13: =ROUND(E13*J13,2) -> 0 | L13: 21 | M13: =G13*(1+L13/100) -> 0 | N13: 0 | O13: =ROUND(E13*N13,2) -> 0 | P13: 0 | Q13: =ROUND(E13*P13,2) -> 0 | R13: 800-1 | S13: RTS 17/ I | T13: 0.555 | U13: =ROUND(E13*T13,2) -> 1.67 | AG13: POL1_1
A14: 6 | B14: 162301402R00 | C14: Vod.přemístění větví listnatých, D 50cm do 5000 m | D14: kus | E14: 2 | G14: =ROUND(E14*F14,2) -> 0 | I14: =ROUND(E14*H14,2) -> 0 | K14: =ROUND(E14*J14,2) -> 0 | L14: 21 | M14: =G14*(1+L14/100) -> 0 | N14: 0 | O14: =ROUND(E14*N14,2) -> 0 | P14: 0 | Q14: =ROUND(E14*P14,2) -> 0 | R14: 800-1 | S14: RTS 17/ I | T14: 0.245 | U14: =ROUND(E14*T14,2) -> 0.49 | AG14: POL1_1
A15: 7 | B15: 162301403R00 | C15: Vod.přemístění větví listnatých, D 70cm do 5000 m | D15: kus | E15: 1 | G15: =ROUND(E15*F15,2) -> 0 | I15: =ROUND(E15*H15,2) -> 0 | K15: =ROUND(E15*J15,2) -> 0 | L15: 21 | M15: =G15*(1+L15/100) -> 0 | N15: 0 | O15: =ROUND(E15*N15,2) -> 0 | P15: 0 | Q15: =ROUND(E15*P15,2) -> 0 | R15: 800-1 | S15: RTS 17/ I | T15: 0.658 | U15: =ROUND(E15*T15,2) -> 0.66 | AG15: POL1_1
A16: 8 | B16: 174201203R00 | C16: Zásyp jam po pařezech D 70 cm | D16: kus | E16: 3 | G16: =ROUND(E16*F16,2) -> 0 | I16: =ROUND(E16*H16,2) -> 0 | K16: =ROUND(E16*J16,2) -> 0 | L16: 21 | M16: =G16*(1+L16/100) -> 0 | N16: 0 | O16: =ROUND(E16*N16,2) -> 0 | P16: 0 | Q16: =ROUND(E16*P16,2) -> 0 | R16: 800-1 | S16: RTS 17/ I | T16: 1.43 | U16: =ROUND(E16*T16,2) -> 4.29 | AG16: POL1_1
A17: 9 | B17: 919735112R00 | C17: Řezání stávajícího živičného krytu tl. 5 - 10 cm | D17: m | E17: 30 | G17: =ROUND(E17*F17,2) -> 0 | I17: =ROUND(E17*H17,2) -> 0 | K17: =ROUND(E17*J17,2) -> 0 | L17: 21 | M17: =G17*(1+L17/100) -> 0 | N17: 0 | O17: =ROUND(E17*N17,2) -> 0 | P17: 0 | Q17: =ROUND(E17*P17,2) -> 0 | R17: 822-1 | S17: RTS 17/ I | T17: 0.037 | U17: =ROUND(E17*T17,2) -> 1.11 | AG17: POL1_1
C18: Délka z C.2. Situace | AG18: POP | BA18: =C18 -> Délka z C.2. Situace
A19: 10 | B19: 1131511191.R0 | C19: Fréz.živič.krytu pl.do 500 m2,tl.10cm | D19: m2 | E19: 162 | G19: =ROUND(E19*F19,2) -> 0 | I19: =ROUND(E19*H19,2) -> 0 | K19: =ROUND(E19*J19,2) -> 0 | L19: 21 | M19: =G19*(1+L19/100) -> 0 | N19: 0 | O19: =ROUND(E19*N19,2) -> 0 | P19: 0.12 | Q19: =ROUND(E19*P19,2) -> 19.44 | S19: Vlastní | T19: 0 | U19: =ROUND(E19*T19,2) -> 0 | AG19: POL1_1
C20: Plocha z C.2. Situace | AG20: POP | BA20: =C20 -> Plocha z C.2. Situace
A21: 11 | B21: 113107630R00 | C21: Odstranění podkladu nad 50 m2,kam.drcené tl.30 cm | D21: m2 | E21: 157.3 | G21: =ROUND(E21*F21,2) -> 0 | I21: =ROUND(E21*H21,2) -> 0 | K21: =ROUND(E21*J21,2) -> 0 | L21: 21 | M21: =G21*(1+L21/100) -> 0 | N21: 0 | O21: =ROUND(E21*N21,2) -> 0 | P21: 0.66 | Q21: =ROUND(E21*P21,2) -> 103.82 | R21: 822-1 | S21: RTS 17/ I | T21: 0.119 | U21: =ROUND(E21*T21,2) -> 18.72 | AG21: POL1_1
C22: 143x1,1 | AG22: POP | BA22: =C22 -> 143x1,1
A23: 12 | B23: 122202201R00 | C23: Odkopávky pro silnice v hor. 3 do 100 m3 | D23: m3 | E23: 91 | G23: =ROUND(E23*F23,2) -> 0 | I23: =ROUND(E23*H23,2) -> 0 | K23: =ROUND(E23*J23,2) -> 0 | L23: 21 | M23: =G23*(1+L23/100) -> 0 | N23: 0 | O23: =ROUND(E23*N23,2) -> 0 | P23: 0 | Q23: =ROUND(E23*P23,2) -> 0 | R23: 800-1 | S23: RTS 17/ I | T23: 0.422 | U23: =ROUND(E23*T23,2) -> 38.4 | AG23: POL1_1
C24: Zemní pláň 202x0,45 | AG24: POP | BA24: =C24 -> Zemní pláň 202x0,45
A25: 13 | B25: 120001101R00 | C25: Příplatek za ztížení vykopávky v blízkosti vedení | D25: m3 | E25: 11 | G25: =ROUND(E25*F25,2) -> 0 | I25: =ROUND(E25*H25,2) -> 0 | K25: =ROUND(E25*J25,2) -> 0 | L25: 21 | M25: =G25*(1+L25/100) -> 0 | N25: 0 | O25: =ROUND(E25*N25,2) -> 0 | P25: 0 | Q25: =ROUND(E25*P25,2) -> 0 | R25: 800-1 | S25: RTS 17/ I | T25: 1.548 | U25: =ROUND(E25*T25,2) -> 17.03 | AG25: POL1_1
A26: 14 | B26: 132201110R00 | C26: Hloubení rýh š.do 60 cm v hor.3 do 50 m3, STROJNĚ | D26: m3 | E26: 14 | G26: =ROUND(E26*F26,2) -> 0 | I26: =ROUND(E26*H26,2) -> 0 | K26: =ROUND(E26*J26,2) -> 0 | L26: 21 | M26: =G26*(1+L26/100) -> 0 | N26: 0 | O26: =ROUND(E26*N26,2) -> 0 | P26: 0 | Q26: =ROUND(E26*P26,2) -> 0 | R26: 800-1 | S26: RTS 17/ I | T26: 0.365 | U26: =ROUND(E26*T26,2) -> 5.11 | AG26: POL1_1
C27: Příkop 1x0,5x28 | AG27: POP | BA27: =C27 -> Příkop 1x0,5x28
A28: 15 | B28: 139601102R00 | C28: Ruční výkop jam, rýh a šachet v hornině tř. 3 | D28: m3 | E28: 15 | G28: =ROUND(E28*F28,2) -> 0 | I28: =ROUND(E28*H28,2) -> 0 | K28: =ROUND(E28*J28,2) -> 0 | L28: 21 | M28: =G28*(1+L28/100) -> 0 | N28: 0 | O28: =ROUND(E28*N28,2) -> 0 | P28: 0 | Q28: =ROUND(E28*P28,2) -> 0 | R28: 800-1 | S28: RTS 17/ I | T28: 3.533 | U28: =ROUND(E28*T28,2) -> 53 | AG28: POL1_1
C29: Vedení SEK 30x0,5x1 | AG29: POP | BA29: =C29 -> Vedení SEK 30x0,5x1
A30: 16 | B30: 130001101R00 | C30: Příplatek za ztížené hloubení v blízkosti vedení | D30: m3 | E30: 5 | G30: =ROUND(E30*F30,2) -> 0 | I30: =ROUND(E30*H30,2) -> 0 | K30: =ROUND(E30*J30,2) -> 0 | L30: 21 | M30: =G30*(1+L30/100) -> 0 | N30: 0 | O30: =ROUND(E30*N30,2) -> 0 | P30: 0 | Q30: =ROUND(E30*P30,2) -> 0 | R30: 800-1 | S30: RTS 17/ I | T30: 1.763 | U30: =ROUND(E30*T30,2) -> 8.82 | AG30: POL1_1
C31: 5,4x0,3 | AG31: POP | BA31: =C31 -> 5,4x0,3
A32: 17 | B32: 174101101R00 | C32: Zásyp jam, rýh, šachet se zhutněním | D32: m3 | E32: 12 | G32: =ROUND(E32*F32,2) -> 0 | I32: =ROUND(E32*H32,2) -> 0 | K32: =ROUND(E32*J32,2) -> 0 | L32: 21 | M32: =G32*(1+L32/100) -> 0 | N32: 0 | O32: =ROUND(E32*N32,2) -> 0 | P32: 0 | Q32: =ROUND(E32*P32,2) -> 0 | R32: 800-1 | S32: RTS 17/ I | T32: 0.202 | U32: =ROUND(E32*T32,2) -> 2.42 | AG32: POL1_1
C33: 15x0,8 | AG33: POP | BA33: =C33 -> 15x0,8
A34: 18 | B34: 583412034R | C34: Kamenivo drcené frakce 0/4 B Olomoucký kraj | D34: T | E34: 5.3 | G34: =ROUND(E34*F34,2) -> 0 | I34: =ROUND(E34*H34,2) -> 0 | K34: =ROUND(E34*J34,2) -> 0 | L34: 21 | M34: =G34*(1+L34/100) -> 0 | N34: 1 | O34: =ROUND(E34*N34,2) -> 5.3 | P34: 0 | Q34: =ROUND(E34*P34,2) -> 0 | R34: SPCM | S34: RTS 17/ I | T34: 0 | U34: =ROUND(E34*T34,2) -> 0 | AG34: POL3_0
C35: 12x2,2x0,2 | AG35: POP | BA35: =C35 -> 12x2,2x0,2
A36: 19 | B36: 58344198R | C36: Štěrkodrtě frakce 0-63 B | D36: T | E36: 21.1 | G36: =ROUND(E36*F36,2) -> 0 | I36: =ROUND(E36*H36,2) -> 0 | K36: =ROUND(E36*J36,2) -> 0 | L36: 21 | M36: =G36*(1+L36/100) -> 0 | N36: 1 | O36: =ROUND(E36*N36,2) -> 21.1 | P36: 0 | Q36: =ROUND(E36*P36,2) -> 0 | R36: SPCM | S36: RTS 17/ I | T36: 0 | U36: =ROUND(E36*T36,2) -> 0 | AG36: POL3_0
C37: 12x2,2x0,8 | AG37: POP | BA37: =C37 -> 12x2,2x0,8
A38: 20 | B38: 174101101R00 | C38: Zásyp jam, rýh, šachet se zhutněním | D38: m3 | E38: 34 | G38: =ROUND(E38*F38,2) -> 0 | I38: =ROUND(E38*H38,2) -> 0 | K38: =ROUND(E38*J38,2) -> 0 | L38: 21 | M38: =G38*(1+L38/100) -> 0 | N38: 0 | O38: =ROUND(E38*N38,2) -> 0 | P38: 0 | Q38: =ROUND(E38*P38,2) -> 0 | R38: 800-1 | S38: RTS 17/ I | T38: 0.202 | U38: =ROUND(E38*T38,2) -> 6.87 | AG38: POL1_1
C39: Zásyp za zrušenou komunikaci 112x0,3 | AG39: POP | BA39: =C39 -> Zásyp za zrušenou komunikaci 112x0,3
A40: 21 | B40: 181101102R00 | C40: Úprava pláně v zářezech v hor. 1-4, se zhutněním | D40: m2 | E40: 245 | G40: =ROUND(E40*F40,2) -> 0 | I40: =ROUND(E40*H40,2) -> 0 | K40: =ROUND(E40*J40,2) -> 0 | L40: 21 | M40: =G40*(1+L40/100) -> 0 | N40: 0 | O40: =ROUND(E40*N40,2) -> 0 | P40: 0 | Q40: =ROUND(E40*P40,2) -> 0 | R40: 800-1 | S40: RTS 17/ I | T40: 0.018 | U40: =ROUND(E40*T40,2) -> 4.41 | AG40: POL1_1
C41: 44+201 | AG41: POP | BA41: =C41 -> 44+201
A42: 22 | B42: 162701105R00 | C42: Vodorovné přemístění výkopku z hor.1-4 do 10000 m | D42: m3 | E42: 86 | G42: =ROUND(E42*F42,2) -> 0 | I42: =ROUND(E42*H42,2) -> 0 | K42: =ROUND(E42*J42,2) -> 0 | L42: 21 | M42: =G42*(1+L42/100) -> 0 | N42: 0 | O42: =ROUND(E42*N42,2) -> 0 | P42: 0 | Q42: =ROUND(E42*P42,2) -> 0 | R42: 800-1 | S42: RTS 17/ I | T42: 0.011 | U42: =ROUND(E42*T42,2) -> 0.95 | AG42: POL1_1
C43: 91+15+14-34 | AG43: POP | BA43: =C43 -> 91+15+14-34
A44: 23 | B44: 171201201R00 | C44: Uložení sypaniny na skl.-modelace na výšku přes 2m | D44: m3 | E44: 86 | G44: =ROUND(E44*F44,2) -> 0 | I44: =ROUND(E44*H44,2) -> 0 | K44: =ROUND(E44*J44,2) -> 0 | L44: 21 | M44: =G44*(1+L44/100) -> 0 | N44: 0 | O44: =ROUND(E44*N44,2) -> 0 | P44: 0 | Q44: =ROUND(E44*P44,2) -> 0 | R44: 800-1 | S44: RTS 17/ I | T44: 0.009 | U44: =ROUND(E44*T44,2) -> 0.77 | AG44: POL1_1
A45: 24 | B45: 199000002R00 | C45: Poplatek za skládku horniny 1- 4 | D45: m3 | E45: 86 | G45: =ROUND(E45*F45,2) -> 0 | I45: =ROUND(E45*H45,2) -> 0 | K45: =ROUND(E45*J45,2) -> 0 | L45: 21 | M45: =G45*(1+L45/100) -> 0 | N45: 0 | O45: =ROUND(E45*N45,2) -> 0 | P45: 0 | Q45: =ROUND(E45*P45,2) -> 0 | R45: 800-1 | S45: RTS 17/ I | T45: 0 | U45: =ROUND(E45*T45,2) -> 0 | AG45: POL1_1
A46: 25 | B46: 182001111R00 | C46: Plošná úprava terénu, nerovnosti do 10 cm v rovině | D46: m2 | E46: 200 | G46: =ROUND(E46*F46,2) -> 0 | I46: =ROUND(E46*H46,2) -> 0 | K46: =ROUND(E46*J46,2) -> 0 | L46: 21 | M46: =G46*(1+L46/100) -> 0 | N46: 0 | O46: =ROUND(E46*N46,2) -> 0 | P46: 0 | Q46: =ROUND(E46*P46,2) -> 0 | R46: 823-1 | S46: RTS 17/ I | T46: 0.09 | U46: =ROUND(E46*T46,2) -> 18 | AG46: POL1_1
C47: Plocha z C.2. Situace | AG47: POP | BA47: =C47 -> Plocha z C.2. Situace
A48: 26 | B48: 181301101R00 | C48: Rozprostření ornice, rovina, tl. do 10 cm do 500m2 | D48: m2 | E48: 200 | G48: =ROUND(E48*F48,2) -> 0 | I48: =ROUND(E48*H48,2) -> 0 | K48: =ROUND(E48*J48,2) -> 0 | L48: 21 | M48: =G48*(1+L48/100) -> 0 | N48: 0 | O48: =ROUND(E48*N48,2) -> 0 | P48: 0 | Q48: =ROUND(E48*P48,2) -> 0 | R48: 800-1 | S48: RTS 17/ I | T48: 0.13 | U48: =ROUND(E48*T48,2) -> 26 | AG48: POL1_1
A49: 27 | B49: 10364200R | C49: Ornice pro pozemkové úpravy | D49: m3 | E49: 20 | G49: =ROUND(E49*F49,2) -> 0 | I49: =ROUND(E49*H49,2) -> 0 | K49: =ROUND(E49*J49,2) -> 0 | L49: 21 | M49: =G49*(1+L49/100) -> 0 | N49: 1.67 | O49: =ROUND(E49*N49,2) -> 33.4 | P49: 0 | Q49: =ROUND(E49*P49,2) -> 0 | R49: SPCM | S49: RTS 17/ I | T49: 0 | U49: =ROUND(E49*T49,2) -> 0 | AG49: POL3_0
C50: 200x0,1 | AG50: POP | BA50: =C50 -> 200x0,1
C51: Možno použít ornici ze stavby chodníků | AG51: POP | BA51: =C51 -> Možno použít ornici ze stavby chodníků
A52: 28 | B52: 180402111R00 | C52: Založení trávníku parkového výsevem v rovině | D52: m2 | E52: 200 | G52: =ROUND(E52*F52,2) -> 0 | I52: =ROUND(E52*H52,2) -> 0 | K52: =ROUND(E52*J52,2) -> 0 | L52: 21 | M52: =G52*(1+L52/100) -> 0 | N52: 0 | O52: =ROUND(E52*N52,2) -> 0 | P52: 0 | Q52: =ROUND(E52*P52,2) -> 0 | R52: 823-1 | S52: RTS 17/ I | T52: 0.06 | U52: =ROUND(E52*T52,2) -> 12 | AG52: POL1_1
C53: Plocha z C.2. Situace | AG53: POP | BA53: =C53 -> Plocha z C.2. Situace
A54: 29 | B54: 00572410R | C54: Směs travní parková II. mírná zátěž PROFI | D54: kg | E54: 5 | G54: =ROUND(E54*F54,2) -> 0 | I54: =ROUND(E54*H54,2) -> 0 | K54: =ROUND(E54*J54,2) -> 0 | L54: 21 | M54: =G54*(1+L54/100) -> 0 | N54: 0.001 | O54: =ROUND(E54*N54,2) -> 0.01 | P54: 0 | Q54: =ROUND(E54*P54,2) -> 0 | R54: SPCM | S54: RTS 17/ I | T54: 0 | U54: =ROUND(E54*T54,2) -> 0 | AG54: POL3_0
C55: 200x0,025 kg/m2 | AG55: POP | BA55: =C55 -> 200x0,025 kg/m2
A56: 30 | B56: 9351111111.R0 | C56: Demontážpřík. žlabu do štěrkopísku z tvárnic 50 cm | D56: m | E56: 25 | G56: =ROUND(E56*F56,2) -> 0 | I56: =ROUND(E56*H56,2) -> 0 | K56: =ROUND(E56*J56,2) -> 0 | L56: 21 | M56: =G56*(1+L56/100) -> 0 | N56: 0.07285 | O56: =ROUND(E56*N56,2) -> 1.82 | P56: 0 | Q56: =ROUND(E56*P56,2) -> 0 | S56: Vlastní | T56: 0 | U56: =ROUND(E56*T56,2) -> 0 | AG56: POL1_1
C57: Délka z C.2. Situace | AG57: POP | BA57: =C57 -> Délka z C.2. Situace
A58: 31 | B58: R-pol | C58: Demontáž horské vpusti | D58: kus | E58: 1 | G58: =ROUND(E58*F58,2) -> 0 | I58: =ROUND(E58*H58,2) -> 0 | K58: =ROUND(E58*J58,2) -> 0 | L58: 21 | M58: =G58*(1+L58/100) -> 0 | N58: 0 | O58: =ROUND(E58*N58,2) -> 0 | P58: 0 | Q58: =ROUND(E58*P58,2) -> 0 | S58: Vlastní | T58: 0 | U58: =ROUND(E58*T58,2) -> 0 | AG58: POL3_
C59: Počet z C.2. Situace | AG59: POP | BA59: =C59 -> Počet z C.2. Situace
A60: 32 | B60: 938908411R00 | C60: Očištění povrchu krytu saponátovým roztokem | D60: m2 | E60: 18 | G60: =ROUND(E60*F60,2) -> 0 | I60: =ROUND(E60*H60,2) -> 0 | K60: =ROUND(E60*J60,2) -> 0 | L60: 21 | M60: =G60*(1+L60/100) -> 0 | N60: 1e-05 | O60: =ROUND(E60*N60,2) -> 0 | P60: 0 | Q60: =ROUND(E60*P60,2) -> 0 | R60: 822-1 | S60: RTS 17/ I | T60: 0.016 | U60: =ROUND(E60*T60,2) -> 0.29 | AG60: POL1_1
A61: Díl: | B61: 5 | C61: Komunikace | G61: =SUMIF(AG62:AG89,"<>NOR",G62:G89) -> 0 | I61: =SUM(I62:I89) -> 0 | K61: =SUM(K62:K89) -> 0 | M61: =SUM(M62:M89) -> 0 | O61: =SUM(O62:O89) -> 253.88 | Q61: =SUM(Q62:Q89) -> 0 | U61: =SUM(U62:U89) -> 48.85 | AG61: DIL
A62: 33 | B62: 577141212R00 | C62: Beton asfalt. ACO 11, do 3 m, tl.5 cm | D62: m2 | E62: 184 | G62: =ROUND(E62*F62,2) -> 0 | I62: =ROUND(E62*H62,2) -> 0 | K62: =ROUND(E62*J62,2) -> 0 | L62: 21 | M62: =G62*(1+L62/100) -> 0 | N62: 0.12715 | O62: =ROUND(E62*N62,2) -> 23.4 | P62: 0 | Q62: =ROUND(E62*P62,2) -> 0 | R62: 822-1 | S62: RTS 17/ I | T62: 0.072 | U62: =ROUND(E62*T62,2) -> 13.25 | AG62: POL1_1
C63: Plocha z C.2. Situace | AG63: POP | BA63: =C63 -> Plocha z C.2. Situace
C64: 166+18 | AG64: POP | BA64: =C64 -> 166+18
A65: 34 | B65: 573231111R00 | C65: Postřik živičný spojovací z emulze 0,5-0,7 kg/m2 | D65: m2 | E65: 184 | G65: =ROUND(E65*F65,2) -> 0 | I65: =ROUND(E65*H65,2) -> 0 | K65: =ROUND(E65*J65,2) -> 0 | L65: 21 | M65: =G65*(1+L65/100) -> 0 | N65: 0.00071 | O65: =ROUND(E65*N65,2) -> 0.13 | P65: 0 | Q65: =ROUND(E65*P65,2) -> 0 | R65: 822-1 | S65: RTS 17/ I | T65: 0.002 | U65: =ROUND(E65*T65,2) -> 0.37 | AG65: POL1_1
A66: 35 | B66: 5771411221.R0 | C66: Beton asfalt. ACP 16, š. do 3 m, tl. 5 cm | D66: m2 | E66: 184 | G66: =ROUND(E66*F66,2) -> 0 | I66: =ROUND(E66*H66,2) -> 0 | K66: =ROUND(E66*J66,2) -> 0 | L66: 21 | M66: =G66*(1+L66/100) -> 0 | N66: 0.12966 | O66: =ROUND(E66*N66,2) -> 23.86 | P66: 0 | Q66: =ROUND(E66*P66,2) -> 0 | S66: Vlastní | T66: 0 | U66: =ROUND(E66*T66,2) -> 0 | AG66: POL1_1
A67: 36 | B67: 573111113R00 | C67: Postřik živičný infiltr.+ posyp, asfalt 1,5 kg/m2 | D67: m2 | E67: 184 | G67: =ROUND(E67*F67,2) -> 0 | I67: =ROUND(E67*H67,2) -> 0 | K67: =ROUND(E67*J67,2) -> 0 | L67: 21 | M67: =G67*(1+L67/100) -> 0 | N67: 0.00652 | O67: =ROUND(E67*N67,2) -> 1.2 | P67: 0 | Q67: =ROUND(E67*P67,2) -> 0 | R67: 822-1 | S67: RTS 17/ I | T67: 0.004 | U67: =ROUND(E67*T67,2) -> 0.74 | AG67: POL1_1
A68: 37 | B68: 5671221141.R0 | C68: Podklad z kameniva zpev.cementem ŠCM 1 tl.15 cm | D68: m2 | E68: 183 | G68: =ROUND(E68*F68,2) -> 0 | I68: =ROUND(E68*H68,2) -> 0 | K68: =ROUND(E68*J68,2) -> 0 | L68: 21 | M68: =G68*(1+L68/100) -> 0 | N68: 0.38314 | O68: =ROUND(E68*N68,2) -> 70.11 | P68: 0 | Q68: =ROUND(E68*P68,2) -> 0 | S68: Vlastní | T68: 0 | U68: =ROUND(E68*T68,2) -> 0 | AG68: POL1_1
C69: 166x1,1 | AG69: POP | BA69: =C69 -> 166x1,1
A70: 38 | B70: 564851115R00 | C70: Podklad ze štěrkodrti po zhutnění tloušťky 19 cm | D70: m2 | E70: 201 | G70: =ROUND(E70*F70,2) -> 0 | I70: =ROUND(E70*H70,2) -> 0 | K70: =ROUND(E70*J70,2) -> 0 | L70: 21 | M70: =G70*(1+L70/100) -> 0 | N70: 0.35263 | O70: =ROUND(E70*N70,2) -> 70.88 | P70: 0 | Q70: =ROUND(E70*P70,2) -> 0 | R70: 822-1 | S70: RTS 17/ I | T70: 0.029 | U70: =ROUND(E70*T70,2) -> 5.83 | AG70: POL1_1
C71: ŠDA 0/63 | AG71: POP | BA71: =C71 -> ŠDA 0/63
C72: 183x1,1 | AG72: POP | BA72: =C72 -> 183x1,1
A73: 39 | B73: 919721211R00 | C73: Dilatační spáry vkládané vyplněné asfalt. zálivkou | D73: m | E73: 20 | G73: =ROUND(E73*F73,2) -> 0 | I73: =ROUND(E73*H73,2) -> 0 | K73: =ROUND(E73*J73,2) -> 0 | L73: 21 | M73: =G73*(1+L73/100) -> 0 | N73: 0.0043 | O73: =ROUND(E73*N73,2) -> 0.09 | P73: 0 | Q73: =ROUND(E73*P73,2) -> 0 | R73: 822-1 | S73: RTS 17/ I | T73: 0.208 | U73: =ROUND(E73*T73,2) -> 4.16 | AG73: POL1_1
C74: Délka z C.2. Situace | AG74: POP | BA74: =C74 -> Délka z C.2. Situace
A75: 40 | B75: 596215040R00 | C75: Kladení zámkové dlažby tl. 8 cm do drtě tl. 4 cm | D75: m2 | E75: 36 | G75: =ROUND(E75*F75,2) -> 0 | I75: =ROUND(E75*H75,2) -> 0 | K75: =ROUND(E75*J75,2) -> 0 | L75: 21 | M75: =G75*(1+L75/100) -> 0 | N75: 0.0739 | O75: =ROUND(E75*N75,2) -> 2.66 | P75: 0 | Q75: =ROUND(E75*P75,2) -> 0 | R75: 822-1 | S75: RTS 17/ I | T75: 0.478 | U75: =ROUND(E75*T75,2) -> 17.21 | AG75: POL1_1
C76: Plocha z C.2. Situace | AG76: POP | BA76: =C76 -> Plocha z C.2. Situace
A77: 41 | B77: 592451171.1 | C77: Dlažba zámková 20x10x8 cm červená | D77: m2 | E77: 36 | G77: =ROUND(E77*F77,2) -> 0 | I77: =ROUND(E77*H77,2) -> 0 | K77: =ROUND(E77*J77,2) -> 0 | L77: 21 | M77: =G77*(1+L77/100) -> 0 | N77: 0.17245 | O77: =ROUND(E77*N77,2) -> 6.21 | P77: 0 | Q77: =ROUND(E77*P77,2) -> 0 | S77: Vlastní | T77: 0 | U77: =ROUND(E77*T77,2) -> 0 | AG77: POL3_0
A78: 42 | B78: 567122111R00 | C78: Podklad z kameniva zpev.cementem KZC 1 tl.12 cm | D78: m2 | E78: 40 | G78: =ROUND(E78*F78,2) -> 0 | I78: =ROUND(E78*H78,2) -> 0 | K78: =ROUND(E78*J78,2) -> 0 | L78: 21 | M78: =G78*(1+L78/100) -> 0 | N78: 0.30651 | O78: =ROUND(E78*N78,2) -> 12.26 | P78: 0 | Q78: =ROUND(E78*P78,2) -> 0 | R78: 822-1 | S78: RTS 17/ I | T78: 0.025 | U78: =ROUND(E78*T78,2) -> 1 | AG78: POL1_1
C79: 36x1,1 | AG79: POP | BA79: =C79 -> 36x1,1
A80: 43 | B80: 564851115R00 | C80: Podklad ze štěrkodrti po zhutnění tloušťky 19 cm | D80: m2 | E80: 44 | G80: =ROUND(E80*F80,2) -> 0 | I80: =ROUND(E80*H80,2) -> 0 | K80: =ROUND(E80*J80,2) -> 0 | L80: 21 | M80: =G80*(1+L80/100) -> 0 | N80: 0.35263 | O80: =ROUND(E80*N80,2) -> 15.52 | P80: 0 | Q80: =ROUND(E80*P80,2) -> 0 | R80: 822-1 | S80: RTS 17/ I | T80: 0.029 | U80: =ROUND(E80*T80,2) -> 1.28 | AG80: POL1_1
C81: ŠDA 0/63 | AG81: POP | BA81: =C81 -> ŠDA 0/63
C82: 40x1,1 | AG82: POP | BA82: =C82 -> 40x1,1
A83: 44 | B83: 9178621111R0T00 | C83: Osazení stojat. obrub.bet. s opěrou,lože z C 20/25 | D83: m | E83: 103 | G83: =ROUND(E83*F83,2) -> 0 | I83: =ROUND(E83*H83,2) -> 0 | K83: =ROUND(E83*J83,2) -> 0 | L83: 21 | M83: =G83*(1+L83/100) -> 0 | N83: 0.14424 | O83: =ROUND(E83*N83,2) -> 14.86 | P83: 0 | Q83: =ROUND(E83*P83,2) -> 0 | S83: Vlastní | T83: 0 | U83: =ROUND(E83*T83,2) -> 0 | AG83: POL1_1
C84: Délka z C.2. Situace | AG84: POP | BA84: =C84 -> Délka z C.2. Situace
A85: 45 | B85: 59217472R | C85: Obrubník silniční 1000/150/250 šedý | D85: kus | E85: 75 | G85: =ROUND(E85*F85,2) -> 0 | I85: =ROUND(E85*H85,2) -> 0 | K85: =ROUND(E85*J85,2) -> 0 | L85: 21 | M85: =G85*(1+L85/100) -> 0 | N85: 0.08 | O85: =ROUND(E85*N85,2) -> 6 | P85: 0 | Q85: =ROUND(E85*P85,2) -> 0 | R85: SPCM | S85: RTS 17/ I | T85: 0 | U85: =ROUND(E85*T85,2) -> 0 | AG85: POL3_0
A86: 46 | B86: 59217476R | C86: Obrubník silniční nájezdový 1000/150/150 šedý | D86: kus | E86: 4 | G86: =ROUND(E86*F86,2) -> 0 | I86: =ROUND(E86*H86,2) -> 0 | K86: =ROUND(E86*J86,2) -> 0 | L86: 21 | M86: =G86*(1+L86/100) -> 0 | N86: 0.048 | O86: =ROUND(E86*N86,2) -> 0.19 | P86: 0 | Q86: =ROUND(E86*P86,2) -> 0 | R86: SPCM | S86: RTS 17/ I | T86: 0 | U86: =ROUND(E86*T86,2) -> 0 | AG86: POL3_0
A87: 47 | B87: 59217001R | C87: Obrubník parkový betonový 100x250x1000 mm | D87: kus | E87: 24 | G87: =ROUND(E87*F87,2) -> 0 | I87: =ROUND(E87*H87,2) -> 0 | K87: =ROUND(E87*J87,2) -> 0 | L87: 21 | M87: =G87*(1+L87/100) -> 0 | N87: 0.051 | O87: =ROUND(E87*N87,2) -> 1.22 | P87: 0 | Q87: =ROUND(E87*P87,2) -> 0 | R87: SPCM | S87: RTS 17/ I | T87: 0 | U87: =ROUND(E87*T87,2) -> 0 | AG87: POL3_0
A88: 48 | B88: 935111111R00 | C88: Osazení přík. žlabu do štěrkopísku z tvárnic 50 cm | D88: m | E88: 28 | G88: =ROUND(E88*F88,2) -> 0 | I88: =ROUND(E88*H88,2) -> 0 | K88: =ROUND(E88*J88,2) -> 0 | L88: 21 | M88: =G88*(1+L88/100) -> 0 | N88: 0.07285 | O88: =ROUND(E88*N88,2) -> 2.04 | P88: 0 | Q88: =ROUND(E88*P88,2) -> 0 | R88: 822-1 | S88: RTS 17/ I | T88: 0.179 | U88: =ROUND(E88*T88,2) -> 5.01 | AG88: POL1_1
A89: 49 | B89: 59227516R | C89: Žlab odvodňovací TBZ 50/50/13 | D89: kus | E89: 56 | G89: =ROUND(E89*F89,2) -> 0 | I89: =ROUND(E89*H89,2) -> 0 | K89: =ROUND(E89*J89,2) -> 0 | L89: 21 | M89: =G89*(1+L89/100) -> 0 | N89: 0.058 | O89: =ROUND(E89*N89,2) -> 3.25 | P89: 0 | Q89: =ROUND(E89*P89,2) -> 0 | R89: SPCM | S89: RTS 17/ I | T89: 0 | U89: =ROUND(E89*T89,2) -> 0 | AG89: POL3_0
A90: Díl: | B90: 8 | C90: Trubní vedení | G90: =SUMIF(AG91:AG94,"<>NOR",G91:G94) -> 0 | I90: =SUM(I91:I94) -> 0 | K90: =SUM(K91:K94) -> 0 | M90: =SUM(M91:M94) -> 0 | O90: =SUM(O91:O94) -> 1.06 | Q90: =SUM(Q91:Q94) -> 0 | U90: =SUM(U91:U94) -> 6.92 | AG90: DIL
A91: 50 | B91: 899431111R00 | C91: Výšková úprava do 20 cm, zvýšení krytu šoupěte | D91: kus | E91: 2 | G91: =ROUND(E91*F91,2) -> 0 | I91: =ROUND(E91*H91,2) -> 0 | K91: =ROUND(E91*J91,2) -> 0 | L91: 21 | M91: =G91*(1+L91/100) -> 0 | N91: 0.3159 | O91: =ROUND(E91*N91,2) -> 0.63 | P91: 0 | Q91: =ROUND(E91*P91,2) -> 0 | R91: 822-1 | S91: RTS 17/ I | T91: 1.551 | U91: =ROUND(E91*T91,2) -> 3.1 | AG91: POL1_1
C92: Počet z C.2. Situace | AG92: POP | BA92: =C92 -> Počet z C.2. Situace
A93: 51 | B93: 899331111R00 | C93: Výšková úprava vstupu do 20 cm, zvýšení poklopu | D93: kus | E93: 1 | G93: =ROUND(E93*F93,2) -> 0 | I93: =ROUND(E93*H93,2) -> 0 | K93: =ROUND(E93*J93,2) -> 0 | L93: 21 | M93: =G93*(1+L93/100) -> 0 | N93: 0.43094 | O93: =ROUND(E93*N93,2) -> 0.43 | P93: 0 | Q93: =ROUND(E93*P93,2) -> 0 | R93: 822-1 | S93: RTS 17/ I | T93: 3.817 | U93: =ROUND(E93*T93,2) -> 3.82 | AG93: POL1_1
C94: Počet z C.2. Situace | AG94: POP | BA94: =C94 -> Počet z C.2. Situace
A95: Díl: | B95: 91 | C95: Doplňující práce na komunikaci | G95: =SUMIF(AG96:AG107,"<>NOR",G96:G107) -> 0 | I95: =SUM(I96:I107) -> 0 | K95: =SUM(K96:K107) -> 0 | M95: =SUM(M96:M107) -> 0 | O95: =SUM(O96:O107) -> 1.51 | Q95: =SUM(Q96:Q107) -> 0.33 | U95: =SUM(U96:U107) -> 7.26 | AG95: DIL
A96: 52 | B96: 966006132R00 | C96: Odstranění doprav.značek se sloupky, s bet.patkami | D96: kus | E96: 4 | G96: =ROUND(E96*F96,2) -> 0 | I96: =ROUND(E96*H96,2) -> 0 | K96: =ROUND(E96*J96,2) -> 0 | L96: 21 | M96: =G96*(1+L96/100) -> 0 | N96: 0 | O96: =ROUND(E96*N96,2) -> 0 | P96: 0.082 | Q96: =ROUND(E96*P96,2) -> 0.33 | R96: 822-1 | S96: RTS 17/ I | T96: 0.588 | U96: =ROUND(E96*T96,2) -> 2.35 | AG96: POL1_1
C97: Počet z C.2. Situace | AG97: POP | BA97: =C97 -> Počet z C.2. Situace
C98: Bude užito zpětně na stavbě | AG98: POP | BA98: =C98 -> Bude užito zpětně na stavbě
A99: 53 | B99: 914001111R00 | C99: Osaz sloupků, montáž svislých dopr.značek | D99: kus | E99: 6 | G99: =ROUND(E99*F99,2) -> 0 | I99: =ROUND(E99*H99,2) -> 0 | K99: =ROUND(E99*J99,2) -> 0 | L99: 21 | M99: =G99*(1+L99/100) -> 0 | N99: 0.25 | O99: =ROUND(E99*N99,2) -> 1.5 | P99: 0 | Q99: =ROUND(E99*P99,2) -> 0 | R99: 822-1 | S99: RTS 17/ I | T99: 0.818 | U99: =ROUND(E99*T99,2) -> 4.91 | AG99: POL1_1
C100: Počet z C.2. Situace | AG100: POP | BA100: =C100 -> Počet z C.2. Situace
C101: 4 - přemístění | AG101: POP | BA101: =C101 -> 4 - přemístění
...
