Workbook

Sheet Rekapitulace stavby
A1: Export VZ | D1: List obsahuje: | K1: 1) Rekapitulace stavby | W1: 2) Rekapitulace objektů stavby a soupisů prací | BA1: 3.0 | BB1: ZAMOK | BT1: False | BU1: False | BV1: {94d648a9-5e22-471a-a63c-a7130971398a}
BS2: 0,01 | BT2: 21
BS3: 0,01 | BT3: 15
D4: REKAPITULACE STAVBY | AS4: v --- níže se nacházejí doplnkové a pomocné údaje k sestavám --- v | BE4: Návod na vyplnění | BS4: 0,001
D5: Kód: | K5: 171022 | BE5: Měnit lze pouze buňky se žlutým podbarvením!_x000D_ _x000D_ 1) v Rekapitulaci stavby vyplňte údaje o Uchazeči (přenesou se do ostatních sestav i v jiných listech)_x000D_ _x000D_ 2) na vybraných listech vyplňte v sestavě Soupis prací ceny u položek_x000D_ _x000D_ Podrobnosti k vyplnění naleznete na poslední záložce s Pokyny pro vyplnění | BS5: 0,01
D6: Stavba: | K6: Cholina - chodníky náves (DSP) | BS6: 0,1
D7: KSO: | AK7: CC-CZ: | BS7: 1
D8: Místo: | K8: Cholina | AK8: Datum: | AN8: 23.10.2017 | BS8: 10
BS9: 100
D10: Zadavatel: | AK10: IČ: | BS10: 0,1
E11: Obec Cholina, Cholina 52, 78322 Cholina | AK11: DIČ: | BS11: 0,1
BS12: 0,1
D13: Uchazeč: | AK13: IČ: | AN13: Vyplň údaj | BS13: 0,1
E14: Vyplň údaj | AK14: DIČ: | AN14: Vyplň údaj | BS14: 0,1
BS15: False
D16: Projektant: | AK16: IČ: | BS16: False
AK17: DIČ: | BS17: True
BS18: 0,01
D19: Poznámka: | BS19: 0,01
E20: Soupis prací je sestaven s využitím Cenové soustavy ÚRS. Položky, které pochází z této cenové soustavy, jsou ve sloupci 'Cenová soustava' označeny popisem 'CS ÚRS' a úrovní příslušného kalendářního pololetí. Veškeré další informace vymezující popis a podmínky použití těchto položek z Cenové soustavy, které nejsou uvedeny přímo v soupisu prací, jsou neomezeně dálkově k dispozici na www.cs-urs.cz, sekce Cenové a technické podmínky. | BS20: False
D23: Cena bez DPH | AK23: =ROUND(AG51,2) -> 0
L25: Sazba daně | W25: Základ daně | AK25: Výše daně
D26: DPH | F26: základní | L26: 0.21 | W26: =ROUND(AZ51,2) -> 0 | AK26: =ROUND(AV51,2) -> 0
F27: snížená | L27: 0.15 | W27: =ROUND(BA51,2) -> 0 | AK27: =ROUND(AW51,2) -> 0
F28: zákl. přenesená | L28: 0.21 | W28: =ROUND(BB51,2) -> 0 | AK28: 0
F29: sníž. přenesená | L29: 0.15 | W29: =ROUND(BC51,2) -> 0 | AK29: 0
F30: nulová | L30: 0 | W30: =ROUND(BD51,2) -> 0 | AK30: 0
D32: Cena s DPH | T32: v | X32: CZK | AK32: =SUM(AK23:AK30) -> 0
C39: REKAPITULACE OBJEKTŮ STAVBY A SOUPISŮ PRACÍ
C41: Kód: | L41: =K5 -> 171022
C42: Stavba: | L42: =K6 -> Cholina - chodníky náves (DSP)
C44: Místo: | L44: =IF(K8="","",K8) -> Cholina | AI44: Datum: | AM44: =IF(AN8= "","",AN8) -> 23.10.2017
C46: Zadavatel: | L46: =IF(E11= "","",E11) -> Obec Cholina, Cholina 52, 78322 Cholina | AI46: Projektant: | AM46: =IF(E17="","",E17) | AS46: Informatívní údaje z listů zakázek
C47: Uchazeč: | L47: =IF(E14= "Vyplň údaj","",E14)
C49: Kód | I49: Objekt, Soupis prací | AG49: Cena bez DPH [CZK] | AN49: Cena s DPH [CZK] | AQ49: Typ | AS49: z toho Ostat._x000D_ náklady [CZK] | AT49: DPH [CZK] | AU49: Normohodiny [h] | AV49: DPH základní [CZK] | AW49: DPH snížená [CZK] | AX49: DPH základní přenesená_x000D_ [CZK] | AY49: DPH snížená přenesená_x000D_ [CZK] | AZ49: Základna_x000D_ DPH základní | BA49: Základna_x000D_ DPH snížená | BB49: Základna_x000D_ DPH zákl. přenesená | BC49: Základna_x000D_ DPH sníž. přenesená | BD49: Základna_x000D_ DPH nulová
C51: Náklady stavby celkem | AG51: =ROUND(AG52+AG53+SUM(AG56:AG58),2) -> 0 | AN51: =SUM(AG51,AT51) -> 0 | AS51: =ROUND(AS52+AS53+SUM(AS56:AS58),2) -> 0 | AT51: =ROUND(SUM(AV51:AW51),2) -> 0 | AU51: =ROUND(AU52+AU53+SUM(AU56:AU58),5) -> 0 | AV51: =ROUND(AZ51*L26,2) -> 0 | AW51: =ROUND(BA51*L27,2) -> 0 | AX51: =ROUND(BB51*L26,2) -> 0 | AY51: =ROUND(BC51*L27,2) -> 0 | AZ51: =ROUND(AZ52+AZ53+SUM(AZ56:AZ58),2) -> 0 | BA51: =ROUND(BA52+BA53+SUM(BA56:BA58),2) -> 0 | BB51: =ROUND(BB52+BB53+SUM(BB56:BB58),2) -> 0 | BC51: =ROUND(BC52+BC53+SUM(BC56:BC58),2) -> 0 | BD51: =ROUND(BD52+BD53+SUM(BD56:BD58),2) -> 0 | BS51: D | BT51: 0 | BU51: ###NOIMPORT### | BV51: IMPORT | BW51: {94d648a9-5e22-471a-a63c-a7130971398a} | BX51: {00000000-0000-0000-0000-000000000000}
A52: / | D52: 001 | J52: Ostatní náklady - přechodné DZ (Nezpůsobllé výdaje) | AG52: ='001 - Ostatní náklady - p...'!J27 -> 0 | AN52: =SUM(AG52,AT52) -> 0 | AQ52: STA | AS52: 0 | AT52: =ROUND(SUM(AV52:AW52),2) -> 0 | AU52: ='001 - Ostatní náklady - p...'!P79 -> 0 | AV52: ='001 - Ostatní náklady - p...'!J30 -> 0 | AW52: ='001 - Ostatní náklady - p...'!J31 -> 0 | AX52: ='001 - Ostatní náklady - p...'!J32 -> 0 | AY52: ='001 - Ostatní náklady - p...'!J33 -> 0 | AZ52: ='001 - Ostatní náklady - p...'!F30 -> 0 | BA52: ='001 - Ostatní náklady - p...'!F31 -> 0 | BB52: ='001 - Ostatní náklady - p...'!F32 -> 0 | BC52: ='001 - Ostatní náklady - p...'!F33 -> 0 | BD52: ='001 - Ostatní náklady - p...'!F34 -> 0 | BT52: 1 | BV52: IMPORT | BW52: {631d99f6-97a9-4734-b038-4f65f83d486a} | BX52: {94d648a9-5e22-471a-a63c-a7130971398a} | CM52: 2
D53: 101 | J53: SO 101_Chodníky a nástupiště | AG53: =ROUND(SUM(AG54:AG55),2) -> 0 | AN53: =SUM(AG53,AT53) -> 0 | AQ53: STA | AS53: =ROUND(SUM(AS54:AS55),2) -> 0 | AT53: =ROUND(SUM(AV53:AW53),2) -> 0 | AU53: =ROUND(SUM(AU54:AU55),5) -> 0 | AV53: =ROUND(AZ53*L26,2) -> 0 | AW53: =ROUND(BA53*L27,2) -> 0 | AX53: =ROUND(BB53*L26,2) -> 0 | AY53: =ROUND(BC53*L27,2) -> 0 | AZ53: =ROUND(SUM(AZ54:AZ55),2) -> 0 | BA53: =ROUND(SUM(BA54:BA55),2) -> 0 | BB53: =ROUND(SUM(BB54:BB55),2) -> 0 | BC53: =ROUND(SUM(BC54:BC55),2) -> 0 | BD53: =ROUND(SUM(BD54:BD55),2) -> 0 | BS53: D | BT53: 1 | BU53: ###NOIMPORT### | BV53: IMPORT | BW53: {ec757370-24a1-4250-aed2-f068cb258154} | BX53: {94d648a9-5e22-471a-a63c-a7130971398a} | CL53: 822 59 3 | CM53: 2
A54: / | E54: 101_1 | K54: Chodníky a nástupiště (Způsobilé výdaje - Hlaní aktivita) | AG54: ='101_1 - Chodníky a nástup...'!J29 -> 0 | AN54: =SUM(AG54,AT54) -> 0 | AQ54: Soupis | AS54: 0 | AT54: =ROUND(SUM(AV54:AW54),2) -> 0 | AU54: ='101_1 - Chodníky a nástup...'!P94 -> 0 | AV54: ='101_1 - Chodníky a nástup...'!J32 -> 0 | AW54: ='101_1 - Chodníky a nástup...'!J33 -> 0 | AX54: ='101_1 - Chodníky a nástup...'!J34 -> 0 | AY54: ='101_1 - Chodníky a nástup...'!J35 -> 0 | AZ54: ='101_1 - Chodníky a nástup...'!F32 -> 0 | BA54: ='101_1 - Chodníky a nástup...'!F33 -> 0 | BB54: ='101_1 - Chodníky a nástup...'!F34 -> 0 | BC54: ='101_1 - Chodníky a nástup...'!F35 -> 0 | BD54: ='101_1 - Chodníky a nástup...'!F36 -> 0 | BT54: 2 | BV54: IMPORT | BW54: {fc5469e5-e57f-4df9-9285-35517e75b047} | BX54: {ec757370-24a1-4250-aed2-f068cb258154} | CL54: 822 59 3
A55: / | E55: 101_2 | K55: Chodníky a nástupiště (Způsobilé výdaje - Vedlejší aktivita) | AG55: ='101_2 - Chodníky a nástup...'!J29 -> 0 | AN55: =SUM(AG55,AT55) -> 0 | AQ55: Soupis | AS55: 0 | AT55: =ROUND(SUM(AV55:AW55),2) -> 0 | AU55: ='101_2 - Chodníky a nástup...'!P90 -> 0 | AV55: ='101_2 - Chodníky a nástup...'!J32 -> 0 | AW55: ='101_2 - Chodníky a nástup...'!J33 -> 0 | AX55: ='101_2 - Chodníky a nástup...'!J34 -> 0 | AY55: ='101_2 - Chodníky a nástup...'!J35 -> 0 | AZ55: ='101_2 - Chodníky a nástup...'!F32 -> 0 | BA55: ='101_2 - Chodníky a nástup...'!F33 -> 0 | BB55: ='101_2 - Chodníky a nástup...'!F34 -> 0 | BC55: ='101_2 - Chodníky a nástup...'!F35 -> 0 | BD55: ='101_2 - Chodníky a nástup...'!F36 -> 0 | BT55: 2 | BV55: IMPORT | BW55: {f9518dfa-7886-4060-9176-7651ef67c4bf} | BX55: {ec757370-24a1-4250-aed2-f068cb258154} | CL55: 822 59 3
...

Sheet 001 - Ostatní náklady - p...
D1: List obsahuje: | F1: 1) Krycí list soupisu | G1: 2) Rekapitulace | J1: 3) Soupis prací | K1: Zpět na list: | L1: Rekapitulace stavby
AT2: {631d99f6-97a9-4734-b038-4f65f83d486a}
AT3: 2
D4: KRYCÍ LIST SOUPISU | M4: v --- níže se nacházejí doplnkové a pomocné údaje k sestavám --- v | AT4: False
D6: Stavba:
E7: ='Rekapitulace stavby'!K6 -> Cholina - chodníky náves (DSP)
D8: Objekt:
E9: 001 - Ostatní náklady - přechodné DZ (Nezpůsobllé výdaje)
D11: KSO: | I11: CC-CZ:
D12: Místo: | F12: Cholina | I12: Datum: | J12: ='Rekapitulace stavby'!AN8 -> 23.10.2017
D14: Zadavatel: | I14: IČ:
E15: Obec Cholina, Cholina 52, 78322 Cholina | I15: DIČ:
D17: Uchazeč: | I17: IČ: | J17: =IF('Rekapitulace stavby'!AN13="Vyplň údaj","",IF('Rekapitulace stavby'!AN13="","",'Rekapitulace stavby'!AN13))
E18: =IF('Rekapitulace stavby'!E14="Vyplň údaj","",IF('Rekapitulace stavby'!E14="","",'Rekapitulace stavby'!E14)) | I18: DIČ: | J18: =IF('Rekapitulace stavby'!AN14="Vyplň údaj","",IF('Rekapitulace stavby'!AN14="","",'Rekapitulace stavby'!AN14))
D20: Projektant: | I20: IČ:
I21: DIČ:
D23: Poznámka:
D27: Cena bez DPH | J27: =ROUND(J79,2) -> 0
F29: Základ daně | I29: Sazba daně | J29: Výše daně
D30: DPH | E30: základní | F30: =ROUND(SUM(BE79:BE169), 2) -> 0 | I30: 0.21 | J30: =ROUND(ROUND((SUM(BE79:BE169)), 2)*I30, 2) -> 0
E31: snížená | F31: =ROUND(SUM(BF79:BF169), 2) -> 0 | I31: 0.15 | J31: =ROUND(ROUND((SUM(BF79:BF169)), 2)*I31, 2) -> 0
E32: zákl. přenesená | F32: =ROUND(SUM(BG79:BG169), 2) -> 0 | I32: 0.21 | J32: 0
E33: sníž. přenesená | F33: =ROUND(SUM(BH79:BH169), 2) -> 0 | I33: 0.15 | J33: 0
E34: nulová | F34: =ROUND(SUM(BI79:BI169), 2) -> 0 | I34: 0 | J34: 0
D36: Cena s DPH | G36: v | H36: CZK | J36: =SUM(J27:J34) -> 0
C42: REKAPITULACE ČLENĚNÍ SOUPISU PRACÍ
C44: Stavba:
E45: =E7 -> Cholina - chodníky náves (DSP)
C46: Objekt:
E47: =E9 -> 001 - Ostatní náklady - přechodné DZ (Nezpůsobllé výdaje)
C49: Místo: | F49: =F12 -> Cholina | I49: Datum: | J49: =IF(J12="","",J12) -> 23.10.2017
C51: Zadavatel: | F51: =E15 -> Obec Cholina, Cholina 52, 78322 Cholina | I51: Projektant: | J51: =E21
C52: Uchazeč: | F52: =IF(E18="","",E18)
C54: Kód dílu - Popis | J54: Cena celkem [CZK]
C56: Náklady soupisu celkem | J56: =J79 -> 0 | AU56: -1
D57: HSV - Práce a dodávky HSV | J57: =J80 -> 0
D58: 91 - Doplňující konstrukce a práce pozemních komunikací, letišť a ploch | J58: =J81 -> 0
D59: 998 - Přesun hmot | J59: =J168 -> 0
C66: SOUPIS PRACÍ
C68: Stavba:
...

Sheet 101_1 - Chodníky a nástup...
D1: List obsahuje: | F1: 1) Krycí list soupisu | G1: 2) Rekapitulace | J1: 3) Soupis prací | K1: Zpět na list: | L1: Rekapitulace stavby
AT2: {fc5469e5-e57f-4df9-9285-35517e75b047} | AZ2: O1HAm3 | BA2: Odkopávka SO 101 (Hlavní aktivita) | BB2: m3 | BC2: 225 | BD2: 2
AT3: 2 | AZ3: OB1HAm3 | BA3: obsyp potrubí štěrkopískem | BB3: m3 | BC3: 8,28 | BD3: 2
D4: KRYCÍ LIST SOUPISU | M4: v --- níže se nacházejí doplnkové a pomocné údaje k sestavám --- v | AT4: False | AZ4: R1HAm3 | BA4: Výkop rýh SO 101 (Hlavní aktivita) | BB4: m3 | BC4: 42,563 | BD4: 2
AZ5: Z1HAm3 | BA5: zásyp štěrkopískem | BB5: m3 | BC5: 28,155 | BD5: 2
D6: Stavba: | AZ6: ZZ1HAm3 | BA6: Zásyp vhodnou vytěženou zeminou nenemrzavou | BB6: m3 | BC6: 73,6 | BD6: 2
E7: ='Rekapitulace stavby'!K6 -> Cholina - chodníky náves (DSP)
D8: Objekt:
E9: 101 - SO 101_Chodníky a nástupiště
D10: Soupis:
E11: 101_1 - Chodníky a nástupiště (Způsobilé výdaje - Hlaní aktivita)
D13: KSO: | F13: 822 59 3 | I13: CC-CZ:
D14: Místo: | F14: Cholina | I14: Datum: | J14: ='Rekapitulace stavby'!AN8 -> 23.10.2017
D16: Zadavatel: | I16: IČ:
E17: Obec Cholina, Cholina 52, 78322 Cholina | I17: DIČ:
D19: Uchazeč: | I19: IČ: | J19: =IF('Rekapitulace stavby'!AN13="Vyplň údaj","",IF('Rekapitulace stavby'!AN13="","",'Rekapitulace stavby'!AN13))
E20: =IF('Rekapitulace stavby'!E14="Vyplň údaj","",IF('Rekapitulace stavby'!E14="","",'Rekapitulace stavby'!E14)) | I20: DIČ: | J20: =IF('Rekapitulace stavby'!AN14="Vyplň údaj","",IF('Rekapitulace stavby'!AN14="","",'Rekapitulace stavby'!AN14))
D22: Projektant: | I22: IČ:
I23: DIČ:
D25: Poznámka:
D29: Cena bez DPH | J29: =ROUND(J94,2) -> 0
F31: Základ daně | I31: Sazba daně | J31: Výše daně
D32: DPH | E32: základní | F32: =ROUND(SUM(BE94:BE673), 2) -> 0 | I32: 0.21 | J32: =ROUND(ROUND((SUM(BE94:BE673)), 2)*I32, 2) -> 0
E33: snížená | F33: =ROUND(SUM(BF94:BF673), 2) -> 0 | I33: 0.15 | J33: =ROUND(ROUND((SUM(BF94:BF673)), 2)*I33, 2) -> 0
E34: zákl. přenesená | F34: =ROUND(SUM(BG94:BG673), 2) -> 0 | I34: 0.21 | J34: 0
E35: sníž. přenesená | F35: =ROUND(SUM(BH94:BH673), 2) -> 0 | I35: 0.15 | J35: 0
E36: nulová | F36: =ROUND(SUM(BI94:BI673), 2) -> 0 | I36: 0 | J36: 0
D38: Cena s DPH | G38: v | H38: CZK | J38: =SUM(J29:J36) -> 0
C44: REKAPITULACE ČLENĚNÍ SOUPISU PRACÍ
C46: Stavba:
E47: =E7 -> Cholina - chodníky náves (DSP)
C48: Objekt:
E49: 101 - SO 101_Chodníky a nástupiště
C50: Soupis:
E51: =E11 -> 101_1 - Chodníky a nástupiště (Způsobilé výdaje - Hlaní aktivita)
C53: Místo: | F53: =F14 -> Cholina | I53: Datum: | J53: =IF(J14="","",J14) -> 23.10.2017
C55: Zadavatel: | F55: =E17 -> Obec Cholina, Cholina 52, 78322 Cholina | I55: Projektant: | J55: =E23
C56: Uchazeč: | F56: =IF(E20="","",E20)
C58: Kód dílu - Popis | J58: Cena celkem [CZK]
C60: Náklady soupisu celkem | J60: =J94 -> 0 | AU60: -1
...

Sheet 101_2 - Chodníky a nástup...
D1: List obsahuje: | F1: 1) Krycí list soupisu | G1: 2) Rekapitulace | J1: 3) Soupis prací | K1: Zpět na list: | L1: Rekapitulace stavby
AT2: {f9518dfa-7886-4060-9176-7651ef67c4bf} | AZ2: S1VAm3 | BA2: Výkop šachet (Vedlejší aktivita) | BB2: m3 | BC2: 2,196 | BD2: 2
AT3: 2
D4: KRYCÍ LIST SOUPISU | M4: v --- níže se nacházejí doplnkové a pomocné údaje k sestavám --- v | AT4: False
D6: Stavba:
E7: ='Rekapitulace stavby'!K6 -> Cholina - chodníky náves (DSP)
D8: Objekt:
E9: 101 - SO 101_Chodníky a nástupiště
D10: Soupis:
E11: 101_2 - Chodníky a nástupiště (Způsobilé výdaje - Vedlejší aktivita)
D13: KSO: | F13: 822 59 3 | I13: CC-CZ:
D14: Místo: | F14: Cholina | I14: Datum: | J14: ='Rekapitulace stavby'!AN8 -> 23.10.2017
D16: Zadavatel: | I16: IČ:
E17: Obec Cholina, Cholina 52, 78322 Cholina | I17: DIČ:
D19: Uchazeč: | I19: IČ: | J19: =IF('Rekapitulace stavby'!AN13="Vyplň údaj","",IF('Rekapitulace stavby'!AN13="","",'Rekapitulace stavby'!AN13))
E20: =IF('Rekapitulace stavby'!E14="Vyplň údaj","",IF('Rekapitulace stavby'!E14="","",'Rekapitulace stavby'!E14)) | I20: DIČ: | J20: =IF('Rekapitulace stavby'!AN14="Vyplň údaj","",IF('Rekapitulace stavby'!AN14="","",'Rekapitulace stavby'!AN14))
D22: Projektant: | I22: IČ:
I23: DIČ:
D25: Poznámka:
D29: Cena bez DPH | J29: =ROUND(J90,2) -> 0
F31: Základ daně | I31: Sazba daně | J31: Výše daně
D32: DPH | E32: základní | F32: =ROUND(SUM(BE90:BE221), 2) -> 0 | I32: 0.21 | J32: =ROUND(ROUND((SUM(BE90:BE221)), 2)*I32, 2) -> 0
E33: snížená | F33: =ROUND(SUM(BF90:BF221), 2) -> 0 | I33: 0.15 | J33: =ROUND(ROUND((SUM(BF90:BF221)), 2)*I33, 2) -> 0
E34: zákl. přenesená | F34: =ROUND(SUM(BG90:BG221), 2) -> 0 | I34: 0.21 | J34: 0
E35: sníž. přenesená | F35: =ROUND(SUM(BH90:BH221), 2) -> 0 | I35: 0.15 | J35: 0
E36: nulová | F36: =ROUND(SUM(BI90:BI221), 2) -> 0 | I36: 0 | J36: 0
D38: Cena s DPH | G38: v | H38: CZK | J38: =SUM(J29:J36) -> 0
C44: REKAPITULACE ČLENĚNÍ SOUPISU PRACÍ
C46: Stavba:
E47: =E7 -> Cholina - chodníky náves (DSP)
C48: Objekt:
E49: 101 - SO 101_Chodníky a nástupiště
C50: Soupis:
E51: =E11 -> 101_2 - Chodníky a nástupiště (Způsobilé výdaje - Vedlejší aktivita)
C53: Místo: | F53: =F14 -> Cholina | I53: Datum: | J53: =IF(J14="","",J14) -> 23.10.2017
C55: Zadavatel: | F55: =E17 -> Obec Cholina, Cholina 52, 78322 Cholina | I55: Projektant: | J55: =E23
C56: Uchazeč: | F56: =IF(E20="","",E20)
C58: Kód dílu - Popis | J58: Cena celkem [CZK]
C60: Náklady soupisu celkem | J60: =J90 -> 0 | AU60: -1
D61: HSV - Práce a dodávky HSV | J61: =J91 -> 0
...

Sheet 102 - SO 102 Parkovací st...
D1: List obsahuje: | F1: 1) Krycí list soupisu | G1: 2) Rekapitulace | J1: 3) Soupis prací | K1: Zpět na list: | L1: Rekapitulace stavby
AT2: {d876a8bb-1b27-4b99-8dec-640a2512edba} | AZ2: OB102_m3 | BA2: obsyp SO 102 | BB2: m3 | BC2: 8,976 | BD2: 2
AT3: 2 | AZ3: OD102_m3 | BA3: odkop SO 102 | BB3: m3 | BC3: 284,355 | BD3: 2
D4: KRYCÍ LIST SOUPISU | M4: v --- níže se nacházejí doplnkové a pomocné údaje k sestavám --- v | AT4: False | AZ4: R102_m3 | BA4: výkop rýh SO 102 | BB4: m3 | BC4: 35,989 | BD4: 2
AZ5: Z102_m3 | BA5: zásyp SO 102 | BB5: m3 | BC5: 25,706 | BD5: 2
D6: Stavba:
E7: ='Rekapitulace stavby'!K6 -> Cholina - chodníky náves (DSP)
D8: Objekt:
E9: 102 - SO 102 Parkovací stání (Nezpůsobilé výdaje)
D11: KSO: | F11: 822 55 3 | I11: CC-CZ:
D12: Místo: | F12: Cholina | I12: Datum: | J12: ='Rekapitulace stavby'!AN8 -> 23.10.2017
D14: Zadavatel: | I14: IČ:
E15: Obec Cholina, Cholina 52, 78322 Cholina | I15: DIČ:
D17: Uchazeč: | I17: IČ: | J17: =IF('Rekapitulace stavby'!AN13="Vyplň údaj","",IF('Rekapitulace stavby'!AN13="","",'Rekapitulace stavby'!AN13))
E18: =IF('Rekapitulace stavby'!E14="Vyplň údaj","",IF('Rekapitulace stavby'!E14="","",'Rekapitulace stavby'!E14)) | I18: DIČ: | J18: =IF('Rekapitulace stavby'!AN14="Vyplň údaj","",IF('Rekapitulace stavby'!AN14="","",'Rekapitulace stavby'!AN14))
D20: Projektant: | I20: IČ:
I21: DIČ:
D23: Poznámka:
D27: Cena bez DPH | J27: =ROUND(J91,2) -> 0
F29: Základ daně | I29: Sazba daně | J29: Výše daně
D30: DPH | E30: základní | F30: =ROUND(SUM(BE91:BE479), 2) -> 0 | I30: 0.21 | J30: =ROUND(ROUND((SUM(BE91:BE479)), 2)*I30, 2) -> 0
E31: snížená | F31: =ROUND(SUM(BF91:BF479), 2) -> 0 | I31: 0.15 | J31: =ROUND(ROUND((SUM(BF91:BF479)), 2)*I31, 2) -> 0
E32: zákl. přenesená | F32: =ROUND(SUM(BG91:BG479), 2) -> 0 | I32: 0.21 | J32: 0
E33: sníž. přenesená | F33: =ROUND(SUM(BH91:BH479), 2) -> 0 | I33: 0.15 | J33: 0
E34: nulová | F34: =ROUND(SUM(BI91:BI479), 2) -> 0 | I34: 0 | J34: 0
D36: Cena s DPH | G36: v | H36: CZK | J36: =SUM(J27:J34) -> 0
C42: REKAPITULACE ČLENĚNÍ SOUPISU PRACÍ
C44: Stavba:
E45: =E7 -> Cholina - chodníky náves (DSP)
C46: Objekt:
E47: =E9 -> 102 - SO 102 Parkovací stání (Nezpůsobilé výdaje)
C49: Místo: | F49: =F12 -> Cholina | I49: Datum: | J49: =IF(J12="","",J12) -> 23.10.2017
C51: Zadavatel: | F51: =E15 -> Obec Cholina, Cholina 52, 78322 Cholina | I51: Projektant: | J51: =E21
C52: Uchazeč: | F52: =IF(E18="","",E18)
C54: Kód dílu - Popis | J54: Cena celkem [CZK]
C56: Náklady soupisu celkem | J56: =J91 -> 0 | AU56: -1
D57: HSV - Práce a dodávky HSV | J57: =J92 -> 0
D58: 10 - Zemní práce | J58: =J93 -> 0
D59: 11 - Zemní práce - přípravné a přidružené práce | J59: =J206 -> 0
D60: 30 - Svislé a kompletní konstrukce | J60: =J237 -> 0
...

Sheet 103 - SO 103 - BUS zálivy...
D1: List obsahuje: | F1: 1) Krycí list soupisu | G1: 2) Rekapitulace | J1: 3) Soupis prací | K1: Zpět na list: | L1: Rekapitulace stavby
AT2: {3b76264e-7fd9-44a0-8c84-9eb16712f770} | AZ2: OB102_m3 | BA2: obsyp SO 102 | BB2: m3 | BC2: 8,576 | BD2: 2
AT3: 2 | AZ3: OD103_m3 | BA3: výkopy - odkop SO 103 | BB3: m3 | BC3: 301,03 | BD3: 2
D4: KRYCÍ LIST SOUPISU | M4: v --- níže se nacházejí doplnkové a pomocné údaje k sestavám --- v | AT4: False | AZ4: R103_m3 | BA4: výkop rýhy SO 103 | BB4: m3 | BC4: 34,908 | BD4: 2
AZ5: Z103_m3 | BA5: zásyp SO 103 | BB5: m3 | BC5: 78,309 | BD5: 2
D6: Stavba:
E7: ='Rekapitulace stavby'!K6 -> Cholina - chodníky náves (DSP)
D8: Objekt:
E9: 103 - SO 103 - BUS zálivy (Nezpůsobilé výdaje)
D11: KSO: | F11: 822 23 3 | I11: CC-CZ:
D12: Místo: | F12: Cholina | I12: Datum: | J12: ='Rekapitulace stavby'!AN8 -> 23.10.2017
D14: Zadavatel: | I14: IČ:
E15: Obec Cholina, Cholina 52, 78322 Cholina | I15: DIČ:
D17: Uchazeč: | I17: IČ: | J17: =IF('Rekapitulace stavby'!AN13="Vyplň údaj","",IF('Rekapitulace stavby'!AN13="","",'Rekapitulace stavby'!AN13))
E18: =IF('Rekapitulace stavby'!E14="Vyplň údaj","",IF('Rekapitulace stavby'!E14="","",'Rekapitulace stavby'!E14)) | I18: DIČ: | J18: =IF('Rekapitulace stavby'!AN14="Vyplň údaj","",IF('Rekapitulace stavby'!AN14="","",'Rekapitulace stavby'!AN14))
D20: Projektant: | I20: IČ:
I21: DIČ:
D23: Poznámka:
D27: Cena bez DPH | J27: =ROUND(J94,2) -> 0
F29: Základ daně | I29: Sazba daně | J29: Výše daně
D30: DPH | E30: základní | F30: =ROUND(SUM(BE94:BE446), 2) -> 0 | I30: 0.21 | J30: =ROUND(ROUND((SUM(BE94:BE446)), 2)*I30, 2) -> 0
E31: snížená | F31: =ROUND(SUM(BF94:BF446), 2) -> 0 | I31: 0.15 | J31: =ROUND(ROUND((SUM(BF94:BF446)), 2)*I31, 2) -> 0
E32: zákl. přenesená | F32: =ROUND(SUM(BG94:BG446), 2) -> 0 | I32: 0.21 | J32: 0
E33: sníž. přenesená | F33: =ROUND(SUM(BH94:BH446), 2) -> 0 | I33: 0.15 | J33: 0
E34: nulová | F34: =ROUND(SUM(BI94:BI446), 2) -> 0 | I34: 0 | J34: 0
D36: Cena s DPH | G36: v | H36: CZK | J36: =SUM(J27:J34) -> 0
C42: REKAPITULACE ČLENĚNÍ SOUPISU PRACÍ
C44: Stavba:
E45: =E7 -> Cholina - chodníky náves (DSP)
C46: Objekt:
E47: =E9 -> 103 - SO 103 - BUS zálivy (Nezpůsobilé výdaje)
C49: Místo: | F49: =F12 -> Cholina | I49: Datum: | J49: =IF(J12="","",J12) -> 23.10.2017
C51: Zadavatel: | F51: =E15 -> Obec Cholina, Cholina 52, 78322 Cholina | I51: Projektant: | J51: =E21
C52: Uchazeč: | F52: =IF(E18="","",E18)
C54: Kód dílu - Popis | J54: Cena celkem [CZK]
C56: Náklady soupisu celkem | J56: =J94 -> 0 | AU56: -1
D57: HSV - Práce a dodávky HSV | J57: =J95 -> 0
D58: 10 - Zemní práce | J58: =J96 -> 0
D59: 11 - Zemní práce - přípravné a přidružené práce | J59: =J213 -> 0
D60: 21 - Zakládání - úprava podloží a základové spáry, zlepšování vlastností hornin | J60: =J224 -> 0
...

Sheet 104_1 - SO 104 - Vjezdy (...
D1: List obsahuje: | F1: 1) Krycí list soupisu | G1: 2) Rekapitulace | J1: 3) Soupis prací | K1: Zpět na list: | L1: Rekapitulace stavby
AT2: {71c3aaf2-3c3b-49fe-890e-b67a19cab983} | AZ2: O4HAm3 | BA2: Odkop SO 104 (Hlavní aktivita) | BB2: m3 | BC2: 66,47 | BD2: 2
AT3: 2
D4: KRYCÍ LIST SOUPISU | M4: v --- níže se nacházejí doplnkové a pomocné údaje k sestavám --- v | AT4: False
D6: Stavba:
E7: ='Rekapitulace stavby'!K6 -> Cholina - chodníky náves (DSP)
D8: Objekt:
E9: 104 - SO 104 - Vjezdy
D10: Soupis:
E11: 104_1 - SO 104 - Vjezdy (Způsobilé výdaje - Hlavní aktivita)
D13: KSO: | F13: 822 55 3 | I13: CC-CZ:
D14: Místo: | F14: Cholina | I14: Datum: | J14: ='Rekapitulace stavby'!AN8 -> 23.10.2017
D16: Zadavatel: | I16: IČ:
E17: Obec Cholina, Cholina 52, 78322 Cholina | I17: DIČ:
D19: Uchazeč: | I19: IČ: | J19: =IF('Rekapitulace stavby'!AN13="Vyplň údaj","",IF('Rekapitulace stavby'!AN13="","",'Rekapitulace stavby'!AN13))
E20: =IF('Rekapitulace stavby'!E14="Vyplň údaj","",IF('Rekapitulace stavby'!E14="","",'Rekapitulace stavby'!E14)) | I20: DIČ: | J20: =IF('Rekapitulace stavby'!AN14="Vyplň údaj","",IF('Rekapitulace stavby'!AN14="","",'Rekapitulace stavby'!AN14))
D22: Projektant: | I22: IČ:
I23: DIČ:
D25: Poznámka:
D29: Cena bez DPH | J29: =ROUND(J91,2) -> 0
F31: Základ daně | I31: Sazba daně | J31: Výše daně
D32: DPH | E32: základní | F32: =ROUND(SUM(BE91:BE246), 2) -> 0 | I32: 0.21 | J32: =ROUND(ROUND((SUM(BE91:BE246)), 2)*I32, 2) -> 0
E33: snížená | F33: =ROUND(SUM(BF91:BF246), 2) -> 0 | I33: 0.15 | J33: =ROUND(ROUND((SUM(BF91:BF246)), 2)*I33, 2) -> 0
E34: zákl. přenesená | F34: =ROUND(SUM(BG91:BG246), 2) -> 0 | I34: 0.21 | J34: 0
E35: sníž. přenesená | F35: =ROUND(SUM(BH91:BH246), 2) -> 0 | I35: 0.15 | J35: 0
E36: nulová | F36: =ROUND(SUM(BI91:BI246), 2) -> 0 | I36: 0 | J36: 0
D38: Cena s DPH | G38: v | H38: CZK | J38: =SUM(J29:J36) -> 0
C44: REKAPITULACE ČLENĚNÍ SOUPISU PRACÍ
C46: Stavba:
E47: =E7 -> Cholina - chodníky náves (DSP)
C48: Objekt:
E49: 104 - SO 104 - Vjezdy
C50: Soupis:
E51: =E11 -> 104_1 - SO 104 - Vjezdy (Způsobilé výdaje - Hlavní aktivita)
C53: Místo: | F53: =F14 -> Cholina | I53: Datum: | J53: =IF(J14="","",J14) -> 23.10.2017
C55: Zadavatel: | F55: =E17 -> Obec Cholina, Cholina 52, 78322 Cholina | I55: Projektant: | J55: =E23
C56: Uchazeč: | F56: =IF(E20="","",E20)
C58: Kód dílu - Popis | J58: Cena celkem [CZK]
C60: Náklady soupisu celkem | J60: =J91 -> 0 | AU60: -1
D61: HSV - Práce a dodávky HSV | J61: =J92 -> 0
...

Sheet 104_2 - SO 104 - Vjezdy (...
D1: List obsahuje: | F1: 1) Krycí list soupisu | G1: 2) Rekapitulace | J1: 3) Soupis prací | K1: Zpět na list: | L1: Rekapitulace stavby
AT2: {c73c7bd6-c035-460b-beed-a857259f36a7} | AZ2: O4VAm3 | BA2: Odkopávka SO 104 (Vedlejší aktivita) | BB2: m3 | BC2: 79,06 | BD2: 2
AT3: 2 | AZ3: R4VAm3 | BA3: Rýha SO 104 (Vedlejší aktivita) | BB3: m3 | BC3: 12,32 | BD3: 2
D4: KRYCÍ LIST SOUPISU | M4: v --- níže se nacházejí doplnkové a pomocné údaje k sestavám --- v | AT4: False | AZ4: Z4VAm3 | BA4: Zásyp nakupovaným materiálem | BB4: m3 | BC4: 5,104 | BD4: 2
D6: Stavba:
E7: ='Rekapitulace stavby'!K6 -> Cholina - chodníky náves (DSP)
D8: Objekt:
E9: 104 - SO 104 - Vjezdy
D10: Soupis:
E11: 104_2 - SO 104 - Vjezdy (Nezpůsobilé výdaje)
D13: KSO: | F13: 822 55 3 | I13: CC-CZ:
D14: Místo: | F14: Cholina | I14: Datum: | J14: ='Rekapitulace stavby'!AN8 -> 23.10.2017
D16: Zadavatel: | I16: IČ:
E17: Obec Cholina, Cholina 52, 78322 Cholina | I17: DIČ:
D19: Uchazeč: | I19: IČ: | J19: =IF('Rekapitulace stavby'!AN13="Vyplň údaj","",IF('Rekapitulace stavby'!AN13="","",'Rekapitulace stavby'!AN13))
E20: =IF('Rekapitulace stavby'!E14="Vyplň údaj","",IF('Rekapitulace stavby'!E14="","",'Rekapitulace stavby'!E14)) | I20: DIČ: | J20: =IF('Rekapitulace stavby'!AN14="Vyplň údaj","",IF('Rekapitulace stavby'!AN14="","",'Rekapitulace stavby'!AN14))
D22: Projektant: | I22: IČ:
I23: DIČ:
D25: Poznámka:
D29: Cena bez DPH | J29: =ROUND(J96,2) -> 0
F31: Základ daně | I31: Sazba daně | J31: Výše daně
D32: DPH | E32: základní | F32: =ROUND(SUM(BE96:BE376), 2) -> 0 | I32: 0.21 | J32: =ROUND(ROUND((SUM(BE96:BE376)), 2)*I32, 2) -> 0
E33: snížená | F33: =ROUND(SUM(BF96:BF376), 2) -> 0 | I33: 0.15 | J33: =ROUND(ROUND((SUM(BF96:BF376)), 2)*I33, 2) -> 0
E34: zákl. přenesená | F34: =ROUND(SUM(BG96:BG376), 2) -> 0 | I34: 0.21 | J34: 0
E35: sníž. přenesená | F35: =ROUND(SUM(BH96:BH376), 2) -> 0 | I35: 0.15 | J35: 0
E36: nulová | F36: =ROUND(SUM(BI96:BI376), 2) -> 0 | I36: 0 | J36: 0
D38: Cena s DPH | G38: v | H38: CZK | J38: =SUM(J29:J36) -> 0
C44: REKAPITULACE ČLENĚNÍ SOUPISU PRACÍ
C46: Stavba:
E47: =E7 -> Cholina - chodníky náves (DSP)
C48: Objekt:
E49: 104 - SO 104 - Vjezdy
C50: Soupis:
E51: =E11 -> 104_2 - SO 104 - Vjezdy (Nezpůsobilé výdaje)
C53: Místo: | F53: =F14 -> Cholina | I53: Datum: | J53: =IF(J14="","",J14) -> 23.10.2017
C55: Zadavatel: | F55: =E17 -> Obec Cholina, Cholina 52, 78322 Cholina | I55: Projektant: | J55: =E23
C56: Uchazeč: | F56: =IF(E20="","",E20)
C58: Kód dílu - Popis | J58: Cena celkem [CZK]
C60: Náklady soupisu celkem | J60: =J96 -> 0 | AU60: -1
D61: HSV - Práce a dodávky HSV | J61: =J97 -> 0
...

Sheet Pokyny pro vyplnění
C3: Struktura údajů, formát souboru a metodika pro zpracování
C4: Struktura
C6: Soubor je složen ze záložky Rekapitulace stavby a záložek s názvem soupisu prací pro jednotlivé objekty ve formátu XLSX. Každá ze záložek přitom obsahuje
C7: ještě samostatné sestavy vymezené orámovaním a nadpisem sestavy.
C9: Rekapitulace stavby obsahuje sestavu Rekapitulace stavby a Rekapitulace objektů stavby a soupisů prací.
D10: V sestavě Rekapitulace stavby jsou uvedeny informace identifikující předmět veřejné zakázky na stavební práce, KSO, CC-CZ, CZ-CPV, CZ-CPA a rekapitulaci
D11: celkové nabídkové ceny uchazeče.
D13: V sestavě Rekapitulace objektů stavby a soupisů prací je uvedena rekapitulace stavebních objektů, inženýrských objektů, provozních souborů,
D14: vedlejších a ostatních nákladů a ostatních nákladů s rekapitulací nabídkové ceny za jednotlivé soupisy prací. Na základě údaje Typ je možné
D15: identifikovat, zda se jedná o objekt nebo soupis prací pro daný objekt:
E16: STA | F16: Stavební objekt pozemní
E17: ING | F17: Stavební objekt inženýrský
E18: PRO | F18: Provozní soubor
E19: VON | F19: Vedlejší a ostatní náklady
E20: OST | F20: Ostatní
E21: Soupis | F21: Soupis prací pro daný typ objektu
C23: Soupis prací pro jednotlivé objekty obsahuje sestavy Krycí list soupisu, Rekapitulace členění soupisu prací, Soupis prací. Za soupis prací může být považován
C24: i objekt stavby v případě, že neobsahuje podřízenou zakázku.
D25: Krycí list soupisu obsahuje rekapitulaci informací o předmětu veřejné zakázky ze sestavy Rekapitulace stavby, informaci o zařazení objektu do KSO,
D26: CC-CZ, CZ-CPV, CZ-CPA a rekapitulaci celkové nabídkové ceny uchazeče za aktuální soupis prací.
D28: Rekapitulace členění soupisu prací obsahuje rekapitulaci soupisu prací ve všech úrovních členění soupisu tak, jak byla tato členění použita (např.
D29: stavební díly, funkční díly, případně jiné členění) s rekapitulací nabídkové ceny.
D31: Soupis prací obsahuje položky veškerých stavebních nebo montážních prací, dodávek materiálů a služeb nezbytných pro zhotovení stavebního objektu,
D32: inženýrského objektu, provozního souboru, vedlejších a ostatních nákladů.
D33: Pro položky soupisu prací se zobrazují následující informace:
E34: PČ | G34: Pořadové číslo položky v aktuálním soupisu
E35: TYP | G35: Typ položky: K - konstrukce, M - materiál, PP - plný popis, PSC - poznámka k souboru cen, P - poznámka k položce, VV - výkaz výměr
E36: Kód | G36: Kód položky
E37: Popis | G37: Zkrácený popis položky
E38: MJ | G38: Měrná jednotka položky
E39: Množství | G39: Množství v měrné jednotce
E40: J.cena | G40: Jednotková cena položky. Zadaní může obsahovat namísto J.ceny sloupce J.materiál a J.montáž, jejichž součet definuje
G41: J.cenu položky.
E42: Cena celkem | G42: Celková cena položky daná jako součin množství a j.ceny
E43: Cenová soustava | G43: Příslušnost položky do cenové soustavy
D45: Ke každé položce soupisu prací se na samostatných řádcích může zobrazovat:
E46: Plný popis položky
E47: Poznámka k souboru cen a poznámka zadavatele
E48: Výkaz výměr
D49: Pokud je k řádku výkazu výměr evidovaný údaj ve sloupci Kód, jedná se o definovaný odkaz, na který se může odvolávat výkaz výměr z jiné položky.
...
