Workbook

Sheet Rekapitulace stavby
A1: Export VZ | D1: List obsahuje: | K1: 1) Rekapitulace stavby | W1: 2) Rekapitulace objektů stavby a soupisů prací | BA1: 3.0 | BB1: ZAMOK | BT1: False | BU1: False | BV1: {94d648a9-5e22-471a-a63c-a7130971398a}
BS2: 0,01 | BT2: 21
BS3: 0,01 | BT3: 15
D4: REKAPITULACE STAVBY | AS4: v --- níže se nacházejí doplnkové a pomocné údaje k sestavám --- v | BE4: Návod na vyplnění | BS4: 0,001
D5: Kód: | K5: 171022 | BE5: Měnit lze pouze buňky se žlutým podbarvením!_x000D_ _x000D_ 1) v Rekapitulaci stavby vyplňte údaje o Uchazeči (přenesou se do ostatních sestav i v jiných listech)_x000D_ _x000D_ 2) na vybraných listech vyplňte v sestavě Soupis prací ceny u položek_x000D_ _x000D_ Podrobnosti k vyplnění naleznete na poslední záložce s Pokyny pro vyplnění | BS5: 0,01
D6: Stavba: | K6: Cholina - chodníky náves (DSP) | BS6: 0,1
D7: KSO: | AK7: CC-CZ: | BS7: 1
D8: Místo: | K8: Cholina | AK8: Datum: | AN8: 23.10.2017 | BS8: 10
BS9: 100
D10: Zadavatel: | AK10: IČ: | BS10: 0,1
E11: Obec Cholina, Cholina 52, 78322 Cholina | AK11: DIČ: | BS11: 0,1
BS12: 0,1
D13: Uchazeč: | AK13: IČ: | AN13: Vyplň údaj | BS13: 0,1
E14: Vyplň údaj | AK14: DIČ: | AN14: Vyplň údaj | BS14: 0,1
BS15: False
D16: Projektant: | AK16: IČ: | BS16: False
AK17: DIČ: | BS17: True
BS18: 0,01
D19: Poznámka: | BS19: 0,01
E20: Soupis prací je sestaven s využitím Cenové soustavy ÚRS. Položky, které pochází z této cenové soustavy, jsou ve sloupci 'Cenová soustava' označeny popisem 'CS ÚRS' a úrovní příslušného kalendářního pololetí. Veškeré další informace vymezující popis a podmínky použití těchto položek z Cenové soustavy, které nejsou uvedeny přímo v soupisu prací, jsou neomezeně dálkově k dispozici na www.cs-urs.cz, sekce Cenové a technické podmínky. | BS20: False
D23: Cena bez DPH | AK23: =ROUND(AG51,2) -> 0
L25: Sazba daně | W25: Základ daně | AK25: Výše daně
D26: DPH | F26: základní | L26: 0.21 | W26: =ROUND(AZ51,2) -> 0 | AK26: =ROUND(AV51,2) -> 0
F27: snížená | L27: 0.15 | W27: =ROUND(BA51,2) -> 0 | AK27: =ROUND(AW51,2) -> 0
F28: zákl. přenesená | L28: 0.21 | W28: =ROUND(BB51,2) -> 0 | AK28: 0
F29: sníž. přenesená | L29: 0.15 | W29: =ROUND(BC51,2) -> 0 | AK29: 0
F30: nulová | L30: 0 | W30: =ROUND(BD51,2) -> 0 | AK30: 0
D32: Cena s DPH | T32: v | X32: CZK | AK32: =SUM(AK23:AK30) -> 0
C39: REKAPITULACE OBJEKTŮ STAVBY A SOUPISŮ PRACÍ
C41: Kód: | L41: =K5 -> 171022
C42: Stavba: | L42: =K6 -> Cholina - chodníky náves (DSP)
C44: Místo: | L44: =IF(K8="","",K8) -> Cholina | AI44: Datum: | AM44: =IF(AN8= "","",AN8) -> 23.10.2017
C46: Zadavatel: | L46: =IF(E11= "","",E11) -> Obec Cholina, Cholina 52, 78322 Cholina | AI46: Projektant: | AM46: =IF(E17="","",E17) | AS46: Informatívní údaje z listů zakázek
C47: Uchazeč: | L47: =IF(E14= "Vyplň údaj","",E14)
C49: Kód | I49: Objekt, Soupis prací | AG49: Cena bez DPH [CZK] | AN49: Cena s DPH [CZK] | AQ49: Typ | AS49: z toho Ostat._x000D_ náklady [CZK] | AT49: DPH [CZK] | AU49: Normohodiny [h] | AV49: DPH základní [CZK] | AW49: DPH snížená [CZK] | AX49: DPH základní přenesená_x000D_ [CZK] | AY49: DPH snížená přenesená_x000D_ [CZK] | AZ49: Základna_x000D_ DPH základní | BA49: Základna_x000D_ DPH snížená | BB49: Základna_x000D_ DPH zákl. přenesená | BC49: Základna_x000D_ DPH sníž. přenesená | BD49: Základna_x000D_ DPH nulová
C51: Náklady stavby celkem | AG51: =ROUND(AG52+AG53+SUM(AG56:AG58),2) -> 0 | AN51: =SUM(AG51,AT51) -> 0 | AS51: =ROUND(AS52+AS53+SUM(AS56:AS58),2) -> 0 | AT51: =ROUND(SUM(AV51:AW51),2) -> 0 | AU51: =ROUND(AU52+AU53+SUM(AU56:AU58),5) -> 0 | AV51: =ROUND(AZ51*L26,2) -> 0 | AW51: =ROUND(BA51*L27,2) -> 0 | AX51: =ROUND(BB51*L26,2) -> 0 | AY51: =ROUND(BC51*L27,2) -> 0 | AZ51: =ROUND(AZ52+AZ53+SUM(AZ56:AZ58),2) -> 0 | BA51: =ROUND(BA52+BA53+SUM(BA56:BA58),2) -> 0 | BB51: =ROUND(BB52+BB53+SUM(BB56:BB58),2) -> 0 | BC51: =ROUND(BC52+BC53+SUM(BC56:BC58),2) -> 0 | BD51: =ROUND(BD52+BD53+SUM(BD56:BD58),2) -> 0 | BS51: D | BT51: 0 | BU51: ###NOIMPORT### | BV51: IMPORT | BW51: {94d648a9-5e22-471a-a63c-a7130971398a} | BX51: {00000000-0000-0000-0000-000000000000}
A52: / | D52: 001 | J52: Ostatní náklady - přechodné DZ (Nezpůsobllé výdaje) | AG52: ='001 - Ostatní náklady - p...'!J27 -> 0 | AN52: =SUM(AG52,AT52) -> 0 | AQ52: STA | AS52: 0 | AT52: =ROUND(SUM(AV52:AW52),2) -> 0 | AU52: ='001 - Ostatní náklady - p...'!P79 -> 0 | AV52: ='001 - Ostatní náklady - p...'!J30 -> 0 | AW52: ='001 - Ostatní náklady - p...'!J31 -> 0 | AX52: ='001 - Ostatní náklady - p...'!J32 -> 0 | AY52: ='001 - Ostatní náklady - p...'!J33 -> 0 | AZ52: ='001 - Ostatní náklady - p...'!F30 -> 0 | BA52: ='001 - Ostatní náklady - p...'!F31 -> 0 | BB52: ='001 - Ostatní náklady - p...'!F32 -> 0 | BC52: ='001 - Ostatní náklady - p...'!F33 -> 0 | BD52: ='001 - Ostatní náklady - p...'!F34 -> 0 | BT52: 1 | BV52: IMPORT | BW52: {631d99f6-97a9-4734-b038-4f65f83d486a} | BX52: {94d648a9-5e22-471a-a63c-a7130971398a} | CM52: 2
D53: 101 | J53: SO 101_Chodníky a nástupiště | AG53: =ROUND(SUM(AG54:AG55),2) -> 0 | AN53: =SUM(AG53,AT53) -> 0 | AQ53: STA | AS53: =ROUND(SUM(AS54:AS55),2) -> 0 | AT53: =ROUND(SUM(AV53:AW53),2) -> 0 | AU53: =ROUND(SUM(AU54:AU55),5) -> 0 | AV53: =ROUND(AZ53*L26,2) -> 0 | AW53: =ROUND(BA53*L27,2) -> 0 | AX53: =ROUND(BB53*L26,2) -> 0 | AY53: =ROUND(BC53*L27,2) -> 0 | AZ53: =ROUND(SUM(AZ54:AZ55),2) -> 0 | BA53: =ROUND(SUM(BA54:BA55),2) -> 0 | BB53: =ROUND(SUM(BB54:BB55),2) -> 0 | BC53: =ROUND(SUM(BC54:BC55),2) -> 0 | BD53: =ROUND(SUM(BD54:BD55),2) -> 0 | BS53: D | BT53: 1 | BU53: ###NOIMPORT### | BV53: IMPORT | BW53: {ec757370-24a1-4250-aed2-f068cb258154} | BX53: {94d648a9-5e22-471a-a63c-a7130971398a} | CL53: 822 59 3 | CM53: 2
A54: / | E54: 101_1 | K54: Chodníky a nástupiště (Způsobilé výdaje - Hlaní aktivita) | AG54: ='101_1 - Chodníky a nástup...'!J29 -> 0 | AN54: =SUM(AG54,AT54) -> 0 | AQ54: Soupis | AS54: 0 | AT54: =ROUND(SUM(AV54:AW54),2) -> 0 | AU54: ='101_1 - Chodníky a nástup...'!P94 -> 0 | AV54: ='101_1 - Chodníky a nástup...'!J32 -> 0 | AW54: ='101_1 - Chodníky a nástup...'!J33 -> 0 | AX54: ='101_1 - Chodníky a nástup...'!J34 -> 0 | AY54: ='101_1 - Chodníky a nástup...'!J35 -> 0 | AZ54: ='101_1 - Chodníky a nástup...'!F32 -> 0 | BA54: ='101_1 - Chodníky a nástup...'!F33 -> 0 | BB54: ='101_1 - Chodníky a nástup...'!F34 -> 0 | BC54: ='101_1 - Chodníky a nástup...'!F35 -> 0 | BD54: ='101_1 - Chodníky a nástup...'!F36 -> 0 | BT54: 2 | BV54: IMPORT | BW54: {fc5469e5-e57f-4df9-9285-35517e75b047} | BX54: {ec757370-24a1-4250-aed2-f068cb258154} | CL54: 822 59 3
A55: / | E55: 101_2 | K55: Chodníky a nástupiště (Způsobilé výdaje - Vedlejší aktivita) | AG55: ='101_2 - Chodníky a nástup...'!J29 -> 0 | AN55: =SUM(AG55,AT55) -> 0 | AQ55: Soupis | AS55: 0 | AT55: =ROUND(SUM(AV55:AW55),2) -> 0 | AU55: ='101_2 - Chodníky a nástup...'!P90 -> 0 | AV55: ='101_2 - Chodníky a nástup...'!J32 -> 0 | AW55: ='101_2 - Chodníky a nástup...'!J33 -> 0 | AX55: ='101_2 - Chodníky a nástup...'!J34 -> 0 | AY55: ='101_2 - Chodníky a nástup...'!J35 -> 0 | AZ55: ='101_2 - Chodníky a nástup...'!F32 -> 0 | BA55: ='101_2 - Chodníky a nástup...'!F33 -> 0 | BB55: ='101_2 - Chodníky a nástup...'!F34 -> 0 | BC55: ='101_2 - Chodníky a nástup...'!F35 -> 0 | BD55: ='101_2 - Chodníky a nástup...'!F36 -> 0 | BT55: 2 | BV55: IMPORT | BW55: {f9518dfa-7886-4060-9176-7651ef67c4bf} | BX55: {ec757370-24a1-4250-aed2-f068cb258154} | CL55: 822 59 3
A56: / | D56: 102 | J56: SO 102 Parkovací stání (Nezpůsobilé výdaje) | AG56: ='102 - SO 102 Parkovací st...'!J27 -> 0 | AN56: =SUM(AG56,AT56) -> 0 | AQ56: STA | AS56: 0 | AT56: =ROUND(SUM(AV56:AW56),2) -> 0 | AU56: ='102 - SO 102 Parkovací st...'!P91 -> 0 | AV56: ='102 - SO 102 Parkovací st...'!J30 -> 0 | AW56: ='102 - SO 102 Parkovací st...'!J31 -> 0 | AX56: ='102 - SO 102 Parkovací st...'!J32 -> 0 | AY56: ='102 - SO 102 Parkovací st...'!J33 -> 0 | AZ56: ='102 - SO 102 Parkovací st...'!F30 -> 0 | BA56: ='102 - SO 102 Parkovací st...'!F31 -> 0 | BB56: ='102 - SO 102 Parkovací st...'!F32 -> 0 | BC56: ='102 - SO 102 Parkovací st...'!F33 -> 0 | BD56: ='102 - SO 102 Parkovací st...'!F34 -> 0 | BT56: 1 | BV56: IMPORT | BW56: {d876a8bb-1b27-4b99-8dec-640a2512edba} | BX56: {94d648a9-5e22-471a-a63c-a7130971398a} | CL56: 822 55 3 | CM56: 2
A57: / | D57: 103 | J57: SO 103 - BUS zálivy (Nezpůsobilé výdaje) | AG57: ='103 - SO 103 - BUS zálivy...'!J27 -> 0 | AN57: =SUM(AG57,AT57) -> 0 | AQ57: STA | AS57: 0 | AT57: =ROUND(SUM(AV57:AW57),2) -> 0 | AU57: ='103 - SO 103 - BUS zálivy...'!P94 -> 0 | AV57: ='103 - SO 103 - BUS zálivy...'!J30 -> 0 | AW57: ='103 - SO 103 - BUS zálivy...'!J31 -> 0 | AX57: ='103 - SO 103 - BUS zálivy...'!J32 -> 0 | AY57: ='103 - SO 103 - BUS zálivy...'!J33 -> 0 | AZ57: ='103 - SO 103 - BUS zálivy...'!F30 -> 0 | BA57: ='103 - SO 103 - BUS zálivy...'!F31 -> 0 | BB57: ='103 - SO 103 - BUS zálivy...'!F32 -> 0 | BC57: ='103 - SO 103 - BUS zálivy...'!F33 -> 0 | BD57: ='103 - SO 103 - BUS zálivy...'!F34 -> 0 | BT57: 1 | BV57: IMPORT | BW57: {3b76264e-7fd9-44a0-8c84-9eb16712f770} | BX57: {94d648a9-5e22-471a-a63c-a7130971398a} | CL57: 822 23 3 | CM57: 2
D58: 104 | J58: SO 104 - Vjezdy | AG58: =ROUND(SUM(AG59:AG60),2) -> 0 | AN58: =SUM(AG58,AT58) -> 0 | AQ58: STA | AS58: =ROUND(SUM(AS59:AS60),2) -> 0 | AT58: =ROUND(SUM(AV58:AW58),2) -> 0 | AU58: =ROUND(SUM(AU59:AU60),5) -> 0 | AV58: =ROUND(AZ58*L26,2) -> 0 | AW58: =ROUND(BA58*L27,2) -> 0 | AX58: =ROUND(BB58*L26,2) -> 0 | AY58: =ROUND(BC58*L27,2) -> 0 | AZ58: =ROUND(SUM(AZ59:AZ60),2) -> 0 | BA58: =ROUND(SUM(BA59:BA60),2) -> 0 | BB58: =ROUND(SUM(BB59:BB60),2) -> 0 | BC58: =ROUND(SUM(BC59:BC60),2) -> 0 | BD58: =ROUND(SUM(BD59:BD60),2) -> 0 | BS58: D | BT58: 1 | BU58: ###NOIMPORT### | BV58: IMPORT | BW58: {2bfb2019-a518-46f9-ad81-305a055b2921} | BX58: {94d648a9-5e22-471a-a63c-a7130971398a} | CL58: 822 55 3 | CM58: 2
A59: / | E59: 104_1 | K59: SO 104 - Vjezdy (Způsobilé výdaje - Hlavní aktivita) | AG59: ='104_1 - SO 104 - Vjezdy (...'!J29 -> 0 | AN59: =SUM(AG59,AT59) -> 0 | AQ59: Soupis | AS59: 0 | AT59: =ROUND(SUM(AV59:AW59),2) -> 0 | AU59: ='104_1 - SO 104 - Vjezdy (...'!P91 -> 0 | AV59: ='104_1 - SO 104 - Vjezdy (...'!J32 -> 0 | AW59: ='104_1 - SO 104 - Vjezdy (...'!J33 -> 0 | AX59: ='104_1 - SO 104 - Vjezdy (...'!J34 -> 0 | AY59: ='104_1 - SO 104 - Vjezdy (...'!J35 -> 0 | AZ59: ='104_1 - SO 104 - Vjezdy (...'!F32 -> 0 | BA59: ='104_1 - SO 104 - Vjezdy (...'!F33 -> 0 | BB59: ='104_1 - SO 104 - Vjezdy (...'!F34 -> 0 | BC59: ='104_1 - SO 104 - Vjezdy (...'!F35 -> 0 | BD59: ='104_1 - SO 104 - Vjezdy (...'!F36 -> 0 | BT59: 2 | BV59: IMPORT | BW59: {71c3aaf2-3c3b-49fe-890e-b67a19cab983} | BX59: {2bfb2019-a518-46f9-ad81-305a055b2921} | CL59: 822 55 3
A60: / | E60: 104_2 | K60: SO 104 - Vjezdy (Nezpůsobilé výdaje) | AG60: ='104_2 - SO 104 - Vjezdy (...'!J29 -> 0 | AN60: =SUM(AG60,AT60) -> 0 | AQ60: Soupis | AS60: 0 | AT60: =ROUND(SUM(AV60:AW60),2) -> 0 | AU60: ='104_2 - SO 104 - Vjezdy (...'!P96 -> 0 | AV60: ='104_2 - SO 104 - Vjezdy (...'!J32 -> 0 | AW60: ='104_2 - SO 104 - Vjezdy (...'!J33 -> 0 | AX60: ='104_2 - SO 104 - Vjezdy (...'!J34 -> 0 | AY60: ='104_2 - SO 104 - Vjezdy (...'!J35 -> 0 | AZ60: ='104_2 - SO 104 - Vjezdy (...'!F32 -> 0 | BA60: ='104_2 - SO 104 - Vjezdy (...'!F33 -> 0 | BB60: ='104_2 - SO 104 - Vjezdy (...'!F34 -> 0 | BC60: ='104_2 - SO 104 - Vjezdy (...'!F35 -> 0 | BD60: ='104_2 - SO 104 - Vjezdy (...'!F36 -> 0 | BT60: 2 | BV60: IMPORT | BW60: {c73c7bd6-c035-460b-beed-a857259f36a7} | BX60: {2bfb2019-a518-46f9-ad81-305a055b2921} | CL60: 822 55 3

Sheet 001 - Ostatní náklady - p...
D1: List obsahuje: | F1: 1) Krycí list soupisu | G1: 2) Rekapitulace | J1: 3) Soupis prací | K1: Zpět na list: | L1: Rekapitulace stavby
AT2: {631d99f6-97a9-4734-b038-4f65f83d486a}
AT3: 2
D4: KRYCÍ LIST SOUPISU | M4: v --- níže se nacházejí doplnkové a pomocné údaje k sestavám --- v | AT4: False
D6: Stavba:
E7: ='Rekapitulace stavby'!K6 -> Cholina - chodníky náves (DSP)
D8: Objekt:
E9: 001 - Ostatní náklady - přechodné DZ (Nezpůsobllé výdaje)
D11: KSO: | I11: CC-CZ:
D12: Místo: | F12: Cholina | I12: Datum: | J12: ='Rekapitulace stavby'!AN8 -> 23.10.2017
D14: Zadavatel: | I14: IČ:
E15: Obec Cholina, Cholina 52, 78322 Cholina | I15: DIČ:
D17: Uchazeč: | I17: IČ: | J17: =IF('Rekapitulace stavby'!AN13="Vyplň údaj","",IF('Rekapitulace stavby'!AN13="","",'Rekapitulace stavby'!AN13))
E18: =IF('Rekapitulace stavby'!E14="Vyplň údaj","",IF('Rekapitulace stavby'!E14="","",'Rekapitulace stavby'!E14)) | I18: DIČ: | J18: =IF('Rekapitulace stavby'!AN14="Vyplň údaj","",IF('Rekapitulace stavby'!AN14="","",'Rekapitulace stavby'!AN14))
D20: Projektant: | I20: IČ:
I21: DIČ:
D23: Poznámka:
D27: Cena bez DPH | J27: =ROUND(J79,2) -> 0
F29: Základ daně | I29: Sazba daně | J29: Výše daně
D30: DPH | E30: základní | F30: =ROUND(SUM(BE79:BE169), 2) -> 0 | I30: 0.21 | J30: =ROUND(ROUND((SUM(BE79:BE169)), 2)*I30, 2) -> 0
E31: snížená | F31: =ROUND(SUM(BF79:BF169), 2) -> 0 | I31: 0.15 | J31: =ROUND(ROUND((SUM(BF79:BF169)), 2)*I31, 2) -> 0
E32: zákl. přenesená | F32: =ROUND(SUM(BG79:BG169), 2) -> 0 | I32: 0.21 | J32: 0
E33: sníž. přenesená | F33: =ROUND(SUM(BH79:BH169), 2) -> 0 | I33: 0.15 | J33: 0
E34: nulová | F34: =ROUND(SUM(BI79:BI169), 2) -> 0 | I34: 0 | J34: 0
D36: Cena s DPH | G36: v | H36: CZK | J36: =SUM(J27:J34) -> 0
C42: REKAPITULACE ČLENĚNÍ SOUPISU PRACÍ
C44: Stavba:
E45: =E7 -> Cholina - chodníky náves (DSP)
C46: Objekt:
E47: =E9 -> 001 - Ostatní náklady - přechodné DZ (Nezpůsobllé výdaje)
C49: Místo: | F49: =F12 -> Cholina | I49: Datum: | J49: =IF(J12="","",J12) -> 23.10.2017
C51: Zadavatel: | F51: =E15 -> Obec Cholina, Cholina 52, 78322 Cholina | I51: Projektant: | J51: =E21
C52: Uchazeč: | F52: =IF(E18="","",E18)
C54: Kód dílu - Popis | J54: Cena celkem [CZK]
C56: Náklady soupisu celkem | J56: =J79 -> 0 | AU56: -1
D57: HSV - Práce a dodávky HSV | J57: =J80 -> 0
D58: 91 - Doplňující konstrukce a práce pozemních komunikací, letišť a ploch | J58: =J81 -> 0
D59: 998 - Přesun hmot | J59: =J168 -> 0
C66: SOUPIS PRACÍ
C68: Stavba:
E69: =E7 -> Cholina - chodníky náves (DSP)
C70: Objekt:
E71: =E9 -> 001 - Ostatní náklady - přechodné DZ (Nezpůsobllé výdaje)
C73: Místo: | F73: =F12 -> Cholina | I73: Datum: | J73: =IF(J12="","",J12) -> 23.10.2017
C75: Zadavatel: | F75: =E15 -> Obec Cholina, Cholina 52, 78322 Cholina | I75: Projektant: | J75: =E21
C76: Uchazeč: | F76: =IF(E18="","",E18)
C78: PČ | D78: Typ | E78: Kód | F78: Popis | G78: MJ | H78: Množství | I78: J.cena [CZK] | J78: Cena celkem [CZK] | K78: Cenová soustava | M78: Poznámka | N78: DPH | O78: J. Nh [h] | P78: Nh celkem [h] | Q78: J. hmotnost_x000D_ [t] | R78: Hmotnost_x000D_ celkem [t] | S78: J. suť [t] | T78: Suť Celkem [t]
C79: Náklady soupisu celkem | J79: =BK79 -> 0 | P79: =P80 -> 0 | R79: =R80 -> 0.001088442 | T79: =T80 -> 0 | AT79: D | AU79: -1 | BK79: =BK80 -> 0
D80: D | E80: HSV | F80: Práce a dodávky HSV | J80: =BK80 -> 0 | P80: =P81+P168 -> 0 | R80: =R81+R168 -> 0.001088442 | T80: =T81+T168 -> 0 | AR80: 1 | AT80: D | AU80: 0 | AY80: ROZPOCET | BK80: =BK81+BK168 -> 0
D81: D | E81: 91 | F81: Doplňující konstrukce a práce pozemních komunikací, letišť a ploch | J81: =BK81 -> 0 | P81: =SUM(P82:P167) -> 0 | R81: =SUM(R82:R167) -> 0.001088442 | T81: =SUM(T82:T167) -> 0 | AR81: 1 | AT81: D | AU81: 1 | AY81: ROZPOCET | BK81: =SUM(BK82:BK167) -> 0
C82: 1 | D82: K | E82: 913111115 | F82: Montáž a demontáž dočasných dopravních značek samostatných značek základních | G82: kus | H82: 2 | J82: =ROUND(I82*H82,2) -> 0 | K82: CS ÚRS 2017 02 | N82: základní | P82: =O82*H82 -> 0 | Q82: 0 | R82: =Q82*H82 -> 0 | S82: 0 | T82: =S82*H82 -> 0 | AR82: 4 | AT82: K | AU82: 2 | AY82: ROZPOCET | BE82: =IF(N82="základní",J82,0) -> 0 | BF82: =IF(N82="snížená",J82,0) -> 0 | BG82: =IF(N82="zákl. přenesená",J82,0) -> 0 | BH82: =IF(N82="sníž. přenesená",J82,0) -> 0 | BI82: =IF(N82="nulová",J82,0) -> 0 | BJ82: 1 | BK82: =ROUND(I82*H82,2) -> 0 | BL82: 4 | BM82: 613942414
D83: PSC | F83: Poznámka k souboru cen:_x000D_ 1. V cenách jsou započteny náklady na montáž i demontáž dočasné značky, nebo podstavce. | AT83: PSC | AU83: 2
D84: VV | F84: "dle výkazu projektanta - viz. část E." | AT84: VV | AU84: 2 | AV84: 1 | AW84: True | AX84: 0 | AY84: ROZPOCET
D85: VV | F85: 1 "C4a Přikázaný směr objížďky vpravo | H85: 1 | AT85: VV | AU85: 2 | AV85: 2 | AW85: True | AX85: 0 | AY85: ROZPOCET
D86: VV | F86: 1 "C4b Přikázaný směr objížďky vlevo | H86: 1 | AT86: VV | AU86: 2 | AV86: 2 | AW86: True | AX86: 0 | AY86: ROZPOCET
D87: VV | F87: Součet | H87: 2 | AT87: VV | AU87: 2 | AV87: 4 | AW87: True | AX87: 1 | AY87: ROZPOCET
C88: 2 | D88: K | E88: 913111215 | F88: Montáž a demontáž dočasných dopravních značek Příplatek za první a každý další den použití dočasných dopravních značek k ceně 11-1115 | G88: kus | H88: 180 | J88: =ROUND(I88*H88,2) -> 0 | K88: CS ÚRS 2017 02 | N88: základní | P88: =O88*H88 -> 0 | Q88: 0 | R88: =Q88*H88 -> 0 | S88: 0 | T88: =S88*H88 -> 0 | AR88: 4 | AT88: K | AU88: 2 | AY88: ROZPOCET | BE88: =IF(N88="základní",J88,0) -> 0 | BF88: =IF(N88="snížená",J88,0) -> 0 | BG88: =IF(N88="zákl. přenesená",J88,0) -> 0 | BH88: =IF(N88="sníž. přenesená",J88,0) -> 0 | BI88: =IF(N88="nulová",J88,0) -> 0 | BJ88: 1 | BK88: =ROUND(I88*H88,2) -> 0 | BL88: 4 | BM88: 660816205
D89: PSC | F89: Poznámka k souboru cen:_x000D_ 1. V cenách jsou započteny náklady na montáž i demontáž dočasné značky, nebo podstavce. | AT89: PSC | AU89: 2
D90: P | F90: Poznámka k položce: Zahájení stavby 07/2016 Dkončení stavby 09/2016 | AT90: P | AU90: 2
D91: VV | F91: 2*90 "Přepočtené koeficientem množství | H91: 180 | AT91: VV | AU91: 2 | AV91: 2 | AW91: True | AX91: 1 | AY91: ROZPOCET
C92: 3 | D92: K | E92: 913121111 | F92: Montáž a demontáž dočasných dopravních značek kompletních značek vč. podstavce a sloupku základních | G92: kus | H92: 4 | J92: =ROUND(I92*H92,2) -> 0 | K92: CS ÚRS 2017 02 | N92: základní | P92: =O92*H92 -> 0 | Q92: 0 | R92: =Q92*H92 -> 0 | S92: 0 | T92: =S92*H92 -> 0 | AR92: 4 | AT92: K | AU92: 2 | AY92: ROZPOCET | BE92: =IF(N92="základní",J92,0) -> 0 | BF92: =IF(N92="snížená",J92,0) -> 0 | BG92: =IF(N92="zákl. přenesená",J92,0) -> 0 | BH92: =IF(N92="sníž. přenesená",J92,0) -> 0 | BI92: =IF(N92="nulová",J92,0) -> 0 | BJ92: 1 | BK92: =ROUND(I92*H92,2) -> 0 | BL92: 4 | BM92: -1965247492
D93: PSC | F93: Poznámka k souboru cen:_x000D_ 1. V cenách jsou započteny náklady na montáž i demontáž dočasné značky, nebo podstavce. | AT93: PSC | AU93: 2
D94: VV | F94: "dle výkazu projektanta - viz. část E." | AT94: VV | AU94: 2 | AV94: 1 | AW94: True | AX94: 0 | AY94: ROZPOCET
D95: VV | F95: 2 "A15 - práce na silnici | H95: 2 | AT95: VV | AU95: 2 | AV95: 2 | AW95: True | AX95: 0 | AY95: ROZPOCET
D96: VV | F96: 2 "E3a - vzdálenost | H96: 2 | AT96: VV | AU96: 2 | AV96: 2 | AW96: True | AX96: 0 | AY96: ROZPOCET
D97: VV | F97: Součet | H97: 4 | AT97: VV | AU97: 2 | AV97: 4 | AW97: True | AX97: 1 | AY97: ROZPOCET
C98: 4 | D98: K | E98: 913121211 | F98: Montáž a demontáž dočasných dopravních značek Příplatek za první a každý další den použití dočasných dopravních značek k ceně 12-1111 | G98: kus | H98: 360 | J98: =ROUND(I98*H98,2) -> 0 | K98: CS ÚRS 2017 02 | N98: základní | P98: =O98*H98 -> 0 | Q98: 0 | R98: =Q98*H98 -> 0 | S98: 0 | T98: =S98*H98 -> 0 | AR98: 4 | AT98: K | AU98: 2 | AY98: ROZPOCET | BE98: =IF(N98="základní",J98,0) -> 0 | BF98: =IF(N98="snížená",J98,0) -> 0 | BG98: =IF(N98="zákl. přenesená",J98,0) -> 0 | BH98: =IF(N98="sníž. přenesená",J98,0) -> 0 | BI98: =IF(N98="nulová",J98,0) -> 0 | BJ98: 1 | BK98: =ROUND(I98*H98,2) -> 0 | BL98: 4 | BM98: -925321320
D99: PSC | F99: Poznámka k souboru cen:_x000D_ 1. V cenách jsou započteny náklady na montáž i demontáž dočasné značky, nebo podstavce. | AT99: PSC | AU99: 2
D100: P | F100: Poznámka k položce: Zahájení stavby 07/2016 Dkončení stavby 09/2016 | AT100: P | AU100: 2
D101: VV | F101: 4*90 "Přepočtené koeficientem množství | H101: 360 | AT101: VV | AU101: 2 | AV101: 2 | AW101: True | AX101: 1 | AY101: ROZPOCET
C102: 5 | D102: K | E102: 913211113 | F102: Montáž a demontáž dočasných dopravních zábran reflexních, šířky 3 m | G102: kus | H102: 2 | J102: =ROUND(I102*H102,2) -> 0 | K102: CS ÚRS 2017 02 | N102: základní | P102: =O102*H102 -> 0 | Q102: 0 | R102: =Q102*H102 -> 0 | S102: 0 | T102: =S102*H102 -> 0 | AR102: 4 | AT102: K | AU102: 2 | AY102: ROZPOCET | BE102: =IF(N102="základní",J102,0) -> 0 | BF102: =IF(N102="snížená",J102,0) -> 0 | BG102: =IF(N102="zákl. přenesená",J102,0) -> 0 | BH102: =IF(N102="sníž. přenesená",J102,0) -> 0 | BI102: =IF(N102="nulová",J102,0) -> 0 | BJ102: 1 | BK102: =ROUND(I102*H102,2) -> 0 | BL102: 4 | BM102: 171300279
D103: PSC | F103: Poznámka k souboru cen:_x000D_ 1. V cenách jsou započteny náklady na montáž i demontáž dočasné zábrany. 2. V cenách světelných dočasných dopravních zábran 913 22-11 nejsou započteny náklady na akumulátor, které se oceňují cenami souboru cen 913 91-1. | AT103: PSC | AU103: 2
D104: VV | F104: "dle výkazu projektanta - viz. část E." | AT104: VV | AU104: 2 | AV104: 1 | AW104: True | AX104: 0 | AY104: ROZPOCET
D105: VV | F105: 2 "Zábrana pro označení uzavírky | H105: 2 | AT105: VV | AU105: 2 | AV105: 2 | AW105: True | AX105: 1 | AY105: ROZPOCET
C106: 6 | D106: K | E106: 913211213 | F106: Montáž a demontáž dočasných dopravních zábran Příplatek za první a každý další den použití dočasných dopravních zábran k ceně 21-1113 | G106: kus | H106: 180 | J106: =ROUND(I106*H106,2) -> 0 | K106: CS ÚRS 2017 02 | N106: základní | P106: =O106*H106 -> 0 | Q106: 0 | R106: =Q106*H106 -> 0 | S106: 0 | T106: =S106*H106 -> 0 | AR106: 4 | AT106: K | AU106: 2 | AY106: ROZPOCET | BE106: =IF(N106="základní",J106,0) -> 0 | BF106: =IF(N106="snížená",J106,0) -> 0 | BG106: =IF(N106="zákl. přenesená",J106,0) -> 0 | BH106: =IF(N106="sníž. přenesená",J106,0) -> 0 | BI106: =IF(N106="nulová",J106,0) -> 0 | BJ106: 1 | BK106: =ROUND(I106*H106,2) -> 0 | BL106: 4 | BM106: -1786400079
D107: PSC | F107: Poznámka k souboru cen:_x000D_ 1. V cenách jsou započteny náklady na montáž i demontáž dočasné zábrany. 2. V cenách světelných dočasných dopravních zábran 913 22-11 nejsou započteny náklady na akumulátor, které se oceňují cenami souboru cen 913 91-1. | AT107: PSC | AU107: 2
D108: P | F108: Poznámka k položce: Zahájení stavby 07/2016 Dkončení stavby 09/2016 | AT108: P | AU108: 2
D109: VV | F109: 2*90 "Přepočtené koeficientem množství | H109: 180 | AT109: VV | AU109: 2 | AV109: 2 | AW109: True | AX109: 1 | AY109: ROZPOCET
C110: 7 | D110: K | E110: 913221113 | F110: Montáž a demontáž dočasných dopravních zábran světelných včetně zásobníku na akumulátor, šířky 3 m, 5 světel | G110: kus | H110: 2 | J110: =ROUND(I110*H110,2) -> 0 | K110: CS ÚRS 2017 02 | N110: základní | P110: =O110*H110 -> 0 | Q110: 0 | R110: =Q110*H110 -> 0 | S110: 0 | T110: =S110*H110 -> 0 | AR110: 4 | AT110: K | AU110: 2 | AY110: ROZPOCET | BE110: =IF(N110="základní",J110,0) -> 0 | BF110: =IF(N110="snížená",J110,0) -> 0 | BG110: =IF(N110="zákl. přenesená",J110,0) -> 0 | BH110: =IF(N110="sníž. přenesená",J110,0) -> 0 | BI110: =IF(N110="nulová",J110,0) -> 0 | BJ110: 1 | BK110: =ROUND(I110*H110,2) -> 0 | BL110: 4 | BM110: 774733109
D111: PSC | F111: Poznámka k souboru cen:_x000D_ 1. V cenách jsou započteny náklady na montáž i demontáž dočasné zábrany. 2. V cenách světelných dočasných dopravních zábran 913 22-11 nejsou započteny náklady na akumulátor, které se oceňují cenami souboru cen 913 91-1. | AT111: PSC | AU111: 2
D112: VV | F112: "dle výkazu projektanta - viz. část E." | AT112: VV | AU112: 2 | AV112: 1 | AW112: True | AX112: 0 | AY112: ROZPOCET
D113: VV | F113: 2 | H113: 2 | AT113: VV | AU113: 2 | AV113: 2 | AW113: True | AX113: 1 | AY113: ROZPOCET
C114: 8 | D114: K | E114: 913221213 | F114: Montáž a demontáž dočasných dopravních zábran Příplatek za první a každý další den použití dočasných dopravních zábran k ceně 22-1113 | G114: kus | H114: 180 | J114: =ROUND(I114*H114,2) -> 0 | K114: CS ÚRS 2017 02 | N114: základní | P114: =O114*H114 -> 0 | Q114: 0 | R114: =Q114*H114 -> 0 | S114: 0 | T114: =S114*H114 -> 0 | AR114: 4 | AT114: K | AU114: 2 | AY114: ROZPOCET | BE114: =IF(N114="základní",J114,0) -> 0 | BF114: =IF(N114="snížená",J114,0) -> 0 | BG114: =IF(N114="zákl. přenesená",J114,0) -> 0 | BH114: =IF(N114="sníž. přenesená",J114,0) -> 0 | BI114: =IF(N114="nulová",J114,0) -> 0 | BJ114: 1 | BK114: =ROUND(I114*H114,2) -> 0 | BL114: 4 | BM114: -638679913
D115: PSC | F115: Poznámka k souboru cen:_x000D_ 1. V cenách jsou započteny náklady na montáž i demontáž dočasné zábrany. 2. V cenách světelných dočasných dopravních zábran 913 22-11 nejsou započteny náklady na akumulátor, které se oceňují cenami souboru cen 913 91-1. | AT115: PSC | AU115: 2
D116: P | F116: Poznámka k položce: Zahájení stavby 07/2016 Dkončení stavby 09/2016 | AT116: P | AU116: 2
D117: VV | F117: 2*90 "Přepočtené koeficientem množství | H117: 180 | AT117: VV | AU117: 2 | AV117: 2 | AW117: True | AX117: 1 | AY117: ROZPOCET
C118: 9 | D118: K | E118: 913321111 | F118: Montáž a demontáž dočasných dopravních vodících zařízení směrové desky základní | G118: kus | H118: 27 | J118: =ROUND(I118*H118,2) -> 0 | K118: CS ÚRS 2017 02 | N118: základní | P118: =O118*H118 -> 0 | Q118: 0 | R118: =Q118*H118 -> 0 | S118: 0 | T118: =S118*H118 -> 0 | AR118: 4 | AT118: K | AU118: 2 | AY118: ROZPOCET | BE118: =IF(N118="základní",J118,0) -> 0 | BF118: =IF(N118="snížená",J118,0) -> 0 | BG118: =IF(N118="zákl. přenesená",J118,0) -> 0 | BH118: =IF(N118="sníž. přenesená",J118,0) -> 0 | BI118: =IF(N118="nulová",J118,0) -> 0 | BJ118: 1 | BK118: =ROUND(I118*H118,2) -> 0 | BL118: 4 | BM118: 1374726803
D119: PSC | F119: Poznámka k souboru cen:_x000D_ 1. V cenách jsou započteny náklady na montáž i demontáž dočasného vodícího zařízení. | AT119: PSC | AU119: 2
D120: VV | F120: "dle výkazu projektanta - viz. část E." | AT120: VV | AU120: 2 | AV120: 1 | AW120: True | AX120: 0 | AY120: ROZPOCET
D121: VV | F121: 27 "Z4a směrová deska | H121: 27 | AT121: VV | AU121: 2 | AV121: 2 | AW121: True | AX121: 1 | AY121: ROZPOCET
C122: 10 | D122: K | E122: 913321211 | F122: Montáž a demontáž dočasných dopravních vodících zařízení Příplatek za první a každý další den použití dočasných dopravních vodících zařízení k ceně 32-1111 | G122: kus | H122: 2430 | J122: =ROUND(I122*H122,2) -> 0 | K122: CS ÚRS 2017 02 | N122: základní | P122: =O122*H122 -> 0 | Q122: 0 | R122: =Q122*H122 -> 0 | S122: 0 | T122: =S122*H122 -> 0 | AR122: 4 | AT122: K | AU122: 2 | AY122: ROZPOCET | BE122: =IF(N122="základní",J122,0) -> 0 | BF122: =IF(N122="snížená",J122,0) -> 0 | BG122: =IF(N122="zákl. přenesená",J122,0) -> 0 | BH122: =IF(N122="sníž. přenesená",J122,0) -> 0 | BI122: =IF(N122="nulová",J122,0) -> 0 | BJ122: 1 | BK122: =ROUND(I122*H122,2) -> 0 | BL122: 4 | BM122: -1287096427
D123: PSC | F123: Poznámka k souboru cen:_x000D_ 1. V cenách jsou započteny náklady na montáž i demontáž dočasného vodícího zařízení. | AT123: PSC | AU123: 2
D124: P | F124: Poznámka k položce: Zahájení stavby 07/2016 Dkončení stavby 09/2016 | AT124: P | AU124: 2
D125: VV | F125: 27*90 "Přepočtené koeficientem množství | H125: 2430 | AT125: VV | AU125: 2 | AV125: 2 | AW125: True | AX125: 1 | AY125: ROZPOCET
C126: 11 | D126: K | E126: 913331115 | F126: Montáž a demontáž dočasných dopravních vodících zařízení signální svítilny včetně akumulátoru | G126: kus | H126: 2 | J126: =ROUND(I126*H126,2) -> 0 | K126: CS ÚRS 2017 02 | N126: základní | P126: =O126*H126 -> 0 | Q126: 0 | R126: =Q126*H126 -> 0 | S126: 0 | T126: =S126*H126 -> 0 | AR126: 4 | AT126: K | AU126: 2 | AY126: ROZPOCET | BE126: =IF(N126="základní",J126,0) -> 0 | BF126: =IF(N126="snížená",J126,0) -> 0 | BG126: =IF(N126="zákl. přenesená",J126,0) -> 0 | BH126: =IF(N126="sníž. přenesená",J126,0) -> 0 | BI126: =IF(N126="nulová",J126,0) -> 0 | BJ126: 1 | BK126: =ROUND(I126*H126,2) -> 0 | BL126: 4 | BM126: -672655406
D127: PSC | F127: Poznámka k souboru cen:_x000D_ 1. V cenách jsou započteny náklady na montáž i demontáž dočasného vodícího zařízení. | AT127: PSC | AU127: 2
D128: VV | F128: "dle výkazu projektanta - viz. část E." | AT128: VV | AU128: 2 | AV128: 1 | AW128: True | AX128: 0 | AY128: ROZPOCET
D129: VV | F129: 2 | H129: 2 | AT129: VV | AU129: 2 | AV129: 2 | AW129: True | AX129: 1 | AY129: ROZPOCET
C130: 12 | D130: K | E130: 913331215 | F130: Montáž a demontáž dočasných dopravních vodících zařízení Příplatek za první a každý další den použití dočasných dopravních vodících zařízení k ceně 33-1115 | G130: kus | H130: 180 | J130: =ROUND(I130*H130,2) -> 0 | K130: CS ÚRS 2017 02 | N130: základní | P130: =O130*H130 -> 0 | Q130: 0 | R130: =Q130*H130 -> 0 | S130: 0 | T130: =S130*H130 -> 0 | AR130: 4 | AT130: K | AU130: 2 | AY130: ROZPOCET | BE130: =IF(N130="základní",J130,0) -> 0 | BF130: =IF(N130="snížená",J130,0) -> 0 | BG130: =IF(N130="zákl. přenesená",J130,0) -> 0 | BH130: =IF(N130="sníž. přenesená",J130,0) -> 0 | BI130: =IF(N130="nulová",J130,0) -> 0 | BJ130: 1 | BK130: =ROUND(I130*H130,2) -> 0 | BL130: 4 | BM130: -1615910893
D131: PSC | F131: Poznámka k souboru cen:_x000D_ 1. V cenách jsou započteny náklady na montáž i demontáž dočasného vodícího zařízení. | AT131: PSC | AU131: 2
...

Sheet 101_1 - Chodníky a nástup...
D1: List obsahuje: | F1: 1) Krycí list soupisu | G1: 2) Rekapitulace | J1: 3) Soupis prací | K1: Zpět na list: | L1: Rekapitulace stavby
AT2: {fc5469e5-e57f-4df9-9285-35517e75b047} | AZ2: O1HAm3 | BA2: Odkopávka SO 101 (Hlavní aktivita) | BB2: m3 | BC2: 225 | BD2: 2
AT3: 2 | AZ3: OB1HAm3 | BA3: obsyp potrubí štěrkopískem | BB3: m3 | BC3: 8,28 | BD3: 2
D4: KRYCÍ LIST SOUPISU | M4: v --- níže se nacházejí doplnkové a pomocné údaje k sestavám --- v | AT4: False | AZ4: R1HAm3 | BA4: Výkop rýh SO 101 (Hlavní aktivita) | BB4: m3 | BC4: 42,563 | BD4: 2
AZ5: Z1HAm3 | BA5: zásyp štěrkopískem | BB5: m3 | BC5: 28,155 | BD5: 2
D6: Stavba: | AZ6: ZZ1HAm3 | BA6: Zásyp vhodnou vytěženou zeminou nenemrzavou | BB6: m3 | BC6: 73,6 | BD6: 2
E7: ='Rekapitulace stavby'!K6 -> Cholina - chodníky náves (DSP)
D8: Objekt:
E9: 101 - SO 101_Chodníky a nástupiště
D10: Soupis:
E11: 101_1 - Chodníky a nástupiště (Způsobilé výdaje - Hlaní aktivita)
D13: KSO: | F13: 822 59 3 | I13: CC-CZ:
D14: Místo: | F14: Cholina | I14: Datum: | J14: ='Rekapitulace stavby'!AN8 -> 23.10.2017
D16: Zadavatel: | I16: IČ:
E17: Obec Cholina, Cholina 52, 78322 Cholina | I17: DIČ:
D19: Uchazeč: | I19: IČ: | J19: =IF('Rekapitulace stavby'!AN13="Vyplň údaj","",IF('Rekapitulace stavby'!AN13="","",'Rekapitulace stavby'!AN13))
E20: =IF('Rekapitulace stavby'!E14="Vyplň údaj","",IF('Rekapitulace stavby'!E14="","",'Rekapitulace stavby'!E14)) | I20: DIČ: | J20: =IF('Rekapitulace stavby'!AN14="Vyplň údaj","",IF('Rekapitulace stavby'!AN14="","",'Rekapitulace stavby'!AN14))
D22: Projektant: | I22: IČ:
I23: DIČ:
D25: Poznámka:
D29: Cena bez DPH | J29: =ROUND(J94,2) -> 0
F31: Základ daně | I31: Sazba daně | J31: Výše daně
D32: DPH | E32: základní | F32: =ROUND(SUM(BE94:BE673), 2) -> 0 | I32: 0.21 | J32: =ROUND(ROUND((SUM(BE94:BE673)), 2)*I32, 2) -> 0
E33: snížená | F33: =ROUND(SUM(BF94:BF673), 2) -> 0 | I33: 0.15 | J33: =ROUND(ROUND((SUM(BF94:BF673)), 2)*I33, 2) -> 0
E34: zákl. přenesená | F34: =ROUND(SUM(BG94:BG673), 2) -> 0 | I34: 0.21 | J34: 0
E35: sníž. přenesená | F35: =ROUND(SUM(BH94:BH673), 2) -> 0 | I35: 0.15 | J35: 0
E36: nulová | F36: =ROUND(SUM(BI94:BI673), 2) -> 0 | I36: 0 | J36: 0
D38: Cena s DPH | G38: v | H38: CZK | J38: =SUM(J29:J36) -> 0
C44: REKAPITULACE ČLENĚNÍ SOUPISU PRACÍ
C46: Stavba:
E47: =E7 -> Cholina - chodníky náves (DSP)
C48: Objekt:
E49: 101 - SO 101_Chodníky a nástupiště
C50: Soupis:
E51: =E11 -> 101_1 - Chodníky a nástupiště (Způsobilé výdaje - Hlaní aktivita)
C53: Místo: | F53: =F14 -> Cholina | I53: Datum: | J53: =IF(J14="","",J14) -> 23.10.2017
C55: Zadavatel: | F55: =E17 -> Obec Cholina, Cholina 52, 78322 Cholina | I55: Projektant: | J55: =E23
C56: Uchazeč: | F56: =IF(E20="","",E20)
C58: Kód dílu - Popis | J58: Cena celkem [CZK]
C60: Náklady soupisu celkem | J60: =J94 -> 0 | AU60: -1
D61: HSV - Práce a dodávky HSV | J61: =J95 -> 0
D62: 10 - Zemní práce | J62: =J96 -> 0
D63: 11 - Zemní práce - přípravné a přidružené práce | J63: =J274 -> 0
D64: 45 - Podkladní a vedlejší konstrukce kromě vozovek a železničního svršku | J64: =J316 -> 0
D65: 56 - Podkladní vrstvy komunikací, letišť a ploch | J65: =J334 -> 0
D66: 59 - Kryty pozemních komunikací, letišť a ploch dlážděné | J66: =J339 -> 0
D67: 87 - Potrubí z trub plastických a skleněných | J67: =J379 -> 0
D68: 89 - Ostatní konstrukce | J68: =J386 -> 0
D69: 91 - Doplňující konstrukce a práce pozemních komunikací, letišť a ploch | J69: =J439 -> 0
D70: 96 - Bourání konstrukcí | J70: =J524 -> 0
D71: 997 - Přesun sutě | J71: =J545 -> 0
D72: 998 - Přesun hmot | J72: =J672 -> 0
C79: SOUPIS PRACÍ
C81: Stavba:
E82: =E7 -> Cholina - chodníky náves (DSP)
C83: Objekt:
E84: 101 - SO 101_Chodníky a nástupiště
C85: Soupis:
E86: =E11 -> 101_1 - Chodníky a nástupiště (Způsobilé výdaje - Hlaní aktivita)
C88: Místo: | F88: =F14 -> Cholina | I88: Datum: | J88: =IF(J14="","",J14) -> 23.10.2017
C90: Zadavatel: | F90: =E17 -> Obec Cholina, Cholina 52, 78322 Cholina | I90: Projektant: | J90: =E23
C91: Uchazeč: | F91: =IF(E20="","",E20)
C93: PČ | D93: Typ | E93: Kód | F93: Popis | G93: MJ | H93: Množství | I93: J.cena [CZK] | J93: Cena celkem [CZK] | K93: Cenová soustava | M93: Poznámka | N93: DPH | O93: J. Nh [h] | P93: Nh celkem [h] | Q93: J. hmotnost_x000D_ [t] | R93: Hmotnost_x000D_ celkem [t] | S93: J. suť [t] | T93: Suť Celkem [t]
C94: Náklady soupisu celkem | J94: =BK94 -> 0 | P94: =P95 -> 0 | R94: =R95 -> 526.73392 | T94: =T95 -> 457.75118 | AT94: D | AU94: -1 | BK94: =BK95 -> 0
D95: D | E95: HSV | F95: Práce a dodávky HSV | J95: =BK95 -> 0 | P95: =P96+P274+P316+P334+P339+P379+P386+P439+P524+P545+P672 -> 0 | R95: =R96+R274+R316+R334+R339+R379+R386+R439+R524+R545+R672 -> 526.73392 | T95: =T96+T274+T316+T334+T339+T379+T386+T439+T524+T545+T672 -> 457.75118 | AR95: 1 | AT95: D | AU95: 0 | AY95: ROZPOCET | BK95: =BK96+BK274+BK316+BK334+BK339+BK379+BK386+BK439+BK524+BK545+BK672 -> 0
D96: D | E96: 10 | F96: Zemní práce | J96: =BK96 -> 0 | P96: =SUM(P97:P273) -> 0 | R96: =SUM(R97:R273) -> 76.053469 | T96: =SUM(T97:T273) -> 0 | AR96: 1 | AT96: D | AU96: 1 | AY96: ROZPOCET | BK96: =SUM(BK97:BK273) -> 0
C97: 1 | D97: K | E97: 121101101 | F97: Sejmutí ornice nebo lesní půdy s vodorovným přemístěním na hromady v místě upotřebení nebo na dočasné či trvalé skládky se složením, na vzdálenost do 50 m | G97: m3 | H97: 76.9 | J97: =ROUND(I97*H97,2) -> 0 | K97: CS ÚRS 2017 02 | N97: základní | P97: =O97*H97 -> 0 | Q97: 0 | R97: =Q97*H97 -> 0 | S97: 0 | T97: =S97*H97 -> 0 | AR97: 4 | AT97: K | AU97: 2 | AY97: ROZPOCET | BE97: =IF(N97="základní",J97,0) -> 0 | BF97: =IF(N97="snížená",J97,0) -> 0 | BG97: =IF(N97="zákl. přenesená",J97,0) -> 0 | BH97: =IF(N97="sníž. přenesená",J97,0) -> 0 | BI97: =IF(N97="nulová",J97,0) -> 0 | BJ97: 1 | BK97: =ROUND(I97*H97,2) -> 0 | BL97: 4 | BM97: 1695997001
D98: PSC | F98: Poznámka k souboru cen:_x000D_ 1. V cenách jsou započteny i náklady na příp. nutné naložení sejmuté ornice na dopravní prostředek. 2. V cenách nejsou započteny náklady na odstranění nevhodných přimísenin (kamenů, kořenů apod.); tyto práce se ocení individuálně. 3. Množství ornice odebírané ze skládek se do objemu vykopávek pro volbu cen podle množství nezapočítává. Ceny souboru cen 122 . 0-11 Odkopávky a prokopávky nezapažené, se volí pro ornici odebíranou z projektovaných dočasných skládek; a) na staveništi podle součtu objemu ze všech skládek, b) mimo staveniště podle objemu každé skládky zvlášť. 4. Uložení ornice na skládky se oceňuje podle ustanovení v poznámkách č. 1 a 2 k ceně 171 20-1201 Uložení sypaniny na skládky. Složení ornice na hromady v místě upotřebení se neoceňuje. 5. Odebírá-li se ornice z projektované dočasné skládky, oceňuje se její naložení a přemístění podle čl. 3172 Všeobecných podmínek tohoto katalogu. 6. Přemísťuje-li se ornice na vzdálenost větší něž 250 m, vzdálenost 50 m se pro určení vzdálenosti vodorovného přemístění neodečítá a ocení se sejmutí a přemístění bez ohledu na ustanovení pozn. č. 1 takto: a) sejmutí ornice na vzdálenost 50m cenou 121 10-1101; b) naložení příslušnou cenou souboru cen 167 10- . . c) vodorovné přemístění cenami souboru cen 162 . 0- . . Vodorovné přemístění výkopku. 7. Sejmutí podorničí se oceňuje cenami odkopávek s přihlédnutím k ustanovení čl. 3112 Všeobecných podmínek tohoto katalogu. | AT98: PSC | AU98: 2
D99: VV | F99: "dle výkazu projektanta A+B+C" | AT99: VV | AU99: 2 | AV99: 1 | AW99: True | AX99: 0 | AY99: ROZPOCET
D100: VV | F100: "viz, B3, Bilance ZP" | AT100: VV | AU100: 2 | AV100: 1 | AW100: True | AX100: 0 | AY100: ROZPOCET
D101: VV | F101: (647+84+38)*0,10 | H101: 76.9 | AT101: VV | AU101: 2 | AV101: 2 | AW101: True | AX101: 0 | AY101: ROZPOCET
D102: VV | F102: Součet | H102: 76.9 | AT102: VV | AU102: 2 | AV102: 4 | AW102: True | AX102: 1 | AY102: ROZPOCET
C103: 2 | D103: K | E103: 122201102 | F103: Odkopávky a prokopávky nezapažené s přehozením výkopku na vzdálenost do 3 m nebo s naložením na dopravní prostředek v hornině tř. 3 přes 100 do 1 000 m3 | G103: m3 | H103: 225 | J103: =ROUND(I103*H103,2) -> 0 | K103: CS ÚRS 2017 02 | N103: základní | P103: =O103*H103 -> 0 | Q103: 0 | R103: =Q103*H103 -> 0 | S103: 0 | T103: =S103*H103 -> 0 | AR103: 4 | AT103: K | AU103: 2 | AY103: ROZPOCET | BE103: =IF(N103="základní",J103,0) -> 0 | BF103: =IF(N103="snížená",J103,0) -> 0 | BG103: =IF(N103="zákl. přenesená",J103,0) -> 0 | BH103: =IF(N103="sníž. přenesená",J103,0) -> 0 | BI103: =IF(N103="nulová",J103,0) -> 0 | BJ103: 1 | BK103: =ROUND(I103*H103,2) -> 0 | BL103: 4 | BM103: 332647314
D104: PSC | F104: Poznámka k souboru cen:_x000D_ 1. Odkopávky a prokopávky v roubených prostorech se oceňují podle čl. 3116 Všeobecných podmínek tohoto katalogu. 2. Odkopávky a prokopávky ve stržích při lesnicko-technických melioracích (LTM) se oceňují cenami do 100 m3 pro jakýkoliv skutečný objem výkopu; ostatní odkopávky a prokopávky při LTM se oceňují při jakémkoliv objemu výkopu přes 100 m3 cenami přes 100 do 1 000 m3. 3. Ceny lze použít i pro vykopávky odpadových jam. 4. Ceny lze použít i pro sejmutí podorničí. Přitom se přihlíží k ustanovení čl. 3112 Všeobecných podmínek tohoto katalogu. | AT104: PSC | AU104: 2
D105: VV | F105: "dle výkazu projektanta A+B+C" | AT105: VV | AU105: 2 | AV105: 1 | AW105: True | AX105: 0 | AY105: ROZPOCET
D106: VV | F106: "viz, B3, Bilance ZP" | AT106: VV | AU106: 2 | AV106: 1 | AW106: True | AX106: 0 | AY106: ROZPOCET
D107: VV | F107: 70+113+42 | H107: 225 | AT107: VV | AU107: 2 | AV107: 2 | AW107: True | AX107: 0 | AY107: ROZPOCET
D108: VV | E108: O1HAm3 | F108: Součet | H108: 225 | AT108: VV | AU108: 2 | AV108: 4 | AW108: True | AX108: 1 | AY108: ROZPOCET
C109: 3 | D109: K | E109: 122201109 | F109: Odkopávky a prokopávky nezapažené s přehozením výkopku na vzdálenost do 3 m nebo s naložením na dopravní prostředek v hornině tř. 3 Příplatek k cenám za lepivost horniny tř. 3 | G109: m3 | H109: 56.25 | J109: =ROUND(I109*H109,2) -> 0 | K109: CS ÚRS 2017 02 | N109: základní | P109: =O109*H109 -> 0 | Q109: 0 | R109: =Q109*H109 -> 0 | S109: 0 | T109: =S109*H109 -> 0 | AR109: 4 | AT109: K | AU109: 2 | AY109: ROZPOCET | BE109: =IF(N109="základní",J109,0) -> 0 | BF109: =IF(N109="snížená",J109,0) -> 0 | BG109: =IF(N109="zákl. přenesená",J109,0) -> 0 | BH109: =IF(N109="sníž. přenesená",J109,0) -> 0 | BI109: =IF(N109="nulová",J109,0) -> 0 | BJ109: 1 | BK109: =ROUND(I109*H109,2) -> 0 | BL109: 4 | BM109: 1610290582
D110: PSC | F110: Poznámka k souboru cen:_x000D_ 1. Odkopávky a prokopávky v roubených prostorech se oceňují podle čl. 3116 Všeobecných podmínek tohoto katalogu. 2. Odkopávky a prokopávky ve stržích při lesnicko-technických melioracích (LTM) se oceňují cenami do 100 m3 pro jakýkoliv skutečný objem výkopu; ostatní odkopávky a prokopávky při LTM se oceňují při jakémkoliv objemu výkopu přes 100 m3 cenami přes 100 do 1 000 m3. 3. Ceny lze použít i pro vykopávky odpadových jam. 4. Ceny lze použít i pro sejmutí podorničí. Přitom se přihlíží k ustanovení čl. 3112 Všeobecných podmínek tohoto katalogu. | AT110: PSC | AU110: 2
D111: P | F111: Poznámka k položce: předpoklad 25ˇ% | AT111: P | AU111: 2
D112: VV | F112: "předpoklad 25ˇ% | AT112: VV | AU112: 2 | AV112: 1 | AW112: True | AX112: 0 | AY112: ROZPOCET
D113: VV | F113: O1HAm3*0,25 | H113: 56.25 | AT113: VV | AU113: 2 | AV113: 2 | AW113: True | AX113: 0 | AY113: ROZPOCET
D114: VV | F114: Součet | H114: 56.25 | AT114: VV | AU114: 2 | AV114: 4 | AW114: True | AX114: 1 | AY114: ROZPOCET
C115: 4 | D115: K | E115: 132201201 | F115: Hloubení zapažených i nezapažených rýh šířky přes 600 do 2 000 mm s urovnáním dna do předepsaného profilu a spádu v hornině tř. 3 do 100 m3 | G115: m3 | H115: 42.563 | J115: =ROUND(I115*H115,2) -> 0 | K115: CS ÚRS 2017 02 | N115: základní | P115: =O115*H115 -> 0 | Q115: 0 | R115: =Q115*H115 -> 0 | S115: 0 | T115: =S115*H115 -> 0 | AR115: 4 | AT115: K | AU115: 2 | AY115: ROZPOCET | BE115: =IF(N115="základní",J115,0) -> 0 | BF115: =IF(N115="snížená",J115,0) -> 0 | BG115: =IF(N115="zákl. přenesená",J115,0) -> 0 | BH115: =IF(N115="sníž. přenesená",J115,0) -> 0 | BI115: =IF(N115="nulová",J115,0) -> 0 | BJ115: 1 | BK115: =ROUND(I115*H115,2) -> 0 | BL115: 4 | BM115: -2055471866
D116: PSC | F116: Poznámka k souboru cen:_x000D_ 1. V cenách jsou započteny i náklady na případné nutné přemístění výkopku ve výkopišti na vzdálenost do 3 m a na přehození výkopku na přilehlém terénu na vzdálenost do 5 m od okraje jámy nebo naložení na dopravní prostředek. 2. Hloubení rýh při lesnicko-technických melioracích se oceňuje: a) ve stržích cenami platnými pro objem výkopu do 100 m3, i když skutečný objem výkopu je větší, b) mimo strže pro příčná a podélná zpevnění dna a břehů pod obrysem výkopu pro koryta vodotečí, zejména pro konstrukce těles, stupňů, boků, předprahů, prahů, odháněk, výhonů a pro základy zdí, dlažeb, rovnanin, plůtků a hatí, pro jakoukoliv šířku rýhy, při objemu do 100 m3 cenami příslušnými pro objem výkopu do 100 m3 a při jakémkoliv objemu výkopu přes 100 m3 cenami příslušnými pro objem výkopu přes 100 do 1 000 m3. 3. Náklady na svislé přemístění výkopku nad 1 m hloubky se určí dle ustanovení článku č. 3161 všeobecných podmínek katalogu. 4. Předepisuje-li projekt hloubit rýhy 5 až 7 bez použití trhavin, oceňuje se toto hloubení: a) v suchu nebo mokru cenami 138 40-1201, 138 50-1201 a 138 60-1201 Dolamování hloubených vykopávek, b) v tekoucí vodě při jakékoliv její rychlosti individuálně. 5. Ceny nelze použít pro hloubení rýh a hloubky přes 16 m. Tyto práce se oceňují individuálně. | AT116: PSC | AU116: 2
D117: VV | F117: "Přípojky PVC DN 150mm, V1, V7-10" | AT117: VV | AU117: 2 | AV117: 1 | AW117: True | AX117: 0 | AY117: ROZPOCET
D118: VV | F118: (0,80*1,50)*23,00 | H118: 27.6 | AT118: VV | AU118: 2 | AV118: 2 | AW118: True | AX118: 0 | AY118: ROZPOCET
D119: VV | F119: "dopočet na rozšíření vpustí" | AT119: VV | AU119: 2 | AV119: 1 | AW119: True | AX119: 0 | AY119: ROZPOCET
D120: VV | F120: "š = 0,60*2+0,55 = 1,75m" | AT120: VV | AU120: 2 | AV120: 1 | AW120: True | AX120: 0 | AY120: ROZPOCET
D121: VV | F121: (((1,75-0,80)*1,75)*1,50)*6 | H121: 14.963 | AT121: VV | AU121: 2 | AV121: 2 | AW121: True | AX121: 0 | AY121: ROZPOCET
D122: VV | E122: R1HAm3 | F122: Součet | H122: 42.563 | AT122: VV | AU122: 2 | AV122: 4 | AW122: True | AX122: 1 | AY122: ROZPOCET
C123: 5 | D123: K | E123: 132201209 | F123: Hloubení zapažených i nezapažených rýh šířky přes 600 do 2 000 mm s urovnáním dna do předepsaného profilu a spádu v hornině tř. 3 Příplatek k cenám za lepivost horniny tř. 3 | G123: m3 | H123: 12.769 | J123: =ROUND(I123*H123,2) -> 0 | K123: CS ÚRS 2017 02 | N123: základní | P123: =O123*H123 -> 0 | Q123: 0 | R123: =Q123*H123 -> 0 | S123: 0 | T123: =S123*H123 -> 0 | AR123: 4 | AT123: K | AU123: 2 | AY123: ROZPOCET | BE123: =IF(N123="základní",J123,0) -> 0 | BF123: =IF(N123="snížená",J123,0) -> 0 | BG123: =IF(N123="zákl. přenesená",J123,0) -> 0 | BH123: =IF(N123="sníž. přenesená",J123,0) -> 0 | BI123: =IF(N123="nulová",J123,0) -> 0 | BJ123: 1 | BK123: =ROUND(I123*H123,2) -> 0 | BL123: 4 | BM123: -1823454626
D124: PSC | F124: Poznámka k souboru cen:_x000D_ 1. V cenách jsou započteny i náklady na případné nutné přemístění výkopku ve výkopišti na vzdálenost do 3 m a na přehození výkopku na přilehlém terénu na vzdálenost do 5 m od okraje jámy nebo naložení na dopravní prostředek. 2. Hloubení rýh při lesnicko-technických melioracích se oceňuje: a) ve stržích cenami platnými pro objem výkopu do 100 m3, i když skutečný objem výkopu je větší, b) mimo strže pro příčná a podélná zpevnění dna a břehů pod obrysem výkopu pro koryta vodotečí, zejména pro konstrukce těles, stupňů, boků, předprahů, prahů, odháněk, výhonů a pro základy zdí, dlažeb, rovnanin, plůtků a hatí, pro jakoukoliv šířku rýhy, při objemu do 100 m3 cenami příslušnými pro objem výkopu do 100 m3 a při jakémkoliv objemu výkopu přes 100 m3 cenami příslušnými pro objem výkopu přes 100 do 1 000 m3. 3. Náklady na svislé přemístění výkopku nad 1 m hloubky se určí dle ustanovení článku č. 3161 všeobecných podmínek katalogu. 4. Předepisuje-li projekt hloubit rýhy 5 až 7 bez použití trhavin, oceňuje se toto hloubení: a) v suchu nebo mokru cenami 138 40-1201, 138 50-1201 a 138 60-1201 Dolamování hloubených vykopávek, b) v tekoucí vodě při jakékoliv její rychlosti individuálně. 5. Ceny nelze použít pro hloubení rýh a hloubky přes 16 m. Tyto práce se oceňují individuálně. | AT124: PSC | AU124: 2
D125: P | F125: Poznámka k položce: předpoklad 30ˇ% | AT125: P | AU125: 2
D126: VV | F126: "předpoklad 30ˇ%" | AT126: VV | AU126: 2 | AV126: 1 | AW126: True | AX126: 0 | AY126: ROZPOCET
D127: VV | F127: R1HAm3*0,30 | H127: 12.769 | AT127: VV | AU127: 2 | AV127: 2 | AW127: True | AX127: 0 | AY127: ROZPOCET
D128: VV | F128: Součet | H128: 12.769 | AT128: VV | AU128: 2 | AV128: 4 | AW128: True | AX128: 1 | AY128: ROZPOCET
C129: 6 | D129: K | E129: 151101101 | F129: Zřízení pažení a rozepření stěn rýh pro podzemní vedení pro všechny šířky rýhy příložné pro jakoukoliv mezerovitost, hloubky do 2 m | G129: m2 | H129: 90.6 | J129: =ROUND(I129*H129,2) -> 0 | K129: CS ÚRS 2017 02 | N129: základní | P129: =O129*H129 -> 0 | Q129: 0.00083851 | R129: =Q129*H129 -> 0.075969006 | S129: 0 | T129: =S129*H129 -> 0 | AR129: 4 | AT129: K | AU129: 2 | AY129: ROZPOCET | BE129: =IF(N129="základní",J129,0) -> 0 | BF129: =IF(N129="snížená",J129,0) -> 0 | BG129: =IF(N129="zákl. přenesená",J129,0) -> 0 | BH129: =IF(N129="sníž. přenesená",J129,0) -> 0 | BI129: =IF(N129="nulová",J129,0) -> 0 | BJ129: 1 | BK129: =ROUND(I129*H129,2) -> 0 | BL129: 4 | BM129: 261066425
D130: PSC | F130: Poznámka k souboru cen:_x000D_ 1. Ceny jsou určeny pro roubení a rozepření stěn i jiných výkopů se svislými stěnami, pokud jsou tyto výkopy pro podzemní vedení rozměru do 1 250 mm. 2. Plocha mezer mezi pažinami příložného pažení se od plochy příložného pažení neodečítá; nezapažené plochy u pažení zátažného nebo hnaného se od plochy pažení odečítají. 3. Předepisuje-li projekt: a) ponechat pažení ve výkopu, oceňuje se toto pažení cenami souboru cen 151 . 0-19 Pažení stěn s ponecháním a rozepření stěn cenami souboru cen 151 . 0-13 Zřízení rozepření zapažených stěn výkopů, b) vzepření stěn, oceňuje se toto odstranění pažení stěn výkopu cenami souboru cen 151 . 0-12 Pažení stěn a vzepření stěn cenami souboru cen 151 . 0-14 odstranění vzepření stěn, c) kotvení stěn, oceňuje se toto Odstranění pažení stěn cenami souboru cen 151 . 0-12 Pažení stěn a kotvení stěn příslušnými cenami katalogu 800-2 Zvláštní zakládání objektů. | AT130: PSC | AU130: 2
...

Sheet 101_2 - Chodníky a nástup...
D1: List obsahuje: | F1: 1) Krycí list soupisu | G1: 2) Rekapitulace | J1: 3) Soupis prací | K1: Zpět na list: | L1: Rekapitulace stavby
AT2: {f9518dfa-7886-4060-9176-7651ef67c4bf} | AZ2: S1VAm3 | BA2: Výkop šachet (Vedlejší aktivita) | BB2: m3 | BC2: 2,196 | BD2: 2
AT3: 2
D4: KRYCÍ LIST SOUPISU | M4: v --- níže se nacházejí doplnkové a pomocné údaje k sestavám --- v | AT4: False
D6: Stavba:
E7: ='Rekapitulace stavby'!K6 -> Cholina - chodníky náves (DSP)
D8: Objekt:
E9: 101 - SO 101_Chodníky a nástupiště
D10: Soupis:
E11: 101_2 - Chodníky a nástupiště (Způsobilé výdaje - Vedlejší aktivita)
D13: KSO: | F13: 822 59 3 | I13: CC-CZ:
D14: Místo: | F14: Cholina | I14: Datum: | J14: ='Rekapitulace stavby'!AN8 -> 23.10.2017
D16: Zadavatel: | I16: IČ:
E17: Obec Cholina, Cholina 52, 78322 Cholina | I17: DIČ:
D19: Uchazeč: | I19: IČ: | J19: =IF('Rekapitulace stavby'!AN13="Vyplň údaj","",IF('Rekapitulace stavby'!AN13="","",'Rekapitulace stavby'!AN13))
E20: =IF('Rekapitulace stavby'!E14="Vyplň údaj","",IF('Rekapitulace stavby'!E14="","",'Rekapitulace stavby'!E14)) | I20: DIČ: | J20: =IF('Rekapitulace stavby'!AN14="Vyplň údaj","",IF('Rekapitulace stavby'!AN14="","",'Rekapitulace stavby'!AN14))
D22: Projektant: | I22: IČ:
I23: DIČ:
D25: Poznámka:
D29: Cena bez DPH | J29: =ROUND(J90,2) -> 0
F31: Základ daně | I31: Sazba daně | J31: Výše daně
D32: DPH | E32: základní | F32: =ROUND(SUM(BE90:BE221), 2) -> 0 | I32: 0.21 | J32: =ROUND(ROUND((SUM(BE90:BE221)), 2)*I32, 2) -> 0
E33: snížená | F33: =ROUND(SUM(BF90:BF221), 2) -> 0 | I33: 0.15 | J33: =ROUND(ROUND((SUM(BF90:BF221)), 2)*I33, 2) -> 0
E34: zákl. přenesená | F34: =ROUND(SUM(BG90:BG221), 2) -> 0 | I34: 0.21 | J34: 0
E35: sníž. přenesená | F35: =ROUND(SUM(BH90:BH221), 2) -> 0 | I35: 0.15 | J35: 0
E36: nulová | F36: =ROUND(SUM(BI90:BI221), 2) -> 0 | I36: 0 | J36: 0
D38: Cena s DPH | G38: v | H38: CZK | J38: =SUM(J29:J36) -> 0
C44: REKAPITULACE ČLENĚNÍ SOUPISU PRACÍ
C46: Stavba:
E47: =E7 -> Cholina - chodníky náves (DSP)
C48: Objekt:
E49: 101 - SO 101_Chodníky a nástupiště
C50: Soupis:
E51: =E11 -> 101_2 - Chodníky a nástupiště (Způsobilé výdaje - Vedlejší aktivita)
C53: Místo: | F53: =F14 -> Cholina | I53: Datum: | J53: =IF(J14="","",J14) -> 23.10.2017
C55: Zadavatel: | F55: =E17 -> Obec Cholina, Cholina 52, 78322 Cholina | I55: Projektant: | J55: =E23
C56: Uchazeč: | F56: =IF(E20="","",E20)
C58: Kód dílu - Popis | J58: Cena celkem [CZK]
C60: Náklady soupisu celkem | J60: =J90 -> 0 | AU60: -1
D61: HSV - Práce a dodávky HSV | J61: =J91 -> 0
D62: 10 - Zemní práce | J62: =J92 -> 0
D63: 27 - Zakládání - základy | J63: =J124 -> 0
D64: 38 - Různé kompletní konstrukce | J64: =J146 -> 0
D65: 93 - Různé dokončovací konstrukce a práce inženýrských staveb | J65: =J150 -> 0
D66: 96 - Bourání konstrukcí | J66: =J168 -> 0
D67: 997 - Přesun sutě | J67: =J182 -> 0
D68: 998 - Přesun hmot | J68: =J220 -> 0
C75: SOUPIS PRACÍ
C77: Stavba:
E78: =E7 -> Cholina - chodníky náves (DSP)
C79: Objekt:
E80: 101 - SO 101_Chodníky a nástupiště
C81: Soupis:
E82: =E11 -> 101_2 - Chodníky a nástupiště (Způsobilé výdaje - Vedlejší aktivita)
C84: Místo: | F84: =F14 -> Cholina | I84: Datum: | J84: =IF(J14="","",J14) -> 23.10.2017
C86: Zadavatel: | F86: =E17 -> Obec Cholina, Cholina 52, 78322 Cholina | I86: Projektant: | J86: =E23
C87: Uchazeč: | F87: =IF(E20="","",E20)
C89: PČ | D89: Typ | E89: Kód | F89: Popis | G89: MJ | H89: Množství | I89: J.cena [CZK] | J89: Cena celkem [CZK] | K89: Cenová soustava | M89: Poznámka | N89: DPH | O89: J. Nh [h] | P89: Nh celkem [h] | Q89: J. hmotnost_x000D_ [t] | R89: Hmotnost_x000D_ celkem [t] | S89: J. suť [t] | T89: Suť Celkem [t]
C90: Náklady soupisu celkem | J90: =BK90 -> 0 | P90: =P91 -> 0 | R90: =R91 -> 5.3501194 | T90: =T91 -> 0.799 | AT90: D | AU90: -1 | BK90: =BK91 -> 0
D91: D | E91: HSV | F91: Práce a dodávky HSV | J91: =BK91 -> 0 | P91: =P92+P124+P146+P150+P168+P182+P220 -> 0 | R91: =R92+R124+R146+R150+R168+R182+R220 -> 5.3501194 | T91: =T92+T124+T146+T150+T168+T182+T220 -> 0.799 | AR91: 1 | AT91: D | AU91: 0 | AY91: ROZPOCET | BK91: =BK92+BK124+BK146+BK150+BK168+BK182+BK220 -> 0
D92: D | E92: 10 | F92: Zemní práce | J92: =BK92 -> 0 | P92: =SUM(P93:P123) -> 0 | R92: =SUM(R93:R123) -> 0 | T92: =SUM(T93:T123) -> 0 | AR92: 1 | AT92: D | AU92: 1 | AY92: ROZPOCET | BK92: =SUM(BK93:BK123) -> 0
C93: 1 | D93: K | E93: 133202011 | F93: Hloubení zapažených i nezapažených šachet plocha výkopu do 20 m2 ručním nebo pneumatickým nářadím s případným nutným přemístěním výkopku ve výkopišti v horninách soudržných tř. 3, plocha výkopu do 4 m2 | G93: m3 | H93: 2.196 | J93: =ROUND(I93*H93,2) -> 0 | K93: CS ÚRS 2017 02 | N93: základní | P93: =O93*H93 -> 0 | Q93: 0 | R93: =Q93*H93 -> 0 | S93: 0 | T93: =S93*H93 -> 0 | AR93: 4 | AT93: K | AU93: 2 | AY93: ROZPOCET | BE93: =IF(N93="základní",J93,0) -> 0 | BF93: =IF(N93="snížená",J93,0) -> 0 | BG93: =IF(N93="zákl. přenesená",J93,0) -> 0 | BH93: =IF(N93="sníž. přenesená",J93,0) -> 0 | BI93: =IF(N93="nulová",J93,0) -> 0 | BJ93: 1 | BK93: =ROUND(I93*H93,2) -> 0 | BL93: 4 | BM93: -2042213529
D94: PSC | F94: Poznámka k souboru cen:_x000D_ 1. V cenách jsou započteny i náklady na přehození výkopku na přilehlém terénu na vzdálenost do 5 m od hrany šachty nebo naložení na dopravní prostředek. 2. V cenách 10-2011 až 30-3012 jsou započteny i náklady na svislý přesun horniny po házečkách do 2 metrů. | AT94: PSC | AU94: 2
D95: VV | F95: "pro iformační tabuli" | AT95: VV | AU95: 2 | AV95: 1 | AW95: True | AX95: 0 | AY95: ROZPOCET
D96: VV | F96: ((0,30*0,30)*0,60)*2 | H96: 0.108 | AT96: VV | AU96: 2 | AV96: 2 | AW96: True | AX96: 0 | AY96: ROZPOCET
D97: VV | F97: "pro lavičku" | AT97: VV | AU97: 2 | AV97: 1 | AW97: True | AX97: 0 | AY97: ROZPOCET
D98: VV | F98: ((0,4*0,4)*0,90)*2 | H98: 0.288 | AT98: VV | AU98: 2 | AV98: 2 | AW98: True | AX98: 0 | AY98: ROZPOCET
D99: VV | F99: "pro přístřešek" | AT99: VV | AU99: 2 | AV99: 1 | AW99: True | AX99: 0 | AY99: ROZPOCET
D100: VV | F100: ((0,50*0,50)*0,90)*8 | H100: 1.8 | AT100: VV | AU100: 2 | AV100: 2 | AW100: True | AX100: 0 | AY100: ROZPOCET
D101: VV | E101: S1VAm3 | F101: Součet | H101: 2.196 | AT101: VV | AU101: 2 | AV101: 4 | AW101: True | AX101: 1 | AY101: ROZPOCET
C102: 2 | D102: K | E102: 133202019 | F102: Hloubení zapažených i nezapažených šachet plocha výkopu do 20 m2 ručním nebo pneumatickým nářadím s případným nutným přemístěním výkopku ve výkopišti v horninách soudržných tř. 3, plocha výkopu Příplatek k cenám za lepivost horniny tř. 3 | G102: m3 | H102: 0.659 | J102: =ROUND(I102*H102,2) -> 0 | K102: CS ÚRS 2017 02 | N102: základní | P102: =O102*H102 -> 0 | Q102: 0 | R102: =Q102*H102 -> 0 | S102: 0 | T102: =S102*H102 -> 0 | AR102: 4 | AT102: K | AU102: 2 | AY102: ROZPOCET | BE102: =IF(N102="základní",J102,0) -> 0 | BF102: =IF(N102="snížená",J102,0) -> 0 | BG102: =IF(N102="zákl. přenesená",J102,0) -> 0 | BH102: =IF(N102="sníž. přenesená",J102,0) -> 0 | BI102: =IF(N102="nulová",J102,0) -> 0 | BJ102: 1 | BK102: =ROUND(I102*H102,2) -> 0 | BL102: 4 | BM102: 448508604
D103: PSC | F103: Poznámka k souboru cen:_x000D_ 1. V cenách jsou započteny i náklady na přehození výkopku na přilehlém terénu na vzdálenost do 5 m od hrany šachty nebo naložení na dopravní prostředek. 2. V cenách 10-2011 až 30-3012 jsou započteny i náklady na svislý přesun horniny po házečkách do 2 metrů. | AT103: PSC | AU103: 2
D104: P | F104: Poznámka k položce: předpoklad 30ˇ% | AT104: P | AU104: 2
D105: VV | F105: "předpoklad 30ˇ% | AT105: VV | AU105: 2 | AV105: 1 | AW105: True | AX105: 0 | AY105: ROZPOCET
D106: VV | F106: S1VAm3*0,30 | H106: 0.659 | AT106: VV | AU106: 2 | AV106: 2 | AW106: True | AX106: 0 | AY106: ROZPOCET
D107: VV | F107: Součet | H107: 0.659 | AT107: VV | AU107: 2 | AV107: 4 | AW107: True | AX107: 1 | AY107: ROZPOCET
C108: 3 | D108: K | E108: 162701105 | F108: Vodorovné přemístění výkopku nebo sypaniny po suchu na obvyklém dopravním prostředku, bez naložení výkopku, avšak se složením bez rozhrnutí z horniny tř. 1 až 4 na vzdálenost přes 9 000 do 10 000 m | G108: m3 | H108: 2.196 | J108: =ROUND(I108*H108,2) -> 0 | K108: CS ÚRS 2017 02 | N108: základní | P108: =O108*H108 -> 0 | Q108: 0 | R108: =Q108*H108 -> 0 | S108: 0 | T108: =S108*H108 -> 0 | AR108: 4 | AT108: K | AU108: 2 | AY108: ROZPOCET | BE108: =IF(N108="základní",J108,0) -> 0 | BF108: =IF(N108="snížená",J108,0) -> 0 | BG108: =IF(N108="zákl. přenesená",J108,0) -> 0 | BH108: =IF(N108="sníž. přenesená",J108,0) -> 0 | BI108: =IF(N108="nulová",J108,0) -> 0 | BJ108: 1 | BK108: =ROUND(I108*H108,2) -> 0 | BL108: 4 | BM108: -488269254
D109: PSC | F109: Poznámka k souboru cen:_x000D_ 1. Ceny nelze použít, předepisuje-li projekt přemístit výkopek na místo nepřístupné obvyklým dopravním prostředkům; toto přemístění se oceňuje individuálně. 2. V cenách jsou započteny i náhrady za jízdu loženého vozidla v terénu ve výkopišti nebo na násypišti. 3. V cenách nejsou započteny náklady na rozhrnutí výkopku na násypišti; toto rozhrnutí se oceňuje cenami souboru cen 171 . 0- . . Uložení sypaniny do násypů a 171 20-1201Uložení sypaniny na skládky. 4. Je-li na dopravní dráze pro vodorovné přemístění nějaká překážka, pro kterou je nutno překládat výkopek z jednoho obvyklého dopravního prostředku na jiný obvyklý dopravní prostředek, oceňuje se toto lomené vodorovné přemístění výkopku v každém úseku samostatně příslušnou cenou tohoto souboru cen a překládání výkopku cenami souboru cen 167 10-3 . Nakládání neulehlého výkopku z hromad s ohledem na ustanovení pozn. číslo 5. 5. Přemísťuje-li se výkopek z dočasných skládek vzdálených do 50 m, neoceňuje se nakládání výkopku, i když se provádí. Toto ustanovení neplatí, vylučuje-li projekt použití dozeru. 6. V cenách vodorovného přemístění sypaniny nejsou započteny náklady na dodávku materiálu, tyto se oceňují ve specifikaci. | AT109: PSC | AU109: 2
D110: VV | F110: S1VAm3 | H110: 2.196 | AT110: VV | AU110: 2 | AV110: 2 | AW110: True | AX110: 0 | AY110: ROZPOCET
D111: VV | F111: Součet | H111: 2.196 | AT111: VV | AU111: 2 | AV111: 4 | AW111: True | AX111: 1 | AY111: ROZPOCET
C112: 4 | D112: K | E112: 162701109 | F112: Vodorovné přemístění výkopku nebo sypaniny po suchu na obvyklém dopravním prostředku, bez naložení výkopku, avšak se složením bez rozhrnutí z horniny tř. 1 až 4 na vzdálenost Příplatek k ceně za každých dalších i započatých 1 000 m | G112: m3 | H112: 32.94 | J112: =ROUND(I112*H112,2) -> 0 | K112: CS ÚRS 2017 02 | N112: základní | P112: =O112*H112 -> 0 | Q112: 0 | R112: =Q112*H112 -> 0 | S112: 0 | T112: =S112*H112 -> 0 | AR112: 4 | AT112: K | AU112: 2 | AY112: ROZPOCET | BE112: =IF(N112="základní",J112,0) -> 0 | BF112: =IF(N112="snížená",J112,0) -> 0 | BG112: =IF(N112="zákl. přenesená",J112,0) -> 0 | BH112: =IF(N112="sníž. přenesená",J112,0) -> 0 | BI112: =IF(N112="nulová",J112,0) -> 0 | BJ112: 1 | BK112: =ROUND(I112*H112,2) -> 0 | BL112: 4 | BM112: 1540487545
D113: PSC | F113: Poznámka k souboru cen:_x000D_ 1. Ceny nelze použít, předepisuje-li projekt přemístit výkopek na místo nepřístupné obvyklým dopravním prostředkům; toto přemístění se oceňuje individuálně. 2. V cenách jsou započteny i náhrady za jízdu loženého vozidla v terénu ve výkopišti nebo na násypišti. 3. V cenách nejsou započteny náklady na rozhrnutí výkopku na násypišti; toto rozhrnutí se oceňuje cenami souboru cen 171 . 0- . . Uložení sypaniny do násypů a 171 20-1201Uložení sypaniny na skládky. 4. Je-li na dopravní dráze pro vodorovné přemístění nějaká překážka, pro kterou je nutno překládat výkopek z jednoho obvyklého dopravního prostředku na jiný obvyklý dopravní prostředek, oceňuje se toto lomené vodorovné přemístění výkopku v každém úseku samostatně příslušnou cenou tohoto souboru cen a překládání výkopku cenami souboru cen 167 10-3 . Nakládání neulehlého výkopku z hromad s ohledem na ustanovení pozn. číslo 5. 5. Přemísťuje-li se výkopek z dočasných skládek vzdálených do 50 m, neoceňuje se nakládání výkopku, i když se provádí. Toto ustanovení neplatí, vylučuje-li projekt použití dozeru. 6. V cenách vodorovného přemístění sypaniny nejsou započteny náklady na dodávku materiálu, tyto se oceňují ve specifikaci. | AT113: PSC | AU113: 2
D114: VV | F114: "Odvoz na skládku" | AT114: VV | AU114: 2 | AV114: 1 | AW114: True | AX114: 0 | AY114: ROZPOCET
D115: VV | F115: S1VAm3*(25-10) | H115: 32.94 | AT115: VV | AU115: 2 | AV115: 2 | AW115: True | AX115: 0 | AY115: ROZPOCET
D116: VV | F116: Součet | H116: 32.94 | AT116: VV | AU116: 2 | AV116: 4 | AW116: True | AX116: 1 | AY116: ROZPOCET
C117: 5 | D117: K | E117: 171201201 | F117: Uložení sypaniny na skládky | G117: m3 | H117: 2.196 | J117: =ROUND(I117*H117,2) -> 0 | K117: CS ÚRS 2017 02 | N117: základní | P117: =O117*H117 -> 0 | Q117: 0 | R117: =Q117*H117 -> 0 | S117: 0 | T117: =S117*H117 -> 0 | AR117: 4 | AT117: K | AU117: 2 | AY117: ROZPOCET | BE117: =IF(N117="základní",J117,0) -> 0 | BF117: =IF(N117="snížená",J117,0) -> 0 | BG117: =IF(N117="zákl. přenesená",J117,0) -> 0 | BH117: =IF(N117="sníž. přenesená",J117,0) -> 0 | BI117: =IF(N117="nulová",J117,0) -> 0 | BJ117: 1 | BK117: =ROUND(I117*H117,2) -> 0 | BL117: 4 | BM117: 1570911807
D118: PSC | F118: Poznámka k souboru cen:_x000D_ 1. Cena -1201 je určena i pro: a) uložení výkopku nebo ornice na dočasné skládky předepsané projektem tak, že na 1 m2 projektem určené plochy této skládky připadá přes 2 m3 výkopku nebo ornice; v opačném případě se uložení neoceňuje. Množství výkopku nebo ornice připadající na 1 m2 skládky se určí jako podíl množství výkopku nebo ornice, měřeného v rostlém stavu a projektem určené plochy dočasné skládky; b) zasypání koryt vodotečí a prohlubní v terénu bez předepsaného zhutnění sypaniny; c) uložení výkopku pod vodou do prohlubní ve dně vodotečí nebo nádrží. 2. Cenu -1201 nelze použít pro uložení výkopku nebo ornice: a) při vykopávkách pro podzemní vedení podél hrany výkopu, z něhož byl výkopek získán, a to ani tehdy, jestliže se výkopek po vyhození z výkopu na povrch území ještě dále přemisťuje na hromady podél výkopu; b) na dočasné skládky, které nejsou předepsány projektem; c) na dočasné skládky předepsané projektem tak, že na 1 m2 projektem určené plochy této skládky připadají nejvýše 2 m3 výkopku nebo ornice (viz. též poznámku č. 1 a); d) na dočasné skládky, oceňuje-li se cenou 121 10-1101 Sejmutí ornice nebo lesní půdy do 50 m, nebo oceňuje-li se vodorovné přemístění výkopku do 20 m a 50 m cenami 162 20-1101, 162 20-1102, 162 20-1151 a 162 20-1152. V těchto případech se uložení výkopku nebo ornice na dočasnou skládku neoceňuje. e) na trvalé skládky s předepsaným zhutněním; toto uložení výkopku se oceňuje cenami souboru cen 171 . 0- . . Uložení sypaniny do násypů. 3. V ceně -1201 jsou započteny i náklady na rozprostření sypaniny ve vrstvách s hrubým urovnáním na skládce. 4. V ceně -1201 nejsou započteny náklady na získání skládek ani na poplatky za skládku. 5. Množství jednotek uložení výkopku (sypaniny) se určí v m3 uloženého výkopku (sypaniny),v rostlém stavu zpravidla ve výkopišti. 6. Cenu -1211 lze po dohodě upravit podle místních podmínek. | AT118: PSC | AU118: 2
D119: VV | F119: S1VAm3 | H119: 2.196 | AT119: VV | AU119: 2 | AV119: 2 | AW119: True | AX119: 0 | AY119: ROZPOCET
D120: VV | F120: Součet | H120: 2.196 | AT120: VV | AU120: 2 | AV120: 4 | AW120: True | AX120: 1 | AY120: ROZPOCET
C121: 6 | D121: K | E121: 171R20119 | F121: Uložení sypaniny poplatek za uložení sypaniny na skládce (skládkovné) | G121: t | H121: 3.953 | J121: =ROUND(I121*H121,2) -> 0 | N121: základní | P121: =O121*H121 -> 0 | Q121: 0 | R121: =Q121*H121 -> 0 | S121: 0 | T121: =S121*H121 -> 0 | AR121: 4 | AT121: K | AU121: 2 | AY121: ROZPOCET | BE121: =IF(N121="základní",J121,0) -> 0 | BF121: =IF(N121="snížená",J121,0) -> 0 | BG121: =IF(N121="zákl. přenesená",J121,0) -> 0 | BH121: =IF(N121="sníž. přenesená",J121,0) -> 0 | BI121: =IF(N121="nulová",J121,0) -> 0 | BJ121: 1 | BK121: =ROUND(I121*H121,2) -> 0 | BL121: 4 | BM121: 636263095
D122: VV | F122: S1VAm3*1,80 | H122: 3.953 | AT122: VV | AU122: 2 | AV122: 2 | AW122: True | AX122: 0 | AY122: ROZPOCET
D123: VV | F123: Součet | H123: 3.953 | AT123: VV | AU123: 2 | AV123: 4 | AW123: True | AX123: 1 | AY123: ROZPOCET
D124: D | E124: 27 | F124: Zakládání - základy | J124: =BK124 -> 0 | P124: =SUM(P125:P145) -> 0 | R124: =SUM(R125:R145) -> 5.3369305 | T124: =SUM(T125:T145) -> 0 | AR124: 1 | AT124: D | AU124: 1 | AY124: ROZPOCET | BK124: =SUM(BK125:BK145) -> 0
C125: 7 | D125: K | E125: 271572211 | F125: Podsyp pod základové konstrukce se zhutněním a urovnáním povrchu ze štěrkopísku netříděného | G125: m3 | H125: 0.2 | J125: =ROUND(I125*H125,2) -> 0 | K125: CS ÚRS 2017 02 | N125: základní | P125: =O125*H125 -> 0 | Q125: 1.98 | R125: =Q125*H125 -> 0.396 | S125: 0 | T125: =S125*H125 -> 0 | AR125: 4 | AT125: K | AU125: 2 | AY125: ROZPOCET | BE125: =IF(N125="základní",J125,0) -> 0 | BF125: =IF(N125="snížená",J125,0) -> 0 | BG125: =IF(N125="zákl. přenesená",J125,0) -> 0 | BH125: =IF(N125="sníž. přenesená",J125,0) -> 0 | BI125: =IF(N125="nulová",J125,0) -> 0 | BJ125: 1 | BK125: =ROUND(I125*H125,2) -> 0 | BL125: 4 | BM125: 1735253435
D126: PSC | F126: Poznámka k souboru cen:_x000D_ 1. Ceny slouží pro ocenění násypů pod základové konstrukce tloušťky vrstvy do 300 mm. 2. Násypy s tloušťkou vrstvy přesahující 300 mm se ocení cenami souboru cen 213 31-…. Polštáře zhutněné pod základy v katalogu 800-2 Zvláštní zakládání objektů. | AT126: PSC | AU126: 2
D127: VV | F127: "pro iformační tabuli" | AT127: VV | AU127: 2 | AV127: 1 | AW127: True | AX127: 0 | AY127: ROZPOCET
D128: VV | F128: ((0,30*0,30)*0,10)*2 | H128: 0.018 | AT128: VV | AU128: 2 | AV128: 2 | AW128: True | AX128: 0 | AY128: ROZPOCET
D129: VV | F129: "pro lavičku" | AT129: VV | AU129: 2 | AV129: 1 | AW129: True | AX129: 0 | AY129: ROZPOCET
D130: VV | F130: ((0,4*0,4)*0,10)*2 | H130: 0.032 | AT130: VV | AU130: 2 | AV130: 2 | AW130: True | AX130: 0 | AY130: ROZPOCET
D131: VV | F131: "pro přístřešek" | AT131: VV | AU131: 2 | AV131: 1 | AW131: True | AX131: 0 | AY131: ROZPOCET
...

Sheet 102 - SO 102 Parkovací st...
D1: List obsahuje: | F1: 1) Krycí list soupisu | G1: 2) Rekapitulace | J1: 3) Soupis prací | K1: Zpět na list: | L1: Rekapitulace stavby
AT2: {d876a8bb-1b27-4b99-8dec-640a2512edba} | AZ2: OB102_m3 | BA2: obsyp SO 102 | BB2: m3 | BC2: 8,976 | BD2: 2
AT3: 2 | AZ3: OD102_m3 | BA3: odkop SO 102 | BB3: m3 | BC3: 284,355 | BD3: 2
D4: KRYCÍ LIST SOUPISU | M4: v --- níže se nacházejí doplnkové a pomocné údaje k sestavám --- v | AT4: False | AZ4: R102_m3 | BA4: výkop rýh SO 102 | BB4: m3 | BC4: 35,989 | BD4: 2
AZ5: Z102_m3 | BA5: zásyp SO 102 | BB5: m3 | BC5: 25,706 | BD5: 2
D6: Stavba:
E7: ='Rekapitulace stavby'!K6 -> Cholina - chodníky náves (DSP)
D8: Objekt:
E9: 102 - SO 102 Parkovací stání (Nezpůsobilé výdaje)
D11: KSO: | F11: 822 55 3 | I11: CC-CZ:
D12: Místo: | F12: Cholina | I12: Datum: | J12: ='Rekapitulace stavby'!AN8 -> 23.10.2017
D14: Zadavatel: | I14: IČ:
E15: Obec Cholina, Cholina 52, 78322 Cholina | I15: DIČ:
D17: Uchazeč: | I17: IČ: | J17: =IF('Rekapitulace stavby'!AN13="Vyplň údaj","",IF('Rekapitulace stavby'!AN13="","",'Rekapitulace stavby'!AN13))
E18: =IF('Rekapitulace stavby'!E14="Vyplň údaj","",IF('Rekapitulace stavby'!E14="","",'Rekapitulace stavby'!E14)) | I18: DIČ: | J18: =IF('Rekapitulace stavby'!AN14="Vyplň údaj","",IF('Rekapitulace stavby'!AN14="","",'Rekapitulace stavby'!AN14))
D20: Projektant: | I20: IČ:
I21: DIČ:
D23: Poznámka:
D27: Cena bez DPH | J27: =ROUND(J91,2) -> 0
F29: Základ daně | I29: Sazba daně | J29: Výše daně
D30: DPH | E30: základní | F30: =ROUND(SUM(BE91:BE479), 2) -> 0 | I30: 0.21 | J30: =ROUND(ROUND((SUM(BE91:BE479)), 2)*I30, 2) -> 0
E31: snížená | F31: =ROUND(SUM(BF91:BF479), 2) -> 0 | I31: 0.15 | J31: =ROUND(ROUND((SUM(BF91:BF479)), 2)*I31, 2) -> 0
E32: zákl. přenesená | F32: =ROUND(SUM(BG91:BG479), 2) -> 0 | I32: 0.21 | J32: 0
E33: sníž. přenesená | F33: =ROUND(SUM(BH91:BH479), 2) -> 0 | I33: 0.15 | J33: 0
E34: nulová | F34: =ROUND(SUM(BI91:BI479), 2) -> 0 | I34: 0 | J34: 0
D36: Cena s DPH | G36: v | H36: CZK | J36: =SUM(J27:J34) -> 0
C42: REKAPITULACE ČLENĚNÍ SOUPISU PRACÍ
C44: Stavba:
E45: =E7 -> Cholina - chodníky náves (DSP)
C46: Objekt:
E47: =E9 -> 102 - SO 102 Parkovací stání (Nezpůsobilé výdaje)
C49: Místo: | F49: =F12 -> Cholina | I49: Datum: | J49: =IF(J12="","",J12) -> 23.10.2017
C51: Zadavatel: | F51: =E15 -> Obec Cholina, Cholina 52, 78322 Cholina | I51: Projektant: | J51: =E21
C52: Uchazeč: | F52: =IF(E18="","",E18)
C54: Kód dílu - Popis | J54: Cena celkem [CZK]
C56: Náklady soupisu celkem | J56: =J91 -> 0 | AU56: -1
D57: HSV - Práce a dodávky HSV | J57: =J92 -> 0
D58: 10 - Zemní práce | J58: =J93 -> 0
D59: 11 - Zemní práce - přípravné a přidružené práce | J59: =J206 -> 0
D60: 30 - Svislé a kompletní konstrukce | J60: =J237 -> 0
D61: 45 - Podkladní a vedlejší konstrukce kromě vozovek a železničního svršku | J61: =J242 -> 0
D62: 56 - Podkladní vrstvy komunikací, letišť a ploch | J62: =J255 -> 0
D63: 59 - Kryty pozemních komunikací, letišť a ploch dlážděné | J63: =J267 -> 0
D64: 87 - Potrubí z trub plastických a skleněných | J64: =J289 -> 0
D65: 89 - Ostatní konstrukce | J65: =J294 -> 0
D66: 91 - Doplňující konstrukce a práce pozemních komunikací, letišť a ploch | J66: =J336 -> 0
D67: 997 - Přesun sutě | J67: =J374 -> 0
D68: 998 - Přesun hmot | J68: =J469 -> 0
D69: M - Práce a dodávky M | J69: =J471 -> 0
D70: 22-M - Montáže technologických zařízení pro dopravní stavby | J70: =J472 -> 0
D71: 46-M - Zemní práce při extr.mont.pracích | J71: =J476 -> 0
C78: SOUPIS PRACÍ
C80: Stavba:
E81: =E7 -> Cholina - chodníky náves (DSP)
C82: Objekt:
E83: =E9 -> 102 - SO 102 Parkovací stání (Nezpůsobilé výdaje)
C85: Místo: | F85: =F12 -> Cholina | I85: Datum: | J85: =IF(J12="","",J12) -> 23.10.2017
C87: Zadavatel: | F87: =E15 -> Obec Cholina, Cholina 52, 78322 Cholina | I87: Projektant: | J87: =E21
C88: Uchazeč: | F88: =IF(E18="","",E18)
C90: PČ | D90: Typ | E90: Kód | F90: Popis | G90: MJ | H90: Množství | I90: J.cena [CZK] | J90: Cena celkem [CZK] | K90: Cenová soustava | M90: Poznámka | N90: DPH | O90: J. Nh [h] | P90: Nh celkem [h] | Q90: J. hmotnost_x000D_ [t] | R90: Hmotnost_x000D_ celkem [t] | S90: J. suť [t] | T90: Suť Celkem [t]
C91: Náklady soupisu celkem | J91: =BK91 -> 0 | P91: =P92+P471 -> 0 | R91: =R92+R471 -> 317.20346 | T91: =T92+T471 -> 264.846 | AT91: D | AU91: -1 | BK91: =BK92+BK471 -> 0
D92: D | E92: HSV | F92: Práce a dodávky HSV | J92: =BK92 -> 0 | P92: =P93+P206+P237+P242+P255+P267+P289+P294+P336+P374+P469 -> 0 | R92: =R93+R206+R237+R242+R255+R267+R289+R294+R336+R374+R469 -> 317.2026 | T92: =T93+T206+T237+T242+T255+T267+T289+T294+T336+T374+T469 -> 264.846 | AR92: 1 | AT92: D | AU92: 0 | AY92: ROZPOCET | BK92: =BK93+BK206+BK237+BK242+BK255+BK267+BK289+BK294+BK336+BK374+BK469 -> 0
D93: D | E93: 10 | F93: Zemní práce | J93: =BK93 -> 0 | P93: =SUM(P94:P205) -> 0 | R93: =SUM(R94:R205) -> 72.354311 | T93: =SUM(T94:T205) -> 0 | AR93: 1 | AT93: D | AU93: 1 | AY93: ROZPOCET | BK93: =SUM(BK94:BK205) -> 0
C94: 1 | D94: K | E94: 121101101 | F94: Sejmutí ornice nebo lesní půdy s vodorovným přemístěním na hromady v místě upotřebení nebo na dočasné či trvalé skládky se složením, na vzdálenost do 50 m | G94: m3 | H94: 19 | J94: =ROUND(I94*H94,2) -> 0 | K94: CS ÚRS 2017 02 | N94: základní | P94: =O94*H94 -> 0 | Q94: 0 | R94: =Q94*H94 -> 0 | S94: 0 | T94: =S94*H94 -> 0 | AR94: 4 | AT94: K | AU94: 2 | AY94: ROZPOCET | BE94: =IF(N94="základní",J94,0) -> 0 | BF94: =IF(N94="snížená",J94,0) -> 0 | BG94: =IF(N94="zákl. přenesená",J94,0) -> 0 | BH94: =IF(N94="sníž. přenesená",J94,0) -> 0 | BI94: =IF(N94="nulová",J94,0) -> 0 | BJ94: 1 | BK94: =ROUND(I94*H94,2) -> 0 | BL94: 4 | BM94: 1638722004
D95: PSC | F95: Poznámka k souboru cen:_x000D_ 1. V cenách jsou započteny i náklady na příp. nutné naložení sejmuté ornice na dopravní prostředek. 2. V cenách nejsou započteny náklady na odstranění nevhodných přimísenin (kamenů, kořenů apod.); tyto práce se ocení individuálně. 3. Množství ornice odebírané ze skládek se do objemu vykopávek pro volbu cen podle množství nezapočítává. Ceny souboru cen 122 . 0-11 Odkopávky a prokopávky nezapažené, se volí pro ornici odebíranou z projektovaných dočasných skládek; a) na staveništi podle součtu objemu ze všech skládek, b) mimo staveniště podle objemu každé skládky zvlášť. 4. Uložení ornice na skládky se oceňuje podle ustanovení v poznámkách č. 1 a 2 k ceně 171 20-1201 Uložení sypaniny na skládky. Složení ornice na hromady v místě upotřebení se neoceňuje. 5. Odebírá-li se ornice z projektované dočasné skládky, oceňuje se její naložení a přemístění podle čl. 3172 Všeobecných podmínek tohoto katalogu. 6. Přemísťuje-li se ornice na vzdálenost větší něž 250 m, vzdálenost 50 m se pro určení vzdálenosti vodorovného přemístění neodečítá a ocení se sejmutí a přemístění bez ohledu na ustanovení pozn. č. 1 takto: a) sejmutí ornice na vzdálenost 50m cenou 121 10-1101; b) naložení příslušnou cenou souboru cen 167 10- . . c) vodorovné přemístění cenami souboru cen 162 . 0- . . Vodorovné přemístění výkopku. 7. Sejmutí podorničí se oceňuje cenami odkopávek s přihlédnutím k ustanovení čl. 3112 Všeobecných podmínek tohoto katalogu. | AT95: PSC | AU95: 2
D96: VV | F96: "dle výkazu projektanta A+B+C" | AT96: VV | AU96: 2 | AV96: 1 | AW96: True | AX96: 0 | AY96: ROZPOCET
D97: VV | F97: "viz, B3, Bilance ZP" | AT97: VV | AU97: 2 | AV97: 1 | AW97: True | AX97: 0 | AY97: ROZPOCET
D98: VV | F98: (190+0+0)*0,10 | H98: 19 | AT98: VV | AU98: 2 | AV98: 2 | AW98: True | AX98: 1 | AY98: ROZPOCET
C99: 2 | D99: K | E99: 122201102 | F99: Odkopávky a prokopávky nezapažené s přehozením výkopku na vzdálenost do 3 m nebo s naložením na dopravní prostředek v hornině tř. 3 přes 100 do 1 000 m3 | G99: m3 | H99: 284.355 | J99: =ROUND(I99*H99,2) -> 0 | K99: CS ÚRS 2017 02 | N99: základní | P99: =O99*H99 -> 0 | Q99: 0 | R99: =Q99*H99 -> 0 | S99: 0 | T99: =S99*H99 -> 0 | AR99: 4 | AT99: K | AU99: 2 | AY99: ROZPOCET | BE99: =IF(N99="základní",J99,0) -> 0 | BF99: =IF(N99="snížená",J99,0) -> 0 | BG99: =IF(N99="zákl. přenesená",J99,0) -> 0 | BH99: =IF(N99="sníž. přenesená",J99,0) -> 0 | BI99: =IF(N99="nulová",J99,0) -> 0 | BJ99: 1 | BK99: =ROUND(I99*H99,2) -> 0 | BL99: 4 | BM99: 1453295514
D100: PSC | F100: Poznámka k souboru cen:_x000D_ 1. Odkopávky a prokopávky v roubených prostorech se oceňují podle čl. 3116 Všeobecných podmínek tohoto katalogu. 2. Odkopávky a prokopávky ve stržích při lesnicko-technických melioracích (LTM) se oceňují cenami do 100 m3 pro jakýkoliv skutečný objem výkopu; ostatní odkopávky a prokopávky při LTM se oceňují při jakémkoliv objemu výkopu přes 100 m3 cenami přes 100 do 1 000 m3. 3. Ceny lze použít i pro vykopávky odpadových jam. 4. Ceny lze použít i pro sejmutí podorničí. Přitom se přihlíží k ustanovení čl. 3112 Všeobecných podmínek tohoto katalogu. | AT100: PSC | AU100: 2
D101: VV | F101: "dle výkazu projektanta A+B+C" | AT101: VV | AU101: 2 | AV101: 1 | AW101: True | AX101: 0 | AY101: ROZPOCET
D102: VV | F102: "viz, B3, Bilance ZP" | AT102: VV | AU102: 2 | AV102: 1 | AW102: True | AX102: 0 | AY102: ROZPOCET
D103: VV | F103: 204+0+0 "odkop | H103: 204 | AT103: VV | AU103: 2 | AV103: 2 | AW103: True | AX103: 0 | AY103: ROZPOCET
D104: VV | F104: "sanace tl. 300mm plocha parkovacího stání" | AT104: VV | AU104: 2 | AV104: 1 | AW104: True | AX104: 0 | AY104: ROZPOCET
D105: VV | F105: (243,5*1,10)*0,30 | H105: 80.355 | AT105: VV | AU105: 2 | AV105: 2 | AW105: True | AX105: 0 | AY105: ROZPOCET
D106: VV | E106: OD102_m3 | F106: Součet | H106: 284.355 | AT106: VV | AU106: 2 | AV106: 4 | AW106: True | AX106: 1 | AY106: ROZPOCET
C107: 3 | D107: K | E107: 122201109 | F107: Odkopávky a prokopávky nezapažené s přehozením výkopku na vzdálenost do 3 m nebo s naložením na dopravní prostředek v hornině tř. 3 Příplatek k cenám za lepivost horniny tř. 3 | G107: m3 | H107: 71.089 | J107: =ROUND(I107*H107,2) -> 0 | K107: CS ÚRS 2017 02 | N107: základní | P107: =O107*H107 -> 0 | Q107: 0 | R107: =Q107*H107 -> 0 | S107: 0 | T107: =S107*H107 -> 0 | AR107: 4 | AT107: K | AU107: 2 | AY107: ROZPOCET | BE107: =IF(N107="základní",J107,0) -> 0 | BF107: =IF(N107="snížená",J107,0) -> 0 | BG107: =IF(N107="zákl. přenesená",J107,0) -> 0 | BH107: =IF(N107="sníž. přenesená",J107,0) -> 0 | BI107: =IF(N107="nulová",J107,0) -> 0 | BJ107: 1 | BK107: =ROUND(I107*H107,2) -> 0 | BL107: 4 | BM107: -2130679039
D108: PSC | F108: Poznámka k souboru cen:_x000D_ 1. Odkopávky a prokopávky v roubených prostorech se oceňují podle čl. 3116 Všeobecných podmínek tohoto katalogu. 2. Odkopávky a prokopávky ve stržích při lesnicko-technických melioracích (LTM) se oceňují cenami do 100 m3 pro jakýkoliv skutečný objem výkopu; ostatní odkopávky a prokopávky při LTM se oceňují při jakémkoliv objemu výkopu přes 100 m3 cenami přes 100 do 1 000 m3. 3. Ceny lze použít i pro vykopávky odpadových jam. 4. Ceny lze použít i pro sejmutí podorničí. Přitom se přihlíží k ustanovení čl. 3112 Všeobecných podmínek tohoto katalogu. | AT108: PSC | AU108: 2
D109: P | F109: Poznámka k položce: předpoklad 25% | AT109: P | AU109: 2
D110: VV | F110: 284,355*0,25 "Přepočtené koeficientem množství | H110: 71.089 | AT110: VV | AU110: 2 | AV110: 2 | AW110: True | AX110: 1 | AY110: ROZPOCET
C111: 4 | D111: K | E111: 132201201 | F111: Hloubení zapažených i nezapažených rýh šířky přes 600 do 2 000 mm s urovnáním dna do předepsaného profilu a spádu v hornině tř. 3 do 100 m3 | G111: m3 | H111: 35.989 | J111: =ROUND(I111*H111,2) -> 0 | K111: CS ÚRS 2017 02 | N111: základní | P111: =O111*H111 -> 0 | Q111: 0 | R111: =Q111*H111 -> 0 | S111: 0 | T111: =S111*H111 -> 0 | AR111: 4 | AT111: K | AU111: 2 | AY111: ROZPOCET | BE111: =IF(N111="základní",J111,0) -> 0 | BF111: =IF(N111="snížená",J111,0) -> 0 | BG111: =IF(N111="zákl. přenesená",J111,0) -> 0 | BH111: =IF(N111="sníž. přenesená",J111,0) -> 0 | BI111: =IF(N111="nulová",J111,0) -> 0 | BJ111: 1 | BK111: =ROUND(I111*H111,2) -> 0 | BL111: 4 | BM111: -2012953574
D112: PSC | F112: Poznámka k souboru cen:_x000D_ 1. V cenách jsou započteny i náklady na případné nutné přemístění výkopku ve výkopišti na vzdálenost do 3 m a na přehození výkopku na přilehlém terénu na vzdálenost do 5 m od okraje jámy nebo naložení na dopravní prostředek. 2. Hloubení rýh při lesnicko-technických melioracích se oceňuje: a) ve stržích cenami platnými pro objem výkopu do 100 m3, i když skutečný objem výkopu je větší, b) mimo strže pro příčná a podélná zpevnění dna a břehů pod obrysem výkopu pro koryta vodotečí, zejména pro konstrukce těles, stupňů, boků, předprahů, prahů, odháněk, výhonů a pro základy zdí, dlažeb, rovnanin, plůtků a hatí, pro jakoukoliv šířku rýhy, při objemu do 100 m3 cenami příslušnými pro objem výkopu do 100 m3 a při jakémkoliv objemu výkopu přes 100 m3 cenami příslušnými pro objem výkopu přes 100 do 1 000 m3. 3. Náklady na svislé přemístění výkopku nad 1 m hloubky se určí dle ustanovení článku č. 3161 všeobecných podmínek katalogu. 4. Předepisuje-li projekt hloubit rýhy 5 až 7 bez použití trhavin, oceňuje se toto hloubení: a) v suchu nebo mokru cenami 138 40-1201, 138 50-1201 a 138 60-1201 Dolamování hloubených vykopávek, b) v tekoucí vodě při jakékoliv její rychlosti individuálně. 5. Ceny nelze použít pro hloubení rýh a hloubky přes 16 m. Tyto práce se oceňují individuálně. | AT112: PSC | AU112: 2
D113: VV | F113: "Přípojky PVC DN 150mm, V2-6" | AT113: VV | AU113: 2 | AV113: 1 | AW113: True | AX113: 0 | AY113: ROZPOCET
D114: VV | F114: (0,80*1,50)*14,00 | H114: 16.8 | AT114: VV | AU114: 2 | AV114: 2 | AW114: True | AX114: 0 | AY114: ROZPOCET
D115: VV | F115: "dopočet na rozšíření vpustí" | AT115: VV | AU115: 2 | AV115: 1 | AW115: True | AX115: 0 | AY115: ROZPOCET
D116: VV | F116: "š = 0,60*2+0,55 = 1,75m" | AT116: VV | AU116: 2 | AV116: 1 | AW116: True | AX116: 0 | AY116: ROZPOCET
D117: VV | F117: (((1,75-0,80)*1,75)*1,50)*5 | H117: 12.469 | AT117: VV | AU117: 2 | AV117: 2 | AW117: True | AX117: 0 | AY117: ROZPOCET
D118: VV | F118: Mezisoučet | H118: 29.269 | AT118: VV | AU118: 2 | AV118: 3 | AW118: True | AX118: 0 | AY118: ROZPOCET
D119: VV | F119: "-------------------------------------------------" | AT119: VV | AU119: 2 | AV119: 1 | AW119: True | AX119: 0 | AY119: ROZPOCET
D120: VV | F120: "Chránička kabelu DN 100" | AT120: VV | AU120: 2 | AV120: 1 | AW120: True | AX120: 0 | AY120: ROZPOCET
D121: VV | F121: (0,80*0,70)*12,00 | H121: 6.72 | AT121: VV | AU121: 2 | AV121: 2 | AW121: True | AX121: 0 | AY121: ROZPOCET
D122: VV | F122: "-------------------------------------------------" | AT122: VV | AU122: 2 | AV122: 1 | AW122: True | AX122: 0 | AY122: ROZPOCET
D123: VV | E123: R102_m3 | F123: Součet | H123: 35.989 | AT123: VV | AU123: 2 | AV123: 4 | AW123: True | AX123: 1 | AY123: ROZPOCET
C124: 5 | D124: K | E124: 132201209 | F124: Hloubení zapažených i nezapažených rýh šířky přes 600 do 2 000 mm s urovnáním dna do předepsaného profilu a spádu v hornině tř. 3 Příplatek k cenám za lepivost horniny tř. 3 | G124: m3 | H124: 10.797 | J124: =ROUND(I124*H124,2) -> 0 | K124: CS ÚRS 2017 02 | N124: základní | P124: =O124*H124 -> 0 | Q124: 0 | R124: =Q124*H124 -> 0 | S124: 0 | T124: =S124*H124 -> 0 | AR124: 4 | AT124: K | AU124: 2 | AY124: ROZPOCET | BE124: =IF(N124="základní",J124,0) -> 0 | BF124: =IF(N124="snížená",J124,0) -> 0 | BG124: =IF(N124="zákl. přenesená",J124,0) -> 0 | BH124: =IF(N124="sníž. přenesená",J124,0) -> 0 | BI124: =IF(N124="nulová",J124,0) -> 0 | BJ124: 1 | BK124: =ROUND(I124*H124,2) -> 0 | BL124: 4 | BM124: -1669741530
D125: PSC | F125: Poznámka k souboru cen:_x000D_ 1. V cenách jsou započteny i náklady na případné nutné přemístění výkopku ve výkopišti na vzdálenost do 3 m a na přehození výkopku na přilehlém terénu na vzdálenost do 5 m od okraje jámy nebo naložení na dopravní prostředek. 2. Hloubení rýh při lesnicko-technických melioracích se oceňuje: a) ve stržích cenami platnými pro objem výkopu do 100 m3, i když skutečný objem výkopu je větší, b) mimo strže pro příčná a podélná zpevnění dna a břehů pod obrysem výkopu pro koryta vodotečí, zejména pro konstrukce těles, stupňů, boků, předprahů, prahů, odháněk, výhonů a pro základy zdí, dlažeb, rovnanin, plůtků a hatí, pro jakoukoliv šířku rýhy, při objemu do 100 m3 cenami příslušnými pro objem výkopu do 100 m3 a při jakémkoliv objemu výkopu přes 100 m3 cenami příslušnými pro objem výkopu přes 100 do 1 000 m3. 3. Náklady na svislé přemístění výkopku nad 1 m hloubky se určí dle ustanovení článku č. 3161 všeobecných podmínek katalogu. 4. Předepisuje-li projekt hloubit rýhy 5 až 7 bez použití trhavin, oceňuje se toto hloubení: a) v suchu nebo mokru cenami 138 40-1201, 138 50-1201 a 138 60-1201 Dolamování hloubených vykopávek, b) v tekoucí vodě při jakékoliv její rychlosti individuálně. 5. Ceny nelze použít pro hloubení rýh a hloubky přes 16 m. Tyto práce se oceňují individuálně. | AT125: PSC | AU125: 2
D126: P | F126: Poznámka k položce: předpoklad 30ˇ% | AT126: P | AU126: 2
D127: VV | F127: 35,989*0,3 "Přepočtené koeficientem množství | H127: 10.797 | AT127: VV | AU127: 2 | AV127: 2 | AW127: True | AX127: 1 | AY127: ROZPOCET
C128: 6 | D128: K | E128: 151101101 | F128: Zřízení pažení a rozepření stěn rýh pro podzemní vedení pro všechny šířky rýhy příložné pro jakoukoliv mezerovitost, hloubky do 2 m | G128: m2 | H128: 60 | J128: =ROUND(I128*H128,2) -> 0 | K128: CS ÚRS 2017 02 | N128: základní | P128: =O128*H128 -> 0 | Q128: 0.00083851 | R128: =Q128*H128 -> 0.0503106 | S128: 0 | T128: =S128*H128 -> 0 | AR128: 4 | AT128: K | AU128: 2 | AY128: ROZPOCET | BE128: =IF(N128="základní",J128,0) -> 0 | BF128: =IF(N128="snížená",J128,0) -> 0 | BG128: =IF(N128="zákl. přenesená",J128,0) -> 0 | BH128: =IF(N128="sníž. přenesená",J128,0) -> 0 | BI128: =IF(N128="nulová",J128,0) -> 0 | BJ128: 1 | BK128: =ROUND(I128*H128,2) -> 0 | BL128: 4 | BM128: 253974631
D129: PSC | F129: Poznámka k souboru cen:_x000D_ 1. Ceny jsou určeny pro roubení a rozepření stěn i jiných výkopů se svislými stěnami, pokud jsou tyto výkopy pro podzemní vedení rozměru do 1 250 mm. 2. Plocha mezer mezi pažinami příložného pažení se od plochy příložného pažení neodečítá; nezapažené plochy u pažení zátažného nebo hnaného se od plochy pažení odečítají. 3. Předepisuje-li projekt: a) ponechat pažení ve výkopu, oceňuje se toto pažení cenami souboru cen 151 . 0-19 Pažení stěn s ponecháním a rozepření stěn cenami souboru cen 151 . 0-13 Zřízení rozepření zapažených stěn výkopů, b) vzepření stěn, oceňuje se toto odstranění pažení stěn výkopu cenami souboru cen 151 . 0-12 Pažení stěn a vzepření stěn cenami souboru cen 151 . 0-14 odstranění vzepření stěn, c) kotvení stěn, oceňuje se toto Odstranění pažení stěn cenami souboru cen 151 . 0-12 Pažení stěn a kotvení stěn příslušnými cenami katalogu 800-2 Zvláštní zakládání objektů. | AT129: PSC | AU129: 2
D130: VV | F130: "Přípojky PVC DN 150mm, V2-6" | AT130: VV | AU130: 2 | AV130: 1 | AW130: True | AX130: 0 | AY130: ROZPOCET
...

Sheet 103 - SO 103 - BUS zálivy...
D1: List obsahuje: | F1: 1) Krycí list soupisu | G1: 2) Rekapitulace | J1: 3) Soupis prací | K1: Zpět na list: | L1: Rekapitulace stavby
AT2: {3b76264e-7fd9-44a0-8c84-9eb16712f770} | AZ2: OB102_m3 | BA2: obsyp SO 102 | BB2: m3 | BC2: 8,576 | BD2: 2
AT3: 2 | AZ3: OD103_m3 | BA3: výkopy - odkop SO 103 | BB3: m3 | BC3: 301,03 | BD3: 2
D4: KRYCÍ LIST SOUPISU | M4: v --- níže se nacházejí doplnkové a pomocné údaje k sestavám --- v | AT4: False | AZ4: R103_m3 | BA4: výkop rýhy SO 103 | BB4: m3 | BC4: 34,908 | BD4: 2
AZ5: Z103_m3 | BA5: zásyp SO 103 | BB5: m3 | BC5: 78,309 | BD5: 2
D6: Stavba:
E7: ='Rekapitulace stavby'!K6 -> Cholina - chodníky náves (DSP)
D8: Objekt:
E9: 103 - SO 103 - BUS zálivy (Nezpůsobilé výdaje)
D11: KSO: | F11: 822 23 3 | I11: CC-CZ:
D12: Místo: | F12: Cholina | I12: Datum: | J12: ='Rekapitulace stavby'!AN8 -> 23.10.2017
D14: Zadavatel: | I14: IČ:
E15: Obec Cholina, Cholina 52, 78322 Cholina | I15: DIČ:
D17: Uchazeč: | I17: IČ: | J17: =IF('Rekapitulace stavby'!AN13="Vyplň údaj","",IF('Rekapitulace stavby'!AN13="","",'Rekapitulace stavby'!AN13))
E18: =IF('Rekapitulace stavby'!E14="Vyplň údaj","",IF('Rekapitulace stavby'!E14="","",'Rekapitulace stavby'!E14)) | I18: DIČ: | J18: =IF('Rekapitulace stavby'!AN14="Vyplň údaj","",IF('Rekapitulace stavby'!AN14="","",'Rekapitulace stavby'!AN14))
D20: Projektant: | I20: IČ:
I21: DIČ:
D23: Poznámka:
D27: Cena bez DPH | J27: =ROUND(J94,2) -> 0
F29: Základ daně | I29: Sazba daně | J29: Výše daně
D30: DPH | E30: základní | F30: =ROUND(SUM(BE94:BE446), 2) -> 0 | I30: 0.21 | J30: =ROUND(ROUND((SUM(BE94:BE446)), 2)*I30, 2) -> 0
E31: snížená | F31: =ROUND(SUM(BF94:BF446), 2) -> 0 | I31: 0.15 | J31: =ROUND(ROUND((SUM(BF94:BF446)), 2)*I31, 2) -> 0
E32: zákl. přenesená | F32: =ROUND(SUM(BG94:BG446), 2) -> 0 | I32: 0.21 | J32: 0
E33: sníž. přenesená | F33: =ROUND(SUM(BH94:BH446), 2) -> 0 | I33: 0.15 | J33: 0
E34: nulová | F34: =ROUND(SUM(BI94:BI446), 2) -> 0 | I34: 0 | J34: 0
D36: Cena s DPH | G36: v | H36: CZK | J36: =SUM(J27:J34) -> 0
C42: REKAPITULACE ČLENĚNÍ SOUPISU PRACÍ
C44: Stavba:
E45: =E7 -> Cholina - chodníky náves (DSP)
C46: Objekt:
E47: =E9 -> 103 - SO 103 - BUS zálivy (Nezpůsobilé výdaje)
C49: Místo: | F49: =F12 -> Cholina | I49: Datum: | J49: =IF(J12="","",J12) -> 23.10.2017
C51: Zadavatel: | F51: =E15 -> Obec Cholina, Cholina 52, 78322 Cholina | I51: Projektant: | J51: =E21
C52: Uchazeč: | F52: =IF(E18="","",E18)
C54: Kód dílu - Popis | J54: Cena celkem [CZK]
C56: Náklady soupisu celkem | J56: =J94 -> 0 | AU56: -1
D57: HSV - Práce a dodávky HSV | J57: =J95 -> 0
D58: 10 - Zemní práce | J58: =J96 -> 0
D59: 11 - Zemní práce - přípravné a přidružené práce | J59: =J213 -> 0
D60: 21 - Zakládání - úprava podloží a základové spáry, zlepšování vlastností hornin | J60: =J224 -> 0
D61: 30 - Svislé a kompletní konstrukce | J61: =J240 -> 0
D62: 45 - Podkladní a vedlejší konstrukce kromě vozovek a železničního svršku | J62: =J245 -> 0
D63: 56 - Podkladní vrstvy komunikací, letišť a ploch | J63: =J255 -> 0
D64: 59 - Kryty pozemních komunikací, letišť a ploch dlážděné | J64: =J269 -> 0
D65: 87 - Potrubí z trub plastických a skleněných | J65: =J280 -> 0
D66: 89 - Ostatní konstrukce | J66: =J289 -> 0
D67: 91 - Doplňující konstrukce a práce pozemních komunikací, letišť a ploch | J67: =J326 -> 0
D68: 93 - Různé dokončovací konstrukce a práce inženýrských staveb | J68: =J351 -> 0
D69: 96 - Bourání konstrukcí | J69: =J360 -> 0
D70: 997 - Přesun sutě | J70: =J366 -> 0
D71: 998 - Přesun hmot | J71: =J436 -> 0
D72: M - Práce a dodávky M | J72: =J438 -> 0
D73: 22-M - Montáže technologických zařízení pro dopravní stavby | J73: =J439 -> 0
D74: 46-M - Zemní práce při extr.mont.pracích | J74: =J443 -> 0
C81: SOUPIS PRACÍ
C83: Stavba:
E84: =E7 -> Cholina - chodníky náves (DSP)
C85: Objekt:
E86: =E9 -> 103 - SO 103 - BUS zálivy (Nezpůsobilé výdaje)
C88: Místo: | F88: =F12 -> Cholina | I88: Datum: | J88: =IF(J12="","",J12) -> 23.10.2017
C90: Zadavatel: | F90: =E15 -> Obec Cholina, Cholina 52, 78322 Cholina | I90: Projektant: | J90: =E21
C91: Uchazeč: | F91: =IF(E18="","",E18)
C93: PČ | D93: Typ | E93: Kód | F93: Popis | G93: MJ | H93: Množství | I93: J.cena [CZK] | J93: Cena celkem [CZK] | K93: Cenová soustava | M93: Poznámka | N93: DPH | O93: J. Nh [h] | P93: Nh celkem [h] | Q93: J. hmotnost_x000D_ [t] | R93: Hmotnost_x000D_ celkem [t] | S93: J. suť [t] | T93: Suť Celkem [t]
C94: Náklady soupisu celkem | J94: =BK94 -> 0 | P94: =P95+P438 -> 0 | R94: =R95+R438 -> 248.89384 | T94: =T95+T438 -> 88.6 | AT94: D | AU94: -1 | BK94: =BK95+BK438 -> 0
D95: D | E95: HSV | F95: Práce a dodávky HSV | J95: =BK95 -> 0 | P95: =P96+P213+P224+P240+P245+P255+P269+P280+P289+P326+P351+P360+P366+P436 -> 0 | R95: =R96+R213+R224+R240+R245+R255+R269+R280+R289+R326+R351+R360+R366+R436 -> 248.8937 | T95: =T96+T213+T224+T240+T245+T255+T269+T280+T289+T326+T351+T360+T366+T436 -> 88.6 | AR95: 1 | AT95: D | AU95: 0 | AY95: ROZPOCET | BK95: =BK96+BK213+BK224+BK240+BK245+BK255+BK269+BK280+BK289+BK326+BK351+BK360+BK366+BK436 -> 0
D96: D | E96: 10 | F96: Zemní práce | J96: =BK96 -> 0 | P96: =SUM(P97:P212) -> 0 | R96: =SUM(R97:R212) -> 181.20141 | T96: =SUM(T97:T212) -> 0 | AR96: 1 | AT96: D | AU96: 1 | AY96: ROZPOCET | BK96: =SUM(BK97:BK212) -> 0
C97: 1 | D97: K | E97: 122201102 | F97: Odkopávky a prokopávky nezapažené s přehozením výkopku na vzdálenost do 3 m nebo s naložením na dopravní prostředek v hornině tř. 3 přes 100 do 1 000 m3 | G97: m3 | H97: 301.03 | J97: =ROUND(I97*H97,2) -> 0 | K97: CS ÚRS 2017 02 | N97: základní | P97: =O97*H97 -> 0 | Q97: 0 | R97: =Q97*H97 -> 0 | S97: 0 | T97: =S97*H97 -> 0 | AR97: 4 | AT97: K | AU97: 2 | AY97: ROZPOCET | BE97: =IF(N97="základní",J97,0) -> 0 | BF97: =IF(N97="snížená",J97,0) -> 0 | BG97: =IF(N97="zákl. přenesená",J97,0) -> 0 | BH97: =IF(N97="sníž. přenesená",J97,0) -> 0 | BI97: =IF(N97="nulová",J97,0) -> 0 | BJ97: 1 | BK97: =ROUND(I97*H97,2) -> 0 | BL97: 4 | BM97: -1211136779
D98: PSC | F98: Poznámka k souboru cen:_x000D_ 1. Odkopávky a prokopávky v roubených prostorech se oceňují podle čl. 3116 Všeobecných podmínek tohoto katalogu. 2. Odkopávky a prokopávky ve stržích při lesnicko-technických melioracích (LTM) se oceňují cenami do 100 m3 pro jakýkoliv skutečný objem výkopu; ostatní odkopávky a prokopávky při LTM se oceňují při jakémkoliv objemu výkopu přes 100 m3 cenami přes 100 do 1 000 m3. 3. Ceny lze použít i pro vykopávky odpadových jam. 4. Ceny lze použít i pro sejmutí podorničí. Přitom se přihlíží k ustanovení čl. 3112 Všeobecných podmínek tohoto katalogu. | AT98: PSC | AU98: 2
D99: VV | F99: "dle výkazu projektanta; část B" | AT99: VV | AU99: 2 | AV99: 1 | AW99: True | AX99: 0 | AY99: ROZPOCET
D100: VV | F100: "viz, B3, Bilance ZP vč výkopu pro drenáže | AT100: VV | AU100: 2 | AV100: 1 | AW100: True | AX100: 0 | AY100: ROZPOCET
D101: VV | F101: 238,000 | H101: 238 | AT101: VV | AU101: 2 | AV101: 2 | AW101: True | AX101: 0 | AY101: ROZPOCET
D102: VV | F102: "sanace tl. 300mm plocha parkovacího stání" | AT102: VV | AU102: 2 | AV102: 1 | AW102: True | AX102: 0 | AY102: ROZPOCET
D103: VV | F103: (191*1,1)*0,30 | H103: 63.03 | AT103: VV | AU103: 2 | AV103: 2 | AW103: True | AX103: 0 | AY103: ROZPOCET
D104: VV | E104: OD103_m3 | F104: Součet | H104: 301.03 | AT104: VV | AU104: 2 | AV104: 4 | AW104: True | AX104: 1 | AY104: ROZPOCET
C105: 2 | D105: K | E105: 122201109 | F105: Odkopávky a prokopávky nezapažené s přehozením výkopku na vzdálenost do 3 m nebo s naložením na dopravní prostředek v hornině tř. 3 Příplatek k cenám za lepivost horniny tř. 3 | G105: m3 | H105: 75.258 | J105: =ROUND(I105*H105,2) -> 0 | K105: CS ÚRS 2017 02 | N105: základní | P105: =O105*H105 -> 0 | Q105: 0 | R105: =Q105*H105 -> 0 | S105: 0 | T105: =S105*H105 -> 0 | AR105: 4 | AT105: K | AU105: 2 | AY105: ROZPOCET | BE105: =IF(N105="základní",J105,0) -> 0 | BF105: =IF(N105="snížená",J105,0) -> 0 | BG105: =IF(N105="zákl. přenesená",J105,0) -> 0 | BH105: =IF(N105="sníž. přenesená",J105,0) -> 0 | BI105: =IF(N105="nulová",J105,0) -> 0 | BJ105: 1 | BK105: =ROUND(I105*H105,2) -> 0 | BL105: 4 | BM105: -761650083
D106: PSC | F106: Poznámka k souboru cen:_x000D_ 1. Odkopávky a prokopávky v roubených prostorech se oceňují podle čl. 3116 Všeobecných podmínek tohoto katalogu. 2. Odkopávky a prokopávky ve stržích při lesnicko-technických melioracích (LTM) se oceňují cenami do 100 m3 pro jakýkoliv skutečný objem výkopu; ostatní odkopávky a prokopávky při LTM se oceňují při jakémkoliv objemu výkopu přes 100 m3 cenami přes 100 do 1 000 m3. 3. Ceny lze použít i pro vykopávky odpadových jam. 4. Ceny lze použít i pro sejmutí podorničí. Přitom se přihlíží k ustanovení čl. 3112 Všeobecných podmínek tohoto katalogu. | AT106: PSC | AU106: 2
D107: P | F107: Poznámka k položce: předpoklad 25% | AT107: P | AU107: 2
D108: VV | F108: 301,03*0,25 "Přepočtené koeficientem množství | H108: 75.258 | AT108: VV | AU108: 2 | AV108: 2 | AW108: True | AX108: 1 | AY108: ROZPOCET
C109: 3 | D109: K | E109: 132201201 | F109: Hloubení zapažených i nezapažených rýh šířky přes 600 do 2 000 mm s urovnáním dna do předepsaného profilu a spádu v hornině tř. 3 do 100 m3 | G109: m3 | H109: 34.908 | J109: =ROUND(I109*H109,2) -> 0 | K109: CS ÚRS 2017 02 | N109: základní | P109: =O109*H109 -> 0 | Q109: 0 | R109: =Q109*H109 -> 0 | S109: 0 | T109: =S109*H109 -> 0 | AR109: 4 | AT109: K | AU109: 2 | AY109: ROZPOCET | BE109: =IF(N109="základní",J109,0) -> 0 | BF109: =IF(N109="snížená",J109,0) -> 0 | BG109: =IF(N109="zákl. přenesená",J109,0) -> 0 | BH109: =IF(N109="sníž. přenesená",J109,0) -> 0 | BI109: =IF(N109="nulová",J109,0) -> 0 | BJ109: 1 | BK109: =ROUND(I109*H109,2) -> 0 | BL109: 4 | BM109: 911912308
D110: PSC | F110: Poznámka k souboru cen:_x000D_ 1. V cenách jsou započteny i náklady na případné nutné přemístění výkopku ve výkopišti na vzdálenost do 3 m a na přehození výkopku na přilehlém terénu na vzdálenost do 5 m od okraje jámy nebo naložení na dopravní prostředek. 2. Hloubení rýh při lesnicko-technických melioracích se oceňuje: a) ve stržích cenami platnými pro objem výkopu do 100 m3, i když skutečný objem výkopu je větší, b) mimo strže pro příčná a podélná zpevnění dna a břehů pod obrysem výkopu pro koryta vodotečí, zejména pro konstrukce těles, stupňů, boků, předprahů, prahů, odháněk, výhonů a pro základy zdí, dlažeb, rovnanin, plůtků a hatí, pro jakoukoliv šířku rýhy, při objemu do 100 m3 cenami příslušnými pro objem výkopu do 100 m3 a při jakémkoliv objemu výkopu přes 100 m3 cenami příslušnými pro objem výkopu přes 100 do 1 000 m3. 3. Náklady na svislé přemístění výkopku nad 1 m hloubky se určí dle ustanovení článku č. 3161 všeobecných podmínek katalogu. 4. Předepisuje-li projekt hloubit rýhy 5 až 7 bez použití trhavin, oceňuje se toto hloubení: a) v suchu nebo mokru cenami 138 40-1201, 138 50-1201 a 138 60-1201 Dolamování hloubených vykopávek, b) v tekoucí vodě při jakékoliv její rychlosti individuálně. 5. Ceny nelze použít pro hloubení rýh a hloubky přes 16 m. Tyto práce se oceňují individuálně. | AT110: PSC | AU110: 2
D111: VV | F111: "Přípojky PVC DN 150mm, Ž1 a Ž2" | AT111: VV | AU111: 2 | AV111: 1 | AW111: True | AX111: 0 | AY111: ROZPOCET
D112: VV | F112: (0,80*1,50)*6,00 | H112: 7.2 | AT112: VV | AU112: 2 | AV112: 2 | AW112: True | AX112: 0 | AY112: ROZPOCET
D113: VV | F113: "dopočet na šachty" | AT113: VV | AU113: 2 | AV113: 1 | AW113: True | AX113: 0 | AY113: ROZPOCET
D114: VV | F114: ((1,75-0,80)*1,75)*1,50*2 | H114: 4.988 | AT114: VV | AU114: 2 | AV114: 2 | AW114: True | AX114: 0 | AY114: ROZPOCET
D115: VV | F115: "Přípojky PVC DN 100mm" | AT115: VV | AU115: 2 | AV115: 1 | AW115: True | AX115: 0 | AY115: ROZPOCET
D116: VV | F116: (0,80*1,50)*18,00 | H116: 21.6 | AT116: VV | AU116: 2 | AV116: 2 | AW116: True | AX116: 0 | AY116: ROZPOCET
D117: VV | F117: Mezisoučet | H117: 33.788 | AT117: VV | AU117: 2 | AV117: 3 | AW117: True | AX117: 0 | AY117: ROZPOCET
D118: VV | F118: "-------------------------------------------------" | AT118: VV | AU118: 2 | AV118: 1 | AW118: True | AX118: 0 | AY118: ROZPOCET
D119: VV | F119: "Chránička kabelu DN 100" | AT119: VV | AU119: 2 | AV119: 1 | AW119: True | AX119: 0 | AY119: ROZPOCET
D120: VV | F120: (0,80*0,70)*2,00 | H120: 1.12 | AT120: VV | AU120: 2 | AV120: 2 | AW120: True | AX120: 0 | AY120: ROZPOCET
D121: VV | F121: "-------------------------------------------------" | AT121: VV | AU121: 2 | AV121: 1 | AW121: True | AX121: 0 | AY121: ROZPOCET
D122: VV | E122: R103_m3 | F122: Součet | H122: 34.908 | AT122: VV | AU122: 2 | AV122: 4 | AW122: True | AX122: 1 | AY122: ROZPOCET
C123: 4 | D123: K | E123: 132201209 | F123: Hloubení zapažených i nezapažených rýh šířky přes 600 do 2 000 mm s urovnáním dna do předepsaného profilu a spádu v hornině tř. 3 Příplatek k cenám za lepivost horniny tř. 3 | G123: m3 | H123: 10.472 | J123: =ROUND(I123*H123,2) -> 0 | K123: CS ÚRS 2017 02 | N123: základní | P123: =O123*H123 -> 0 | Q123: 0 | R123: =Q123*H123 -> 0 | S123: 0 | T123: =S123*H123 -> 0 | AR123: 4 | AT123: K | AU123: 2 | AY123: ROZPOCET | BE123: =IF(N123="základní",J123,0) -> 0 | BF123: =IF(N123="snížená",J123,0) -> 0 | BG123: =IF(N123="zákl. přenesená",J123,0) -> 0 | BH123: =IF(N123="sníž. přenesená",J123,0) -> 0 | BI123: =IF(N123="nulová",J123,0) -> 0 | BJ123: 1 | BK123: =ROUND(I123*H123,2) -> 0 | BL123: 4 | BM123: 339540471
D124: PSC | F124: Poznámka k souboru cen:_x000D_ 1. V cenách jsou započteny i náklady na případné nutné přemístění výkopku ve výkopišti na vzdálenost do 3 m a na přehození výkopku na přilehlém terénu na vzdálenost do 5 m od okraje jámy nebo naložení na dopravní prostředek. 2. Hloubení rýh při lesnicko-technických melioracích se oceňuje: a) ve stržích cenami platnými pro objem výkopu do 100 m3, i když skutečný objem výkopu je větší, b) mimo strže pro příčná a podélná zpevnění dna a břehů pod obrysem výkopu pro koryta vodotečí, zejména pro konstrukce těles, stupňů, boků, předprahů, prahů, odháněk, výhonů a pro základy zdí, dlažeb, rovnanin, plůtků a hatí, pro jakoukoliv šířku rýhy, při objemu do 100 m3 cenami příslušnými pro objem výkopu do 100 m3 a při jakémkoliv objemu výkopu přes 100 m3 cenami příslušnými pro objem výkopu přes 100 do 1 000 m3. 3. Náklady na svislé přemístění výkopku nad 1 m hloubky se určí dle ustanovení článku č. 3161 všeobecných podmínek katalogu. 4. Předepisuje-li projekt hloubit rýhy 5 až 7 bez použití trhavin, oceňuje se toto hloubení: a) v suchu nebo mokru cenami 138 40-1201, 138 50-1201 a 138 60-1201 Dolamování hloubených vykopávek, b) v tekoucí vodě při jakékoliv její rychlosti individuálně. 5. Ceny nelze použít pro hloubení rýh a hloubky přes 16 m. Tyto práce se oceňují individuálně. | AT124: PSC | AU124: 2
D125: P | F125: Poznámka k položce: předpoklad 30ˇ% | AT125: P | AU125: 2
D126: VV | F126: 34,908*0,3 "Přepočtené koeficientem množství | H126: 10.472 | AT126: VV | AU126: 2 | AV126: 2 | AW126: True | AX126: 1 | AY126: ROZPOCET
C127: 5 | D127: K | E127: 151101101 | F127: Zřízení pažení a rozepření stěn rýh pro podzemní vedení pro všechny šířky rýhy příložné pro jakoukoliv mezerovitost, hloubky do 2 m | G127: m2 | H127: 79.2 | J127: =ROUND(I127*H127,2) -> 0 | K127: CS ÚRS 2017 02 | N127: základní | P127: =O127*H127 -> 0 | Q127: 0.00083851 | R127: =Q127*H127 -> 0.066409992 | S127: 0 | T127: =S127*H127 -> 0 | AR127: 4 | AT127: K | AU127: 2 | AY127: ROZPOCET | BE127: =IF(N127="základní",J127,0) -> 0 | BF127: =IF(N127="snížená",J127,0) -> 0 | BG127: =IF(N127="zákl. přenesená",J127,0) -> 0 | BH127: =IF(N127="sníž. přenesená",J127,0) -> 0 | BI127: =IF(N127="nulová",J127,0) -> 0 | BJ127: 1 | BK127: =ROUND(I127*H127,2) -> 0 | BL127: 4 | BM127: -306314450
D128: PSC | F128: Poznámka k souboru cen:_x000D_ 1. Ceny jsou určeny pro roubení a rozepření stěn i jiných výkopů se svislými stěnami, pokud jsou tyto výkopy pro podzemní vedení rozměru do 1 250 mm. 2. Plocha mezer mezi pažinami příložného pažení se od plochy příložného pažení neodečítá; nezapažené plochy u pažení zátažného nebo hnaného se od plochy pažení odečítají. 3. Předepisuje-li projekt: a) ponechat pažení ve výkopu, oceňuje se toto pažení cenami souboru cen 151 . 0-19 Pažení stěn s ponecháním a rozepření stěn cenami souboru cen 151 . 0-13 Zřízení rozepření zapažených stěn výkopů, b) vzepření stěn, oceňuje se toto odstranění pažení stěn výkopu cenami souboru cen 151 . 0-12 Pažení stěn a vzepření stěn cenami souboru cen 151 . 0-14 odstranění vzepření stěn, c) kotvení stěn, oceňuje se toto Odstranění pažení stěn cenami souboru cen 151 . 0-12 Pažení stěn a kotvení stěn příslušnými cenami katalogu 800-2 Zvláštní zakládání objektů. | AT128: PSC | AU128: 2
D129: VV | F129: "Přípojky PVC DN 150mm, Ž1 a Ž2" | AT129: VV | AU129: 2 | AV129: 1 | AW129: True | AX129: 0 | AY129: ROZPOCET
D130: VV | F130: (1,50*2)*6,00 | H130: 18 | AT130: VV | AU130: 2 | AV130: 2 | AW130: True | AX130: 0 | AY130: ROZPOCET
...

Sheet 104_1 - SO 104 - Vjezdy (...
D1: List obsahuje: | F1: 1) Krycí list soupisu | G1: 2) Rekapitulace | J1: 3) Soupis prací | K1: Zpět na list: | L1: Rekapitulace stavby
AT2: {71c3aaf2-3c3b-49fe-890e-b67a19cab983} | AZ2: O4HAm3 | BA2: Odkop SO 104 (Hlavní aktivita) | BB2: m3 | BC2: 66,47 | BD2: 2
AT3: 2
D4: KRYCÍ LIST SOUPISU | M4: v --- níže se nacházejí doplnkové a pomocné údaje k sestavám --- v | AT4: False
D6: Stavba:
E7: ='Rekapitulace stavby'!K6 -> Cholina - chodníky náves (DSP)
D8: Objekt:
E9: 104 - SO 104 - Vjezdy
D10: Soupis:
E11: 104_1 - SO 104 - Vjezdy (Způsobilé výdaje - Hlavní aktivita)
D13: KSO: | F13: 822 55 3 | I13: CC-CZ:
D14: Místo: | F14: Cholina | I14: Datum: | J14: ='Rekapitulace stavby'!AN8 -> 23.10.2017
D16: Zadavatel: | I16: IČ:
E17: Obec Cholina, Cholina 52, 78322 Cholina | I17: DIČ:
D19: Uchazeč: | I19: IČ: | J19: =IF('Rekapitulace stavby'!AN13="Vyplň údaj","",IF('Rekapitulace stavby'!AN13="","",'Rekapitulace stavby'!AN13))
E20: =IF('Rekapitulace stavby'!E14="Vyplň údaj","",IF('Rekapitulace stavby'!E14="","",'Rekapitulace stavby'!E14)) | I20: DIČ: | J20: =IF('Rekapitulace stavby'!AN14="Vyplň údaj","",IF('Rekapitulace stavby'!AN14="","",'Rekapitulace stavby'!AN14))
D22: Projektant: | I22: IČ:
I23: DIČ:
D25: Poznámka:
D29: Cena bez DPH | J29: =ROUND(J91,2) -> 0
F31: Základ daně | I31: Sazba daně | J31: Výše daně
D32: DPH | E32: základní | F32: =ROUND(SUM(BE91:BE246), 2) -> 0 | I32: 0.21 | J32: =ROUND(ROUND((SUM(BE91:BE246)), 2)*I32, 2) -> 0
E33: snížená | F33: =ROUND(SUM(BF91:BF246), 2) -> 0 | I33: 0.15 | J33: =ROUND(ROUND((SUM(BF91:BF246)), 2)*I33, 2) -> 0
E34: zákl. přenesená | F34: =ROUND(SUM(BG91:BG246), 2) -> 0 | I34: 0.21 | J34: 0
E35: sníž. přenesená | F35: =ROUND(SUM(BH91:BH246), 2) -> 0 | I35: 0.15 | J35: 0
E36: nulová | F36: =ROUND(SUM(BI91:BI246), 2) -> 0 | I36: 0 | J36: 0
D38: Cena s DPH | G38: v | H38: CZK | J38: =SUM(J29:J36) -> 0
C44: REKAPITULACE ČLENĚNÍ SOUPISU PRACÍ
C46: Stavba:
E47: =E7 -> Cholina - chodníky náves (DSP)
C48: Objekt:
E49: 104 - SO 104 - Vjezdy
C50: Soupis:
E51: =E11 -> 104_1 - SO 104 - Vjezdy (Způsobilé výdaje - Hlavní aktivita)
C53: Místo: | F53: =F14 -> Cholina | I53: Datum: | J53: =IF(J14="","",J14) -> 23.10.2017
C55: Zadavatel: | F55: =E17 -> Obec Cholina, Cholina 52, 78322 Cholina | I55: Projektant: | J55: =E23
C56: Uchazeč: | F56: =IF(E20="","",E20)
C58: Kód dílu - Popis | J58: Cena celkem [CZK]
C60: Náklady soupisu celkem | J60: =J91 -> 0 | AU60: -1
D61: HSV - Práce a dodávky HSV | J61: =J92 -> 0
D62: 10 - Zemní práce | J62: =J93 -> 0
D63: 11 - Zemní práce - přípravné a přidružené práce | J63: =J133 -> 0
D64: 56 - Podkladní vrstvy komunikací, letišť a ploch | J64: =J144 -> 0
D65: 59 - Kryty pozemních komunikací, letišť a ploch dlážděné | J65: =J157 -> 0
D66: 91 - Doplňující konstrukce a práce pozemních komunikací, letišť a ploch | J66: =J180 -> 0
D67: 97 - Prorážení otvorů a ostatní bourací práce | J67: =J186 -> 0
D68: 997 - Přesun sutě | J68: =J194 -> 0
D69: 998 - Přesun hmot | J69: =J245 -> 0
C76: SOUPIS PRACÍ
C78: Stavba:
E79: =E7 -> Cholina - chodníky náves (DSP)
C80: Objekt:
E81: 104 - SO 104 - Vjezdy
C82: Soupis:
E83: =E11 -> 104_1 - SO 104 - Vjezdy (Způsobilé výdaje - Hlavní aktivita)
C85: Místo: | F85: =F14 -> Cholina | I85: Datum: | J85: =IF(J14="","",J14) -> 23.10.2017
C87: Zadavatel: | F87: =E17 -> Obec Cholina, Cholina 52, 78322 Cholina | I87: Projektant: | J87: =E23
C88: Uchazeč: | F88: =IF(E20="","",E20)
C90: PČ | D90: Typ | E90: Kód | F90: Popis | G90: MJ | H90: Množství | I90: J.cena [CZK] | J90: Cena celkem [CZK] | K90: Cenová soustava | M90: Poznámka | N90: DPH | O90: J. Nh [h] | P90: Nh celkem [h] | Q90: J. hmotnost_x000D_ [t] | R90: Hmotnost_x000D_ celkem [t] | S90: J. suť [t] | T90: Suť Celkem [t]
C91: Náklady soupisu celkem | J91: =BK91 -> 0 | P91: =P92 -> 0 | R91: =R92 -> 49.533047 | T91: =T92 -> 42.88 | AT91: D | AU91: -1 | BK91: =BK92 -> 0
D92: D | E92: HSV | F92: Práce a dodávky HSV | J92: =BK92 -> 0 | P92: =P93+P133+P144+P157+P180+P186+P194+P245 -> 0 | R92: =R93+R133+R144+R157+R180+R186+R194+R245 -> 49.533047 | T92: =T93+T133+T144+T157+T180+T186+T194+T245 -> 42.88 | AR92: 1 | AT92: D | AU92: 0 | AY92: ROZPOCET | BK92: =BK93+BK133+BK144+BK157+BK180+BK186+BK194+BK245 -> 0
D93: D | E93: 10 | F93: Zemní práce | J93: =BK93 -> 0 | P93: =SUM(P94:P132) -> 0 | R93: =SUM(R94:R132) -> 0 | T93: =SUM(T94:T132) -> 0 | AR93: 1 | AT93: D | AU93: 1 | AY93: ROZPOCET | BK93: =SUM(BK94:BK132) -> 0
C94: 1 | D94: K | E94: 122201102 | F94: Odkopávky a prokopávky nezapažené s přehozením výkopku na vzdálenost do 3 m nebo s naložením na dopravní prostředek v hornině tř. 3 přes 100 do 1 000 m3 | G94: m3 | H94: 66.47 | J94: =ROUND(I94*H94,2) -> 0 | K94: CS ÚRS 2017 02 | N94: základní | P94: =O94*H94 -> 0 | Q94: 0 | R94: =Q94*H94 -> 0 | S94: 0 | T94: =S94*H94 -> 0 | AR94: 4 | AT94: K | AU94: 2 | AY94: ROZPOCET | BE94: =IF(N94="základní",J94,0) -> 0 | BF94: =IF(N94="snížená",J94,0) -> 0 | BG94: =IF(N94="zákl. přenesená",J94,0) -> 0 | BH94: =IF(N94="sníž. přenesená",J94,0) -> 0 | BI94: =IF(N94="nulová",J94,0) -> 0 | BJ94: 1 | BK94: =ROUND(I94*H94,2) -> 0 | BL94: 4 | BM94: -900569299
D95: PSC | F95: Poznámka k souboru cen:_x000D_ 1. Odkopávky a prokopávky v roubených prostorech se oceňují podle čl. 3116 Všeobecných podmínek tohoto katalogu. 2. Odkopávky a prokopávky ve stržích při lesnicko-technických melioracích (LTM) se oceňují cenami do 100 m3 pro jakýkoliv skutečný objem výkopu; ostatní odkopávky a prokopávky při LTM se oceňují při jakémkoliv objemu výkopu přes 100 m3 cenami přes 100 do 1 000 m3. 3. Ceny lze použít i pro vykopávky odpadových jam. 4. Ceny lze použít i pro sejmutí podorničí. Přitom se přihlíží k ustanovení čl. 3112 Všeobecných podmínek tohoto katalogu. | AT95: PSC | AU95: 2
D96: VV | F96: "dle výkazu projektanta; část A+B+C" | AT96: VV | AU96: 2 | AV96: 1 | AW96: True | AX96: 0 | AY96: ROZPOCET
D97: VV | F97: "viz, B3, Bilance ZP" | AT97: VV | AU97: 2 | AV97: 1 | AW97: True | AX97: 0 | AY97: ROZPOCET
D98: VV | F98: 12,78+6,39+3,02 | H98: 22.19 | AT98: VV | AU98: 2 | AV98: 2 | AW98: True | AX98: 0 | AY98: ROZPOCET
D99: VV | F99: "sanace tl. 300mm plocha parkovacího stání" | AT99: VV | AU99: 2 | AV99: 1 | AW99: True | AX99: 0 | AY99: ROZPOCET
D100: VV | F100: (123,00*1,20)*0,30 | H100: 44.28 | AT100: VV | AU100: 2 | AV100: 2 | AW100: True | AX100: 0 | AY100: ROZPOCET
D101: VV | E101: O4HAm3 | F101: Součet | H101: 66.47 | AT101: VV | AU101: 2 | AV101: 4 | AW101: True | AX101: 1 | AY101: ROZPOCET
C102: 2 | D102: K | E102: 122201109 | F102: Odkopávky a prokopávky nezapažené s přehozením výkopku na vzdálenost do 3 m nebo s naložením na dopravní prostředek v hornině tř. 3 Příplatek k cenám za lepivost horniny tř. 3 | G102: m3 | H102: 4.155 | J102: =ROUND(I102*H102,2) -> 0 | K102: CS ÚRS 2017 02 | N102: základní | P102: =O102*H102 -> 0 | Q102: 0 | R102: =Q102*H102 -> 0 | S102: 0 | T102: =S102*H102 -> 0 | AR102: 4 | AT102: K | AU102: 2 | AY102: ROZPOCET | BE102: =IF(N102="základní",J102,0) -> 0 | BF102: =IF(N102="snížená",J102,0) -> 0 | BG102: =IF(N102="zákl. přenesená",J102,0) -> 0 | BH102: =IF(N102="sníž. přenesená",J102,0) -> 0 | BI102: =IF(N102="nulová",J102,0) -> 0 | BJ102: 1 | BK102: =ROUND(I102*H102,2) -> 0 | BL102: 4 | BM102: 694027650
D103: PSC | F103: Poznámka k souboru cen:_x000D_ 1. Odkopávky a prokopávky v roubených prostorech se oceňují podle čl. 3116 Všeobecných podmínek tohoto katalogu. 2. Odkopávky a prokopávky ve stržích při lesnicko-technických melioracích (LTM) se oceňují cenami do 100 m3 pro jakýkoliv skutečný objem výkopu; ostatní odkopávky a prokopávky při LTM se oceňují při jakémkoliv objemu výkopu přes 100 m3 cenami přes 100 do 1 000 m3. 3. Ceny lze použít i pro vykopávky odpadových jam. 4. Ceny lze použít i pro sejmutí podorničí. Přitom se přihlíží k ustanovení čl. 3112 Všeobecných podmínek tohoto katalogu. | AT103: PSC | AU103: 2
D104: VV | F104: "předpoklad 25% | AT104: VV | AU104: 2 | AV104: 1 | AW104: True | AX104: 0 | AY104: ROZPOCET
D105: VV | F105: O4HAm3*0,25 | H105: 16.618 | AT105: VV | AU105: 2 | AV105: 2 | AW105: True | AX105: 0 | AY105: ROZPOCET
D106: VV | F106: Součet | H106: 16.618 | AT106: VV | AU106: 2 | AV106: 4 | AW106: True | AX106: 0 | AY106: ROZPOCET
D107: VV | F107: 16,618*0,25 "Přepočtené koeficientem množství | H107: 4.155 | AT107: VV | AU107: 2 | AV107: 2 | AW107: True | AX107: 1 | AY107: ROZPOCET
C108: 3 | D108: K | E108: 162701105 | F108: Vodorovné přemístění výkopku nebo sypaniny po suchu na obvyklém dopravním prostředku, bez naložení výkopku, avšak se složením bez rozhrnutí z horniny tř. 1 až 4 na vzdálenost přes 9 000 do 10 000 m | G108: m3 | H108: 66.47 | J108: =ROUND(I108*H108,2) -> 0 | K108: CS ÚRS 2017 02 | N108: základní | P108: =O108*H108 -> 0 | Q108: 0 | R108: =Q108*H108 -> 0 | S108: 0 | T108: =S108*H108 -> 0 | AR108: 4 | AT108: K | AU108: 2 | AY108: ROZPOCET | BE108: =IF(N108="základní",J108,0) -> 0 | BF108: =IF(N108="snížená",J108,0) -> 0 | BG108: =IF(N108="zákl. přenesená",J108,0) -> 0 | BH108: =IF(N108="sníž. přenesená",J108,0) -> 0 | BI108: =IF(N108="nulová",J108,0) -> 0 | BJ108: 1 | BK108: =ROUND(I108*H108,2) -> 0 | BL108: 4 | BM108: 129583619
D109: PSC | F109: Poznámka k souboru cen:_x000D_ 1. Ceny nelze použít, předepisuje-li projekt přemístit výkopek na místo nepřístupné obvyklým dopravním prostředkům; toto přemístění se oceňuje individuálně. 2. V cenách jsou započteny i náhrady za jízdu loženého vozidla v terénu ve výkopišti nebo na násypišti. 3. V cenách nejsou započteny náklady na rozhrnutí výkopku na násypišti; toto rozhrnutí se oceňuje cenami souboru cen 171 . 0- . . Uložení sypaniny do násypů a 171 20-1201Uložení sypaniny na skládky. 4. Je-li na dopravní dráze pro vodorovné přemístění nějaká překážka, pro kterou je nutno překládat výkopek z jednoho obvyklého dopravního prostředku na jiný obvyklý dopravní prostředek, oceňuje se toto lomené vodorovné přemístění výkopku v každém úseku samostatně příslušnou cenou tohoto souboru cen a překládání výkopku cenami souboru cen 167 10-3 . Nakládání neulehlého výkopku z hromad s ohledem na ustanovení pozn. číslo 5. 5. Přemísťuje-li se výkopek z dočasných skládek vzdálených do 50 m, neoceňuje se nakládání výkopku, i když se provádí. Toto ustanovení neplatí, vylučuje-li projekt použití dozeru. 6. V cenách vodorovného přemístění sypaniny nejsou započteny náklady na dodávku materiálu, tyto se oceňují ve specifikaci. | AT109: PSC | AU109: 2
D110: VV | F110: "odvoz výkopů na skládku" | AT110: VV | AU110: 2 | AV110: 1 | AW110: True | AX110: 0 | AY110: ROZPOCET
D111: VV | F111: O4HAm3 | H111: 66.47 | AT111: VV | AU111: 2 | AV111: 2 | AW111: True | AX111: 0 | AY111: ROZPOCET
D112: VV | F112: Součet | H112: 66.47 | AT112: VV | AU112: 2 | AV112: 4 | AW112: True | AX112: 1 | AY112: ROZPOCET
C113: 4 | D113: K | E113: 162701109 | F113: Vodorovné přemístění výkopku nebo sypaniny po suchu na obvyklém dopravním prostředku, bez naložení výkopku, avšak se složením bez rozhrnutí z horniny tř. 1 až 4 na vzdálenost Příplatek k ceně za každých dalších i započatých 1 000 m | G113: m3 | H113: 997.05 | J113: =ROUND(I113*H113,2) -> 0 | K113: CS ÚRS 2017 02 | N113: základní | P113: =O113*H113 -> 0 | Q113: 0 | R113: =Q113*H113 -> 0 | S113: 0 | T113: =S113*H113 -> 0 | AR113: 4 | AT113: K | AU113: 2 | AY113: ROZPOCET | BE113: =IF(N113="základní",J113,0) -> 0 | BF113: =IF(N113="snížená",J113,0) -> 0 | BG113: =IF(N113="zákl. přenesená",J113,0) -> 0 | BH113: =IF(N113="sníž. přenesená",J113,0) -> 0 | BI113: =IF(N113="nulová",J113,0) -> 0 | BJ113: 1 | BK113: =ROUND(I113*H113,2) -> 0 | BL113: 4 | BM113: 183083856
D114: PSC | F114: Poznámka k souboru cen:_x000D_ 1. Ceny nelze použít, předepisuje-li projekt přemístit výkopek na místo nepřístupné obvyklým dopravním prostředkům; toto přemístění se oceňuje individuálně. 2. V cenách jsou započteny i náhrady za jízdu loženého vozidla v terénu ve výkopišti nebo na násypišti. 3. V cenách nejsou započteny náklady na rozhrnutí výkopku na násypišti; toto rozhrnutí se oceňuje cenami souboru cen 171 . 0- . . Uložení sypaniny do násypů a 171 20-1201Uložení sypaniny na skládky. 4. Je-li na dopravní dráze pro vodorovné přemístění nějaká překážka, pro kterou je nutno překládat výkopek z jednoho obvyklého dopravního prostředku na jiný obvyklý dopravní prostředek, oceňuje se toto lomené vodorovné přemístění výkopku v každém úseku samostatně příslušnou cenou tohoto souboru cen a překládání výkopku cenami souboru cen 167 10-3 . Nakládání neulehlého výkopku z hromad s ohledem na ustanovení pozn. číslo 5. 5. Přemísťuje-li se výkopek z dočasných skládek vzdálených do 50 m, neoceňuje se nakládání výkopku, i když se provádí. Toto ustanovení neplatí, vylučuje-li projekt použití dozeru. 6. V cenách vodorovného přemístění sypaniny nejsou započteny náklady na dodávku materiálu, tyto se oceňují ve specifikaci. | AT114: PSC | AU114: 2
D115: VV | F115: "dopočet odvoz výkopů na skládku" | AT115: VV | AU115: 2 | AV115: 1 | AW115: True | AX115: 0 | AY115: ROZPOCET
D116: VV | F116: O4HAm3*(25-10) | H116: 997.05 | AT116: VV | AU116: 2 | AV116: 2 | AW116: True | AX116: 0 | AY116: ROZPOCET
D117: VV | F117: Součet | H117: 997.05 | AT117: VV | AU117: 2 | AV117: 4 | AW117: True | AX117: 1 | AY117: ROZPOCET
C118: 5 | D118: K | E118: 171201201 | F118: Uložení sypaniny na skládky | G118: m3 | H118: 66.47 | J118: =ROUND(I118*H118,2) -> 0 | K118: CS ÚRS 2017 02 | N118: základní | P118: =O118*H118 -> 0 | Q118: 0 | R118: =Q118*H118 -> 0 | S118: 0 | T118: =S118*H118 -> 0 | AR118: 4 | AT118: K | AU118: 2 | AY118: ROZPOCET | BE118: =IF(N118="základní",J118,0) -> 0 | BF118: =IF(N118="snížená",J118,0) -> 0 | BG118: =IF(N118="zákl. přenesená",J118,0) -> 0 | BH118: =IF(N118="sníž. přenesená",J118,0) -> 0 | BI118: =IF(N118="nulová",J118,0) -> 0 | BJ118: 1 | BK118: =ROUND(I118*H118,2) -> 0 | BL118: 4 | BM118: 888323267
D119: PSC | F119: Poznámka k souboru cen:_x000D_ 1. Cena -1201 je určena i pro: a) uložení výkopku nebo ornice na dočasné skládky předepsané projektem tak, že na 1 m2 projektem určené plochy této skládky připadá přes 2 m3 výkopku nebo ornice; v opačném případě se uložení neoceňuje. Množství výkopku nebo ornice připadající na 1 m2 skládky se určí jako podíl množství výkopku nebo ornice, měřeného v rostlém stavu a projektem určené plochy dočasné skládky; b) zasypání koryt vodotečí a prohlubní v terénu bez předepsaného zhutnění sypaniny; c) uložení výkopku pod vodou do prohlubní ve dně vodotečí nebo nádrží. 2. Cenu -1201 nelze použít pro uložení výkopku nebo ornice: a) při vykopávkách pro podzemní vedení podél hrany výkopu, z něhož byl výkopek získán, a to ani tehdy, jestliže se výkopek po vyhození z výkopu na povrch území ještě dále přemisťuje na hromady podél výkopu; b) na dočasné skládky, které nejsou předepsány projektem; c) na dočasné skládky předepsané projektem tak, že na 1 m2 projektem určené plochy této skládky připadají nejvýše 2 m3 výkopku nebo ornice (viz. též poznámku č. 1 a); d) na dočasné skládky, oceňuje-li se cenou 121 10-1101 Sejmutí ornice nebo lesní půdy do 50 m, nebo oceňuje-li se vodorovné přemístění výkopku do 20 m a 50 m cenami 162 20-1101, 162 20-1102, 162 20-1151 a 162 20-1152. V těchto případech se uložení výkopku nebo ornice na dočasnou skládku neoceňuje. e) na trvalé skládky s předepsaným zhutněním; toto uložení výkopku se oceňuje cenami souboru cen 171 . 0- . . Uložení sypaniny do násypů. 3. V ceně -1201 jsou započteny i náklady na rozprostření sypaniny ve vrstvách s hrubým urovnáním na skládce. 4. V ceně -1201 nejsou započteny náklady na získání skládek ani na poplatky za skládku. 5. Množství jednotek uložení výkopku (sypaniny) se určí v m3 uloženého výkopku (sypaniny),v rostlém stavu zpravidla ve výkopišti. 6. Cenu -1211 lze po dohodě upravit podle místních podmínek. | AT119: PSC | AU119: 2
D120: VV | F120: O4HAm3 | H120: 66.47 | AT120: VV | AU120: 2 | AV120: 2 | AW120: True | AX120: 0 | AY120: ROZPOCET
D121: VV | F121: Součet | H121: 66.47 | AT121: VV | AU121: 2 | AV121: 4 | AW121: True | AX121: 1 | AY121: ROZPOCET
C122: 6 | D122: K | E122: 171R20119 | F122: Uložení sypaniny poplatek za uložení sypaniny na skládce (skládkovné) | G122: t | H122: 119.646 | J122: =ROUND(I122*H122,2) -> 0 | N122: základní | P122: =O122*H122 -> 0 | Q122: 0 | R122: =Q122*H122 -> 0 | S122: 0 | T122: =S122*H122 -> 0 | AR122: 4 | AT122: K | AU122: 2 | AY122: ROZPOCET | BE122: =IF(N122="základní",J122,0) -> 0 | BF122: =IF(N122="snížená",J122,0) -> 0 | BG122: =IF(N122="zákl. přenesená",J122,0) -> 0 | BH122: =IF(N122="sníž. přenesená",J122,0) -> 0 | BI122: =IF(N122="nulová",J122,0) -> 0 | BJ122: 1 | BK122: =ROUND(I122*H122,2) -> 0 | BL122: 4 | BM122: -131081328
D123: VV | F123: "poplatek za skládku" | AT123: VV | AU123: 2 | AV123: 1 | AW123: True | AX123: 0 | AY123: ROZPOCET
D124: VV | F124: O4HAm3*1,80 | H124: 119.646 | AT124: VV | AU124: 2 | AV124: 2 | AW124: True | AX124: 0 | AY124: ROZPOCET
D125: VV | F125: Součet | H125: 119.646 | AT125: VV | AU125: 2 | AV125: 4 | AW125: True | AX125: 1 | AY125: ROZPOCET
C126: 7 | D126: K | E126: 181951102 | F126: Úprava pláně vyrovnáním výškových rozdílů v hornině tř. 1 až 4 se zhutněním | G126: m2 | H126: 121.1 | J126: =ROUND(I126*H126,2) -> 0 | K126: CS ÚRS 2017 02 | N126: základní | P126: =O126*H126 -> 0 | Q126: 0 | R126: =Q126*H126 -> 0 | S126: 0 | T126: =S126*H126 -> 0 | AR126: 4 | AT126: K | AU126: 2 | AY126: ROZPOCET | BE126: =IF(N126="základní",J126,0) -> 0 | BF126: =IF(N126="snížená",J126,0) -> 0 | BG126: =IF(N126="zákl. přenesená",J126,0) -> 0 | BH126: =IF(N126="sníž. přenesená",J126,0) -> 0 | BI126: =IF(N126="nulová",J126,0) -> 0 | BJ126: 1 | BK126: =ROUND(I126*H126,2) -> 0 | BL126: 4 | BM126: 628969644
D127: PSC | F127: Poznámka k souboru cen:_x000D_ 1. Ceny jsou určeny pro urovnání všech nově zřizovaných ploch (v zářezech i na násypech) vodorovných nebo ve sklonu do 1:5 pod zpevnění ploch jakéhokoliv druhu, pod humusování, (ne však pro plochy zásypu rýh pro podzemní vedení), drnování apod. a dále, předepíše-li projekt urovnání pláně z jiného důvodu. 2. Ceny nelze použít pro urovnání lavic (berem) šířky do 3 m přerušujících svahy, pro urovnání dna silničních a železničních příkopů pro jakoukoliv šířku dna; toto urovnání se oceňuje cenami souboru cen 182 .0-1 Svahování. 3. Urovnání ploch ve sklonu přes 1 : 5 se oceňuje cenami souboru cen 182 . 0-11 Svahování trvalých svahů do projektovaných profilů. 4. Náklady na urovnání dna a stěn při čištění příkopů pozemních komunikací jsou započteny v cenách souborů cen 938 90-2 . Čištění příkopů komunikací v suchu nebo ve vodě části A02 Zemní práce pro objekty oborů 821 až 828. 5. Míru zhutnění určuje projekt. Ceny se zhutněním jsou určeny pro jakoukoliv míru zhutnění. | AT127: PSC | AU127: 2
D128: VV | F128: "dle výkazu projektanta; část A+B+C" | AT128: VV | AU128: 2 | AV128: 1 | AW128: True | AX128: 0 | AY128: ROZPOCET
D129: VV | F129: "viz, B3, Bilance ZP" | AT129: VV | AU129: 2 | AV129: 1 | AW129: True | AX129: 0 | AY129: ROZPOCET
D130: VV | F130: "plocha pod chodníkem" | AT130: VV | AU130: 2 | AV130: 1 | AW130: True | AX130: 0 | AY130: ROZPOCET
D131: VV | F131: 73,00+36,50+11,60 | H131: 121.1 | AT131: VV | AU131: 2 | AV131: 2 | AW131: True | AX131: 0 | AY131: ROZPOCET
...

Sheet 104_2 - SO 104 - Vjezdy (...
D1: List obsahuje: | F1: 1) Krycí list soupisu | G1: 2) Rekapitulace | J1: 3) Soupis prací | K1: Zpět na list: | L1: Rekapitulace stavby
AT2: {c73c7bd6-c035-460b-beed-a857259f36a7} | AZ2: O4VAm3 | BA2: Odkopávka SO 104 (Vedlejší aktivita) | BB2: m3 | BC2: 79,06 | BD2: 2
AT3: 2 | AZ3: R4VAm3 | BA3: Rýha SO 104 (Vedlejší aktivita) | BB3: m3 | BC3: 12,32 | BD3: 2
D4: KRYCÍ LIST SOUPISU | M4: v --- níže se nacházejí doplnkové a pomocné údaje k sestavám --- v | AT4: False | AZ4: Z4VAm3 | BA4: Zásyp nakupovaným materiálem | BB4: m3 | BC4: 5,104 | BD4: 2
D6: Stavba:
E7: ='Rekapitulace stavby'!K6 -> Cholina - chodníky náves (DSP)
D8: Objekt:
E9: 104 - SO 104 - Vjezdy
D10: Soupis:
E11: 104_2 - SO 104 - Vjezdy (Nezpůsobilé výdaje)
D13: KSO: | F13: 822 55 3 | I13: CC-CZ:
D14: Místo: | F14: Cholina | I14: Datum: | J14: ='Rekapitulace stavby'!AN8 -> 23.10.2017
D16: Zadavatel: | I16: IČ:
E17: Obec Cholina, Cholina 52, 78322 Cholina | I17: DIČ:
D19: Uchazeč: | I19: IČ: | J19: =IF('Rekapitulace stavby'!AN13="Vyplň údaj","",IF('Rekapitulace stavby'!AN13="","",'Rekapitulace stavby'!AN13))
E20: =IF('Rekapitulace stavby'!E14="Vyplň údaj","",IF('Rekapitulace stavby'!E14="","",'Rekapitulace stavby'!E14)) | I20: DIČ: | J20: =IF('Rekapitulace stavby'!AN14="Vyplň údaj","",IF('Rekapitulace stavby'!AN14="","",'Rekapitulace stavby'!AN14))
D22: Projektant: | I22: IČ:
I23: DIČ:
D25: Poznámka:
D29: Cena bez DPH | J29: =ROUND(J96,2) -> 0
F31: Základ daně | I31: Sazba daně | J31: Výše daně
D32: DPH | E32: základní | F32: =ROUND(SUM(BE96:BE376), 2) -> 0 | I32: 0.21 | J32: =ROUND(ROUND((SUM(BE96:BE376)), 2)*I32, 2) -> 0
E33: snížená | F33: =ROUND(SUM(BF96:BF376), 2) -> 0 | I33: 0.15 | J33: =ROUND(ROUND((SUM(BF96:BF376)), 2)*I33, 2) -> 0
E34: zákl. přenesená | F34: =ROUND(SUM(BG96:BG376), 2) -> 0 | I34: 0.21 | J34: 0
E35: sníž. přenesená | F35: =ROUND(SUM(BH96:BH376), 2) -> 0 | I35: 0.15 | J35: 0
E36: nulová | F36: =ROUND(SUM(BI96:BI376), 2) -> 0 | I36: 0 | J36: 0
D38: Cena s DPH | G38: v | H38: CZK | J38: =SUM(J29:J36) -> 0
C44: REKAPITULACE ČLENĚNÍ SOUPISU PRACÍ
C46: Stavba:
E47: =E7 -> Cholina - chodníky náves (DSP)
C48: Objekt:
E49: 104 - SO 104 - Vjezdy
C50: Soupis:
E51: =E11 -> 104_2 - SO 104 - Vjezdy (Nezpůsobilé výdaje)
C53: Místo: | F53: =F14 -> Cholina | I53: Datum: | J53: =IF(J14="","",J14) -> 23.10.2017
C55: Zadavatel: | F55: =E17 -> Obec Cholina, Cholina 52, 78322 Cholina | I55: Projektant: | J55: =E23
C56: Uchazeč: | F56: =IF(E20="","",E20)
C58: Kód dílu - Popis | J58: Cena celkem [CZK]
C60: Náklady soupisu celkem | J60: =J96 -> 0 | AU60: -1
D61: HSV - Práce a dodávky HSV | J61: =J97 -> 0
D62: 10 - Zemní práce | J62: =J98 -> 0
D63: 11 - Zemní práce - přípravné a přidružené práce | J63: =J158 -> 0
D64: 30 - Svislé a kompletní konstrukce | J64: =J185 -> 0
D65: 56 - Podkladní vrstvy komunikací, letišť a ploch | J65: =J190 -> 0
D66: 59 - Kryty pozemních komunikací, letišť a ploch dlážděné | J66: =J207 -> 0
D67: 89 - Ostatní konstrukce | J67: =J231 -> 0
D68: 91 - Doplňující konstrukce a práce pozemních komunikací, letišť a ploch | J68: =J236 -> 0
D69: 97 - Prorážení otvorů a ostatní bourací práce | J69: =J274 -> 0
D70: 997 - Přesun sutě | J70: =J286 -> 0
D71: 998 - Přesun hmot | J71: =J366 -> 0
D72: M - Práce a dodávky M | J72: =J368 -> 0
D73: 22-M - Montáže technologických zařízení pro dopravní stavby | J73: =J369 -> 0
D74: 46-M - Zemní práce při extr.mont.pracích | J74: =J373 -> 0
C81: SOUPIS PRACÍ
C83: Stavba:
E84: =E7 -> Cholina - chodníky náves (DSP)
C85: Objekt:
E86: 104 - SO 104 - Vjezdy
C87: Soupis:
E88: =E11 -> 104_2 - SO 104 - Vjezdy (Nezpůsobilé výdaje)
C90: Místo: | F90: =F14 -> Cholina | I90: Datum: | J90: =IF(J14="","",J14) -> 23.10.2017
C92: Zadavatel: | F92: =E17 -> Obec Cholina, Cholina 52, 78322 Cholina | I92: Projektant: | J92: =E23
C93: Uchazeč: | F93: =IF(E20="","",E20)
C95: PČ | D95: Typ | E95: Kód | F95: Popis | G95: MJ | H95: Množství | I95: J.cena [CZK] | J95: Cena celkem [CZK] | K95: Cenová soustava | M95: Poznámka | N95: DPH | O95: J. Nh [h] | P95: Nh celkem [h] | Q95: J. hmotnost_x000D_ [t] | R95: Hmotnost_x000D_ celkem [t] | S95: J. suť [t] | T95: Suť Celkem [t]
C96: Náklady soupisu celkem | J96: =BK96 -> 0 | P96: =P97+P368 -> 0 | R96: =R97+R368 -> 133.74546 | T96: =T97+T368 -> 121.125 | AT96: D | AU96: -1 | BK96: =BK97+BK368 -> 0
D97: D | E97: HSV | F97: Práce a dodávky HSV | J97: =BK97 -> 0 | P97: =P98+P158+P185+P190+P207+P231+P236+P274+P286+P366 -> 0 | R97: =R98+R158+R185+R190+R207+R231+R236+R274+R286+R366 -> 133.74389 | T97: =T98+T158+T185+T190+T207+T231+T236+T274+T286+T366 -> 121.125 | AR97: 1 | AT97: D | AU97: 0 | AY97: ROZPOCET | BK97: =BK98+BK158+BK185+BK190+BK207+BK231+BK236+BK274+BK286+BK366 -> 0
D98: D | E98: 10 | F98: Zemní práce | J98: =BK98 -> 0 | P98: =SUM(P99:P157) -> 0 | R98: =SUM(R99:R157) -> 10.641 | T98: =SUM(T99:T157) -> 0 | AR98: 1 | AT98: D | AU98: 1 | AY98: ROZPOCET | BK98: =SUM(BK99:BK157) -> 0
C99: 1 | D99: K | E99: 122201102 | F99: Odkopávky a prokopávky nezapažené s přehozením výkopku na vzdálenost do 3 m nebo s naložením na dopravní prostředek v hornině tř. 3 přes 100 do 1 000 m3 | G99: m3 | H99: 79.06 | J99: =ROUND(I99*H99,2) -> 0 | K99: CS ÚRS 2017 02 | N99: základní | P99: =O99*H99 -> 0 | Q99: 0 | R99: =Q99*H99 -> 0 | S99: 0 | T99: =S99*H99 -> 0 | AR99: 4 | AT99: K | AU99: 2 | AY99: ROZPOCET | BE99: =IF(N99="základní",J99,0) -> 0 | BF99: =IF(N99="snížená",J99,0) -> 0 | BG99: =IF(N99="zákl. přenesená",J99,0) -> 0 | BH99: =IF(N99="sníž. přenesená",J99,0) -> 0 | BI99: =IF(N99="nulová",J99,0) -> 0 | BJ99: 1 | BK99: =ROUND(I99*H99,2) -> 0 | BL99: 4 | BM99: -806745078
D100: PSC | F100: Poznámka k souboru cen:_x000D_ 1. Odkopávky a prokopávky v roubených prostorech se oceňují podle čl. 3116 Všeobecných podmínek tohoto katalogu. 2. Odkopávky a prokopávky ve stržích při lesnicko-technických melioracích (LTM) se oceňují cenami do 100 m3 pro jakýkoliv skutečný objem výkopu; ostatní odkopávky a prokopávky při LTM se oceňují při jakémkoliv objemu výkopu přes 100 m3 cenami přes 100 do 1 000 m3. 3. Ceny lze použít i pro vykopávky odpadových jam. 4. Ceny lze použít i pro sejmutí podorničí. Přitom se přihlíží k ustanovení čl. 3112 Všeobecných podmínek tohoto katalogu. | AT100: PSC | AU100: 2
D101: VV | F101: "dle výkazu projektanta; část A+B+C" | AT101: VV | AU101: 2 | AV101: 1 | AW101: True | AX101: 0 | AY101: ROZPOCET
D102: VV | F102: "viz, B3, Bilance ZP" | AT102: VV | AU102: 2 | AV102: 1 | AW102: True | AX102: 0 | AY102: ROZPOCET
D103: VV | F103: 15,31+5,55+4,92 | H103: 25.78 | AT103: VV | AU103: 2 | AV103: 2 | AW103: True | AX103: 0 | AY103: ROZPOCET
D104: VV | F104: "sanace tl. 300mm plocha parkovacího stání" | AT104: VV | AU104: 2 | AV104: 1 | AW104: True | AX104: 0 | AY104: ROZPOCET
D105: VV | F105: (148,00*1,20)*0,30 | H105: 53.28 | AT105: VV | AU105: 2 | AV105: 2 | AW105: True | AX105: 0 | AY105: ROZPOCET
D106: VV | E106: O4VAm3 | F106: Součet | H106: 79.06 | AT106: VV | AU106: 2 | AV106: 4 | AW106: True | AX106: 1 | AY106: ROZPOCET
C107: 2 | D107: K | E107: 122201109 | F107: Odkopávky a prokopávky nezapažené s přehozením výkopku na vzdálenost do 3 m nebo s naložením na dopravní prostředek v hornině tř. 3 Příplatek k cenám za lepivost horniny tř. 3 | G107: m3 | H107: 19.765 | J107: =ROUND(I107*H107,2) -> 0 | K107: CS ÚRS 2017 02 | N107: základní | P107: =O107*H107 -> 0 | Q107: 0 | R107: =Q107*H107 -> 0 | S107: 0 | T107: =S107*H107 -> 0 | AR107: 4 | AT107: K | AU107: 2 | AY107: ROZPOCET | BE107: =IF(N107="základní",J107,0) -> 0 | BF107: =IF(N107="snížená",J107,0) -> 0 | BG107: =IF(N107="zákl. přenesená",J107,0) -> 0 | BH107: =IF(N107="sníž. přenesená",J107,0) -> 0 | BI107: =IF(N107="nulová",J107,0) -> 0 | BJ107: 1 | BK107: =ROUND(I107*H107,2) -> 0 | BL107: 4 | BM107: 1465315833
D108: PSC | F108: Poznámka k souboru cen:_x000D_ 1. Odkopávky a prokopávky v roubených prostorech se oceňují podle čl. 3116 Všeobecných podmínek tohoto katalogu. 2. Odkopávky a prokopávky ve stržích při lesnicko-technických melioracích (LTM) se oceňují cenami do 100 m3 pro jakýkoliv skutečný objem výkopu; ostatní odkopávky a prokopávky při LTM se oceňují při jakémkoliv objemu výkopu přes 100 m3 cenami přes 100 do 1 000 m3. 3. Ceny lze použít i pro vykopávky odpadových jam. 4. Ceny lze použít i pro sejmutí podorničí. Přitom se přihlíží k ustanovení čl. 3112 Všeobecných podmínek tohoto katalogu. | AT108: PSC | AU108: 2
D109: VV | F109: "Předpoklad 25%" | AT109: VV | AU109: 2 | AV109: 1 | AW109: True | AX109: 0 | AY109: ROZPOCET
D110: VV | F110: O4VAm3*0,25 | H110: 19.765 | AT110: VV | AU110: 2 | AV110: 2 | AW110: True | AX110: 1 | AY110: ROZPOCET
C111: 3 | D111: K | E111: 132201201 | F111: Hloubení zapažených i nezapažených rýh šířky přes 600 do 2 000 mm s urovnáním dna do předepsaného profilu a spádu v hornině tř. 3 do 100 m3 | G111: m3 | H111: 12.32 | J111: =ROUND(I111*H111,2) -> 0 | K111: CS ÚRS 2017 02 | N111: základní | P111: =O111*H111 -> 0 | Q111: 0 | R111: =Q111*H111 -> 0 | S111: 0 | T111: =S111*H111 -> 0 | AR111: 4 | AT111: K | AU111: 2 | AY111: ROZPOCET | BE111: =IF(N111="základní",J111,0) -> 0 | BF111: =IF(N111="snížená",J111,0) -> 0 | BG111: =IF(N111="zákl. přenesená",J111,0) -> 0 | BH111: =IF(N111="sníž. přenesená",J111,0) -> 0 | BI111: =IF(N111="nulová",J111,0) -> 0 | BJ111: 1 | BK111: =ROUND(I111*H111,2) -> 0 | BL111: 4 | BM111: -798052245
D112: PSC | F112: Poznámka k souboru cen:_x000D_ 1. V cenách jsou započteny i náklady na případné nutné přemístění výkopku ve výkopišti na vzdálenost do 3 m a na přehození výkopku na přilehlém terénu na vzdálenost do 5 m od okraje jámy nebo naložení na dopravní prostředek. 2. Hloubení rýh při lesnicko-technických melioracích se oceňuje: a) ve stržích cenami platnými pro objem výkopu do 100 m3, i když skutečný objem výkopu je větší, b) mimo strže pro příčná a podélná zpevnění dna a břehů pod obrysem výkopu pro koryta vodotečí, zejména pro konstrukce těles, stupňů, boků, předprahů, prahů, odháněk, výhonů a pro základy zdí, dlažeb, rovnanin, plůtků a hatí, pro jakoukoliv šířku rýhy, při objemu do 100 m3 cenami příslušnými pro objem výkopu do 100 m3 a při jakémkoliv objemu výkopu přes 100 m3 cenami příslušnými pro objem výkopu přes 100 do 1 000 m3. 3. Náklady na svislé přemístění výkopku nad 1 m hloubky se určí dle ustanovení článku č. 3161 všeobecných podmínek katalogu. 4. Předepisuje-li projekt hloubit rýhy 5 až 7 bez použití trhavin, oceňuje se toto hloubení: a) v suchu nebo mokru cenami 138 40-1201, 138 50-1201 a 138 60-1201 Dolamování hloubených vykopávek, b) v tekoucí vodě při jakékoliv její rychlosti individuálně. 5. Ceny nelze použít pro hloubení rýh a hloubky přes 16 m. Tyto práce se oceňují individuálně. | AT112: PSC | AU112: 2
D113: VV | F113: "Chránička kabelu DN 100" | AT113: VV | AU113: 2 | AV113: 1 | AW113: True | AX113: 0 | AY113: ROZPOCET
D114: VV | F114: (0,80*0,70)*22,00 | H114: 12.32 | AT114: VV | AU114: 2 | AV114: 2 | AW114: True | AX114: 0 | AY114: ROZPOCET
D115: VV | E115: R4VAm3 | F115: Součet | H115: 12.32 | AT115: VV | AU115: 2 | AV115: 4 | AW115: True | AX115: 1 | AY115: ROZPOCET
C116: 4 | D116: K | E116: 132201209 | F116: Hloubení zapažených i nezapažených rýh šířky přes 600 do 2 000 mm s urovnáním dna do předepsaného profilu a spádu v hornině tř. 3 Příplatek k cenám za lepivost horniny tř. 3 | G116: m3 | H116: 3.696 | J116: =ROUND(I116*H116,2) -> 0 | K116: CS ÚRS 2017 02 | N116: základní | P116: =O116*H116 -> 0 | Q116: 0 | R116: =Q116*H116 -> 0 | S116: 0 | T116: =S116*H116 -> 0 | AR116: 4 | AT116: K | AU116: 2 | AY116: ROZPOCET | BE116: =IF(N116="základní",J116,0) -> 0 | BF116: =IF(N116="snížená",J116,0) -> 0 | BG116: =IF(N116="zákl. přenesená",J116,0) -> 0 | BH116: =IF(N116="sníž. přenesená",J116,0) -> 0 | BI116: =IF(N116="nulová",J116,0) -> 0 | BJ116: 1 | BK116: =ROUND(I116*H116,2) -> 0 | BL116: 4 | BM116: -1341783984
D117: PSC | F117: Poznámka k souboru cen:_x000D_ 1. V cenách jsou započteny i náklady na případné nutné přemístění výkopku ve výkopišti na vzdálenost do 3 m a na přehození výkopku na přilehlém terénu na vzdálenost do 5 m od okraje jámy nebo naložení na dopravní prostředek. 2. Hloubení rýh při lesnicko-technických melioracích se oceňuje: a) ve stržích cenami platnými pro objem výkopu do 100 m3, i když skutečný objem výkopu je větší, b) mimo strže pro příčná a podélná zpevnění dna a břehů pod obrysem výkopu pro koryta vodotečí, zejména pro konstrukce těles, stupňů, boků, předprahů, prahů, odháněk, výhonů a pro základy zdí, dlažeb, rovnanin, plůtků a hatí, pro jakoukoliv šířku rýhy, při objemu do 100 m3 cenami příslušnými pro objem výkopu do 100 m3 a při jakémkoliv objemu výkopu přes 100 m3 cenami příslušnými pro objem výkopu přes 100 do 1 000 m3. 3. Náklady na svislé přemístění výkopku nad 1 m hloubky se určí dle ustanovení článku č. 3161 všeobecných podmínek katalogu. 4. Předepisuje-li projekt hloubit rýhy 5 až 7 bez použití trhavin, oceňuje se toto hloubení: a) v suchu nebo mokru cenami 138 40-1201, 138 50-1201 a 138 60-1201 Dolamování hloubených vykopávek, b) v tekoucí vodě při jakékoliv její rychlosti individuálně. 5. Ceny nelze použít pro hloubení rýh a hloubky přes 16 m. Tyto práce se oceňují individuálně. | AT117: PSC | AU117: 2
D118: P | F118: Poznámka k položce: předpoklad 30ˇ% | AT118: P | AU118: 2
D119: VV | F119: "předpoklad 30ˇ% | AT119: VV | AU119: 2 | AV119: 1 | AW119: True | AX119: 0 | AY119: ROZPOCET
D120: VV | F120: R4VAm3*0,30 | H120: 3.696 | AT120: VV | AU120: 2 | AV120: 2 | AW120: True | AX120: 0 | AY120: ROZPOCET
D121: VV | F121: Součet | H121: 3.696 | AT121: VV | AU121: 2 | AV121: 4 | AW121: True | AX121: 1 | AY121: ROZPOCET
C122: 5 | D122: K | E122: 162701105 | F122: Vodorovné přemístění výkopku nebo sypaniny po suchu na obvyklém dopravním prostředku, bez naložení výkopku, avšak se složením bez rozhrnutí z horniny tř. 1 až 4 na vzdálenost přes 9 000 do 10 000 m | G122: m3 | H122: 91.38 | J122: =ROUND(I122*H122,2) -> 0 | K122: CS ÚRS 2017 02 | N122: základní | P122: =O122*H122 -> 0 | Q122: 0 | R122: =Q122*H122 -> 0 | S122: 0 | T122: =S122*H122 -> 0 | AR122: 4 | AT122: K | AU122: 2 | AY122: ROZPOCET | BE122: =IF(N122="základní",J122,0) -> 0 | BF122: =IF(N122="snížená",J122,0) -> 0 | BG122: =IF(N122="zákl. přenesená",J122,0) -> 0 | BH122: =IF(N122="sníž. přenesená",J122,0) -> 0 | BI122: =IF(N122="nulová",J122,0) -> 0 | BJ122: 1 | BK122: =ROUND(I122*H122,2) -> 0 | BL122: 4 | BM122: -1495319127
D123: PSC | F123: Poznámka k souboru cen:_x000D_ 1. Ceny nelze použít, předepisuje-li projekt přemístit výkopek na místo nepřístupné obvyklým dopravním prostředkům; toto přemístění se oceňuje individuálně. 2. V cenách jsou započteny i náhrady za jízdu loženého vozidla v terénu ve výkopišti nebo na násypišti. 3. V cenách nejsou započteny náklady na rozhrnutí výkopku na násypišti; toto rozhrnutí se oceňuje cenami souboru cen 171 . 0- . . Uložení sypaniny do násypů a 171 20-1201Uložení sypaniny na skládky. 4. Je-li na dopravní dráze pro vodorovné přemístění nějaká překážka, pro kterou je nutno překládat výkopek z jednoho obvyklého dopravního prostředku na jiný obvyklý dopravní prostředek, oceňuje se toto lomené vodorovné přemístění výkopku v každém úseku samostatně příslušnou cenou tohoto souboru cen a překládání výkopku cenami souboru cen 167 10-3 . Nakládání neulehlého výkopku z hromad s ohledem na ustanovení pozn. číslo 5. 5. Přemísťuje-li se výkopek z dočasných skládek vzdálených do 50 m, neoceňuje se nakládání výkopku, i když se provádí. Toto ustanovení neplatí, vylučuje-li projekt použití dozeru. 6. V cenách vodorovného přemístění sypaniny nejsou započteny náklady na dodávku materiálu, tyto se oceňují ve specifikaci. | AT123: PSC | AU123: 2
D124: VV | F124: "odvoz výkopů na skládku" | AT124: VV | AU124: 2 | AV124: 1 | AW124: True | AX124: 0 | AY124: ROZPOCET
D125: VV | F125: O4VAm3 | H125: 79.06 | AT125: VV | AU125: 2 | AV125: 2 | AW125: True | AX125: 0 | AY125: ROZPOCET
D126: VV | F126: R4VAm3 | H126: 12.32 | AT126: VV | AU126: 2 | AV126: 2 | AW126: True | AX126: 0 | AY126: ROZPOCET
D127: VV | F127: Součet | H127: 91.38 | AT127: VV | AU127: 2 | AV127: 4 | AW127: True | AX127: 1 | AY127: ROZPOCET
C128: 6 | D128: K | E128: 162701109 | F128: Vodorovné přemístění výkopku nebo sypaniny po suchu na obvyklém dopravním prostředku, bez naložení výkopku, avšak se složením bez rozhrnutí z horniny tř. 1 až 4 na vzdálenost Příplatek k ceně za každých dalších i započatých 1 000 m | G128: m3 | H128: 1370.7 | J128: =ROUND(I128*H128,2) -> 0 | K128: CS ÚRS 2017 02 | N128: základní | P128: =O128*H128 -> 0 | Q128: 0 | R128: =Q128*H128 -> 0 | S128: 0 | T128: =S128*H128 -> 0 | AR128: 4 | AT128: K | AU128: 2 | AY128: ROZPOCET | BE128: =IF(N128="základní",J128,0) -> 0 | BF128: =IF(N128="snížená",J128,0) -> 0 | BG128: =IF(N128="zákl. přenesená",J128,0) -> 0 | BH128: =IF(N128="sníž. přenesená",J128,0) -> 0 | BI128: =IF(N128="nulová",J128,0) -> 0 | BJ128: 1 | BK128: =ROUND(I128*H128,2) -> 0 | BL128: 4 | BM128: -1221162359
D129: PSC | F129: Poznámka k souboru cen:_x000D_ 1. Ceny nelze použít, předepisuje-li projekt přemístit výkopek na místo nepřístupné obvyklým dopravním prostředkům; toto přemístění se oceňuje individuálně. 2. V cenách jsou započteny i náhrady za jízdu loženého vozidla v terénu ve výkopišti nebo na násypišti. 3. V cenách nejsou započteny náklady na rozhrnutí výkopku na násypišti; toto rozhrnutí se oceňuje cenami souboru cen 171 . 0- . . Uložení sypaniny do násypů a 171 20-1201Uložení sypaniny na skládky. 4. Je-li na dopravní dráze pro vodorovné přemístění nějaká překážka, pro kterou je nutno překládat výkopek z jednoho obvyklého dopravního prostředku na jiný obvyklý dopravní prostředek, oceňuje se toto lomené vodorovné přemístění výkopku v každém úseku samostatně příslušnou cenou tohoto souboru cen a překládání výkopku cenami souboru cen 167 10-3 . Nakládání neulehlého výkopku z hromad s ohledem na ustanovení pozn. číslo 5. 5. Přemísťuje-li se výkopek z dočasných skládek vzdálených do 50 m, neoceňuje se nakládání výkopku, i když se provádí. Toto ustanovení neplatí, vylučuje-li projekt použití dozeru. 6. V cenách vodorovného přemístění sypaniny nejsou započteny náklady na dodávku materiálu, tyto se oceňují ve specifikaci. | AT129: PSC | AU129: 2
D130: VV | F130: "dopočet odvoz výkopů na skládku" | AT130: VV | AU130: 2 | AV130: 1 | AW130: True | AX130: 0 | AY130: ROZPOCET
D131: VV | F131: O4VAm3*(25-10) | H131: 1185.9 | AT131: VV | AU131: 2 | AV131: 2 | AW131: True | AX131: 0 | AY131: ROZPOCET
...

Sheet Pokyny pro vyplnění
C3: Struktura údajů, formát souboru a metodika pro zpracování
C4: Struktura
C6: Soubor je složen ze záložky Rekapitulace stavby a záložek s názvem soupisu prací pro jednotlivé objekty ve formátu XLSX. Každá ze záložek přitom obsahuje
C7: ještě samostatné sestavy vymezené orámovaním a nadpisem sestavy.
C9: Rekapitulace stavby obsahuje sestavu Rekapitulace stavby a Rekapitulace objektů stavby a soupisů prací.
D10: V sestavě Rekapitulace stavby jsou uvedeny informace identifikující předmět veřejné zakázky na stavební práce, KSO, CC-CZ, CZ-CPV, CZ-CPA a rekapitulaci
D11: celkové nabídkové ceny uchazeče.
D13: V sestavě Rekapitulace objektů stavby a soupisů prací je uvedena rekapitulace stavebních objektů, inženýrských objektů, provozních souborů,
D14: vedlejších a ostatních nákladů a ostatních nákladů s rekapitulací nabídkové ceny za jednotlivé soupisy prací. Na základě údaje Typ je možné
D15: identifikovat, zda se jedná o objekt nebo soupis prací pro daný objekt:
E16: STA | F16: Stavební objekt pozemní
E17: ING | F17: Stavební objekt inženýrský
E18: PRO | F18: Provozní soubor
E19: VON | F19: Vedlejší a ostatní náklady
E20: OST | F20: Ostatní
E21: Soupis | F21: Soupis prací pro daný typ objektu
C23: Soupis prací pro jednotlivé objekty obsahuje sestavy Krycí list soupisu, Rekapitulace členění soupisu prací, Soupis prací. Za soupis prací může být považován
C24: i objekt stavby v případě, že neobsahuje podřízenou zakázku.
D25: Krycí list soupisu obsahuje rekapitulaci informací o předmětu veřejné zakázky ze sestavy Rekapitulace stavby, informaci o zařazení objektu do KSO,
D26: CC-CZ, CZ-CPV, CZ-CPA a rekapitulaci celkové nabídkové ceny uchazeče za aktuální soupis prací.
D28: Rekapitulace členění soupisu prací obsahuje rekapitulaci soupisu prací ve všech úrovních členění soupisu tak, jak byla tato členění použita (např.
D29: stavební díly, funkční díly, případně jiné členění) s rekapitulací nabídkové ceny.
D31: Soupis prací obsahuje položky veškerých stavebních nebo montážních prací, dodávek materiálů a služeb nezbytných pro zhotovení stavebního objektu,
D32: inženýrského objektu, provozního souboru, vedlejších a ostatních nákladů.
D33: Pro položky soupisu prací se zobrazují následující informace:
E34: PČ | G34: Pořadové číslo položky v aktuálním soupisu
E35: TYP | G35: Typ položky: K - konstrukce, M - materiál, PP - plný popis, PSC - poznámka k souboru cen, P - poznámka k položce, VV - výkaz výměr
E36: Kód | G36: Kód položky
E37: Popis | G37: Zkrácený popis položky
E38: MJ | G38: Měrná jednotka položky
E39: Množství | G39: Množství v měrné jednotce
E40: J.cena | G40: Jednotková cena položky. Zadaní může obsahovat namísto J.ceny sloupce J.materiál a J.montáž, jejichž součet definuje
G41: J.cenu položky.
E42: Cena celkem | G42: Celková cena položky daná jako součin množství a j.ceny
E43: Cenová soustava | G43: Příslušnost položky do cenové soustavy
D45: Ke každé položce soupisu prací se na samostatných řádcích může zobrazovat:
E46: Plný popis položky
E47: Poznámka k souboru cen a poznámka zadavatele
E48: Výkaz výměr
D49: Pokud je k řádku výkazu výměr evidovaný údaj ve sloupci Kód, jedná se o definovaný odkaz, na který se může odvolávat výkaz výměr z jiné položky.
C50: Metodika pro zpracování
C52: Jednotlivé sestavy jsou v souboru provázány. Editovatelné pole jsou zvýrazněny žlutým podbarvením, ostatní pole neslouží k editaci a nesmí být jakkoliv
C53: modifikovány.
C55: Uchazeč je pro podání nabídky povinen vyplnit žlutě podbarvená pole:
D56: Pole Uchazeč v sestavě Rekapitulace stavby - zde uchazeč vyplní svůj název (název subjektu)
D57: Pole IČ a DIČ v sestavě Rekapitulace stavby - zde uchazeč vyplní svoje IČ a DIČ
D58: Datum v sestavě Rekapitulace stavby - zde uchazeč vyplní datum vytvoření nabídky
D59: J.cena = jednotková cena v sestavě Soupis prací o maximálním počtu desetinných míst uvedených v poli
D60: - pokud sestavy soupisů prací obsahují pole J.cena, musí být všechna tato pole vyplněna nenulovými kladnými číslicemi
D61: Poznámka - nepovinný údaj pro položku soupisu
D63: V případě, že sestavy soupisů prací neobsahují pole J.cena, potom ve všech soupisech prací obsahují pole:
D64: - J.materiál - jednotková cena materiálu
D65: - J.montáž - jednotková cena montáže
D66: Uchazeč je v tomto případě povinen vyplnit všechna pole J.materiál a pole J.montáž nenulovými kladnými číslicemi. V případech, kdy položka
D67: neobsahuje žádný materiál je přípustné, aby pole J.materiál bylo vyplněno nulou. V případech, kdy položka neobsahuje žádnou montáž je přípustné,
D68: aby pole J.montáž bylo vyplněno nulou. Není však přípustné, aby obě pole - J.materiál, J.Montáž byly u jedné položky vyplněny nulou.
C73: Rekapitulace stavby
C74: Název | F74: Povinný | H74: Popis | I74: Typ | J74: Max. počet
C75: atributu | F75: (A/N) | J75: znaků
C77: Kód | F77: A | H77: Kód stavby | I77: String | J77: 20
C78: Stavba | F78: A | H78: Název stavby | I78: String | J78: 120
C79: Místo | F79: N | H79: Místo stavby | I79: String | J79: 50
C80: Datum | F80: A | H80: Datum vykonaného exportu | I80: Date
C81: KSO | F81: N | H81: Klasifikace stavebního objektu | I81: String | J81: 15
C82: CC-CZ | F82: N | H82: Klasifikace stavbeních děl | I82: String | J82: 15
C83: CZ-CPV | F83: N | H83: Společný slovník pro veřejné zakázky | I83: String | J83: 20
C84: CZ-CPA | F84: N | H84: Klasifikace produkce podle činností | I84: String | J84: 20
C85: Zadavatel | F85: N | H85: Zadavatel zadaní | I85: String | J85: 50
C86: IČ | F86: N | H86: IČ zadavatele zadaní | I86: String | J86: 20
C87: DIČ | F87: N | H87: DIČ zadavatele zadaní | I87: String | J87: 20
C88: Uchazeč | F88: N | H88: Uchazeč veřejné zakázky | I88: String | J88: 50
C89: Projektant | F89: N | H89: Projektant | I89: String | J89: 50
C90: Poznámka | F90: N | H90: Poznámka k zadání | I90: String | J90: 255
C91: Sazba DPH | F91: A | H91: Rekapitulace sazeb DPH u položek soupisů | I91: eGSazbaDph
C92: Základna DPH | F92: A | H92: Základna DPH určena součtem celkové ceny z položek soupisů | I92: Double
C93: Hodnota DPH | F93: A | H93: Hodnota DPH | I93: Double
C94: Cena bez DPH | F94: A | H94: Celková cena bez DPH za celou stavbu. Sčítává se ze všech listů. | I94: Double
C95: Cena s DPH | F95: A | H95: Celková cena s DPH za celou stavbu | I95: Double
C100: Rekapitulace objektů stavby a soupisů prací
C101: Název | F101: Povinný | H101: Popis | I101: Typ | J101: Max. počet
C102: atributu | F102: (A/N) | J102: znaků
C104: Kód | F104: A | H104: Přebírá se z Rekapitulace stavby | I104: String | J104: 20
C105: Stavba | F105: A | H105: Přebírá se z Rekapitulace stavby | I105: String | J105: 120
C106: Místo | F106: N | H106: Přebírá se z Rekapitulace stavby | I106: String | J106: 50
C107: Datum | F107: A | H107: Přebírá se z Rekapitulace stavby | I107: Date
C108: Zadavatel | F108: N | H108: Přebírá se z Rekapitulace stavby | I108: String | J108: 50
C109: Projektant | F109: N | H109: Přebírá se z Rekapitulace stavby | I109: String | J109: 50
C110: Uchazeč | F110: N | H110: Přebírá se z Rekapitulace stavby | I110: String | J110: 50
C111: Kód | F111: A | H111: Kód objektu | I111: String | J111: 20
C112: Objektu, Soupis prací | F112: A | H112: Název objektu | I112: String | J112: 120
C113: Cena bez DPH | F113: A | H113: Cena bez DPH za daný objekt | I113: Double
C114: Cena s DPH | F114: A | H114: Cena spolu s DPH za daný objekt | I114: Double
C115: Typ | F115: A | H115: Typ zakázky | I115: eGTypZakazky
C120: Krycí list soupisu
C121: Název | F121: Povinný | H121: Popis | I121: Typ | J121: Max. počet
C122: atributu | F122: (A/N) | J122: znaků
C124: Stavba | F124: A | H124: Přebírá se z Rekapitulace stavby | I124: String | J124: 120
C125: Objekt | F125: A | H125: Kód a název objektu | I125: String | J125: 20 + 120
C126: Soupis | F126: A | H126: Kód a název soupisu | I126: String | J126: 20 + 120
C127: KSO | F127: N | H127: Klasifikace stavebního objektu | I127: String | J127: 15
...
