Workbook
Name CelkemDPHVypocet: Stavba!$H$58
Name CenaCelkem: Stavba!$G$29
Name CenaCelkemBezDPH: Stavba!$G$28
Name CenaCelkemVypocet: Stavba!$I$58
Name cisloobjektu: Stavba!$D$3
Name CisloRozpoctu: '[1]Krycí list'!$C$2
Name CisloStavby: Stavba!$D$2
Name cislostavby: '[1]Krycí list'!$A$7
Name CisloStavebnihoRozpoctu: Stavba!$D$4
Name dadresa: Stavba!$D$12:$G$12
Name DIČ: Stavba!$I$12
Name dmisto: Stavba!$E$13:$G$13
Name DPHSni: Stavba!$G$24
Name DPHZakl: Stavba!$G$26
Name dpsc: Stavba!$D$13
Name IČO: Stavba!$I$11
Name Mena: Stavba!$J$29
Name MistoStavby: Stavba!$D$4
Name nazevobjektu: Stavba!$E$3
Name NazevRozpoctu: '[1]Krycí list'!$D$2
Name NazevStavby: Stavba!$E$2
Name nazevstavby: '[1]Krycí list'!$C$7
Name NazevStavebnihoRozpoctu: Stavba!$E$4
Name oadresa: Stavba!$D$6
Name Objednatel: Stavba!$D$5
Name Objekt: Stavba!$B$38
Name odic: Stavba!$I$6
Name oico: Stavba!$I$5
Name omisto: Stavba!$E$7
Name onazev: Stavba!$D$6
Name opsc: Stavba!$D$7
Name padresa: Stavba!$D$9
Name pdic: Stavba!$I$9
Name pico: Stavba!$I$8
Name pmisto: Stavba!$E$10
Name PocetMJ: #REF!
Name PoptavkaID: Stavba!$A$1
Name pPSC: Stavba!$D$10
Name Projektant: Stavba!$D$8
Name SazbaDPH1: Stavba!$E$23
Name SazbaDPH1: '[1]Krycí list'!$C$30
Name SazbaDPH2: Stavba!$E$25
Name SazbaDPH2: '[1]Krycí list'!$C$32
Name SloupecCC: #REF!
Name SloupecCisloPol: #REF!
Name SloupecJC: #REF!
Name SloupecMJ: #REF!
Name SloupecMnozstvi: #REF!
Name SloupecNazPol: #REF!
Name SloupecPC: #REF!
Name Vypracoval: Stavba!$D$14
Name ZakladDPHSni: Stavba!$G$23
Name ZakladDPHSniVypocet: Stavba!$F$58
Name ZakladDPHZakl: Stavba!$G$25
Name ZakladDPHZaklVypocet: Stavba!$G$58
Name ZaObjednatele: Stavba!$G$34
Name Zaokrouhleni: Stavba!$G$27
Name ZaZhotovitele: Stavba!$D$34
Name Zhotovitel: Stavba!$D$11:$G$11

Sheet Pokyny pro vyplnění
A1: Pokyny pro vyplnění
A2: Ve všech listech tohoto souboru můžete měnit pouze buňky s modrým pozadím. Jedná se o tyto údaje : - údaje o firmě - jednotkové ceny položek zadané na maximálně dvě desetinná místa

Sheet Stavba
A1: #RTSROZP# | B1: Soupis stavebních prací, dodávek a služeb
B2: Stavba: | D2: 001_v3 | E2: OBNOVA LESOPARKU HRADISKO A KALVÁRIE - HRADISKO
B5: Zadavatel | H5: IČO:
H6: DIČ:
B8: Projektant: | H8: IČO:
H9: DIČ:
B11: Zhotovitel: | H11: IČO:
H12: DIČ:
B14: Vypracoval:
B15: Rozpis ceny | I15: Celkem
A16: HSV | B16: HSV | I16: =SUMIF(F65:F91,A16,I65:I91)+SUMIF(F65:F91,"PSU",I65:I91) -> 0
A17: PSV | B17: PSV | I17: =SUMIF(F65:F91,A17,I65:I91) -> 0
A18: MON | B18: MON | I18: =SUMIF(F65:F91,A18,I65:I91) -> 0
A19: VN | B19: Vedlejší náklady | I19: =SUMIF(F65:F91,A19,I65:I91) -> 0
A20: ON | B20: Ostatní náklady | I20: =SUMIF(F65:F91,A20,I65:I91) -> 0
B21: Celkem | I21: =SUM(I16:J20) -> 0
B22: Rekapitulace daní
B23: Základ pro sníženou DPH | E23: 15 | F23: % | G23: =ZakladDPHSniVypocet -> 0 | J23: =Mena -> CZK
B24: Snížená DPH | E24: =SazbaDPH1 -> 15 | F24: % | G24: =I23*E23/100 -> 0 | J24: =Mena -> CZK
B25: Základ pro základní DPH | E25: 21 | F25: % | G25: =ZakladDPHZaklVypocet -> 0 | J25: =Mena -> CZK
B26: Základní DPH | E26: =SazbaDPH2 -> 21 | F26: % | G26: =I25*E25/100 -> 0 | J26: =Mena -> CZK
A27: =ZakladDPHSni+ZakladDPHZakl -> 0 | B27: Zaokrouhlení | G27: =CenaCelkemBezDPH-(ZakladDPHSni+ZakladDPHZakl) -> 0 | J27: =Mena -> CZK
A28: =(A27-INT(A27))*100 -> 0 | B28: Cena celkem bez DPH | G28: =IF(A28>50, ROUNDUP(A27, 0), ROUNDDOWN(A27, 0)) -> 0 | J28: =Mena -> CZK
B29: Cena celkem s DPH | G29: =ZakladDPHSni+DPHSni+ZakladDPHZakl+DPHZakl+Zaokrouhleni -> 0 | J29: CZK
C32: v | F32: dne | H32: =TODAY() -> 43320
D35: Za zhotovitele | H35: Za objednatele
B37: Rekapitulace dílčích částí
A38: #CASTI>> | B38: Číslo | C38: Název | F38: =B23 -> Základ pro sníženou DPH | G38: =B25 -> Základ pro základní DPH | H38: DPH celkem | I38: Cena celkem | J38: %
A39: 1 | B39: Stavba | F39: ='1 1 Pol'!AE23+'SO 01 SO 01 Pol'!AE137+'SO 02 SO 02 Pol'!AE58+'SO 03 SO 03 Pol'!AE49+'SO 04 SO 04 Pol'!AE138+'SO 05 SO 05 Pol'!AE60+'SO 06 SO 06 Pol'!AE11+'SO 07 SO 07 Pol'!AE134+'SO 08 SO 08 Pol'!AE11 -> 0 | G39: ='1 1 Pol'!AF23+'SO 01 SO 01 Pol'!AF137+'SO 02 SO 02 Pol'!AF58+'SO 03 SO 03 Pol'!AF49+'SO 04 SO 04 Pol'!AF138+'SO 05 SO 05 Pol'!AF60+'SO 06 SO 06 Pol'!AF11+'SO 07 SO 07 Pol'!AF134+'SO 08 SO 08 Pol'!AF11 -> 0 | I39: =F39+G39+H39 -> 0 | J39: =IF(CenaCelkemVypocet=0,"",I39/CenaCelkemVypocet*100)
A40: 2 | B40: 1 | C40: VRN | F40: ='1 1 Pol'!AE23 -> 0 | G40: ='1 1 Pol'!AF23 -> 0 | I40: =F40+G40+H40 -> 0 | J40: =IF(CenaCelkemVypocet=0,"",I40/CenaCelkemVypocet*100)
A41: 3 | B41: 1 | C41: VRN | F41: ='1 1 Pol'!AE23 -> 0 | G41: ='1 1 Pol'!AF23 -> 0 | I41: =F41+G41+H41 -> 0 | J41: =IF(CenaCelkemVypocet=0,"",I41/CenaCelkemVypocet*100)
A42: 2 | B42: SO 01 | C42: Komunikace od škol | F42: ='SO 01 SO 01 Pol'!AE137 -> 0 | G42: ='SO 01 SO 01 Pol'!AF137 -> 0 | I42: =F42+G42+H42 -> 0 | J42: =IF(CenaCelkemVypocet=0,"",I42/CenaCelkemVypocet*100)
A43: 3 | B43: SO 01 | C43: Komunikace od škol | F43: ='SO 01 SO 01 Pol'!AE137 -> 0 | G43: ='SO 01 SO 01 Pol'!AF137 -> 0 | I43: =F43+G43+H43 -> 0 | J43: =IF(CenaCelkemVypocet=0,"",I43/CenaCelkemVypocet*100)
A44: 2 | B44: SO 02 | C44: Mostek Hradisko | F44: ='SO 02 SO 02 Pol'!AE58 -> 0 | G44: ='SO 02 SO 02 Pol'!AF58 -> 0 | I44: =F44+G44+H44 -> 0 | J44: =IF(CenaCelkemVypocet=0,"",I44/CenaCelkemVypocet*100)
A45: 3 | B45: SO 02 | C45: Mostek Hradisko | F45: ='SO 02 SO 02 Pol'!AE58 -> 0 | G45: ='SO 02 SO 02 Pol'!AF58 -> 0 | I45: =F45+G45+H45 -> 0 | J45: =IF(CenaCelkemVypocet=0,"",I45/CenaCelkemVypocet*100)
A46: 2 | B46: SO 03 | C46: Čertův mostek | F46: ='SO 03 SO 03 Pol'!AE49 -> 0 | G46: ='SO 03 SO 03 Pol'!AF49 -> 0 | I46: =F46+G46+H46 -> 0 | J46: =IF(CenaCelkemVypocet=0,"",I46/CenaCelkemVypocet*100)
A47: 3 | B47: SO 03 | C47: Čertův mostek | F47: ='SO 03 SO 03 Pol'!AE49 -> 0 | G47: ='SO 03 SO 03 Pol'!AF49 -> 0 | I47: =F47+G47+H47 -> 0 | J47: =IF(CenaCelkemVypocet=0,"",I47/CenaCelkemVypocet*100)
A48: 2 | B48: SO 04 | C48: Altán „Letec“ | F48: ='SO 04 SO 04 Pol'!AE138 -> 0 | G48: ='SO 04 SO 04 Pol'!AF138 -> 0 | I48: =F48+G48+H48 -> 0 | J48: =IF(CenaCelkemVypocet=0,"",I48/CenaCelkemVypocet*100)
A49: 3 | B49: SO 04 | C49: Altán „Letec“ | F49: ='SO 04 SO 04 Pol'!AE138 -> 0 | G49: ='SO 04 SO 04 Pol'!AF138 -> 0 | I49: =F49+G49+H49 -> 0 | J49: =IF(CenaCelkemVypocet=0,"",I49/CenaCelkemVypocet*100)
A50: 2 | B50: SO 05 | C50: Přírodní amfiteátr | F50: ='SO 05 SO 05 Pol'!AE60 -> 0 | G50: ='SO 05 SO 05 Pol'!AF60 -> 0 | I50: =F50+G50+H50 -> 0 | J50: =IF(CenaCelkemVypocet=0,"",I50/CenaCelkemVypocet*100)
A51: 3 | B51: SO 05 | C51: Přírodní amfiteátr | F51: ='SO 05 SO 05 Pol'!AE60 -> 0 | G51: ='SO 05 SO 05 Pol'!AF60 -> 0 | I51: =F51+G51+H51 -> 0 | J51: =IF(CenaCelkemVypocet=0,"",I51/CenaCelkemVypocet*100)
A52: 2 | B52: SO 06 | C52: Vegetační úpravy | F52: ='SO 06 SO 06 Pol'!AE11 -> 0 | G52: ='SO 06 SO 06 Pol'!AF11 -> 0 | I52: =F52+G52+H52 -> 0 | J52: =IF(CenaCelkemVypocet=0,"",I52/CenaCelkemVypocet*100)
A53: 3 | B53: SO 06 | C53: Vegetační úpravy | F53: ='SO 06 SO 06 Pol'!AE11 -> 0 | G53: ='SO 06 SO 06 Pol'!AF11 -> 0 | I53: =F53+G53+H53 -> 0 | J53: =IF(CenaCelkemVypocet=0,"",I53/CenaCelkemVypocet*100)
A54: 2 | B54: SO 07 | C54: Úpravy povrchů „nezpevněné chodníčky, okolí studny, schody“ | F54: ='SO 07 SO 07 Pol'!AE134 -> 0 | G54: ='SO 07 SO 07 Pol'!AF134 -> 0 | I54: =F54+G54+H54 -> 0 | J54: =IF(CenaCelkemVypocet=0,"",I54/CenaCelkemVypocet*100)
A55: 3 | B55: SO 07 | C55: Úpravy povrchů „nezpevněné chodníčky, okolí studny | F55: ='SO 07 SO 07 Pol'!AE134 -> 0 | G55: ='SO 07 SO 07 Pol'!AF134 -> 0 | I55: =F55+G55+H55 -> 0 | J55: =IF(CenaCelkemVypocet=0,"",I55/CenaCelkemVypocet*100)
A56: 2 | B56: SO 08 | C56: Mobiliář | F56: ='SO 08 SO 08 Pol'!AE11 -> 0 | G56: ='SO 08 SO 08 Pol'!AF11 -> 0 | I56: =F56+G56+H56 -> 0 | J56: =IF(CenaCelkemVypocet=0,"",I56/CenaCelkemVypocet*100)
A57: 3 | B57: SO 08 | C57: Mobiliář | F57: ='SO 08 SO 08 Pol'!AE11 -> 0 | G57: ='SO 08 SO 08 Pol'!AF11 -> 0 | I57: =F57+G57+H57 -> 0 | J57: =IF(CenaCelkemVypocet=0,"",I57/CenaCelkemVypocet*100)
B58: Celkem za stavbu | F58: =SUMIF(A39:A57,"=1",F39:F57) -> 0 | G58: =SUMIF(A39:A57,"=1",G39:G57) -> 0 | H58: =SUMIF(A39:A57,"=1",H39:H57) -> 0 | I58: =SUMIF(A39:A57,"=1",I39:I57) -> 0 | J58: =SUMIF(A39:A57,"=1",J39:J57) -> 0
B62: Rekapitulace dílů
B64: Číslo | C64: Název | F64: Typ dílu | I64: Celkem | J64: %
B65: 01 | C65: Celý objekt | F65: HSV | I65: ='1 1 Pol'!G8 -> 0 | J65: =IF(I92=0,"",I65/I92*100)
B66: 1 | C66: Zemní práce | F66: HSV | I66: ='SO 01 SO 01 Pol'!G8+'SO 02 SO 02 Pol'!G8+'SO 03 SO 03 Pol'!G8+'SO 04 SO 04 Pol'!G8+'SO 05 SO 05 Pol'!G36+'SO 05 SO 05 Pol'!G46+'SO 07 SO 07 Pol'!G8 -> 0 | J66: =IF(I92=0,"",I66/I92*100)
B67: 11 | C67: Přípravné a přidružené práce | F67: HSV | I67: ='SO 06 SO 06 Pol'!G8 -> 0 | J67: =IF(I92=0,"",I67/I92*100)
B68: 1a | C68: Vedlejší náklady | F68: HSV | I68: ='SO 01 SO 01 Pol'!G36 -> 0 | J68: =IF(I92=0,"",I68/I92*100)
B69: 2 | C69: Základy a zvláštní zakládání | F69: HSV | I69: ='SO 01 SO 01 Pol'!G41+'SO 02 SO 02 Pol'!G23+'SO 03 SO 03 Pol'!G24+'SO 04 SO 04 Pol'!G38+'SO 05 SO 05 Pol'!G30+'SO 05 SO 05 Pol'!G43+'SO 05 SO 05 Pol'!G51+'SO 07 SO 07 Pol'!G52 -> 0 | J69: =IF(I92=0,"",I69/I92*100)
B70: 3 | C70: Svislé a kompletní konstrukce | F70: HSV | I70: ='SO 04 SO 04 Pol'!G60+'SO 05 SO 05 Pol'!G53+'SO 07 SO 07 Pol'!G81 -> 0 | J70: =IF(I92=0,"",I70/I92*100)
B71: 38 | C71: Kompletní konstrukce | F71: HSV | I71: ='SO 08 SO 08 Pol'!G8 -> 0 | J71: =IF(I92=0,"",I71/I92*100)
B72: 4 | C72: Vodorovné konstrukce | F72: HSV | I72: ='SO 01 SO 01 Pol'!G47+'SO 04 SO 04 Pol'!G69 -> 0 | J72: =IF(I92=0,"",I72/I92*100)
B73: 5 | C73: Komunikace | F73: HSV | I73: ='SO 01 SO 01 Pol'!G74+'SO 07 SO 07 Pol'!G94 -> 0 | J73: =IF(I92=0,"",I73/I92*100)
B74: 61 | C74: Úpravy povrchů vnitřní | F74: HSV | I74: ='SO 01 SO 01 Pol'!G89 -> 0 | J74: =IF(I92=0,"",I74/I92*100)
B75: 63 | C75: Podlahy a podlahové konstrukce | F75: HSV | I75: ='SO 01 SO 01 Pol'!G92+'SO 04 SO 04 Pol'!G82 -> 0 | J75: =IF(I92=0,"",I75/I92*100)
B76: 8 | C76: Trubní vedení | F76: HSV | I76: ='SO 01 SO 01 Pol'!G95 -> 0 | J76: =IF(I92=0,"",I76/I92*100)
B77: 9 | C77: Ostatní konstrukce a práce, bourání | F77: HSV | I77: ='SO 01 SO 01 Pol'!G98+'SO 07 SO 07 Pol'!G112+'SO 07 SO 07 Pol'!G117 -> 0 | J77: =IF(I92=0,"",I77/I92*100)
B78: 91 | C78: Doplňující práce na komunikaci | F78: HSV | I78: ='SO 01 SO 01 Pol'!G102+'SO 07 SO 07 Pol'!G115+'SO 07 SO 07 Pol'!G120 -> 0 | J78: =IF(I92=0,"",I78/I92*100)
B79: 93 | C79: Dokončovací práce inženýrských staveb | F79: HSV | I79: ='SO 01 SO 01 Pol'!G104 -> 0 | J79: =IF(I92=0,"",I79/I92*100)
B80: 95 | C80: Dokončovací konstrukce na pozemních stavbách | F80: HSV | I80: ='SO 01 SO 01 Pol'!G108+'SO 04 SO 04 Pol'!G85 -> 0 | J80: =IF(I92=0,"",I80/I92*100)
B81: 96 | C81: Bourání konstrukcí | F81: HSV | I81: ='SO 01 SO 01 Pol'!G111+'SO 07 SO 07 Pol'!G126 -> 0 | J81: =IF(I92=0,"",I81/I92*100)
B82: 99 | C82: Staveništní přesun hmot | F82: HSV | I82: ='SO 01 SO 01 Pol'!G113+'SO 02 SO 02 Pol'!G36+'SO 03 SO 03 Pol'!G36+'SO 04 SO 04 Pol'!G87+'SO 05 SO 05 Pol'!G8+'SO 07 SO 07 Pol'!G130 -> 0 | J82: =IF(I92=0,"",I82/I92*100)
B83: 711 | C83: Izolace proti vodě | F83: PSV | I83: ='SO 01 SO 01 Pol'!G116 -> 0 | J83: =IF(I92=0,"",I83/I92*100)
B84: 713 | C84: Izolace tepelné | F84: PSV | I84: ='SO 04 SO 04 Pol'!G90 -> 0 | J84: =IF(I92=0,"",I84/I92*100)
B85: 762 | C85: Konstrukce tesařské | F85: PSV | I85: ='SO 02 SO 02 Pol'!G39+'SO 03 SO 03 Pol'!G39+'SO 04 SO 04 Pol'!G92 -> 0 | J85: =IF(I92=0,"",I85/I92*100)
B86: 763 | C86: Dřevostavby | F86: PSV | I86: ='SO 04 SO 04 Pol'!G108 -> 0 | J86: =IF(I92=0,"",I86/I92*100)
B87: 764 | C87: Konstrukce klempířské | F87: PSV | I87: ='SO 04 SO 04 Pol'!G111 -> 0 | J87: =IF(I92=0,"",I87/I92*100)
B88: 766 | C88: Konstrukce truhlářské | F88: PSV | I88: ='SO 01 SO 01 Pol'!G123+'SO 04 SO 04 Pol'!G115+'SO 05 SO 05 Pol'!G11 -> 0 | J88: =IF(I92=0,"",I88/I92*100)
B89: 767 | C89: Konstrukce zámečnické | F89: PSV | I89: ='SO 02 SO 02 Pol'!G45+'SO 03 SO 03 Pol'!G45+'SO 04 SO 04 Pol'!G126+'SO 05 SO 05 Pol'!G24+'SO 05 SO 05 Pol'!G33 -> 0 | J89: =IF(I92=0,"",I89/I92*100)
B90: 783 | C90: Nátěry | F90: PSV | I90: ='SO 01 SO 01 Pol'!G125+'SO 02 SO 02 Pol'!G53+'SO 04 SO 04 Pol'!G134 -> 0 | J90: =IF(I92=0,"",I90/I92*100)
B91: D96 | C91: Přesuny suti a vybouraných hmot | F91: MON | I91: ='SO 01 SO 01 Pol'!G130 -> 0 | J91: =IF(I92=0,"",I91/I92*100)
B92: Cena celkem | I92: =SUM(I65:I91) -> 0 | J92: =SUM(J65:J91) -> 0

Sheet VzorPolozky
A1: Položkový rozpočet
A2: S:
A3: O:
A4: R:

Sheet 1 1 Pol
A1: Položkový soupis prací a dodávek | AG1: #TypZaznamu#
A2: S: | B2: 001_v3 | C2: OBNOVA LESOPARKU HRADISKO A KALVÁRIE - HRADISKO | AG2: STA
A3: O: | B3: 1 | C3: VRN | AC3: STA | AG3: OBJ
A4: R: | B4: 1 | C4: VRN | AG4: ROZ
A6: P.č. | B6: Číslo položky | C6: Název položky | D6: MJ | E6: množství | F6: cena / MJ | G6: Celkem | H6: Dodávka | I6: Dodávka celk. | J6: Montáž | K6: Montáž celk. | L6: DPH | M6: cena s DPH | N6: hmotnost / MJ | O6: hmotnost celk.(t) | P6: dem. hmotnost / MJ | Q6: dem. hmotnost celk.(t) | R6: Ceník | S6: Cen. soustava / platnost | T6: Cenová úroveň | U6: Nhod / MJ | V6: Nhod celk. | W6: Dodavatel
A8: Díl: | B8: 01 | C8: Celý objekt | G8: =SUMIF(AG9:AG21,"<>NOR",G9:G21) -> 0 | I8: =SUM(I9:I21) -> 0 | K8: =SUM(K9:K21) -> 0 | M8: =SUM(M9:M21) -> 0 | O8: =SUM(O9:O21) -> 0 | Q8: =SUM(Q9:Q21) -> 0 | V8: =SUM(V9:V21) -> 0 | AG8: DIL
A9: 1 | B9: 004111010R | C9: Průzkumné práce | D9: Soubor | E9: 1 | G9: =ROUND(E9*F9,2) -> 0 | I9: =ROUND(E9*H9,2) -> 0 | K9: =ROUND(E9*J9,2) -> 0 | L9: 21 | M9: =G9*(1+L9/100) -> 0 | N9: 0 | O9: =ROUND(E9*N9,2) -> 0 | P9: 0 | Q9: =ROUND(E9*P9,2) -> 0 | S9: RTS 17/ I | T9: Indiv | U9: 0 | V9: =ROUND(E9*U9,2) -> 0 | AG9: POL99_8
C10: Náklady na provedení průzkumů nebo doplnění stávajících průzkumů, pokud je obchodní podmínky vyžadují a tyto průzkumy nejsou v dostatečném rozsahu součástí projektové dokumentace. Jedná se zejména o Geologický – inženýrsko-geologický / radonový / hydrogeologický / pedologický průzkum, botanický a zoologický průzkum, stavební průzkum – umělecko historický / stavebně statický a případný průzkum výskytu nebezpečných látek – odpadu / munice / výbušnin apod. | AG10: POP | BA10: =C10 -> Náklady na provedení průzkumů nebo doplnění stávajících průzkumů, pokud je obchodní podmínky vyžadují a tyto průzkumy nejsou v dostatečném rozsahu součástí projektové dokumentace. Jedná se zejména o Geologický – inženýrsko-geologický / radonový / hydrogeologický / pedologický průzkum, botanický a zoologický průzkum, stavební průzkum – umělecko historický / stavebně statický a případný průzkum výskytu nebezpečných látek – odpadu / munice / výbušnin apod.
A11: 2 | B11: 005111020R | C11: Vytyčení stavby | D11: Soubor | E11: 1 | G11: =ROUND(E11*F11,2) -> 0 | I11: =ROUND(E11*H11,2) -> 0 | K11: =ROUND(E11*J11,2) -> 0 | L11: 21 | M11: =G11*(1+L11/100) -> 0 | N11: 0 | O11: =ROUND(E11*N11,2) -> 0 | P11: 0 | Q11: =ROUND(E11*P11,2) -> 0 | S11: RTS 17/ I | T11: Indiv | U11: 0 | V11: =ROUND(E11*U11,2) -> 0 | AG11: POL99_8
C12: Geodetické zaměření rohů stavby, stabilizace bodů a sestavení laviček. | AG12: POP
C13: Vyhotovení protokolu o vytyčení stavby se seznamem souřadnic vytyčených bodů a jejich polohopisnými (S-JTSK) a výškopisnými (Bpv) hodnotami. | AG13: POP | BA13: =C13 -> Vyhotovení protokolu o vytyčení stavby se seznamem souřadnic vytyčených bodů a jejich polohopisnými (S-JTSK) a výškopisnými (Bpv) hodnotami.
A14: 3 | B14: 005111021R | C14: Vytyčení inženýrských sítí | D14: Soubor | E14: 1 | G14: =ROUND(E14*F14,2) -> 0 | I14: =ROUND(E14*H14,2) -> 0 | K14: =ROUND(E14*J14,2) -> 0 | L14: 21 | M14: =G14*(1+L14/100) -> 0 | N14: 0 | O14: =ROUND(E14*N14,2) -> 0 | P14: 0 | Q14: =ROUND(E14*P14,2) -> 0 | S14: RTS 17/ I | T14: Indiv | U14: 0 | V14: =ROUND(E14*U14,2) -> 0 | AG14: POL99_8
C15: Zaměření a vytýčení stávajících inženýrských sítí v místě stavby z hlediska jejich ochrany při provádění stavby. | AG15: POP | BA15: =C15 -> Zaměření a vytýčení stávajících inženýrských sítí v místě stavby z hlediska jejich ochrany při provádění stavby.
A16: 4 | B16: 005122 R | C16: Provozní vlivy | D16: Soubor | E16: 1 | G16: =ROUND(E16*F16,2) -> 0 | I16: =ROUND(E16*H16,2) -> 0 | K16: =ROUND(E16*J16,2) -> 0 | L16: 21 | M16: =G16*(1+L16/100) -> 0 | N16: 0 | O16: =ROUND(E16*N16,2) -> 0 | P16: 0 | Q16: =ROUND(E16*P16,2) -> 0 | S16: RTS 17/ I | T16: Indiv | U16: 0 | V16: =ROUND(E16*U16,2) -> 0 | AG16: POL99_8
C17: Náklady na ztížené podmínky provádění tam, kde jsou stavební práce zcela nebo zčásti omezovány provozem jiných osob. Jde zejména o zvýšené náklady související s omezením provozem v areálu objednatele nebo o náklady v důsledku nezbytného respektování stávající dopravy ovlivňující stavební práce. | AG17: POP | BA17: =C17 -> Náklady na ztížené podmínky provádění tam, kde jsou stavební práce zcela nebo zčásti omezovány provozem jiných osob. Jde zejména o zvýšené náklady související s omezením provozem v areálu objednatele nebo o náklady v důsledku nezbytného respektování stávající dopravy ovlivňující stavební práce.
A18: 5 | B18: 005241010R | C18: Dokumentace skutečného provedení | D18: Soubor | E18: 1 | G18: =ROUND(E18*F18,2) -> 0 | I18: =ROUND(E18*H18,2) -> 0 | K18: =ROUND(E18*J18,2) -> 0 | L18: 21 | M18: =G18*(1+L18/100) -> 0 | N18: 0 | O18: =ROUND(E18*N18,2) -> 0 | P18: 0 | Q18: =ROUND(E18*P18,2) -> 0 | S18: RTS 17/ I | T18: Indiv | U18: 0 | V18: =ROUND(E18*U18,2) -> 0 | AG18: POL99_8
C19: Náklady na vyhotovení dokumentace skutečného provedení stavby a její předání objednateli v požadované formě a požadovaném počtu. | AG19: POP | BA19: =C19 -> Náklady na vyhotovení dokumentace skutečného provedení stavby a její předání objednateli v požadované formě a požadovaném počtu.
A20: 6 | B20: 005241020R | C20: Geodetické zaměření skutečného provedení | D20: Soubor | E20: 1 | G20: =ROUND(E20*F20,2) -> 0 | I20: =ROUND(E20*H20,2) -> 0 | K20: =ROUND(E20*J20,2) -> 0 | L20: 21 | M20: =G20*(1+L20/100) -> 0 | N20: 0 | O20: =ROUND(E20*N20,2) -> 0 | P20: 0 | Q20: =ROUND(E20*P20,2) -> 0 | S20: RTS 17/ I | T20: Indiv | U20: 0 | V20: =ROUND(E20*U20,2) -> 0 | AG20: POL99_8
C21: Náklady na provedení skutečného zaměření stavby v rozsahu nezbytném pro zápis změny do katastru nemovitostí. | AG21: POP | BA21: =C21 -> Náklady na provedení skutečného zaměření stavby v rozsahu nezbytném pro zápis změny do katastru nemovitostí.
AE22: 15 | AF22: 21
B23: Celkem | G23: =G8 -> 0 | AE23: =SUMIF(L7:L21,AE22,G7:G21) -> 0 | AF23: =SUMIF(L7:L21,AF22,G7:G21) -> 0 | AG23: SUM
AG24: END

Sheet SO 01 SO 01 Pol
A1: Položkový soupis prací a dodávek | AG1: #TypZaznamu#
A2: S: | B2: 001_v3 | C2: OBNOVA LESOPARKU HRADISKO A KALVÁRIE - HRADISKO | AG2: STA
A3: O: | B3: SO 01 | C3: Komunikace od škol | AC3: STA | AG3: OBJ
A4: R: | B4: SO 01 | C4: Komunikace od škol | AG4: ROZ
A6: P.č. | B6: Číslo položky | C6: Název položky | D6: MJ | E6: množství | F6: cena / MJ | G6: Celkem | H6: Dodávka | I6: Dodávka celk. | J6: Montáž | K6: Montáž celk. | L6: DPH | M6: cena s DPH | N6: hmotnost / MJ | O6: hmotnost celk.(t) | P6: dem. hmotnost / MJ | Q6: dem. hmotnost celk.(t) | R6: Ceník | S6: Cen. soustava / platnost | T6: Cenová úroveň | U6: Nhod / MJ | V6: Nhod celk. | W6: Dodavatel
A8: Díl: | B8: 1 | C8: Zemní práce | G8: =SUMIF(AG9:AG35,"<>NOR",G9:G35) -> 0 | I8: =SUM(I9:I35) -> 0 | K8: =SUM(K9:K35) -> 0 | M8: =SUM(M9:M35) -> 0 | O8: =SUM(O9:O35) -> 0 | Q8: =SUM(Q9:Q35) -> 332.64 | V8: =SUM(V9:V35) -> 491.36 | AG8: DIL
A9: 1 | B9: 122202202R00 | C9: Odkopávky a prokopávky pro silnice v hornině 3 přes 100 do 1 000 m3 | D9: m3 | E9: 708.75 | G9: =ROUND(E9*F9,2) -> 0 | I9: =ROUND(E9*H9,2) -> 0 | K9: =ROUND(E9*J9,2) -> 0 | L9: 15 | M9: =G9*(1+L9/100) -> 0 | N9: 0 | O9: =ROUND(E9*N9,2) -> 0 | P9: 0 | Q9: =ROUND(E9*P9,2) -> 0 | S9: RTS 17/ I | T9: Indiv | U9: 0.223 | V9: =ROUND(E9*U9,2) -> 158.05 | AG9: POL1_9
C10: s přemístěním výkopku v příčných profilech na vzdálenost do 15 m nebo s naložením na dopravní prostředek. | AG10: SPI | BA10: =C10 -> s přemístěním výkopku v příčných profilech na vzdálenost do 15 m nebo s naložením na dopravní prostředek.
C11: Převzatá hodnota množství z položky : 708,75 | E11: 708.75 | AG11: VV | AH11: 0
C12: Začátek provozního součtu | AG12: VV
C13: zpevněná dlážděná cest: : 945*0,39 | E13: 368.55 | AG13: VV | AH13: 2
C14: zajistění cesty ve svahu: : 945*0,9*0,4 | E14: 340.2 | AG14: VV | AH14: 2
C15: Konec provozního součtu | AG15: VV
A16: 2 | B16: 122202209R00 | C16: Odkopávky a prokopávky pro silnice v hornině 3 příplatek za lepivost horniny | D16: m3 | E16: 708.75 | G16: =ROUND(E16*F16,2) -> 0 | I16: =ROUND(E16*H16,2) -> 0 | K16: =ROUND(E16*J16,2) -> 0 | L16: 15 | M16: =G16*(1+L16/100) -> 0 | N16: 0 | O16: =ROUND(E16*N16,2) -> 0 | P16: 0 | Q16: =ROUND(E16*P16,2) -> 0 | S16: RTS 17/ I | T16: Indiv | U16: 0.088 | V16: =ROUND(E16*U16,2) -> 62.37 | AG16: POL1_9
C17: s přemístěním výkopku v příčných profilech na vzdálenost do 15 m nebo s naložením na dopravní prostředek. | AG17: SPI | BA17: =C17 -> s přemístěním výkopku v příčných profilech na vzdálenost do 15 m nebo s naložením na dopravní prostředek.
A18: 3 | B18: 162301102R00 | C18: Vodorovné přemístění výkopku z horniny 1 až 4, na vzdálenost přes 500 do 1 000 m | D18: m3 | E18: 708.75 | G18: =ROUND(E18*F18,2) -> 0 | I18: =ROUND(E18*H18,2) -> 0 | K18: =ROUND(E18*J18,2) -> 0 | L18: 15 | M18: =G18*(1+L18/100) -> 0 | N18: 0 | O18: =ROUND(E18*N18,2) -> 0 | P18: 0 | Q18: =ROUND(E18*P18,2) -> 0 | S18: RTS 17/ I | T18: Indiv | U18: 0.011 | V18: =ROUND(E18*U18,2) -> 7.8 | AG18: POL1_9
C19: po suchu, bez naložení výkopku, avšak se složením bez rozhrnutí, zpáteční cesta vozidla. | AG19: SPI
A20: 4 | B20: 171201201R00 | C20: Uložení sypaniny na dočasnou skládku tak, že na 1 m2 plochy připadá přes 2 m3 výkopku nebo ornice | D20: m3 | E20: 708.75 | G20: =ROUND(E20*F20,2) -> 0 | I20: =ROUND(E20*H20,2) -> 0 | K20: =ROUND(E20*J20,2) -> 0 | L20: 15 | M20: =G20*(1+L20/100) -> 0 | N20: 0 | O20: =ROUND(E20*N20,2) -> 0 | P20: 0 | Q20: =ROUND(E20*P20,2) -> 0 | S20: RTS 17/ I | T20: Indiv | U20: 0.009 | V20: =ROUND(E20*U20,2) -> 6.38 | AG20: POL1_9
A21: 5 | B21: 181101101R00 | C21: Úprava pláně v zářezech v hornině 1 až 4, bez zhutnění | D21: m2 | E21: 1039.5 | G21: =ROUND(E21*F21,2) -> 0 | I21: =ROUND(E21*H21,2) -> 0 | K21: =ROUND(E21*J21,2) -> 0 | L21: 15 | M21: =G21*(1+L21/100) -> 0 | N21: 0 | O21: =ROUND(E21*N21,2) -> 0 | P21: 0 | Q21: =ROUND(E21*P21,2) -> 0 | S21: RTS 17/ I | T21: Indiv | U21: 0.013 | V21: =ROUND(E21*U21,2) -> 13.51 | AG21: POL1_9
C22: vyrovnáním výškových rozdílů, ploch vodorovných a ploch do sklonu 1 : 5. | AG22: SPI
A23: 6 | B23: 162301101R00 | C23: Vodorovné přemístění výkopku z horniny 1 až 4, na vzdálenost přes 50 do 500 m | D23: m3 | E23: 708.75 | G23: =ROUND(E23*F23,2) -> 0 | I23: =ROUND(E23*H23,2) -> 0 | K23: =ROUND(E23*J23,2) -> 0 | L23: 15 | M23: =G23*(1+L23/100) -> 0 | N23: 0 | O23: =ROUND(E23*N23,2) -> 0 | P23: 0 | Q23: =ROUND(E23*P23,2) -> 0 | S23: RTS 17/ I | T23: Indiv | U23: 0.011 | V23: =ROUND(E23*U23,2) -> 7.8 | AG23: POL1_9
C24: po suchu, bez naložení výkopku, avšak se složením bez rozhrnutí, zpáteční cesta vozidla. | AG24: SPI
A25: 7 | B25: 356212T10I10 | C25: Vodorovné přemístění do 10000 m výkopku/sypaniny z horniny tř. 1 až 4 | D25: m3 | E25: 708.75 | G25: =ROUND(E25*F25,2) -> 0 | I25: =ROUND(E25*H25,2) -> 0 | K25: =ROUND(E25*J25,2) -> 0 | L25: 15 | M25: =G25*(1+L25/100) -> 0 | N25: 0 | O25: =ROUND(E25*N25,2) -> 0 | P25: 0 | Q25: =ROUND(E25*P25,2) -> 0 | S25: Vlastní | T25: Indiv | U25: 0 | V25: =ROUND(E25*U25,2) -> 0 | AG25: POL1_9
A26: 8 | B26: 354943T10I10 | C26: Nakládání výkopku z hornin tř. 1 až 4 do 100 m3 | D26: m3 | E26: 708.75 | G26: =ROUND(E26*F26,2) -> 0 | I26: =ROUND(E26*H26,2) -> 0 | K26: =ROUND(E26*J26,2) -> 0 | L26: 15 | M26: =G26*(1+L26/100) -> 0 | N26: 0 | O26: =ROUND(E26*N26,2) -> 0 | P26: 0 | Q26: =ROUND(E26*P26,2) -> 0 | S26: Vlastní | T26: Indiv | U26: 0 | V26: =ROUND(E26*U26,2) -> 0 | AG26: POL1_9
A27: 9 | B27: 171101101R00 | C27: Uložení sypaniny do násypů zhutněných s uzavřením povrchu násypu z hornin soudržných s předepsanou mírou zhutnění v procentech výsledků zkoušek Proctor-Standard _x000D_ _x000D_ na 95 % PS | D27: m3 | E27: 708.75 | G27: =ROUND(E27*F27,2) -> 0 | I27: =ROUND(E27*H27,2) -> 0 | K27: =ROUND(E27*J27,2) -> 0 | L27: 15 | M27: =G27*(1+L27/100) -> 0 | N27: 0 | O27: =ROUND(E27*N27,2) -> 0 | P27: 0 | Q27: =ROUND(E27*P27,2) -> 0 | S27: RTS 17/ I | T27: Indiv | U27: 0.043 | V27: =ROUND(E27*U27,2) -> 30.48 | AG27: POL1_9
C28: s rozprostřením sypaniny ve vrstvách a s hrubým urovnáním, | AG28: SPI
A29: 10 | B29: 171201211 | C29: Poplatek za uložení odpadu ze sypaniny na skládce (skládkovné) | D29: t | E29: 992.25 | G29: =ROUND(E29*F29,2) -> 0 | I29: =ROUND(E29*H29,2) -> 0 | K29: =ROUND(E29*J29,2) -> 0 | L29: 15 | M29: =G29*(1+L29/100) -> 0 | N29: 0 | O29: =ROUND(E29*N29,2) -> 0 | P29: 0 | Q29: =ROUND(E29*P29,2) -> 0 | S29: Vlastní | T29: Indiv | U29: 0 | V29: =ROUND(E29*U29,2) -> 0 | AG29: POL1_9
C30: 339,43*1,6 | AG30: POP
A31: 11 | B31: 113106221R00 | C31: Rozebrání vozovek a ploch s jakoukoliv výplní spár _x000D_ v ploše jednotlivě do 200 m2, z drobných kostek nebo odseků, kladených do lože z kameniva těženého, škváry nebo strusky | D31: m2 | E31: 1039.5 | G31: =ROUND(E31*F31,2) -> 0 | I31: =ROUND(E31*H31,2) -> 0 | K31: =ROUND(E31*J31,2) -> 0 | L31: 15 | M31: =G31*(1+L31/100) -> 0 | N31: 0 | O31: =ROUND(E31*N31,2) -> 0 | P31: 0.1 | Q31: =ROUND(E31*P31,2) -> 103.95 | S31: RTS 17/ I | T31: Indiv | U31: 0.1 | V31: =ROUND(E31*U31,2) -> 103.95 | AG31: POL1_9
C32: s přemístěním hmot na skládku na vzdálenost do 3 m nebo s naložením na dopravní prostředek | AG32: SPI
A33: 12 | B33: 113107610R00 | C33: Odstranění podkladů nebo krytů z kameniva hrubého drceného, v ploše jednotlivě nad 50 m2, tloušťka vrstvy 100 mm | D33: m2 | E33: 1039.5 | G33: =ROUND(E33*F33,2) -> 0 | I33: =ROUND(E33*H33,2) -> 0 | K33: =ROUND(E33*J33,2) -> 0 | L33: 15 | M33: =G33*(1+L33/100) -> 0 | N33: 0 | O33: =ROUND(E33*N33,2) -> 0 | P33: 0.22 | Q33: =ROUND(E33*P33,2) -> 228.69 | S33: RTS 17/ I | T33: Indiv | U33: 0.049 | V33: =ROUND(E33*U33,2) -> 50.94 | AG33: POL1_9
A34: 13 | B34: 111203111R00 | C34: Odtsranění pařezu odfrézováním do hloubky 500 mm pod úroveň terénu odstranění pařezu odfrézováním až do hloubky 500 mm | D34: m2 | E34: 15 | G34: =ROUND(E34*F34,2) -> 0 | I34: =ROUND(E34*H34,2) -> 0 | K34: =ROUND(E34*J34,2) -> 0 | L34: 15 | M34: =G34*(1+L34/100) -> 0 | N34: 0 | O34: =ROUND(E34*N34,2) -> 0 | P34: 0 | Q34: =ROUND(E34*P34,2) -> 0 | S34: RTS 17/ I | T34: Indiv | U34: 2.913 | V34: =ROUND(E34*U34,2) -> 43.7 | AG34: POL1_9
A35: 14 | B35: 171201201R00 | C35: Uložení sypaniny na dočasnou skládku tak, že na 1 m2 plochy připadá přes 2 m3 výkopku nebo ornice | D35: m3 | E35: 708.75 | G35: =ROUND(E35*F35,2) -> 0 | I35: =ROUND(E35*H35,2) -> 0 | K35: =ROUND(E35*J35,2) -> 0 | L35: 15 | M35: =G35*(1+L35/100) -> 0 | N35: 0 | O35: =ROUND(E35*N35,2) -> 0 | P35: 0 | Q35: =ROUND(E35*P35,2) -> 0 | S35: RTS 17/ I | T35: Indiv | U35: 0.009 | V35: =ROUND(E35*U35,2) -> 6.38 | AG35: POL1_9
A36: Díl: | B36: 1a | C36: Vedlejší náklady | G36: =SUMIF(AG37:AG40,"<>NOR",G37:G40) -> 0 | I36: =SUM(I37:I40) -> 0 | K36: =SUM(K37:K40) -> 0 | M36: =SUM(M37:M40) -> 0 | O36: =SUM(O37:O40) -> 0 | Q36: =SUM(Q37:Q40) -> 1.62 | V36: =SUM(V37:V40) -> 0.95 | AG36: DIL
A37: 15 | B37: 113202111R00 | C37: Vytrhání obrub z krajníků nebo obrubníků stojatých | D37: m | E37: 6 | G37: =ROUND(E37*F37,2) -> 0 | I37: =ROUND(E37*H37,2) -> 0 | K37: =ROUND(E37*J37,2) -> 0 | L37: 15 | M37: =G37*(1+L37/100) -> 0 | N37: 0 | O37: =ROUND(E37*N37,2) -> 0 | P37: 0.27 | Q37: =ROUND(E37*P37,2) -> 1.62 | S37: RTS 17/ I | T37: Indiv | U37: 0.123 | V37: =ROUND(E37*U37,2) -> 0.74 | AG37: POL1_9
C38: s vybouráním lože, s přemístěním hmot na skládku na vzdálenost do 3 m nebo naložením na dopravní prostředek | AG38: SPI | BA38: =C38 -> s vybouráním lože, s přemístěním hmot na skládku na vzdálenost do 3 m nebo naložením na dopravní prostředek
A39: 16 | B39: 919735111R00 | C39: Řezání stávajících krytů nebo podkladů živičných, hloubky do 50 mm | D39: m | E39: 6.5 | G39: =ROUND(E39*F39,2) -> 0 | I39: =ROUND(E39*H39,2) -> 0 | K39: =ROUND(E39*J39,2) -> 0 | L39: 15 | M39: =G39*(1+L39/100) -> 0 | N39: 0 | O39: =ROUND(E39*N39,2) -> 0 | P39: 0 | Q39: =ROUND(E39*P39,2) -> 0 | S39: RTS 17/ I | T39: Indiv | U39: 0.032 | V39: =ROUND(E39*U39,2) -> 0.21 | AG39: POL1_9
C40: včetně spotřeby vody | AG40: SPI
A41: Díl: | B41: 2 | C41: Základy a zvláštní zakládání | G41: =SUMIF(AG42:AG46,"<>NOR",G42:G46) -> 0 | I41: =SUM(I42:I46) -> 0 | K41: =SUM(K42:K46) -> 0 | M41: =SUM(M42:M46) -> 0 | O41: =SUM(O42:O46) -> 3.2 | Q41: =SUM(Q42:Q46) -> 0 | V41: =SUM(V42:V46) -> 98.77 | AG41: DIL
A42: 17 | B42: 289970111R00 | C42: Geotextílie separační, filtrační, zpevňující polypropylén, 300 g/m2 | D42: m2 | E42: 1039.5 | G42: =ROUND(E42*F42,2) -> 0 | I42: =ROUND(E42*H42,2) -> 0 | K42: =ROUND(E42*J42,2) -> 0 | L42: 15 | M42: =G42*(1+L42/100) -> 0 | N42: 0.0005 | O42: =ROUND(E42*N42,2) -> 0.52 | P42: 0 | Q42: =ROUND(E42*P42,2) -> 0 | S42: RTS 17/ I | T42: Indiv | U42: 0.094 | V42: =ROUND(E42*U42,2) -> 97.71 | AG42: POL1_9
A43: 18 | B43: 211571112R00 | C43: Výplň odvodňovacích žeber štěrkopískem netříděným | D43: m3 | E43: 0.7 | G43: =ROUND(E43*F43,2) -> 0 | I43: =ROUND(E43*H43,2) -> 0 | K43: =ROUND(E43*J43,2) -> 0 | L43: 15 | M43: =G43*(1+L43/100) -> 0 | N43: 1.9205 | O43: =ROUND(E43*N43,2) -> 1.34 | P43: 0 | Q43: =ROUND(E43*P43,2) -> 0 | S43: RTS 17/ I | T43: Indiv | U43: 0.76 | V43: =ROUND(E43*U43,2) -> 0.53 | AG43: POL1_9
C44: do rýh bez zhutnění s úpravou povrchu výplně, s vytvořením průduchů z lomového kamene | AG44: SPI
A45: 19 | B45: 211571121R00 | C45: Výplň odvodňovacích žeber kamenivem drobným těženým | D45: m3 | E45: 0.7 | G45: =ROUND(E45*F45,2) -> 0 | I45: =ROUND(E45*H45,2) -> 0 | K45: =ROUND(E45*J45,2) -> 0 | L45: 15 | M45: =G45*(1+L45/100) -> 0 | N45: 1.9205 | O45: =ROUND(E45*N45,2) -> 1.34 | P45: 0 | Q45: =ROUND(E45*P45,2) -> 0 | S45: RTS 17/ I | T45: Indiv | U45: 0.76 | V45: =ROUND(E45*U45,2) -> 0.53 | AG45: POL1_9
C46: do rýh bez zhutnění s úpravou povrchu výplně, s vytvořením průduchů z lomového kamene | AG46: SPI
A47: Díl: | B47: 4 | C47: Vodorovné konstrukce | G47: =SUMIF(AG48:AG73,"<>NOR",G48:G73) -> 0 | I47: =SUM(I48:I73) -> 0 | K47: =SUM(K48:K73) -> 0 | M47: =SUM(M48:M73) -> 0 | O47: =SUM(O48:O73) -> 8.95 | Q47: =SUM(Q48:Q73) -> 0 | V47: =SUM(V48:V73) -> 103.57 | AG47: DIL
A48: 20 | B48: 430321313R00 | C48: Beton schodišťových konstrukcí (stupňů, schodnic, ramen, podest s nosníky) železový třídy C 16/20 | D48: m3 | E48: 1.464 | G48: =ROUND(E48*F48,2) -> 0 | I48: =ROUND(E48*H48,2) -> 0 | K48: =ROUND(E48*J48,2) -> 0 | L48: 15 | M48: =G48*(1+L48/100) -> 0 | N48: 2.52508 | O48: =ROUND(E48*N48,2) -> 3.7 | P48: 0 | Q48: =ROUND(E48*P48,2) -> 0 | S48: RTS 17/ I | T48: RTS 17/ I | U48: 3.675 | V48: =ROUND(E48*U48,2) -> 5.38 | AG48: POL1_
A49: 21 | B49: 430361821R00 | C49: Výztuž schodišťových konstrukcí (stupňů, schodnic, ramen, podest s nosníky) z betonářské oceli 10505 | D49: t | E49: 0.296 | G49: =ROUND(E49*F49,2) -> 0 | I49: =ROUND(E49*H49,2) -> 0 | K49: =ROUND(E49*J49,2) -> 0 | L49: 15 | M49: =G49*(1+L49/100) -> 0 | N49: 1.02092 | O49: =ROUND(E49*N49,2) -> 0.3 | P49: 0 | Q49: =ROUND(E49*P49,2) -> 0 | S49: RTS 17/ I | T49: RTS 17/ I | U49: 54.168 | V49: =ROUND(E49*U49,2) -> 16.03 | AG49: POL1_
C50: Včetně distančních prvků. | AG50: SPI
A51: 22 | B51: 431351121R00 | C51: Bednění podest a podstupňových desek přímočarých zřízení | D51: m2 | E51: 12.96 | G51: =ROUND(E51*F51,2) -> 0 | I51: =ROUND(E51*H51,2) -> 0 | K51: =ROUND(E51*J51,2) -> 0 | L51: 15 | M51: =G51*(1+L51/100) -> 0 | N51: 0.04597 | O51: =ROUND(E51*N51,2) -> 0.6 | P51: 0 | Q51: =ROUND(E51*P51,2) -> 0 | S51: RTS 17/ I | T51: RTS 17/ I | U51: 2.3 | V51: =ROUND(E51*U51,2) -> 29.81 | AG51: POL1_
C52: včetně podpěrné konstrukce o výšce do 4 m | AG52: SPI
A53: 23 | B53: 431351122R00 | C53: Bednění podest a podstupňových desek přímočarých odstranění | D53: m2 | E53: 12.96 | G53: =ROUND(E53*F53,2) -> 0 | I53: =ROUND(E53*H53,2) -> 0 | K53: =ROUND(E53*J53,2) -> 0 | L53: 15 | M53: =G53*(1+L53/100) -> 0 | N53: 0 | O53: =ROUND(E53*N53,2) -> 0 | P53: 0 | Q53: =ROUND(E53*P53,2) -> 0 | S53: RTS 17/ I | T53: RTS 17/ I | U53: 0.338 | V53: =ROUND(E53*U53,2) -> 4.38 | AG53: POL1_
C54: včetně podpěrné konstrukce o výšce do 4 m | AG54: SPI
A55: 24 | B55: 431351128R00 | C55: Bednění podest a podstupňových desek příplatek za podpěrnou konstrukci o výšce přes 4 do 6 m zřízení | D55: m2 | E55: 12.96 | G55: =ROUND(E55*F55,2) -> 0 | I55: =ROUND(E55*H55,2) -> 0 | K55: =ROUND(E55*J55,2) -> 0 | L55: 15 | M55: =G55*(1+L55/100) -> 0 | N55: 0.0023 | O55: =ROUND(E55*N55,2) -> 0.03 | P55: 0 | Q55: =ROUND(E55*P55,2) -> 0 | S55: RTS 17/ I | T55: RTS 17/ I | U55: 0.174 | V55: =ROUND(E55*U55,2) -> 2.26 | AG55: POL1_
C56: včetně podpěrné konstrukce o výšce do 4 m | AG56: SPI
A57: 25 | B57: 431351129R00 | C57: Bednění podest a podstupňových desek příplatek za podpěrnou konstrukci o výšce přes 4 do 6 m odstranění | D57: m2 | E57: 12.96 | G57: =ROUND(E57*F57,2) -> 0 | I57: =ROUND(E57*H57,2) -> 0 | K57: =ROUND(E57*J57,2) -> 0 | L57: 15 | M57: =G57*(1+L57/100) -> 0 | N57: 0 | O57: =ROUND(E57*N57,2) -> 0 | P57: 0 | Q57: =ROUND(E57*P57,2) -> 0 | S57: RTS 17/ I | T57: RTS 17/ I | U57: 0.04 | V57: =ROUND(E57*U57,2) -> 0.52 | AG57: POL1_
C58: včetně podpěrné konstrukce o výšce do 4 m | AG58: SPI
A59: 26 | B59: 434351141R00 | C59: Bednění stupňů betonovaných na podstupňové desce nebo na terénu přímočarých zřízení | D59: m2 | E59: 16.8 | G59: =ROUND(E59*F59,2) -> 0 | I59: =ROUND(E59*H59,2) -> 0 | K59: =ROUND(E59*J59,2) -> 0 | L59: 15 | M59: =G59*(1+L59/100) -> 0 | N59: 0.01693 | O59: =ROUND(E59*N59,2) -> 0.28 | P59: 0 | Q59: =ROUND(E59*P59,2) -> 0 | S59: RTS 17/ I | T59: RTS 17/ I | U59: 1.5396 | V59: =ROUND(E59*U59,2) -> 25.87 | AG59: POL1_
A60: 27 | B60: 434351142R00 | C60: Bednění stupňů betonovaných na podstupňové desce nebo na terénu přímočarých odstranění | D60: m2 | E60: 16.8 | G60: =ROUND(E60*F60,2) -> 0 | I60: =ROUND(E60*H60,2) -> 0 | K60: =ROUND(E60*J60,2) -> 0 | L60: 15 | M60: =G60*(1+L60/100) -> 0 | N60: 0 | O60: =ROUND(E60*N60,2) -> 0 | P60: 0 | Q60: =ROUND(E60*P60,2) -> 0 | S60: RTS 17/ I | T60: RTS 17/ I | U60: 0.26 | V60: =ROUND(E60*U60,2) -> 4.37 | AG60: POL1_
A61: 28 | B61: 55399992R | C61: výrobek kovový | D61: kg | E61: 160 | G61: =ROUND(E61*F61,2) -> 0 | I61: =ROUND(E61*H61,2) -> 0 | K61: =ROUND(E61*J61,2) -> 0 | L61: 15 | M61: =G61*(1+L61/100) -> 0 | N61: 0.001 | O61: =ROUND(E61*N61,2) -> 0.16 | P61: 0 | Q61: =ROUND(E61*P61,2) -> 0 | S61: RTS 17/ I | T61: Kalkul | U61: 0 | V61: =ROUND(E61*U61,2) -> 0 | AG61: POL3_
A62: 29 | B62: 61191425R | C62: madlo schodišťové; buk; š = 50 mm; l = 3 000,0 mm; tl = 50,0 mm | D62: m | E62: 6.72 | G62: =ROUND(E62*F62,2) -> 0 | I62: =ROUND(E62*H62,2) -> 0 | K62: =ROUND(E62*J62,2) -> 0 | L62: 15 | M62: =G62*(1+L62/100) -> 0 | N62: 0.00169 | O62: =ROUND(E62*N62,2) -> 0.01 | P62: 0 | Q62: =ROUND(E62*P62,2) -> 0 | S62: RTS 17/ I | T62: Kalkul | U62: 0 | V62: =ROUND(E62*U62,2) -> 0 | AG62: POL3_
A63: 30 | B63: 338920022R00 | C63: Osazení betonových palisád šířka do 20 cm, délka do 90 cm | D63: m | E63: 4.42 | G63: =ROUND(E63*F63,2) -> 0 | I63: =ROUND(E63*H63,2) -> 0 | K63: =ROUND(E63*J63,2) -> 0 | L63: 15 | M63: =G63*(1+L63/100) -> 0 | N63: 0.2625 | O63: =ROUND(E63*N63,2) -> 1.16 | P63: 0 | Q63: =ROUND(E63*P63,2) -> 0 | S63: RTS 17/ I | T63: RTS 17/ I | U63: 3.0726 | V63: =ROUND(E63*U63,2) -> 13.58 | AG63: POL1_
A64: 31 | B64: 5922841021 | C64: Palisáda přírodní 16x16x90 cm | D64: kus | E64: 27.90125 | G64: =ROUND(E64*F64,2) -> 0 | I64: =ROUND(E64*H64,2) -> 0 | K64: =ROUND(E64*J64,2) -> 0 | L64: 15 | M64: =G64*(1+L64/100) -> 0 | N64: 0.05 | O64: =ROUND(E64*N64,2) -> 1.4 | P64: 0 | Q64: =ROUND(E64*P64,2) -> 0 | S64: Vlastní | T64: RTS 17/ I | U64: 0 | V64: =ROUND(E64*U64,2) -> 0 | AG64: POL3_
C65: Položka pořadí 30 : 4,42000*6,25 | E65: 27.625 | AG65: VV | AH65: 5
C66: Ztratné : 0,01 | E66: 0.27625 | AG66: VV | AH66: 4
AG67: VV | AH67: 4
A68: 32 | B68: 935112111R00 | C68: Osazení příkopového žlabu se zřízením lože tl. 100 mm z betonu C 8/10, z betonových příkopových tvárnic, šířky do 500 mm | D68: m | E68: 7.35 | G68: =ROUND(E68*F68,2) -> 0 | I68: =ROUND(E68*H68,2) -> 0 | K68: =ROUND(E68*J68,2) -> 0 | L68: 15 | M68: =G68*(1+L68/100) -> 0 | N68: 0.14565 | O68: =ROUND(E68*N68,2) -> 1.07 | P68: 0 | Q68: =ROUND(E68*P68,2) -> 0 | S68: RTS 17/ I | T68: RTS 17/ I | U68: 0.186 | V68: =ROUND(E68*U68,2) -> 1.37 | AG68: POL1_
C69: s vyplněním a zatřením spár cementovou maltou, se zřízením lože tl. 10 cm | AG69: SPI
C70: Včetně dodání hmot pro lože a vyplnění spár. | AG70: POP
A71: 33 | B71: 59227003R | C71: žlab odvodňovací beton; l = 250,0 mm; š = 210 mm; h = 80,0 mm; barva přírodní | D71: kus | E71: 29.694 | G71: =ROUND(E71*F71,2) -> 0 | I71: =ROUND(E71*H71,2) -> 0 | K71: =ROUND(E71*J71,2) -> 0 | L71: 15 | M71: =G71*(1+L71/100) -> 0 | N71: 0.0081 | O71: =ROUND(E71*N71,2) -> 0.24 | P71: 0 | Q71: =ROUND(E71*P71,2) -> 0 | S71: RTS 17/ I | T71: RTS 17/ I | U71: 0 | V71: =ROUND(E71*U71,2) -> 0 | AG71: POL3_
C72: Položka pořadí 32 : 7,35000*4 | E72: 29.4 | AG72: VV | AH72: 5
C73: Ztratné : 0,01 | E73: 0.294 | AG73: VV | AH73: 4
A74: Díl: | B74: 5 | C74: Komunikace | G74: =SUMIF(AG75:AG88,"<>NOR",G75:G88) -> 0 | I74: =SUM(I75:I88) -> 0 | K74: =SUM(K75:K88) -> 0 | M74: =SUM(M75:M88) -> 0 | O74: =SUM(O75:O88) -> 1066.63 | Q74: =SUM(Q75:Q88) -> 0 | V74: =SUM(V75:V88) -> 687.27 | AG74: DIL
A75: 34 | B75: 591211111R00 | C75: Kladení dlažby z kostek drobných z kamene, do lože z kameniva těženého tloušťky 50 mm | D75: m2 | E75: 624 | G75: =ROUND(E75*F75,2) -> 0 | I75: =ROUND(E75*H75,2) -> 0 | K75: =ROUND(E75*J75,2) -> 0 | L75: 15 | M75: =G75*(1+L75/100) -> 0 | N75: 0.11 | O75: =ROUND(E75*N75,2) -> 68.64 | P75: 0 | Q75: =ROUND(E75*P75,2) -> 0 | S75: RTS 17/ I | T75: Indiv | U75: 0.759 | V75: =ROUND(E75*U75,2) -> 473.62 | AG75: POL1_9
C76: s provedením lože do 50 mm, s vyplněním spár, s dvojím beraněním a se smetením přebytečného materiálu na krajnici | AG76: SPI | BA76: =C76 -> s provedením lože do 50 mm, s vyplněním spár, s dvojím beraněním a se smetením přebytečného materiálu na krajnici
A77: 35 | B77: 567122111R00 | C77: Podklad z kameniva zpevněného cementem KZC 1, tloušťka po zhutnění 120 mm | D77: m2 | E77: 1039 | G77: =ROUND(E77*F77,2) -> 0 | I77: =ROUND(E77*H77,2) -> 0 | K77: =ROUND(E77*J77,2) -> 0 | L77: 15 | M77: =G77*(1+L77/100) -> 0 | N77: 0.30651 | O77: =ROUND(E77*N77,2) -> 318.46 | P77: 0 | Q77: =ROUND(E77*P77,2) -> 0 | S77: RTS 17/ I | T77: Indiv | U77: 0.025 | V77: =ROUND(E77*U77,2) -> 25.98 | AG77: POL1_9
C78: bez dilatačních spár, s rozprostřením a zhutněním, ošetřením povrchu podkladu vodou | AG78: SPI
A79: 36 | B79: 564751111R00 | C79: Podklad nebo kryt z kameniva hrubého drceného tloušťka po zhutnění 150 mm | D79: m2 | E79: 2078.5 | G79: =ROUND(E79*F79,2) -> 0 | I79: =ROUND(E79*H79,2) -> 0 | K79: =ROUND(E79*J79,2) -> 0 | L79: 15 | M79: =G79*(1+L79/100) -> 0 | N79: 0.2916 | O79: =ROUND(E79*N79,2) -> 606.09 | P79: 0 | Q79: =ROUND(E79*P79,2) -> 0 | S79: RTS 17/ I | T79: Indiv | U79: 0.026 | V79: =ROUND(E79*U79,2) -> 54.04 | AG79: POL1_9
C80: velikost 32 - 63 mm s rozprostřením a zhutněním | AG80: SPI
C81: Převzatá hodnota množství z položky : 2078,5 | E81: 2078.5 | AG81: VV | AH81: 0
C82: Začátek provozního součtu | AG82: VV
C83: druhá vrstva: : 1039 | E83: 1039 | AG83: VV | AH83: 2
C84: Konec provozního součtu | AG84: VV
A85: 37 | B85: 596811111RT5 | C85: Kladení dlažby z betonových nebo kameninových dlaždic včetně dodávky dlaždic_x000D_ betonových, rozměru 50/50 mm, tloušťky 60 mm, do lože z kameniva těženého | D85: m2 | E85: 352 | G85: =ROUND(E85*F85,2) -> 0 | I85: =ROUND(E85*H85,2) -> 0 | K85: =ROUND(E85*J85,2) -> 0 | L85: 15 | M85: =G85*(1+L85/100) -> 0 | N85: 0.20532 | O85: =ROUND(E85*N85,2) -> 72.27 | P85: 0 | Q85: =ROUND(E85*P85,2) -> 0 | S85: RTS 17/ I | T85: Indiv | U85: 0.375 | V85: =ROUND(E85*U85,2) -> 132 | AG85: POL1_9
C86: komunikací pro pěší do velikosti dlaždic 0,25 m2 s provedením lože do tl. 30 mm, s vyplněním spár a se smetením přebytečného materiálu na vzdálenost do 3 m | AG86: SPI | BA86: =C86 -> komunikací pro pěší do velikosti dlaždic 0,25 m2 s provedením lože do tl. 30 mm, s vyplněním spár a se smetením přebytečného materiálu na vzdálenost do 3 m
A87: 38 | B87: 917862111RV3 | C87: Osazení silničního nebo chodníkového obrubníku včetně dodávky betonovéího obrubníku_x000D_ nájezdového 1000/150/150 mm, stojatého, s boční opěrou z betonu prostého, do lože z betonu prostého C 12/15 | D87: m | E87: 6 | G87: =ROUND(E87*F87,2) -> 0 | I87: =ROUND(E87*H87,2) -> 0 | K87: =ROUND(E87*J87,2) -> 0 | L87: 15 | M87: =G87*(1+L87/100) -> 0 | N87: 0.1952 | O87: =ROUND(E87*N87,2) -> 1.17 | P87: 0 | Q87: =ROUND(E87*P87,2) -> 0 | S87: RTS 17/ I | T87: RTS 17/ I | U87: 0.272 | V87: =ROUND(E87*U87,2) -> 1.63 | AG87: POL1_
C88: S dodáním hmot pro lože tl. 80-100 mm. | AG88: SPI
A89: Díl: | B89: 61 | C89: Úpravy povrchů vnitřní | G89: =SUMIF(AG90:AG91,"<>NOR",G90:G91) -> 0 | I89: =SUM(I90:I91) -> 0 | K89: =SUM(K90:K91) -> 0 | M89: =SUM(M90:M91) -> 0 | O89: =SUM(O90:O91) -> 0.07 | Q89: =SUM(Q90:Q91) -> 0 | V89: =SUM(V90:V91) -> 4.23 | AG89: DIL
A90: 39 | B90: 611456122R00 | C90: Potažení podhledu stropních dílců maltou vápenocementovou, s disperzí, tloušťky 1÷3 mm | D90: m2 | E90: 12.64 | G90: =ROUND(E90*F90,2) -> 0 | I90: =ROUND(E90*H90,2) -> 0 | K90: =ROUND(E90*J90,2) -> 0 | L90: 15 | M90: =G90*(1+L90/100) -> 0 | N90: 0.00519 | O90: =ROUND(E90*N90,2) -> 0.07 | P90: 0 | Q90: =ROUND(E90*P90,2) -> 0 | S90: RTS 17/ I | T90: RTS 17/ I | U90: 0.335 | V90: =ROUND(E90*U90,2) -> 4.23 | AG90: POL1_
C91: a schodišťových prefabrikovaných dílců, se zahlazením plstí, s pomocným lešením | AG91: SPI
A92: Díl: | B92: 63 | C92: Podlahy a podlahové konstrukce | G92: =SUMIF(AG93:AG94,"<>NOR",G93:G94) -> 0 | I92: =SUM(I93:I94) -> 0 | K92: =SUM(K93:K94) -> 0 | M92: =SUM(M93:M94) -> 0 | O92: =SUM(O93:O94) -> 0.81 | Q92: =SUM(Q93:Q94) -> 0 | V92: =SUM(V93:V94) -> 16.01 | AG92: DIL
A93: 40 | B93: 632456221R00 | C93: Potěr pískocementový stupňů a schodnic hlazený ocelovým hladítkem_x000D_ o tloušťce 20 mm | D93: m2 | E93: 14.48 | G93: =ROUND(E93*F93,2) -> 0 | I93: =ROUND(E93*H93,2) -> 0 | K93: =ROUND(E93*J93,2) -> 0 | L93: 15 | M93: =G93*(1+L93/100) -> 0 | N93: 0.05577 | O93: =ROUND(E93*N93,2) -> 0.81 | P93: 0 | Q93: =ROUND(E93*P93,2) -> 0 | S93: RTS 17/ I | T93: RTS 17/ I | U93: 1.106 | V93: =ROUND(E93*U93,2) -> 16.01 | AG93: POL1_
C94: potěr pískocementový stupňů a schodnic (600 kg/m3) | AG94: SPI
A95: Díl: | B95: 8 | C95: Trubní vedení | G95: =SUMIF(AG96:AG97,"<>NOR",G96:G97) -> 0 | I95: =SUM(I96:I97) -> 0 | K95: =SUM(K96:K97) -> 0 | M95: =SUM(M96:M97) -> 0 | O95: =SUM(O96:O97) -> 0.02 | Q95: =SUM(Q96:Q97) -> 0 | V95: =SUM(V96:V97) -> 2.88 | AG95: DIL
A96: 41 | B96: 871218111R00 | C96: Kladení dren. potrubí do rýhy, tvr. PVC, do 90 mm | D96: m | E96: 35 | G96: =ROUND(E96*F96,2) -> 0 | I96: =ROUND(E96*H96,2) -> 0 | K96: =ROUND(E96*J96,2) -> 0 | L96: 15 | M96: =G96*(1+L96/100) -> 0 | N96: 0 | O96: =ROUND(E96*N96,2) -> 0 | P96: 0 | Q96: =ROUND(E96*P96,2) -> 0 | S96: RTS 17/ I | T96: Indiv | U96: 0.033 | V96: =ROUND(E96*U96,2) -> 1.16 | AG96: POL1_9
A97: 42 | B97: 871218211R00 | C97: Drenáže a trubky pro měřicí zařízení trubka polypropylenová, DN 50 mm | D97: m | E97: 4.97 | G97: =ROUND(E97*F97,2) -> 0 | I97: =ROUND(E97*H97,2) -> 0 | K97: =ROUND(E97*J97,2) -> 0 | L97: 15 | M97: =G97*(1+L97/100) -> 0 | N97: 0.00407 | O97: =ROUND(E97*N97,2) -> 0.02 | P97: 0 | Q97: =ROUND(E97*P97,2) -> 0 | S97: RTS 17/ I | T97: Indiv | U97: 0.347 | V97: =ROUND(E97*U97,2) -> 1.72 | AG97: POL1_9
A98: Díl: | B98: 9 | C98: Ostatní konstrukce a práce, bourání | G98: =SUMIF(AG99:AG101,"<>NOR",G99:G101) -> 0 | I98: =SUM(I99:I101) -> 0 | K98: =SUM(K99:K101) -> 0 | M98: =SUM(M99:M101) -> 0 | O98: =SUM(O99:O101) -> 134.74 | Q98: =SUM(Q99:Q101) -> 0 | V98: =SUM(V99:V101) -> 0 | AG98: DIL
A99: 43 | B99: 916241213 | C99: Osazení obrubníku kamenného stojatého s boční opěrou do lože z betonu prostého | D99: m | E99: 650 | G99: =ROUND(E99*F99,2) -> 0 | I99: =ROUND(E99*H99,2) -> 0 | K99: =ROUND(E99*J99,2) -> 0 | L99: 15 | M99: =G99*(1+L99/100) -> 0 | N99: 0.14067 | O99: =ROUND(E99*N99,2) -> 91.44 | P99: 0 | Q99: =ROUND(E99*P99,2) -> 0 | S99: Vlastní | T99: Indiv | U99: 0 | V99: =ROUND(E99*U99,2) -> 0 | AG99: POL1_9
A100: 44 | B100: 583802110 | C100: krajník silniční kamenný, (aAP) žula, KS3 13x20 x 30-80 | D100: m | E100: 655 | G100: =ROUND(E100*F100,2) -> 0 | I100: =ROUND(E100*H100,2) -> 0 | K100: =ROUND(E100*J100,2) -> 0 | L100: 15 | M100: =G100*(1+L100/100) -> 0 | N100: 0.065 | O100: =ROUND(E100*N100,2) -> 42.58 | P100: 0 | Q100: =ROUND(E100*P100,2) -> 0 | S100: Vlastní | T100: Indiv | U100: 0 | V100: =ROUND(E100*U100,2) -> 0 | AG100: POL3_0
A101: 45 | B101: 919726123 | C101: Montáž Geotextilie pro ochranu, separaci a filtraci netkaná měrná hmotnost do 500 g/m2 | D101: m2 | E101: 1039.5 | G101: =ROUND(E101*F101,2) -> 0 | I101: =ROUND(E101*H101,2) -> 0 | K101: =ROUND(E101*J101,2) -> 0 | L101: 15 | M101: =G101*(1+L101/100) -> 0 | N101: 0.00069 | O101: =ROUND(E101*N101,2) -> 0.72 | P101: 0 | Q101: =ROUND(E101*P101,2) -> 0 | S101: Vlastní | T101: Indiv | U101: 0 | V101: =ROUND(E101*U101,2) -> 0 | AG101: POL1_9
A102: Díl: | B102: 91 | C102: Doplňující práce na komunikaci | G102: =SUMIF(AG103:AG103,"<>NOR",G103:G103) -> 0 | I102: =SUM(I103:I103) -> 0 | K102: =SUM(K103:K103) -> 0 | M102: =SUM(M103:M103) -> 0 | O102: =SUM(O103:O103) -> 0 | Q102: =SUM(Q103:Q103) -> 0 | V102: =SUM(V103:V103) -> 0 | AG102: DIL
...

Sheet SO 02 SO 02 Pol
A1: Položkový soupis prací a dodávek | AG1: #TypZaznamu#
A2: S: | B2: 001_v3 | C2: OBNOVA LESOPARKU HRADISKO A KALVÁRIE - HRADISKO | AG2: STA
A3: O: | B3: SO 02 | C3: Mostek Hradisko | AC3: STA | AG3: OBJ
A4: R: | B4: SO 02 | C4: Mostek Hradisko | AG4: ROZ
A6: P.č. | B6: Číslo položky | C6: Název položky | D6: MJ | E6: množství | F6: cena / MJ | G6: Celkem | H6: Dodávka | I6: Dodávka celk. | J6: Montáž | K6: Montáž celk. | L6: DPH | M6: cena s DPH | N6: hmotnost / MJ | O6: hmotnost celk.(t) | P6: dem. hmotnost / MJ | Q6: dem. hmotnost celk.(t) | R6: Ceník | S6: Cen. soustava / platnost | T6: Cenová úroveň | U6: Nhod / MJ | V6: Nhod celk. | W6: Dodavatel
A8: Díl: | B8: 1 | C8: Zemní práce | G8: =SUMIF(AG9:AG22,"<>NOR",G9:G22) -> 0 | I8: =SUM(I9:I22) -> 0 | K8: =SUM(K9:K22) -> 0 | M8: =SUM(M9:M22) -> 0 | O8: =SUM(O9:O22) -> 0 | Q8: =SUM(Q9:Q22) -> 0 | V8: =SUM(V9:V22) -> 529.84 | AG8: DIL
A9: 1 | B9: 139601102R00 | C9: Ruční výkop jam, rýh a šachet v hornině 3 | D9: m3 | E9: 42.8 | G9: =ROUND(E9*F9,2) -> 0 | I9: =ROUND(E9*H9,2) -> 0 | K9: =ROUND(E9*J9,2) -> 0 | L9: 15 | M9: =G9*(1+L9/100) -> 0 | N9: 0 | O9: =ROUND(E9*N9,2) -> 0 | P9: 0 | Q9: =ROUND(E9*P9,2) -> 0 | S9: RTS 17/ I | T9: Indiv | U9: 3.533 | V9: =ROUND(E9*U9,2) -> 151.21 | AG9: POL1_9
C10: s přehozením na vzdálenost do 5 m nebo s naložením na ruční dopravní prostředek | AG10: SPI
A11: 2 | B11: 167101201R00 | C11: Nakládání, skládání, překládání neulehlého výkopku nakládání, skládání, překládání neulehléno výkopku nebo zeminy - ručně_x000D_ z horniny 1 až 4 | D11: m3 | E11: 42.8 | G11: =ROUND(E11*F11,2) -> 0 | I11: =ROUND(E11*H11,2) -> 0 | K11: =ROUND(E11*J11,2) -> 0 | L11: 15 | M11: =G11*(1+L11/100) -> 0 | N11: 0 | O11: =ROUND(E11*N11,2) -> 0 | P11: 0 | Q11: =ROUND(E11*P11,2) -> 0 | S11: RTS 17/ I | T11: Indiv | U11: 1.938 | V11: =ROUND(E11*U11,2) -> 82.95 | AG11: POL1_9
A12: 3 | B12: 171201201R00 | C12: Uložení sypaniny na dočasnou skládku tak, že na 1 m2 plochy připadá přes 2 m3 výkopku nebo ornice | D12: m3 | E12: 66.25 | G12: =ROUND(E12*F12,2) -> 0 | I12: =ROUND(E12*H12,2) -> 0 | K12: =ROUND(E12*J12,2) -> 0 | L12: 15 | M12: =G12*(1+L12/100) -> 0 | N12: 0 | O12: =ROUND(E12*N12,2) -> 0 | P12: 0 | Q12: =ROUND(E12*P12,2) -> 0 | S12: RTS 17/ I | T12: Indiv | U12: 0.009 | V12: =ROUND(E12*U12,2) -> 0.6 | AG12: POL1_9
A13: 4 | B13: 182301122R00 | C13: Rozprostření a urovnání ornice ve svahu v souvislé ploše do 500 m2, tloušťka vrstvy přes 100 do 150 mm | D13: m2 | E13: 285 | G13: =ROUND(E13*F13,2) -> 0 | I13: =ROUND(E13*H13,2) -> 0 | K13: =ROUND(E13*J13,2) -> 0 | L13: 15 | M13: =G13*(1+L13/100) -> 0 | N13: 0 | O13: =ROUND(E13*N13,2) -> 0 | P13: 0 | Q13: =ROUND(E13*P13,2) -> 0 | S13: RTS 17/ I | T13: Indiv | U13: 0.263 | V13: =ROUND(E13*U13,2) -> 74.96 | AG13: POL1_9
C14: s případným nutným přemístěním hromad nebo dočasných skládek na místo potřeby ze vzdálenosti do 30 m, ve svahu sklonu přes 1 : 5, | AG14: SPI | BA14: =C14 -> s případným nutným přemístěním hromad nebo dočasných skládek na místo potřeby ze vzdálenosti do 30 m, ve svahu sklonu přes 1 : 5,
A15: 5 | B15: 161101501R00 | C15: Svislé přemístění výkopku nošením z horniny 1 až 4 | D15: m3 | E15: 42.8 | G15: =ROUND(E15*F15,2) -> 0 | I15: =ROUND(E15*H15,2) -> 0 | K15: =ROUND(E15*J15,2) -> 0 | L15: 15 | M15: =G15*(1+L15/100) -> 0 | N15: 0 | O15: =ROUND(E15*N15,2) -> 0 | P15: 0 | Q15: =ROUND(E15*P15,2) -> 0 | S15: RTS 17/ I | T15: Indiv | U15: 3.81 | V15: =ROUND(E15*U15,2) -> 163.07 | AG15: POL1_9
C16: bez naložení, avšak s vyprázdněním nádoby na hromady nebo do dopravního prostředku, na každých třeba i započatých 3 m výšky, | AG16: SPI | BA16: =C16 -> bez naložení, avšak s vyprázdněním nádoby na hromady nebo do dopravního prostředku, na každých třeba i započatých 3 m výšky,
A17: 6 | B17: 162201203R00 | C17: Vodorovné přemístění výkopku nošením z horniny 1 až 4, kolečkem, na vzdálenost do 10 m | D17: m3 | E17: 42.8 | G17: =ROUND(E17*F17,2) -> 0 | I17: =ROUND(E17*H17,2) -> 0 | K17: =ROUND(E17*J17,2) -> 0 | L17: 15 | M17: =G17*(1+L17/100) -> 0 | N17: 0 | O17: =ROUND(E17*N17,2) -> 0 | P17: 0 | Q17: =ROUND(E17*P17,2) -> 0 | S17: RTS 17/ I | T17: Indiv | U17: 0.668 | V17: =ROUND(E17*U17,2) -> 28.59 | AG17: POL1_9
C18: bez naložení, avšak s vyprázdněním nádoby na hromadu nebo do dopravního prostředku, | AG18: SPI
A19: 7 | B19: 162201210R00 | C19: Vodorovné přemístění výkopku nošením příplatek k ceně za každých dalších 10 m_x000D_ z horniny 1 až 4, kolečkem | D19: m3 | E19: 42.8 | G19: =ROUND(E19*F19,2) -> 0 | I19: =ROUND(E19*H19,2) -> 0 | K19: =ROUND(E19*J19,2) -> 0 | L19: 15 | M19: =G19*(1+L19/100) -> 0 | N19: 0 | O19: =ROUND(E19*N19,2) -> 0 | P19: 0 | Q19: =ROUND(E19*P19,2) -> 0 | S19: RTS 17/ I | T19: Indiv | U19: 0.591 | V19: =ROUND(E19*U19,2) -> 25.29 | AG19: POL1_9
C20: bez naložení, avšak s vyprázdněním nádoby na hromadu nebo do dopravního prostředku, | AG20: SPI
A21: 8 | B21: 162201102R00 | C21: Vodorovné přemístění výkopku z horniny 1 až 4, na vzdálenost přes 20 do 50 m | D21: m3 | E21: 42.8 | G21: =ROUND(E21*F21,2) -> 0 | I21: =ROUND(E21*H21,2) -> 0 | K21: =ROUND(E21*J21,2) -> 0 | L21: 15 | M21: =G21*(1+L21/100) -> 0 | N21: 0 | O21: =ROUND(E21*N21,2) -> 0 | P21: 0 | Q21: =ROUND(E21*P21,2) -> 0 | S21: RTS 17/ I | T21: Indiv | U21: 0.074 | V21: =ROUND(E21*U21,2) -> 3.17 | AG21: POL1_9
C22: po suchu, bez naložení výkopku, avšak se složením bez rozhrnutí, zpáteční cesta vozidla. | AG22: SPI
A23: Díl: | B23: 2 | C23: Základy a zvláštní zakládání | G23: =SUMIF(AG24:AG35,"<>NOR",G24:G35) -> 0 | I23: =SUM(I24:I35) -> 0 | K23: =SUM(K24:K35) -> 0 | M23: =SUM(M24:M35) -> 0 | O23: =SUM(O24:O35) -> 76.71 | Q23: =SUM(Q24:Q35) -> 0 | V23: =SUM(V24:V35) -> 277.36 | AG23: DIL
A24: 9 | B24: 275321411R00 | C24: Beton základových patek železový třídy C 25/30 | D24: m3 | E24: 22.38 | G24: =ROUND(E24*F24,2) -> 0 | I24: =ROUND(E24*H24,2) -> 0 | K24: =ROUND(E24*J24,2) -> 0 | L24: 15 | M24: =G24*(1+L24/100) -> 0 | N24: 2.525 | O24: =ROUND(E24*N24,2) -> 56.51 | P24: 0 | Q24: =ROUND(E24*P24,2) -> 0 | S24: RTS 17/ I | T24: RTS 17/ I | U24: 0.48 | V24: =ROUND(E24*U24,2) -> 10.74 | AG24: POL1_9
C25: bez dodávky a uložení výztuže | AG25: SPI
A26: 10 | B26: 271571112R00 | C26: Polštáře zhutněné pod základy štěrkopísek netříděný, | D26: m3 | E26: 6.625 | G26: =ROUND(E26*F26,2) -> 0 | I26: =ROUND(E26*H26,2) -> 0 | K26: =ROUND(E26*J26,2) -> 0 | L26: 15 | M26: =G26*(1+L26/100) -> 0 | N26: 1.93971 | O26: =ROUND(E26*N26,2) -> 12.85 | P26: 0 | Q26: =ROUND(E26*P26,2) -> 0 | S26: RTS 17/ I | T26: Indiv | U26: 0.965 | V26: =ROUND(E26*U26,2) -> 6.39 | AG26: POL1_9
A27: 11 | B27: 275351215R00 | C27: Bednění stěn základových patek zřízení | D27: m2 | E27: 88 | G27: =ROUND(E27*F27,2) -> 0 | I27: =ROUND(E27*H27,2) -> 0 | K27: =ROUND(E27*J27,2) -> 0 | L27: 15 | M27: =G27*(1+L27/100) -> 0 | N27: 0.0392 | O27: =ROUND(E27*N27,2) -> 3.45 | P27: 0 | Q27: =ROUND(E27*P27,2) -> 0 | S27: RTS 17/ I | T27: Indiv | U27: 1.05 | V27: =ROUND(E27*U27,2) -> 92.4 | AG27: POL1_9
C28: bednění svislé nebo šikmé (odkloněné), půdorysně přímé nebo zalomené, stěn základových patek ve volných nebo zapažených jámách, rýhách, šachtách, včetně případných vzpěr, | AG28: SPI | BA28: =C28 -> bednění svislé nebo šikmé (odkloněné), půdorysně přímé nebo zalomené, stěn základových patek ve volných nebo zapažených jámách, rýhách, šachtách, včetně případných vzpěr,
A29: 12 | B29: 275351216R00 | C29: Bednění stěn základových patek odstranění | D29: m2 | E29: 88 | G29: =ROUND(E29*F29,2) -> 0 | I29: =ROUND(E29*H29,2) -> 0 | K29: =ROUND(E29*J29,2) -> 0 | L29: 15 | M29: =G29*(1+L29/100) -> 0 | N29: 0 | O29: =ROUND(E29*N29,2) -> 0 | P29: 0 | Q29: =ROUND(E29*P29,2) -> 0 | S29: RTS 17/ I | T29: Indiv | U29: 0.32 | V29: =ROUND(E29*U29,2) -> 28.16 | AG29: POL1_9
C30: bednění svislé nebo šikmé (odkloněné), půdorysně přímé nebo zalomené, stěn základových patek ve volných nebo zapažených jámách, rýhách, šachtách, včetně případných vzpěr, | AG30: SPI | BA30: =C30 -> bednění svislé nebo šikmé (odkloněné), půdorysně přímé nebo zalomené, stěn základových patek ve volných nebo zapažených jámách, rýhách, šachtách, včetně případných vzpěr,
C31: Včetně očištění, vytřídění a uložení bednícího materiálu. | AG31: POP
A32: 13 | B32: 275353131R00 | C32: Bednění kotevních otvorů a prostupů v základových patkách o průřezu přes 0,05 do 0,10 m2, hloubky do 1,00 m | D32: kus | E32: 66.25 | G32: =ROUND(E32*F32,2) -> 0 | I32: =ROUND(E32*H32,2) -> 0 | K32: =ROUND(E32*J32,2) -> 0 | L32: 15 | M32: =G32*(1+L32/100) -> 0 | N32: 0.01353 | O32: =ROUND(E32*N32,2) -> 0.9 | P32: 0 | Q32: =ROUND(E32*P32,2) -> 0 | S32: RTS 17/ I | T32: Indiv | U32: 1.064 | V32: =ROUND(E32*U32,2) -> 70.49 | AG32: POL1_9
C33: včetně polohového zajištění a odbednění, popřípadě ztraceného bednění z pletiva a podobně. | AG33: SPI
A34: 14 | B34: 275361821R00 | C34: Výztuž základových patek z betonářské oceli 10 505(R) | D34: t | E34: 2.94 | G34: =ROUND(E34*F34,2) -> 0 | I34: =ROUND(E34*H34,2) -> 0 | K34: =ROUND(E34*J34,2) -> 0 | L34: 15 | M34: =G34*(1+L34/100) -> 0 | N34: 1.02116 | O34: =ROUND(E34*N34,2) -> 3 | P34: 0 | Q34: =ROUND(E34*P34,2) -> 0 | S34: RTS 17/ I | T34: Indiv | U34: 23.531 | V34: =ROUND(E34*U34,2) -> 69.18 | AG34: POL1_9
C35: včetně distančních prvků | AG35: SPI
A36: Díl: | B36: 99 | C36: Staveništní přesun hmot | G36: =SUMIF(AG37:AG38,"<>NOR",G37:G38) -> 0 | I36: =SUM(I37:I38) -> 0 | K36: =SUM(K37:K38) -> 0 | M36: =SUM(M37:M38) -> 0 | O36: =SUM(O37:O38) -> 0 | Q36: =SUM(Q37:Q38) -> 0 | V36: =SUM(V37:V38) -> 85.15 | AG36: DIL
A37: 15 | B37: 998218111R00 | C37: Přesun hmot pro mosty dřevěné výška do 10 m, | D37: t | E37: 76.70825 | G37: =ROUND(E37*F37,2) -> 0 | I37: =ROUND(E37*H37,2) -> 0 | K37: =ROUND(E37*J37,2) -> 0 | L37: 15 | M37: =G37*(1+L37/100) -> 0 | N37: 0 | O37: =ROUND(E37*N37,2) -> 0 | P37: 0 | Q37: =ROUND(E37*P37,2) -> 0 | S37: RTS 17/ I | T37: Indiv | U37: 1.11 | V37: =ROUND(E37*U37,2) -> 85.15 | AG37: POL1_9
C38: na novostavbách, včetně příplatku za zvětšený přesun přes vymezenou dopravní vzdálenost, | AG38: SPI
A39: Díl: | B39: 762 | C39: Konstrukce tesařské | G39: =SUMIF(AG40:AG44,"<>NOR",G40:G44) -> 0 | I39: =SUM(I40:I44) -> 0 | K39: =SUM(K40:K44) -> 0 | M39: =SUM(M40:M44) -> 0 | O39: =SUM(O40:O44) -> 1.98 | Q39: =SUM(Q40:Q44) -> 0 | V39: =SUM(V40:V44) -> 22.44 | AG39: DIL
A40: 16 | B40: 762521108RT3 | C40: Položení podlah s dodávkou materiálu hrubých fošen nehoblovaných na sraz, tloušťky 50 mm | D40: m2 | E40: 66.14 | G40: =ROUND(E40*F40,2) -> 0 | I40: =ROUND(E40*H40,2) -> 0 | K40: =ROUND(E40*J40,2) -> 0 | L40: 15 | M40: =G40*(1+L40/100) -> 0 | N40: 0.0297 | O40: =ROUND(E40*N40,2) -> 1.96 | P40: 0 | Q40: =ROUND(E40*P40,2) -> 0 | S40: RTS 17/ I | T40: Indiv | U40: 0.287 | V40: =ROUND(E40*U40,2) -> 18.98 | AG40: POL1_9
A41: 17 | B41: 762595000R00 | C41: Spojovací a ochranné prostředky hřebíky, vruty, impregnace | D41: m3 | E41: 3.3 | G41: =ROUND(E41*F41,2) -> 0 | I41: =ROUND(E41*H41,2) -> 0 | K41: =ROUND(E41*J41,2) -> 0 | L41: 15 | M41: =G41*(1+L41/100) -> 0 | N41: 0.00295 | O41: =ROUND(E41*N41,2) -> 0.01 | P41: 0 | Q41: =ROUND(E41*P41,2) -> 0 | S41: RTS 17/ I | T41: Indiv | U41: 0 | V41: =ROUND(E41*U41,2) -> 0 | AG41: POL1_9
A42: 18 | B42: 998762102R00 | C42: Přesun hmot pro konstrukce tesařské v objektech výšky do 12 m | D42: t | E42: 1.97409 | G42: =ROUND(E42*F42,2) -> 0 | I42: =ROUND(E42*H42,2) -> 0 | K42: =ROUND(E42*J42,2) -> 0 | L42: 15 | M42: =G42*(1+L42/100) -> 0 | N42: 0 | O42: =ROUND(E42*N42,2) -> 0 | P42: 0 | Q42: =ROUND(E42*P42,2) -> 0 | S42: RTS 17/ I | T42: Indiv | U42: 1.751 | V42: =ROUND(E42*U42,2) -> 3.46 | AG42: POL1_9
C43: 50 m vodorovně | AG43: SPI
A44: 19 | B44: 762911113R00 | C44: Impregnace řeziva máčením, ochrana proti termitům, dřevokazným houbám, plísním a dřevokaznému hmyzu | D44: m2 | E44: 132.28 | G44: =ROUND(E44*F44,2) -> 0 | I44: =ROUND(E44*H44,2) -> 0 | K44: =ROUND(E44*J44,2) -> 0 | L44: 15 | M44: =G44*(1+L44/100) -> 0 | N44: 4e-05 | O44: =ROUND(E44*N44,2) -> 0.01 | P44: 0 | Q44: =ROUND(E44*P44,2) -> 0 | S44: RTS 17/ I | T44: Indiv | U44: 0 | V44: =ROUND(E44*U44,2) -> 0 | AG44: POL1_9
A45: Díl: | B45: 767 | C45: Konstrukce zámečnické | G45: =SUMIF(AG46:AG52,"<>NOR",G46:G52) -> 0 | I45: =SUM(I46:I52) -> 0 | K45: =SUM(K46:K52) -> 0 | M45: =SUM(M46:M52) -> 0 | O45: =SUM(O46:O52) -> 10 | Q45: =SUM(Q46:Q52) -> 0 | V45: =SUM(V46:V52) -> 389.45 | AG45: DIL
A46: 20 | B46: 55395100.AR | C46: zábradlí trubkové | D46: m | E46: 55.5 | G46: =ROUND(E46*F46,2) -> 0 | I46: =ROUND(E46*H46,2) -> 0 | K46: =ROUND(E46*J46,2) -> 0 | L46: 15 | M46: =G46*(1+L46/100) -> 0 | N46: 0.012 | O46: =ROUND(E46*N46,2) -> 0.67 | P46: 0 | Q46: =ROUND(E46*P46,2) -> 0 | S46: RTS 17/ I | T46: Indiv | U46: 0 | V46: =ROUND(E46*U46,2) -> 0 | AG46: POL3_
A47: 21 | B47: 767995107R00 | C47: Výroba a montáž atypických kovovových doplňků staveb hmotnosti přes 250 do 500 kg | D47: kg | E47: 8594 | G47: =ROUND(E47*F47,2) -> 0 | I47: =ROUND(E47*H47,2) -> 0 | K47: =ROUND(E47*J47,2) -> 0 | L47: 15 | M47: =G47*(1+L47/100) -> 0 | N47: 5e-05 | O47: =ROUND(E47*N47,2) -> 0.43 | P47: 0 | Q47: =ROUND(E47*P47,2) -> 0 | S47: RTS 17/ I | T47: Indiv | U47: 0.044 | V47: =ROUND(E47*U47,2) -> 378.14 | AG47: POL1_9
A48: 22 | B48: 55399993.AR | C48: výrobek kovový | D48: kg | E48: 8750 | G48: =ROUND(E48*F48,2) -> 0 | I48: =ROUND(E48*H48,2) -> 0 | K48: =ROUND(E48*J48,2) -> 0 | L48: 15 | M48: =G48*(1+L48/100) -> 0 | N48: 0.001 | O48: =ROUND(E48*N48,2) -> 8.75 | P48: 0 | Q48: =ROUND(E48*P48,2) -> 0 | S48: RTS 17/ I | T48: Indiv | U48: 0 | V48: =ROUND(E48*U48,2) -> 0 | AG48: POL3_
A49: 23 | B49: 55399999R | C49: výrobek kovový | D49: kg | E49: 150 | G49: =ROUND(E49*F49,2) -> 0 | I49: =ROUND(E49*H49,2) -> 0 | K49: =ROUND(E49*J49,2) -> 0 | L49: 15 | M49: =G49*(1+L49/100) -> 0 | N49: 0.001 | O49: =ROUND(E49*N49,2) -> 0.15 | P49: 0 | Q49: =ROUND(E49*P49,2) -> 0 | S49: RTS 17/ I | T49: Indiv | U49: 0 | V49: =ROUND(E49*U49,2) -> 0 | AG49: POL3_
A50: 24 | B50: 767161110R00 | C50: Montáž zábradlí rovného z trubek nebo tenkostěnných profilů do zdiva, o hmotnosti 1 m zábradlí do 20 kg | D50: m | E50: 55.5 | G50: =ROUND(E50*F50,2) -> 0 | I50: =ROUND(E50*H50,2) -> 0 | K50: =ROUND(E50*J50,2) -> 0 | L50: 15 | M50: =G50*(1+L50/100) -> 0 | N50: 6e-05 | O50: =ROUND(E50*N50,2) -> 0 | P50: 0 | Q50: =ROUND(E50*P50,2) -> 0 | S50: RTS 17/ I | T50: Indiv | U50: 0.19 | V50: =ROUND(E50*U50,2) -> 10.55 | AG50: POL1_9
A51: 25 | B51: 998767102R00 | C51: Přesun hmot pro kovové stavební doplňk. konstrukce v objektech výšky do 12 m | D51: t | E51: 0.25128 | G51: =ROUND(E51*F51,2) -> 0 | I51: =ROUND(E51*H51,2) -> 0 | K51: =ROUND(E51*J51,2) -> 0 | L51: 15 | M51: =G51*(1+L51/100) -> 0 | N51: 0 | O51: =ROUND(E51*N51,2) -> 0 | P51: 0 | Q51: =ROUND(E51*P51,2) -> 0 | S51: RTS 17/ I | T51: Indiv | U51: 3.006 | V51: =ROUND(E51*U51,2) -> 0.76 | AG51: POL1_9
C52: 50 m vodorovně | AG52: SPI
A53: Díl: | B53: 783 | C53: Nátěry | G53: =SUMIF(AG54:AG56,"<>NOR",G54:G56) -> 0 | I53: =SUM(I54:I56) -> 0 | K53: =SUM(K54:K56) -> 0 | M53: =SUM(M54:M56) -> 0 | O53: =SUM(O54:O56) -> 0 | Q53: =SUM(Q54:Q56) -> 0 | V53: =SUM(V54:V56) -> 6.65 | AG53: DIL
A54: 26 | B54: 78312OA0 | C54: PROTIKOROZ OCHRANA OCEL KONSTR NÁTĚREM VÍCEVRST, ral dle PD | D54: m2 | E54: 210 | G54: =ROUND(E54*F54,2) -> 0 | I54: =ROUND(E54*H54,2) -> 0 | K54: =ROUND(E54*J54,2) -> 0 | L54: 15 | M54: =G54*(1+L54/100) -> 0 | N54: 0 | O54: =ROUND(E54*N54,2) -> 0 | P54: 0 | Q54: =ROUND(E54*P54,2) -> 0 | S54: Vlastní | T54: Indiv | U54: 0 | V54: =ROUND(E54*U54,2) -> 0 | AG54: POL1_9
A55: 27 | B55: 783222100R00 | C55: Nátěry kov.stavebních doplňk.konstrukcí syntetické dvojnásobné, | D55: m2 | E55: 15 | G55: =ROUND(E55*F55,2) -> 0 | I55: =ROUND(E55*H55,2) -> 0 | K55: =ROUND(E55*J55,2) -> 0 | L55: 15 | M55: =G55*(1+L55/100) -> 0 | N55: 0.00024 | O55: =ROUND(E55*N55,2) -> 0 | P55: 0 | Q55: =ROUND(E55*P55,2) -> 0 | S55: RTS 17/ I | T55: Indiv | U55: 0.287 | V55: =ROUND(E55*U55,2) -> 4.31 | AG55: POL1_9
A56: 28 | B56: 783226100R00 | C56: Nátěry kov.stavebních doplňk.konstrukcí syntetické základní, | D56: m2 | E56: 15 | G56: =ROUND(E56*F56,2) -> 0 | I56: =ROUND(E56*H56,2) -> 0 | K56: =ROUND(E56*J56,2) -> 0 | L56: 15 | M56: =G56*(1+L56/100) -> 0 | N56: 8e-05 | O56: =ROUND(E56*N56,2) -> 0 | P56: 0 | Q56: =ROUND(E56*P56,2) -> 0 | S56: RTS 17/ I | T56: Indiv | U56: 0.156 | V56: =ROUND(E56*U56,2) -> 2.34 | AG56: POL1_9
AE57: 15 | AF57: 21
B58: Celkem | G58: =G8+G23+G36+G39+G45+G53 -> 0 | AE58: =SUMIF(L7:L56,AE57,G7:G56) -> 0 | AF58: =SUMIF(L7:L56,AF57,G7:G56) -> 0 | AG58: SUM
AG59: END

Sheet SO 03 SO 03 Pol
A1: Položkový soupis prací a dodávek | AG1: #TypZaznamu#
A2: S: | B2: 001_v3 | C2: OBNOVA LESOPARKU HRADISKO A KALVÁRIE - HRADISKO | AG2: STA
A3: O: | B3: SO 03 | C3: Čertův mostek | AC3: STA | AG3: OBJ
A4: R: | B4: SO 03 | C4: Čertův mostek | AG4: ROZ
A6: P.č. | B6: Číslo položky | C6: Název položky | D6: MJ | E6: množství | F6: cena / MJ | G6: Celkem | H6: Dodávka | I6: Dodávka celk. | J6: Montáž | K6: Montáž celk. | L6: DPH | M6: cena s DPH | N6: hmotnost / MJ | O6: hmotnost celk.(t) | P6: dem. hmotnost / MJ | Q6: dem. hmotnost celk.(t) | R6: Ceník | S6: Cen. soustava / platnost | T6: Cenová úroveň | U6: Nhod / MJ | V6: Nhod celk. | W6: Dodavatel
A8: Díl: | B8: 1 | C8: Zemní práce | G8: =SUMIF(AG9:AG23,"<>NOR",G9:G23) -> 0 | I8: =SUM(I9:I23) -> 0 | K8: =SUM(K9:K23) -> 0 | M8: =SUM(M9:M23) -> 0 | O8: =SUM(O9:O23) -> 0 | Q8: =SUM(Q9:Q23) -> 0 | V8: =SUM(V9:V23) -> 6.74 | AG8: DIL
A9: 1 | B9: 121101101R00 | C9: Sejmutí ornice s přemístěním na vzdálenost do 50 m | D9: m3 | E9: 1.2 | G9: =ROUND(E9*F9,2) -> 0 | I9: =ROUND(E9*H9,2) -> 0 | K9: =ROUND(E9*J9,2) -> 0 | L9: 15 | M9: =G9*(1+L9/100) -> 0 | N9: 0 | O9: =ROUND(E9*N9,2) -> 0 | P9: 0 | Q9: =ROUND(E9*P9,2) -> 0 | S9: RTS 17/ I | T9: Indiv | U9: 0.097 | V9: =ROUND(E9*U9,2) -> 0.12 | AG9: POL1_9
C10: nebo lesní půdy, s vodorovným přemístěním na hromady v místě upotřebení nebo na dočasné či trvalé skládky se složením | AG10: SPI | BA10: =C10 -> nebo lesní půdy, s vodorovným přemístěním na hromady v místě upotřebení nebo na dočasné či trvalé skládky se složením
A11: 2 | B11: 131201112R00 | C11: Hloubení nezapažených jam a zářezů do 1000 m3, v hornině 3, hloubení strojně | D11: m3 | E11: 2.8 | G11: =ROUND(E11*F11,2) -> 0 | I11: =ROUND(E11*H11,2) -> 0 | K11: =ROUND(E11*J11,2) -> 0 | L11: 15 | M11: =G11*(1+L11/100) -> 0 | N11: 0 | O11: =ROUND(E11*N11,2) -> 0 | P11: 0 | Q11: =ROUND(E11*P11,2) -> 0 | S11: RTS 17/ I | T11: Indiv | U11: 0.11 | V11: =ROUND(E11*U11,2) -> 0.31 | AG11: POL1_9
C12: kromě zářezů se šikmými stěnami pro podzemní vedení, s urovnáním dna do předepsaného profilu a spádu, s případným nutným přemístěním ve výkopišti a dále buď s přemístěním výkopku na přilehlém terénu na vzdálenost do 3 m od okraje jámy nebo s naložením na dopravní prostředek, | AG12: SPI | BA12: =C12 -> kromě zářezů se šikmými stěnami pro podzemní vedení, s urovnáním dna do předepsaného profilu a spádu, s případným nutným přemístěním ve výkopišti a dále buď s přemístěním výkopku na přilehlém terénu na vzdálenost do 3 m od okraje jámy nebo s naložením na dopravní prostředek,
A13: 3 | B13: 161101103R00 | C13: Svislé přemístění výkopku z horniny 1 až 4, při hloubce výkopu přes 4 do 6 m | D13: m3 | E13: 2.8 | G13: =ROUND(E13*F13,2) -> 0 | I13: =ROUND(E13*H13,2) -> 0 | K13: =ROUND(E13*J13,2) -> 0 | L13: 15 | M13: =G13*(1+L13/100) -> 0 | N13: 0 | O13: =ROUND(E13*N13,2) -> 0 | P13: 0 | Q13: =ROUND(E13*P13,2) -> 0 | S13: RTS 17/ I | T13: Indiv | U13: 0.626 | V13: =ROUND(E13*U13,2) -> 1.75 | AG13: POL1_9
C14: bez naložení do dopravní nádoby, ale s vyprázdněním dopravní nádoby na hromadu nebo na dopravní prostředek, | AG14: SPI | BA14: =C14 -> bez naložení do dopravní nádoby, ale s vyprázdněním dopravní nádoby na hromadu nebo na dopravní prostředek,
A15: 4 | B15: 162701105R00 | C15: Vodorovné přemístění výkopku z horniny 1 až 4, na vzdálenost přes 9 000 do 10 000 m | D15: m3 | E15: 2.8 | G15: =ROUND(E15*F15,2) -> 0 | I15: =ROUND(E15*H15,2) -> 0 | K15: =ROUND(E15*J15,2) -> 0 | L15: 15 | M15: =G15*(1+L15/100) -> 0 | N15: 0 | O15: =ROUND(E15*N15,2) -> 0 | P15: 0 | Q15: =ROUND(E15*P15,2) -> 0 | S15: RTS 17/ I | T15: Indiv | U15: 0.011 | V15: =ROUND(E15*U15,2) -> 0.03 | AG15: POL1_9
C16: po suchu, bez ohledu na druh dopravního prostředku, bez naložení výkopku, avšak se složením bez rozhrnutí, | AG16: SPI | BA16: =C16 -> po suchu, bez ohledu na druh dopravního prostředku, bez naložení výkopku, avšak se složením bez rozhrnutí,
A17: 5 | B17: 167101101R00 | C17: Nakládání, skládání, překládání neulehlého výkopku nakládání výkopku_x000D_ do 100 m3, z horniny 1 až 4 | D17: m3 | E17: 2.8 | G17: =ROUND(E17*F17,2) -> 0 | I17: =ROUND(E17*H17,2) -> 0 | K17: =ROUND(E17*J17,2) -> 0 | L17: 15 | M17: =G17*(1+L17/100) -> 0 | N17: 0 | O17: =ROUND(E17*N17,2) -> 0 | P17: 0 | Q17: =ROUND(E17*P17,2) -> 0 | S17: RTS 17/ I | T17: Indiv | U17: 0.652 | V17: =ROUND(E17*U17,2) -> 1.83 | AG17: POL1_9
A18: 6 | B18: 171201201R00 | C18: Uložení sypaniny na dočasnou skládku tak, že na 1 m2 plochy připadá přes 2 m3 výkopku nebo ornice | D18: m3 | E18: 2.8 | G18: =ROUND(E18*F18,2) -> 0 | I18: =ROUND(E18*H18,2) -> 0 | K18: =ROUND(E18*J18,2) -> 0 | L18: 15 | M18: =G18*(1+L18/100) -> 0 | N18: 0 | O18: =ROUND(E18*N18,2) -> 0 | P18: 0 | Q18: =ROUND(E18*P18,2) -> 0 | S18: RTS 17/ I | T18: Indiv | U18: 0.009 | V18: =ROUND(E18*U18,2) -> 0.03 | AG18: POL1_9
A19: 7 | B19: 174101101R00 | C19: Zásyp sypaninou se zhutněním jam, šachet, rýh nebo kolem objektů v těchto vykopávkách | D19: m3 | E19: 2.8 | G19: =ROUND(E19*F19,2) -> 0 | I19: =ROUND(E19*H19,2) -> 0 | K19: =ROUND(E19*J19,2) -> 0 | L19: 15 | M19: =G19*(1+L19/100) -> 0 | N19: 0 | O19: =ROUND(E19*N19,2) -> 0 | P19: 0 | Q19: =ROUND(E19*P19,2) -> 0 | S19: RTS 17/ I | T19: Indiv | U19: 0.202 | V19: =ROUND(E19*U19,2) -> 0.57 | AG19: POL1_9
C20: z jakékoliv horniny s uložením výkopku po vrstvách, | AG20: SPI
C21: včetně strojního přemístění materiálu pro zásyp ze vzdálenosti do 10 m od okraje zásypu | AG21: POP
A22: 8 | B22: 182301122R00 | C22: Rozprostření a urovnání ornice ve svahu v souvislé ploše do 500 m2, tloušťka vrstvy přes 100 do 150 mm | D22: m2 | E22: 8 | G22: =ROUND(E22*F22,2) -> 0 | I22: =ROUND(E22*H22,2) -> 0 | K22: =ROUND(E22*J22,2) -> 0 | L22: 15 | M22: =G22*(1+L22/100) -> 0 | N22: 0 | O22: =ROUND(E22*N22,2) -> 0 | P22: 0 | Q22: =ROUND(E22*P22,2) -> 0 | S22: RTS 17/ I | T22: Indiv | U22: 0.263 | V22: =ROUND(E22*U22,2) -> 2.1 | AG22: POL1_9
C23: s případným nutným přemístěním hromad nebo dočasných skládek na místo potřeby ze vzdálenosti do 30 m, ve svahu sklonu přes 1 : 5, | AG23: SPI | BA23: =C23 -> s případným nutným přemístěním hromad nebo dočasných skládek na místo potřeby ze vzdálenosti do 30 m, ve svahu sklonu přes 1 : 5,
A24: Díl: | B24: 2 | C24: Základy a zvláštní zakládání | G24: =SUMIF(AG25:AG35,"<>NOR",G25:G35) -> 0 | I24: =SUM(I25:I35) -> 0 | K24: =SUM(K25:K35) -> 0 | M24: =SUM(M25:M35) -> 0 | O24: =SUM(O25:O35) -> 8.81 | Q24: =SUM(Q25:Q35) -> 0 | V24: =SUM(V25:V35) -> 50.76 | AG24: DIL
A25: 9 | B25: 271571112R00 | C25: Polštář základu ze štěrkopísku netříděného | D25: m3 | E25: 0.8 | G25: =ROUND(E25*F25,2) -> 0 | I25: =ROUND(E25*H25,2) -> 0 | K25: =ROUND(E25*J25,2) -> 0 | L25: 15 | M25: =G25*(1+L25/100) -> 0 | N25: 1.93971 | O25: =ROUND(E25*N25,2) -> 1.55 | P25: 0 | Q25: =ROUND(E25*P25,2) -> 0 | S25: RTS 17/ I | T25: Indiv | U25: 0.965 | V25: =ROUND(E25*U25,2) -> 0.77 | AG25: POL1_9
A26: 10 | B26: 275321411R00 | C26: Beton základových patek železový třídy C 25/30 | D26: m3 | E26: 2.4 | G26: =ROUND(E26*F26,2) -> 0 | I26: =ROUND(E26*H26,2) -> 0 | K26: =ROUND(E26*J26,2) -> 0 | L26: 15 | M26: =G26*(1+L26/100) -> 0 | N26: 2.525 | O26: =ROUND(E26*N26,2) -> 6.06 | P26: 0 | Q26: =ROUND(E26*P26,2) -> 0 | S26: RTS 17/ I | T26: RTS 17/ I | U26: 0.48 | V26: =ROUND(E26*U26,2) -> 1.15 | AG26: POL1_9
C27: bez dodávky a uložení výztuže | AG27: SPI
A28: 11 | B28: 275351215R00 | C28: Bednění stěn základových patek zřízení | D28: m2 | E28: 17.2 | G28: =ROUND(E28*F28,2) -> 0 | I28: =ROUND(E28*H28,2) -> 0 | K28: =ROUND(E28*J28,2) -> 0 | L28: 15 | M28: =G28*(1+L28/100) -> 0 | N28: 0.0392 | O28: =ROUND(E28*N28,2) -> 0.67 | P28: 0 | Q28: =ROUND(E28*P28,2) -> 0 | S28: RTS 17/ I | T28: Indiv | U28: 1.05 | V28: =ROUND(E28*U28,2) -> 18.06 | AG28: POL1_9
C29: bednění svislé nebo šikmé (odkloněné), půdorysně přímé nebo zalomené, stěn základových patek ve volných nebo zapažených jámách, rýhách, šachtách, včetně případných vzpěr, | AG29: SPI | BA29: =C29 -> bednění svislé nebo šikmé (odkloněné), půdorysně přímé nebo zalomené, stěn základových patek ve volných nebo zapažených jámách, rýhách, šachtách, včetně případných vzpěr,
A30: 12 | B30: 275351216R00 | C30: Bednění stěn základových patek odstranění | D30: m2 | E30: 17.2 | G30: =ROUND(E30*F30,2) -> 0 | I30: =ROUND(E30*H30,2) -> 0 | K30: =ROUND(E30*J30,2) -> 0 | L30: 15 | M30: =G30*(1+L30/100) -> 0 | N30: 0 | O30: =ROUND(E30*N30,2) -> 0 | P30: 0 | Q30: =ROUND(E30*P30,2) -> 0 | S30: RTS 17/ I | T30: Indiv | U30: 0.32 | V30: =ROUND(E30*U30,2) -> 5.5 | AG30: POL1_9
C31: bednění svislé nebo šikmé (odkloněné), půdorysně přímé nebo zalomené, stěn základových patek ve volných nebo zapažených jámách, rýhách, šachtách, včetně případných vzpěr, | AG31: SPI | BA31: =C31 -> bednění svislé nebo šikmé (odkloněné), půdorysně přímé nebo zalomené, stěn základových patek ve volných nebo zapažených jámách, rýhách, šachtách, včetně případných vzpěr,
C32: Včetně očištění, vytřídění a uložení bednícího materiálu. | AG32: POP
A33: 13 | B33: 275353131R00 | C33: Bednění kotevních otvorů a prostupů v základových patkách o průřezu přes 0,05 do 0,10 m2, hloubky do 1,00 m | D33: kus | E33: 17.2 | G33: =ROUND(E33*F33,2) -> 0 | I33: =ROUND(E33*H33,2) -> 0 | K33: =ROUND(E33*J33,2) -> 0 | L33: 15 | M33: =G33*(1+L33/100) -> 0 | N33: 0.01353 | O33: =ROUND(E33*N33,2) -> 0.23 | P33: 0 | Q33: =ROUND(E33*P33,2) -> 0 | S33: RTS 17/ I | T33: Indiv | U33: 1.064 | V33: =ROUND(E33*U33,2) -> 18.3 | AG33: POL1_9
C34: včetně polohového zajištění a odbednění, popřípadě ztraceného bednění z pletiva a podobně. | AG34: SPI
A35: 14 | B35: 275361821R00 | C35: Výztuž základových patek z betonářské oceli 10 505(R) | D35: t | E35: 0.2965 | G35: =ROUND(E35*F35,2) -> 0 | I35: =ROUND(E35*H35,2) -> 0 | K35: =ROUND(E35*J35,2) -> 0 | L35: 15 | M35: =G35*(1+L35/100) -> 0 | N35: 1.02116 | O35: =ROUND(E35*N35,2) -> 0.3 | P35: 0 | Q35: =ROUND(E35*P35,2) -> 0 | S35: RTS 17/ I | T35: Indiv | U35: 23.531 | V35: =ROUND(E35*U35,2) -> 6.98 | AG35: POL1_9
A36: Díl: | B36: 99 | C36: Staveništní přesun hmot | G36: =SUMIF(AG37:AG38,"<>NOR",G37:G38) -> 0 | I36: =SUM(I37:I38) -> 0 | K36: =SUM(K37:K38) -> 0 | M36: =SUM(M37:M38) -> 0 | O36: =SUM(O37:O38) -> 0 | Q36: =SUM(Q37:Q38) -> 0 | V36: =SUM(V37:V38) -> 2.76 | AG36: DIL
A37: 15 | B37: 998011002R00 | C37: Přesun hmot pro budovy s nosnou konstrukcí zděnou výšky přes 6 do 12 m | D37: t | E37: 8.97825 | G37: =ROUND(E37*F37,2) -> 0 | I37: =ROUND(E37*H37,2) -> 0 | K37: =ROUND(E37*J37,2) -> 0 | L37: 15 | M37: =G37*(1+L37/100) -> 0 | N37: 0 | O37: =ROUND(E37*N37,2) -> 0 | P37: 0 | Q37: =ROUND(E37*P37,2) -> 0 | S37: RTS 17/ I | T37: Indiv | U37: 0.307 | V37: =ROUND(E37*U37,2) -> 2.76 | AG37: POL1_9
C38: přesun hmot pro budovy občanské výstavby (JKSO 801), budovy pro bydlení (JKSO 803) budovy pro výrobu a služby (JKSO 812) s nosnou svislou konstrukcí zděnou z cihel nebo tvárnic nebo kovovou | AG38: SPI | BA38: =C38 -> přesun hmot pro budovy občanské výstavby (JKSO 801), budovy pro bydlení (JKSO 803) budovy pro výrobu a služby (JKSO 812) s nosnou svislou konstrukcí zděnou z cihel nebo tvárnic nebo kovovou
A39: Díl: | B39: 762 | C39: Konstrukce tesařské | G39: =SUMIF(AG40:AG44,"<>NOR",G40:G44) -> 0 | I39: =SUM(I40:I44) -> 0 | K39: =SUM(K40:K44) -> 0 | M39: =SUM(M40:M44) -> 0 | O39: =SUM(O40:O44) -> 0.2 | Q39: =SUM(Q40:Q44) -> 0 | V39: =SUM(V40:V44) -> 41.21 | AG39: DIL
A40: 16 | B40: 762523104RT2 | C40: Položení podlah s dodávkou materiálu z prken hoblovaných na sraz, tloušťky 18 mm | D40: m2 | E40: 18.5 | G40: =ROUND(E40*F40,2) -> 0 | I40: =ROUND(E40*H40,2) -> 0 | K40: =ROUND(E40*J40,2) -> 0 | L40: 15 | M40: =G40*(1+L40/100) -> 0 | N40: 0.01069 | O40: =ROUND(E40*N40,2) -> 0.2 | P40: 0 | Q40: =ROUND(E40*P40,2) -> 0 | S40: RTS 17/ I | T40: Indiv | U40: 0.301 | V40: =ROUND(E40*U40,2) -> 5.57 | AG40: POL1_9
A41: 17 | B41: 762595000R00 | C41: Spojovací a ochranné prostředky hřebíky, vruty, impregnace | D41: m3 | E41: 1.1 | G41: =ROUND(E41*F41,2) -> 0 | I41: =ROUND(E41*H41,2) -> 0 | K41: =ROUND(E41*J41,2) -> 0 | L41: 15 | M41: =G41*(1+L41/100) -> 0 | N41: 0.00295 | O41: =ROUND(E41*N41,2) -> 0 | P41: 0 | Q41: =ROUND(E41*P41,2) -> 0 | S41: RTS 17/ I | T41: Indiv | U41: 0 | V41: =ROUND(E41*U41,2) -> 0 | AG41: POL1_9
A42: 18 | B42: 998762102R00 | C42: Přesun hmot pro konstrukce tesařské v objektech výšky do 12 m | D42: t | E42: 20.35324 | G42: =ROUND(E42*F42,2) -> 0 | I42: =ROUND(E42*H42,2) -> 0 | K42: =ROUND(E42*J42,2) -> 0 | L42: 15 | M42: =G42*(1+L42/100) -> 0 | N42: 0 | O42: =ROUND(E42*N42,2) -> 0 | P42: 0 | Q42: =ROUND(E42*P42,2) -> 0 | S42: RTS 17/ I | T42: Indiv | U42: 1.751 | V42: =ROUND(E42*U42,2) -> 35.64 | AG42: POL1_9
C43: 50 m vodorovně | AG43: SPI
A44: 19 | B44: 762911113R00 | C44: Impregnace řeziva máčením, ochrana proti termitům, dřevokazným houbám, plísním a dřevokaznému hmyzu | D44: m2 | E44: 45 | G44: =ROUND(E44*F44,2) -> 0 | I44: =ROUND(E44*H44,2) -> 0 | K44: =ROUND(E44*J44,2) -> 0 | L44: 15 | M44: =G44*(1+L44/100) -> 0 | N44: 4e-05 | O44: =ROUND(E44*N44,2) -> 0 | P44: 0 | Q44: =ROUND(E44*P44,2) -> 0 | S44: RTS 17/ I | T44: Indiv | U44: 0 | V44: =ROUND(E44*U44,2) -> 0 | AG44: POL1_9
A45: Díl: | B45: 767 | C45: Konstrukce zámečnické | G45: =SUMIF(AG46:AG47,"<>NOR",G46:G47) -> 0 | I45: =SUM(I46:I47) -> 0 | K45: =SUM(K46:K47) -> 0 | M45: =SUM(M46:M47) -> 0 | O45: =SUM(O46:O47) -> 0.14 | Q45: =SUM(Q46:Q47) -> 0 | V45: =SUM(V46:V47) -> 554.32 | AG45: DIL
A46: 20 | B46: 210020652R00 | C46: Konstrukce ocelová konstrukce ocelová nosná , pro zařízení do 10 kg, , | D46: kg | E46: 1230 | G46: =ROUND(E46*F46,2) -> 0 | I46: =ROUND(E46*H46,2) -> 0 | K46: =ROUND(E46*J46,2) -> 0 | L46: 15 | M46: =G46*(1+L46/100) -> 0 | N46: 0 | O46: =ROUND(E46*N46,2) -> 0 | P46: 0 | Q46: =ROUND(E46*P46,2) -> 0 | S46: RTS 17/ I | T46: Indiv | U46: 0.45067 | V46: =ROUND(E46*U46,2) -> 554.32 | AG46: POL1_9
A47: 21 | B47: 55395100.AR | C47: zábradlí trubkové | D47: m | E47: 12 | G47: =ROUND(E47*F47,2) -> 0 | I47: =ROUND(E47*H47,2) -> 0 | K47: =ROUND(E47*J47,2) -> 0 | L47: 15 | M47: =G47*(1+L47/100) -> 0 | N47: 0.012 | O47: =ROUND(E47*N47,2) -> 0.14 | P47: 0 | Q47: =ROUND(E47*P47,2) -> 0 | S47: RTS 17/ I | T47: Indiv | U47: 0 | V47: =ROUND(E47*U47,2) -> 0 | AG47: POL3_
AE48: 15 | AF48: 21
B49: Celkem | G49: =G8+G24+G36+G39+G45 -> 0 | AE49: =SUMIF(L7:L47,AE48,G7:G47) -> 0 | AF49: =SUMIF(L7:L47,AF48,G7:G47) -> 0 | AG49: SUM
AG50: END

Sheet SO 04 SO 04 Pol
A1: Položkový soupis prací a dodávek | AG1: #TypZaznamu#
A2: S: | B2: 001_v3 | C2: OBNOVA LESOPARKU HRADISKO A KALVÁRIE - HRADISKO | AG2: STA
A3: O: | B3: SO 04 | C3: Altán „Letec“ | AC3: STA | AG3: OBJ
A4: R: | B4: SO 04 | C4: Altán „Letec“ | AG4: ROZ
A6: P.č. | B6: Číslo položky | C6: Název položky | D6: MJ | E6: množství | F6: cena / MJ | G6: Celkem | H6: Dodávka | I6: Dodávka celk. | J6: Montáž | K6: Montáž celk. | L6: DPH | M6: cena s DPH | N6: hmotnost / MJ | O6: hmotnost celk.(t) | P6: dem. hmotnost / MJ | Q6: dem. hmotnost celk.(t) | R6: Ceník | S6: Cen. soustava / platnost | T6: Cenová úroveň | U6: Nhod / MJ | V6: Nhod celk. | W6: Dodavatel
A8: Díl: | B8: 1 | C8: Zemní práce | G8: =SUMIF(AG9:AG37,"<>NOR",G9:G37) -> 0 | I8: =SUM(I9:I37) -> 0 | K8: =SUM(K9:K37) -> 0 | M8: =SUM(M9:M37) -> 0 | O8: =SUM(O9:O37) -> 0 | Q8: =SUM(Q9:Q37) -> 0 | V8: =SUM(V9:V37) -> 343.39 | AG8: DIL
A9: 1 | B9: 111203111R0T | C9: Odstranění kořenů a kořenových náběhů až do hloubky 50 cm | D9: m2 | E9: 5.5 | G9: =ROUND(E9*F9,2) -> 0 | I9: =ROUND(E9*H9,2) -> 0 | K9: =ROUND(E9*J9,2) -> 0 | L9: 15 | M9: =G9*(1+L9/100) -> 0 | N9: 0 | O9: =ROUND(E9*N9,2) -> 0 | P9: 0 | Q9: =ROUND(E9*P9,2) -> 0 | S9: Vlastní | T9: Indiv | U9: 0 | V9: =ROUND(E9*U9,2) -> 0 | AG9: POL1_9
A10: 2 | B10: 139601103R00 | C10: Ruční výkop jam, rýh a šachet v hornině 4 | D10: m3 | E10: 33.6 | G10: =ROUND(E10*F10,2) -> 0 | I10: =ROUND(E10*H10,2) -> 0 | K10: =ROUND(E10*J10,2) -> 0 | L10: 15 | M10: =G10*(1+L10/100) -> 0 | N10: 0 | O10: =ROUND(E10*N10,2) -> 0 | P10: 0 | Q10: =ROUND(E10*P10,2) -> 0 | S10: RTS 17/ I | T10: Indiv | U10: 4.655 | V10: =ROUND(E10*U10,2) -> 156.41 | AG10: POL1_9
C11: s přehozením na vzdálenost do 5 m nebo s naložením na ruční dopravní prostředek | AG11: SPI
A12: 3 | B12: 161101501R00 | C12: Svislé přemístění výkopku nošením z horniny 1 až 4 | D12: m3 | E12: 33.6 | G12: =ROUND(E12*F12,2) -> 0 | I12: =ROUND(E12*H12,2) -> 0 | K12: =ROUND(E12*J12,2) -> 0 | L12: 15 | M12: =G12*(1+L12/100) -> 0 | N12: 0 | O12: =ROUND(E12*N12,2) -> 0 | P12: 0 | Q12: =ROUND(E12*P12,2) -> 0 | S12: RTS 17/ I | T12: Indiv | U12: 3.81 | V12: =ROUND(E12*U12,2) -> 128.02 | AG12: POL1_9
C13: bez naložení, avšak s vyprázdněním nádoby na hromady nebo do dopravního prostředku, na každých třeba i započatých 3 m výšky, | AG13: SPI | BA13: =C13 -> bez naložení, avšak s vyprázdněním nádoby na hromady nebo do dopravního prostředku, na každých třeba i započatých 3 m výšky,
A14: 4 | B14: 162701109R00 | C14: Vodorovné přemístění výkopku příplatek k ceně za každých dalších i započatých 1 000 m přes 10 000 m_x000D_ z horniny 1 až 4 | D14: m3 | E14: 33.6 | G14: =ROUND(E14*F14,2) -> 0 | I14: =ROUND(E14*H14,2) -> 0 | K14: =ROUND(E14*J14,2) -> 0 | L14: 15 | M14: =G14*(1+L14/100) -> 0 | N14: 0 | O14: =ROUND(E14*N14,2) -> 0 | P14: 0 | Q14: =ROUND(E14*P14,2) -> 0 | S14: RTS 17/ I | T14: Indiv | U14: 0 | V14: =ROUND(E14*U14,2) -> 0 | AG14: POL1_9
C15: po suchu, bez ohledu na druh dopravního prostředku, bez naložení výkopku, avšak se složením bez rozhrnutí, | AG15: SPI | BA15: =C15 -> po suchu, bez ohledu na druh dopravního prostředku, bez naložení výkopku, avšak se složením bez rozhrnutí,
A16: 5 | B16: 162201203R00 | C16: Vodorovné přemístění výkopku nošením z horniny 1 až 4, kolečkem, na vzdálenost do 10 m | D16: m3 | E16: 33.6 | G16: =ROUND(E16*F16,2) -> 0 | I16: =ROUND(E16*H16,2) -> 0 | K16: =ROUND(E16*J16,2) -> 0 | L16: 15 | M16: =G16*(1+L16/100) -> 0 | N16: 0 | O16: =ROUND(E16*N16,2) -> 0 | P16: 0 | Q16: =ROUND(E16*P16,2) -> 0 | S16: RTS 17/ I | T16: Indiv | U16: 0.668 | V16: =ROUND(E16*U16,2) -> 22.44 | AG16: POL1_9
C17: bez naložení, avšak s vyprázdněním nádoby na hromadu nebo do dopravního prostředku, | AG17: SPI
A18: 6 | B18: 162201210R00 | C18: Vodorovné přemístění výkopku nošením příplatek k ceně za každých dalších 10 m_x000D_ z horniny 1 až 4, kolečkem | D18: m3 | E18: 33.6 | G18: =ROUND(E18*F18,2) -> 0 | I18: =ROUND(E18*H18,2) -> 0 | K18: =ROUND(E18*J18,2) -> 0 | L18: 15 | M18: =G18*(1+L18/100) -> 0 | N18: 0 | O18: =ROUND(E18*N18,2) -> 0 | P18: 0 | Q18: =ROUND(E18*P18,2) -> 0 | S18: RTS 17/ I | T18: Indiv | U18: 0.591 | V18: =ROUND(E18*U18,2) -> 19.86 | AG18: POL1_9
C19: bez naložení, avšak s vyprázdněním nádoby na hromadu nebo do dopravního prostředku, | AG19: SPI
A20: 7 | B20: 171101101R00 | C20: Uložení sypaniny do násypů zhutněných s uzavřením povrchu násypu z hornin soudržných s předepsanou mírou zhutnění v procentech výsledků zkoušek Proctor-Standard _x000D_ _x000D_ na 95 % PS | D20: m3 | E20: 37.6 | G20: =ROUND(E20*F20,2) -> 0 | I20: =ROUND(E20*H20,2) -> 0 | K20: =ROUND(E20*J20,2) -> 0 | L20: 15 | M20: =G20*(1+L20/100) -> 0 | N20: 0 | O20: =ROUND(E20*N20,2) -> 0 | P20: 0 | Q20: =ROUND(E20*P20,2) -> 0 | S20: RTS 17/ I | T20: Indiv | U20: 0.043 | V20: =ROUND(E20*U20,2) -> 1.62 | AG20: POL1_9
C21: s rozprostřením sypaniny ve vrstvách a s hrubým urovnáním, | AG21: SPI
C22: Převzatá hodnota množství z položky : 37,6 | E22: 37.6 | AG22: VV | AH22: 0
C23: Začátek provozního součtu | AG23: VV
C24: 33,6 | E24: 33.6 | AG24: VV | AH24: 2
C25: 4 | E25: 4 | AG25: VV | AH25: 2
C26: Konec provozního součtu | AG26: VV
A27: 8 | B27: 174101101R00 | C27: Zásyp sypaninou se zhutněním jam, šachet, rýh nebo kolem objektů v těchto vykopávkách | D27: m3 | E27: 15 | G27: =ROUND(E27*F27,2) -> 0 | I27: =ROUND(E27*H27,2) -> 0 | K27: =ROUND(E27*J27,2) -> 0 | L27: 15 | M27: =G27*(1+L27/100) -> 0 | N27: 0 | O27: =ROUND(E27*N27,2) -> 0 | P27: 0 | Q27: =ROUND(E27*P27,2) -> 0 | S27: RTS 17/ I | T27: Indiv | U27: 0.202 | V27: =ROUND(E27*U27,2) -> 3.03 | AG27: POL1_9
C28: z jakékoliv horniny s uložením výkopku po vrstvách, | AG28: SPI
A29: 9 | B29: 171201211 | C29: Poplatek za uložení odpadu ze sypaniny na skládce (skládkovné) | D29: t | E29: 36.16 | G29: =ROUND(E29*F29,2) -> 0 | I29: =ROUND(E29*H29,2) -> 0 | K29: =ROUND(E29*J29,2) -> 0 | L29: 15 | M29: =G29*(1+L29/100) -> 0 | N29: 0 | O29: =ROUND(E29*N29,2) -> 0 | P29: 0 | Q29: =ROUND(E29*P29,2) -> 0 | S29: Vlastní | T29: Indiv | U29: 0 | V29: =ROUND(E29*U29,2) -> 0 | AG29: POL1_9
C30: 339,43*1,6 | AG30: POP
A31: 10 | B31: 356212T10I10 | C31: Vodorovné přemístění do 10000 m výkopku/sypaniny z horniny tř. 1 až 4 | D31: m3 | E31: 22.6 | G31: =ROUND(E31*F31,2) -> 0 | I31: =ROUND(E31*H31,2) -> 0 | K31: =ROUND(E31*J31,2) -> 0 | L31: 15 | M31: =G31*(1+L31/100) -> 0 | N31: 0 | O31: =ROUND(E31*N31,2) -> 0 | P31: 0 | Q31: =ROUND(E31*P31,2) -> 0 | S31: Vlastní | T31: Indiv | U31: 0 | V31: =ROUND(E31*U31,2) -> 0 | AG31: POL1_9
A32: 11 | B32: 122100010RAA | C32: Odkopávky a prokopávky odkopávky nezapažené v hornině 1-4_x000D_ naložení, odvoz 1 000 m, uložení | D32: m3 | E32: 4 | G32: =ROUND(E32*F32,2) -> 0 | I32: =ROUND(E32*H32,2) -> 0 | K32: =ROUND(E32*J32,2) -> 0 | L32: 15 | M32: =G32*(1+L32/100) -> 0 | N32: 0 | O32: =ROUND(E32*N32,2) -> 0 | P32: 0 | Q32: =ROUND(E32*P32,2) -> 0 | S32: RTS 17/ I | T32: Indiv | U32: 0.29525 | V32: =ROUND(E32*U32,2) -> 1.18 | AG32: POL2_9
C33: nezapažené s naložením na dopravní prostředek, odvozem a uložením na skládku, bez poplatku za skládku. | AG33: SPI | BA33: =C33 -> nezapažené s naložením na dopravní prostředek, odvozem a uložením na skládku, bez poplatku za skládku.
A34: 12 | B34: 131100010RAC | C34: Hloubení jam nezapažených v hornině 1 ÷ 4, odvoz do 10 000 m, uložení na skládku | D34: m3 | E34: 2.69 | G34: =ROUND(E34*F34,2) -> 0 | I34: =ROUND(E34*H34,2) -> 0 | K34: =ROUND(E34*J34,2) -> 0 | L34: 15 | M34: =G34*(1+L34/100) -> 0 | N34: 0 | O34: =ROUND(E34*N34,2) -> 0 | P34: 0 | Q34: =ROUND(E34*P34,2) -> 0 | S34: RTS 17/ I | T34: Indiv | U34: 0.32334 | V34: =ROUND(E34*U34,2) -> 0.87 | AG34: POL2_9
A35: 13 | B35: 182300010RA0 | C35: Rozprostření ornice ve svahu nad 1 : 5 a osetí travou při tloušťce 150 mm, dovoz ornice ze vzdálenosti 500 m | D35: m2 | E35: 26 | G35: =ROUND(E35*F35,2) -> 0 | I35: =ROUND(E35*H35,2) -> 0 | K35: =ROUND(E35*J35,2) -> 0 | L35: 15 | M35: =G35*(1+L35/100) -> 0 | N35: 3e-05 | O35: =ROUND(E35*N35,2) -> 0 | P35: 0 | Q35: =ROUND(E35*P35,2) -> 0 | S35: RTS 17/ I | T35: Indiv | U35: 0.38302 | V35: =ROUND(E35*U35,2) -> 9.96 | AG35: POL2_9
C36: vč. urovnání ornice, naložení na skládce a vodorovným přemístěním ornice na místo rozprostření, založení trávníku osetím a dodávky travního semene. | AG36: SPI | BA36: =C36 -> vč. urovnání ornice, naložení na skládce a vodorovným přemístěním ornice na místo rozprostření, založení trávníku osetím a dodávky travního semene.
C37: Včetně přesunu hmot. | AG37: POP
A38: Díl: | B38: 2 | C38: Základy a zvláštní zakládání | G38: =SUMIF(AG39:AG59,"<>NOR",G39:G59) -> 0 | I38: =SUM(I39:I59) -> 0 | K38: =SUM(K39:K59) -> 0 | M38: =SUM(M39:M59) -> 0 | O38: =SUM(O39:O59) -> 151.4 | Q38: =SUM(Q39:Q59) -> 0 | V38: =SUM(V39:V59) -> 285.91 | AG38: DIL
A39: 14 | B39: 271571112R00 | C39: Polštář základu ze štěrkopísku netříděného | D39: m3 | E39: 18 | G39: =ROUND(E39*F39,2) -> 0 | I39: =ROUND(E39*H39,2) -> 0 | K39: =ROUND(E39*J39,2) -> 0 | L39: 15 | M39: =G39*(1+L39/100) -> 0 | N39: 1.93971 | O39: =ROUND(E39*N39,2) -> 34.91 | P39: 0 | Q39: =ROUND(E39*P39,2) -> 0 | S39: RTS 17/ I | T39: Indiv | U39: 0.965 | V39: =ROUND(E39*U39,2) -> 17.37 | AG39: POL1_9
A40: 15 | B40: 273321311R00 | C40: Beton základových desek železový třídy C 16/20 | D40: m3 | E40: 8.4 | G40: =ROUND(E40*F40,2) -> 0 | I40: =ROUND(E40*H40,2) -> 0 | K40: =ROUND(E40*J40,2) -> 0 | L40: 15 | M40: =G40*(1+L40/100) -> 0 | N40: 2.525 | O40: =ROUND(E40*N40,2) -> 21.21 | P40: 0 | Q40: =ROUND(E40*P40,2) -> 0 | S40: RTS 17/ I | T40: Indiv | U40: 0.48 | V40: =ROUND(E40*U40,2) -> 4.03 | AG40: POL1_9
C41: bez dodávky a uložení výztuže | AG41: SPI
A42: 16 | B42: 273351215R00 | C42: Bednění stěn základových desek zřízení | D42: m2 | E42: 3.528 | G42: =ROUND(E42*F42,2) -> 0 | I42: =ROUND(E42*H42,2) -> 0 | K42: =ROUND(E42*J42,2) -> 0 | L42: 15 | M42: =G42*(1+L42/100) -> 0 | N42: 0.0392 | O42: =ROUND(E42*N42,2) -> 0.14 | P42: 0 | Q42: =ROUND(E42*P42,2) -> 0 | S42: RTS 17/ I | T42: Indiv | U42: 1.6 | V42: =ROUND(E42*U42,2) -> 5.64 | AG42: POL1_9
C43: svislé nebo šikmé (odkloněné) , půdorysně přímé nebo zalomené, stěn základových desek ve volných nebo zapažených jámách, rýhách, šachtách, včetně případných vzpěr, | AG43: SPI | BA43: =C43 -> svislé nebo šikmé (odkloněné) , půdorysně přímé nebo zalomené, stěn základových desek ve volných nebo zapažených jámách, rýhách, šachtách, včetně případných vzpěr,
A44: 17 | B44: 273351216R00 | C44: Bednění stěn základových desek odstranění | D44: m2 | E44: 3.528 | G44: =ROUND(E44*F44,2) -> 0 | I44: =ROUND(E44*H44,2) -> 0 | K44: =ROUND(E44*J44,2) -> 0 | L44: 15 | M44: =G44*(1+L44/100) -> 0 | N44: 0 | O44: =ROUND(E44*N44,2) -> 0 | P44: 0 | Q44: =ROUND(E44*P44,2) -> 0 | S44: RTS 17/ I | T44: Indiv | U44: 0.32 | V44: =ROUND(E44*U44,2) -> 1.13 | AG44: POL1_9
C45: svislé nebo šikmé (odkloněné) , půdorysně přímé nebo zalomené, stěn základových desek ve volných nebo zapažených jámách, rýhách, šachtách, včetně případných vzpěr, | AG45: SPI | BA45: =C45 -> svislé nebo šikmé (odkloněné) , půdorysně přímé nebo zalomené, stěn základových desek ve volných nebo zapažených jámách, rýhách, šachtách, včetně případných vzpěr,
A46: 18 | B46: 273361821R00 | C46: Výztuž základových desek z betonářské oceli 10 505(R) | D46: t | E46: 0.756 | G46: =ROUND(E46*F46,2) -> 0 | I46: =ROUND(E46*H46,2) -> 0 | K46: =ROUND(E46*J46,2) -> 0 | L46: 15 | M46: =G46*(1+L46/100) -> 0 | N46: 1.02174 | O46: =ROUND(E46*N46,2) -> 0.77 | P46: 0 | Q46: =ROUND(E46*P46,2) -> 0 | S46: RTS 17/ I | T46: Indiv | U46: 23.531 | V46: =ROUND(E46*U46,2) -> 17.79 | AG46: POL1_9
C47: rovných nebo s náběhy nebo hřibových nebo upnutých do žeber včetně výztuže těchto žeber, | AG47: SPI
A48: 19 | B48: 274321321R00 | C48: Beton základových pasů železový třídy C 20/25 | D48: m3 | E48: 24.23 | G48: =ROUND(E48*F48,2) -> 0 | I48: =ROUND(E48*H48,2) -> 0 | K48: =ROUND(E48*J48,2) -> 0 | L48: 15 | M48: =G48*(1+L48/100) -> 0 | N48: 2.525 | O48: =ROUND(E48*N48,2) -> 61.18 | P48: 0 | Q48: =ROUND(E48*P48,2) -> 0 | S48: RTS 17/ I | T48: Indiv | U48: 0.48 | V48: =ROUND(E48*U48,2) -> 11.63 | AG48: POL1_9
C49: bez výztuže | AG49: SPI
A50: 20 | B50: 275351215R00 | C50: Bednění stěn základových patek zřízení | D50: m2 | E50: 82 | G50: =ROUND(E50*F50,2) -> 0 | I50: =ROUND(E50*H50,2) -> 0 | K50: =ROUND(E50*J50,2) -> 0 | L50: 15 | M50: =G50*(1+L50/100) -> 0 | N50: 0.0392 | O50: =ROUND(E50*N50,2) -> 3.21 | P50: 0 | Q50: =ROUND(E50*P50,2) -> 0 | S50: RTS 17/ I | T50: Indiv | U50: 1.05 | V50: =ROUND(E50*U50,2) -> 86.1 | AG50: POL1_9
C51: bednění svislé nebo šikmé (odkloněné), půdorysně přímé nebo zalomené, stěn základových patek ve volných nebo zapažených jámách, rýhách, šachtách, včetně případných vzpěr, | AG51: SPI | BA51: =C51 -> bednění svislé nebo šikmé (odkloněné), půdorysně přímé nebo zalomené, stěn základových patek ve volných nebo zapažených jámách, rýhách, šachtách, včetně případných vzpěr,
A52: 21 | B52: 275351216R00 | C52: Bednění stěn základových patek odstranění | D52: m2 | E52: 82 | G52: =ROUND(E52*F52,2) -> 0 | I52: =ROUND(E52*H52,2) -> 0 | K52: =ROUND(E52*J52,2) -> 0 | L52: 15 | M52: =G52*(1+L52/100) -> 0 | N52: 0 | O52: =ROUND(E52*N52,2) -> 0 | P52: 0 | Q52: =ROUND(E52*P52,2) -> 0 | S52: RTS 17/ I | T52: Indiv | U52: 0.32 | V52: =ROUND(E52*U52,2) -> 26.24 | AG52: POL1_9
C53: bednění svislé nebo šikmé (odkloněné), půdorysně přímé nebo zalomené, stěn základových patek ve volných nebo zapažených jámách, rýhách, šachtách, včetně případných vzpěr, | AG53: SPI | BA53: =C53 -> bednění svislé nebo šikmé (odkloněné), půdorysně přímé nebo zalomené, stěn základových patek ve volných nebo zapažených jámách, rýhách, šachtách, včetně případných vzpěr,
A54: 22 | B54: 275361821R00 | C54: Výztuž základových patek z betonářské oceli 10 505(R) | D54: t | E54: 1.44 | G54: =ROUND(E54*F54,2) -> 0 | I54: =ROUND(E54*H54,2) -> 0 | K54: =ROUND(E54*J54,2) -> 0 | L54: 15 | M54: =G54*(1+L54/100) -> 0 | N54: 1.02116 | O54: =ROUND(E54*N54,2) -> 1.47 | P54: 0 | Q54: =ROUND(E54*P54,2) -> 0 | S54: RTS 17/ I | T54: Indiv | U54: 23.531 | V54: =ROUND(E54*U54,2) -> 33.88 | AG54: POL1_9
A55: 23 | B55: 212850001RA0 | C55: Drenáž podél základu objektu z drenážních trub, d 100 mm | D55: m | E55: 56 | G55: =ROUND(E55*F55,2) -> 0 | I55: =ROUND(E55*H55,2) -> 0 | K55: =ROUND(E55*J55,2) -> 0 | L55: 15 | M55: =G55*(1+L55/100) -> 0 | N55: 0.42953 | O55: =ROUND(E55*N55,2) -> 24.05 | P55: 0 | Q55: =ROUND(E55*P55,2) -> 0 | S55: RTS 17/ I | T55: Indiv | U55: 1.4019 | V55: =ROUND(E55*U55,2) -> 78.51 | AG55: POL2_9
C56: včetně betonového lože C 16/20, obsypu kamenivem, ochranné geotextilie a revizní šachty | AG56: SPI
A57: 24 | B57: 271100010RA0 | C57: Polštáře pod základy ze štěrkopísku | D57: m3 | E57: 2.3 | G57: =ROUND(E57*F57,2) -> 0 | I57: =ROUND(E57*H57,2) -> 0 | K57: =ROUND(E57*J57,2) -> 0 | L57: 15 | M57: =G57*(1+L57/100) -> 0 | N57: 1.93971 | O57: =ROUND(E57*N57,2) -> 4.46 | P57: 0 | Q57: =ROUND(E57*P57,2) -> 0 | S57: RTS 17/ I | T57: Indiv | U57: 1.5605 | V57: =ROUND(E57*U57,2) -> 3.59 | AG57: POL2_9
C58: zhutněné ze štěrkopísku. | AG58: SPI
C59: Včetně urovnání povrchu. | AG59: POP
A60: Díl: | B60: 3 | C60: Svislé a kompletní konstrukce | G60: =SUMIF(AG61:AG68,"<>NOR",G61:G68) -> 0 | I60: =SUM(I61:I68) -> 0 | K60: =SUM(K61:K68) -> 0 | M60: =SUM(M61:M68) -> 0 | O60: =SUM(O61:O68) -> 35.5 | Q60: =SUM(Q61:Q68) -> 0 | V60: =SUM(V61:V68) -> 131.15 | AG60: DIL
A61: 25 | B61: 311211123R00 | C61: Zdivo nadzákladové z lomového kamene na MVC 2,5 | D61: m3 | E61: 11.319 | G61: =ROUND(E61*F61,2) -> 0 | I61: =ROUND(E61*H61,2) -> 0 | K61: =ROUND(E61*J61,2) -> 0 | L61: 15 | M61: =G61*(1+L61/100) -> 0 | N61: 2.68355 | O61: =ROUND(E61*N61,2) -> 30.38 | P61: 0 | Q61: =ROUND(E61*P61,2) -> 0 | S61: RTS 17/ I | T61: Indiv | U61: 4.355 | V61: =ROUND(E61*U61,2) -> 49.29 | AG61: POL1_9
C62: neopracované pod omítku, | AG62: SPI
A63: 26 | B63: 311211129R00 | C63: Zdivo nadzákladové z lomového kamene příplatky za oboustranné lícování zdiva | D63: m3 | E63: 11.319 | G63: =ROUND(E63*F63,2) -> 0 | I63: =ROUND(E63*H63,2) -> 0 | K63: =ROUND(E63*J63,2) -> 0 | L63: 15 | M63: =G63*(1+L63/100) -> 0 | N63: 0 | O63: =ROUND(E63*N63,2) -> 0 | P63: 0 | Q63: =ROUND(E63*P63,2) -> 0 | S63: RTS 17/ I | T63: Indiv | U63: 4.595 | V63: =ROUND(E63*U63,2) -> 52.01 | AG63: POL1_9
C64: neopracované pod omítku, | AG64: SPI
A65: 27 | B65: 627452101R00 | C65: Spárování maltou cementovou zapuštěné rovné_x000D_ zdí z kamene, cementovou maltou | D65: m2 | E65: 11.319 | G65: =ROUND(E65*F65,2) -> 0 | I65: =ROUND(E65*H65,2) -> 0 | K65: =ROUND(E65*J65,2) -> 0 | L65: 15 | M65: =G65*(1+L65/100) -> 0 | N65: 0.02214 | O65: =ROUND(E65*N65,2) -> 0.25 | P65: 0 | Q65: =ROUND(E65*P65,2) -> 0 | S65: RTS 17/ I | T65: Indiv | U65: 1.248 | V65: =ROUND(E65*U65,2) -> 14.13 | AG65: POL1_9
C66: pro spárování (400 kg cementu/m3) | AG66: SPI
A67: 28 | B67: 311200001RA0 | C67: Zdivo z kamene neopracovaného, jednostranně lícované, spárované | D67: m3 | E67: 1.8 | G67: =ROUND(E67*F67,2) -> 0 | I67: =ROUND(E67*H67,2) -> 0 | K67: =ROUND(E67*J67,2) -> 0 | L67: 15 | M67: =G67*(1+L67/100) -> 0 | N67: 2.70569 | O67: =ROUND(E67*N67,2) -> 4.87 | P67: 0 | Q67: =ROUND(E67*P67,2) -> 0 | S67: RTS 17/ I | T67: Indiv | U67: 8.73065 | V67: =ROUND(E67*U67,2) -> 15.72 | AG67: POL2_9
C68: jednostranně lícované, včetně spárování. | AG68: SPI
A69: Díl: | B69: 4 | C69: Vodorovné konstrukce | G69: =SUMIF(AG70:AG81,"<>NOR",G70:G81) -> 0 | I69: =SUM(I70:I81) -> 0 | K69: =SUM(K70:K81) -> 0 | M69: =SUM(M70:M81) -> 0 | O69: =SUM(O70:O81) -> 29.31 | Q69: =SUM(Q70:Q81) -> 0 | V69: =SUM(V70:V81) -> 146.9 | AG69: DIL
A70: 29 | B70: 416021122R00 | C70: Podhledy na kovové konstrukci opláštěné deskami sádrokartonovými nosná konstrukce z profilů CD s přímým uchycením 1x deska, tloušťky 12,5 mm, protipožární | D70: m2 | E70: 34.8 | G70: =ROUND(E70*F70,2) -> 0 | I70: =ROUND(E70*H70,2) -> 0 | K70: =ROUND(E70*J70,2) -> 0 | L70: 15 | M70: =G70*(1+L70/100) -> 0 | N70: 0.01323 | O70: =ROUND(E70*N70,2) -> 0.46 | P70: 0 | Q70: =ROUND(E70*P70,2) -> 0 | S70: RTS 17/ I | T70: Indiv | U70: 0.95 | V70: =ROUND(E70*U70,2) -> 33.06 | AG70: POL1_9
A71: 30 | B71: 421958111R00 | C71: Lávka dřevěná ve strži s dřevěným zábradlím | D71: m2 | E71: 5.4 | G71: =ROUND(E71*F71,2) -> 0 | I71: =ROUND(E71*H71,2) -> 0 | K71: =ROUND(E71*J71,2) -> 0 | L71: 15 | M71: =G71*(1+L71/100) -> 0 | N71: 0.16268 | O71: =ROUND(E71*N71,2) -> 0.88 | P71: 0 | Q71: =ROUND(E71*P71,2) -> 0 | S71: RTS 17/ I | T71: Indiv | U71: 1.259 | V71: =ROUND(E71*U71,2) -> 6.8 | AG71: POL1_
A72: 31 | B72: 430321414R00 | C72: Beton schodišťových konstrukcí (stupňů, schodnic, ramen, podest s nosníky) železový třídy C 25/30 | D72: m3 | E72: 10.6 | G72: =ROUND(E72*F72,2) -> 0 | I72: =ROUND(E72*H72,2) -> 0 | K72: =ROUND(E72*J72,2) -> 0 | L72: 15 | M72: =G72*(1+L72/100) -> 0 | N72: 2.52508 | O72: =ROUND(E72*N72,2) -> 26.77 | P72: 0 | Q72: =ROUND(E72*P72,2) -> 0 | S72: RTS 17/ I | T72: Indiv | U72: 3.7695 | V72: =ROUND(E72*U72,2) -> 39.96 | AG72: POL1_9
A73: 32 | B73: 430361821R00 | C73: Výztuž schodišťových konstrukcí (stupňů, schodnic, ramen, podest s nosníky) z betonářské oceli 10505 | D73: t | E73: 0.36 | G73: =ROUND(E73*F73,2) -> 0 | I73: =ROUND(E73*H73,2) -> 0 | K73: =ROUND(E73*J73,2) -> 0 | L73: 15 | M73: =G73*(1+L73/100) -> 0 | N73: 1.02092 | O73: =ROUND(E73*N73,2) -> 0.37 | P73: 0 | Q73: =ROUND(E73*P73,2) -> 0 | S73: RTS 17/ I | T73: Indiv | U73: 54.168 | V73: =ROUND(E73*U73,2) -> 19.5 | AG73: POL1_9
A74: 33 | B74: 431351121R00 | C74: Bednění podest a podstupňových desek přímočarých zřízení | D74: m2 | E74: 17.8216 | G74: =ROUND(E74*F74,2) -> 0 | I74: =ROUND(E74*H74,2) -> 0 | K74: =ROUND(E74*J74,2) -> 0 | L74: 15 | M74: =G74*(1+L74/100) -> 0 | N74: 0.04597 | O74: =ROUND(E74*N74,2) -> 0.82 | P74: 0 | Q74: =ROUND(E74*P74,2) -> 0 | S74: RTS 17/ I | T74: Indiv | U74: 2.3 | V74: =ROUND(E74*U74,2) -> 40.99 | AG74: POL1_9
C75: včetně podpěrné konstrukce o výšce do 4 m | AG75: SPI
A76: 34 | B76: 431351122R00 | C76: Bednění podest a podstupňových desek přímočarých odstranění | D76: m2 | E76: 17.8216 | G76: =ROUND(E76*F76,2) -> 0 | I76: =ROUND(E76*H76,2) -> 0 | K76: =ROUND(E76*J76,2) -> 0 | L76: 15 | M76: =G76*(1+L76/100) -> 0 | N76: 0 | O76: =ROUND(E76*N76,2) -> 0 | P76: 0 | Q76: =ROUND(E76*P76,2) -> 0 | S76: RTS 17/ I | T76: Indiv | U76: 0.338 | V76: =ROUND(E76*U76,2) -> 6.02 | AG76: POL1_9
C77: včetně podpěrné konstrukce o výšce do 4 m | AG77: SPI
A78: 35 | B78: 433351138R00 | C78: Bednění schodnic příplatek za podpěrnou konstrukci o výšce přes 4 do 6 m zřízení | D78: m2 | E78: 2.4112 | G78: =ROUND(E78*F78,2) -> 0 | I78: =ROUND(E78*H78,2) -> 0 | K78: =ROUND(E78*J78,2) -> 0 | L78: 15 | M78: =G78*(1+L78/100) -> 0 | N78: 0.0023 | O78: =ROUND(E78*N78,2) -> 0.01 | P78: 0 | Q78: =ROUND(E78*P78,2) -> 0 | S78: RTS 17/ I | T78: Indiv | U78: 0.194 | V78: =ROUND(E78*U78,2) -> 0.47 | AG78: POL1_9
C79: včetně podpěrné konstrukce do výšky 4 m, | AG79: SPI
A80: 36 | B80: 433351139R00 | C80: Bednění schodnic příplatek za podpěrnou konstrukci o výšce přes 4 do 6 m odstranění | D80: m2 | E80: 2.4112 | G80: =ROUND(E80*F80,2) -> 0 | I80: =ROUND(E80*H80,2) -> 0 | K80: =ROUND(E80*J80,2) -> 0 | L80: 15 | M80: =G80*(1+L80/100) -> 0 | N80: 0 | O80: =ROUND(E80*N80,2) -> 0 | P80: 0 | Q80: =ROUND(E80*P80,2) -> 0 | S80: RTS 17/ I | T80: Indiv | U80: 0.04 | V80: =ROUND(E80*U80,2) -> 0.1 | AG80: POL1_9
C81: včetně podpěrné konstrukce do výšky 4 m, | AG81: SPI
A82: Díl: | B82: 63 | C82: Podlahy a podlahové konstrukce | G82: =SUMIF(AG83:AG84,"<>NOR",G83:G84) -> 0 | I82: =SUM(I83:I84) -> 0 | K82: =SUM(K83:K84) -> 0 | M82: =SUM(M83:M84) -> 0 | O82: =SUM(O83:O84) -> 7.83 | Q82: =SUM(Q83:Q84) -> 0 | V82: =SUM(V83:V84) -> 8 | AG82: DIL
A83: 37 | B83: 631313411R00 | C83: Mazanina z betonu prostého tl. přes 80 do 120 mm třídy C 8/10 | D83: m3 | E83: 3.1 | G83: =ROUND(E83*F83,2) -> 0 | I83: =ROUND(E83*H83,2) -> 0 | K83: =ROUND(E83*J83,2) -> 0 | L83: 15 | M83: =G83*(1+L83/100) -> 0 | N83: 2.525 | O83: =ROUND(E83*N83,2) -> 7.83 | P83: 0 | Q83: =ROUND(E83*P83,2) -> 0 | S83: RTS 17/ I | T83: Indiv | U83: 2.58 | V83: =ROUND(E83*U83,2) -> 8 | AG83: POL1_9
C84: (z kameniva) hlazená dřevěným hladítkem | AG84: SPI
A85: Díl: | B85: 95 | C85: Dokončovací konstrukce na pozemních stavbách | G85: =SUMIF(AG86:AG86,"<>NOR",G86:G86) -> 0 | I85: =SUM(I86:I86) -> 0 | K85: =SUM(K86:K86) -> 0 | M85: =SUM(M86:M86) -> 0 | O85: =SUM(O86:O86) -> 0 | Q85: =SUM(Q86:Q86) -> 0 | V85: =SUM(V86:V86) -> 0.47 | AG85: DIL
A86: 38 | B86: 953981103R00 | C86: Chemické kotvy do betonu, do cihelného zdiva do betonu, hloubky 110 mm, M 12, ampule pro chemickou kotvu | D86: kus | E86: 2.945 | G86: =ROUND(E86*F86,2) -> 0 | I86: =ROUND(E86*H86,2) -> 0 | K86: =ROUND(E86*J86,2) -> 0 | L86: 15 | M86: =G86*(1+L86/100) -> 0 | N86: 0 | O86: =ROUND(E86*N86,2) -> 0 | P86: 0 | Q86: =ROUND(E86*P86,2) -> 0 | S86: RTS 17/ I | T86: Indiv | U86: 0.158 | V86: =ROUND(E86*U86,2) -> 0.47 | AG86: POL1_9
A87: Díl: | B87: 99 | C87: Staveništní přesun hmot | G87: =SUMIF(AG88:AG89,"<>NOR",G88:G89) -> 0 | I87: =SUM(I88:I89) -> 0 | K87: =SUM(K88:K89) -> 0 | M87: =SUM(M88:M89) -> 0 | O87: =SUM(O88:O89) -> 0 | Q87: =SUM(Q88:Q89) -> 0 | V87: =SUM(V88:V89) -> 166.24 | AG87: DIL
A88: 39 | B88: 998011001R00 | C88: Přesun hmot pro budovy s nosnou konstrukcí zděnou výšky do 6 m | D88: t | E88: 195.11273 | G88: =ROUND(E88*F88,2) -> 0 | I88: =ROUND(E88*H88,2) -> 0 | K88: =ROUND(E88*J88,2) -> 0 | L88: 15 | M88: =G88*(1+L88/100) -> 0 | N88: 0 | O88: =ROUND(E88*N88,2) -> 0 | P88: 0 | Q88: =ROUND(E88*P88,2) -> 0 | S88: RTS 17/ I | T88: Indiv | U88: 0.852 | V88: =ROUND(E88*U88,2) -> 166.24 | AG88: POL1_9
C89: přesun hmot pro budovy občanské výstavby (JKSO 801), budovy pro bydlení (JKSO 803) budovy pro výrobu a služby (JKSO 812) s nosnou svislou konstrukcí zděnou z cihel nebo tvárnic nebo kovovou | AG89: SPI | BA89: =C89 -> přesun hmot pro budovy občanské výstavby (JKSO 801), budovy pro bydlení (JKSO 803) budovy pro výrobu a služby (JKSO 812) s nosnou svislou konstrukcí zděnou z cihel nebo tvárnic nebo kovovou
A90: Díl: | B90: 713 | C90: Izolace tepelné | G90: =SUMIF(AG91:AG91,"<>NOR",G91:G91) -> 0 | I90: =SUM(I91:I91) -> 0 | K90: =SUM(K91:K91) -> 0 | M90: =SUM(M91:M91) -> 0 | O90: =SUM(O91:O91) -> 0.01 | Q90: =SUM(Q91:Q91) -> 0 | V90: =SUM(V91:V91) -> 8.64 | AG90: DIL
A91: 40 | B91: 713111211RO2 | C91: Montáž tepelné izolace stropů parotěsná zábrana krovů spodem s přelepením spojů, včetně dodávky fólie | D91: m2 | E91: 48 | G91: =ROUND(E91*F91,2) -> 0 | I91: =ROUND(E91*H91,2) -> 0 | K91: =ROUND(E91*J91,2) -> 0 | L91: 15 | M91: =G91*(1+L91/100) -> 0 | N91: 0.00012 | O91: =ROUND(E91*N91,2) -> 0.01 | P91: 0 | Q91: =ROUND(E91*P91,2) -> 0 | S91: RTS 17/ I | T91: Indiv | U91: 0.18 | V91: =ROUND(E91*U91,2) -> 8.64 | AG91: POL1_9
A92: Díl: | B92: 762 | C92: Konstrukce tesařské | G92: =SUMIF(AG93:AG107,"<>NOR",G93:G107) -> 0 | I92: =SUM(I93:I107) -> 0 | K92: =SUM(K93:K107) -> 0 | M92: =SUM(M93:M107) -> 0 | O92: =SUM(O93:O107) -> 13.61 | Q92: =SUM(Q93:Q107) -> 0 | V92: =SUM(V93:V107) -> 83.3 | AG92: DIL
A93: 41 | B93: 762114110R00 | C93: Konstrukce stěn a příček na hladko montáž_x000D_ z hraněného a polohraněného řeziva spojovaného ocelovými spojkami, průřezové plochy do 120 cm2 | D93: m | E93: 9.31 | G93: =ROUND(E93*F93,2) -> 0 | I93: =ROUND(E93*H93,2) -> 0 | K93: =ROUND(E93*J93,2) -> 0 | L93: 15 | M93: =G93*(1+L93/100) -> 0 | N93: 0.0002 | O93: =ROUND(E93*N93,2) -> 0 | P93: 0 | Q93: =ROUND(E93*P93,2) -> 0 | S93: RTS 17/ I | T93: Indiv | U93: 0.2028 | V93: =ROUND(E93*U93,2) -> 1.89 | AG93: POL1_9
A94: 42 | B94: 762822110R00 | C94: Stropnice montáž_x000D_ z hraněného a polohraněného řeziva s trámovými výměnami, průřezové plochy do 144 cm2 | D94: m | E94: 74 | G94: =ROUND(E94*F94,2) -> 0 | I94: =ROUND(E94*H94,2) -> 0 | K94: =ROUND(E94*J94,2) -> 0 | L94: 15 | M94: =G94*(1+L94/100) -> 0 | N94: 0.00016 | O94: =ROUND(E94*N94,2) -> 0.01 | P94: 0 | Q94: =ROUND(E94*P94,2) -> 0 | S94: RTS 17/ I | T94: Indiv | U94: 0.118 | V94: =ROUND(E94*U94,2) -> 8.73 | AG94: POL1_9
A95: 43 | B95: 762895000R00 | C95: Spojovací a ochranné prostředky hřebíky, svory, impregnace | D95: m3 | E95: 0.65772 | G95: =ROUND(E95*F95,2) -> 0 | I95: =ROUND(E95*H95,2) -> 0 | K95: =ROUND(E95*J95,2) -> 0 | L95: 15 | M95: =G95*(1+L95/100) -> 0 | N95: 0.00311 | O95: =ROUND(E95*N95,2) -> 0 | P95: 0 | Q95: =ROUND(E95*P95,2) -> 0 | S95: RTS 17/ I | T95: Indiv | U95: 0 | V95: =ROUND(E95*U95,2) -> 0 | AG95: POL1_9
A96: 44 | B96: 762911113R00 | C96: Impregnace řeziva máčením, ochrana proti termitům, dřevokazným houbám, plísním a dřevokaznému hmyzu | D96: m2 | E96: 2.9 | G96: =ROUND(E96*F96,2) -> 0 | I96: =ROUND(E96*H96,2) -> 0 | K96: =ROUND(E96*J96,2) -> 0 | L96: 15 | M96: =G96*(1+L96/100) -> 0 | N96: 4e-05 | O96: =ROUND(E96*N96,2) -> 0 | P96: 0 | Q96: =ROUND(E96*P96,2) -> 0 | S96: RTS 17/ I | T96: Indiv | U96: 0 | V96: =ROUND(E96*U96,2) -> 0 | AG96: POL1_9
A97: 45 | B97: 76252OA0 | C97: Konstrukce nosná - terasa, včt dodávky řeziva dub,akat | D97: m3 | E97: 11 | G97: =ROUND(E97*F97,2) -> 0 | I97: =ROUND(E97*H97,2) -> 0 | K97: =ROUND(E97*J97,2) -> 0 | L97: 15 | M97: =G97*(1+L97/100) -> 0 | N97: 0.59695 | O97: =ROUND(E97*N97,2) -> 6.57 | P97: 0 | Q97: =ROUND(E97*P97,2) -> 0 | S97: Vlastní | T97: Indiv | U97: 0 | V97: =ROUND(E97*U97,2) -> 0 | AG97: POL1_9
A98: 46 | B98: 762520310RAC | C98: Podlahy z desek a fošen z prken hoblovaných, na pero a drážku, na polštáře á 1 m, tloušťky 50 mm, včetně impregnace řeziva | D98: m2 | E98: 119.37 | G98: =ROUND(E98*F98,2) -> 0 | I98: =ROUND(E98*H98,2) -> 0 | K98: =ROUND(E98*J98,2) -> 0 | L98: 15 | M98: =G98*(1+L98/100) -> 0 | N98: 0.0363 | O98: =ROUND(E98*N98,2) -> 4.33 | P98: 0 | Q98: =ROUND(E98*P98,2) -> 0 | S98: RTS 17/ I | T98: Indiv | U98: 0.60756 | V98: =ROUND(E98*U98,2) -> 72.52 | AG98: POL2_9
C99: Položení polštářů pod podlahy o osové vzdálenosti do 1 m, položení a přibití hoblovaných prken, spojovací a ochranné prostředky, dodávka a impregnace materiálu. | AG99: POP | BA99: =C99 -> Položení polštářů pod podlahy o osové vzdálenosti do 1 m, položení a přibití hoblovaných prken, spojovací a ochranné prostředky, dodávka a impregnace materiálu.
A100: 47 | B100: 31148620R | C100: vrut zapuštěná hlava, do dřeva; ocelový; d = 6,0 mm; l = 90,0 mm; povrch. úprava cementováno a kaleno, žlutý zinek | D100: 1000ks | E100: 1.7 | G100: =ROUND(E100*F100,2) -> 0 | I100: =ROUND(E100*H100,2) -> 0 | K100: =ROUND(E100*J100,2) -> 0 | L100: 15 | M100: =G100*(1+L100/100) -> 0 | N100: 0.01 | O100: =ROUND(E100*N100,2) -> 0.02 | P100: 0 | Q100: =ROUND(E100*P100,2) -> 0 | S100: RTS 17/ I | T100: Indiv | U100: 0 | V100: =ROUND(E100*U100,2) -> 0 | AG100: POL3_0
A101: 48 | B101: 311755216R | C101: prvek spojovací úhelník statický s otvory a výztuhou; tl.2,5 mm, šířka 65 mm; ocelový plech žárově pozinkovaný,jako spojovací materiál slouží kroužkové (konvexní) hřebíky pr.4mm nebo vruty,svorníky a matice | D101: kus | E101: 2.0911 | G101: =ROUND(E101*F101,2) -> 0 | I101: =ROUND(E101*H101,2) -> 0 | K101: =ROUND(E101*J101,2) -> 0 | L101: 15 | M101: =G101*(1+L101/100) -> 0 | N101: 0.00023 | O101: =ROUND(E101*N101,2) -> 0 | P101: 0 | Q101: =ROUND(E101*P101,2) -> 0 | S101: RTS 17/ I | T101: Indiv | U101: 0 | V101: =ROUND(E101*U101,2) -> 0 | AG101: POL3_0
A102: 49 | B102: 60515804R | C102: hranol SM; konstrukční, masivní; tl = 40,0 mm; š = 140 mm; l = 5 000,0 mm; pro konstrukce nepohledové | D102: m3 | E102: 0.389 | G102: =ROUND(E102*F102,2) -> 0 | I102: =ROUND(E102*H102,2) -> 0 | K102: =ROUND(E102*J102,2) -> 0 | L102: 15 | M102: =G102*(1+L102/100) -> 0 | N102: 0.5 | O102: =ROUND(E102*N102,2) -> 0.19 | P102: 0 | Q102: =ROUND(E102*P102,2) -> 0 | S102: RTS 17/ I | T102: Indiv | U102: 0 | V102: =ROUND(E102*U102,2) -> 0 | AG102: POL3_0
...

Sheet SO 05 SO 05 Pol
A1: Položkový soupis prací a dodávek | AG1: #TypZaznamu#
A2: S: | B2: 001_v3 | C2: OBNOVA LESOPARKU HRADISKO A KALVÁRIE - HRADISKO | AG2: STA
A3: O: | B3: SO 05 | C3: Přírodní amfiteátr | AC3: STA | AG3: OBJ
A4: R: | B4: SO 05 | C4: Přírodní amfiteátr | AG4: ROZ
A6: P.č. | B6: Číslo položky | C6: Název položky | D6: MJ | E6: množství | F6: cena / MJ | G6: Celkem | H6: Dodávka | I6: Dodávka celk. | J6: Montáž | K6: Montáž celk. | L6: DPH | M6: cena s DPH | N6: hmotnost / MJ | O6: hmotnost celk.(t) | P6: dem. hmotnost / MJ | Q6: dem. hmotnost celk.(t) | R6: Ceník | S6: Cen. soustava / platnost | T6: Cenová úroveň | U6: Nhod / MJ | V6: Nhod celk. | W6: Dodavatel
A8: Díl: | B8: 99 | C8: Staveništní přesun hmot | G8: =SUMIF(AG9:AG10,"<>NOR",G9:G10) -> 0 | I8: =SUM(I9:I10) -> 0 | K8: =SUM(K9:K10) -> 0 | M8: =SUM(M9:M10) -> 0 | O8: =SUM(O9:O10) -> 0 | Q8: =SUM(Q9:Q10) -> 0 | V8: =SUM(V9:V10) -> 1.78 | AG8: DIL
A9: 1 | B9: 998011001R00 | C9: Přesun hmot pro budovy s nosnou konstrukcí zděnou výšky do 6 m | D9: t | E9: 2.09333 | G9: =ROUND(E9*F9,2) -> 0 | I9: =ROUND(E9*H9,2) -> 0 | K9: =ROUND(E9*J9,2) -> 0 | L9: 15 | M9: =G9*(1+L9/100) -> 0 | N9: 0 | O9: =ROUND(E9*N9,2) -> 0 | P9: 0 | Q9: =ROUND(E9*P9,2) -> 0 | S9: RTS 17/ I | T9: Indiv | U9: 0.852 | V9: =ROUND(E9*U9,2) -> 1.78 | AG9: POL1_9
C10: přesun hmot pro budovy občanské výstavby (JKSO 801), budovy pro bydlení (JKSO 803) budovy pro výrobu a služby (JKSO 812) s nosnou svislou konstrukcí zděnou z cihel nebo tvárnic nebo kovovou | AG10: SPI | BA10: =C10 -> přesun hmot pro budovy občanské výstavby (JKSO 801), budovy pro bydlení (JKSO 803) budovy pro výrobu a služby (JKSO 812) s nosnou svislou konstrukcí zděnou z cihel nebo tvárnic nebo kovovou
A11: Díl: | B11: 766 | C11: Konstrukce truhlářské | G11: =SUMIF(AG12:AG23,"<>NOR",G12:G23) -> 0 | I11: =SUM(I12:I23) -> 0 | K11: =SUM(K12:K23) -> 0 | M11: =SUM(M12:M23) -> 0 | O11: =SUM(O12:O23) -> 0.39 | Q11: =SUM(Q12:Q23) -> 0 | V11: =SUM(V12:V23) -> 13.33 | AG11: DIL
A12: 2 | B12: 766699211R00 | C12: Ostatní montáž desek lavic upevněných na jakoukoliv konstrukci_x000D_ šířky do 500 mm | D12: m | E12: 30 | G12: =ROUND(E12*F12,2) -> 0 | I12: =ROUND(E12*H12,2) -> 0 | K12: =ROUND(E12*J12,2) -> 0 | L12: 15 | M12: =G12*(1+L12/100) -> 0 | N12: 1e-05 | O12: =ROUND(E12*N12,2) -> 0 | P12: 0 | Q12: =ROUND(E12*P12,2) -> 0 | S12: RTS 17/ I | T12: Indiv | U12: 0.415 | V12: =ROUND(E12*U12,2) -> 12.45 | AG12: POL1_9
C13: Převzatá hodnota množství z položky : 30 | E13: 30 | AG13: VV | AH13: 0
C14: Začátek provozního součtu | AG14: VV
C15: 2,5*12 | E15: 30 | AG15: VV | AH15: 2
C16: Konec provozního součtu | AG16: VV
A17: 3 | B17: 60554704R | C17: fošna DB; tl = 60,0 mm; l = 2 500 až 6 000 mm; jakost II; neomítané | D17: m3 | E17: 0.504 | G17: =ROUND(E17*F17,2) -> 0 | I17: =ROUND(E17*H17,2) -> 0 | K17: =ROUND(E17*J17,2) -> 0 | L17: 15 | M17: =G17*(1+L17/100) -> 0 | N17: 0.77 | O17: =ROUND(E17*N17,2) -> 0.39 | P17: 0 | Q17: =ROUND(E17*P17,2) -> 0 | S17: RTS 17/ I | T17: Indiv | U17: 0 | V17: =ROUND(E17*U17,2) -> 0 | AG17: POL3_0
C18: Převzatá hodnota množství z položky : 0,504 | E18: 0.5 | AG18: VV | AH18: 0
C19: Začátek provozního součtu | AG19: VV
C20: sedáky vč. prořezu: : 0,35*0,04*2,5*12*1,2 | E20: 0.5 | AG20: VV | AH20: 2
C21: Konec provozního součtu | AG21: VV
A22: 4 | B22: 998766101R00 | C22: Přesun hmot pro konstrukce truhlářské v objektech výšky do 6 m | D22: t | E22: 0.38838 | G22: =ROUND(E22*F22,2) -> 0 | I22: =ROUND(E22*H22,2) -> 0 | K22: =ROUND(E22*J22,2) -> 0 | L22: 15 | M22: =G22*(1+L22/100) -> 0 | N22: 0 | O22: =ROUND(E22*N22,2) -> 0 | P22: 0 | Q22: =ROUND(E22*P22,2) -> 0 | S22: RTS 17/ I | T22: Indiv | U22: 2.255 | V22: =ROUND(E22*U22,2) -> 0.88 | AG22: POL1_9
C23: 50 m vodorovně | AG23: SPI
A24: Díl: | B24: 767 | C24: Konstrukce zámečnické | G24: =SUMIF(AG25:AG29,"<>NOR",G25:G29) -> 0 | I24: =SUM(I25:I29) -> 0 | K24: =SUM(K25:K29) -> 0 | M24: =SUM(M25:M29) -> 0 | O24: =SUM(O25:O29) -> 0 | Q24: =SUM(Q25:Q29) -> 0 | V24: =SUM(V25:V29) -> 22.49 | AG24: DIL
A25: 5 | B25: 767995101R00 | C25: Výroba a montáž atypických kovovových doplňků staveb hmotnosti do 5 kg | D25: kg | E25: 52.8 | G25: =ROUND(E25*F25,2) -> 0 | I25: =ROUND(E25*H25,2) -> 0 | K25: =ROUND(E25*J25,2) -> 0 | L25: 15 | M25: =G25*(1+L25/100) -> 0 | N25: 6e-05 | O25: =ROUND(E25*N25,2) -> 0 | P25: 0 | Q25: =ROUND(E25*P25,2) -> 0 | S25: RTS 17/ I | T25: Indiv | U25: 0.426 | V25: =ROUND(E25*U25,2) -> 22.49 | AG25: POL1_9
C26: Převzatá hodnota množství z položky : 52,8 | E26: 52.8 | AG26: VV | AH26: 0
C27: Začátek provozního součtu | AG27: VV
C28: jakl - 1,1 kg/m délky: : 1,1*4*12 | E28: 52.8 | AG28: VV | AH28: 2
C29: Konec provozního součtu | AG29: VV
A30: Díl: | B30: 2 | C30: Základy a zvláštní zakládání | G30: =SUMIF(AG31:AG32,"<>NOR",G31:G32) -> 0 | I30: =SUM(I31:I32) -> 0 | K30: =SUM(K31:K32) -> 0 | M30: =SUM(M31:M32) -> 0 | O30: =SUM(O31:O32) -> 5.23 | Q30: =SUM(Q31:Q32) -> 0 | V30: =SUM(V31:V32) -> 4.46 | AG30: DIL
A31: 6 | B31: 212810010RAA | C31: Trativody z flexibilních trubek lože ze štěrkopísku a obsyp z drceného kameniva, d 50 mm | D31: m | E31: 12 | G31: =ROUND(E31*F31,2) -> 0 | I31: =ROUND(E31*H31,2) -> 0 | K31: =ROUND(E31*J31,2) -> 0 | L31: 15 | M31: =G31*(1+L31/100) -> 0 | N31: 0.43619 | O31: =ROUND(E31*N31,2) -> 5.23 | P31: 0 | Q31: =ROUND(E31*P31,2) -> 0 | S31: RTS 17/ I | T31: Indiv | U31: 0.37163 | V31: =ROUND(E31*U31,2) -> 4.46 | AG31: POL2_
C32: Lože pro trativody, položení trubek, obsyp potrubí sypaninou z vhodných hornin, nebo materiálem připraveným podél výkopu ve vzdálenosti do 3 m od jeho kraje. Bez výkopu rýhy. | AG32: SPI | BA32: =C32 -> Lože pro trativody, položení trubek, obsyp potrubí sypaninou z vhodných hornin, nebo materiálem připraveným podél výkopu ve vzdálenosti do 3 m od jeho kraje. Bez výkopu rýhy.
A33: Díl: | B33: 767 | C33: Konstrukce zámečnické | G33: =SUMIF(AG34:AG35,"<>NOR",G34:G35) -> 0 | I33: =SUM(I34:I35) -> 0 | K33: =SUM(K34:K35) -> 0 | M33: =SUM(M34:M35) -> 0 | O33: =SUM(O34:O35) -> 0 | Q33: =SUM(Q34:Q35) -> 0 | V33: =SUM(V34:V35) -> 0.01 | AG33: DIL
A34: 7 | B34: 998767101R00 | C34: Přesun hmot pro kovové stavební doplňk. konstrukce v objektech výšky do 6 m | D34: t | E34: 0.00317 | G34: =ROUND(E34*F34,2) -> 0 | I34: =ROUND(E34*H34,2) -> 0 | K34: =ROUND(E34*J34,2) -> 0 | L34: 15 | M34: =G34*(1+L34/100) -> 0 | N34: 0 | O34: =ROUND(E34*N34,2) -> 0 | P34: 0 | Q34: =ROUND(E34*P34,2) -> 0 | S34: RTS 17/ I | T34: Indiv | U34: 3.327 | V34: =ROUND(E34*U34,2) -> 0.01 | AG34: POL1_9
C35: 50 m vodorovně | AG35: SPI
A36: Díl: | B36: 1 | C36: Zemní práce | G36: =SUMIF(AG37:AG42,"<>NOR",G37:G42) -> 0 | I36: =SUM(I37:I42) -> 0 | K36: =SUM(K37:K42) -> 0 | M36: =SUM(M37:M42) -> 0 | O36: =SUM(O37:O42) -> 0 | Q36: =SUM(Q37:Q42) -> 0 | V36: =SUM(V37:V42) -> 1.89 | AG36: DIL
A37: 8 | B37: 122201101R00 | C37: Odkopávky a prokopávky nezapažené v hornině 3_x000D_ do 100 m3 | D37: m3 | E37: 2.88 | G37: =ROUND(E37*F37,2) -> 0 | I37: =ROUND(E37*H37,2) -> 0 | K37: =ROUND(E37*J37,2) -> 0 | L37: 15 | M37: =G37*(1+L37/100) -> 0 | N37: 0 | O37: =ROUND(E37*N37,2) -> 0 | P37: 0 | Q37: =ROUND(E37*P37,2) -> 0 | S37: RTS 17/ I | T37: Indiv | U37: 0.368 | V37: =ROUND(E37*U37,2) -> 1.06 | AG37: POL1_9
C38: s přehozením výkopku na vzdálenost do 3 m nebo s naložením na dopravní prostředek, | AG38: SPI
A39: 9 | B39: 122201109R00 | C39: Odkopávky a prokopávky nezapažené v hornině 3_x000D_ příplatek k cenám za lepivost horniny | D39: m3 | E39: 2.88 | G39: =ROUND(E39*F39,2) -> 0 | I39: =ROUND(E39*H39,2) -> 0 | K39: =ROUND(E39*J39,2) -> 0 | L39: 15 | M39: =G39*(1+L39/100) -> 0 | N39: 0 | O39: =ROUND(E39*N39,2) -> 0 | P39: 0 | Q39: =ROUND(E39*P39,2) -> 0 | S39: RTS 17/ I | T39: Indiv | U39: 0.058 | V39: =ROUND(E39*U39,2) -> 0.17 | AG39: POL1_9
C40: s přehozením výkopku na vzdálenost do 3 m nebo s naložením na dopravní prostředek, | AG40: SPI
A41: 10 | B41: 132201111R00 | C41: Hloubení rýh šířky do 60 cm do 100 m3, v hornině 3, hloubení strojně | D41: m3 | E41: 2.88 | G41: =ROUND(E41*F41,2) -> 0 | I41: =ROUND(E41*H41,2) -> 0 | K41: =ROUND(E41*J41,2) -> 0 | L41: 15 | M41: =G41*(1+L41/100) -> 0 | N41: 0 | O41: =ROUND(E41*N41,2) -> 0 | P41: 0 | Q41: =ROUND(E41*P41,2) -> 0 | S41: RTS 17/ I | T41: Indiv | U41: 0.23 | V41: =ROUND(E41*U41,2) -> 0.66 | AG41: POL1_9
C42: zapažených i nezapažených s urovnáním dna do předepsaného profilu a spádu, s přehozením výkopku na přilehlém terénu na vzdálenost do 3 m od podélné osy rýhy nebo s naložením výkopku na dopravní prostředek. | AG42: SPI | BA42: =C42 -> zapažených i nezapažených s urovnáním dna do předepsaného profilu a spádu, s přehozením výkopku na přilehlém terénu na vzdálenost do 3 m od podélné osy rýhy nebo s naložením výkopku na dopravní prostředek.
A43: Díl: | B43: 2 | C43: Základy a zvláštní zakládání | G43: =SUMIF(AG44:AG45,"<>NOR",G44:G45) -> 0 | I43: =SUM(I44:I45) -> 0 | K43: =SUM(K44:K45) -> 0 | M43: =SUM(M44:M45) -> 0 | O43: =SUM(O44:O45) -> 7.52 | Q43: =SUM(Q44:Q45) -> 0 | V43: =SUM(V44:V45) -> 1.43 | AG43: DIL
A44: 11 | B44: 274321411R00 | C44: Beton základových pasů železový třídy C 25/30 | D44: m3 | E44: 2.98 | G44: =ROUND(E44*F44,2) -> 0 | I44: =ROUND(E44*H44,2) -> 0 | K44: =ROUND(E44*J44,2) -> 0 | L44: 15 | M44: =G44*(1+L44/100) -> 0 | N44: 2.525 | O44: =ROUND(E44*N44,2) -> 7.52 | P44: 0 | Q44: =ROUND(E44*P44,2) -> 0 | S44: RTS 17/ I | T44: Indiv | U44: 0.48 | V44: =ROUND(E44*U44,2) -> 1.43 | AG44: POL1_9
C45: bez výztuže | AG45: SPI
A46: Díl: | B46: 1 | C46: Zemní práce | G46: =SUMIF(AG47:AG50,"<>NOR",G47:G50) -> 0 | I46: =SUM(I47:I50) -> 0 | K46: =SUM(K47:K50) -> 0 | M46: =SUM(M47:M50) -> 0 | O46: =SUM(O47:O50) -> 0 | Q46: =SUM(Q47:Q50) -> 0 | V46: =SUM(V47:V50) -> 1.91 | AG46: DIL
A47: 12 | B47: 132201109R00 | C47: Příplatek za lepivost - hloubení rýh 60 cm v hor.3 | D47: m3 | E47: 2.88 | G47: =ROUND(E47*F47,2) -> 0 | I47: =ROUND(E47*H47,2) -> 0 | K47: =ROUND(E47*J47,2) -> 0 | L47: 15 | M47: =G47*(1+L47/100) -> 0 | N47: 0 | O47: =ROUND(E47*N47,2) -> 0 | P47: 0 | Q47: =ROUND(E47*P47,2) -> 0 | S47: RTS 13/ I | T47: Indiv | U47: 0.654 | V47: =ROUND(E47*U47,2) -> 1.88 | AG47: POL1_9
A48: 13 | B48: 162301101R00 | C48: Vodorovné přemístění výkopku z horniny 1 až 4, na vzdálenost přes 50 do 500 m | D48: m3 | E48: 2.88 | G48: =ROUND(E48*F48,2) -> 0 | I48: =ROUND(E48*H48,2) -> 0 | K48: =ROUND(E48*J48,2) -> 0 | L48: 15 | M48: =G48*(1+L48/100) -> 0 | N48: 0 | O48: =ROUND(E48*N48,2) -> 0 | P48: 0 | Q48: =ROUND(E48*P48,2) -> 0 | S48: RTS 17/ I | T48: Indiv | U48: 0.011 | V48: =ROUND(E48*U48,2) -> 0.03 | AG48: POL1_9
C49: po suchu, bez ohledu na druh dopravního prostředku, bez naložení výkopku, avšak se složením bez rozhrnutí, | AG49: SPI | BA49: =C49 -> po suchu, bez ohledu na druh dopravního prostředku, bez naložení výkopku, avšak se složením bez rozhrnutí,
A50: 14 | B50: 354943T10I10 | C50: Nakládání výkopku z hornin tř. 1 až 4 do 100 m3 | D50: m3 | E50: 2.88 | G50: =ROUND(E50*F50,2) -> 0 | I50: =ROUND(E50*H50,2) -> 0 | K50: =ROUND(E50*J50,2) -> 0 | L50: 15 | M50: =G50*(1+L50/100) -> 0 | N50: 0 | O50: =ROUND(E50*N50,2) -> 0 | P50: 0 | Q50: =ROUND(E50*P50,2) -> 0 | S50: Vlastní | T50: Indiv | U50: 0 | V50: =ROUND(E50*U50,2) -> 0 | AG50: POL1_9
A51: Díl: | B51: 2 | C51: Základy a zvláštní zakládání | G51: =SUMIF(AG52:AG52,"<>NOR",G52:G52) -> 0 | I51: =SUM(I52:I52) -> 0 | K51: =SUM(K52:K52) -> 0 | M51: =SUM(M52:M52) -> 0 | O51: =SUM(O52:O52) -> 1.3 | Q51: =SUM(Q52:Q52) -> 0 | V51: =SUM(V52:V52) -> 0 | AG51: DIL
A52: 15 | B52: 271532212 | C52: Podsyp pod základové konstrukce se zhutněním z hrubého kameniva frakce 16 až 32 mm | D52: m3 | E52: 0.6 | G52: =ROUND(E52*F52,2) -> 0 | I52: =ROUND(E52*H52,2) -> 0 | K52: =ROUND(E52*J52,2) -> 0 | L52: 15 | M52: =G52*(1+L52/100) -> 0 | N52: 2.16 | O52: =ROUND(E52*N52,2) -> 1.3 | P52: 0 | Q52: =ROUND(E52*P52,2) -> 0 | S52: Vlastní | T52: Indiv | U52: 0 | V52: =ROUND(E52*U52,2) -> 0 | AG52: POL1_9
A53: Díl: | B53: 3 | C53: Svislé a kompletní konstrukce | G53: =SUMIF(AG54:AG58,"<>NOR",G54:G58) -> 0 | I53: =SUM(I54:I58) -> 0 | K53: =SUM(K54:K58) -> 0 | M53: =SUM(M54:M58) -> 0 | O53: =SUM(O54:O58) -> 4.69 | Q53: =SUM(Q54:Q58) -> 0 | V53: =SUM(V54:V58) -> 19.75 | AG53: DIL
A54: 16 | B54: 327212141R00 | C54: Zdivo nadzákladové zdí a valů z kamene kyklopské rovin.i zakřiv. pro jakouk. tl. na jakouk. cem. maltu, bez spárování z kamene lomařsky upraven. měkkého (vápencového, pískovcového, opukov.) | D54: m3 | E54: 1.44 | G54: =ROUND(E54*F54,2) -> 0 | I54: =ROUND(E54*H54,2) -> 0 | K54: =ROUND(E54*J54,2) -> 0 | L54: 15 | M54: =G54*(1+L54/100) -> 0 | N54: 3.25991 | O54: =ROUND(E54*N54,2) -> 4.69 | P54: 0 | Q54: =ROUND(E54*P54,2) -> 0 | S54: RTS 17/ I | T54: Indiv | U54: 13.718 | V54: =ROUND(E54*U54,2) -> 19.75 | AG54: POL1_9
C55: Převzatá hodnota množství z položky : 1,44 | E55: 1.44 | AG55: VV | AH55: 0
C56: Začátek provozního součtu | AG56: VV
C57: (0,4*0,4*3)*3 | E57: 1.44 | AG57: VV | AH57: 2
C58: Konec provozního součtu | AG58: VV
AE59: 15 | AF59: 21
B60: Celkem | G60: =G8+G11+G24+G30+G33+G36+G43+G46+G51+G53 -> 0 | AE60: =SUMIF(L7:L58,AE59,G7:G58) -> 0 | AF60: =SUMIF(L7:L58,AF59,G7:G58) -> 0 | AG60: SUM
AG61: END

Sheet SO 06 SO 06 Pol
A1: Položkový soupis prací a dodávek | AG1: #TypZaznamu#
A2: S: | B2: 001_v3 | C2: OBNOVA LESOPARKU HRADISKO A KALVÁRIE - HRADISKO | AG2: STA
A3: O: | B3: SO 06 | C3: Vegetační úpravy | AC3: STA | AG3: OBJ
A4: R: | B4: SO 06 | C4: Vegetační úpravy | AG4: ROZ
A6: P.č. | B6: Číslo položky | C6: Název položky | D6: MJ | E6: množství | F6: cena / MJ | G6: Celkem | H6: Dodávka | I6: Dodávka celk. | J6: Montáž | K6: Montáž celk. | L6: DPH | M6: cena s DPH | N6: hmotnost / MJ | O6: hmotnost celk.(t) | P6: dem. hmotnost / MJ | Q6: dem. hmotnost celk.(t) | R6: Ceník | S6: Cen. soustava / platnost | T6: Cenová úroveň | U6: Nhod / MJ | V6: Nhod celk. | W6: Dodavatel
A8: Díl: | B8: 11 | C8: Přípravné a přidružené práce | G8: =SUMIF(AG9:AG9,"<>NOR",G9:G9) -> 0 | I8: =SUM(I9:I9) -> 0 | K8: =SUM(K9:K9) -> 0 | M8: =SUM(M9:M9) -> 0 | O8: =SUM(O9:O9) -> 0 | Q8: =SUM(Q9:Q9) -> 0 | V8: =SUM(V9:V9) -> 0 | AG8: DIL
A9: 1 | B9: 0052R | C9: Vegetační úpravy, viz. samostatný rozpočet | D9: ks | E9: 1 | G9: =ROUND(E9*F9,2) -> 0 | I9: =ROUND(E9*H9,2) -> 0 | K9: =ROUND(E9*J9,2) -> 0 | L9: 15 | M9: =G9*(1+L9/100) -> 0 | N9: 0 | O9: =ROUND(E9*N9,2) -> 0 | P9: 0 | Q9: =ROUND(E9*P9,2) -> 0 | S9: Vlastní | T9: Indiv | U9: 0 | V9: =ROUND(E9*U9,2) -> 0 | AG9: POL3_0
AE10: 15 | AF10: 21
B11: Celkem | G11: =G8 -> 0 | AE11: =SUMIF(L7:L9,AE10,G7:G9) -> 0 | AF11: =SUMIF(L7:L9,AF10,G7:G9) -> 0 | AG11: SUM
AG12: END

Sheet SO 07 SO 07 Pol
A1: Položkový soupis prací a dodávek | AG1: #TypZaznamu#
A2: S: | B2: 001_v3 | C2: OBNOVA LESOPARKU HRADISKO A KALVÁRIE - HRADISKO | AG2: STA
A3: O: | B3: SO 07 | C3: Úpravy povrchů „nezpevněné chodníčky, okolí studny, schody“ | AC3: STA | AG3: OBJ
A4: R: | B4: SO 07 | C4: Úpravy povrchů „nezpevněné chodníčky, okolí studny | AG4: ROZ
A6: P.č. | B6: Číslo položky | C6: Název položky | D6: MJ | E6: množství | F6: cena / MJ | G6: Celkem | H6: Dodávka | I6: Dodávka celk. | J6: Montáž | K6: Montáž celk. | L6: DPH | M6: cena s DPH | N6: hmotnost / MJ | O6: hmotnost celk.(t) | P6: dem. hmotnost / MJ | Q6: dem. hmotnost celk.(t) | R6: Ceník | S6: Cen. soustava / platnost | T6: Cenová úroveň | U6: Nhod / MJ | V6: Nhod celk. | W6: Dodavatel
A8: Díl: | B8: 1 | C8: Zemní práce | G8: =SUMIF(AG9:AG51,"<>NOR",G9:G51) -> 0 | I8: =SUM(I9:I51) -> 0 | K8: =SUM(K9:K51) -> 0 | M8: =SUM(M9:M51) -> 0 | O8: =SUM(O9:O51) -> 0.07 | Q8: =SUM(Q9:Q51) -> 0 | V8: =SUM(V9:V51) -> 578.8 | AG8: DIL
A9: 1 | B9: 122202201R00 | C9: Odkopávky a prokopávky pro silnice v hornině 3 do 100 m3 | D9: m3 | E9: 135 | G9: =ROUND(E9*F9,2) -> 0 | I9: =ROUND(E9*H9,2) -> 0 | K9: =ROUND(E9*J9,2) -> 0 | L9: 21 | M9: =G9*(1+L9/100) -> 0 | N9: 0 | O9: =ROUND(E9*N9,2) -> 0 | P9: 0 | Q9: =ROUND(E9*P9,2) -> 0 | S9: RTS 17/ I | T9: Indiv | U9: 0.422 | V9: =ROUND(E9*U9,2) -> 56.97 | AG9: POL1_1
C10: s přemístěním výkopku v příčných profilech na vzdálenost do 15 m nebo s naložením na dopravní prostředek. | AG10: SPI | BA10: =C10 -> s přemístěním výkopku v příčných profilech na vzdálenost do 15 m nebo s naložením na dopravní prostředek.
C11: Mzk : 108 | E11: 108 | AG11: VV | AH11: 0
C12: ŠD : 27 | E12: 27 | AG12: VV | AH12: 0
A13: 2 | B13: 122202209R00 | C13: Odkopávky a prokopávky pro silnice v hornině 3 příplatek za lepivost horniny | D13: m3 | E13: 135 | G13: =ROUND(E13*F13,2) -> 0 | I13: =ROUND(E13*H13,2) -> 0 | K13: =ROUND(E13*J13,2) -> 0 | L13: 21 | M13: =G13*(1+L13/100) -> 0 | N13: 0 | O13: =ROUND(E13*N13,2) -> 0 | P13: 0 | Q13: =ROUND(E13*P13,2) -> 0 | S13: RTS 17/ I | T13: Indiv | U13: 0.088 | V13: =ROUND(E13*U13,2) -> 11.88 | AG13: POL1_1
C14: s přemístěním výkopku v příčných profilech na vzdálenost do 15 m nebo s naložením na dopravní prostředek. | AG14: SPI | BA14: =C14 -> s přemístěním výkopku v příčných profilech na vzdálenost do 15 m nebo s naložením na dopravní prostředek.
C15: Položka pořadí 1 : 135,00000 | E15: 135 | AG15: VV | AH15: 5
A16: 3 | B16: 162301102R00 | C16: Vodorovné přemístění výkopku z horniny 1 až 4, na vzdálenost přes 500 do 1 000 m | D16: m3 | E16: 135 | G16: =ROUND(E16*F16,2) -> 0 | I16: =ROUND(E16*H16,2) -> 0 | K16: =ROUND(E16*J16,2) -> 0 | L16: 21 | M16: =G16*(1+L16/100) -> 0 | N16: 0 | O16: =ROUND(E16*N16,2) -> 0 | P16: 0 | Q16: =ROUND(E16*P16,2) -> 0 | S16: RTS 17/ I | T16: Indiv | U16: 0.011 | V16: =ROUND(E16*U16,2) -> 1.49 | AG16: POL1_1
C17: po suchu, bez ohledu na druh dopravního prostředku, bez naložení výkopku, avšak se složením bez rozhrnutí, | AG17: SPI | BA17: =C17 -> po suchu, bez ohledu na druh dopravního prostředku, bez naložení výkopku, avšak se složením bez rozhrnutí,
C18: Položka pořadí 1 : 135,00000 | E18: 135 | AG18: VV | AH18: 5
A19: 4 | B19: 171201201R00 | C19: Uložení sypaniny na dočasnou skládku tak, že na 1 m2 plochy připadá přes 2 m3 výkopku nebo ornice | D19: m3 | E19: 135 | G19: =ROUND(E19*F19,2) -> 0 | I19: =ROUND(E19*H19,2) -> 0 | K19: =ROUND(E19*J19,2) -> 0 | L19: 21 | M19: =G19*(1+L19/100) -> 0 | N19: 0 | O19: =ROUND(E19*N19,2) -> 0 | P19: 0 | Q19: =ROUND(E19*P19,2) -> 0 | S19: RTS 17/ I | T19: Indiv | U19: 0.009 | V19: =ROUND(E19*U19,2) -> 1.22 | AG19: POL1_
C20: Položka pořadí 1 : 135,00000 | E20: 135 | AG20: VV | AH20: 5
A21: 5 | B21: 181101101R00 | C21: Úprava pláně v zářezech v hornině 1 až 4, bez zhutnění | D21: m2 | E21: 1000.8 | G21: =ROUND(E21*F21,2) -> 0 | I21: =ROUND(E21*H21,2) -> 0 | K21: =ROUND(E21*J21,2) -> 0 | L21: 21 | M21: =G21*(1+L21/100) -> 0 | N21: 0 | O21: =ROUND(E21*N21,2) -> 0 | P21: 0 | Q21: =ROUND(E21*P21,2) -> 0 | S21: RTS 17/ I | T21: Indiv | U21: 0.013 | V21: =ROUND(E21*U21,2) -> 13.01 | AG21: POL1_1
C22: vyrovnáním výškových rozdílů, ploch vodorovných a ploch do sklonu 1 : 5. | AG22: SPI
C23: MZK : 730,8 | E23: 730.8 | AG23: VV | AH23: 0
C24: ŠD : 270 | E24: 270 | AG24: VV | AH24: 0
A25: 6 | B25: 356212T10I10 | C25: Vodorovné přemístění do 10000 m výkopku/sypaniny z horniny tř. 1 až 4 | D25: m3 | E25: 135 | G25: =ROUND(E25*F25,2) -> 0 | I25: =ROUND(E25*H25,2) -> 0 | K25: =ROUND(E25*J25,2) -> 0 | L25: 21 | M25: =G25*(1+L25/100) -> 0 | N25: 0 | O25: =ROUND(E25*N25,2) -> 0 | P25: 0 | Q25: =ROUND(E25*P25,2) -> 0 | S25: Vlastní | T25: Indiv | U25: 0 | V25: =ROUND(E25*U25,2) -> 0 | AG25: POL1_1
C26: Položka pořadí 1 : 135,00000 | E26: 135 | AG26: VV | AH26: 5
A27: 7 | B27: 354943T10I10 | C27: Nakládání výkopku z hornin tř. 1 až 4 do 100 m3 | D27: m3 | E27: 135 | G27: =ROUND(E27*F27,2) -> 0 | I27: =ROUND(E27*H27,2) -> 0 | K27: =ROUND(E27*J27,2) -> 0 | L27: 21 | M27: =G27*(1+L27/100) -> 0 | N27: 0 | O27: =ROUND(E27*N27,2) -> 0 | P27: 0 | Q27: =ROUND(E27*P27,2) -> 0 | S27: Vlastní | T27: Indiv | U27: 0 | V27: =ROUND(E27*U27,2) -> 0 | AG27: POL1_1
C28: Položka pořadí 1 : 135,00000 | E28: 135 | AG28: VV | AH28: 5
A29: 8 | B29: 171201211 | C29: Poplatek za uložení odpadu ze sypaniny na skládce (skládkovné) | D29: t | E29: 189 | G29: =ROUND(E29*F29,2) -> 0 | I29: =ROUND(E29*H29,2) -> 0 | K29: =ROUND(E29*J29,2) -> 0 | L29: 21 | M29: =G29*(1+L29/100) -> 0 | N29: 0 | O29: =ROUND(E29*N29,2) -> 0 | P29: 0 | Q29: =ROUND(E29*P29,2) -> 0 | S29: Vlastní | T29: Indiv | U29: 0 | V29: =ROUND(E29*U29,2) -> 0 | AG29: POL1_1
C30: 339,43*1,6 | AG30: POP
A31: 9 | B31: 111203111R00 | C31: Odstranění pařezu odfrézováním až do hloubky 50 cm | D31: m2 | E31: 60 | G31: =ROUND(E31*F31,2) -> 0 | I31: =ROUND(E31*H31,2) -> 0 | K31: =ROUND(E31*J31,2) -> 0 | L31: 21 | M31: =G31*(1+L31/100) -> 0 | N31: 0 | O31: =ROUND(E31*N31,2) -> 0 | P31: 0 | Q31: =ROUND(E31*P31,2) -> 0 | S31: RTS 17/ I | T31: Indiv | U31: 2.913 | V31: =ROUND(E31*U31,2) -> 174.78 | AG31: POL1_
A32: 10 | B32: 139601102R00 | C32: Ruční výkop jam, rýh a šachet v hornině 3 | D32: m3 | E32: 18 | G32: =ROUND(E32*F32,2) -> 0 | I32: =ROUND(E32*H32,2) -> 0 | K32: =ROUND(E32*J32,2) -> 0 | L32: 21 | M32: =G32*(1+L32/100) -> 0 | N32: 0 | O32: =ROUND(E32*N32,2) -> 0 | P32: 0 | Q32: =ROUND(E32*P32,2) -> 0 | S32: RTS 17/ I | T32: Indiv | U32: 3.533 | V32: =ROUND(E32*U32,2) -> 63.59 | AG32: POL1_1
C33: s přehozením na vzdálenost do 5 m nebo s naložením na ruční dopravní prostředek | AG33: SPI
A34: 11 | B34: 167101201R00 | C34: Nakládání, skládání, překládání neulehlého výkopku nakládání, skládání, překládání neulehléno výkopku nebo zeminy - ručně_x000D_ z horniny 1 až 4 | D34: m3 | E34: 18 | G34: =ROUND(E34*F34,2) -> 0 | I34: =ROUND(E34*H34,2) -> 0 | K34: =ROUND(E34*J34,2) -> 0 | L34: 21 | M34: =G34*(1+L34/100) -> 0 | N34: 0 | O34: =ROUND(E34*N34,2) -> 0 | P34: 0 | Q34: =ROUND(E34*P34,2) -> 0 | S34: RTS 17/ I | T34: Indiv | U34: 1.938 | V34: =ROUND(E34*U34,2) -> 34.88 | AG34: POL1_
A35: 12 | B35: 171201201R00 | C35: Uložení sypaniny na dočasnou skládku tak, že na 1 m2 plochy připadá přes 2 m3 výkopku nebo ornice | D35: m3 | E35: 18 | G35: =ROUND(E35*F35,2) -> 0 | I35: =ROUND(E35*H35,2) -> 0 | K35: =ROUND(E35*J35,2) -> 0 | L35: 21 | M35: =G35*(1+L35/100) -> 0 | N35: 0 | O35: =ROUND(E35*N35,2) -> 0 | P35: 0 | Q35: =ROUND(E35*P35,2) -> 0 | S35: RTS 17/ I | T35: Indiv | U35: 0 | V35: =ROUND(E35*U35,2) -> 0 | AG35: POL12_1
A36: 13 | B36: 182301122R00 | C36: Rozprostření a urovnání ornice ve svahu v souvislé ploše do 500 m2, tloušťka vrstvy přes 100 do 150 mm | D36: m2 | E36: 150 | G36: =ROUND(E36*F36,2) -> 0 | I36: =ROUND(E36*H36,2) -> 0 | K36: =ROUND(E36*J36,2) -> 0 | L36: 21 | M36: =G36*(1+L36/100) -> 0 | N36: 0 | O36: =ROUND(E36*N36,2) -> 0 | P36: 0 | Q36: =ROUND(E36*P36,2) -> 0 | S36: RTS 17/ I | T36: Indiv | U36: 0 | V36: =ROUND(E36*U36,2) -> 0 | AG36: POL1_1
C37: s případným nutným přemístěním hromad nebo dočasných skládek na místo potřeby ze vzdálenosti do 30 m, ve svahu sklonu přes 1 : 5, | AG37: SPI | BA37: =C37 -> s případným nutným přemístěním hromad nebo dočasných skládek na místo potřeby ze vzdálenosti do 30 m, ve svahu sklonu přes 1 : 5,
A38: 14 | B38: 161101501R00 | C38: Svislé přemístění výkopku nošením z horniny 1 až 4 | D38: m3 | E38: 18 | G38: =ROUND(E38*F38,2) -> 0 | I38: =ROUND(E38*H38,2) -> 0 | K38: =ROUND(E38*J38,2) -> 0 | L38: 21 | M38: =G38*(1+L38/100) -> 0 | N38: 0 | O38: =ROUND(E38*N38,2) -> 0 | P38: 0 | Q38: =ROUND(E38*P38,2) -> 0 | S38: RTS 17/ I | T38: Indiv | U38: 3.81 | V38: =ROUND(E38*U38,2) -> 68.58 | AG38: POL1_
C39: bez naložení, avšak s vyprázdněním nádoby na hromady nebo do dopravního prostředku, na každých třeba i započatých 3 m výšky, | AG39: SPI | BA39: =C39 -> bez naložení, avšak s vyprázdněním nádoby na hromady nebo do dopravního prostředku, na každých třeba i započatých 3 m výšky,
A40: 15 | B40: 162201203R00 | C40: Vodorovné přemístění výkopku nošením z horniny 1 až 4, kolečkem, na vzdálenost do 10 m | D40: m3 | E40: 18 | G40: =ROUND(E40*F40,2) -> 0 | I40: =ROUND(E40*H40,2) -> 0 | K40: =ROUND(E40*J40,2) -> 0 | L40: 21 | M40: =G40*(1+L40/100) -> 0 | N40: 0 | O40: =ROUND(E40*N40,2) -> 0 | P40: 0 | Q40: =ROUND(E40*P40,2) -> 0 | S40: RTS 17/ I | T40: Indiv | U40: 0.668 | V40: =ROUND(E40*U40,2) -> 12.02 | AG40: POL1_
C41: bez naložení, avšak s vyprázdněním nádoby na hromadu nebo do dopravního prostředku, | AG41: SPI
A42: 16 | B42: 7491055 | C42: dřevěný sedák dřevo tvrdé akát nebo dub viz pd | D42: kus | E42: 1 | G42: =ROUND(E42*F42,2) -> 0 | I42: =ROUND(E42*H42,2) -> 0 | K42: =ROUND(E42*J42,2) -> 0 | L42: 21 | M42: =G42*(1+L42/100) -> 0 | N42: 0.0651 | O42: =ROUND(E42*N42,2) -> 0.07 | P42: 0 | Q42: =ROUND(E42*P42,2) -> 0 | S42: Vlastní | T42: Indiv | U42: 0 | V42: =ROUND(E42*U42,2) -> 0 | AG42: POL3_
A43: 17 | B43: 162201210R00 | C43: Vodorovné přemístění výkopku nošením příplatek k ceně za každých dalších 10 m_x000D_ z horniny 1 až 4, kolečkem | D43: m3 | E43: 18 | G43: =ROUND(E43*F43,2) -> 0 | I43: =ROUND(E43*H43,2) -> 0 | K43: =ROUND(E43*J43,2) -> 0 | L43: 21 | M43: =G43*(1+L43/100) -> 0 | N43: 0 | O43: =ROUND(E43*N43,2) -> 0 | P43: 0 | Q43: =ROUND(E43*P43,2) -> 0 | S43: RTS 17/ I | T43: Indiv | U43: 0.591 | V43: =ROUND(E43*U43,2) -> 10.64 | AG43: POL1_
C44: bez naložení, avšak s vyprázdněním nádoby na hromadu nebo do dopravního prostředku, | AG44: SPI
A45: 18 | B45: 162201102R00 | C45: Vodorovné přemístění výkopku z horniny 1 až 4, na vzdálenost přes 20 do 50 m | D45: m3 | E45: 18 | G45: =ROUND(E45*F45,2) -> 0 | I45: =ROUND(E45*H45,2) -> 0 | K45: =ROUND(E45*J45,2) -> 0 | L45: 21 | M45: =G45*(1+L45/100) -> 0 | N45: 0 | O45: =ROUND(E45*N45,2) -> 0 | P45: 0 | Q45: =ROUND(E45*P45,2) -> 0 | S45: RTS 17/ I | T45: Indiv | U45: 0.074 | V45: =ROUND(E45*U45,2) -> 1.33 | AG45: POL1_
C46: po suchu, bez ohledu na druh dopravního prostředku, bez naložení výkopku, avšak se složením bez rozhrnutí, | AG46: SPI | BA46: =C46 -> po suchu, bez ohledu na druh dopravního prostředku, bez naložení výkopku, avšak se složením bez rozhrnutí,
A47: 19 | B47: 174101102R00 | C47: Zásyp sypaninou se zhutněním v uzavřených prostorách s urovnáním povrchu zásypu s ručním zhutněním | D47: m3 | E47: 59.4 | G47: =ROUND(E47*F47,2) -> 0 | I47: =ROUND(E47*H47,2) -> 0 | K47: =ROUND(E47*J47,2) -> 0 | L47: 21 | M47: =G47*(1+L47/100) -> 0 | N47: 0 | O47: =ROUND(E47*N47,2) -> 0 | P47: 0 | Q47: =ROUND(E47*P47,2) -> 0 | S47: RTS 17/ I | T47: Indiv | U47: 1.239 | V47: =ROUND(E47*U47,2) -> 73.6 | AG47: POL1_
C48: z jakékoliv horniny s uložením výkopku po vrstvách, | AG48: SPI
A49: 20 | B49: 130900030RAB | C49: Bourání konstrukcí v hloubených vykopávkách konstrukcí z betonu prostého, odvoz do 5 000 m, uložení na skládku | D49: m3 | E49: 2.97 | G49: =ROUND(E49*F49,2) -> 0 | I49: =ROUND(E49*H49,2) -> 0 | K49: =ROUND(E49*J49,2) -> 0 | L49: 21 | M49: =G49*(1+L49/100) -> 0 | N49: 0 | O49: =ROUND(E49*N49,2) -> 0 | P49: 0 | Q49: =ROUND(E49*P49,2) -> 0 | S49: RTS 17/ I | T49: Indiv | U49: 18.45612 | V49: =ROUND(E49*U49,2) -> 54.81 | AG49: POL2_
C50: se svislým přemístěním, s naložením na dopravní prostředek, s odvozem a uložením na skládku, bez poplatku za skládku. | AG50: SPI | BA50: =C50 -> se svislým přemístěním, s naložením na dopravní prostředek, s odvozem a uložením na skládku, bez poplatku za skládku.
C51: zeď základová u studny : 6*1,1*0,45 | E51: 2.97 | AG51: VV | AH51: 0
A52: Díl: | B52: 2 | C52: Základy a zvláštní zakládání | G52: =SUMIF(AG53:AG80,"<>NOR",G53:G80) -> 0 | I52: =SUM(I53:I80) -> 0 | K52: =SUM(K53:K80) -> 0 | M52: =SUM(M53:M80) -> 0 | O52: =SUM(O53:O80) -> 26.34 | Q52: =SUM(Q53:Q80) -> 0 | V52: =SUM(V53:V80) -> 443.22 | AG52: DIL
A53: 21 | B53: 274321321R00 | C53: Beton základových pasů železový třídy C 20/25 | D53: m3 | E53: 4.15 | G53: =ROUND(E53*F53,2) -> 0 | I53: =ROUND(E53*H53,2) -> 0 | K53: =ROUND(E53*J53,2) -> 0 | L53: 21 | M53: =G53*(1+L53/100) -> 0 | N53: 2.525 | O53: =ROUND(E53*N53,2) -> 10.48 | P53: 0 | Q53: =ROUND(E53*P53,2) -> 0 | S53: RTS 17/ I | T53: Indiv | U53: 0.48 | V53: =ROUND(E53*U53,2) -> 1.99 | AG53: POL1_
C54: bez výztuže | AG54: SPI
C55: zídka u studny : 8,8*0,5*0,8 | E55: 3.52 | AG55: VV | AH55: 0
C56: podsedák : 3*0,60*0,35 | E56: 0.63 | AG56: VV | AH56: 0
A57: 22 | B57: 275351215R00 | C57: Bednění stěn základových patek zřízení | D57: m2 | E57: 14.08 | G57: =ROUND(E57*F57,2) -> 0 | I57: =ROUND(E57*H57,2) -> 0 | K57: =ROUND(E57*J57,2) -> 0 | L57: 21 | M57: =G57*(1+L57/100) -> 0 | N57: 0.0392 | O57: =ROUND(E57*N57,2) -> 0.55 | P57: 0 | Q57: =ROUND(E57*P57,2) -> 0 | S57: RTS 17/ I | T57: Indiv | U57: 1.05 | V57: =ROUND(E57*U57,2) -> 14.78 | AG57: POL1_
C58: bednění svislé nebo šikmé (odkloněné), půdorysně přímé nebo zalomené, stěn základových patek ve volných nebo zapažených jámách, rýhách, šachtách, včetně případných vzpěr, | AG58: SPI | BA58: =C58 -> bednění svislé nebo šikmé (odkloněné), půdorysně přímé nebo zalomené, stěn základových patek ve volných nebo zapažených jámách, rýhách, šachtách, včetně případných vzpěr,
C59: 8,8*0,8*2 | E59: 14.08 | AG59: VV | AH59: 0
A60: 23 | B60: 275351216R00 | C60: Bednění stěn základových patek odstranění | D60: m2 | E60: 14.08 | G60: =ROUND(E60*F60,2) -> 0 | I60: =ROUND(E60*H60,2) -> 0 | K60: =ROUND(E60*J60,2) -> 0 | L60: 21 | M60: =G60*(1+L60/100) -> 0 | N60: 0 | O60: =ROUND(E60*N60,2) -> 0 | P60: 0 | Q60: =ROUND(E60*P60,2) -> 0 | S60: RTS 17/ I | T60: Indiv | U60: 0.32 | V60: =ROUND(E60*U60,2) -> 4.51 | AG60: POL1_
C61: bednění svislé nebo šikmé (odkloněné), půdorysně přímé nebo zalomené, stěn základových patek ve volných nebo zapažených jámách, rýhách, šachtách, včetně případných vzpěr, | AG61: SPI | BA61: =C61 -> bednění svislé nebo šikmé (odkloněné), půdorysně přímé nebo zalomené, stěn základových patek ve volných nebo zapažených jámách, rýhách, šachtách, včetně případných vzpěr,
C62: Položka pořadí 22 : 14,08000 | E62: 14.08 | AG62: VV | AH62: 5
A63: 24 | B63: 275361821R00 | C63: Výztuž základových patek z betonářské oceli 10 505(R) | D63: t | E63: 0.36 | G63: =ROUND(E63*F63,2) -> 0 | I63: =ROUND(E63*H63,2) -> 0 | K63: =ROUND(E63*J63,2) -> 0 | L63: 21 | M63: =G63*(1+L63/100) -> 0 | N63: 1.02116 | O63: =ROUND(E63*N63,2) -> 0.37 | P63: 0 | Q63: =ROUND(E63*P63,2) -> 0 | S63: RTS 17/ I | T63: Indiv | U63: 23.531 | V63: =ROUND(E63*U63,2) -> 8.47 | AG63: POL1_
A64: 25 | B64: 212850001RA0 | C64: Drenáž podél základu objektu z drenážních trub, d 100 mm | D64: m | E64: 10 | G64: =ROUND(E64*F64,2) -> 0 | I64: =ROUND(E64*H64,2) -> 0 | K64: =ROUND(E64*J64,2) -> 0 | L64: 21 | M64: =G64*(1+L64/100) -> 0 | N64: 0.42953 | O64: =ROUND(E64*N64,2) -> 4.3 | P64: 0 | Q64: =ROUND(E64*P64,2) -> 0 | S64: RTS 17/ I | T64: Indiv | U64: 2.81506 | V64: =ROUND(E64*U64,2) -> 28.15 | AG64: POL2_
C65: včetně betonového lože C 16/20, obsypu kamenivem, ochranné geotextilie a revizní šachty | AG65: SPI
A66: 26 | B66: 271100010RA0 | C66: Polštáře pod základy ze štěrkopísku | D66: m3 | E66: 0.6 | G66: =ROUND(E66*F66,2) -> 0 | I66: =ROUND(E66*H66,2) -> 0 | K66: =ROUND(E66*J66,2) -> 0 | L66: 21 | M66: =G66*(1+L66/100) -> 0 | N66: 1.93971 | O66: =ROUND(E66*N66,2) -> 1.16 | P66: 0 | Q66: =ROUND(E66*P66,2) -> 0 | S66: RTS 17/ I | T66: Indiv | U66: 0 | V66: =ROUND(E66*U66,2) -> 0 | AG66: POL12_1
C67: zhutněné ze štěrkopísku. | AG67: SPI
C68: Včetně urovnání povrchu. | AG68: POP
A69: 27 | B69: 2131500 | C69: Vsakovací jáma viz PD 0,8*0,8*0,8m | D69: ks | E69: 1 | G69: =ROUND(E69*F69,2) -> 0 | I69: =ROUND(E69*H69,2) -> 0 | K69: =ROUND(E69*J69,2) -> 0 | L69: 21 | M69: =G69*(1+L69/100) -> 0 | N69: 6.83046 | O69: =ROUND(E69*N69,2) -> 6.83 | P69: 0 | Q69: =ROUND(E69*P69,2) -> 0 | S69: Vlastní | T69: Indiv | U69: 45.25895 | V69: =ROUND(E69*U69,2) -> 45.26 | AG69: POL1_
A70: 28 | B70: 221953111R00 | C70: Zaberanění dřevěn.kůlů svislých D do 12 cm do 2 m | D70: m | E70: 311.7 | G70: =ROUND(E70*F70,2) -> 0 | I70: =ROUND(E70*H70,2) -> 0 | K70: =ROUND(E70*J70,2) -> 0 | L70: 21 | M70: =G70*(1+L70/100) -> 0 | N70: 0 | O70: =ROUND(E70*N70,2) -> 0 | P70: 0 | Q70: =ROUND(E70*P70,2) -> 0 | S70: RTS 17/ I | T70: Indiv | U70: 1.091 | V70: =ROUND(E70*U70,2) -> 340.06 | AG70: POL1_
C71: schodište hlavní : 60 | E71: 60 | AG71: VV | AH71: 0
C72: vedlejší schodiště : 37,5 | E72: 37.5 | AG72: VV | AH72: 0
C73: sedací a pochozí stupně : 122,2 | E73: 122.2 | AG73: VV | AH73: 0
C74: boční chůdky : 92 | E74: 92 | AG74: VV | AH74: 0
A75: 29 | B75: 289970111R00 | C75: Geotextílie separační, filtrační, zpevňující polypropylén, 300 g/m2 | D75: m2 | E75: 1000.8 | G75: =ROUND(E75*F75,2) -> 0 | I75: =ROUND(E75*H75,2) -> 0 | K75: =ROUND(E75*J75,2) -> 0 | L75: 21 | M75: =G75*(1+L75/100) -> 0 | N75: 0.0005 | O75: =ROUND(E75*N75,2) -> 0.5 | P75: 0 | Q75: =ROUND(E75*P75,2) -> 0 | S75: RTS 17/ I | T75: Indiv | U75: 0 | V75: =ROUND(E75*U75,2) -> 0 | AG75: POL1_1
C76: Položka pořadí 5 : 1000,80000 | E76: 1000.8 | AG76: VV | AH76: 5
A77: 30 | B77: 215901101R00 | C77: Zhutnění podloží z rostlé horniny 1 až 4 pod násypy z hornin soudržných do 92% PS a nesoudržných sypkých relativní ulehlosti l(d) do 0,8 | D77: m2 | E77: 1000.8 | G77: =ROUND(E77*F77,2) -> 0 | I77: =ROUND(E77*H77,2) -> 0 | K77: =ROUND(E77*J77,2) -> 0 | L77: 21 | M77: =G77*(1+L77/100) -> 0 | N77: 0 | O77: =ROUND(E77*N77,2) -> 0 | P77: 0 | Q77: =ROUND(E77*P77,2) -> 0 | S77: RTS 17/ I | T77: Indiv | U77: 0 | V77: =ROUND(E77*U77,2) -> 0 | AG77: POL1_1
C78: z rostlé horniny tř.1 - 4 pod násypy z hornin soudržných do 92% PS a hornin nesoudržných sypkých relativní ulehlosti I(d) do 0,8 | AG78: SPI | BA78: =C78 -> z rostlé horniny tř.1 - 4 pod násypy z hornin soudržných do 92% PS a hornin nesoudržných sypkých relativní ulehlosti I(d) do 0,8
C79: Položka pořadí 5 : 1000,80000 | E79: 1000.8 | AG79: VV | AH79: 5
A80: 31 | B80: 74910302R | C80: lavička dřevo; l = 1 700 mm; š = 400 mm; v = 950 mm; v sedáku = 450 mm; kotvení do betonu | D80: kus | E80: 33 | G80: =ROUND(E80*F80,2) -> 0 | I80: =ROUND(E80*H80,2) -> 0 | K80: =ROUND(E80*J80,2) -> 0 | L80: 21 | M80: =G80*(1+L80/100) -> 0 | N80: 0.0651 | O80: =ROUND(E80*N80,2) -> 2.15 | P80: 0 | Q80: =ROUND(E80*P80,2) -> 0 | S80: RTS 17/ I | T80: Indiv | U80: 0 | V80: =ROUND(E80*U80,2) -> 0 | AG80: POL3_
A81: Díl: | B81: 3 | C81: Svislé a kompletní konstrukce | G81: =SUMIF(AG82:AG93,"<>NOR",G82:G93) -> 0 | I81: =SUM(I82:I93) -> 0 | K81: =SUM(K82:K93) -> 0 | M81: =SUM(M82:M93) -> 0 | O81: =SUM(O82:O93) -> 199.9 | Q81: =SUM(Q82:Q93) -> 0 | V81: =SUM(V82:V93) -> 2118.97 | AG81: DIL
A82: 32 | B82: 311211123R00 | C82: Zdivo nadzákladové z lomového kamene na MVC 2,5 | D82: m3 | E82: 3.9975 | G82: =ROUND(E82*F82,2) -> 0 | I82: =ROUND(E82*H82,2) -> 0 | K82: =ROUND(E82*J82,2) -> 0 | L82: 21 | M82: =G82*(1+L82/100) -> 0 | N82: 2.68355 | O82: =ROUND(E82*N82,2) -> 10.73 | P82: 0 | Q82: =ROUND(E82*P82,2) -> 0 | S82: RTS 17/ I | T82: Indiv | U82: 11.73 | V82: =ROUND(E82*U82,2) -> 46.89 | AG82: POL1_
C83: neopracované pod omítku, | AG83: SPI
C84: renovovaní zídka : 8,8*0,55*0,75 | E84: 3.63 | AG84: VV | AH84: 0
C85: sedací schod : 3*0,35*0,35 | E85: 0.3675 | AG85: VV | AH85: 0
A86: 33 | B86: 311211129R00 | C86: Zdivo nadzákladové z lomového kamene příplatky za oboustranné lícování zdiva | D86: m3 | E86: 3.9975 | G86: =ROUND(E86*F86,2) -> 0 | I86: =ROUND(E86*H86,2) -> 0 | K86: =ROUND(E86*J86,2) -> 0 | L86: 21 | M86: =G86*(1+L86/100) -> 0 | N86: 0 | O86: =ROUND(E86*N86,2) -> 0 | P86: 0 | Q86: =ROUND(E86*P86,2) -> 0 | S86: RTS 17/ I | T86: Indiv | U86: 4.595 | V86: =ROUND(E86*U86,2) -> 18.37 | AG86: POL1_
C87: neopracované pod omítku, | AG87: SPI
C88: Položka pořadí 32 : 3,99750 | E88: 3.9975 | AG88: VV | AH88: 5
A89: 34 | B89: 627452101R00 | C89: Spárování maltou cementovou zapuštěné rovné_x000D_ zdí z kamene, cementovou maltou | D89: m2 | E89: 3.9975 | G89: =ROUND(E89*F89,2) -> 0 | I89: =ROUND(E89*H89,2) -> 0 | K89: =ROUND(E89*J89,2) -> 0 | L89: 21 | M89: =G89*(1+L89/100) -> 0 | N89: 0.02214 | O89: =ROUND(E89*N89,2) -> 0.09 | P89: 0 | Q89: =ROUND(E89*P89,2) -> 0 | S89: RTS 17/ I | T89: Indiv | U89: 2.524 | V89: =ROUND(E89*U89,2) -> 10.09 | AG89: POL1_
C90: pro spárování (400 kg cementu/m3) | AG90: SPI
C91: Položka pořadí 32 : 3,99750 | E91: 3.9975 | AG91: VV | AH91: 5
A92: 35 | B92: 334181111R00 | C92: Opěry dřevěné na pilotách, s pažením z kuláčů | D92: m | E92: 264 | G92: =ROUND(E92*F92,2) -> 0 | I92: =ROUND(E92*H92,2) -> 0 | K92: =ROUND(E92*J92,2) -> 0 | L92: 21 | M92: =G92*(1+L92/100) -> 0 | N92: 0.71623 | O92: =ROUND(E92*N92,2) -> 189.08 | P92: 0 | Q92: =ROUND(E92*P92,2) -> 0 | S92: RTS 17/ I | T92: Indiv | U92: 7.741 | V92: =ROUND(E92*U92,2) -> 2043.62 | AG92: POL1_
C93: sedací : 264 | E93: 264 | AG93: VV | AH93: 0
A94: Díl: | B94: 5 | C94: Komunikace | G94: =SUMIF(AG95:AG111,"<>NOR",G95:G111) -> 0 | I94: =SUM(I95:I111) -> 0 | K94: =SUM(K95:K111) -> 0 | M94: =SUM(M95:M111) -> 0 | O94: =SUM(O95:O111) -> 459.74 | Q94: =SUM(Q95:Q111) -> 0 | V94: =SUM(V95:V111) -> 35.81 | AG94: DIL
A95: 36 | B95: 0054R1 | C95: D+M dřevěných stupňů půlkulatých viz PD tl 8cm, akát odkornění | D95: bm | E95: 405 | G95: =ROUND(E95*F95,2) -> 0 | I95: =ROUND(E95*H95,2) -> 0 | K95: =ROUND(E95*J95,2) -> 0 | L95: 21 | M95: =G95*(1+L95/100) -> 0 | N95: 0 | O95: =ROUND(E95*N95,2) -> 0 | P95: 0 | Q95: =ROUND(E95*P95,2) -> 0 | S95: Vlastní | T95: Indiv | U95: 0 | V95: =ROUND(E95*U95,2) -> 0 | AG95: POL1_1
C96: 60 | E96: 60 | AG96: VV | AH96: 0
C97: 123 | E97: 123 | AG97: VV | AH97: 0
C98: 38 | E98: 38 | AG98: VV | AH98: 0
C99: 72 | E99: 72 | AG99: VV | AH99: 0
C100: 112 | E100: 112 | AG100: VV | AH100: 0
A101: 37 | B101: 564851111I10I10 | C101: Podklad ze štěrkodrtě ŠD tl 150 mm | D101: m2 | E101: 270 | G101: =ROUND(E101*F101,2) -> 0 | I101: =ROUND(E101*H101,2) -> 0 | K101: =ROUND(E101*J101,2) -> 0 | L101: 21 | M101: =G101*(1+L101/100) -> 0 | N101: 0 | O101: =ROUND(E101*N101,2) -> 0 | P101: 0 | Q101: =ROUND(E101*P101,2) -> 0 | S101: Vlastní | T101: Indiv | U101: 0 | V101: =ROUND(E101*U101,2) -> 0 | AG101: POL1_1
A102: 38 | B102: 155799 | C102: dřevená stěna z akátu kulatina 10cm odkornění rozměr 0,38*2m, D+M | D102: ks | E102: 33 | G102: =ROUND(E102*F102,2) -> 0 | I102: =ROUND(E102*H102,2) -> 0 | K102: =ROUND(E102*J102,2) -> 0 | L102: 21 | M102: =G102*(1+L102/100) -> 0 | N102: 0 | O102: =ROUND(E102*N102,2) -> 0 | P102: 0 | Q102: =ROUND(E102*P102,2) -> 0 | S102: Vlastní | T102: Indiv | U102: 0 | V102: =ROUND(E102*U102,2) -> 0 | AG102: POL1_
...

Sheet SO 08 SO 08 Pol
A1: Položkový soupis prací a dodávek | AG1: #TypZaznamu#
A2: S: | B2: 001_v3 | C2: OBNOVA LESOPARKU HRADISKO A KALVÁRIE - HRADISKO | AG2: STA
A3: O: | B3: SO 08 | C3: Mobiliář | AC3: STA | AG3: OBJ
A4: R: | B4: SO 08 | C4: Mobiliář | AG4: ROZ
A6: P.č. | B6: Číslo položky | C6: Název položky | D6: MJ | E6: množství | F6: cena / MJ | G6: Celkem | H6: Dodávka | I6: Dodávka celk. | J6: Montáž | K6: Montáž celk. | L6: DPH | M6: cena s DPH | N6: hmotnost / MJ | O6: hmotnost celk.(t) | P6: dem. hmotnost / MJ | Q6: dem. hmotnost celk.(t) | R6: Ceník | S6: Cen. soustava / platnost | T6: Cenová úroveň | U6: Nhod / MJ | V6: Nhod celk. | W6: Dodavatel
A8: Díl: | B8: 38 | C8: Kompletní konstrukce | G8: =SUMIF(AG9:AG9,"<>NOR",G9:G9) -> 0 | I8: =SUM(I9:I9) -> 0 | K8: =SUM(K9:K9) -> 0 | M8: =SUM(M9:M9) -> 0 | O8: =SUM(O9:O9) -> 0 | Q8: =SUM(Q9:Q9) -> 0 | V8: =SUM(V9:V9) -> 0 | AG8: DIL
A9: 1 | B9: 0051R | C9: Mobiliář D+M, viz. samostaný rozpočet | D9: ks | E9: 1 | G9: =ROUND(E9*F9,2) -> 0 | I9: =ROUND(E9*H9,2) -> 0 | K9: =ROUND(E9*J9,2) -> 0 | L9: 15 | M9: =G9*(1+L9/100) -> 0 | N9: 0 | O9: =ROUND(E9*N9,2) -> 0 | P9: 0 | Q9: =ROUND(E9*P9,2) -> 0 | S9: Vlastní | T9: Indiv | U9: 0 | V9: =ROUND(E9*U9,2) -> 0 | AG9: POL3_0
AE10: 15 | AF10: 21
B11: Celkem | G11: =G8 -> 0 | AE11: =SUMIF(L7:L9,AE10,G7:G9) -> 0 | AF11: =SUMIF(L7:L9,AF10,G7:G9) -> 0 | AG11: SUM
AG12: END
