Workbook
Name CelkemDPHVypocet: Stavba!$H$58
Name CenaCelkem: Stavba!$G$29
Name CenaCelkemBezDPH: Stavba!$G$28
Name CenaCelkemVypocet: Stavba!$I$58
Name cisloobjektu: Stavba!$D$3
Name CisloRozpoctu: '[1]Krycí list'!$C$2
Name CisloStavby: Stavba!$D$2
Name cislostavby: '[1]Krycí list'!$A$7
Name CisloStavebnihoRozpoctu: Stavba!$D$4
Name dadresa: Stavba!$D$12:$G$12
Name DIČ: Stavba!$I$12
Name dmisto: Stavba!$E$13:$G$13
Name DPHSni: Stavba!$G$24
Name DPHZakl: Stavba!$G$26
Name dpsc: Stavba!$D$13
Name IČO: Stavba!$I$11
Name Mena: Stavba!$J$29
Name MistoStavby: Stavba!$D$4
Name nazevobjektu: Stavba!$E$3
Name NazevRozpoctu: '[1]Krycí list'!$D$2
Name NazevStavby: Stavba!$E$2
Name nazevstavby: '[1]Krycí list'!$C$7
Name NazevStavebnihoRozpoctu: Stavba!$E$4
Name oadresa: Stavba!$D$6
Name Objednatel: Stavba!$D$5
Name Objekt: Stavba!$B$38
Name odic: Stavba!$I$6
Name oico: Stavba!$I$5
Name omisto: Stavba!$E$7
Name onazev: Stavba!$D$6
Name opsc: Stavba!$D$7
Name padresa: Stavba!$D$9
Name pdic: Stavba!$I$9
Name pico: Stavba!$I$8
Name pmisto: Stavba!$E$10
Name PocetMJ: #REF!
Name PoptavkaID: Stavba!$A$1
Name pPSC: Stavba!$D$10
Name Projektant: Stavba!$D$8
Name SazbaDPH1: Stavba!$E$23
Name SazbaDPH1: '[1]Krycí list'!$C$30
Name SazbaDPH2: Stavba!$E$25
Name SazbaDPH2: '[1]Krycí list'!$C$32
Name SloupecCC: #REF!
Name SloupecCisloPol: #REF!
Name SloupecJC: #REF!
Name SloupecMJ: #REF!
Name SloupecMnozstvi: #REF!
Name SloupecNazPol: #REF!
Name SloupecPC: #REF!
Name Vypracoval: Stavba!$D$14
Name ZakladDPHSni: Stavba!$G$23
Name ZakladDPHSniVypocet: Stavba!$F$58
Name ZakladDPHZakl: Stavba!$G$25
Name ZakladDPHZaklVypocet: Stavba!$G$58
Name ZaObjednatele: Stavba!$G$34
Name Zaokrouhleni: Stavba!$G$27
Name ZaZhotovitele: Stavba!$D$34
Name Zhotovitel: Stavba!$D$11:$G$11

Sheet Pokyny pro vyplnění
A1: Pokyny pro vyplnění
A2: Ve všech listech tohoto souboru můžete měnit pouze buňky s modrým pozadím. Jedná se o tyto údaje : - údaje o firmě - jednotkové ceny položek zadané na maximálně dvě desetinná místa

Sheet Stavba
A1: #RTSROZP# | B1: Soupis stavebních prací, dodávek a služeb
B2: Stavba: | D2: 001_v3 | E2: OBNOVA LESOPARKU HRADISKO A KALVÁRIE - HRADISKO
B5: Zadavatel | H5: IČO:
H6: DIČ:
B8: Projektant: | H8: IČO:
H9: DIČ:
B11: Zhotovitel: | H11: IČO:
H12: DIČ:
B14: Vypracoval:
B15: Rozpis ceny | I15: Celkem
A16: HSV | B16: HSV | I16: =SUMIF(F65:F91,A16,I65:I91)+SUMIF(F65:F91,"PSU",I65:I91) -> 0
A17: PSV | B17: PSV | I17: =SUMIF(F65:F91,A17,I65:I91) -> 0
A18: MON | B18: MON | I18: =SUMIF(F65:F91,A18,I65:I91) -> 0
A19: VN | B19: Vedlejší náklady | I19: =SUMIF(F65:F91,A19,I65:I91) -> 0
A20: ON | B20: Ostatní náklady | I20: =SUMIF(F65:F91,A20,I65:I91) -> 0
B21: Celkem | I21: =SUM(I16:J20) -> 0
B22: Rekapitulace daní
B23: Základ pro sníženou DPH | E23: 15 | F23: % | G23: =ZakladDPHSniVypocet -> 0 | J23: =Mena -> CZK
B24: Snížená DPH | E24: =SazbaDPH1 -> 15 | F24: % | G24: =I23*E23/100 -> 0 | J24: =Mena -> CZK
B25: Základ pro základní DPH | E25: 21 | F25: % | G25: =ZakladDPHZaklVypocet -> 0 | J25: =Mena -> CZK
B26: Základní DPH | E26: =SazbaDPH2 -> 21 | F26: % | G26: =I25*E25/100 -> 0 | J26: =Mena -> CZK
A27: =ZakladDPHSni+ZakladDPHZakl -> 0 | B27: Zaokrouhlení | G27: =CenaCelkemBezDPH-(ZakladDPHSni+ZakladDPHZakl) -> 0 | J27: =Mena -> CZK
A28: =(A27-INT(A27))*100 -> 0 | B28: Cena celkem bez DPH | G28: =IF(A28>50, ROUNDUP(A27, 0), ROUNDDOWN(A27, 0)) -> 0 | J28: =Mena -> CZK
B29: Cena celkem s DPH | G29: =ZakladDPHSni+DPHSni+ZakladDPHZakl+DPHZakl+Zaokrouhleni -> 0 | J29: CZK
C32: v | F32: dne | H32: =TODAY() -> 43320
D35: Za zhotovitele | H35: Za objednatele
B37: Rekapitulace dílčích částí
A38: #CASTI>> | B38: Číslo | C38: Název | F38: =B23 -> Základ pro sníženou DPH | G38: =B25 -> Základ pro základní DPH | H38: DPH celkem | I38: Cena celkem | J38: %
A39: 1 | B39: Stavba | F39: ='1 1 Pol'!AE23+'SO 01 SO 01 Pol'!AE137+'SO 02 SO 02 Pol'!AE58+'SO 03 SO 03 Pol'!AE49+'SO 04 SO 04 Pol'!AE138+'SO 05 SO 05 Pol'!AE60+'SO 06 SO 06 Pol'!AE11+'SO 07 SO 07 Pol'!AE134+'SO 08 SO 08 Pol'!AE11 -> 0 | G39: ='1 1 Pol'!AF23+'SO 01 SO 01 Pol'!AF137+'SO 02 SO 02 Pol'!AF58+'SO 03 SO 03 Pol'!AF49+'SO 04 SO 04 Pol'!AF138+'SO 05 SO 05 Pol'!AF60+'SO 06 SO 06 Pol'!AF11+'SO 07 SO 07 Pol'!AF134+'SO 08 SO 08 Pol'!AF11 -> 0 | I39: =F39+G39+H39 -> 0 | J39: =IF(CenaCelkemVypocet=0,"",I39/CenaCelkemVypocet*100)
A40: 2 | B40: 1 | C40: VRN | F40: ='1 1 Pol'!AE23 -> 0 | G40: ='1 1 Pol'!AF23 -> 0 | I40: =F40+G40+H40 -> 0 | J40: =IF(CenaCelkemVypocet=0,"",I40/CenaCelkemVypocet*100)
A41: 3 | B41: 1 | C41: VRN | F41: ='1 1 Pol'!AE23 -> 0 | G41: ='1 1 Pol'!AF23 -> 0 | I41: =F41+G41+H41 -> 0 | J41: =IF(CenaCelkemVypocet=0,"",I41/CenaCelkemVypocet*100)
A42: 2 | B42: SO 01 | C42: Komunikace od škol | F42: ='SO 01 SO 01 Pol'!AE137 -> 0 | G42: ='SO 01 SO 01 Pol'!AF137 -> 0 | I42: =F42+G42+H42 -> 0 | J42: =IF(CenaCelkemVypocet=0,"",I42/CenaCelkemVypocet*100)
A43: 3 | B43: SO 01 | C43: Komunikace od škol | F43: ='SO 01 SO 01 Pol'!AE137 -> 0 | G43: ='SO 01 SO 01 Pol'!AF137 -> 0 | I43: =F43+G43+H43 -> 0 | J43: =IF(CenaCelkemVypocet=0,"",I43/CenaCelkemVypocet*100)
A44: 2 | B44: SO 02 | C44: Mostek Hradisko | F44: ='SO 02 SO 02 Pol'!AE58 -> 0 | G44: ='SO 02 SO 02 Pol'!AF58 -> 0 | I44: =F44+G44+H44 -> 0 | J44: =IF(CenaCelkemVypocet=0,"",I44/CenaCelkemVypocet*100)
A45: 3 | B45: SO 02 | C45: Mostek Hradisko | F45: ='SO 02 SO 02 Pol'!AE58 -> 0 | G45: ='SO 02 SO 02 Pol'!AF58 -> 0 | I45: =F45+G45+H45 -> 0 | J45: =IF(CenaCelkemVypocet=0,"",I45/CenaCelkemVypocet*100)
A46: 2 | B46: SO 03 | C46: Čertův mostek | F46: ='SO 03 SO 03 Pol'!AE49 -> 0 | G46: ='SO 03 SO 03 Pol'!AF49 -> 0 | I46: =F46+G46+H46 -> 0 | J46: =IF(CenaCelkemVypocet=0,"",I46/CenaCelkemVypocet*100)
A47: 3 | B47: SO 03 | C47: Čertův mostek | F47: ='SO 03 SO 03 Pol'!AE49 -> 0 | G47: ='SO 03 SO 03 Pol'!AF49 -> 0 | I47: =F47+G47+H47 -> 0 | J47: =IF(CenaCelkemVypocet=0,"",I47/CenaCelkemVypocet*100)
A48: 2 | B48: SO 04 | C48: Altán „Letec“ | F48: ='SO 04 SO 04 Pol'!AE138 -> 0 | G48: ='SO 04 SO 04 Pol'!AF138 -> 0 | I48: =F48+G48+H48 -> 0 | J48: =IF(CenaCelkemVypocet=0,"",I48/CenaCelkemVypocet*100)
A49: 3 | B49: SO 04 | C49: Altán „Letec“ | F49: ='SO 04 SO 04 Pol'!AE138 -> 0 | G49: ='SO 04 SO 04 Pol'!AF138 -> 0 | I49: =F49+G49+H49 -> 0 | J49: =IF(CenaCelkemVypocet=0,"",I49/CenaCelkemVypocet*100)
A50: 2 | B50: SO 05 | C50: Přírodní amfiteátr | F50: ='SO 05 SO 05 Pol'!AE60 -> 0 | G50: ='SO 05 SO 05 Pol'!AF60 -> 0 | I50: =F50+G50+H50 -> 0 | J50: =IF(CenaCelkemVypocet=0,"",I50/CenaCelkemVypocet*100)
...

Sheet VzorPolozky
A1: Položkový rozpočet
A2: S:
A3: O:
A4: R:

Sheet 1 1 Pol
A1: Položkový soupis prací a dodávek | AG1: #TypZaznamu#
A2: S: | B2: 001_v3 | C2: OBNOVA LESOPARKU HRADISKO A KALVÁRIE - HRADISKO | AG2: STA
A3: O: | B3: 1 | C3: VRN | AC3: STA | AG3: OBJ
A4: R: | B4: 1 | C4: VRN | AG4: ROZ
A6: P.č. | B6: Číslo položky | C6: Název položky | D6: MJ | E6: množství | F6: cena / MJ | G6: Celkem | H6: Dodávka | I6: Dodávka celk. | J6: Montáž | K6: Montáž celk. | L6: DPH | M6: cena s DPH | N6: hmotnost / MJ | O6: hmotnost celk.(t) | P6: dem. hmotnost / MJ | Q6: dem. hmotnost celk.(t) | R6: Ceník | S6: Cen. soustava / platnost | T6: Cenová úroveň | U6: Nhod / MJ | V6: Nhod celk. | W6: Dodavatel
A8: Díl: | B8: 01 | C8: Celý objekt | G8: =SUMIF(AG9:AG21,"<>NOR",G9:G21) -> 0 | I8: =SUM(I9:I21) -> 0 | K8: =SUM(K9:K21) -> 0 | M8: =SUM(M9:M21) -> 0 | O8: =SUM(O9:O21) -> 0 | Q8: =SUM(Q9:Q21) -> 0 | V8: =SUM(V9:V21) -> 0 | AG8: DIL
A9: 1 | B9: 004111010R | C9: Průzkumné práce | D9: Soubor | E9: 1 | G9: =ROUND(E9*F9,2) -> 0 | I9: =ROUND(E9*H9,2) -> 0 | K9: =ROUND(E9*J9,2) -> 0 | L9: 21 | M9: =G9*(1+L9/100) -> 0 | N9: 0 | O9: =ROUND(E9*N9,2) -> 0 | P9: 0 | Q9: =ROUND(E9*P9,2) -> 0 | S9: RTS 17/ I | T9: Indiv | U9: 0 | V9: =ROUND(E9*U9,2) -> 0 | AG9: POL99_8
C10: Náklady na provedení průzkumů nebo doplnění stávajících průzkumů, pokud je obchodní podmínky vyžadují a tyto průzkumy nejsou v dostatečném rozsahu součástí projektové dokumentace. Jedná se zejména o Geologický – inženýrsko-geologický / radonový / hydrogeologický / pedologický průzkum, botanický a zoologický průzkum, stavební průzkum – umělecko historický / stavebně statický a případný průzkum výskytu nebezpečných látek – odpadu / munice / výbušnin apod. | AG10: POP | BA10: =C10 -> Náklady na provedení průzkumů nebo doplnění stávajících průzkumů, pokud je obchodní podmínky vyžadují a tyto průzkumy nejsou v dostatečném rozsahu součástí projektové dokumentace. Jedná se zejména o Geologický – inženýrsko-geologický / radonový / hydrogeologický / pedologický průzkum, botanický a zoologický průzkum, stavební průzkum – umělecko historický / stavebně statický a případný průzkum výskytu nebezpečných látek – odpadu / munice / výbušnin apod.
A11: 2 | B11: 005111020R | C11: Vytyčení stavby | D11: Soubor | E11: 1 | G11: =ROUND(E11*F11,2) -> 0 | I11: =ROUND(E11*H11,2) -> 0 | K11: =ROUND(E11*J11,2) -> 0 | L11: 21 | M11: =G11*(1+L11/100) -> 0 | N11: 0 | O11: =ROUND(E11*N11,2) -> 0 | P11: 0 | Q11: =ROUND(E11*P11,2) -> 0 | S11: RTS 17/ I | T11: Indiv | U11: 0 | V11: =ROUND(E11*U11,2) -> 0 | AG11: POL99_8
C12: Geodetické zaměření rohů stavby, stabilizace bodů a sestavení laviček. | AG12: POP
C13: Vyhotovení protokolu o vytyčení stavby se seznamem souřadnic vytyčených bodů a jejich polohopisnými (S-JTSK) a výškopisnými (Bpv) hodnotami. | AG13: POP | BA13: =C13 -> Vyhotovení protokolu o vytyčení stavby se seznamem souřadnic vytyčených bodů a jejich polohopisnými (S-JTSK) a výškopisnými (Bpv) hodnotami.
A14: 3 | B14: 005111021R | C14: Vytyčení inženýrských sítí | D14: Soubor | E14: 1 | G14: =ROUND(E14*F14,2) -> 0 | I14: =ROUND(E14*H14,2) -> 0 | K14: =ROUND(E14*J14,2) -> 0 | L14: 21 | M14: =G14*(1+L14/100) -> 0 | N14: 0 | O14: =ROUND(E14*N14,2) -> 0 | P14: 0 | Q14: =ROUND(E14*P14,2) -> 0 | S14: RTS 17/ I | T14: Indiv | U14: 0 | V14: =ROUND(E14*U14,2) -> 0 | AG14: POL99_8
C15: Zaměření a vytýčení stávajících inženýrských sítí v místě stavby z hlediska jejich ochrany při provádění stavby. | AG15: POP | BA15: =C15 -> Zaměření a vytýčení stávajících inženýrských sítí v místě stavby z hlediska jejich ochrany při provádění stavby.
A16: 4 | B16: 005122 R | C16: Provozní vlivy | D16: Soubor | E16: 1 | G16: =ROUND(E16*F16,2) -> 0 | I16: =ROUND(E16*H16,2) -> 0 | K16: =ROUND(E16*J16,2) -> 0 | L16: 21 | M16: =G16*(1+L16/100) -> 0 | N16: 0 | O16: =ROUND(E16*N16,2) -> 0 | P16: 0 | Q16: =ROUND(E16*P16,2) -> 0 | S16: RTS 17/ I | T16: Indiv | U16: 0 | V16: =ROUND(E16*U16,2) -> 0 | AG16: POL99_8
C17: Náklady na ztížené podmínky provádění tam, kde jsou stavební práce zcela nebo zčásti omezovány provozem jiných osob. Jde zejména o zvýšené náklady související s omezením provozem v areálu objednatele nebo o náklady v důsledku nezbytného respektování stávající dopravy ovlivňující stavební práce. | AG17: POP | BA17: =C17 -> Náklady na ztížené podmínky provádění tam, kde jsou stavební práce zcela nebo zčásti omezovány provozem jiných osob. Jde zejména o zvýšené náklady související s omezením provozem v areálu objednatele nebo o náklady v důsledku nezbytného respektování stávající dopravy ovlivňující stavební práce.
A18: 5 | B18: 005241010R | C18: Dokumentace skutečného provedení | D18: Soubor | E18: 1 | G18: =ROUND(E18*F18,2) -> 0 | I18: =ROUND(E18*H18,2) -> 0 | K18: =ROUND(E18*J18,2) -> 0 | L18: 21 | M18: =G18*(1+L18/100) -> 0 | N18: 0 | O18: =ROUND(E18*N18,2) -> 0 | P18: 0 | Q18: =ROUND(E18*P18,2) -> 0 | S18: RTS 17/ I | T18: Indiv | U18: 0 | V18: =ROUND(E18*U18,2) -> 0 | AG18: POL99_8
C19: Náklady na vyhotovení dokumentace skutečného provedení stavby a její předání objednateli v požadované formě a požadovaném počtu. | AG19: POP | BA19: =C19 -> Náklady na vyhotovení dokumentace skutečného provedení stavby a její předání objednateli v požadované formě a požadovaném počtu.
A20: 6 | B20: 005241020R | C20: Geodetické zaměření skutečného provedení | D20: Soubor | E20: 1 | G20: =ROUND(E20*F20,2) -> 0 | I20: =ROUND(E20*H20,2) -> 0 | K20: =ROUND(E20*J20,2) -> 0 | L20: 21 | M20: =G20*(1+L20/100) -> 0 | N20: 0 | O20: =ROUND(E20*N20,2) -> 0 | P20: 0 | Q20: =ROUND(E20*P20,2) -> 0 | S20: RTS 17/ I | T20: Indiv | U20: 0 | V20: =ROUND(E20*U20,2) -> 0 | AG20: POL99_8
C21: Náklady na provedení skutečného zaměření stavby v rozsahu nezbytném pro zápis změny do katastru nemovitostí. | AG21: POP | BA21: =C21 -> Náklady na provedení skutečného zaměření stavby v rozsahu nezbytném pro zápis změny do katastru nemovitostí.
AE22: 15 | AF22: 21
B23: Celkem | G23: =G8 -> 0 | AE23: =SUMIF(L7:L21,AE22,G7:G21) -> 0 | AF23: =SUMIF(L7:L21,AF22,G7:G21) -> 0 | AG23: SUM
AG24: END

Sheet SO 01 SO 01 Pol
A1: Položkový soupis prací a dodávek | AG1: #TypZaznamu#
A2: S: | B2: 001_v3 | C2: OBNOVA LESOPARKU HRADISKO A KALVÁRIE - HRADISKO | AG2: STA
A3: O: | B3: SO 01 | C3: Komunikace od škol | AC3: STA | AG3: OBJ
A4: R: | B4: SO 01 | C4: Komunikace od škol | AG4: ROZ
A6: P.č. | B6: Číslo položky | C6: Název položky | D6: MJ | E6: množství | F6: cena / MJ | G6: Celkem | H6: Dodávka | I6: Dodávka celk. | J6: Montáž | K6: Montáž celk. | L6: DPH | M6: cena s DPH | N6: hmotnost / MJ | O6: hmotnost celk.(t) | P6: dem. hmotnost / MJ | Q6: dem. hmotnost celk.(t) | R6: Ceník | S6: Cen. soustava / platnost | T6: Cenová úroveň | U6: Nhod / MJ | V6: Nhod celk. | W6: Dodavatel
A8: Díl: | B8: 1 | C8: Zemní práce | G8: =SUMIF(AG9:AG35,"<>NOR",G9:G35) -> 0 | I8: =SUM(I9:I35) -> 0 | K8: =SUM(K9:K35) -> 0 | M8: =SUM(M9:M35) -> 0 | O8: =SUM(O9:O35) -> 0 | Q8: =SUM(Q9:Q35) -> 332.64 | V8: =SUM(V9:V35) -> 491.36 | AG8: DIL
A9: 1 | B9: 122202202R00 | C9: Odkopávky a prokopávky pro silnice v hornině 3 přes 100 do 1 000 m3 | D9: m3 | E9: 708.75 | G9: =ROUND(E9*F9,2) -> 0 | I9: =ROUND(E9*H9,2) -> 0 | K9: =ROUND(E9*J9,2) -> 0 | L9: 15 | M9: =G9*(1+L9/100) -> 0 | N9: 0 | O9: =ROUND(E9*N9,2) -> 0 | P9: 0 | Q9: =ROUND(E9*P9,2) -> 0 | S9: RTS 17/ I | T9: Indiv | U9: 0.223 | V9: =ROUND(E9*U9,2) -> 158.05 | AG9: POL1_9
C10: s přemístěním výkopku v příčných profilech na vzdálenost do 15 m nebo s naložením na dopravní prostředek. | AG10: SPI | BA10: =C10 -> s přemístěním výkopku v příčných profilech na vzdálenost do 15 m nebo s naložením na dopravní prostředek.
C11: Převzatá hodnota množství z položky : 708,75 | E11: 708.75 | AG11: VV | AH11: 0
C12: Začátek provozního součtu | AG12: VV
C13: zpevněná dlážděná cest: : 945*0,39 | E13: 368.55 | AG13: VV | AH13: 2
C14: zajistění cesty ve svahu: : 945*0,9*0,4 | E14: 340.2 | AG14: VV | AH14: 2
C15: Konec provozního součtu | AG15: VV
A16: 2 | B16: 122202209R00 | C16: Odkopávky a prokopávky pro silnice v hornině 3 příplatek za lepivost horniny | D16: m3 | E16: 708.75 | G16: =ROUND(E16*F16,2) -> 0 | I16: =ROUND(E16*H16,2) -> 0 | K16: =ROUND(E16*J16,2) -> 0 | L16: 15 | M16: =G16*(1+L16/100) -> 0 | N16: 0 | O16: =ROUND(E16*N16,2) -> 0 | P16: 0 | Q16: =ROUND(E16*P16,2) -> 0 | S16: RTS 17/ I | T16: Indiv | U16: 0.088 | V16: =ROUND(E16*U16,2) -> 62.37 | AG16: POL1_9
C17: s přemístěním výkopku v příčných profilech na vzdálenost do 15 m nebo s naložením na dopravní prostředek. | AG17: SPI | BA17: =C17 -> s přemístěním výkopku v příčných profilech na vzdálenost do 15 m nebo s naložením na dopravní prostředek.
A18: 3 | B18: 162301102R00 | C18: Vodorovné přemístění výkopku z horniny 1 až 4, na vzdálenost přes 500 do 1 000 m | D18: m3 | E18: 708.75 | G18: =ROUND(E18*F18,2) -> 0 | I18: =ROUND(E18*H18,2) -> 0 | K18: =ROUND(E18*J18,2) -> 0 | L18: 15 | M18: =G18*(1+L18/100) -> 0 | N18: 0 | O18: =ROUND(E18*N18,2) -> 0 | P18: 0 | Q18: =ROUND(E18*P18,2) -> 0 | S18: RTS 17/ I | T18: Indiv | U18: 0.011 | V18: =ROUND(E18*U18,2) -> 7.8 | AG18: POL1_9
C19: po suchu, bez naložení výkopku, avšak se složením bez rozhrnutí, zpáteční cesta vozidla. | AG19: SPI
A20: 4 | B20: 171201201R00 | C20: Uložení sypaniny na dočasnou skládku tak, že na 1 m2 plochy připadá přes 2 m3 výkopku nebo ornice | D20: m3 | E20: 708.75 | G20: =ROUND(E20*F20,2) -> 0 | I20: =ROUND(E20*H20,2) -> 0 | K20: =ROUND(E20*J20,2) -> 0 | L20: 15 | M20: =G20*(1+L20/100) -> 0 | N20: 0 | O20: =ROUND(E20*N20,2) -> 0 | P20: 0 | Q20: =ROUND(E20*P20,2) -> 0 | S20: RTS 17/ I | T20: Indiv | U20: 0.009 | V20: =ROUND(E20*U20,2) -> 6.38 | AG20: POL1_9
A21: 5 | B21: 181101101R00 | C21: Úprava pláně v zářezech v hornině 1 až 4, bez zhutnění | D21: m2 | E21: 1039.5 | G21: =ROUND(E21*F21,2) -> 0 | I21: =ROUND(E21*H21,2) -> 0 | K21: =ROUND(E21*J21,2) -> 0 | L21: 15 | M21: =G21*(1+L21/100) -> 0 | N21: 0 | O21: =ROUND(E21*N21,2) -> 0 | P21: 0 | Q21: =ROUND(E21*P21,2) -> 0 | S21: RTS 17/ I | T21: Indiv | U21: 0.013 | V21: =ROUND(E21*U21,2) -> 13.51 | AG21: POL1_9
C22: vyrovnáním výškových rozdílů, ploch vodorovných a ploch do sklonu 1 : 5. | AG22: SPI
A23: 6 | B23: 162301101R00 | C23: Vodorovné přemístění výkopku z horniny 1 až 4, na vzdálenost přes 50 do 500 m | D23: m3 | E23: 708.75 | G23: =ROUND(E23*F23,2) -> 0 | I23: =ROUND(E23*H23,2) -> 0 | K23: =ROUND(E23*J23,2) -> 0 | L23: 15 | M23: =G23*(1+L23/100) -> 0 | N23: 0 | O23: =ROUND(E23*N23,2) -> 0 | P23: 0 | Q23: =ROUND(E23*P23,2) -> 0 | S23: RTS 17/ I | T23: Indiv | U23: 0.011 | V23: =ROUND(E23*U23,2) -> 7.8 | AG23: POL1_9
C24: po suchu, bez naložení výkopku, avšak se složením bez rozhrnutí, zpáteční cesta vozidla. | AG24: SPI
A25: 7 | B25: 356212T10I10 | C25: Vodorovné přemístění do 10000 m výkopku/sypaniny z horniny tř. 1 až 4 | D25: m3 | E25: 708.75 | G25: =ROUND(E25*F25,2) -> 0 | I25: =ROUND(E25*H25,2) -> 0 | K25: =ROUND(E25*J25,2) -> 0 | L25: 15 | M25: =G25*(1+L25/100) -> 0 | N25: 0 | O25: =ROUND(E25*N25,2) -> 0 | P25: 0 | Q25: =ROUND(E25*P25,2) -> 0 | S25: Vlastní | T25: Indiv | U25: 0 | V25: =ROUND(E25*U25,2) -> 0 | AG25: POL1_9
A26: 8 | B26: 354943T10I10 | C26: Nakládání výkopku z hornin tř. 1 až 4 do 100 m3 | D26: m3 | E26: 708.75 | G26: =ROUND(E26*F26,2) -> 0 | I26: =ROUND(E26*H26,2) -> 0 | K26: =ROUND(E26*J26,2) -> 0 | L26: 15 | M26: =G26*(1+L26/100) -> 0 | N26: 0 | O26: =ROUND(E26*N26,2) -> 0 | P26: 0 | Q26: =ROUND(E26*P26,2) -> 0 | S26: Vlastní | T26: Indiv | U26: 0 | V26: =ROUND(E26*U26,2) -> 0 | AG26: POL1_9
A27: 9 | B27: 171101101R00 | C27: Uložení sypaniny do násypů zhutněných s uzavřením povrchu násypu z hornin soudržných s předepsanou mírou zhutnění v procentech výsledků zkoušek Proctor-Standard _x000D_ _x000D_ na 95 % PS | D27: m3 | E27: 708.75 | G27: =ROUND(E27*F27,2) -> 0 | I27: =ROUND(E27*H27,2) -> 0 | K27: =ROUND(E27*J27,2) -> 0 | L27: 15 | M27: =G27*(1+L27/100) -> 0 | N27: 0 | O27: =ROUND(E27*N27,2) -> 0 | P27: 0 | Q27: =ROUND(E27*P27,2) -> 0 | S27: RTS 17/ I | T27: Indiv | U27: 0.043 | V27: =ROUND(E27*U27,2) -> 30.48 | AG27: POL1_9
C28: s rozprostřením sypaniny ve vrstvách a s hrubým urovnáním, | AG28: SPI
A29: 10 | B29: 171201211 | C29: Poplatek za uložení odpadu ze sypaniny na skládce (skládkovné) | D29: t | E29: 992.25 | G29: =ROUND(E29*F29,2) -> 0 | I29: =ROUND(E29*H29,2) -> 0 | K29: =ROUND(E29*J29,2) -> 0 | L29: 15 | M29: =G29*(1+L29/100) -> 0 | N29: 0 | O29: =ROUND(E29*N29,2) -> 0 | P29: 0 | Q29: =ROUND(E29*P29,2) -> 0 | S29: Vlastní | T29: Indiv | U29: 0 | V29: =ROUND(E29*U29,2) -> 0 | AG29: POL1_9
C30: 339,43*1,6 | AG30: POP
A31: 11 | B31: 113106221R00 | C31: Rozebrání vozovek a ploch s jakoukoliv výplní spár _x000D_ v ploše jednotlivě do 200 m2, z drobných kostek nebo odseků, kladených do lože z kameniva těženého, škváry nebo strusky | D31: m2 | E31: 1039.5 | G31: =ROUND(E31*F31,2) -> 0 | I31: =ROUND(E31*H31,2) -> 0 | K31: =ROUND(E31*J31,2) -> 0 | L31: 15 | M31: =G31*(1+L31/100) -> 0 | N31: 0 | O31: =ROUND(E31*N31,2) -> 0 | P31: 0.1 | Q31: =ROUND(E31*P31,2) -> 103.95 | S31: RTS 17/ I | T31: Indiv | U31: 0.1 | V31: =ROUND(E31*U31,2) -> 103.95 | AG31: POL1_9
C32: s přemístěním hmot na skládku na vzdálenost do 3 m nebo s naložením na dopravní prostředek | AG32: SPI
A33: 12 | B33: 113107610R00 | C33: Odstranění podkladů nebo krytů z kameniva hrubého drceného, v ploše jednotlivě nad 50 m2, tloušťka vrstvy 100 mm | D33: m2 | E33: 1039.5 | G33: =ROUND(E33*F33,2) -> 0 | I33: =ROUND(E33*H33,2) -> 0 | K33: =ROUND(E33*J33,2) -> 0 | L33: 15 | M33: =G33*(1+L33/100) -> 0 | N33: 0 | O33: =ROUND(E33*N33,2) -> 0 | P33: 0.22 | Q33: =ROUND(E33*P33,2) -> 228.69 | S33: RTS 17/ I | T33: Indiv | U33: 0.049 | V33: =ROUND(E33*U33,2) -> 50.94 | AG33: POL1_9
A34: 13 | B34: 111203111R00 | C34: Odtsranění pařezu odfrézováním do hloubky 500 mm pod úroveň terénu odstranění pařezu odfrézováním až do hloubky 500 mm | D34: m2 | E34: 15 | G34: =ROUND(E34*F34,2) -> 0 | I34: =ROUND(E34*H34,2) -> 0 | K34: =ROUND(E34*J34,2) -> 0 | L34: 15 | M34: =G34*(1+L34/100) -> 0 | N34: 0 | O34: =ROUND(E34*N34,2) -> 0 | P34: 0 | Q34: =ROUND(E34*P34,2) -> 0 | S34: RTS 17/ I | T34: Indiv | U34: 2.913 | V34: =ROUND(E34*U34,2) -> 43.7 | AG34: POL1_9
A35: 14 | B35: 171201201R00 | C35: Uložení sypaniny na dočasnou skládku tak, že na 1 m2 plochy připadá přes 2 m3 výkopku nebo ornice | D35: m3 | E35: 708.75 | G35: =ROUND(E35*F35,2) -> 0 | I35: =ROUND(E35*H35,2) -> 0 | K35: =ROUND(E35*J35,2) -> 0 | L35: 15 | M35: =G35*(1+L35/100) -> 0 | N35: 0 | O35: =ROUND(E35*N35,2) -> 0 | P35: 0 | Q35: =ROUND(E35*P35,2) -> 0 | S35: RTS 17/ I | T35: Indiv | U35: 0.009 | V35: =ROUND(E35*U35,2) -> 6.38 | AG35: POL1_9
A36: Díl: | B36: 1a | C36: Vedlejší náklady | G36: =SUMIF(AG37:AG40,"<>NOR",G37:G40) -> 0 | I36: =SUM(I37:I40) -> 0 | K36: =SUM(K37:K40) -> 0 | M36: =SUM(M37:M40) -> 0 | O36: =SUM(O37:O40) -> 0 | Q36: =SUM(Q37:Q40) -> 1.62 | V36: =SUM(V37:V40) -> 0.95 | AG36: DIL
A37: 15 | B37: 113202111R00 | C37: Vytrhání obrub z krajníků nebo obrubníků stojatých | D37: m | E37: 6 | G37: =ROUND(E37*F37,2) -> 0 | I37: =ROUND(E37*H37,2) -> 0 | K37: =ROUND(E37*J37,2) -> 0 | L37: 15 | M37: =G37*(1+L37/100) -> 0 | N37: 0 | O37: =ROUND(E37*N37,2) -> 0 | P37: 0.27 | Q37: =ROUND(E37*P37,2) -> 1.62 | S37: RTS 17/ I | T37: Indiv | U37: 0.123 | V37: =ROUND(E37*U37,2) -> 0.74 | AG37: POL1_9
C38: s vybouráním lože, s přemístěním hmot na skládku na vzdálenost do 3 m nebo naložením na dopravní prostředek | AG38: SPI | BA38: =C38 -> s vybouráním lože, s přemístěním hmot na skládku na vzdálenost do 3 m nebo naložením na dopravní prostředek
A39: 16 | B39: 919735111R00 | C39: Řezání stávajících krytů nebo podkladů živičných, hloubky do 50 mm | D39: m | E39: 6.5 | G39: =ROUND(E39*F39,2) -> 0 | I39: =ROUND(E39*H39,2) -> 0 | K39: =ROUND(E39*J39,2) -> 0 | L39: 15 | M39: =G39*(1+L39/100) -> 0 | N39: 0 | O39: =ROUND(E39*N39,2) -> 0 | P39: 0 | Q39: =ROUND(E39*P39,2) -> 0 | S39: RTS 17/ I | T39: Indiv | U39: 0.032 | V39: =ROUND(E39*U39,2) -> 0.21 | AG39: POL1_9
C40: včetně spotřeby vody | AG40: SPI
A41: Díl: | B41: 2 | C41: Základy a zvláštní zakládání | G41: =SUMIF(AG42:AG46,"<>NOR",G42:G46) -> 0 | I41: =SUM(I42:I46) -> 0 | K41: =SUM(K42:K46) -> 0 | M41: =SUM(M42:M46) -> 0 | O41: =SUM(O42:O46) -> 3.2 | Q41: =SUM(Q42:Q46) -> 0 | V41: =SUM(V42:V46) -> 98.77 | AG41: DIL
A42: 17 | B42: 289970111R00 | C42: Geotextílie separační, filtrační, zpevňující polypropylén, 300 g/m2 | D42: m2 | E42: 1039.5 | G42: =ROUND(E42*F42,2) -> 0 | I42: =ROUND(E42*H42,2) -> 0 | K42: =ROUND(E42*J42,2) -> 0 | L42: 15 | M42: =G42*(1+L42/100) -> 0 | N42: 0.0005 | O42: =ROUND(E42*N42,2) -> 0.52 | P42: 0 | Q42: =ROUND(E42*P42,2) -> 0 | S42: RTS 17/ I | T42: Indiv | U42: 0.094 | V42: =ROUND(E42*U42,2) -> 97.71 | AG42: POL1_9
...

Sheet SO 02 SO 02 Pol
A1: Položkový soupis prací a dodávek | AG1: #TypZaznamu#
A2: S: | B2: 001_v3 | C2: OBNOVA LESOPARKU HRADISKO A KALVÁRIE - HRADISKO | AG2: STA
A3: O: | B3: SO 02 | C3: Mostek Hradisko | AC3: STA | AG3: OBJ
A4: R: | B4: SO 02 | C4: Mostek Hradisko | AG4: ROZ
A6: P.č. | B6: Číslo položky | C6: Název položky | D6: MJ | E6: množství | F6: cena / MJ | G6: Celkem | H6: Dodávka | I6: Dodávka celk. | J6: Montáž | K6: Montáž celk. | L6: DPH | M6: cena s DPH | N6: hmotnost / MJ | O6: hmotnost celk.(t) | P6: dem. hmotnost / MJ | Q6: dem. hmotnost celk.(t) | R6: Ceník | S6: Cen. soustava / platnost | T6: Cenová úroveň | U6: Nhod / MJ | V6: Nhod celk. | W6: Dodavatel
A8: Díl: | B8: 1 | C8: Zemní práce | G8: =SUMIF(AG9:AG22,"<>NOR",G9:G22) -> 0 | I8: =SUM(I9:I22) -> 0 | K8: =SUM(K9:K22) -> 0 | M8: =SUM(M9:M22) -> 0 | O8: =SUM(O9:O22) -> 0 | Q8: =SUM(Q9:Q22) -> 0 | V8: =SUM(V9:V22) -> 529.84 | AG8: DIL
A9: 1 | B9: 139601102R00 | C9: Ruční výkop jam, rýh a šachet v hornině 3 | D9: m3 | E9: 42.8 | G9: =ROUND(E9*F9,2) -> 0 | I9: =ROUND(E9*H9,2) -> 0 | K9: =ROUND(E9*J9,2) -> 0 | L9: 15 | M9: =G9*(1+L9/100) -> 0 | N9: 0 | O9: =ROUND(E9*N9,2) -> 0 | P9: 0 | Q9: =ROUND(E9*P9,2) -> 0 | S9: RTS 17/ I | T9: Indiv | U9: 3.533 | V9: =ROUND(E9*U9,2) -> 151.21 | AG9: POL1_9
C10: s přehozením na vzdálenost do 5 m nebo s naložením na ruční dopravní prostředek | AG10: SPI
A11: 2 | B11: 167101201R00 | C11: Nakládání, skládání, překládání neulehlého výkopku nakládání, skládání, překládání neulehléno výkopku nebo zeminy - ručně_x000D_ z horniny 1 až 4 | D11: m3 | E11: 42.8 | G11: =ROUND(E11*F11,2) -> 0 | I11: =ROUND(E11*H11,2) -> 0 | K11: =ROUND(E11*J11,2) -> 0 | L11: 15 | M11: =G11*(1+L11/100) -> 0 | N11: 0 | O11: =ROUND(E11*N11,2) -> 0 | P11: 0 | Q11: =ROUND(E11*P11,2) -> 0 | S11: RTS 17/ I | T11: Indiv | U11: 1.938 | V11: =ROUND(E11*U11,2) -> 82.95 | AG11: POL1_9
A12: 3 | B12: 171201201R00 | C12: Uložení sypaniny na dočasnou skládku tak, že na 1 m2 plochy připadá přes 2 m3 výkopku nebo ornice | D12: m3 | E12: 66.25 | G12: =ROUND(E12*F12,2) -> 0 | I12: =ROUND(E12*H12,2) -> 0 | K12: =ROUND(E12*J12,2) -> 0 | L12: 15 | M12: =G12*(1+L12/100) -> 0 | N12: 0 | O12: =ROUND(E12*N12,2) -> 0 | P12: 0 | Q12: =ROUND(E12*P12,2) -> 0 | S12: RTS 17/ I | T12: Indiv | U12: 0.009 | V12: =ROUND(E12*U12,2) -> 0.6 | AG12: POL1_9
A13: 4 | B13: 182301122R00 | C13: Rozprostření a urovnání ornice ve svahu v souvislé ploše do 500 m2, tloušťka vrstvy přes 100 do 150 mm | D13: m2 | E13: 285 | G13: =ROUND(E13*F13,2) -> 0 | I13: =ROUND(E13*H13,2) -> 0 | K13: =ROUND(E13*J13,2) -> 0 | L13: 15 | M13: =G13*(1+L13/100) -> 0 | N13: 0 | O13: =ROUND(E13*N13,2) -> 0 | P13: 0 | Q13: =ROUND(E13*P13,2) -> 0 | S13: RTS 17/ I | T13: Indiv | U13: 0.263 | V13: =ROUND(E13*U13,2) -> 74.96 | AG13: POL1_9
C14: s případným nutným přemístěním hromad nebo dočasných skládek na místo potřeby ze vzdálenosti do 30 m, ve svahu sklonu přes 1 : 5, | AG14: SPI | BA14: =C14 -> s případným nutným přemístěním hromad nebo dočasných skládek na místo potřeby ze vzdálenosti do 30 m, ve svahu sklonu přes 1 : 5,
A15: 5 | B15: 161101501R00 | C15: Svislé přemístění výkopku nošením z horniny 1 až 4 | D15: m3 | E15: 42.8 | G15: =ROUND(E15*F15,2) -> 0 | I15: =ROUND(E15*H15,2) -> 0 | K15: =ROUND(E15*J15,2) -> 0 | L15: 15 | M15: =G15*(1+L15/100) -> 0 | N15: 0 | O15: =ROUND(E15*N15,2) -> 0 | P15: 0 | Q15: =ROUND(E15*P15,2) -> 0 | S15: RTS 17/ I | T15: Indiv | U15: 3.81 | V15: =ROUND(E15*U15,2) -> 163.07 | AG15: POL1_9
C16: bez naložení, avšak s vyprázdněním nádoby na hromady nebo do dopravního prostředku, na každých třeba i započatých 3 m výšky, | AG16: SPI | BA16: =C16 -> bez naložení, avšak s vyprázdněním nádoby na hromady nebo do dopravního prostředku, na každých třeba i započatých 3 m výšky,
A17: 6 | B17: 162201203R00 | C17: Vodorovné přemístění výkopku nošením z horniny 1 až 4, kolečkem, na vzdálenost do 10 m | D17: m3 | E17: 42.8 | G17: =ROUND(E17*F17,2) -> 0 | I17: =ROUND(E17*H17,2) -> 0 | K17: =ROUND(E17*J17,2) -> 0 | L17: 15 | M17: =G17*(1+L17/100) -> 0 | N17: 0 | O17: =ROUND(E17*N17,2) -> 0 | P17: 0 | Q17: =ROUND(E17*P17,2) -> 0 | S17: RTS 17/ I | T17: Indiv | U17: 0.668 | V17: =ROUND(E17*U17,2) -> 28.59 | AG17: POL1_9
C18: bez naložení, avšak s vyprázdněním nádoby na hromadu nebo do dopravního prostředku, | AG18: SPI
A19: 7 | B19: 162201210R00 | C19: Vodorovné přemístění výkopku nošením příplatek k ceně za každých dalších 10 m_x000D_ z horniny 1 až 4, kolečkem | D19: m3 | E19: 42.8 | G19: =ROUND(E19*F19,2) -> 0 | I19: =ROUND(E19*H19,2) -> 0 | K19: =ROUND(E19*J19,2) -> 0 | L19: 15 | M19: =G19*(1+L19/100) -> 0 | N19: 0 | O19: =ROUND(E19*N19,2) -> 0 | P19: 0 | Q19: =ROUND(E19*P19,2) -> 0 | S19: RTS 17/ I | T19: Indiv | U19: 0.591 | V19: =ROUND(E19*U19,2) -> 25.29 | AG19: POL1_9
C20: bez naložení, avšak s vyprázdněním nádoby na hromadu nebo do dopravního prostředku, | AG20: SPI
A21: 8 | B21: 162201102R00 | C21: Vodorovné přemístění výkopku z horniny 1 až 4, na vzdálenost přes 20 do 50 m | D21: m3 | E21: 42.8 | G21: =ROUND(E21*F21,2) -> 0 | I21: =ROUND(E21*H21,2) -> 0 | K21: =ROUND(E21*J21,2) -> 0 | L21: 15 | M21: =G21*(1+L21/100) -> 0 | N21: 0 | O21: =ROUND(E21*N21,2) -> 0 | P21: 0 | Q21: =ROUND(E21*P21,2) -> 0 | S21: RTS 17/ I | T21: Indiv | U21: 0.074 | V21: =ROUND(E21*U21,2) -> 3.17 | AG21: POL1_9
C22: po suchu, bez naložení výkopku, avšak se složením bez rozhrnutí, zpáteční cesta vozidla. | AG22: SPI
A23: Díl: | B23: 2 | C23: Základy a zvláštní zakládání | G23: =SUMIF(AG24:AG35,"<>NOR",G24:G35) -> 0 | I23: =SUM(I24:I35) -> 0 | K23: =SUM(K24:K35) -> 0 | M23: =SUM(M24:M35) -> 0 | O23: =SUM(O24:O35) -> 76.71 | Q23: =SUM(Q24:Q35) -> 0 | V23: =SUM(V24:V35) -> 277.36 | AG23: DIL
A24: 9 | B24: 275321411R00 | C24: Beton základových patek železový třídy C 25/30 | D24: m3 | E24: 22.38 | G24: =ROUND(E24*F24,2) -> 0 | I24: =ROUND(E24*H24,2) -> 0 | K24: =ROUND(E24*J24,2) -> 0 | L24: 15 | M24: =G24*(1+L24/100) -> 0 | N24: 2.525 | O24: =ROUND(E24*N24,2) -> 56.51 | P24: 0 | Q24: =ROUND(E24*P24,2) -> 0 | S24: RTS 17/ I | T24: RTS 17/ I | U24: 0.48 | V24: =ROUND(E24*U24,2) -> 10.74 | AG24: POL1_9
C25: bez dodávky a uložení výztuže | AG25: SPI
A26: 10 | B26: 271571112R00 | C26: Polštáře zhutněné pod základy štěrkopísek netříděný, | D26: m3 | E26: 6.625 | G26: =ROUND(E26*F26,2) -> 0 | I26: =ROUND(E26*H26,2) -> 0 | K26: =ROUND(E26*J26,2) -> 0 | L26: 15 | M26: =G26*(1+L26/100) -> 0 | N26: 1.93971 | O26: =ROUND(E26*N26,2) -> 12.85 | P26: 0 | Q26: =ROUND(E26*P26,2) -> 0 | S26: RTS 17/ I | T26: Indiv | U26: 0.965 | V26: =ROUND(E26*U26,2) -> 6.39 | AG26: POL1_9
A27: 11 | B27: 275351215R00 | C27: Bednění stěn základových patek zřízení | D27: m2 | E27: 88 | G27: =ROUND(E27*F27,2) -> 0 | I27: =ROUND(E27*H27,2) -> 0 | K27: =ROUND(E27*J27,2) -> 0 | L27: 15 | M27: =G27*(1+L27/100) -> 0 | N27: 0.0392 | O27: =ROUND(E27*N27,2) -> 3.45 | P27: 0 | Q27: =ROUND(E27*P27,2) -> 0 | S27: RTS 17/ I | T27: Indiv | U27: 1.05 | V27: =ROUND(E27*U27,2) -> 92.4 | AG27: POL1_9
C28: bednění svislé nebo šikmé (odkloněné), půdorysně přímé nebo zalomené, stěn základových patek ve volných nebo zapažených jámách, rýhách, šachtách, včetně případných vzpěr, | AG28: SPI | BA28: =C28 -> bednění svislé nebo šikmé (odkloněné), půdorysně přímé nebo zalomené, stěn základových patek ve volných nebo zapažených jámách, rýhách, šachtách, včetně případných vzpěr,
A29: 12 | B29: 275351216R00 | C29: Bednění stěn základových patek odstranění | D29: m2 | E29: 88 | G29: =ROUND(E29*F29,2) -> 0 | I29: =ROUND(E29*H29,2) -> 0 | K29: =ROUND(E29*J29,2) -> 0 | L29: 15 | M29: =G29*(1+L29/100) -> 0 | N29: 0 | O29: =ROUND(E29*N29,2) -> 0 | P29: 0 | Q29: =ROUND(E29*P29,2) -> 0 | S29: RTS 17/ I | T29: Indiv | U29: 0.32 | V29: =ROUND(E29*U29,2) -> 28.16 | AG29: POL1_9
C30: bednění svislé nebo šikmé (odkloněné), půdorysně přímé nebo zalomené, stěn základových patek ve volných nebo zapažených jámách, rýhách, šachtách, včetně případných vzpěr, | AG30: SPI | BA30: =C30 -> bednění svislé nebo šikmé (odkloněné), půdorysně přímé nebo zalomené, stěn základových patek ve volných nebo zapažených jámách, rýhách, šachtách, včetně případných vzpěr,
C31: Včetně očištění, vytřídění a uložení bednícího materiálu. | AG31: POP
A32: 13 | B32: 275353131R00 | C32: Bednění kotevních otvorů a prostupů v základových patkách o průřezu přes 0,05 do 0,10 m2, hloubky do 1,00 m | D32: kus | E32: 66.25 | G32: =ROUND(E32*F32,2) -> 0 | I32: =ROUND(E32*H32,2) -> 0 | K32: =ROUND(E32*J32,2) -> 0 | L32: 15 | M32: =G32*(1+L32/100) -> 0 | N32: 0.01353 | O32: =ROUND(E32*N32,2) -> 0.9 | P32: 0 | Q32: =ROUND(E32*P32,2) -> 0 | S32: RTS 17/ I | T32: Indiv | U32: 1.064 | V32: =ROUND(E32*U32,2) -> 70.49 | AG32: POL1_9
C33: včetně polohového zajištění a odbednění, popřípadě ztraceného bednění z pletiva a podobně. | AG33: SPI
A34: 14 | B34: 275361821R00 | C34: Výztuž základových patek z betonářské oceli 10 505(R) | D34: t | E34: 2.94 | G34: =ROUND(E34*F34,2) -> 0 | I34: =ROUND(E34*H34,2) -> 0 | K34: =ROUND(E34*J34,2) -> 0 | L34: 15 | M34: =G34*(1+L34/100) -> 0 | N34: 1.02116 | O34: =ROUND(E34*N34,2) -> 3 | P34: 0 | Q34: =ROUND(E34*P34,2) -> 0 | S34: RTS 17/ I | T34: Indiv | U34: 23.531 | V34: =ROUND(E34*U34,2) -> 69.18 | AG34: POL1_9
C35: včetně distančních prvků | AG35: SPI
A36: Díl: | B36: 99 | C36: Staveništní přesun hmot | G36: =SUMIF(AG37:AG38,"<>NOR",G37:G38) -> 0 | I36: =SUM(I37:I38) -> 0 | K36: =SUM(K37:K38) -> 0 | M36: =SUM(M37:M38) -> 0 | O36: =SUM(O37:O38) -> 0 | Q36: =SUM(Q37:Q38) -> 0 | V36: =SUM(V37:V38) -> 85.15 | AG36: DIL
A37: 15 | B37: 998218111R00 | C37: Přesun hmot pro mosty dřevěné výška do 10 m, | D37: t | E37: 76.70825 | G37: =ROUND(E37*F37,2) -> 0 | I37: =ROUND(E37*H37,2) -> 0 | K37: =ROUND(E37*J37,2) -> 0 | L37: 15 | M37: =G37*(1+L37/100) -> 0 | N37: 0 | O37: =ROUND(E37*N37,2) -> 0 | P37: 0 | Q37: =ROUND(E37*P37,2) -> 0 | S37: RTS 17/ I | T37: Indiv | U37: 1.11 | V37: =ROUND(E37*U37,2) -> 85.15 | AG37: POL1_9
C38: na novostavbách, včetně příplatku za zvětšený přesun přes vymezenou dopravní vzdálenost, | AG38: SPI
A39: Díl: | B39: 762 | C39: Konstrukce tesařské | G39: =SUMIF(AG40:AG44,"<>NOR",G40:G44) -> 0 | I39: =SUM(I40:I44) -> 0 | K39: =SUM(K40:K44) -> 0 | M39: =SUM(M40:M44) -> 0 | O39: =SUM(O40:O44) -> 1.98 | Q39: =SUM(Q40:Q44) -> 0 | V39: =SUM(V40:V44) -> 22.44 | AG39: DIL
A40: 16 | B40: 762521108RT3 | C40: Položení podlah s dodávkou materiálu hrubých fošen nehoblovaných na sraz, tloušťky 50 mm | D40: m2 | E40: 66.14 | G40: =ROUND(E40*F40,2) -> 0 | I40: =ROUND(E40*H40,2) -> 0 | K40: =ROUND(E40*J40,2) -> 0 | L40: 15 | M40: =G40*(1+L40/100) -> 0 | N40: 0.0297 | O40: =ROUND(E40*N40,2) -> 1.96 | P40: 0 | Q40: =ROUND(E40*P40,2) -> 0 | S40: RTS 17/ I | T40: Indiv | U40: 0.287 | V40: =ROUND(E40*U40,2) -> 18.98 | AG40: POL1_9
A41: 17 | B41: 762595000R00 | C41: Spojovací a ochranné prostředky hřebíky, vruty, impregnace | D41: m3 | E41: 3.3 | G41: =ROUND(E41*F41,2) -> 0 | I41: =ROUND(E41*H41,2) -> 0 | K41: =ROUND(E41*J41,2) -> 0 | L41: 15 | M41: =G41*(1+L41/100) -> 0 | N41: 0.00295 | O41: =ROUND(E41*N41,2) -> 0.01 | P41: 0 | Q41: =ROUND(E41*P41,2) -> 0 | S41: RTS 17/ I | T41: Indiv | U41: 0 | V41: =ROUND(E41*U41,2) -> 0 | AG41: POL1_9
A42: 18 | B42: 998762102R00 | C42: Přesun hmot pro konstrukce tesařské v objektech výšky do 12 m | D42: t | E42: 1.97409 | G42: =ROUND(E42*F42,2) -> 0 | I42: =ROUND(E42*H42,2) -> 0 | K42: =ROUND(E42*J42,2) -> 0 | L42: 15 | M42: =G42*(1+L42/100) -> 0 | N42: 0 | O42: =ROUND(E42*N42,2) -> 0 | P42: 0 | Q42: =ROUND(E42*P42,2) -> 0 | S42: RTS 17/ I | T42: Indiv | U42: 1.751 | V42: =ROUND(E42*U42,2) -> 3.46 | AG42: POL1_9
...

Sheet SO 03 SO 03 Pol
A1: Položkový soupis prací a dodávek | AG1: #TypZaznamu#
A2: S: | B2: 001_v3 | C2: OBNOVA LESOPARKU HRADISKO A KALVÁRIE - HRADISKO | AG2: STA
A3: O: | B3: SO 03 | C3: Čertův mostek | AC3: STA | AG3: OBJ
A4: R: | B4: SO 03 | C4: Čertův mostek | AG4: ROZ
A6: P.č. | B6: Číslo položky | C6: Název položky | D6: MJ | E6: množství | F6: cena / MJ | G6: Celkem | H6: Dodávka | I6: Dodávka celk. | J6: Montáž | K6: Montáž celk. | L6: DPH | M6: cena s DPH | N6: hmotnost / MJ | O6: hmotnost celk.(t) | P6: dem. hmotnost / MJ | Q6: dem. hmotnost celk.(t) | R6: Ceník | S6: Cen. soustava / platnost | T6: Cenová úroveň | U6: Nhod / MJ | V6: Nhod celk. | W6: Dodavatel
A8: Díl: | B8: 1 | C8: Zemní práce | G8: =SUMIF(AG9:AG23,"<>NOR",G9:G23) -> 0 | I8: =SUM(I9:I23) -> 0 | K8: =SUM(K9:K23) -> 0 | M8: =SUM(M9:M23) -> 0 | O8: =SUM(O9:O23) -> 0 | Q8: =SUM(Q9:Q23) -> 0 | V8: =SUM(V9:V23) -> 6.74 | AG8: DIL
A9: 1 | B9: 121101101R00 | C9: Sejmutí ornice s přemístěním na vzdálenost do 50 m | D9: m3 | E9: 1.2 | G9: =ROUND(E9*F9,2) -> 0 | I9: =ROUND(E9*H9,2) -> 0 | K9: =ROUND(E9*J9,2) -> 0 | L9: 15 | M9: =G9*(1+L9/100) -> 0 | N9: 0 | O9: =ROUND(E9*N9,2) -> 0 | P9: 0 | Q9: =ROUND(E9*P9,2) -> 0 | S9: RTS 17/ I | T9: Indiv | U9: 0.097 | V9: =ROUND(E9*U9,2) -> 0.12 | AG9: POL1_9
C10: nebo lesní půdy, s vodorovným přemístěním na hromady v místě upotřebení nebo na dočasné či trvalé skládky se složením | AG10: SPI | BA10: =C10 -> nebo lesní půdy, s vodorovným přemístěním na hromady v místě upotřebení nebo na dočasné či trvalé skládky se složením
A11: 2 | B11: 131201112R00 | C11: Hloubení nezapažených jam a zářezů do 1000 m3, v hornině 3, hloubení strojně | D11: m3 | E11: 2.8 | G11: =ROUND(E11*F11,2) -> 0 | I11: =ROUND(E11*H11,2) -> 0 | K11: =ROUND(E11*J11,2) -> 0 | L11: 15 | M11: =G11*(1+L11/100) -> 0 | N11: 0 | O11: =ROUND(E11*N11,2) -> 0 | P11: 0 | Q11: =ROUND(E11*P11,2) -> 0 | S11: RTS 17/ I | T11: Indiv | U11: 0.11 | V11: =ROUND(E11*U11,2) -> 0.31 | AG11: POL1_9
C12: kromě zářezů se šikmými stěnami pro podzemní vedení, s urovnáním dna do předepsaného profilu a spádu, s případným nutným přemístěním ve výkopišti a dále buď s přemístěním výkopku na přilehlém terénu na vzdálenost do 3 m od okraje jámy nebo s naložením na dopravní prostředek, | AG12: SPI | BA12: =C12 -> kromě zářezů se šikmými stěnami pro podzemní vedení, s urovnáním dna do předepsaného profilu a spádu, s případným nutným přemístěním ve výkopišti a dále buď s přemístěním výkopku na přilehlém terénu na vzdálenost do 3 m od okraje jámy nebo s naložením na dopravní prostředek,
A13: 3 | B13: 161101103R00 | C13: Svislé přemístění výkopku z horniny 1 až 4, při hloubce výkopu přes 4 do 6 m | D13: m3 | E13: 2.8 | G13: =ROUND(E13*F13,2) -> 0 | I13: =ROUND(E13*H13,2) -> 0 | K13: =ROUND(E13*J13,2) -> 0 | L13: 15 | M13: =G13*(1+L13/100) -> 0 | N13: 0 | O13: =ROUND(E13*N13,2) -> 0 | P13: 0 | Q13: =ROUND(E13*P13,2) -> 0 | S13: RTS 17/ I | T13: Indiv | U13: 0.626 | V13: =ROUND(E13*U13,2) -> 1.75 | AG13: POL1_9
C14: bez naložení do dopravní nádoby, ale s vyprázdněním dopravní nádoby na hromadu nebo na dopravní prostředek, | AG14: SPI | BA14: =C14 -> bez naložení do dopravní nádoby, ale s vyprázdněním dopravní nádoby na hromadu nebo na dopravní prostředek,
A15: 4 | B15: 162701105R00 | C15: Vodorovné přemístění výkopku z horniny 1 až 4, na vzdálenost přes 9 000 do 10 000 m | D15: m3 | E15: 2.8 | G15: =ROUND(E15*F15,2) -> 0 | I15: =ROUND(E15*H15,2) -> 0 | K15: =ROUND(E15*J15,2) -> 0 | L15: 15 | M15: =G15*(1+L15/100) -> 0 | N15: 0 | O15: =ROUND(E15*N15,2) -> 0 | P15: 0 | Q15: =ROUND(E15*P15,2) -> 0 | S15: RTS 17/ I | T15: Indiv | U15: 0.011 | V15: =ROUND(E15*U15,2) -> 0.03 | AG15: POL1_9
C16: po suchu, bez ohledu na druh dopravního prostředku, bez naložení výkopku, avšak se složením bez rozhrnutí, | AG16: SPI | BA16: =C16 -> po suchu, bez ohledu na druh dopravního prostředku, bez naložení výkopku, avšak se složením bez rozhrnutí,
A17: 5 | B17: 167101101R00 | C17: Nakládání, skládání, překládání neulehlého výkopku nakládání výkopku_x000D_ do 100 m3, z horniny 1 až 4 | D17: m3 | E17: 2.8 | G17: =ROUND(E17*F17,2) -> 0 | I17: =ROUND(E17*H17,2) -> 0 | K17: =ROUND(E17*J17,2) -> 0 | L17: 15 | M17: =G17*(1+L17/100) -> 0 | N17: 0 | O17: =ROUND(E17*N17,2) -> 0 | P17: 0 | Q17: =ROUND(E17*P17,2) -> 0 | S17: RTS 17/ I | T17: Indiv | U17: 0.652 | V17: =ROUND(E17*U17,2) -> 1.83 | AG17: POL1_9
A18: 6 | B18: 171201201R00 | C18: Uložení sypaniny na dočasnou skládku tak, že na 1 m2 plochy připadá přes 2 m3 výkopku nebo ornice | D18: m3 | E18: 2.8 | G18: =ROUND(E18*F18,2) -> 0 | I18: =ROUND(E18*H18,2) -> 0 | K18: =ROUND(E18*J18,2) -> 0 | L18: 15 | M18: =G18*(1+L18/100) -> 0 | N18: 0 | O18: =ROUND(E18*N18,2) -> 0 | P18: 0 | Q18: =ROUND(E18*P18,2) -> 0 | S18: RTS 17/ I | T18: Indiv | U18: 0.009 | V18: =ROUND(E18*U18,2) -> 0.03 | AG18: POL1_9
A19: 7 | B19: 174101101R00 | C19: Zásyp sypaninou se zhutněním jam, šachet, rýh nebo kolem objektů v těchto vykopávkách | D19: m3 | E19: 2.8 | G19: =ROUND(E19*F19,2) -> 0 | I19: =ROUND(E19*H19,2) -> 0 | K19: =ROUND(E19*J19,2) -> 0 | L19: 15 | M19: =G19*(1+L19/100) -> 0 | N19: 0 | O19: =ROUND(E19*N19,2) -> 0 | P19: 0 | Q19: =ROUND(E19*P19,2) -> 0 | S19: RTS 17/ I | T19: Indiv | U19: 0.202 | V19: =ROUND(E19*U19,2) -> 0.57 | AG19: POL1_9
C20: z jakékoliv horniny s uložením výkopku po vrstvách, | AG20: SPI
C21: včetně strojního přemístění materiálu pro zásyp ze vzdálenosti do 10 m od okraje zásypu | AG21: POP
A22: 8 | B22: 182301122R00 | C22: Rozprostření a urovnání ornice ve svahu v souvislé ploše do 500 m2, tloušťka vrstvy přes 100 do 150 mm | D22: m2 | E22: 8 | G22: =ROUND(E22*F22,2) -> 0 | I22: =ROUND(E22*H22,2) -> 0 | K22: =ROUND(E22*J22,2) -> 0 | L22: 15 | M22: =G22*(1+L22/100) -> 0 | N22: 0 | O22: =ROUND(E22*N22,2) -> 0 | P22: 0 | Q22: =ROUND(E22*P22,2) -> 0 | S22: RTS 17/ I | T22: Indiv | U22: 0.263 | V22: =ROUND(E22*U22,2) -> 2.1 | AG22: POL1_9
C23: s případným nutným přemístěním hromad nebo dočasných skládek na místo potřeby ze vzdálenosti do 30 m, ve svahu sklonu přes 1 : 5, | AG23: SPI | BA23: =C23 -> s případným nutným přemístěním hromad nebo dočasných skládek na místo potřeby ze vzdálenosti do 30 m, ve svahu sklonu přes 1 : 5,
A24: Díl: | B24: 2 | C24: Základy a zvláštní zakládání | G24: =SUMIF(AG25:AG35,"<>NOR",G25:G35) -> 0 | I24: =SUM(I25:I35) -> 0 | K24: =SUM(K25:K35) -> 0 | M24: =SUM(M25:M35) -> 0 | O24: =SUM(O25:O35) -> 8.81 | Q24: =SUM(Q25:Q35) -> 0 | V24: =SUM(V25:V35) -> 50.76 | AG24: DIL
A25: 9 | B25: 271571112R00 | C25: Polštář základu ze štěrkopísku netříděného | D25: m3 | E25: 0.8 | G25: =ROUND(E25*F25,2) -> 0 | I25: =ROUND(E25*H25,2) -> 0 | K25: =ROUND(E25*J25,2) -> 0 | L25: 15 | M25: =G25*(1+L25/100) -> 0 | N25: 1.93971 | O25: =ROUND(E25*N25,2) -> 1.55 | P25: 0 | Q25: =ROUND(E25*P25,2) -> 0 | S25: RTS 17/ I | T25: Indiv | U25: 0.965 | V25: =ROUND(E25*U25,2) -> 0.77 | AG25: POL1_9
A26: 10 | B26: 275321411R00 | C26: Beton základových patek železový třídy C 25/30 | D26: m3 | E26: 2.4 | G26: =ROUND(E26*F26,2) -> 0 | I26: =ROUND(E26*H26,2) -> 0 | K26: =ROUND(E26*J26,2) -> 0 | L26: 15 | M26: =G26*(1+L26/100) -> 0 | N26: 2.525 | O26: =ROUND(E26*N26,2) -> 6.06 | P26: 0 | Q26: =ROUND(E26*P26,2) -> 0 | S26: RTS 17/ I | T26: RTS 17/ I | U26: 0.48 | V26: =ROUND(E26*U26,2) -> 1.15 | AG26: POL1_9
C27: bez dodávky a uložení výztuže | AG27: SPI
A28: 11 | B28: 275351215R00 | C28: Bednění stěn základových patek zřízení | D28: m2 | E28: 17.2 | G28: =ROUND(E28*F28,2) -> 0 | I28: =ROUND(E28*H28,2) -> 0 | K28: =ROUND(E28*J28,2) -> 0 | L28: 15 | M28: =G28*(1+L28/100) -> 0 | N28: 0.0392 | O28: =ROUND(E28*N28,2) -> 0.67 | P28: 0 | Q28: =ROUND(E28*P28,2) -> 0 | S28: RTS 17/ I | T28: Indiv | U28: 1.05 | V28: =ROUND(E28*U28,2) -> 18.06 | AG28: POL1_9
C29: bednění svislé nebo šikmé (odkloněné), půdorysně přímé nebo zalomené, stěn základových patek ve volných nebo zapažených jámách, rýhách, šachtách, včetně případných vzpěr, | AG29: SPI | BA29: =C29 -> bednění svislé nebo šikmé (odkloněné), půdorysně přímé nebo zalomené, stěn základových patek ve volných nebo zapažených jámách, rýhách, šachtách, včetně případných vzpěr,
A30: 12 | B30: 275351216R00 | C30: Bednění stěn základových patek odstranění | D30: m2 | E30: 17.2 | G30: =ROUND(E30*F30,2) -> 0 | I30: =ROUND(E30*H30,2) -> 0 | K30: =ROUND(E30*J30,2) -> 0 | L30: 15 | M30: =G30*(1+L30/100) -> 0 | N30: 0 | O30: =ROUND(E30*N30,2) -> 0 | P30: 0 | Q30: =ROUND(E30*P30,2) -> 0 | S30: RTS 17/ I | T30: Indiv | U30: 0.32 | V30: =ROUND(E30*U30,2) -> 5.5 | AG30: POL1_9
C31: bednění svislé nebo šikmé (odkloněné), půdorysně přímé nebo zalomené, stěn základových patek ve volných nebo zapažených jámách, rýhách, šachtách, včetně případných vzpěr, | AG31: SPI | BA31: =C31 -> bednění svislé nebo šikmé (odkloněné), půdorysně přímé nebo zalomené, stěn základových patek ve volných nebo zapažených jámách, rýhách, šachtách, včetně případných vzpěr,
C32: Včetně očištění, vytřídění a uložení bednícího materiálu. | AG32: POP
A33: 13 | B33: 275353131R00 | C33: Bednění kotevních otvorů a prostupů v základových patkách o průřezu přes 0,05 do 0,10 m2, hloubky do 1,00 m | D33: kus | E33: 17.2 | G33: =ROUND(E33*F33,2) -> 0 | I33: =ROUND(E33*H33,2) -> 0 | K33: =ROUND(E33*J33,2) -> 0 | L33: 15 | M33: =G33*(1+L33/100) -> 0 | N33: 0.01353 | O33: =ROUND(E33*N33,2) -> 0.23 | P33: 0 | Q33: =ROUND(E33*P33,2) -> 0 | S33: RTS 17/ I | T33: Indiv | U33: 1.064 | V33: =ROUND(E33*U33,2) -> 18.3 | AG33: POL1_9
C34: včetně polohového zajištění a odbednění, popřípadě ztraceného bednění z pletiva a podobně. | AG34: SPI
A35: 14 | B35: 275361821R00 | C35: Výztuž základových patek z betonářské oceli 10 505(R) | D35: t | E35: 0.2965 | G35: =ROUND(E35*F35,2) -> 0 | I35: =ROUND(E35*H35,2) -> 0 | K35: =ROUND(E35*J35,2) -> 0 | L35: 15 | M35: =G35*(1+L35/100) -> 0 | N35: 1.02116 | O35: =ROUND(E35*N35,2) -> 0.3 | P35: 0 | Q35: =ROUND(E35*P35,2) -> 0 | S35: RTS 17/ I | T35: Indiv | U35: 23.531 | V35: =ROUND(E35*U35,2) -> 6.98 | AG35: POL1_9
A36: Díl: | B36: 99 | C36: Staveništní přesun hmot | G36: =SUMIF(AG37:AG38,"<>NOR",G37:G38) -> 0 | I36: =SUM(I37:I38) -> 0 | K36: =SUM(K37:K38) -> 0 | M36: =SUM(M37:M38) -> 0 | O36: =SUM(O37:O38) -> 0 | Q36: =SUM(Q37:Q38) -> 0 | V36: =SUM(V37:V38) -> 2.76 | AG36: DIL
A37: 15 | B37: 998011002R00 | C37: Přesun hmot pro budovy s nosnou konstrukcí zděnou výšky přes 6 do 12 m | D37: t | E37: 8.97825 | G37: =ROUND(E37*F37,2) -> 0 | I37: =ROUND(E37*H37,2) -> 0 | K37: =ROUND(E37*J37,2) -> 0 | L37: 15 | M37: =G37*(1+L37/100) -> 0 | N37: 0 | O37: =ROUND(E37*N37,2) -> 0 | P37: 0 | Q37: =ROUND(E37*P37,2) -> 0 | S37: RTS 17/ I | T37: Indiv | U37: 0.307 | V37: =ROUND(E37*U37,2) -> 2.76 | AG37: POL1_9
C38: přesun hmot pro budovy občanské výstavby (JKSO 801), budovy pro bydlení (JKSO 803) budovy pro výrobu a služby (JKSO 812) s nosnou svislou konstrukcí zděnou z cihel nebo tvárnic nebo kovovou | AG38: SPI | BA38: =C38 -> přesun hmot pro budovy občanské výstavby (JKSO 801), budovy pro bydlení (JKSO 803) budovy pro výrobu a služby (JKSO 812) s nosnou svislou konstrukcí zděnou z cihel nebo tvárnic nebo kovovou
A39: Díl: | B39: 762 | C39: Konstrukce tesařské | G39: =SUMIF(AG40:AG44,"<>NOR",G40:G44) -> 0 | I39: =SUM(I40:I44) -> 0 | K39: =SUM(K40:K44) -> 0 | M39: =SUM(M40:M44) -> 0 | O39: =SUM(O40:O44) -> 0.2 | Q39: =SUM(Q40:Q44) -> 0 | V39: =SUM(V40:V44) -> 41.21 | AG39: DIL
A40: 16 | B40: 762523104RT2 | C40: Položení podlah s dodávkou materiálu z prken hoblovaných na sraz, tloušťky 18 mm | D40: m2 | E40: 18.5 | G40: =ROUND(E40*F40,2) -> 0 | I40: =ROUND(E40*H40,2) -> 0 | K40: =ROUND(E40*J40,2) -> 0 | L40: 15 | M40: =G40*(1+L40/100) -> 0 | N40: 0.01069 | O40: =ROUND(E40*N40,2) -> 0.2 | P40: 0 | Q40: =ROUND(E40*P40,2) -> 0 | S40: RTS 17/ I | T40: Indiv | U40: 0.301 | V40: =ROUND(E40*U40,2) -> 5.57 | AG40: POL1_9
A41: 17 | B41: 762595000R00 | C41: Spojovací a ochranné prostředky hřebíky, vruty, impregnace | D41: m3 | E41: 1.1 | G41: =ROUND(E41*F41,2) -> 0 | I41: =ROUND(E41*H41,2) -> 0 | K41: =ROUND(E41*J41,2) -> 0 | L41: 15 | M41: =G41*(1+L41/100) -> 0 | N41: 0.00295 | O41: =ROUND(E41*N41,2) -> 0 | P41: 0 | Q41: =ROUND(E41*P41,2) -> 0 | S41: RTS 17/ I | T41: Indiv | U41: 0 | V41: =ROUND(E41*U41,2) -> 0 | AG41: POL1_9
A42: 18 | B42: 998762102R00 | C42: Přesun hmot pro konstrukce tesařské v objektech výšky do 12 m | D42: t | E42: 20.35324 | G42: =ROUND(E42*F42,2) -> 0 | I42: =ROUND(E42*H42,2) -> 0 | K42: =ROUND(E42*J42,2) -> 0 | L42: 15 | M42: =G42*(1+L42/100) -> 0 | N42: 0 | O42: =ROUND(E42*N42,2) -> 0 | P42: 0 | Q42: =ROUND(E42*P42,2) -> 0 | S42: RTS 17/ I | T42: Indiv | U42: 1.751 | V42: =ROUND(E42*U42,2) -> 35.64 | AG42: POL1_9
...

Sheet SO 04 SO 04 Pol
A1: Položkový soupis prací a dodávek | AG1: #TypZaznamu#
A2: S: | B2: 001_v3 | C2: OBNOVA LESOPARKU HRADISKO A KALVÁRIE - HRADISKO | AG2: STA
A3: O: | B3: SO 04 | C3: Altán „Letec“ | AC3: STA | AG3: OBJ
A4: R: | B4: SO 04 | C4: Altán „Letec“ | AG4: ROZ
A6: P.č. | B6: Číslo položky | C6: Název položky | D6: MJ | E6: množství | F6: cena / MJ | G6: Celkem | H6: Dodávka | I6: Dodávka celk. | J6: Montáž | K6: Montáž celk. | L6: DPH | M6: cena s DPH | N6: hmotnost / MJ | O6: hmotnost celk.(t) | P6: dem. hmotnost / MJ | Q6: dem. hmotnost celk.(t) | R6: Ceník | S6: Cen. soustava / platnost | T6: Cenová úroveň | U6: Nhod / MJ | V6: Nhod celk. | W6: Dodavatel
A8: Díl: | B8: 1 | C8: Zemní práce | G8: =SUMIF(AG9:AG37,"<>NOR",G9:G37) -> 0 | I8: =SUM(I9:I37) -> 0 | K8: =SUM(K9:K37) -> 0 | M8: =SUM(M9:M37) -> 0 | O8: =SUM(O9:O37) -> 0 | Q8: =SUM(Q9:Q37) -> 0 | V8: =SUM(V9:V37) -> 343.39 | AG8: DIL
A9: 1 | B9: 111203111R0T | C9: Odstranění kořenů a kořenových náběhů až do hloubky 50 cm | D9: m2 | E9: 5.5 | G9: =ROUND(E9*F9,2) -> 0 | I9: =ROUND(E9*H9,2) -> 0 | K9: =ROUND(E9*J9,2) -> 0 | L9: 15 | M9: =G9*(1+L9/100) -> 0 | N9: 0 | O9: =ROUND(E9*N9,2) -> 0 | P9: 0 | Q9: =ROUND(E9*P9,2) -> 0 | S9: Vlastní | T9: Indiv | U9: 0 | V9: =ROUND(E9*U9,2) -> 0 | AG9: POL1_9
A10: 2 | B10: 139601103R00 | C10: Ruční výkop jam, rýh a šachet v hornině 4 | D10: m3 | E10: 33.6 | G10: =ROUND(E10*F10,2) -> 0 | I10: =ROUND(E10*H10,2) -> 0 | K10: =ROUND(E10*J10,2) -> 0 | L10: 15 | M10: =G10*(1+L10/100) -> 0 | N10: 0 | O10: =ROUND(E10*N10,2) -> 0 | P10: 0 | Q10: =ROUND(E10*P10,2) -> 0 | S10: RTS 17/ I | T10: Indiv | U10: 4.655 | V10: =ROUND(E10*U10,2) -> 156.41 | AG10: POL1_9
C11: s přehozením na vzdálenost do 5 m nebo s naložením na ruční dopravní prostředek | AG11: SPI
A12: 3 | B12: 161101501R00 | C12: Svislé přemístění výkopku nošením z horniny 1 až 4 | D12: m3 | E12: 33.6 | G12: =ROUND(E12*F12,2) -> 0 | I12: =ROUND(E12*H12,2) -> 0 | K12: =ROUND(E12*J12,2) -> 0 | L12: 15 | M12: =G12*(1+L12/100) -> 0 | N12: 0 | O12: =ROUND(E12*N12,2) -> 0 | P12: 0 | Q12: =ROUND(E12*P12,2) -> 0 | S12: RTS 17/ I | T12: Indiv | U12: 3.81 | V12: =ROUND(E12*U12,2) -> 128.02 | AG12: POL1_9
C13: bez naložení, avšak s vyprázdněním nádoby na hromady nebo do dopravního prostředku, na každých třeba i započatých 3 m výšky, | AG13: SPI | BA13: =C13 -> bez naložení, avšak s vyprázdněním nádoby na hromady nebo do dopravního prostředku, na každých třeba i započatých 3 m výšky,
A14: 4 | B14: 162701109R00 | C14: Vodorovné přemístění výkopku příplatek k ceně za každých dalších i započatých 1 000 m přes 10 000 m_x000D_ z horniny 1 až 4 | D14: m3 | E14: 33.6 | G14: =ROUND(E14*F14,2) -> 0 | I14: =ROUND(E14*H14,2) -> 0 | K14: =ROUND(E14*J14,2) -> 0 | L14: 15 | M14: =G14*(1+L14/100) -> 0 | N14: 0 | O14: =ROUND(E14*N14,2) -> 0 | P14: 0 | Q14: =ROUND(E14*P14,2) -> 0 | S14: RTS 17/ I | T14: Indiv | U14: 0 | V14: =ROUND(E14*U14,2) -> 0 | AG14: POL1_9
C15: po suchu, bez ohledu na druh dopravního prostředku, bez naložení výkopku, avšak se složením bez rozhrnutí, | AG15: SPI | BA15: =C15 -> po suchu, bez ohledu na druh dopravního prostředku, bez naložení výkopku, avšak se složením bez rozhrnutí,
A16: 5 | B16: 162201203R00 | C16: Vodorovné přemístění výkopku nošením z horniny 1 až 4, kolečkem, na vzdálenost do 10 m | D16: m3 | E16: 33.6 | G16: =ROUND(E16*F16,2) -> 0 | I16: =ROUND(E16*H16,2) -> 0 | K16: =ROUND(E16*J16,2) -> 0 | L16: 15 | M16: =G16*(1+L16/100) -> 0 | N16: 0 | O16: =ROUND(E16*N16,2) -> 0 | P16: 0 | Q16: =ROUND(E16*P16,2) -> 0 | S16: RTS 17/ I | T16: Indiv | U16: 0.668 | V16: =ROUND(E16*U16,2) -> 22.44 | AG16: POL1_9
C17: bez naložení, avšak s vyprázdněním nádoby na hromadu nebo do dopravního prostředku, | AG17: SPI
A18: 6 | B18: 162201210R00 | C18: Vodorovné přemístění výkopku nošením příplatek k ceně za každých dalších 10 m_x000D_ z horniny 1 až 4, kolečkem | D18: m3 | E18: 33.6 | G18: =ROUND(E18*F18,2) -> 0 | I18: =ROUND(E18*H18,2) -> 0 | K18: =ROUND(E18*J18,2) -> 0 | L18: 15 | M18: =G18*(1+L18/100) -> 0 | N18: 0 | O18: =ROUND(E18*N18,2) -> 0 | P18: 0 | Q18: =ROUND(E18*P18,2) -> 0 | S18: RTS 17/ I | T18: Indiv | U18: 0.591 | V18: =ROUND(E18*U18,2) -> 19.86 | AG18: POL1_9
C19: bez naložení, avšak s vyprázdněním nádoby na hromadu nebo do dopravního prostředku, | AG19: SPI
A20: 7 | B20: 171101101R00 | C20: Uložení sypaniny do násypů zhutněných s uzavřením povrchu násypu z hornin soudržných s předepsanou mírou zhutnění v procentech výsledků zkoušek Proctor-Standard _x000D_ _x000D_ na 95 % PS | D20: m3 | E20: 37.6 | G20: =ROUND(E20*F20,2) -> 0 | I20: =ROUND(E20*H20,2) -> 0 | K20: =ROUND(E20*J20,2) -> 0 | L20: 15 | M20: =G20*(1+L20/100) -> 0 | N20: 0 | O20: =ROUND(E20*N20,2) -> 0 | P20: 0 | Q20: =ROUND(E20*P20,2) -> 0 | S20: RTS 17/ I | T20: Indiv | U20: 0.043 | V20: =ROUND(E20*U20,2) -> 1.62 | AG20: POL1_9
C21: s rozprostřením sypaniny ve vrstvách a s hrubým urovnáním, | AG21: SPI
C22: Převzatá hodnota množství z položky : 37,6 | E22: 37.6 | AG22: VV | AH22: 0
C23: Začátek provozního součtu | AG23: VV
C24: 33,6 | E24: 33.6 | AG24: VV | AH24: 2
C25: 4 | E25: 4 | AG25: VV | AH25: 2
C26: Konec provozního součtu | AG26: VV
A27: 8 | B27: 174101101R00 | C27: Zásyp sypaninou se zhutněním jam, šachet, rýh nebo kolem objektů v těchto vykopávkách | D27: m3 | E27: 15 | G27: =ROUND(E27*F27,2) -> 0 | I27: =ROUND(E27*H27,2) -> 0 | K27: =ROUND(E27*J27,2) -> 0 | L27: 15 | M27: =G27*(1+L27/100) -> 0 | N27: 0 | O27: =ROUND(E27*N27,2) -> 0 | P27: 0 | Q27: =ROUND(E27*P27,2) -> 0 | S27: RTS 17/ I | T27: Indiv | U27: 0.202 | V27: =ROUND(E27*U27,2) -> 3.03 | AG27: POL1_9
C28: z jakékoliv horniny s uložením výkopku po vrstvách, | AG28: SPI
A29: 9 | B29: 171201211 | C29: Poplatek za uložení odpadu ze sypaniny na skládce (skládkovné) | D29: t | E29: 36.16 | G29: =ROUND(E29*F29,2) -> 0 | I29: =ROUND(E29*H29,2) -> 0 | K29: =ROUND(E29*J29,2) -> 0 | L29: 15 | M29: =G29*(1+L29/100) -> 0 | N29: 0 | O29: =ROUND(E29*N29,2) -> 0 | P29: 0 | Q29: =ROUND(E29*P29,2) -> 0 | S29: Vlastní | T29: Indiv | U29: 0 | V29: =ROUND(E29*U29,2) -> 0 | AG29: POL1_9
C30: 339,43*1,6 | AG30: POP
A31: 10 | B31: 356212T10I10 | C31: Vodorovné přemístění do 10000 m výkopku/sypaniny z horniny tř. 1 až 4 | D31: m3 | E31: 22.6 | G31: =ROUND(E31*F31,2) -> 0 | I31: =ROUND(E31*H31,2) -> 0 | K31: =ROUND(E31*J31,2) -> 0 | L31: 15 | M31: =G31*(1+L31/100) -> 0 | N31: 0 | O31: =ROUND(E31*N31,2) -> 0 | P31: 0 | Q31: =ROUND(E31*P31,2) -> 0 | S31: Vlastní | T31: Indiv | U31: 0 | V31: =ROUND(E31*U31,2) -> 0 | AG31: POL1_9
A32: 11 | B32: 122100010RAA | C32: Odkopávky a prokopávky odkopávky nezapažené v hornině 1-4_x000D_ naložení, odvoz 1 000 m, uložení | D32: m3 | E32: 4 | G32: =ROUND(E32*F32,2) -> 0 | I32: =ROUND(E32*H32,2) -> 0 | K32: =ROUND(E32*J32,2) -> 0 | L32: 15 | M32: =G32*(1+L32/100) -> 0 | N32: 0 | O32: =ROUND(E32*N32,2) -> 0 | P32: 0 | Q32: =ROUND(E32*P32,2) -> 0 | S32: RTS 17/ I | T32: Indiv | U32: 0.29525 | V32: =ROUND(E32*U32,2) -> 1.18 | AG32: POL2_9
C33: nezapažené s naložením na dopravní prostředek, odvozem a uložením na skládku, bez poplatku za skládku. | AG33: SPI | BA33: =C33 -> nezapažené s naložením na dopravní prostředek, odvozem a uložením na skládku, bez poplatku za skládku.
A34: 12 | B34: 131100010RAC | C34: Hloubení jam nezapažených v hornině 1 ÷ 4, odvoz do 10 000 m, uložení na skládku | D34: m3 | E34: 2.69 | G34: =ROUND(E34*F34,2) -> 0 | I34: =ROUND(E34*H34,2) -> 0 | K34: =ROUND(E34*J34,2) -> 0 | L34: 15 | M34: =G34*(1+L34/100) -> 0 | N34: 0 | O34: =ROUND(E34*N34,2) -> 0 | P34: 0 | Q34: =ROUND(E34*P34,2) -> 0 | S34: RTS 17/ I | T34: Indiv | U34: 0.32334 | V34: =ROUND(E34*U34,2) -> 0.87 | AG34: POL2_9
A35: 13 | B35: 182300010RA0 | C35: Rozprostření ornice ve svahu nad 1 : 5 a osetí travou při tloušťce 150 mm, dovoz ornice ze vzdálenosti 500 m | D35: m2 | E35: 26 | G35: =ROUND(E35*F35,2) -> 0 | I35: =ROUND(E35*H35,2) -> 0 | K35: =ROUND(E35*J35,2) -> 0 | L35: 15 | M35: =G35*(1+L35/100) -> 0 | N35: 3e-05 | O35: =ROUND(E35*N35,2) -> 0 | P35: 0 | Q35: =ROUND(E35*P35,2) -> 0 | S35: RTS 17/ I | T35: Indiv | U35: 0.38302 | V35: =ROUND(E35*U35,2) -> 9.96 | AG35: POL2_9
C36: vč. urovnání ornice, naložení na skládce a vodorovným přemístěním ornice na místo rozprostření, založení trávníku osetím a dodávky travního semene. | AG36: SPI | BA36: =C36 -> vč. urovnání ornice, naložení na skládce a vodorovným přemístěním ornice na místo rozprostření, založení trávníku osetím a dodávky travního semene.
C37: Včetně přesunu hmot. | AG37: POP
A38: Díl: | B38: 2 | C38: Základy a zvláštní zakládání | G38: =SUMIF(AG39:AG59,"<>NOR",G39:G59) -> 0 | I38: =SUM(I39:I59) -> 0 | K38: =SUM(K39:K59) -> 0 | M38: =SUM(M39:M59) -> 0 | O38: =SUM(O39:O59) -> 151.4 | Q38: =SUM(Q39:Q59) -> 0 | V38: =SUM(V39:V59) -> 285.91 | AG38: DIL
A39: 14 | B39: 271571112R00 | C39: Polštář základu ze štěrkopísku netříděného | D39: m3 | E39: 18 | G39: =ROUND(E39*F39,2) -> 0 | I39: =ROUND(E39*H39,2) -> 0 | K39: =ROUND(E39*J39,2) -> 0 | L39: 15 | M39: =G39*(1+L39/100) -> 0 | N39: 1.93971 | O39: =ROUND(E39*N39,2) -> 34.91 | P39: 0 | Q39: =ROUND(E39*P39,2) -> 0 | S39: RTS 17/ I | T39: Indiv | U39: 0.965 | V39: =ROUND(E39*U39,2) -> 17.37 | AG39: POL1_9
A40: 15 | B40: 273321311R00 | C40: Beton základových desek železový třídy C 16/20 | D40: m3 | E40: 8.4 | G40: =ROUND(E40*F40,2) -> 0 | I40: =ROUND(E40*H40,2) -> 0 | K40: =ROUND(E40*J40,2) -> 0 | L40: 15 | M40: =G40*(1+L40/100) -> 0 | N40: 2.525 | O40: =ROUND(E40*N40,2) -> 21.21 | P40: 0 | Q40: =ROUND(E40*P40,2) -> 0 | S40: RTS 17/ I | T40: Indiv | U40: 0.48 | V40: =ROUND(E40*U40,2) -> 4.03 | AG40: POL1_9
C41: bez dodávky a uložení výztuže | AG41: SPI
A42: 16 | B42: 273351215R00 | C42: Bednění stěn základových desek zřízení | D42: m2 | E42: 3.528 | G42: =ROUND(E42*F42,2) -> 0 | I42: =ROUND(E42*H42,2) -> 0 | K42: =ROUND(E42*J42,2) -> 0 | L42: 15 | M42: =G42*(1+L42/100) -> 0 | N42: 0.0392 | O42: =ROUND(E42*N42,2) -> 0.14 | P42: 0 | Q42: =ROUND(E42*P42,2) -> 0 | S42: RTS 17/ I | T42: Indiv | U42: 1.6 | V42: =ROUND(E42*U42,2) -> 5.64 | AG42: POL1_9
...

Sheet SO 05 SO 05 Pol
A1: Položkový soupis prací a dodávek | AG1: #TypZaznamu#
A2: S: | B2: 001_v3 | C2: OBNOVA LESOPARKU HRADISKO A KALVÁRIE - HRADISKO | AG2: STA
A3: O: | B3: SO 05 | C3: Přírodní amfiteátr | AC3: STA | AG3: OBJ
A4: R: | B4: SO 05 | C4: Přírodní amfiteátr | AG4: ROZ
A6: P.č. | B6: Číslo položky | C6: Název položky | D6: MJ | E6: množství | F6: cena / MJ | G6: Celkem | H6: Dodávka | I6: Dodávka celk. | J6: Montáž | K6: Montáž celk. | L6: DPH | M6: cena s DPH | N6: hmotnost / MJ | O6: hmotnost celk.(t) | P6: dem. hmotnost / MJ | Q6: dem. hmotnost celk.(t) | R6: Ceník | S6: Cen. soustava / platnost | T6: Cenová úroveň | U6: Nhod / MJ | V6: Nhod celk. | W6: Dodavatel
A8: Díl: | B8: 99 | C8: Staveništní přesun hmot | G8: =SUMIF(AG9:AG10,"<>NOR",G9:G10) -> 0 | I8: =SUM(I9:I10) -> 0 | K8: =SUM(K9:K10) -> 0 | M8: =SUM(M9:M10) -> 0 | O8: =SUM(O9:O10) -> 0 | Q8: =SUM(Q9:Q10) -> 0 | V8: =SUM(V9:V10) -> 1.78 | AG8: DIL
A9: 1 | B9: 998011001R00 | C9: Přesun hmot pro budovy s nosnou konstrukcí zděnou výšky do 6 m | D9: t | E9: 2.09333 | G9: =ROUND(E9*F9,2) -> 0 | I9: =ROUND(E9*H9,2) -> 0 | K9: =ROUND(E9*J9,2) -> 0 | L9: 15 | M9: =G9*(1+L9/100) -> 0 | N9: 0 | O9: =ROUND(E9*N9,2) -> 0 | P9: 0 | Q9: =ROUND(E9*P9,2) -> 0 | S9: RTS 17/ I | T9: Indiv | U9: 0.852 | V9: =ROUND(E9*U9,2) -> 1.78 | AG9: POL1_9
C10: přesun hmot pro budovy občanské výstavby (JKSO 801), budovy pro bydlení (JKSO 803) budovy pro výrobu a služby (JKSO 812) s nosnou svislou konstrukcí zděnou z cihel nebo tvárnic nebo kovovou | AG10: SPI | BA10: =C10 -> přesun hmot pro budovy občanské výstavby (JKSO 801), budovy pro bydlení (JKSO 803) budovy pro výrobu a služby (JKSO 812) s nosnou svislou konstrukcí zděnou z cihel nebo tvárnic nebo kovovou
A11: Díl: | B11: 766 | C11: Konstrukce truhlářské | G11: =SUMIF(AG12:AG23,"<>NOR",G12:G23) -> 0 | I11: =SUM(I12:I23) -> 0 | K11: =SUM(K12:K23) -> 0 | M11: =SUM(M12:M23) -> 0 | O11: =SUM(O12:O23) -> 0.39 | Q11: =SUM(Q12:Q23) -> 0 | V11: =SUM(V12:V23) -> 13.33 | AG11: DIL
A12: 2 | B12: 766699211R00 | C12: Ostatní montáž desek lavic upevněných na jakoukoliv konstrukci_x000D_ šířky do 500 mm | D12: m | E12: 30 | G12: =ROUND(E12*F12,2) -> 0 | I12: =ROUND(E12*H12,2) -> 0 | K12: =ROUND(E12*J12,2) -> 0 | L12: 15 | M12: =G12*(1+L12/100) -> 0 | N12: 1e-05 | O12: =ROUND(E12*N12,2) -> 0 | P12: 0 | Q12: =ROUND(E12*P12,2) -> 0 | S12: RTS 17/ I | T12: Indiv | U12: 0.415 | V12: =ROUND(E12*U12,2) -> 12.45 | AG12: POL1_9
C13: Převzatá hodnota množství z položky : 30 | E13: 30 | AG13: VV | AH13: 0
C14: Začátek provozního součtu | AG14: VV
