Workbook
Name CelkemDPHVypocet: Stavba!$H$59
Name CenaCelkem: Stavba!$G$29
Name CenaCelkemBezDPH: Stavba!$G$28
Name CenaCelkemVypocet: Stavba!$I$59
Name cisloobjektu: Stavba!$D$3
Name CisloRozpoctu: '[1]Krycí list'!$C$2
Name CisloStavby: Stavba!$D$2
Name cislostavby: '[1]Krycí list'!$A$7
Name CisloStavebnihoRozpoctu: Stavba!$D$4
Name dadresa: Stavba!$D$12:$G$12
Name DIČ: Stavba!$I$12
Name dmisto: Stavba!$E$13:$G$13
Name DPHSni: Stavba!$G$24
Name DPHZakl: Stavba!$G$26
Name dpsc: Stavba!$D$13
Name IČO: Stavba!$I$11
Name Mena: Stavba!$J$29
Name MistoStavby: Stavba!$D$4
Name nazevobjektu: Stavba!$E$3
Name NazevRozpoctu: '[1]Krycí list'!$D$2
Name NazevStavby: Stavba!$E$2
Name nazevstavby: '[1]Krycí list'!$C$7
Name NazevStavebnihoRozpoctu: Stavba!$E$4
Name oadresa: Stavba!$D$6
Name Objednatel: Stavba!$D$5
Name Objekt: Stavba!$B$38
Name odic: Stavba!$I$6
Name oico: Stavba!$I$5
Name omisto: Stavba!$E$7
Name onazev: Stavba!$D$6
Name opsc: Stavba!$D$7
Name padresa: Stavba!$D$9
Name pdic: Stavba!$I$9
Name pico: Stavba!$I$8
Name pmisto: Stavba!$E$10
Name PocetMJ: #REF!
Name PoptavkaID: Stavba!$A$1
Name pPSC: Stavba!$D$10
Name Projektant: Stavba!$D$8
Name SazbaDPH1: Stavba!$E$23
Name SazbaDPH1: '[1]Krycí list'!$C$30
Name SazbaDPH2: Stavba!$E$25
Name SazbaDPH2: '[1]Krycí list'!$C$32
Name SloupecCC: #REF!
Name SloupecCisloPol: #REF!
Name SloupecJC: #REF!
Name SloupecMJ: #REF!
Name SloupecMnozstvi: #REF!
Name SloupecNazPol: #REF!
Name SloupecPC: #REF!
Name Vypracoval: Stavba!$D$14
Name ZakladDPHSni: Stavba!$G$23
Name ZakladDPHSniVypocet: Stavba!$F$59
Name ZakladDPHZakl: Stavba!$G$25
Name ZakladDPHZaklVypocet: Stavba!$G$59
Name ZaObjednatele: Stavba!$G$34
Name Zaokrouhleni: Stavba!$G$27
Name ZaZhotovitele: Stavba!$D$34
Name Zhotovitel: Stavba!$D$11:$G$11

Sheet Pokyny pro vyplnění
A1: Pokyny pro vyplnění
A2: Ve všech listech tohoto souboru můžete měnit pouze buňky s modrým pozadím. Jedná se o tyto údaje : - údaje o firmě - jednotkové ceny položek zadané na maximálně dvě desetinná místa

Sheet Stavba
A1: #RTSROZP# | B1: Soupis stavebních prací, dodávek a služeb
B2: Stavba: | D2: 002_v3 | E2: OBNOVA LESOPARKU HRADISKO A KALVÁRIE - KALVÁRIE
B5: Zadavatel | H5: IČO:
H6: DIČ:
B8: Projektant: | H8: IČO:
H9: DIČ:
B11: Zhotovitel: | D11: STAVBY VANTO, s.r.o. | H11: IČO: | I11: 28269314
D12: Panská 25 | H12: DIČ: | I12: CZ28269314
D13: 68604 | E13: Kunovice
B14: Vypracoval:
B15: Rozpis ceny | I15: Celkem
A16: HSV | B16: HSV | I16: =SUMIF(F66:F89,A16,I66:I89)+SUMIF(F66:F89,"PSU",I66:I89) -> 0
A17: PSV | B17: PSV | I17: =SUMIF(F66:F89,A17,I66:I89) -> 0
A18: MON | B18: MON | I18: =SUMIF(F66:F89,A18,I66:I89) -> 0
A19: VN | B19: Vedlejší náklady | I19: =SUMIF(F66:F89,A19,I66:I89) -> 0
A20: ON | B20: Ostatní náklady | I20: =SUMIF(F66:F89,A20,I66:I89) -> 0
B21: Celkem | I21: =SUM(I16:J20) -> 0
B22: Rekapitulace daní
B23: Základ pro sníženou DPH | E23: 15 | F23: % | G23: =ZakladDPHSniVypocet -> 0 | J23: =Mena -> CZK
B24: Snížená DPH | E24: =SazbaDPH1 -> 15 | F24: % | G24: =I23*E23/100 -> 0 | J24: =Mena -> CZK
B25: Základ pro základní DPH | E25: 21 | F25: % | G25: =ZakladDPHZaklVypocet -> 0 | J25: =Mena -> CZK
B26: Základní DPH | E26: =SazbaDPH2 -> 21 | F26: % | G26: =I25*E25/100 -> 0 | J26: =Mena -> CZK
A27: =ZakladDPHSni+ZakladDPHZakl -> 0 | B27: Zaokrouhlení | G27: =CenaCelkemBezDPH-(ZakladDPHSni+ZakladDPHZakl) -> 0 | J27: =Mena -> CZK
A28: =(A27-INT(A27))*100 -> 0 | B28: Cena celkem bez DPH | G28: =IF(A28>50, ROUNDUP(A27, 0), ROUNDDOWN(A27, 0)) -> 0 | J28: =Mena -> CZK
B29: Cena celkem s DPH | G29: =ZakladDPHSni+DPHSni+ZakladDPHZakl+DPHZakl+Zaokrouhleni -> 0 | J29: CZK
C32: v | F32: dne | H32: =TODAY() -> 43320
D35: Za zhotovitele | H35: Za objednatele
B37: Rekapitulace dílčích částí
A38: #CASTI>> | B38: Číslo | C38: Název | F38: =B23 -> Základ pro sníženou DPH | G38: =B25 -> Základ pro základní DPH | H38: DPH celkem | I38: Cena celkem | J38: %
A39: 1 | B39: Stavba | F39: ='1 1 Pol'!AE23+'SO 01 SO 01.1 Pol'!AE154+'SO 01 SO 01.2 Pol'!AE194+'SO 02 SO 02 Pol'!AE104+'SO 03 SO 03 Pol'!AE52+'SO 04 SO 04 Pol'!AE78+'SO 05 SO 05 Pol'!AE11+'SO 06 SO 06 Pol'!AE110+'SO 07 SO 07 Pol'!AE11+'SO 08 SO 08 Pol'!AE11 -> 0 | G39: ='1 1 Pol'!AF23+'SO 01 SO 01.1 Pol'!AF154+'SO 01 SO 01.2 Pol'!AF194+'SO 02 SO 02 Pol'!AF104+'SO 03 SO 03 Pol'!AF52+'SO 04 SO 04 Pol'!AF78+'SO 05 SO 05 Pol'!AF11+'SO 06 SO 06 Pol'!AF110+'SO 07 SO 07 Pol'!AF11+'SO 08 SO 08 Pol'!AF11 -> 0 | I39: =F39+G39+H39 -> 0 | J39: =IF(CenaCelkemVypocet=0,"",I39/CenaCelkemVypocet*100)
A40: 2 | B40: 1 | C40: VRN | F40: ='1 1 Pol'!AE23 -> 0 | G40: ='1 1 Pol'!AF23 -> 0 | I40: =F40+G40+H40 -> 0 | J40: =IF(CenaCelkemVypocet=0,"",I40/CenaCelkemVypocet*100)
A41: 3 | B41: 1 | C41: VRN | F41: ='1 1 Pol'!AE23 -> 0 | G41: ='1 1 Pol'!AF23 -> 0 | I41: =F41+G41+H41 -> 0 | J41: =IF(CenaCelkemVypocet=0,"",I41/CenaCelkemVypocet*100)
A42: 2 | B42: SO 01 | C42: Přístupová komunikace | F42: ='SO 01 SO 01.1 Pol'!AE154+'SO 01 SO 01.2 Pol'!AE194 -> 0 | G42: ='SO 01 SO 01.1 Pol'!AF154+'SO 01 SO 01.2 Pol'!AF194 -> 0 | I42: =F42+G42+H42 -> 0 | J42: =IF(CenaCelkemVypocet=0,"",I42/CenaCelkemVypocet*100)
A43: 3 | B43: SO 01.1 | C43: SO 01 PŘÍSTUPOVÁ KOMUNIKACE U HŘBITOVa | F43: ='SO 01 SO 01.1 Pol'!AE154 -> 0 | G43: ='SO 01 SO 01.1 Pol'!AF154 -> 0 | I43: =F43+G43+H43 -> 0 | J43: =IF(CenaCelkemVypocet=0,"",I43/CenaCelkemVypocet*100)
A44: 3 | B44: SO 01.2 | C44: SO 01 PŘÍSTUPOVÁ KOMUNIKACE Za školou | F44: ='SO 01 SO 01.2 Pol'!AE194 -> 0 | G44: ='SO 01 SO 01.2 Pol'!AF194 -> 0 | I44: =F44+G44+H44 -> 0 | J44: =IF(CenaCelkemVypocet=0,"",I44/CenaCelkemVypocet*100)
A45: 2 | B45: SO 02 | C45: Altán „Letýšek“ | F45: ='SO 02 SO 02 Pol'!AE104 -> 0 | G45: ='SO 02 SO 02 Pol'!AF104 -> 0 | I45: =F45+G45+H45 -> 0 | J45: =IF(CenaCelkemVypocet=0,"",I45/CenaCelkemVypocet*100)
A46: 3 | B46: SO 02 | C46: Altán „Letýšek“ | F46: ='SO 02 SO 02 Pol'!AE104 -> 0 | G46: ='SO 02 SO 02 Pol'!AF104 -> 0 | I46: =F46+G46+H46 -> 0 | J46: =IF(CenaCelkemVypocet=0,"",I46/CenaCelkemVypocet*100)
A47: 2 | B47: SO 03 | C47: Altán SV | F47: ='SO 03 SO 03 Pol'!AE52 -> 0 | G47: ='SO 03 SO 03 Pol'!AF52 -> 0 | I47: =F47+G47+H47 -> 0 | J47: =IF(CenaCelkemVypocet=0,"",I47/CenaCelkemVypocet*100)
A48: 3 | B48: SO 03 | C48: Altán SV | F48: ='SO 03 SO 03 Pol'!AE52 -> 0 | G48: ='SO 03 SO 03 Pol'!AF52 -> 0 | I48: =F48+G48+H48 -> 0 | J48: =IF(CenaCelkemVypocet=0,"",I48/CenaCelkemVypocet*100)
A49: 2 | B49: SO 04 | C49: Altán „Parasol“ | F49: ='SO 04 SO 04 Pol'!AE78 -> 0 | G49: ='SO 04 SO 04 Pol'!AF78 -> 0 | I49: =F49+G49+H49 -> 0 | J49: =IF(CenaCelkemVypocet=0,"",I49/CenaCelkemVypocet*100)
A50: 3 | B50: SO 04 | C50: Altán „Parasol“ | F50: ='SO 04 SO 04 Pol'!AE78 -> 0 | G50: ='SO 04 SO 04 Pol'!AF78 -> 0 | I50: =F50+G50+H50 -> 0 | J50: =IF(CenaCelkemVypocet=0,"",I50/CenaCelkemVypocet*100)
A51: 2 | B51: SO 05 | C51: Vegetační úpravy | F51: ='SO 05 SO 05 Pol'!AE11 -> 0 | G51: ='SO 05 SO 05 Pol'!AF11 -> 0 | I51: =F51+G51+H51 -> 0 | J51: =IF(CenaCelkemVypocet=0,"",I51/CenaCelkemVypocet*100)
A52: 3 | B52: SO 05 | C52: Vegetační úpravy | F52: ='SO 05 SO 05 Pol'!AE11 -> 0 | G52: ='SO 05 SO 05 Pol'!AF11 -> 0 | I52: =F52+G52+H52 -> 0 | J52: =IF(CenaCelkemVypocet=0,"",I52/CenaCelkemVypocet*100)
A53: 2 | B53: SO 06 | C53: Úpravy povrchů „nezpevněné chodníčky“ | F53: ='SO 06 SO 06 Pol'!AE110 -> 0 | G53: ='SO 06 SO 06 Pol'!AF110 -> 0 | I53: =F53+G53+H53 -> 0 | J53: =IF(CenaCelkemVypocet=0,"",I53/CenaCelkemVypocet*100)
A54: 3 | B54: SO 06 | C54: Úpravy povrchů „nezpevněné chodníčky“ | F54: ='SO 06 SO 06 Pol'!AE110 -> 0 | G54: ='SO 06 SO 06 Pol'!AF110 -> 0 | I54: =F54+G54+H54 -> 0 | J54: =IF(CenaCelkemVypocet=0,"",I54/CenaCelkemVypocet*100)
A55: 2 | B55: SO 07 | C55: Mobiliář | F55: ='SO 07 SO 07 Pol'!AE11 -> 0 | G55: ='SO 07 SO 07 Pol'!AF11 -> 0 | I55: =F55+G55+H55 -> 0 | J55: =IF(CenaCelkemVypocet=0,"",I55/CenaCelkemVypocet*100)
A56: 3 | B56: SO 07 | C56: Mobiliář | F56: ='SO 07 SO 07 Pol'!AE11 -> 0 | G56: ='SO 07 SO 07 Pol'!AF11 -> 0 | I56: =F56+G56+H56 -> 0 | J56: =IF(CenaCelkemVypocet=0,"",I56/CenaCelkemVypocet*100)
A57: 2 | B57: SO 08 | C57: Obnova rozvodů a sloupů VO | F57: ='SO 08 SO 08 Pol'!AE11 -> 0 | G57: ='SO 08 SO 08 Pol'!AF11 -> 0 | I57: =F57+G57+H57 -> 0 | J57: =IF(CenaCelkemVypocet=0,"",I57/CenaCelkemVypocet*100)
A58: 3 | B58: SO 08 | C58: Obnova rozvodů a sloupů VO | F58: ='SO 08 SO 08 Pol'!AE11 -> 0 | G58: ='SO 08 SO 08 Pol'!AF11 -> 0 | I58: =F58+G58+H58 -> 0 | J58: =IF(CenaCelkemVypocet=0,"",I58/CenaCelkemVypocet*100)
B59: Celkem za stavbu | F59: =SUMIF(A39:A58,"=1",F39:F58) -> 0 | G59: =SUMIF(A39:A58,"=1",G39:G58) -> 0 | H59: =SUMIF(A39:A58,"=1",H39:H58) -> 0 | I59: =SUMIF(A39:A58,"=1",I39:I58) -> 0 | J59: =SUMIF(A39:A58,"=1",J39:J58) -> 0
B63: Rekapitulace dílů
B65: Číslo | C65: Název | F65: Typ dílu | I65: Celkem | J65: %
B66: 01 | C66: Celý objekt | F66: HSV | I66: ='1 1 Pol'!G8 -> 0 | J66: =IF(I90=0,"",I66/I90*100)
B67: 1 | C67: Zemní práce | F67: HSV | I67: ='SO 01 SO 01.1 Pol'!G8+'SO 01 SO 01.2 Pol'!G8+'SO 02 SO 02 Pol'!G8+'SO 02 SO 02 Pol'!G42+'SO 03 SO 03 Pol'!G8+'SO 03 SO 03 Pol'!G37+'SO 04 SO 04 Pol'!G8+'SO 06 SO 06 Pol'!G8+'SO 06 SO 06 Pol'!G24+'SO 06 SO 06 Pol'!G47 -> 0 | J67: =IF(I90=0,"",I67/I90*100)
B68: 11 | C68: Přípravné a přidružené práce | F68: HSV | I68: ='SO 05 SO 05 Pol'!G8 -> 0 | J68: =IF(I90=0,"",I68/I90*100)
B69: 1a | C69: Vedlejší náklady | F69: HSV | I69: ='SO 01 SO 01.2 Pol'!G71 -> 0 | J69: =IF(I90=0,"",I69/I90*100)
B70: 2 | C70: Základy a zvláštní zakládání | F70: HSV | I70: ='SO 01 SO 01.1 Pol'!G74+'SO 01 SO 01.2 Pol'!G78+'SO 02 SO 02 Pol'!G15+'SO 02 SO 02 Pol'!G62+'SO 03 SO 03 Pol'!G26+'SO 04 SO 04 Pol'!G14+'SO 06 SO 06 Pol'!G52 -> 0 | J70: =IF(I90=0,"",I70/I90*100)
B71: 3 | C71: Svislé a kompletní konstrukce | F71: HSV | I71: ='SO 02 SO 02 Pol'!G21 -> 0 | J71: =IF(I90=0,"",I71/I90*100)
B72: 38 | C72: Kompletní konstrukce | F72: HSV | I72: ='SO 07 SO 07 Pol'!G8 -> 0 | J72: =IF(I90=0,"",I72/I90*100)
B73: 4 | C73: Vodorovné konstrukce | F73: HSV | I73: ='SO 02 SO 02 Pol'!G24 -> 0 | J73: =IF(I90=0,"",I73/I90*100)
B74: 5 | C74: Komunikace | F74: HSV | I74: ='SO 01 SO 01.1 Pol'!G80+'SO 01 SO 01.2 Pol'!G84+'SO 04 SO 04 Pol'!G33+'SO 06 SO 06 Pol'!G45+'SO 06 SO 06 Pol'!G64 -> 0 | J74: =IF(I90=0,"",I74/I90*100)
B75: 63 | C75: Podlahy a podlahové konstrukce | F75: HSV | I75: ='SO 02 SO 02 Pol'!G71+'SO 04 SO 04 Pol'!G25 -> 0 | J75: =IF(I90=0,"",I75/I90*100)
B76: 9 | C76: Ostatní konstrukce a práce, bourání | F76: HSV | I76: ='SO 01 SO 01.1 Pol'!G126+'SO 01 SO 01.2 Pol'!G156+'SO 06 SO 06 Pol'!G94 -> 0 | J76: =IF(I90=0,"",I76/I90*100)
B77: 91 | C77: Doplňující práce na komunikaci | F77: HSV | I77: ='SO 01 SO 01.1 Pol'!G143+'SO 01 SO 01.2 Pol'!G160+'SO 06 SO 06 Pol'!G20+'SO 06 SO 06 Pol'!G102 -> 0 | J77: =IF(I90=0,"",I77/I90*100)
B78: 93 | C78: Dokončovací práce inženýrských staveb | F78: HSV | I78: ='SO 01 SO 01.1 Pol'!G146 -> 0 | J78: =IF(I90=0,"",I78/I90*100)
B79: 95 | C79: Dokončovací konstrukce na pozemních stavbách | F79: HSV | I79: ='SO 04 SO 04 Pol'!G28 -> 0 | J79: =IF(I90=0,"",I79/I90*100)
B80: 99 | C80: Staveništní přesun hmot | F80: HSV | I80: ='SO 01 SO 01.1 Pol'!G150+'SO 01 SO 01.2 Pol'!G166+'SO 02 SO 02 Pol'!G39+'SO 03 SO 03 Pol'!G23+'SO 04 SO 04 Pol'!G30+'SO 06 SO 06 Pol'!G106 -> 0 | J80: =IF(I90=0,"",I80/I90*100)
B81: 762 | C81: Konstrukce tesařské | F81: PSV | I81: ='SO 02 SO 02 Pol'!G26+'SO 02 SO 02 Pol'!G74+'SO 02 SO 02 Pol'!G100+'SO 03 SO 03 Pol'!G12+'SO 03 SO 03 Pol'!G16+'SO 04 SO 04 Pol'!G54 -> 0 | J81: =IF(I90=0,"",I81/I90*100)
B82: 764 | C82: Konstrukce klempířské | F82: PSV | I82: ='SO 02 SO 02 Pol'!G30 -> 0 | J82: =IF(I90=0,"",I82/I90*100)
B83: 765 | C83: Krytiny tvrdé | F83: PSV | I83: ='SO 02 SO 02 Pol'!G96+'SO 04 SO 04 Pol'!G68 -> 0 | J83: =IF(I90=0,"",I83/I90*100)
B84: 766 | C84: Konstrukce truhlářské | F84: PSV | I84: ='SO 02 SO 02 Pol'!G32 -> 0 | J84: =IF(I90=0,"",I84/I90*100)
B85: 767 | C85: Konstrukce zámečnické | F85: PSV | I85: ='SO 01 SO 01.2 Pol'!G169+'SO 02 SO 02 Pol'!G35 -> 0 | J85: =IF(I90=0,"",I85/I90*100)
B86: 783 | C86: Nátěry | F86: PSV | I86: ='SO 03 SO 03 Pol'!G14 -> 0 | J86: =IF(I90=0,"",I86/I90*100)
B87: M21 | C87: Elektromontáže | F87: MON | I87: ='SO 08 SO 08 Pol'!G8 -> 0 | J87: =IF(I90=0,"",I87/I90*100)
B88: M43 | C88: Montáže ocelových konstrukcí | F88: MON | I88: ='SO 02 SO 02 Pol'!G98 -> 0 | J88: =IF(I90=0,"",I88/I90*100)
B89: M99 | C89: Ostatní práce "M" | F89: MON | I89: ='SO 03 SO 03 Pol'!G49 -> 0 | J89: =IF(I90=0,"",I89/I90*100)
B90: Cena celkem | I90: =SUM(I66:I89) -> 0 | J90: =SUM(J66:J89) -> 0

Sheet VzorPolozky
A1: Položkový rozpočet
A2: S:
A3: O:
A4: R:

Sheet 1 1 Pol
A1: Položkový soupis prací a dodávek | AG1: #TypZaznamu#
A2: S: | B2: 002_v3 | C2: OBNOVA LESOPARKU HRADISKO A KALVÁRIE - KALVÁRIE | AG2: STA
A3: O: | B3: 1 | C3: VRN | AC3: STA | AG3: OBJ
A4: R: | B4: 1 | C4: VRN | AG4: ROZ
A6: P.č. | B6: Číslo položky | C6: Název položky | D6: MJ | E6: množství | F6: cena / MJ | G6: Celkem | H6: Dodávka | I6: Dodávka celk. | J6: Montáž | K6: Montáž celk. | L6: DPH | M6: cena s DPH | N6: hmotnost / MJ | O6: hmotnost celk.(t) | P6: dem. hmotnost / MJ | Q6: dem. hmotnost celk.(t) | R6: Ceník | S6: Cen. soustava / platnost | T6: Cenová úroveň | U6: Nhod / MJ | V6: Nhod celk. | W6: Dodavatel
A8: Díl: | B8: 01 | C8: Celý objekt | G8: =SUMIF(AG9:AG21,"<>NOR",G9:G21) -> 0 | I8: =SUM(I9:I21) -> 0 | K8: =SUM(K9:K21) -> 0 | M8: =SUM(M9:M21) -> 0 | O8: =SUM(O9:O21) -> 0 | Q8: =SUM(Q9:Q21) -> 0 | V8: =SUM(V9:V21) -> 0 | AG8: DIL
A9: 1 | B9: 004111010R | C9: Průzkumné práce | D9: Soubor | E9: 1 | G9: =ROUND(E9*F9,2) -> 0 | I9: =ROUND(E9*H9,2) -> 0 | K9: =ROUND(E9*J9,2) -> 0 | L9: 21 | M9: =G9*(1+L9/100) -> 0 | N9: 0 | O9: =ROUND(E9*N9,2) -> 0 | P9: 0 | Q9: =ROUND(E9*P9,2) -> 0 | S9: RTS 17/ I | T9: Indiv | U9: 0 | V9: =ROUND(E9*U9,2) -> 0 | AG9: POL99_8
C10: Náklady na provedení průzkumů nebo doplnění stávajících průzkumů, pokud je obchodní podmínky vyžadují a tyto průzkumy nejsou v dostatečném rozsahu součástí projektové dokumentace. Jedná se zejména o Geologický – inženýrsko-geologický / radonový / hydrogeologický / pedologický průzkum, botanický a zoologický průzkum, stavební průzkum – umělecko historický / stavebně statický a případný průzkum výskytu nebezpečných látek – odpadu / munice / výbušnin apod. | AG10: POP | BA10: =C10 -> Náklady na provedení průzkumů nebo doplnění stávajících průzkumů, pokud je obchodní podmínky vyžadují a tyto průzkumy nejsou v dostatečném rozsahu součástí projektové dokumentace. Jedná se zejména o Geologický – inženýrsko-geologický / radonový / hydrogeologický / pedologický průzkum, botanický a zoologický průzkum, stavební průzkum – umělecko historický / stavebně statický a případný průzkum výskytu nebezpečných látek – odpadu / munice / výbušnin apod.
A11: 2 | B11: 005111020R | C11: Vytyčení stavby | D11: Soubor | E11: 1 | G11: =ROUND(E11*F11,2) -> 0 | I11: =ROUND(E11*H11,2) -> 0 | K11: =ROUND(E11*J11,2) -> 0 | L11: 21 | M11: =G11*(1+L11/100) -> 0 | N11: 0 | O11: =ROUND(E11*N11,2) -> 0 | P11: 0 | Q11: =ROUND(E11*P11,2) -> 0 | S11: RTS 17/ I | T11: Indiv | U11: 0 | V11: =ROUND(E11*U11,2) -> 0 | AG11: POL99_8
C12: Geodetické zaměření rohů stavby, stabilizace bodů a sestavení laviček. | AG12: POP
C13: Vyhotovení protokolu o vytyčení stavby se seznamem souřadnic vytyčených bodů a jejich polohopisnými (S-JTSK) a výškopisnými (Bpv) hodnotami. | AG13: POP | BA13: =C13 -> Vyhotovení protokolu o vytyčení stavby se seznamem souřadnic vytyčených bodů a jejich polohopisnými (S-JTSK) a výškopisnými (Bpv) hodnotami.
A14: 3 | B14: 005111021R | C14: Vytyčení inženýrských sítí | D14: Soubor | E14: 1 | G14: =ROUND(E14*F14,2) -> 0 | I14: =ROUND(E14*H14,2) -> 0 | K14: =ROUND(E14*J14,2) -> 0 | L14: 21 | M14: =G14*(1+L14/100) -> 0 | N14: 0 | O14: =ROUND(E14*N14,2) -> 0 | P14: 0 | Q14: =ROUND(E14*P14,2) -> 0 | S14: RTS 17/ I | T14: Indiv | U14: 0 | V14: =ROUND(E14*U14,2) -> 0 | AG14: POL99_8
C15: Zaměření a vytýčení stávajících inženýrských sítí v místě stavby z hlediska jejich ochrany při provádění stavby. | AG15: POP | BA15: =C15 -> Zaměření a vytýčení stávajících inženýrských sítí v místě stavby z hlediska jejich ochrany při provádění stavby.
A16: 4 | B16: 005122 R | C16: Provozní vlivy | D16: Soubor | E16: 1 | G16: =ROUND(E16*F16,2) -> 0 | I16: =ROUND(E16*H16,2) -> 0 | K16: =ROUND(E16*J16,2) -> 0 | L16: 21 | M16: =G16*(1+L16/100) -> 0 | N16: 0 | O16: =ROUND(E16*N16,2) -> 0 | P16: 0 | Q16: =ROUND(E16*P16,2) -> 0 | S16: RTS 17/ I | T16: Indiv | U16: 0 | V16: =ROUND(E16*U16,2) -> 0 | AG16: POL99_8
C17: Náklady na ztížené podmínky provádění tam, kde jsou stavební práce zcela nebo zčásti omezovány provozem jiných osob. Jde zejména o zvýšené náklady související s omezením provozem v areálu objednatele nebo o náklady v důsledku nezbytného respektování stávající dopravy ovlivňující stavební práce. | AG17: POP | BA17: =C17 -> Náklady na ztížené podmínky provádění tam, kde jsou stavební práce zcela nebo zčásti omezovány provozem jiných osob. Jde zejména o zvýšené náklady související s omezením provozem v areálu objednatele nebo o náklady v důsledku nezbytného respektování stávající dopravy ovlivňující stavební práce.
A18: 5 | B18: 005241010R | C18: Dokumentace skutečného provedení | D18: Soubor | E18: 1 | G18: =ROUND(E18*F18,2) -> 0 | I18: =ROUND(E18*H18,2) -> 0 | K18: =ROUND(E18*J18,2) -> 0 | L18: 21 | M18: =G18*(1+L18/100) -> 0 | N18: 0 | O18: =ROUND(E18*N18,2) -> 0 | P18: 0 | Q18: =ROUND(E18*P18,2) -> 0 | S18: RTS 17/ I | T18: Indiv | U18: 0 | V18: =ROUND(E18*U18,2) -> 0 | AG18: POL99_8
C19: Náklady na vyhotovení dokumentace skutečného provedení stavby a její předání objednateli v požadované formě a požadovaném počtu. | AG19: POP | BA19: =C19 -> Náklady na vyhotovení dokumentace skutečného provedení stavby a její předání objednateli v požadované formě a požadovaném počtu.
A20: 6 | B20: 005241020R | C20: Geodetické zaměření skutečného provedení | D20: Soubor | E20: 1 | G20: =ROUND(E20*F20,2) -> 0 | I20: =ROUND(E20*H20,2) -> 0 | K20: =ROUND(E20*J20,2) -> 0 | L20: 21 | M20: =G20*(1+L20/100) -> 0 | N20: 0 | O20: =ROUND(E20*N20,2) -> 0 | P20: 0 | Q20: =ROUND(E20*P20,2) -> 0 | S20: RTS 17/ I | T20: Indiv | U20: 0 | V20: =ROUND(E20*U20,2) -> 0 | AG20: POL99_8
C21: Náklady na provedení skutečného zaměření stavby v rozsahu nezbytném pro zápis změny do katastru nemovitostí. | AG21: POP | BA21: =C21 -> Náklady na provedení skutečného zaměření stavby v rozsahu nezbytném pro zápis změny do katastru nemovitostí.
AE22: 15 | AF22: 21
B23: Celkem | G23: =G8 -> 0 | AE23: =SUMIF(L7:L21,AE22,G7:G21) -> 0 | AF23: =SUMIF(L7:L21,AF22,G7:G21) -> 0 | AG23: SUM
AG24: END

Sheet SO 01 SO 01.1 Pol
A1: Položkový soupis prací a dodávek | AG1: #TypZaznamu#
A2: S: | B2: 002_v3 | C2: OBNOVA LESOPARKU HRADISKO A KALVÁRIE - KALVÁRIE | AG2: STA
A3: O: | B3: SO 01 | C3: Přístupová komunikace | AC3: STA | AG3: OBJ
A4: R: | B4: SO 01.1 | C4: SO 01 PŘÍSTUPOVÁ KOMUNIKACE U HŘBITOVa | AG4: ROZ
A6: P.č. | B6: Číslo položky | C6: Název položky | D6: MJ | E6: množství | F6: cena / MJ | G6: Celkem | H6: Dodávka | I6: Dodávka celk. | J6: Montáž | K6: Montáž celk. | L6: DPH | M6: cena s DPH | N6: hmotnost / MJ | O6: hmotnost celk.(t) | P6: dem. hmotnost / MJ | Q6: dem. hmotnost celk.(t) | R6: Ceník | S6: Cen. soustava / platnost | T6: Cenová úroveň | U6: Nhod / MJ | V6: Nhod celk. | W6: Dodavatel
A8: Díl: | B8: 1 | C8: Zemní práce | G8: =SUMIF(AG9:AG73,"<>NOR",G9:G73) -> 0 | I8: =SUM(I9:I73) -> 0 | K8: =SUM(K9:K73) -> 0 | M8: =SUM(M9:M73) -> 0 | O8: =SUM(O9:O73) -> 0 | Q8: =SUM(Q9:Q73) -> 252.34 | V8: =SUM(V9:V73) -> 425.52 | AG8: DIL
A9: 1 | B9: 111203111R0T | C9: Odstranění kořenů a kořenových náběhů až do hloubky 50 cm | D9: m2 | E9: 12 | G9: =ROUND(E9*F9,2) -> 0 | I9: =ROUND(E9*H9,2) -> 0 | K9: =ROUND(E9*J9,2) -> 0 | L9: 15 | M9: =G9*(1+L9/100) -> 0 | N9: 0 | O9: =ROUND(E9*N9,2) -> 0 | P9: 0 | Q9: =ROUND(E9*P9,2) -> 0 | S9: Vlastní | T9: Indiv | U9: 0 | V9: =ROUND(E9*U9,2) -> 0 | AG9: POL1_9
A10: 2 | B10: 113107610R00 | C10: Odstranění podkladů nebo krytů z kameniva hrubého drceného, v ploše jednotlivě nad 50 m2, tloušťka vrstvy 100 mm | D10: m2 | E10: 180 | G10: =ROUND(E10*F10,2) -> 0 | I10: =ROUND(E10*H10,2) -> 0 | K10: =ROUND(E10*J10,2) -> 0 | L10: 15 | M10: =G10*(1+L10/100) -> 0 | N10: 0 | O10: =ROUND(E10*N10,2) -> 0 | P10: 0.22 | Q10: =ROUND(E10*P10,2) -> 39.6 | S10: RTS 17/ I | T10: Indiv | U10: 0.049 | V10: =ROUND(E10*U10,2) -> 8.82 | AG10: POL1_9
C11: Převzatá hodnota množství z položky : 180 | E11: 180 | AG11: VV | AH11: 0
C12: Začátek provozního součtu | AG12: VV
C13: 60*3 | E13: 180 | AG13: VV | AH13: 2
C14: Konec provozního součtu | AG14: VV
A15: 3 | B15: 113111130R00 | C15: Odstranění podkladů nebo krytů z kameniva zpevněného cementem, v ploše jednotlivě do 50 m2, tloušťka vrstvy 300 mm | D15: m2 | E15: 180 | G15: =ROUND(E15*F15,2) -> 0 | I15: =ROUND(E15*H15,2) -> 0 | K15: =ROUND(E15*J15,2) -> 0 | L15: 15 | M15: =G15*(1+L15/100) -> 0 | N15: 0 | O15: =ROUND(E15*N15,2) -> 0 | P15: 0.76629 | Q15: =ROUND(E15*P15,2) -> 137.93 | S15: RTS 17/ I | T15: Indiv | U15: 0.84 | V15: =ROUND(E15*U15,2) -> 151.2 | AG15: POL1_9
C16: Převzatá hodnota množství z položky : 180 | E16: 180 | AG16: VV | AH16: 0
C17: Začátek provozního součtu | AG17: VV
C18: 60*3 | E18: 180 | AG18: VV | AH18: 2
C19: Konec provozního součtu | AG19: VV
A20: 4 | B20: 122202202R00 | C20: Odkopávky a prokopávky pro silnice v hornině 3 přes 100 do 1 000 m3 | D20: m3 | E20: 460.016 | G20: =ROUND(E20*F20,2) -> 0 | I20: =ROUND(E20*H20,2) -> 0 | K20: =ROUND(E20*J20,2) -> 0 | L20: 15 | M20: =G20*(1+L20/100) -> 0 | N20: 0 | O20: =ROUND(E20*N20,2) -> 0 | P20: 0 | Q20: =ROUND(E20*P20,2) -> 0 | S20: RTS 17/ I | T20: Indiv | U20: 0.223 | V20: =ROUND(E20*U20,2) -> 102.58 | AG20: POL1_9
C21: s přemístěním výkopku v příčných profilech na vzdálenost do 15 m nebo s naložením na dopravní prostředek. | AG21: SPI | BA21: =C21 -> s přemístěním výkopku v příčných profilech na vzdálenost do 15 m nebo s naložením na dopravní prostředek.
C22: Převzatá hodnota množství z položky : 460,016 | E22: 460.02 | AG22: VV | AH22: 0
C23: Začátek provozního součtu | AG23: VV
C24: 65*(3,5+1,7)*,24+42*(2+1,7)*,24+122*(2+2)*,7 | E24: 460.02 | AG24: VV | AH24: 2
C25: Konec provozního součtu | AG25: VV
A26: 5 | B26: 122202209R00 | C26: Odkopávky a prokopávky pro silnice v hornině 3 příplatek za lepivost horniny | D26: m3 | E26: 460.016 | G26: =ROUND(E26*F26,2) -> 0 | I26: =ROUND(E26*H26,2) -> 0 | K26: =ROUND(E26*J26,2) -> 0 | L26: 15 | M26: =G26*(1+L26/100) -> 0 | N26: 0 | O26: =ROUND(E26*N26,2) -> 0 | P26: 0 | Q26: =ROUND(E26*P26,2) -> 0 | S26: RTS 17/ I | T26: Indiv | U26: 0.088 | V26: =ROUND(E26*U26,2) -> 40.48 | AG26: POL1_9
C27: s přemístěním výkopku v příčných profilech na vzdálenost do 15 m nebo s naložením na dopravní prostředek. | AG27: SPI | BA27: =C27 -> s přemístěním výkopku v příčných profilech na vzdálenost do 15 m nebo s naložením na dopravní prostředek.
C28: Převzatá hodnota množství z položky : 460,016 | E28: 460.02 | AG28: VV | AH28: 0
C29: Začátek provozního součtu | AG29: VV
C30: 65*(3,5+1,7)*,24+42*(2+1,7)*,24+122*(2+2)*,7 | E30: 460.02 | AG30: VV | AH30: 2
C31: Konec provozního součtu | AG31: VV
A32: 6 | B32: 162301101R00 | C32: Vodorovné přemístění výkopku z horniny 1 až 4, na vzdálenost přes 50 do 500 m | D32: m3 | E32: 514.016 | G32: =ROUND(E32*F32,2) -> 0 | I32: =ROUND(E32*H32,2) -> 0 | K32: =ROUND(E32*J32,2) -> 0 | L32: 15 | M32: =G32*(1+L32/100) -> 0 | N32: 0 | O32: =ROUND(E32*N32,2) -> 0 | P32: 0 | Q32: =ROUND(E32*P32,2) -> 0 | S32: RTS 17/ I | T32: Indiv | U32: 0.011 | V32: =ROUND(E32*U32,2) -> 5.65 | AG32: POL1_9
C33: po suchu, bez ohledu na druh dopravního prostředku, bez naložení výkopku, avšak se složením bez rozhrnutí, | AG33: SPI | BA33: =C33 -> po suchu, bez ohledu na druh dopravního prostředku, bez naložení výkopku, avšak se složením bez rozhrnutí,
C34: Převzatá hodnota množství z položky : 514,016 | E34: 514.02 | AG34: VV | AH34: 0
C35: Začátek provozního součtu | AG35: VV
C36: 65*(3,5+1,7)*,24+42*(2+1,7)*,24+122*(2+2)*,7+180*,3 | E36: 514.02 | AG36: VV | AH36: 2
C37: Konec provozního součtu | AG37: VV
A38: 7 | B38: 113106121R00 | C38: Rozebrání dlažeb, panelů komunikací pro pěší s jakýmkoliv ložem a výplní spár_x000D_ z betonových nebo kameninových dlaždic nebo tvarovek | D38: m2 | E38: 59 | G38: =ROUND(E38*F38,2) -> 0 | I38: =ROUND(E38*H38,2) -> 0 | K38: =ROUND(E38*J38,2) -> 0 | L38: 15 | M38: =G38*(1+L38/100) -> 0 | N38: 0 | O38: =ROUND(E38*N38,2) -> 0 | P38: 0.138 | Q38: =ROUND(E38*P38,2) -> 8.14 | S38: RTS 17/ I | T38: Indiv | U38: 0.16 | V38: =ROUND(E38*U38,2) -> 9.44 | AG38: POL1_9
C39: s přemístěním hmot na skládku na vzdálenost do 3 m nebo s naložením na dopravní prostředek | AG39: SPI
A40: 8 | B40: 171101101R00 | C40: Uložení sypaniny do násypů zhutněných s uzavřením povrchu násypu z hornin soudržných s předepsanou mírou zhutnění v procentech výsledků zkoušek Proctor-Standard _x000D_ _x000D_ na 95 % PS | D40: m3 | E40: 257.008 | G40: =ROUND(E40*F40,2) -> 0 | I40: =ROUND(E40*H40,2) -> 0 | K40: =ROUND(E40*J40,2) -> 0 | L40: 15 | M40: =G40*(1+L40/100) -> 0 | N40: 0 | O40: =ROUND(E40*N40,2) -> 0 | P40: 0 | Q40: =ROUND(E40*P40,2) -> 0 | S40: RTS 17/ I | T40: Indiv | U40: 0.043 | V40: =ROUND(E40*U40,2) -> 11.05 | AG40: POL1_9
C41: s rozprostřením sypaniny ve vrstvách a s hrubým urovnáním, | AG41: SPI
C42: Převzatá hodnota množství z položky : 257,008 | E42: 257.01 | AG42: VV | AH42: 0
C43: Začátek provozního součtu | AG43: VV
C44: (65*(3,5+1,7)*,24+42*(2+1,7)*,24+122*(2+2)*,7+180*,3)/2 | E44: 257.01 | AG44: VV | AH44: 2
C45: Konec provozního součtu | AG45: VV
A46: 9 | B46: 171201201R00 | C46: Uložení sypaniny na dočasnou skládku tak, že na 1 m2 plochy připadá přes 2 m3 výkopku nebo ornice | D46: m3 | E46: 257.008 | G46: =ROUND(E46*F46,2) -> 0 | I46: =ROUND(E46*H46,2) -> 0 | K46: =ROUND(E46*J46,2) -> 0 | L46: 15 | M46: =G46*(1+L46/100) -> 0 | N46: 0 | O46: =ROUND(E46*N46,2) -> 0 | P46: 0 | Q46: =ROUND(E46*P46,2) -> 0 | S46: RTS 17/ I | T46: Indiv | U46: 0.009 | V46: =ROUND(E46*U46,2) -> 2.31 | AG46: POL1_9
C47: Převzatá hodnota množství z položky : 257,008 | E47: 257.01 | AG47: VV | AH47: 0
C48: Začátek provozního součtu | AG48: VV
C49: (65*(3,5+1,7)*,24+42*(2+1,7)*,24+122*(2+2)*,7+180*,3)/2 | E49: 257.01 | AG49: VV | AH49: 2
C50: Konec provozního součtu | AG50: VV
A51: 10 | B51: 113111130R00 | C51: Odstranění podkladů nebo krytů z kameniva zpevněného cementem, v ploše jednotlivě do 50 m2, tloušťka vrstvy 300 mm | D51: m2 | E51: 87 | G51: =ROUND(E51*F51,2) -> 0 | I51: =ROUND(E51*H51,2) -> 0 | K51: =ROUND(E51*J51,2) -> 0 | L51: 15 | M51: =G51*(1+L51/100) -> 0 | N51: 0 | O51: =ROUND(E51*N51,2) -> 0 | P51: 0.76629 | Q51: =ROUND(E51*P51,2) -> 66.67 | S51: RTS 17/ I | T51: Indiv | U51: 0.84 | V51: =ROUND(E51*U51,2) -> 73.08 | AG51: POL1_9
A52: 11 | B52: 181101102R00 | C52: Úprava pláně v zářezech v hornině 1 až 4, se zhutněním | D52: m2 | E52: 1161.4 | G52: =ROUND(E52*F52,2) -> 0 | I52: =ROUND(E52*H52,2) -> 0 | K52: =ROUND(E52*J52,2) -> 0 | L52: 15 | M52: =G52*(1+L52/100) -> 0 | N52: 0 | O52: =ROUND(E52*N52,2) -> 0 | P52: 0 | Q52: =ROUND(E52*P52,2) -> 0 | S52: RTS 17/ I | T52: Indiv | U52: 0.018 | V52: =ROUND(E52*U52,2) -> 20.91 | AG52: POL1_9
C53: vyrovnáním výškových rozdílů, ploch vodorovných a ploch do sklonu 1 : 5. | AG53: SPI
C54: Převzatá hodnota množství z položky : 1161,4 | E54: 1161.4 | AG54: VV | AH54: 0
C55: Začátek provozního součtu | AG55: VV
C56: 65*(3,5+1,7)+42*(2+1,7)+122*(2+2)+180 | E56: 1161.4 | AG56: VV | AH56: 2
C57: Konec provozního součtu | AG57: VV
A58: 12 | B58: 171201211 | C58: Poplatek za uložení odpadu ze sypaniny na skládce (skládkovné) | D58: t | E58: 257.008 | G58: =ROUND(E58*F58,2) -> 0 | I58: =ROUND(E58*H58,2) -> 0 | K58: =ROUND(E58*J58,2) -> 0 | L58: 15 | M58: =G58*(1+L58/100) -> 0 | N58: 0 | O58: =ROUND(E58*N58,2) -> 0 | P58: 0 | Q58: =ROUND(E58*P58,2) -> 0 | S58: Vlastní | T58: Indiv | U58: 0 | V58: =ROUND(E58*U58,2) -> 0 | AG58: POL1_9
C59: 339,43*1,6 | AG59: POP
C60: Převzatá hodnota množství z položky : 257,008 | E60: 257.01 | AG60: VV | AH60: 0
C61: Začátek provozního součtu | AG61: VV
C62: (65*(3,5+1,7)*,24+42*(2+1,7)*,24+122*(2+2)*,7+180*,3)/2 | E62: 257.01 | AG62: VV | AH62: 2
C63: Konec provozního součtu | AG63: VV
A64: 13 | B64: 354943T10I10 | C64: Nakládání výkopku z hornin tř. 1 až 4 do 100 m3 | D64: m3 | E64: 257.008 | G64: =ROUND(E64*F64,2) -> 0 | I64: =ROUND(E64*H64,2) -> 0 | K64: =ROUND(E64*J64,2) -> 0 | L64: 15 | M64: =G64*(1+L64/100) -> 0 | N64: 0 | O64: =ROUND(E64*N64,2) -> 0 | P64: 0 | Q64: =ROUND(E64*P64,2) -> 0 | S64: Vlastní | T64: Indiv | U64: 0 | V64: =ROUND(E64*U64,2) -> 0 | AG64: POL1_9
C65: Převzatá hodnota množství z položky : 257,008 | E65: 257.01 | AG65: VV | AH65: 0
C66: Začátek provozního součtu | AG66: VV
C67: (65*(3,5+1,7)*,24+42*(2+1,7)*,24+122*(2+2)*,7+180*,3)/2 | E67: 257.01 | AG67: VV | AH67: 2
C68: Konec provozního součtu | AG68: VV
A69: 14 | B69: 356212T10I10 | C69: Vodorovné přemístění do 10000 m výkopku/sypaniny z horniny tř. 1 až 4 | D69: m3 | E69: 257.008 | G69: =ROUND(E69*F69,2) -> 0 | I69: =ROUND(E69*H69,2) -> 0 | K69: =ROUND(E69*J69,2) -> 0 | L69: 15 | M69: =G69*(1+L69/100) -> 0 | N69: 0 | O69: =ROUND(E69*N69,2) -> 0 | P69: 0 | Q69: =ROUND(E69*P69,2) -> 0 | S69: Vlastní | T69: Indiv | U69: 0 | V69: =ROUND(E69*U69,2) -> 0 | AG69: POL1_9
C70: Převzatá hodnota množství z položky : 257,008 | E70: 257.01 | AG70: VV | AH70: 0
C71: Začátek provozního součtu | AG71: VV
C72: (65*(3,5+1,7)*,24+42*(2+1,7)*,24+122*(2+2)*,7+180*,3)/2 | E72: 257.01 | AG72: VV | AH72: 2
C73: Konec provozního součtu | AG73: VV
A74: Díl: | B74: 2 | C74: Základy a zvláštní zakládání | G74: =SUMIF(AG75:AG79,"<>NOR",G75:G79) -> 0 | I74: =SUM(I75:I79) -> 0 | K74: =SUM(K75:K79) -> 0 | M74: =SUM(M75:M79) -> 0 | O74: =SUM(O75:O79) -> 0.68 | Q74: =SUM(Q75:Q79) -> 0 | V74: =SUM(V75:V79) -> 128.72 | AG74: DIL
A75: 15 | B75: 289970111R00 | C75: Geotextílie separační, filtrační, zpevňující polypropylén, 300 g/m2 | D75: m2 | E75: 1369.401 | G75: =ROUND(E75*F75,2) -> 0 | I75: =ROUND(E75*H75,2) -> 0 | K75: =ROUND(E75*J75,2) -> 0 | L75: 15 | M75: =G75*(1+L75/100) -> 0 | N75: 0.0005 | O75: =ROUND(E75*N75,2) -> 0.68 | P75: 0 | Q75: =ROUND(E75*P75,2) -> 0 | S75: RTS 17/ I | T75: Indiv | U75: 0.094 | V75: =ROUND(E75*U75,2) -> 128.72 | AG75: POL1_9
C76: Převzatá hodnota množství z položky : 1369,401 | E76: 1369.4 | AG76: VV | AH76: 0
C77: Začátek provozního součtu | AG77: VV
C78: 1244,91*1,1 | E78: 1369.4 | AG78: VV | AH78: 2
C79: Konec provozního součtu | AG79: VV
A80: Díl: | B80: 5 | C80: Komunikace | G80: =SUMIF(AG81:AG125,"<>NOR",G81:G125) -> 0 | I80: =SUM(I81:I125) -> 0 | K80: =SUM(K81:K125) -> 0 | M80: =SUM(M81:M125) -> 0 | O80: =SUM(O81:O125) -> 1296.28 | Q80: =SUM(Q81:Q125) -> 0 | V80: =SUM(V81:V125) -> 120.1 | AG80: DIL
A81: 16 | B81: 564851111R00 | C81: Podklad ze štěrkodrti s rozprostřením a zhutněním tloušťka po zhutnění 150 mm | D81: m2 | E81: 2142.8 | G81: =ROUND(E81*F81,2) -> 0 | I81: =ROUND(E81*H81,2) -> 0 | K81: =ROUND(E81*J81,2) -> 0 | L81: 15 | M81: =G81*(1+L81/100) -> 0 | N81: 0.33075 | O81: =ROUND(E81*N81,2) -> 708.73 | P81: 0 | Q81: =ROUND(E81*P81,2) -> 0 | S81: RTS 17/ I | T81: Indiv | U81: 0.026 | V81: =ROUND(E81*U81,2) -> 55.71 | AG81: POL1_9
C82: Převzatá hodnota množství z položky : 2142,8 | E82: 2142.8 | AG82: VV | AH82: 0
C83: Začátek provozního součtu | AG83: VV
C84: 2*(65*(3,5+1,7)+42*(2+1,7)+122*(2+2))+180 | E84: 2142.8 | AG84: VV | AH84: 2
C85: Konec provozního součtu | AG85: VV
A86: 17 | B86: 564851111R00 | C86: Podklad ze štěrkodrti s rozprostřením a zhutněním tloušťka po zhutnění 150 mm | D86: m2 | E86: 390.4 | G86: =ROUND(E86*F86,2) -> 0 | I86: =ROUND(E86*H86,2) -> 0 | K86: =ROUND(E86*J86,2) -> 0 | L86: 15 | M86: =G86*(1+L86/100) -> 0 | N86: 0.33075 | O86: =ROUND(E86*N86,2) -> 129.12 | P86: 0 | Q86: =ROUND(E86*P86,2) -> 0 | S86: RTS 17/ I | T86: Indiv | U86: 0.026 | V86: =ROUND(E86*U86,2) -> 10.15 | AG86: POL1_9
C87: Převzatá hodnota množství z položky : 390,4 | E87: 390.4 | AG87: VV | AH87: 0
C88: Začátek provozního součtu | AG88: VV
C89: 2*122*(2+2)*0,4 | E89: 390.4 | AG89: VV | AH89: 2
C90: Konec provozního součtu | AG90: VV
A91: 18 | B91: 564962111R00 | C91: Podklad nebo kryt z mechanicky zpevněného kameniva (MZK) tloušťka po zhutnění 200 mm | D91: m2 | E91: 287.5 | G91: =ROUND(E91*F91,2) -> 0 | I91: =ROUND(E91*H91,2) -> 0 | K91: =ROUND(E91*J91,2) -> 0 | L91: 15 | M91: =G91*(1+L91/100) -> 0 | N91: 0.48574 | O91: =ROUND(E91*N91,2) -> 139.65 | P91: 0 | Q91: =ROUND(E91*P91,2) -> 0 | S91: RTS 17/ I | T91: Indiv | U91: 0.042 | V91: =ROUND(E91*U91,2) -> 12.08 | AG91: POL1_9
C92: s rozprostřením a zhutněním | AG92: SPI
C93: Převzatá hodnota množství z položky : 287,5 | E93: 287.5 | AG93: VV | AH93: 0
C94: Začátek provozního součtu | AG94: VV
C95: 65*3,5+30*2 | E95: 287.5 | AG95: VV | AH95: 2
C96: Konec provozního součtu | AG96: VV
A97: 19 | B97: 567122111R00 | C97: Podklad z kameniva zpevněného cementem KZC 1, tloušťka po zhutnění 120 mm | D97: m2 | E97: 776.8 | G97: =ROUND(E97*F97,2) -> 0 | I97: =ROUND(E97*H97,2) -> 0 | K97: =ROUND(E97*J97,2) -> 0 | L97: 15 | M97: =G97*(1+L97/100) -> 0 | N97: 0.30651 | O97: =ROUND(E97*N97,2) -> 238.1 | P97: 0 | Q97: =ROUND(E97*P97,2) -> 0 | S97: RTS 17/ I | T97: Indiv | U97: 0.025 | V97: =ROUND(E97*U97,2) -> 19.42 | AG97: POL1_9
C98: bez dilatačních spár, s rozprostřením a zhutněním, ošetřením povrchu podkladu vodou | AG98: SPI
C99: Převzatá hodnota množství z položky : 776,8 | E99: 776.8 | AG99: VV | AH99: 0
C100: Začátek provozního součtu | AG100: VV
C101: 65*(3,5+0,7)+42*(2+0,7)+122*(2+1,2) | E101: 776.8 | AG101: VV | AH101: 2
C102: Konec provozního součtu | AG102: VV
...

Sheet SO 01 SO 01.2 Pol
A1: Položkový soupis prací a dodávek | AG1: #TypZaznamu#
A2: S: | B2: 002_v3 | C2: OBNOVA LESOPARKU HRADISKO A KALVÁRIE - KALVÁRIE | AG2: STA
A3: O: | B3: SO 01 | C3: Přístupová komunikace | AC3: STA | AG3: OBJ
A4: R: | B4: SO 01.2 | C4: SO 01 PŘÍSTUPOVÁ KOMUNIKACE Za školou | AG4: ROZ
A6: P.č. | B6: Číslo položky | C6: Název položky | D6: MJ | E6: množství | F6: cena / MJ | G6: Celkem | H6: Dodávka | I6: Dodávka celk. | J6: Montáž | K6: Montáž celk. | L6: DPH | M6: cena s DPH | N6: hmotnost / MJ | O6: hmotnost celk.(t) | P6: dem. hmotnost / MJ | Q6: dem. hmotnost celk.(t) | R6: Ceník | S6: Cen. soustava / platnost | T6: Cenová úroveň | U6: Nhod / MJ | V6: Nhod celk. | W6: Dodavatel
A8: Díl: | B8: 1 | C8: Zemní práce | G8: =SUMIF(AG9:AG70,"<>NOR",G9:G70) -> 0 | I8: =SUM(I9:I70) -> 0 | K8: =SUM(K9:K70) -> 0 | M8: =SUM(M9:M70) -> 0 | O8: =SUM(O9:O70) -> 0 | Q8: =SUM(Q9:Q70) -> 490.78 | V8: =SUM(V9:V70) -> 598.63 | AG8: DIL
A9: 1 | B9: 111203111R00 | C9: Odstranění pařezu odfrézováním až do hloubky 50 cm | D9: m2 | E9: 12 | G9: =ROUND(E9*F9,2) -> 0 | I9: =ROUND(E9*H9,2) -> 0 | K9: =ROUND(E9*J9,2) -> 0 | L9: 15 | M9: =G9*(1+L9/100) -> 0 | N9: 0 | O9: =ROUND(E9*N9,2) -> 0 | P9: 0 | Q9: =ROUND(E9*P9,2) -> 0 | S9: RTS 17/ I | T9: Indiv | U9: 2.913 | V9: =ROUND(E9*U9,2) -> 34.96 | AG9: POL1_9
A10: 2 | B10: 113107610R00 | C10: Odstranění podkladů nebo krytů z kameniva hrubého drceného, v ploše jednotlivě nad 50 m2, tloušťka vrstvy 100 mm | D10: m2 | E10: 497.61 | G10: =ROUND(E10*F10,2) -> 0 | I10: =ROUND(E10*H10,2) -> 0 | K10: =ROUND(E10*J10,2) -> 0 | L10: 15 | M10: =G10*(1+L10/100) -> 0 | N10: 0 | O10: =ROUND(E10*N10,2) -> 0 | P10: 0.22 | Q10: =ROUND(E10*P10,2) -> 109.47 | S10: RTS 17/ I | T10: Indiv | U10: 0.049 | V10: =ROUND(E10*U10,2) -> 24.38 | AG10: POL1_9
C11: Převzatá hodnota množství z položky : 497,61 | E11: 497.61 | AG11: VV | AH11: 0
C12: Začátek provozního součtu | AG12: VV
C13: 165,87*3 | E13: 497.61 | AG13: VV | AH13: 2
C14: Konec provozního součtu | AG14: VV
A15: 3 | B15: 113111130R00 | C15: Odstranění podkladů nebo krytů z kameniva zpevněného cementem, v ploše jednotlivě do 50 m2, tloušťka vrstvy 300 mm | D15: m2 | E15: 497.61 | G15: =ROUND(E15*F15,2) -> 0 | I15: =ROUND(E15*H15,2) -> 0 | K15: =ROUND(E15*J15,2) -> 0 | L15: 15 | M15: =G15*(1+L15/100) -> 0 | N15: 0 | O15: =ROUND(E15*N15,2) -> 0 | P15: 0.76629 | Q15: =ROUND(E15*P15,2) -> 381.31 | S15: RTS 17/ I | T15: Indiv | U15: 0.84 | V15: =ROUND(E15*U15,2) -> 417.99 | AG15: POL1_9
C16: Převzatá hodnota množství z položky : 497,61 | E16: 497.61 | AG16: VV | AH16: 0
C17: Začátek provozního součtu | AG17: VV
C18: 165,87*3 | E18: 497.61 | AG18: VV | AH18: 2
C19: Konec provozního součtu | AG19: VV
A20: 4 | B20: 122202202R00 | C20: Odkopávky a prokopávky pro silnice v hornině 3 přes 100 do 1 000 m3 | D20: m3 | E20: 235.4016 | G20: =ROUND(E20*F20,2) -> 0 | I20: =ROUND(E20*H20,2) -> 0 | K20: =ROUND(E20*J20,2) -> 0 | L20: 15 | M20: =G20*(1+L20/100) -> 0 | N20: 0 | O20: =ROUND(E20*N20,2) -> 0 | P20: 0 | Q20: =ROUND(E20*P20,2) -> 0 | S20: RTS 17/ I | T20: Indiv | U20: 0.223 | V20: =ROUND(E20*U20,2) -> 52.49 | AG20: POL1_9
C21: s přemístěním výkopku v příčných profilech na vzdálenost do 15 m nebo s naložením na dopravní prostředek. | AG21: SPI | BA21: =C21 -> s přemístěním výkopku v příčných profilech na vzdálenost do 15 m nebo s naložením na dopravní prostředek.
C22: Převzatá hodnota množství z položky : 235,4016 | E22: 235.4 | AG22: VV | AH22: 0
C23: Začátek provozního součtu | AG23: VV
C24: 0,17*139,92+663,48*,24+97*,54 | E24: 235.4 | AG24: VV | AH24: 2
C25: Konec provozního součtu | AG25: VV
A26: 5 | B26: 122202209R00 | C26: Odkopávky a prokopávky pro silnice v hornině 3 příplatek za lepivost horniny | D26: m3 | E26: 235.4016 | G26: =ROUND(E26*F26,2) -> 0 | I26: =ROUND(E26*H26,2) -> 0 | K26: =ROUND(E26*J26,2) -> 0 | L26: 15 | M26: =G26*(1+L26/100) -> 0 | N26: 0 | O26: =ROUND(E26*N26,2) -> 0 | P26: 0 | Q26: =ROUND(E26*P26,2) -> 0 | S26: RTS 17/ I | T26: Indiv | U26: 0.088 | V26: =ROUND(E26*U26,2) -> 20.72 | AG26: POL1_9
C27: s přemístěním výkopku v příčných profilech na vzdálenost do 15 m nebo s naložením na dopravní prostředek. | AG27: SPI | BA27: =C27 -> s přemístěním výkopku v příčných profilech na vzdálenost do 15 m nebo s naložením na dopravní prostředek.
C28: Převzatá hodnota množství z položky : 235,4016 | E28: 235.4 | AG28: VV | AH28: 0
C29: Začátek provozního součtu | AG29: VV
C30: 0,17*139,92+663,48*,24+97*,54 | E30: 235.4 | AG30: VV | AH30: 2
C31: Konec provozního součtu | AG31: VV
A32: 6 | B32: 162301101R00 | C32: Vodorovné přemístění výkopku z horniny 1 až 4, na vzdálenost přes 50 do 500 m | D32: m3 | E32: 503.8356 | G32: =ROUND(E32*F32,2) -> 0 | I32: =ROUND(E32*H32,2) -> 0 | K32: =ROUND(E32*J32,2) -> 0 | L32: 15 | M32: =G32*(1+L32/100) -> 0 | N32: 0 | O32: =ROUND(E32*N32,2) -> 0 | P32: 0 | Q32: =ROUND(E32*P32,2) -> 0 | S32: RTS 17/ I | T32: Indiv | U32: 0.011 | V32: =ROUND(E32*U32,2) -> 5.54 | AG32: POL1_9
C33: po suchu, bez ohledu na druh dopravního prostředku, bez naložení výkopku, avšak se složením bez rozhrnutí, | AG33: SPI | BA33: =C33 -> po suchu, bez ohledu na druh dopravního prostředku, bez naložení výkopku, avšak se složením bez rozhrnutí,
C34: Převzatá hodnota množství z položky : 503,8356 | E34: 503.84 | AG34: VV | AH34: 0
C35: Začátek provozního součtu | AG35: VV
C36: 0,17*139,92+663,48*,24+97*,54+497,1*0,54 | E36: 503.84 | AG36: VV | AH36: 2
C37: Konec provozního součtu | AG37: VV
A38: 7 | B38: 171101101R00 | C38: Uložení sypaniny do násypů zhutněných s uzavřením povrchu násypu z hornin soudržných s předepsanou mírou zhutnění v procentech výsledků zkoušek Proctor-Standard _x000D_ _x000D_ na 95 % PS | D38: m3 | E38: 503.8356 | G38: =ROUND(E38*F38,2) -> 0 | I38: =ROUND(E38*H38,2) -> 0 | K38: =ROUND(E38*J38,2) -> 0 | L38: 15 | M38: =G38*(1+L38/100) -> 0 | N38: 0 | O38: =ROUND(E38*N38,2) -> 0 | P38: 0 | Q38: =ROUND(E38*P38,2) -> 0 | S38: RTS 17/ I | T38: Indiv | U38: 0.043 | V38: =ROUND(E38*U38,2) -> 21.66 | AG38: POL1_9
C39: s rozprostřením sypaniny ve vrstvách a s hrubým urovnáním, | AG39: SPI
C40: Převzatá hodnota množství z položky : 503,8356 | E40: 503.84 | AG40: VV | AH40: 0
C41: Začátek provozního součtu | AG41: VV
C42: 0,17*139,92+663,48*,24+97*,54+497,1*0,54 | E42: 503.84 | AG42: VV | AH42: 2
C43: Konec provozního součtu | AG43: VV
A44: 8 | B44: 171201201R00 | C44: Uložení sypaniny na dočasnou skládku tak, že na 1 m2 plochy připadá přes 2 m3 výkopku nebo ornice | D44: m3 | E44: 503.8356 | G44: =ROUND(E44*F44,2) -> 0 | I44: =ROUND(E44*H44,2) -> 0 | K44: =ROUND(E44*J44,2) -> 0 | L44: 15 | M44: =G44*(1+L44/100) -> 0 | N44: 0 | O44: =ROUND(E44*N44,2) -> 0 | P44: 0 | Q44: =ROUND(E44*P44,2) -> 0 | S44: RTS 17/ I | T44: Indiv | U44: 0.009 | V44: =ROUND(E44*U44,2) -> 4.53 | AG44: POL1_9
C45: Převzatá hodnota množství z položky : 503,8356 | E45: 503.84 | AG45: VV | AH45: 0
C46: Začátek provozního součtu | AG46: VV
C47: 0,17*139,92+663,48*,24+97*,54+497,1*0,54 | E47: 503.84 | AG47: VV | AH47: 2
C48: Konec provozního součtu | AG48: VV
A49: 9 | B49: 181101101R00 | C49: Úprava pláně v zářezech v hornině 1 až 4, bez zhutnění | D49: m2 | E49: 1258.09 | G49: =ROUND(E49*F49,2) -> 0 | I49: =ROUND(E49*H49,2) -> 0 | K49: =ROUND(E49*J49,2) -> 0 | L49: 15 | M49: =G49*(1+L49/100) -> 0 | N49: 0 | O49: =ROUND(E49*N49,2) -> 0 | P49: 0 | Q49: =ROUND(E49*P49,2) -> 0 | S49: RTS 17/ I | T49: Indiv | U49: 0.013 | V49: =ROUND(E49*U49,2) -> 16.36 | AG49: POL1_9
C50: vyrovnáním výškových rozdílů, ploch vodorovných a ploch do sklonu 1 : 5. | AG50: SPI
C51: Převzatá hodnota množství z položky : 1258,09 | E51: 1258.09 | AG51: VV | AH51: 0
C52: Začátek provozního součtu | AG52: VV
C53: 760,48+497,61 | E53: 1258.09 | AG53: VV | AH53: 2
C54: Konec provozního součtu | AG54: VV
A55: 10 | B55: 171201211 | C55: Poplatek za uložení odpadu ze sypaniny na skládce (skládkovné) | D55: t | E55: 403.06848 | G55: =ROUND(E55*F55,2) -> 0 | I55: =ROUND(E55*H55,2) -> 0 | K55: =ROUND(E55*J55,2) -> 0 | L55: 15 | M55: =G55*(1+L55/100) -> 0 | N55: 0 | O55: =ROUND(E55*N55,2) -> 0 | P55: 0 | Q55: =ROUND(E55*P55,2) -> 0 | S55: Vlastní | T55: Indiv | U55: 0 | V55: =ROUND(E55*U55,2) -> 0 | AG55: POL1_9
C56: 339,43*1,6 | AG56: POP
C57: Převzatá hodnota množství z položky : 403,06848 | E57: 403.07 | AG57: VV | AH57: 0
C58: Začátek provozního součtu | AG58: VV
C59: 1,6*(0,17*139,92+663,48*,24+97*,54+497,1*0,54)/2 | E59: 403.07 | AG59: VV | AH59: 2
C60: Konec provozního součtu | AG60: VV
A61: 11 | B61: 354943T10I10 | C61: Nakládání výkopku z hornin tř. 1 až 4 do 100 m3 | D61: m3 | E61: 503.8356 | G61: =ROUND(E61*F61,2) -> 0 | I61: =ROUND(E61*H61,2) -> 0 | K61: =ROUND(E61*J61,2) -> 0 | L61: 15 | M61: =G61*(1+L61/100) -> 0 | N61: 0 | O61: =ROUND(E61*N61,2) -> 0 | P61: 0 | Q61: =ROUND(E61*P61,2) -> 0 | S61: Vlastní | T61: Indiv | U61: 0 | V61: =ROUND(E61*U61,2) -> 0 | AG61: POL1_9
C62: Převzatá hodnota množství z položky : 503,8356 | E62: 503.84 | AG62: VV | AH62: 0
C63: Začátek provozního součtu | AG63: VV
C64: 0,17*139,92+663,48*,24+97*,54+497,1*0,54 | E64: 503.84 | AG64: VV | AH64: 2
C65: Konec provozního součtu | AG65: VV
A66: 12 | B66: 356212T10I10 | C66: Vodorovné přemístění do 10000 m výkopku/sypaniny z horniny tř. 1 až 4 | D66: m3 | E66: 503.8356 | G66: =ROUND(E66*F66,2) -> 0 | I66: =ROUND(E66*H66,2) -> 0 | K66: =ROUND(E66*J66,2) -> 0 | L66: 15 | M66: =G66*(1+L66/100) -> 0 | N66: 0 | O66: =ROUND(E66*N66,2) -> 0 | P66: 0 | Q66: =ROUND(E66*P66,2) -> 0 | S66: Vlastní | T66: Indiv | U66: 0 | V66: =ROUND(E66*U66,2) -> 0 | AG66: POL1_9
C67: Převzatá hodnota množství z položky : 503,8356 | E67: 503.84 | AG67: VV | AH67: 0
C68: Začátek provozního součtu | AG68: VV
C69: 0,17*139,92+663,48*,24+97*,54+497,1*0,54 | E69: 503.84 | AG69: VV | AH69: 2
C70: Konec provozního součtu | AG70: VV
A71: Díl: | B71: 1a | C71: Vedlejší náklady | G71: =SUMIF(AG72:AG77,"<>NOR",G72:G77) -> 0 | I71: =SUM(I72:I77) -> 0 | K71: =SUM(K72:K77) -> 0 | M71: =SUM(M72:M77) -> 0 | O71: =SUM(O72:O77) -> 0 | Q71: =SUM(Q72:Q77) -> 15.95 | V71: =SUM(V72:V77) -> 15.31 | AG71: DIL
A72: 13 | B72: 113202111R00 | C72: Vytrhání obrub z krajníků nebo obrubníků stojatých | D72: m | E72: 21 | G72: =ROUND(E72*F72,2) -> 0 | I72: =ROUND(E72*H72,2) -> 0 | K72: =ROUND(E72*J72,2) -> 0 | L72: 15 | M72: =G72*(1+L72/100) -> 0 | N72: 0 | O72: =ROUND(E72*N72,2) -> 0 | P72: 0.27 | Q72: =ROUND(E72*P72,2) -> 5.67 | S72: RTS 17/ I | T72: Indiv | U72: 0.123 | V72: =ROUND(E72*U72,2) -> 2.58 | AG72: POL1_9
C73: s vybouráním lože, s přemístěním hmot na skládku na vzdálenost do 3 m nebo naložením na dopravní prostředek | AG73: SPI | BA73: =C73 -> s vybouráním lože, s přemístěním hmot na skládku na vzdálenost do 3 m nebo naložením na dopravní prostředek
A74: 14 | B74: 113203111R00 | C74: Vytrhání obrub z dlažebních kostek | D74: m | E74: 89.4 | G74: =ROUND(E74*F74,2) -> 0 | I74: =ROUND(E74*H74,2) -> 0 | K74: =ROUND(E74*J74,2) -> 0 | L74: 15 | M74: =G74*(1+L74/100) -> 0 | N74: 0 | O74: =ROUND(E74*N74,2) -> 0 | P74: 0.115 | Q74: =ROUND(E74*P74,2) -> 10.28 | S74: RTS 17/ I | T74: Indiv | U74: 0.137 | V74: =ROUND(E74*U74,2) -> 12.25 | AG74: POL1_9
C75: s vybouráním lože, s přemístěním hmot na skládku na vzdálenost do 3 m nebo naložením na dopravní prostředek | AG75: SPI | BA75: =C75 -> s vybouráním lože, s přemístěním hmot na skládku na vzdálenost do 3 m nebo naložením na dopravní prostředek
A76: 15 | B76: 919735111R00 | C76: Řezání stávajících krytů nebo podkladů živičných, hloubky do 50 mm | D76: m | E76: 15 | G76: =ROUND(E76*F76,2) -> 0 | I76: =ROUND(E76*H76,2) -> 0 | K76: =ROUND(E76*J76,2) -> 0 | L76: 15 | M76: =G76*(1+L76/100) -> 0 | N76: 0 | O76: =ROUND(E76*N76,2) -> 0 | P76: 0 | Q76: =ROUND(E76*P76,2) -> 0 | S76: RTS 17/ I | T76: Indiv | U76: 0.032 | V76: =ROUND(E76*U76,2) -> 0.48 | AG76: POL1_9
C77: včetně spotřeby vody | AG77: SPI
A78: Díl: | B78: 2 | C78: Základy a zvláštní zakládání | G78: =SUMIF(AG79:AG83,"<>NOR",G79:G83) -> 0 | I78: =SUM(I79:I83) -> 0 | K78: =SUM(K79:K83) -> 0 | M78: =SUM(M79:M83) -> 0 | O78: =SUM(O79:O83) -> 0.63 | Q78: =SUM(Q79:Q83) -> 0 | V78: =SUM(V79:V83) -> 118.26 | AG78: DIL
A79: 16 | B79: 289970111R0 | C79: D+M Vrstva geotextilie Geofiltex 200g/m2 + dvouosá PP geomříž - sanace pláně | D79: m2 | E79: 1258.09 | G79: =ROUND(E79*F79,2) -> 0 | I79: =ROUND(E79*H79,2) -> 0 | K79: =ROUND(E79*J79,2) -> 0 | L79: 15 | M79: =G79*(1+L79/100) -> 0 | N79: 0.0005 | O79: =ROUND(E79*N79,2) -> 0.63 | P79: 0 | Q79: =ROUND(E79*P79,2) -> 0 | S79: Vlastní | T79: Indiv | U79: 0.094 | V79: =ROUND(E79*U79,2) -> 118.26 | AG79: POL1_9
C80: Převzatá hodnota množství z položky : 1258,09 | E80: 1258.09 | AG80: VV | AH80: 0
C81: Začátek provozního součtu | AG81: VV
C82: 760,48+497,61 | E82: 1258.09 | AG82: VV | AH82: 2
C83: Konec provozního součtu | AG83: VV
A84: Díl: | B84: 5 | C84: Komunikace | G84: =SUMIF(AG85:AG155,"<>NOR",G85:G155) -> 0 | I84: =SUM(I85:I155) -> 0 | K84: =SUM(K85:K155) -> 0 | M84: =SUM(M85:M155) -> 0 | O84: =SUM(O85:O155) -> 1490.04 | Q84: =SUM(Q85:Q155) -> 0 | V84: =SUM(V85:V155) -> 117.03 | AG84: DIL
A85: 17 | B85: 564851111R00 | C85: Podklad ze štěrkodrti s rozprostřením a zhutněním tloušťka po zhutnění 150 mm | D85: m2 | E85: 2.575 | G85: =ROUND(E85*F85,2) -> 0 | I85: =ROUND(E85*H85,2) -> 0 | K85: =ROUND(E85*J85,2) -> 0 | L85: 15 | M85: =G85*(1+L85/100) -> 0 | N85: 0.33075 | O85: =ROUND(E85*N85,2) -> 0.85 | P85: 0 | Q85: =ROUND(E85*P85,2) -> 0 | S85: RTS 17/ I | T85: Indiv | U85: 0.026 | V85: =ROUND(E85*U85,2) -> 0.07 | AG85: POL1_9
C86: Převzatá hodnota množství z položky : 2,575 | E86: 2.58 | AG86: VV | AH86: 0
C87: Začátek provozního součtu | AG87: VV
C88: 10,3*,25 | E88: 2.58 | AG88: VV | AH88: 2
C89: Konec provozního součtu | AG89: VV
A90: 18 | B90: 564851114R00 | C90: Podklad ze štěrkodrti s rozprostřením a zhutněním tloušťka po zhutnění 180 mm | D90: m2 | E90: 339.84 | G90: =ROUND(E90*F90,2) -> 0 | I90: =ROUND(E90*H90,2) -> 0 | K90: =ROUND(E90*J90,2) -> 0 | L90: 15 | M90: =G90*(1+L90/100) -> 0 | N90: 0.3969 | O90: =ROUND(E90*N90,2) -> 134.88 | P90: 0 | Q90: =ROUND(E90*P90,2) -> 0 | S90: RTS 17/ I | T90: Indiv | U90: 0.026 | V90: =ROUND(E90*U90,2) -> 8.84 | AG90: POL1_9
C91: Převzatá hodnota množství z položky : 339,84 | E91: 339.84 | AG91: VV | AH91: 0
C92: Začátek provozního součtu | AG92: VV
C93: (20*1,5+139,92)*2 | E93: 339.84 | AG93: VV | AH93: 2
C94: Konec provozního součtu | AG94: VV
A95: 19 | B95: 564861114R00 | C95: Podklad ze štěrkodrti s rozprostřením a zhutněním tloušťka po zhutnění 230 mm | D95: m2 | E95: 1258.09 | G95: =ROUND(E95*F95,2) -> 0 | I95: =ROUND(E95*H95,2) -> 0 | K95: =ROUND(E95*J95,2) -> 0 | L95: 15 | M95: =G95*(1+L95/100) -> 0 | N95: 0.50715 | O95: =ROUND(E95*N95,2) -> 638.04 | P95: 0 | Q95: =ROUND(E95*P95,2) -> 0 | S95: RTS 17/ I | T95: Indiv | U95: 0.031 | V95: =ROUND(E95*U95,2) -> 39 | AG95: POL1_9
C96: Převzatá hodnota množství z položky : 1258,09 | E96: 1258.09 | AG96: VV | AH96: 0
C97: Začátek provozního součtu | AG97: VV
C98: 760,48+497,61 | E98: 1258.09 | AG98: VV | AH98: 2
C99: Konec provozního součtu | AG99: VV
A100: 20 | B100: 564962111R00 | C100: Podklad nebo kryt z mechanicky zpevněného kameniva (MZK) tloušťka po zhutnění 200 mm | D100: m2 | E100: 712.95 | G100: =ROUND(E100*F100,2) -> 0 | I100: =ROUND(E100*H100,2) -> 0 | K100: =ROUND(E100*J100,2) -> 0 | L100: 15 | M100: =G100*(1+L100/100) -> 0 | N100: 0.48574 | O100: =ROUND(E100*N100,2) -> 346.31 | P100: 0 | Q100: =ROUND(E100*P100,2) -> 0 | S100: RTS 17/ I | T100: Indiv | U100: 0.042 | V100: =ROUND(E100*U100,2) -> 29.94 | AG100: POL1_9
C101: s rozprostřením a zhutněním | AG101: SPI
C102: Převzatá hodnota množství z položky : 712,95 | E102: 712.95 | AG102: VV | AH102: 0
...

Sheet SO 02 SO 02 Pol
A1: Položkový soupis prací a dodávek | AG1: #TypZaznamu#
A2: S: | B2: 002_v3 | C2: OBNOVA LESOPARKU HRADISKO A KALVÁRIE - KALVÁRIE | AG2: STA
A3: O: | B3: SO 02 | C3: Altán „Letýšek“ | AC3: STA | AG3: OBJ
A4: R: | B4: SO 02 | C4: Altán „Letýšek“ | AG4: ROZ
A6: P.č. | B6: Číslo položky | C6: Název položky | D6: MJ | E6: množství | F6: cena / MJ | G6: Celkem | H6: Dodávka | I6: Dodávka celk. | J6: Montáž | K6: Montáž celk. | L6: DPH | M6: cena s DPH | N6: hmotnost / MJ | O6: hmotnost celk.(t) | P6: dem. hmotnost / MJ | Q6: dem. hmotnost celk.(t) | R6: Ceník | S6: Cen. soustava / platnost | T6: Cenová úroveň | U6: Nhod / MJ | V6: Nhod celk. | W6: Dodavatel
A8: Díl: | B8: 1 | C8: Zemní práce | G8: =SUMIF(AG9:AG14,"<>NOR",G9:G14) -> 0 | I8: =SUM(I9:I14) -> 0 | K8: =SUM(K9:K14) -> 0 | M8: =SUM(M9:M14) -> 0 | O8: =SUM(O9:O14) -> 0 | Q8: =SUM(Q9:Q14) -> 0 | V8: =SUM(V9:V14) -> 20.1 | AG8: DIL
A9: 1 | B9: 121100001RAA | C9: Sejmutí ornice naložení a uložení_x000D_ odvoz do 1 000 m | D9: m3 | E9: 5.6 | G9: =ROUND(E9*F9,2) -> 0 | I9: =ROUND(E9*H9,2) -> 0 | K9: =ROUND(E9*J9,2) -> 0 | L9: 15 | M9: =G9*(1+L9/100) -> 0 | N9: 0 | O9: =ROUND(E9*N9,2) -> 0 | P9: 0 | Q9: =ROUND(E9*P9,2) -> 0 | S9: RTS 17/ I | T9: Indiv | U9: 0.17 | V9: =ROUND(E9*U9,2) -> 0.95 | AG9: POL2_9
C10: popř. lesní půdy s naložením, vodorovným přemístěním a složením na hromady nebo se zpětným přemístěním a rozprostřením. | AG10: SPI | BA10: =C10 -> popř. lesní půdy s naložením, vodorovným přemístěním a složením na hromady nebo se zpětným přemístěním a rozprostřením.
A11: 2 | B11: 162100010RAA | C11: Příplatek za vodorovný přesun za každých dalších 1 000 m vodorvoného přemístění výkopku | D11: m3 | E11: 3.42 | G11: =ROUND(E11*F11,2) -> 0 | I11: =ROUND(E11*H11,2) -> 0 | K11: =ROUND(E11*J11,2) -> 0 | L11: 15 | M11: =G11*(1+L11/100) -> 0 | N11: 0 | O11: =ROUND(E11*N11,2) -> 0 | P11: 0 | Q11: =ROUND(E11*P11,2) -> 0 | S11: RTS 17/ I | T11: Indiv | U11: 0 | V11: =ROUND(E11*U11,2) -> 0 | AG11: POL2_9
C12: výkopku přes vymezenou dopravní vzdálenost uvedenou u jednotlivých položek. | AG12: SPI
A13: 3 | B13: 182300010RA0 | C13: Rozprostření ornice ve svahu nad 1 : 5 a osetí travou při tloušťce 150 mm, dovoz ornice ze vzdálenosti 500 m | D13: m2 | E13: 50 | G13: =ROUND(E13*F13,2) -> 0 | I13: =ROUND(E13*H13,2) -> 0 | K13: =ROUND(E13*J13,2) -> 0 | L13: 15 | M13: =G13*(1+L13/100) -> 0 | N13: 3e-05 | O13: =ROUND(E13*N13,2) -> 0 | P13: 0 | Q13: =ROUND(E13*P13,2) -> 0 | S13: RTS 17/ I | T13: Indiv | U13: 0.38302 | V13: =ROUND(E13*U13,2) -> 19.15 | AG13: POL2_9
C14: vč. urovnání ornice, naložení na skládce a vodorovným přemístěním ornice na místo rozprostření, založení trávníku osetím a dodávky travního semene. | AG14: SPI | BA14: =C14 -> vč. urovnání ornice, naložení na skládce a vodorovným přemístěním ornice na místo rozprostření, založení trávníku osetím a dodávky travního semene.
A15: Díl: | B15: 2 | C15: Základy a zvláštní zakládání | G15: =SUMIF(AG16:AG20,"<>NOR",G16:G20) -> 0 | I15: =SUM(I16:I20) -> 0 | K15: =SUM(K16:K20) -> 0 | M15: =SUM(M16:M20) -> 0 | O15: =SUM(O16:O20) -> 25.23 | Q15: =SUM(Q16:Q20) -> 0 | V15: =SUM(V16:V20) -> 26.34 | AG15: DIL
A16: 4 | B16: 212850001RA0 | C16: Drenáž podél základu objektu z drenážních trub, d 100 mm | D16: m | E16: 14 | G16: =ROUND(E16*F16,2) -> 0 | I16: =ROUND(E16*H16,2) -> 0 | K16: =ROUND(E16*J16,2) -> 0 | L16: 15 | M16: =G16*(1+L16/100) -> 0 | N16: 0.42953 | O16: =ROUND(E16*N16,2) -> 6.01 | P16: 0 | Q16: =ROUND(E16*P16,2) -> 0 | S16: RTS 17/ I | T16: Indiv | U16: 1.4019 | V16: =ROUND(E16*U16,2) -> 19.63 | AG16: POL2_9
C17: včetně betonového lože C 16/20, obsypu kamenivem, ochranné geotextilie a revizní šachty | AG17: SPI
A18: 5 | B18: 2793200344 | C18: Základová zeď ŽB z betonu C 16/20 tloušťky 60 cm, bednění, výztuž 120 kg/m3, | D18: m2 | E18: 6.1 | G18: =ROUND(E18*F18,2) -> 0 | I18: =ROUND(E18*H18,2) -> 0 | K18: =ROUND(E18*J18,2) -> 0 | L18: 15 | M18: =G18*(1+L18/100) -> 0 | N18: 1.78352 | O18: =ROUND(E18*N18,2) -> 10.88 | P18: 0 | Q18: =ROUND(E18*P18,2) -> 0 | S18: Vlastní | T18: Indiv | U18: 0 | V18: =ROUND(E18*U18,2) -> 0 | AG18: POL1_9
A19: 6 | B19: 271100010RA0 | C19: Polštáře pod základy ze štěrkopísku | D19: m3 | E19: 4.3 | G19: =ROUND(E19*F19,2) -> 0 | I19: =ROUND(E19*H19,2) -> 0 | K19: =ROUND(E19*J19,2) -> 0 | L19: 15 | M19: =G19*(1+L19/100) -> 0 | N19: 1.93971 | O19: =ROUND(E19*N19,2) -> 8.34 | P19: 0 | Q19: =ROUND(E19*P19,2) -> 0 | S19: RTS 17/ I | T19: Indiv | U19: 1.5605 | V19: =ROUND(E19*U19,2) -> 6.71 | AG19: POL2_9
C20: zhutněné ze štěrkopísku. | AG20: SPI
A21: Díl: | B21: 3 | C21: Svislé a kompletní konstrukce | G21: =SUMIF(AG22:AG23,"<>NOR",G22:G23) -> 0 | I21: =SUM(I22:I23) -> 0 | K21: =SUM(K22:K23) -> 0 | M21: =SUM(M22:M23) -> 0 | O21: =SUM(O22:O23) -> 10.55 | Q21: =SUM(Q22:Q23) -> 0 | V21: =SUM(V22:V23) -> 34.05 | AG21: DIL
A22: 7 | B22: 311200001RAA | C22: Zdivo z kamene neopracovaného, jednostranně lícované, spárované | D22: m3 | E22: 3.9 | G22: =ROUND(E22*F22,2) -> 0 | I22: =ROUND(E22*H22,2) -> 0 | K22: =ROUND(E22*J22,2) -> 0 | L22: 15 | M22: =G22*(1+L22/100) -> 0 | N22: 2.70569 | O22: =ROUND(E22*N22,2) -> 10.55 | P22: 0 | Q22: =ROUND(E22*P22,2) -> 0 | S22: RTS 17/ I | T22: Indiv | U22: 8.7309 | V22: =ROUND(E22*U22,2) -> 34.05 | AG22: POL2_9
C23: jednostranně lícované, včetně spárování. | AG23: SPI
A24: Díl: | B24: 4 | C24: Vodorovné konstrukce | G24: =SUMIF(AG25:AG25,"<>NOR",G25:G25) -> 0 | I24: =SUM(I25:I25) -> 0 | K24: =SUM(K25:K25) -> 0 | M24: =SUM(M25:M25) -> 0 | O24: =SUM(O25:O25) -> 18.28 | Q24: =SUM(Q25:Q25) -> 0 | V24: =SUM(V25:V25) -> 30.49 | AG24: DIL
A25: 8 | B25: 465513427R00 | C25: Dlažba z kamene na MC,s vyspár.MCs, tl.do 40 cm | D25: m2 | E25: 16.2 | G25: =ROUND(E25*F25,2) -> 0 | I25: =ROUND(E25*H25,2) -> 0 | K25: =ROUND(E25*J25,2) -> 0 | L25: 15 | M25: =G25*(1+L25/100) -> 0 | N25: 1.12858 | O25: =ROUND(E25*N25,2) -> 18.28 | P25: 0 | Q25: =ROUND(E25*P25,2) -> 0 | S25: RTS 17/ I | T25: Indiv | U25: 1.882 | V25: =ROUND(E25*U25,2) -> 30.49 | AG25: POL1_9
A26: Díl: | B26: 762 | C26: Konstrukce tesařské | G26: =SUMIF(AG27:AG29,"<>NOR",G27:G29) -> 0 | I26: =SUM(I27:I29) -> 0 | K26: =SUM(K27:K29) -> 0 | M26: =SUM(M27:M29) -> 0 | O26: =SUM(O27:O29) -> 2.68 | Q26: =SUM(Q27:Q29) -> 0 | V26: =SUM(V27:V29) -> 5.89 | AG26: DIL
A27: 9 | B27: 76271OA0 | C27: Vázané prostorové konstrukce z řeziva, opalované dubové dřevo, 2 roky vyzrálé, altán | D27: m3 | E27: 3.2 | G27: =ROUND(E27*F27,2) -> 0 | I27: =ROUND(E27*H27,2) -> 0 | K27: =ROUND(E27*J27,2) -> 0 | L27: 15 | M27: =G27*(1+L27/100) -> 0 | N27: 0.7276 | O27: =ROUND(E27*N27,2) -> 2.33 | P27: 0 | Q27: =ROUND(E27*P27,2) -> 0 | S27: Vlastní | T27: Indiv | U27: 0 | V27: =ROUND(E27*U27,2) -> 0 | AG27: POL3_0
A28: 10 | B28: 762520310RAC | C28: Podlahy z desek a fošen z prken hoblovaných, na pero a drážku, na polštáře á 1 m, tloušťky 50 mm, včetně impregnace řeziva | D28: m2 | E28: 9.69 | G28: =ROUND(E28*F28,2) -> 0 | I28: =ROUND(E28*H28,2) -> 0 | K28: =ROUND(E28*J28,2) -> 0 | L28: 15 | M28: =G28*(1+L28/100) -> 0 | N28: 0.0363 | O28: =ROUND(E28*N28,2) -> 0.35 | P28: 0 | Q28: =ROUND(E28*P28,2) -> 0 | S28: RTS 17/ I | T28: Indiv | U28: 0.60756 | V28: =ROUND(E28*U28,2) -> 5.89 | AG28: POL2_9
C29: Položení polštářů pod podlahy o osové vzdálenosti do 1 m, položení a přibití hoblovaných prken, spojovací a ochranné prostředky, dodávka a impregnace materiálu. | AG29: POP | BA29: =C29 -> Položení polštářů pod podlahy o osové vzdálenosti do 1 m, položení a přibití hoblovaných prken, spojovací a ochranné prostředky, dodávka a impregnace materiálu.
A30: Díl: | B30: 764 | C30: Konstrukce klempířské | G30: =SUMIF(AG31:AG31,"<>NOR",G31:G31) -> 0 | I30: =SUM(I31:I31) -> 0 | K30: =SUM(K31:K31) -> 0 | M30: =SUM(M31:M31) -> 0 | O30: =SUM(O31:O31) -> 0.13 | Q30: =SUM(Q31:Q31) -> 0 | V30: =SUM(V31:V31) -> 0 | AG30: DIL
A31: 11 | B31: 76431901 | C31: Krytina dřevěné došky, na dřevo, D+M | D31: m2 | E31: 22.9 | G31: =ROUND(E31*F31,2) -> 0 | I31: =ROUND(E31*H31,2) -> 0 | K31: =ROUND(E31*J31,2) -> 0 | L31: 15 | M31: =G31*(1+L31/100) -> 0 | N31: 0.0057 | O31: =ROUND(E31*N31,2) -> 0.13 | P31: 0 | Q31: =ROUND(E31*P31,2) -> 0 | S31: Vlastní | T31: Indiv | U31: 0 | V31: =ROUND(E31*U31,2) -> 0 | AG31: POL1_9
A32: Díl: | B32: 766 | C32: Konstrukce truhlářské | G32: =SUMIF(AG33:AG34,"<>NOR",G33:G34) -> 0 | I32: =SUM(I33:I34) -> 0 | K32: =SUM(K33:K34) -> 0 | M32: =SUM(M33:M34) -> 0 | O32: =SUM(O33:O34) -> 0.07 | Q32: =SUM(Q33:Q34) -> 0 | V32: =SUM(V33:V34) -> 0 | AG32: DIL
A33: 12 | B33: 76612OA0 | C33: Stěny dřevěné kompletizované, povrchová úprava oplalování, D+M | D33: m2 | E33: 13.3 | G33: =ROUND(E33*F33,2) -> 0 | I33: =ROUND(E33*H33,2) -> 0 | K33: =ROUND(E33*J33,2) -> 0 | L33: 15 | M33: =G33*(1+L33/100) -> 0 | N33: 0 | O33: =ROUND(E33*N33,2) -> 0 | P33: 0 | Q33: =ROUND(E33*P33,2) -> 0 | S33: Vlastní | T33: Indiv | U33: 0 | V33: =ROUND(E33*U33,2) -> 0 | AG33: POL1_9
A34: 13 | B34: 766410 | C34: Výplň stěn deskami z trvdého dřeva včt nosné konstukcev DZ cena zadaná 4000kč/m2 | D34: m2 | E34: 14 | G34: =ROUND(E34*F34,2) -> 0 | I34: =ROUND(E34*H34,2) -> 0 | K34: =ROUND(E34*J34,2) -> 0 | L34: 15 | M34: =G34*(1+L34/100) -> 0 | N34: 0.00474 | O34: =ROUND(E34*N34,2) -> 0.07 | P34: 0 | Q34: =ROUND(E34*P34,2) -> 0 | S34: Vlastní | T34: Indiv | U34: 0 | V34: =ROUND(E34*U34,2) -> 0 | AG34: POL1_9
A35: Díl: | B35: 767 | C35: Konstrukce zámečnické | G35: =SUMIF(AG36:AG38,"<>NOR",G36:G38) -> 0 | I35: =SUM(I36:I38) -> 0 | K35: =SUM(K36:K38) -> 0 | M35: =SUM(M36:M38) -> 0 | O35: =SUM(O36:O38) -> 0.13 | Q35: =SUM(Q36:Q38) -> 0 | V35: =SUM(V36:V38) -> 35.81 | AG35: DIL
A36: 14 | B36: 767110119RA0 | C36: Stěny zasklené montáž stěn z ocelových profilů, pouze montáž, stěna ve specifikaci, | D36: m2 | E36: 22 | G36: =ROUND(E36*F36,2) -> 0 | I36: =ROUND(E36*H36,2) -> 0 | K36: =ROUND(E36*J36,2) -> 0 | L36: 15 | M36: =G36*(1+L36/100) -> 0 | N36: 0.00017 | O36: =ROUND(E36*N36,2) -> 0 | P36: 0 | Q36: =ROUND(E36*P36,2) -> 0 | S36: RTS 17/ I | T36: Indiv | U36: 1.31001 | V36: =ROUND(E36*U36,2) -> 28.82 | AG36: POL2_9
A37: 15 | B37: 767200001RA0 | C37: Schodišťové zábradlí madlo, nátěr | D37: m | E37: 7 | G37: =ROUND(E37*F37,2) -> 0 | I37: =ROUND(E37*H37,2) -> 0 | K37: =ROUND(E37*J37,2) -> 0 | L37: 15 | M37: =G37*(1+L37/100) -> 0 | N37: 0.01808 | O37: =ROUND(E37*N37,2) -> 0.13 | P37: 0 | Q37: =ROUND(E37*P37,2) -> 0 | S37: RTS 17/ I | T37: Indiv | U37: 0.99851 | V37: =ROUND(E37*U37,2) -> 6.99 | AG37: POL2_9
C38: z trubek nebo tenkostěnných profilů do zdiva (10 kg/m zábradlí), dodávka a montáž dřevěných průběžných madel, nátěr zábradlí syntetický základní a dvojnásobný vrchní, nátěr madla lazurovacím lakem dvojnásobný s napuštěním. | AG38: SPI | BA38: =C38 -> z trubek nebo tenkostěnných profilů do zdiva (10 kg/m zábradlí), dodávka a montáž dřevěných průběžných madel, nátěr zábradlí syntetický základní a dvojnásobný vrchní, nátěr madla lazurovacím lakem dvojnásobný s napuštěním.
A39: Díl: | B39: 99 | C39: Staveništní přesun hmot | G39: =SUMIF(AG40:AG41,"<>NOR",G40:G41) -> 0 | I39: =SUM(I40:I41) -> 0 | K39: =SUM(K40:K41) -> 0 | M39: =SUM(M40:M41) -> 0 | O39: =SUM(O40:O41) -> 0 | Q39: =SUM(Q40:Q41) -> 0 | V39: =SUM(V40:V41) -> 35.94 | AG39: DIL
A40: 16 | B40: 998011002R00 | C40: Přesun hmot pro budovy s nosnou konstrukcí zděnou výšky přes 6 do 12 m | D40: t | E40: 117.07773 | G40: =ROUND(E40*F40,2) -> 0 | I40: =ROUND(E40*H40,2) -> 0 | K40: =ROUND(E40*J40,2) -> 0 | L40: 15 | M40: =G40*(1+L40/100) -> 0 | N40: 0 | O40: =ROUND(E40*N40,2) -> 0 | P40: 0 | Q40: =ROUND(E40*P40,2) -> 0 | S40: RTS 17/ I | T40: Indiv | U40: 0.307 | V40: =ROUND(E40*U40,2) -> 35.94 | AG40: POL1_9
C41: přesun hmot pro budovy občanské výstavby (JKSO 801), budovy pro bydlení (JKSO 803) budovy pro výrobu a služby (JKSO 812) s nosnou svislou konstrukcí zděnou z cihel nebo tvárnic nebo kovovou | AG41: SPI | BA41: =C41 -> přesun hmot pro budovy občanské výstavby (JKSO 801), budovy pro bydlení (JKSO 803) budovy pro výrobu a služby (JKSO 812) s nosnou svislou konstrukcí zděnou z cihel nebo tvárnic nebo kovovou
A42: Díl: | B42: 1 | C42: Zemní práce | G42: =SUMIF(AG43:AG61,"<>NOR",G43:G61) -> 0 | I42: =SUM(I43:I61) -> 0 | K42: =SUM(K43:K61) -> 0 | M42: =SUM(M43:M61) -> 0 | O42: =SUM(O43:O61) -> 0 | Q42: =SUM(Q43:Q61) -> 0 | V42: =SUM(V43:V61) -> 57.02 | AG42: DIL
A43: 17 | B43: 122201102R00 | C43: Odkopávky a prokopávky nezapažené v hornině 3_x000D_ přes 100 do 1 000 m3 | D43: m3 | E43: 7.3 | G43: =ROUND(E43*F43,2) -> 0 | I43: =ROUND(E43*H43,2) -> 0 | K43: =ROUND(E43*J43,2) -> 0 | L43: 15 | M43: =G43*(1+L43/100) -> 0 | N43: 0 | O43: =ROUND(E43*N43,2) -> 0 | P43: 0 | Q43: =ROUND(E43*P43,2) -> 0 | S43: RTS 17/ I | T43: Indiv | U43: 0.187 | V43: =ROUND(E43*U43,2) -> 1.37 | AG43: POL1_9
C44: s přehozením výkopku na vzdálenost do 3 m nebo s naložením na dopravní prostředek, | AG44: SPI
A45: 18 | B45: 122201109R00 | C45: Odkopávky a prokopávky nezapažené v hornině 3_x000D_ příplatek k cenám za lepivost horniny | D45: m3 | E45: 3.65 | G45: =ROUND(E45*F45,2) -> 0 | I45: =ROUND(E45*H45,2) -> 0 | K45: =ROUND(E45*J45,2) -> 0 | L45: 15 | M45: =G45*(1+L45/100) -> 0 | N45: 0 | O45: =ROUND(E45*N45,2) -> 0 | P45: 0 | Q45: =ROUND(E45*P45,2) -> 0 | S45: RTS 17/ I | T45: Indiv | U45: 0.058 | V45: =ROUND(E45*U45,2) -> 0.21 | AG45: POL1_9
C46: s přehozením výkopku na vzdálenost do 3 m nebo s naložením na dopravní prostředek, | AG46: SPI
A47: 19 | B47: 122301102R00 | C47: Odkopávky a prokopávky nezapažené v hornině 4 přes 100 do 1 000 m3 | D47: m3 | E47: 7.3 | G47: =ROUND(E47*F47,2) -> 0 | I47: =ROUND(E47*H47,2) -> 0 | K47: =ROUND(E47*J47,2) -> 0 | L47: 15 | M47: =G47*(1+L47/100) -> 0 | N47: 0 | O47: =ROUND(E47*N47,2) -> 0 | P47: 0 | Q47: =ROUND(E47*P47,2) -> 0 | S47: RTS 17/ I | T47: Indiv | U47: 0.294 | V47: =ROUND(E47*U47,2) -> 2.15 | AG47: POL1_9
C48: s přehozením výkopku na vzdálenost do 3 m nebo s naložením na dopravní prostředek, | AG48: SPI
A49: 20 | B49: 122301109R00 | C49: Odkopávky a prokopávky nezapažené v hornině 4 příplatek k cenám za lepivost horniny | D49: m3 | E49: 3.65 | G49: =ROUND(E49*F49,2) -> 0 | I49: =ROUND(E49*H49,2) -> 0 | K49: =ROUND(E49*J49,2) -> 0 | L49: 15 | M49: =G49*(1+L49/100) -> 0 | N49: 0 | O49: =ROUND(E49*N49,2) -> 0 | P49: 0 | Q49: =ROUND(E49*P49,2) -> 0 | S49: RTS 17/ I | T49: Indiv | U49: 0.081 | V49: =ROUND(E49*U49,2) -> 0.3 | AG49: POL1_9
C50: s přehozením výkopku na vzdálenost do 3 m nebo s naložením na dopravní prostředek, | AG50: SPI
A51: 21 | B51: 162301102R00 | C51: Vodorovné přemístění výkopku z horniny 1 až 4, na vzdálenost přes 500 do 1 000 m | D51: m3 | E51: 14.6 | G51: =ROUND(E51*F51,2) -> 0 | I51: =ROUND(E51*H51,2) -> 0 | K51: =ROUND(E51*J51,2) -> 0 | L51: 15 | M51: =G51*(1+L51/100) -> 0 | N51: 0 | O51: =ROUND(E51*N51,2) -> 0 | P51: 0 | Q51: =ROUND(E51*P51,2) -> 0 | S51: RTS 17/ I | T51: Indiv | U51: 0.011 | V51: =ROUND(E51*U51,2) -> 0.16 | AG51: POL1_9
C52: po suchu, bez ohledu na druh dopravního prostředku, bez naložení výkopku, avšak se složením bez rozhrnutí, | AG52: SPI | BA52: =C52 -> po suchu, bez ohledu na druh dopravního prostředku, bez naložení výkopku, avšak se složením bez rozhrnutí,
A53: 22 | B53: 171201201R00 | C53: Uložení sypaniny na dočasnou skládku tak, že na 1 m2 plochy připadá přes 2 m3 výkopku nebo ornice | D53: m3 | E53: 14.6 | G53: =ROUND(E53*F53,2) -> 0 | I53: =ROUND(E53*H53,2) -> 0 | K53: =ROUND(E53*J53,2) -> 0 | L53: 15 | M53: =G53*(1+L53/100) -> 0 | N53: 0 | O53: =ROUND(E53*N53,2) -> 0 | P53: 0 | Q53: =ROUND(E53*P53,2) -> 0 | S53: RTS 17/ I | T53: Indiv | U53: 0.009 | V53: =ROUND(E53*U53,2) -> 0.13 | AG53: POL1_9
A54: 23 | B54: 139601103R00 | C54: Ruční výkop jam, rýh a šachet v hornině 4 | D54: m3 | E54: 5.42 | G54: =ROUND(E54*F54,2) -> 0 | I54: =ROUND(E54*H54,2) -> 0 | K54: =ROUND(E54*J54,2) -> 0 | L54: 15 | M54: =G54*(1+L54/100) -> 0 | N54: 0 | O54: =ROUND(E54*N54,2) -> 0 | P54: 0 | Q54: =ROUND(E54*P54,2) -> 0 | S54: RTS 17/ I | T54: Indiv | U54: 4.655 | V54: =ROUND(E54*U54,2) -> 25.23 | AG54: POL1_9
C55: s přehozením na vzdálenost do 5 m nebo s naložením na ruční dopravní prostředek | AG55: SPI
A56: 24 | B56: 161101501R00 | C56: Svislé přemístění výkopku nošením z horniny 1 až 4 | D56: m3 | E56: 5.42 | G56: =ROUND(E56*F56,2) -> 0 | I56: =ROUND(E56*H56,2) -> 0 | K56: =ROUND(E56*J56,2) -> 0 | L56: 15 | M56: =G56*(1+L56/100) -> 0 | N56: 0 | O56: =ROUND(E56*N56,2) -> 0 | P56: 0 | Q56: =ROUND(E56*P56,2) -> 0 | S56: RTS 17/ I | T56: Indiv | U56: 3.81 | V56: =ROUND(E56*U56,2) -> 20.65 | AG56: POL1_9
C57: bez naložení, avšak s vyprázdněním nádoby na hromady nebo do dopravního prostředku, na každých třeba i započatých 3 m výšky, | AG57: SPI | BA57: =C57 -> bez naložení, avšak s vyprázdněním nádoby na hromady nebo do dopravního prostředku, na každých třeba i započatých 3 m výšky,
A58: 25 | B58: 162201203R00 | C58: Vodorovné přemístění výkopku nošením z horniny 1 až 4, kolečkem, na vzdálenost do 10 m | D58: m3 | E58: 5.42 | G58: =ROUND(E58*F58,2) -> 0 | I58: =ROUND(E58*H58,2) -> 0 | K58: =ROUND(E58*J58,2) -> 0 | L58: 15 | M58: =G58*(1+L58/100) -> 0 | N58: 0 | O58: =ROUND(E58*N58,2) -> 0 | P58: 0 | Q58: =ROUND(E58*P58,2) -> 0 | S58: RTS 17/ I | T58: Indiv | U58: 0.668 | V58: =ROUND(E58*U58,2) -> 3.62 | AG58: POL1_9
C59: bez naložení, avšak s vyprázdněním nádoby na hromadu nebo do dopravního prostředku, | AG59: SPI
A60: 26 | B60: 162201210R00 | C60: Vodorovné přemístění výkopku nošením příplatek k ceně za každých dalších 10 m_x000D_ z horniny 1 až 4, kolečkem | D60: m3 | E60: 5.42 | G60: =ROUND(E60*F60,2) -> 0 | I60: =ROUND(E60*H60,2) -> 0 | K60: =ROUND(E60*J60,2) -> 0 | L60: 15 | M60: =G60*(1+L60/100) -> 0 | N60: 0 | O60: =ROUND(E60*N60,2) -> 0 | P60: 0 | Q60: =ROUND(E60*P60,2) -> 0 | S60: RTS 17/ I | T60: Indiv | U60: 0.591 | V60: =ROUND(E60*U60,2) -> 3.2 | AG60: POL1_9
C61: bez naložení, avšak s vyprázdněním nádoby na hromadu nebo do dopravního prostředku, | AG61: SPI
A62: Díl: | B62: 2 | C62: Základy a zvláštní zakládání | G62: =SUMIF(AG63:AG70,"<>NOR",G63:G70) -> 0 | I62: =SUM(I63:I70) -> 0 | K62: =SUM(K63:K70) -> 0 | M62: =SUM(M63:M70) -> 0 | O62: =SUM(O63:O70) -> 26.17 | Q62: =SUM(Q63:Q70) -> 0 | V62: =SUM(V63:V70) -> 33.84 | AG62: DIL
A63: 27 | B63: 273321311R00 | C63: Beton základových desek železový třídy C 16/20 | D63: m3 | E63: 9.94 | G63: =ROUND(E63*F63,2) -> 0 | I63: =ROUND(E63*H63,2) -> 0 | K63: =ROUND(E63*J63,2) -> 0 | L63: 15 | M63: =G63*(1+L63/100) -> 0 | N63: 2.525 | O63: =ROUND(E63*N63,2) -> 25.1 | P63: 0 | Q63: =ROUND(E63*P63,2) -> 0 | S63: RTS 17/ I | T63: Indiv | U63: 0.48 | V63: =ROUND(E63*U63,2) -> 4.77 | AG63: POL1_9
C64: bez dodávky a uložení výztuže | AG64: SPI
A65: 28 | B65: 273351215R00 | C65: Bednění stěn základových desek zřízení | D65: m2 | E65: 4.1748 | G65: =ROUND(E65*F65,2) -> 0 | I65: =ROUND(E65*H65,2) -> 0 | K65: =ROUND(E65*J65,2) -> 0 | L65: 15 | M65: =G65*(1+L65/100) -> 0 | N65: 0.0392 | O65: =ROUND(E65*N65,2) -> 0.16 | P65: 0 | Q65: =ROUND(E65*P65,2) -> 0 | S65: RTS 17/ I | T65: Indiv | U65: 1.6 | V65: =ROUND(E65*U65,2) -> 6.68 | AG65: POL1_9
C66: svislé nebo šikmé (odkloněné) , půdorysně přímé nebo zalomené, stěn základových desek ve volných nebo zapažených jámách, rýhách, šachtách, včetně případných vzpěr, | AG66: SPI | BA66: =C66 -> svislé nebo šikmé (odkloněné) , půdorysně přímé nebo zalomené, stěn základových desek ve volných nebo zapažených jámách, rýhách, šachtách, včetně případných vzpěr,
A67: 29 | B67: 273351216R00 | C67: Bednění stěn základových desek odstranění | D67: m2 | E67: 4.1748 | G67: =ROUND(E67*F67,2) -> 0 | I67: =ROUND(E67*H67,2) -> 0 | K67: =ROUND(E67*J67,2) -> 0 | L67: 15 | M67: =G67*(1+L67/100) -> 0 | N67: 0 | O67: =ROUND(E67*N67,2) -> 0 | P67: 0 | Q67: =ROUND(E67*P67,2) -> 0 | S67: RTS 17/ I | T67: Indiv | U67: 0.32 | V67: =ROUND(E67*U67,2) -> 1.34 | AG67: POL1_9
C68: svislé nebo šikmé (odkloněné) , půdorysně přímé nebo zalomené, stěn základových desek ve volných nebo zapažených jámách, rýhách, šachtách, včetně případných vzpěr, | AG68: SPI | BA68: =C68 -> svislé nebo šikmé (odkloněné) , půdorysně přímé nebo zalomené, stěn základových desek ve volných nebo zapažených jámách, rýhách, šachtách, včetně případných vzpěr,
A69: 30 | B69: 273361821R00 | C69: Výztuž základových desek z betonářské oceli 10 505(R) | D69: t | E69: 0.8946 | G69: =ROUND(E69*F69,2) -> 0 | I69: =ROUND(E69*H69,2) -> 0 | K69: =ROUND(E69*J69,2) -> 0 | L69: 15 | M69: =G69*(1+L69/100) -> 0 | N69: 1.02174 | O69: =ROUND(E69*N69,2) -> 0.91 | P69: 0 | Q69: =ROUND(E69*P69,2) -> 0 | S69: RTS 17/ I | T69: Indiv | U69: 23.531 | V69: =ROUND(E69*U69,2) -> 21.05 | AG69: POL1_9
C70: rovných nebo s náběhy nebo hřibových nebo upnutých do žeber včetně výztuže těchto žeber, | AG70: SPI
A71: Díl: | B71: 63 | C71: Podlahy a podlahové konstrukce | G71: =SUMIF(AG72:AG73,"<>NOR",G72:G73) -> 0 | I71: =SUM(I72:I73) -> 0 | K71: =SUM(K72:K73) -> 0 | M71: =SUM(M72:M73) -> 0 | O71: =SUM(O72:O73) -> 5.02 | Q71: =SUM(Q72:Q73) -> 0 | V71: =SUM(V72:V73) -> 5.13 | AG71: DIL
A72: 31 | B72: 631313411R00 | C72: Mazanina z betonu prostého tl. přes 80 do 120 mm třídy C 8/10 | D72: m3 | E72: 1.988 | G72: =ROUND(E72*F72,2) -> 0 | I72: =ROUND(E72*H72,2) -> 0 | K72: =ROUND(E72*J72,2) -> 0 | L72: 15 | M72: =G72*(1+L72/100) -> 0 | N72: 2.525 | O72: =ROUND(E72*N72,2) -> 5.02 | P72: 0 | Q72: =ROUND(E72*P72,2) -> 0 | S72: RTS 17/ I | T72: Indiv | U72: 2.58 | V72: =ROUND(E72*U72,2) -> 5.13 | AG72: POL1_9
C73: (z kameniva) hlazená dřevěným hladítkem | AG73: SPI
A74: Díl: | B74: 762 | C74: Konstrukce tesařské | G74: =SUMIF(AG75:AG95,"<>NOR",G75:G95) -> 0 | I74: =SUM(I75:I95) -> 0 | K74: =SUM(K75:K95) -> 0 | M74: =SUM(M75:M95) -> 0 | O74: =SUM(O75:O95) -> 1.1 | Q74: =SUM(Q75:Q95) -> 0 | V74: =SUM(V75:V95) -> 45.77 | AG74: DIL
A75: 32 | B75: 55399994R | C75: výrobek kovový | D75: kg | E75: 18.32 | G75: =ROUND(E75*F75,2) -> 0 | I75: =ROUND(E75*H75,2) -> 0 | K75: =ROUND(E75*J75,2) -> 0 | L75: 15 | M75: =G75*(1+L75/100) -> 0 | N75: 0.001 | O75: =ROUND(E75*N75,2) -> 0.02 | P75: 0 | Q75: =ROUND(E75*P75,2) -> 0 | S75: RTS 17/ I | T75: Indiv | U75: 0 | V75: =ROUND(E75*U75,2) -> 0 | AG75: POL3_0
A76: 33 | B76: 60512825R | C76: prkno SM/JD; tl = 24 až 32 mm; l = 4 000 až 6 000 mm; jakost II; omítané | D76: m3 | E76: 0.67555 | G76: =ROUND(E76*F76,2) -> 0 | I76: =ROUND(E76*H76,2) -> 0 | K76: =ROUND(E76*J76,2) -> 0 | L76: 15 | M76: =G76*(1+L76/100) -> 0 | N76: 0.55 | O76: =ROUND(E76*N76,2) -> 0.37 | P76: 0 | Q76: =ROUND(E76*P76,2) -> 0 | S76: RTS 17/ I | T76: Indiv | U76: 0 | V76: =ROUND(E76*U76,2) -> 0 | AG76: POL3_0
A77: 34 | B77: 60515511R | C77: hranol SM/JD; tl = 120,0 mm; š = 120 mm; jakost I | D77: m3 | E77: 0.81066 | G77: =ROUND(E77*F77,2) -> 0 | I77: =ROUND(E77*H77,2) -> 0 | K77: =ROUND(E77*J77,2) -> 0 | L77: 15 | M77: =G77*(1+L77/100) -> 0 | N77: 0.55 | O77: =ROUND(E77*N77,2) -> 0.45 | P77: 0 | Q77: =ROUND(E77*P77,2) -> 0 | S77: RTS 17/ I | T77: Indiv | U77: 0 | V77: =ROUND(E77*U77,2) -> 0 | AG77: POL3_0
A78: 35 | B78: 60517102R | C78: lať jehličnaté(SM/JD); průřez do 25 cm2; jakost I; l = 2 000 až 3 990 mm | D78: m3 | E78: 0.19923 | G78: =ROUND(E78*F78,2) -> 0 | I78: =ROUND(E78*H78,2) -> 0 | K78: =ROUND(E78*J78,2) -> 0 | L78: 15 | M78: =G78*(1+L78/100) -> 0 | N78: 0.55 | O78: =ROUND(E78*N78,2) -> 0.11 | P78: 0 | Q78: =ROUND(E78*P78,2) -> 0 | S78: RTS 17/ I | T78: Indiv | U78: 0 | V78: =ROUND(E78*U78,2) -> 0 | AG78: POL3_0
A79: 36 | B79: 60598019R | C79: obklad dřevěný hoblovaný; P+D | D79: m2 | E79: 4.0304 | G79: =ROUND(E79*F79,2) -> 0 | I79: =ROUND(E79*H79,2) -> 0 | K79: =ROUND(E79*J79,2) -> 0 | L79: 15 | M79: =G79*(1+L79/100) -> 0 | N79: 0.006 | O79: =ROUND(E79*N79,2) -> 0.02 | P79: 0 | Q79: =ROUND(E79*P79,2) -> 0 | S79: RTS 17/ I | T79: Indiv | U79: 0 | V79: =ROUND(E79*U79,2) -> 0 | AG79: POL3_
A80: 37 | B80: 762083120R00 | C80: Zvláštní výkony profilování zhlaví trámů průřezové plochy do 160 cm2 | D80: kus | E80: 45.8 | G80: =ROUND(E80*F80,2) -> 0 | I80: =ROUND(E80*H80,2) -> 0 | K80: =ROUND(E80*J80,2) -> 0 | L80: 15 | M80: =G80*(1+L80/100) -> 0 | N80: 0 | O80: =ROUND(E80*N80,2) -> 0 | P80: 0 | Q80: =ROUND(E80*P80,2) -> 0 | S80: RTS 17/ I | T80: Indiv | U80: 0.1 | V80: =ROUND(E80*U80,2) -> 4.58 | AG80: POL1_9
A81: 38 | B81: 762311103R00 | C81: Montáž ocelových spojovacích prostředků kotevních želez_x000D_ příložek, patek, táhel, s připojením k dřevěné konstrukci | D81: kus | E81: 5.725 | G81: =ROUND(E81*F81,2) -> 0 | I81: =ROUND(E81*H81,2) -> 0 | K81: =ROUND(E81*J81,2) -> 0 | L81: 15 | M81: =G81*(1+L81/100) -> 0 | N81: 0.00332 | O81: =ROUND(E81*N81,2) -> 0.02 | P81: 0 | Q81: =ROUND(E81*P81,2) -> 0 | S81: RTS 17/ I | T81: Indiv | U81: 0.377 | V81: =ROUND(E81*U81,2) -> 2.16 | AG81: POL1_9
A82: 39 | B82: 762313111R00 | C82: Montáž ocelových spojovacích prostředků svorníků, šroubů _x000D_ délky do 150 mm | D82: kus | E82: 8.5875 | G82: =ROUND(E82*F82,2) -> 0 | I82: =ROUND(E82*H82,2) -> 0 | K82: =ROUND(E82*J82,2) -> 0 | L82: 15 | M82: =G82*(1+L82/100) -> 0 | N82: 0 | O82: =ROUND(E82*N82,2) -> 0 | P82: 0 | Q82: =ROUND(E82*P82,2) -> 0 | S82: RTS 17/ I | T82: Indiv | U82: 0.055 | V82: =ROUND(E82*U82,2) -> 0.47 | AG82: POL1_9
A83: 40 | B83: 762332110R00 | C83: Vázané konstrukce krovů montáž_x000D_ střech pultových, sedlových, valbových, stanových čtvercového nebo obdélníkového půdorysu z řeziva, průřezové plochy do 120 cm2 | D83: m | E83: 46.945 | G83: =ROUND(E83*F83,2) -> 0 | I83: =ROUND(E83*H83,2) -> 0 | K83: =ROUND(E83*J83,2) -> 0 | L83: 15 | M83: =G83*(1+L83/100) -> 0 | N83: 0.00099 | O83: =ROUND(E83*N83,2) -> 0.05 | P83: 0 | Q83: =ROUND(E83*P83,2) -> 0 | S83: RTS 17/ I | T83: Indiv | U83: 0.262 | V83: =ROUND(E83*U83,2) -> 12.3 | AG83: POL1_9
A84: 41 | B84: 762332120R00 | C84: Vázané konstrukce krovů montáž_x000D_ střech pultových, sedlových, valbových, stanových čtvercového nebo obdélníkového půdorysu z řeziva, průřezové plochy přes 120 do 224 cm2 | D84: m | E84: 9.5493 | G84: =ROUND(E84*F84,2) -> 0 | I84: =ROUND(E84*H84,2) -> 0 | K84: =ROUND(E84*J84,2) -> 0 | L84: 15 | M84: =G84*(1+L84/100) -> 0 | N84: 0.00099 | O84: =ROUND(E84*N84,2) -> 0.01 | P84: 0 | Q84: =ROUND(E84*P84,2) -> 0 | S84: RTS 17/ I | T84: Indiv | U84: 0.361 | V84: =ROUND(E84*U84,2) -> 3.45 | AG84: POL1_9
A85: 42 | B85: 762332130R00 | C85: Vázané konstrukce krovů montáž_x000D_ střech pultových, sedlových, valbových, stanových čtvercového nebo obdélníkového půdorysu z řeziva, průřezové plochy přes 120 do 288 cm2 | D85: m | E85: 11.45 | G85: =ROUND(E85*F85,2) -> 0 | I85: =ROUND(E85*H85,2) -> 0 | K85: =ROUND(E85*J85,2) -> 0 | L85: 15 | M85: =G85*(1+L85/100) -> 0 | N85: 0.00099 | O85: =ROUND(E85*N85,2) -> 0.01 | P85: 0 | Q85: =ROUND(E85*P85,2) -> 0 | S85: RTS 17/ I | T85: Indiv | U85: 0.453 | V85: =ROUND(E85*U85,2) -> 5.19 | AG85: POL1_9
A86: 43 | B86: 762341210R00 | C86: Bednění a laťování montáž_x000D_ bednění_x000D_ střech rovných o sklonu do 60° s vyřezáním otvorů z prken hrubých na sraz tloušťky do 32 mm | D86: m2 | E86: 27.938 | G86: =ROUND(E86*F86,2) -> 0 | I86: =ROUND(E86*H86,2) -> 0 | K86: =ROUND(E86*J86,2) -> 0 | L86: 15 | M86: =G86*(1+L86/100) -> 0 | N86: 0 | O86: =ROUND(E86*N86,2) -> 0 | P86: 0 | Q86: =ROUND(E86*P86,2) -> 0 | S86: RTS 17/ I | T86: Indiv | U86: 0.27 | V86: =ROUND(E86*U86,2) -> 7.54 | AG86: POL1_9
... A91: 48 | B91: 762911113R00 | C91: Impregnace řeziva máčením, ochrana proti termitům, dřevokazným houbám, plísním a dřevokaznému hmyzu | D91: m2 | E91: 35.349 | G91: =ROUND(E91*F91,2) -> 0 | I91: =ROUND(E91*H91,2) -> 0 | K91: =ROUND(E91*J91,2) -> 0 | L91: 15 | M91: =G91*(1+L91/100) -> 0 | N91: 4e-05 | O91: =ROUND(E91*N91,2) -> 0 | P91: 0 | Q91: =ROUND(E91*P91,2) -> 0 | S91: RTS 17/ I | T91: Indiv | U91: 0 | V91: =ROUND(E91*U91,2) -> 0 | AG91: POL1_9
C92: Převzatá hodnota množství z položky : 35,349 | E92: 35.35 | AG92: VV | AH92: 0
C93: Začátek provozního součtu | AG93: VV
C94: 9,69*2*1,05+15 | E94: 35.35 | AG94: VV | AH94: 2
C95: Konec provozního součtu | AG95: VV
A96: Díl: | B96: 765 | C96: Krytiny tvrdé | G96: =SUMIF(AG97:AG97,"<>NOR",G97:G97) -> 0 | I96: =SUM(I97:I97) -> 0 | K96: =SUM(K97:K97) -> 0 | M96: =SUM(M97:M97) -> 0 | O96: =SUM(O97:O97) -> 0.01 | Q96: =SUM(Q97:Q97) -> 0 | V96: =SUM(V97:V97) -> 3.35 | AG96: DIL
A97: 49 | B97: 765901113R00 | C97: Fólie parotěsné, difúzní a vodotěsné Fólie podstřešní difuzní na krokve, s integrovanými samolepicími okraji | D97: m2 | E97: 27.938 | G97: =ROUND(E97*F97,2) -> 0 | I97: =ROUND(E97*H97,2) -> 0 | K97: =ROUND(E97*J97,2) -> 0 | L97: 15 | M97: =G97*(1+L97/100) -> 0 | N97: 0.00027 | O97: =ROUND(E97*N97,2) -> 0.01 | P97: 0 | Q97: =ROUND(E97*P97,2) -> 0 | S97: RTS 17/ I | T97: Indiv | U97: 0.12 | V97: =ROUND(E97*U97,2) -> 3.35 | AG97: POL1_9
A98: Díl: | B98: M43 | C98: Montáže ocelových konstrukcí | G98: =SUMIF(AG99:AG99,"<>NOR",G99:G99) -> 0 | I98: =SUM(I99:I99) -> 0 | K98: =SUM(K99:K99) -> 0 | M98: =SUM(M99:M99) -> 0 | O98: =SUM(O99:O99) -> 0.63 | Q98: =SUM(Q99:Q99) -> 0 | V98: =SUM(V99:V99) -> 251.98 | AG98: DIL
A99: 50 | B99: 285175112R00 | C99: Osazení ocelové roznášecí konstrukce do 200 kg | D99: kg | E99: 1491 | G99: =ROUND(E99*F99,2) -> 0 | I99: =ROUND(E99*H99,2) -> 0 | K99: =ROUND(E99*J99,2) -> 0 | L99: 15 | M99: =G99*(1+L99/100) -> 0 | N99: 0.00042 | O99: =ROUND(E99*N99,2) -> 0.63 | P99: 0 | Q99: =ROUND(E99*P99,2) -> 0 | S99: RTS 17/ I | T99: Indiv | U99: 0.169 | V99: =ROUND(E99*U99,2) -> 251.98 | AG99: POL1_9
A100: Díl: | B100: 762 | C100: Konstrukce tesařské | G100: =SUMIF(AG101:AG102,"<>NOR",G101:G102) -> 0 | I100: =SUM(I101:I102) -> 0 | K100: =SUM(K101:K102) -> 0 | M100: =SUM(M101:M102) -> 0 | O100: =SUM(O101:O102) -> 0 | Q100: =SUM(Q101:Q102) -> 0 | V100: =SUM(V101:V102) -> 0.3 | AG100: DIL
A101: 51 | B101: 998762102R00 | C101: Přesun hmot pro konstrukce tesařské v objektech výšky do 12 m | D101: t | E101: 0.17009 | G101: =ROUND(E101*F101,2) -> 0 | I101: =ROUND(E101*H101,2) -> 0 | K101: =ROUND(E101*J101,2) -> 0 | L101: 15 | M101: =G101*(1+L101/100) -> 0 | N101: 0 | O101: =ROUND(E101*N101,2) -> 0 | P101: 0 | Q101: =ROUND(E101*P101,2) -> 0 | S101: RTS 17/ I | T101: Indiv | U101: 1.751 | V101: =ROUND(E101*U101,2) -> 0.3 | AG101: POL1_9
C102: 50 m vodorovně | AG102: SPI
AE103: 15 | AF103: 21
B104: Celkem | G104: =G8+G15+G21+G24+G26+G30+G32+G35+G39+G42+G62+G71+G74+G96+G98+G100 -> 0 | AE104: =SUMIF(L7:L102,AE103,G7:G102) -> 0 | AF104: =SUMIF(L7:L102,AF103,G7:G102) -> 0 | AG104: SUM
AG105: END

Sheet SO 03 SO 03 Pol
A1: Položkový soupis prací a dodávek | AG1: #TypZaznamu#
A2: S: | B2: 002_v3 | C2: OBNOVA LESOPARKU HRADISKO A KALVÁRIE - KALVÁRIE | AG2: STA
A3: O: | B3: SO 03 | C3: Altán SV | AC3: STA | AG3: OBJ
A4: R: | B4: SO 03 | C4: Altán SV | AG4: ROZ
A6: P.č. | B6: Číslo položky | C6: Název položky | D6: MJ | E6: množství | F6: cena / MJ | G6: Celkem | H6: Dodávka | I6: Dodávka celk. | J6: Montáž | K6: Montáž celk. | L6: DPH | M6: cena s DPH | N6: hmotnost / MJ | O6: hmotnost celk.(t) | P6: dem. hmotnost / MJ | Q6: dem. hmotnost celk.(t) | R6: Ceník | S6: Cen. soustava / platnost | T6: Cenová úroveň | U6: Nhod / MJ | V6: Nhod celk. | W6: Dodavatel
A8: Díl: | B8: 1 | C8: Zemní práce | G8: =SUMIF(AG9:AG11,"<>NOR",G9:G11) -> 0 | I8: =SUM(I9:I11) -> 0 | K8: =SUM(K9:K11) -> 0 | M8: =SUM(M9:M11) -> 0 | O8: =SUM(O9:O11) -> 0 | Q8: =SUM(Q9:Q11) -> 0 | V8: =SUM(V9:V11) -> 5.75 | AG8: DIL
A9: 1 | B9: 182300010RA0 | C9: Rozprostření ornice ve svahu nad 1 : 5 a osetí travou při tloušťce 150 mm, dovoz ornice ze vzdálenosti 500 m | D9: m2 | E9: 15 | G9: =ROUND(E9*F9,2) -> 0 | I9: =ROUND(E9*H9,2) -> 0 | K9: =ROUND(E9*J9,2) -> 0 | L9: 15 | M9: =G9*(1+L9/100) -> 0 | N9: 3e-05 | O9: =ROUND(E9*N9,2) -> 0 | P9: 0 | Q9: =ROUND(E9*P9,2) -> 0 | S9: RTS 17/ I | T9: Indiv | U9: 0.38302 | V9: =ROUND(E9*U9,2) -> 5.75 | AG9: POL2_9
C10: vč. urovnání ornice, naložení na skládce a vodorovným přemístěním ornice na místo rozprostření, založení trávníku osetím a dodávky travního semene. | AG10: SPI | BA10: =C10 -> vč. urovnání ornice, naložení na skládce a vodorovným přemístěním ornice na místo rozprostření, založení trávníku osetím a dodávky travního semene.
C11: Včetně přesunu hmot. | AG11: POP
A12: Díl: | B12: 762 | C12: Konstrukce tesařské | G12: =SUMIF(AG13:AG13,"<>NOR",G13:G13) -> 0 | I12: =SUM(I13:I13) -> 0 | K12: =SUM(K13:K13) -> 0 | M12: =SUM(M13:M13) -> 0 | O12: =SUM(O13:O13) -> 0 | Q12: =SUM(Q13:Q13) -> 0 | V12: =SUM(V13:V13) -> 0 | AG12: DIL
A13: 2 | B13: 762911113R00 | C13: Impregnace řeziva máčením, ochrana proti termitům, dřevokazným houbám, plísním a dřevokaznému hmyzu | D13: m2 | E13: 8.79 | G13: =ROUND(E13*F13,2) -> 0 | I13: =ROUND(E13*H13,2) -> 0 | K13: =ROUND(E13*J13,2) -> 0 | L13: 15 | M13: =G13*(1+L13/100) -> 0 | N13: 4e-05 | O13: =ROUND(E13*N13,2) -> 0 | P13: 0 | Q13: =ROUND(E13*P13,2) -> 0 | S13: RTS 17/ I | T13: Indiv | U13: 0 | V13: =ROUND(E13*U13,2) -> 0 | AG13: POL1_9
A14: Díl: | B14: 783 | C14: Nátěry | G14: =SUMIF(AG15:AG15,"<>NOR",G15:G15) -> 0 | I14: =SUM(I15:I15) -> 0 | K14: =SUM(K15:K15) -> 0 | M14: =SUM(M15:M15) -> 0 | O14: =SUM(O15:O15) -> 0 | Q14: =SUM(Q15:Q15) -> 0 | V14: =SUM(V15:V15) -> 0 | AG14: DIL
A15: 3 | B15: 93873OA0 | C15: OŠETŘENÍ DŘEV KONSTR (hydroizolačním NÁTĚREM) podzemní část | D15: m2 | E15: 2 | G15: =ROUND(E15*F15,2) -> 0 | I15: =ROUND(E15*H15,2) -> 0 | K15: =ROUND(E15*J15,2) -> 0 | L15: 15 | M15: =G15*(1+L15/100) -> 0 | N15: 0.00032 | O15: =ROUND(E15*N15,2) -> 0 | P15: 0 | Q15: =ROUND(E15*P15,2) -> 0 | S15: Vlastní | T15: Indiv | U15: 0 | V15: =ROUND(E15*U15,2) -> 0 | AG15: POL1_9
A16: Díl: | B16: 762 | C16: Konstrukce tesařské | G16: =SUMIF(AG17:AG22,"<>NOR",G17:G22) -> 0 | I16: =SUM(I17:I22) -> 0 | K16: =SUM(K17:K22) -> 0 | M16: =SUM(M17:M22) -> 0 | O16: =SUM(O17:O22) -> 0.18 | Q16: =SUM(Q17:Q22) -> 0 | V16: =SUM(V17:V22) -> 8.81 | AG16: DIL
A17: 4 | B17: 762111111RA0 | C17: Nosná konstrukce stěn dřevostaveb obvodových stěn | D17: bm | E17: 12.2 | G17: =ROUND(E17*F17,2) -> 0 | I17: =ROUND(E17*H17,2) -> 0 | K17: =ROUND(E17*J17,2) -> 0 | L17: 15 | M17: =G17*(1+L17/100) -> 0 | N17: 0.01487 | O17: =ROUND(E17*N17,2) -> 0.18 | P17: 0 | Q17: =ROUND(E17*P17,2) -> 0 | S17: RTS 17/ I | T17: Indiv | U17: 0.72196 | V17: =ROUND(E17*U17,2) -> 8.81 | AG17: POL2_9
C18: z profilů 60/140 mm. | AG18: SPI
C19: Převzatá hodnota množství z položky : 12,2 | E19: 12.2 | AG19: VV | AH19: 0
C20: Začátek provozního součtu | AG20: VV
C21: 11,2+1 | E21: 12.2 | AG21: VV | AH21: 2
C22: Konec provozního součtu | AG22: VV
A23: Díl: | B23: 99 | C23: Staveništní přesun hmot | G23: =SUMIF(AG24:AG25,"<>NOR",G24:G25) -> 0 | I23: =SUM(I24:I25) -> 0 | K23: =SUM(K24:K25) -> 0 | M23: =SUM(M24:M25) -> 0 | O23: =SUM(O24:O25) -> 0 | Q23: =SUM(Q24:Q25) -> 0 | V23: =SUM(V24:V25) -> 6.64 | AG23: DIL
A24: 5 | B24: 998011001R00 | C24: Přesun hmot pro budovy s nosnou konstrukcí zděnou výšky do 6 m | D24: t | E24: 7.78971 | G24: =ROUND(E24*F24,2) -> 0 | I24: =ROUND(E24*H24,2) -> 0 | K24: =ROUND(E24*J24,2) -> 0 | L24: 15 | M24: =G24*(1+L24/100) -> 0 | N24: 0 | O24: =ROUND(E24*N24,2) -> 0 | P24: 0 | Q24: =ROUND(E24*P24,2) -> 0 | S24: RTS 17/ I | T24: Indiv | U24: 0.852 | V24: =ROUND(E24*U24,2) -> 6.64 | AG24: POL1_9
C25: přesun hmot pro budovy občanské výstavby (JKSO 801), budovy pro bydlení (JKSO 803) budovy pro výrobu a služby (JKSO 812) s nosnou svislou konstrukcí zděnou z cihel nebo tvárnic nebo kovovou | AG25: SPI | BA25: =C25 -> přesun hmot pro budovy občanské výstavby (JKSO 801), budovy pro bydlení (JKSO 803) budovy pro výrobu a služby (JKSO 812) s nosnou svislou konstrukcí zděnou z cihel nebo tvárnic nebo kovovou
A26: Díl: | B26: 2 | C26: Základy a zvláštní zakládání | G26: =SUMIF(AG27:AG36,"<>NOR",G27:G36) -> 0 | I26: =SUM(I27:I36) -> 0 | K26: =SUM(K27:K36) -> 0 | M26: =SUM(M27:M36) -> 0 | O26: =SUM(O27:O36) -> 7.8 | Q26: =SUM(Q27:Q36) -> 0 | V26: =SUM(V27:V36) -> 26.41 | AG26: DIL
A27: 6 | B27: 271571112R00 | C27: Polštář základu ze štěrkopísku netříděného | D27: m3 | E27: 0.668 | G27: =ROUND(E27*F27,2) -> 0 | I27: =ROUND(E27*H27,2) -> 0 | K27: =ROUND(E27*J27,2) -> 0 | L27: 15 | M27: =G27*(1+L27/100) -> 0 | N27: 1.93971 | O27: =ROUND(E27*N27,2) -> 1.3 | P27: 0 | Q27: =ROUND(E27*P27,2) -> 0 | S27: RTS 17/ I | T27: Indiv | U27: 0.965 | V27: =ROUND(E27*U27,2) -> 0.64 | AG27: POL1_9
A28: 7 | B28: 275321311R00 | C28: Beton základových patek železový třídy C 16/20 | D28: m3 | E28: 2.268 | G28: =ROUND(E28*F28,2) -> 0 | I28: =ROUND(E28*H28,2) -> 0 | K28: =ROUND(E28*J28,2) -> 0 | L28: 15 | M28: =G28*(1+L28/100) -> 0 | N28: 2.525 | O28: =ROUND(E28*N28,2) -> 5.73 | P28: 0 | Q28: =ROUND(E28*P28,2) -> 0 | S28: RTS 17/ I | T28: Indiv | U28: 0.48 | V28: =ROUND(E28*U28,2) -> 1.09 | AG28: POL1_9
C29: bez dodávky a uložení výztuže | AG29: SPI
A30: 8 | B30: 275351215R00 | C30: Bednění stěn základových patek zřízení | D30: m2 | E30: 11.7936 | G30: =ROUND(E30*F30,2) -> 0 | I30: =ROUND(E30*H30,2) -> 0 | K30: =ROUND(E30*J30,2) -> 0 | L30: 15 | M30: =G30*(1+L30/100) -> 0 | N30: 0.0392 | O30: =ROUND(E30*N30,2) -> 0.46 | P30: 0 | Q30: =ROUND(E30*P30,2) -> 0 | S30: RTS 17/ I | T30: Indiv | U30: 1.05 | V30: =ROUND(E30*U30,2) -> 12.38 | AG30: POL1_9
C31: bednění svislé nebo šikmé (odkloněné), půdorysně přímé nebo zalomené, stěn základových patek ve volných nebo zapažených jámách, rýhách, šachtách, včetně případných vzpěr, | AG31: SPI | BA31: =C31 -> bednění svislé nebo šikmé (odkloněné), půdorysně přímé nebo zalomené, stěn základových patek ve volných nebo zapažených jámách, rýhách, šachtách, včetně případných vzpěr,
A32: 9 | B32: 275351216R00 | C32: Bednění stěn základových patek odstranění | D32: m2 | E32: 11.7936 | G32: =ROUND(E32*F32,2) -> 0 | I32: =ROUND(E32*H32,2) -> 0 | K32: =ROUND(E32*J32,2) -> 0 | L32: 15 | M32: =G32*(1+L32/100) -> 0 | N32: 0 | O32: =ROUND(E32*N32,2) -> 0 | P32: 0 | Q32: =ROUND(E32*P32,2) -> 0 | S32: RTS 17/ I | T32: Indiv | U32: 0.32 | V32: =ROUND(E32*U32,2) -> 3.77 | AG32: POL1_9
C33: bednění svislé nebo šikmé (odkloněné), půdorysně přímé nebo zalomené, stěn základových patek ve volných nebo zapažených jámách, rýhách, šachtách, včetně případných vzpěr, | AG33: SPI | BA33: =C33 -> bednění svislé nebo šikmé (odkloněné), půdorysně přímé nebo zalomené, stěn základových patek ve volných nebo zapažených jámách, rýhách, šachtách, včetně případných vzpěr,
A34: 10 | B34: 275353131R00 | C34: Bednění kotevních otvorů a prostupů v základových patkách o průřezu přes 0,05 do 0,10 m2, hloubky do 1,00 m | D34: kus | E34: 2 | G34: =ROUND(E34*F34,2) -> 0 | I34: =ROUND(E34*H34,2) -> 0 | K34: =ROUND(E34*J34,2) -> 0 | L34: 15 | M34: =G34*(1+L34/100) -> 0 | N34: 0.01353 | O34: =ROUND(E34*N34,2) -> 0.03 | P34: 0 | Q34: =ROUND(E34*P34,2) -> 0 | S34: RTS 17/ I | T34: Indiv | U34: 1.064 | V34: =ROUND(E34*U34,2) -> 2.13 | AG34: POL1_9
C35: včetně polohového zajištění a odbednění, popřípadě ztraceného bednění z pletiva a podobně. | AG35: SPI
A36: 11 | B36: 275361821R00 | C36: Výztuž základových patek z betonářské oceli 10 505(R) | D36: t | E36: 0.27216 | G36: =ROUND(E36*F36,2) -> 0 | I36: =ROUND(E36*H36,2) -> 0 | K36: =ROUND(E36*J36,2) -> 0 | L36: 15 | M36: =G36*(1+L36/100) -> 0 | N36: 1.02116 | O36: =ROUND(E36*N36,2) -> 0.28 | P36: 0 | Q36: =ROUND(E36*P36,2) -> 0 | S36: RTS 17/ I | T36: Indiv | U36: 23.531 | V36: =ROUND(E36*U36,2) -> 6.4 | AG36: POL1_9
A37: Díl: | B37: 1 | C37: Zemní práce | G37: =SUMIF(AG38:AG48,"<>NOR",G38:G48) -> 0 | I37: =SUM(I38:I48) -> 0 | K37: =SUM(K38:K48) -> 0 | M37: =SUM(M38:M48) -> 0 | O37: =SUM(O38:O48) -> 0 | Q37: =SUM(Q38:Q48) -> 0 | V37: =SUM(V38:V48) -> 0.63 | AG37: DIL
A38: 12 | B38: 131201112R00 | C38: Hloubení nezapažených jam a zářezů do 1000 m3, v hornině 3, hloubení strojně | D38: m3 | E38: 3.84 | G38: =ROUND(E38*F38,2) -> 0 | I38: =ROUND(E38*H38,2) -> 0 | K38: =ROUND(E38*J38,2) -> 0 | L38: 15 | M38: =G38*(1+L38/100) -> 0 | N38: 0 | O38: =ROUND(E38*N38,2) -> 0 | P38: 0 | Q38: =ROUND(E38*P38,2) -> 0 | S38: RTS 17/ I | T38: Indiv | U38: 0.11 | V38: =ROUND(E38*U38,2) -> 0.42 | AG38: POL1_9
C39: kromě zářezů se šikmými stěnami pro podzemní vedení, s urovnáním dna do předepsaného profilu a spádu, s případným nutným přemístěním ve výkopišti a dále buď s přemístěním výkopku na přilehlém terénu na vzdálenost do 3 m od okraje jámy nebo s naložením na dopravní prostředek, | AG39: SPI | BA39: =C39 -> kromě zářezů se šikmými stěnami pro podzemní vedení, s urovnáním dna do předepsaného profilu a spádu, s případným nutným přemístěním ve výkopišti a dále buď s přemístěním výkopku na přilehlém terénu na vzdálenost do 3 m od okraje jámy nebo s naložením na dopravní prostředek,
C40: Převzatá hodnota množství z položky : 3,84 | E40: 3.84 | AG40: VV | AH40: 0
C41: Začátek provozního součtu | AG41: VV
C42: 3,84 | E42: 3.84 | AG42: VV | AH42: 2
C43: Konec provozního součtu | AG43: VV
A44: 13 | B44: 131201119R00 | C44: Hloubení nezapažených jam a zářezů příplatek za lepivost, v hornině 3, | D44: m3 | E44: 3.84 | G44: =ROUND(E44*F44,2) -> 0 | I44: =ROUND(E44*H44,2) -> 0 | K44: =ROUND(E44*J44,2) -> 0 | L44: 15 | M44: =G44*(1+L44/100) -> 0 | N44: 0 | O44: =ROUND(E44*N44,2) -> 0 | P44: 0 | Q44: =ROUND(E44*P44,2) -> 0 | S44: RTS 17/ I | T44: Indiv | U44: 0.0431 | V44: =ROUND(E44*U44,2) -> 0.17 | AG44: POL1_9
C45: kromě zářezů se šikmými stěnami pro podzemní vedení, s urovnáním dna do předepsaného profilu a spádu, s případným nutným přemístěním ve výkopišti a dále buď s přemístěním výkopku na přilehlém terénu na vzdálenost do 3 m od okraje jámy nebo s naložením na dopravní prostředek, | AG45: SPI | BA45: =C45 -> kromě zářezů se šikmými stěnami pro podzemní vedení, s urovnáním dna do předepsaného profilu a spádu, s případným nutným přemístěním ve výkopišti a dále buď s přemístěním výkopku na přilehlém terénu na vzdálenost do 3 m od okraje jámy nebo s naložením na dopravní prostředek,
A46: 14 | B46: 162701105R00 | C46: Vodorovné přemístění výkopku z horniny 1 až 4, na vzdálenost přes 9 000 do 10 000 m | D46: m3 | E46: 1.8 | G46: =ROUND(E46*F46,2) -> 0 | I46: =ROUND(E46*H46,2) -> 0 | K46: =ROUND(E46*J46,2) -> 0 | L46: 15 | M46: =G46*(1+L46/100) -> 0 | N46: 0 | O46: =ROUND(E46*N46,2) -> 0 | P46: 0 | Q46: =ROUND(E46*P46,2) -> 0 | S46: RTS 17/ I | T46: Indiv | U46: 0.011 | V46: =ROUND(E46*U46,2) -> 0.02 | AG46: POL1_9
C47: po suchu, bez ohledu na druh dopravního prostředku, bez naložení výkopku, avšak se složením bez rozhrnutí, | AG47: SPI | BA47: =C47 -> po suchu, bez ohledu na druh dopravního prostředku, bez naložení výkopku, avšak se složením bez rozhrnutí,
A48: 15 | B48: 171201201R00 | C48: Uložení sypaniny na dočasnou skládku tak, že na 1 m2 plochy připadá přes 2 m3 výkopku nebo ornice | D48: m3 | E48: 1.8 | G48: =ROUND(E48*F48,2) -> 0 | I48: =ROUND(E48*H48,2) -> 0 | K48: =ROUND(E48*J48,2) -> 0 | L48: 15 | M48: =G48*(1+L48/100) -> 0 | N48: 0 | O48: =ROUND(E48*N48,2) -> 0 | P48: 0 | Q48: =ROUND(E48*P48,2) -> 0 | S48: RTS 17/ I | T48: Indiv | U48: 0.009 | V48: =ROUND(E48*U48,2) -> 0.02 | AG48: POL1_9
A49: Díl: | B49: M99 | C49: Ostatní práce "M" | G49: =SUMIF(AG50:AG50,"<>NOR",G50:G50) -> 0 | I49: =SUM(I50:I50) -> 0 | K49: =SUM(K50:K50) -> 0 | M49: =SUM(M50:M50) -> 0 | O49: =SUM(O50:O50) -> 1 | Q49: =SUM(Q50:Q50) -> 0 | V49: =SUM(V50:V50) -> 0 | AG49: DIL
A50: 16 | B50: 585916 | C50: Pískovcový blok cena zadaná 12000Kč/ks | D50: ks | E50: 1 | G50: =ROUND(E50*F50,2) -> 0 | I50: =ROUND(E50*H50,2) -> 0 | K50: =ROUND(E50*J50,2) -> 0 | L50: 15 | M50: =G50*(1+L50/100) -> 0 | N50: 1 | O50: =ROUND(E50*N50,2) -> 1 | P50: 0 | Q50: =ROUND(E50*P50,2) -> 0 | S50: Vlastní | T50: Indiv | U50: 0 | V50: =ROUND(E50*U50,2) -> 0 | AG50: POL3_0
AE51: 15 | AF51: 21
B52: Celkem | G52: =G8+G12+G14+G16+G23+G26+G37+G49 -> 0 | AE52: =SUMIF(L7:L50,AE51,G7:G50) -> 0 | AF52: =SUMIF(L7:L50,AF51,G7:G50) -> 0 | AG52: SUM
AG53: END

Sheet SO 04 SO 04 Pol
A1: Položkový soupis prací a dodávek | AG1: #TypZaznamu#
A2: S: | B2: 002_v3 | C2: OBNOVA LESOPARKU HRADISKO A KALVÁRIE - KALVÁRIE | AG2: STA
A3: O: | B3: SO 04 | C3: Altán „Parasol“ | AC3: STA | AG3: OBJ
A4: R: | B4: SO 04 | C4: Altán „Parasol“ | AG4: ROZ
A6: P.č. | B6: Číslo položky | C6: Název položky | D6: MJ | E6: množství | F6: cena / MJ | G6: Celkem | H6: Dodávka | I6: Dodávka celk. | J6: Montáž | K6: Montáž celk. | L6: DPH | M6: cena s DPH | N6: hmotnost / MJ | O6: hmotnost celk.(t) | P6: dem. hmotnost / MJ | Q6: dem. hmotnost celk.(t) | R6: Ceník | S6: Cen. soustava / platnost | T6: Cenová úroveň | U6: Nhod / MJ | V6: Nhod celk. | W6: Dodavatel
A8: Díl: | B8: 1 | C8: Zemní práce | G8: =SUMIF(AG9:AG13,"<>NOR",G9:G13) -> 0 | I8: =SUM(I9:I13) -> 0 | K8: =SUM(K9:K13) -> 0 | M8: =SUM(M9:M13) -> 0 | O8: =SUM(O9:O13) -> 0 | Q8: =SUM(Q9:Q13) -> 0 | V8: =SUM(V9:V13) -> 10 | AG8: DIL
A9: 1 | B9: 121100002RAA | C9: Sejmutí ornice uložení na deponii, zpětný přesun_x000D_ rozprostření v tloušťce 200 mm | D9: m3 | E9: 0.5 | G9: =ROUND(E9*F9,2) -> 0 | I9: =ROUND(E9*H9,2) -> 0 | K9: =ROUND(E9*J9,2) -> 0 | L9: 15 | M9: =G9*(1+L9/100) -> 0 | N9: 0 | O9: =ROUND(E9*N9,2) -> 0 | P9: 0 | Q9: =ROUND(E9*P9,2) -> 0 | S9: RTS 17/ I | T9: Indiv | U9: 1.438 | V9: =ROUND(E9*U9,2) -> 0.72 | AG9: POL2_9
C10: popř. lesní půdy s naložením, vodorovným přemístěním a složením na hromady nebo se zpětným přemístěním a rozprostřením. | AG10: SPI | BA10: =C10 -> popř. lesní půdy s naložením, vodorovným přemístěním a složením na hromady nebo se zpětným přemístěním a rozprostřením.
A11: 2 | B11: 131100010RAC | C11: Hloubení jam nezapažených v hornině 1 ÷ 4, odvoz do 10 000 m, uložení na skládku | D11: m3 | E11: 5 | G11: =ROUND(E11*F11,2) -> 0 | I11: =ROUND(E11*H11,2) -> 0 | K11: =ROUND(E11*J11,2) -> 0 | L11: 15 | M11: =G11*(1+L11/100) -> 0 | N11: 0 | O11: =ROUND(E11*N11,2) -> 0 | P11: 0 | Q11: =ROUND(E11*P11,2) -> 0 | S11: RTS 17/ I | T11: Indiv | U11: 0.32334 | V11: =ROUND(E11*U11,2) -> 1.62 | AG11: POL2_9
A12: 3 | B12: 182300010RA0 | C12: Rozprostření ornice ve svahu nad 1 : 5 a osetí travou při tloušťce 150 mm, dovoz ornice ze vzdálenosti 500 m | D12: m2 | E12: 20 | G12: =ROUND(E12*F12,2) -> 0 | I12: =ROUND(E12*H12,2) -> 0 | K12: =ROUND(E12*J12,2) -> 0 | L12: 15 | M12: =G12*(1+L12/100) -> 0 | N12: 3e-05 | O12: =ROUND(E12*N12,2) -> 0 | P12: 0 | Q12: =ROUND(E12*P12,2) -> 0 | S12: RTS 17/ I | T12: Indiv | U12: 0.38302 | V12: =ROUND(E12*U12,2) -> 7.66 | AG12: POL2_9
C13: vč. urovnání ornice, naložení na skládce a vodorovným přemístěním ornice na místo rozprostření, založení trávníku osetím a dodávky travního semene. | AG13: SPI | BA13: =C13 -> vč. urovnání ornice, naložení na skládce a vodorovným přemístěním ornice na místo rozprostření, založení trávníku osetím a dodávky travního semene.
A14: Díl: | B14: 2 | C14: Základy a zvláštní zakládání | G14: =SUMIF(AG15:AG24,"<>NOR",G15:G24) -> 0 | I14: =SUM(I15:I24) -> 0 | K14: =SUM(K15:K24) -> 0 | M14: =SUM(M15:M24) -> 0 | O14: =SUM(O15:O24) -> 3.86 | Q14: =SUM(Q15:Q24) -> 0 | V14: =SUM(V15:V24) -> 14.24 | AG14: DIL
A15: 4 | B15: 271571112R00 | C15: Polštář základu ze štěrkopísku netříděného | D15: m3 | E15: 0.125 | G15: =ROUND(E15*F15,2) -> 0 | I15: =ROUND(E15*H15,2) -> 0 | K15: =ROUND(E15*J15,2) -> 0 | L15: 15 | M15: =G15*(1+L15/100) -> 0 | N15: 1.93971 | O15: =ROUND(E15*N15,2) -> 0.24 | P15: 0 | Q15: =ROUND(E15*P15,2) -> 0 | S15: RTS 17/ I | T15: Indiv | U15: 0.965 | V15: =ROUND(E15*U15,2) -> 0.12 | AG15: POL1_9
A16: 5 | B16: 275321311R00 | C16: Beton základových patek železový třídy C 16/20 | D16: m3 | E16: 1.25 | G16: =ROUND(E16*F16,2) -> 0 | I16: =ROUND(E16*H16,2) -> 0 | K16: =ROUND(E16*J16,2) -> 0 | L16: 15 | M16: =G16*(1+L16/100) -> 0 | N16: 2.525 | O16: =ROUND(E16*N16,2) -> 3.16 | P16: 0 | Q16: =ROUND(E16*P16,2) -> 0 | S16: RTS 17/ I | T16: Indiv | U16: 0.48 | V16: =ROUND(E16*U16,2) -> 0.6 | AG16: POL1_9
C17: bez dodávky a uložení výztuže | AG17: SPI
A18: 6 | B18: 275351215R00 | C18: Bednění stěn základových patek zřízení | D18: m2 | E18: 4.8 | G18: =ROUND(E18*F18,2) -> 0 | I18: =ROUND(E18*H18,2) -> 0 | K18: =ROUND(E18*J18,2) -> 0 | L18: 15 | M18: =G18*(1+L18/100) -> 0 | N18: 0.0392 | O18: =ROUND(E18*N18,2) -> 0.19 | P18: 0 | Q18: =ROUND(E18*P18,2) -> 0 | S18: RTS 17/ I | T18: Indiv | U18: 1.05 | V18: =ROUND(E18*U18,2) -> 5.04 | AG18: POL1_9
C19: bednění svislé nebo šikmé (odkloněné), půdorysně přímé nebo zalomené, stěn základových patek ve volných nebo zapažených jámách, rýhách, šachtách, včetně případných vzpěr, | AG19: SPI | BA19: =C19 -> bednění svislé nebo šikmé (odkloněné), půdorysně přímé nebo zalomené, stěn základových patek ve volných nebo zapažených jámách, rýhách, šachtách, včetně případných vzpěr,
A20: 7 | B20: 275351216R00 | C20: Bednění stěn základových patek odstranění | D20: m2 | E20: 4.8 | G20: =ROUND(E20*F20,2) -> 0 | I20: =ROUND(E20*H20,2) -> 0 | K20: =ROUND(E20*J20,2) -> 0 | L20: 15 | M20: =G20*(1+L20/100) -> 0 | N20: 0 | O20: =ROUND(E20*N20,2) -> 0 | P20: 0 | Q20: =ROUND(E20*P20,2) -> 0 | S20: RTS 17/ I | T20: Indiv | U20: 0.32 | V20: =ROUND(E20*U20,2) -> 1.54 | AG20: POL1_9
C21: bednění svislé nebo šikmé (odkloněné), půdorysně přímé nebo zalomené, stěn základových patek ve volných nebo zapažených jámách, rýhách, šachtách, včetně případných vzpěr, | AG21: SPI | BA21: =C21 -> bednění svislé nebo šikmé (odkloněné), půdorysně přímé nebo zalomené, stěn základových patek ve volných nebo zapažených jámách, rýhách, šachtách, včetně případných vzpěr,
A22: 8 | B22: 275353131R00 | C22: Bednění kotevních otvorů a prostupů v základových patkách o průřezu přes 0,05 do 0,10 m2, hloubky do 1,00 m | D22: kus | E22: 1 | G22: =ROUND(E22*F22,2) -> 0 | I22: =ROUND(E22*H22,2) -> 0 | K22: =ROUND(E22*J22,2) -> 0 | L22: 15 | M22: =G22*(1+L22/100) -> 0 | N22: 0.01353 | O22: =ROUND(E22*N22,2) -> 0.01 | P22: 0 | Q22: =ROUND(E22*P22,2) -> 0 | S22: RTS 17/ I | T22: Indiv | U22: 1.064 | V22: =ROUND(E22*U22,2) -> 1.06 | AG22: POL1_9
C23: včetně polohového zajištění a odbednění, popřípadě ztraceného bednění z pletiva a podobně. | AG23: SPI
A24: 9 | B24: 275361821R00 | C24: Výztuž základových patek z betonářské oceli 10 505(R) | D24: t | E24: 0.25 | G24: =ROUND(E24*F24,2) -> 0 | I24: =ROUND(E24*H24,2) -> 0 | K24: =ROUND(E24*J24,2) -> 0 | L24: 15 | M24: =G24*(1+L24/100) -> 0 | N24: 1.02116 | O24: =ROUND(E24*N24,2) -> 0.26 | P24: 0 | Q24: =ROUND(E24*P24,2) -> 0 | S24: RTS 17/ I | T24: Indiv | U24: 23.531 | V24: =ROUND(E24*U24,2) -> 5.88 | AG24: POL1_9
A25: Díl: | B25: 63 | C25: Podlahy a podlahové konstrukce | G25: =SUMIF(AG26:AG27,"<>NOR",G26:G27) -> 0 | I25: =SUM(I26:I27) -> 0 | K25: =SUM(K26:K27) -> 0 | M25: =SUM(M26:M27) -> 0 | O25: =SUM(O26:O27) -> 0.32 | Q25: =SUM(Q26:Q27) -> 0 | V25: =SUM(V26:V27) -> 0.32 | AG25: DIL
A26: 10 | B26: 631313411R00 | C26: Mazanina z betonu prostého tl. přes 80 do 120 mm třídy C 8/10 | D26: m3 | E26: 0.125 | G26: =ROUND(E26*F26,2) -> 0 | I26: =ROUND(E26*H26,2) -> 0 | K26: =ROUND(E26*J26,2) -> 0 | L26: 15 | M26: =G26*(1+L26/100) -> 0 | N26: 2.525 | O26: =ROUND(E26*N26,2) -> 0.32 | P26: 0 | Q26: =ROUND(E26*P26,2) -> 0 | S26: RTS 17/ I | T26: Indiv | U26: 2.58 | V26: =ROUND(E26*U26,2) -> 0.32 | AG26: POL1_9
C27: (z kameniva) hlazená dřevěným hladítkem | AG27: SPI
A28: Díl: | B28: 95 | C28: Dokončovací konstrukce na pozemních stavbách | G28: =SUMIF(AG29:AG29,"<>NOR",G29:G29) -> 0 | I28: =SUM(I29:I29) -> 0 | K28: =SUM(K29:K29) -> 0 | M28: =SUM(M29:M29) -> 0 | O28: =SUM(O29:O29) -> 0 | Q28: =SUM(Q29:Q29) -> 0 | V28: =SUM(V29:V29) -> 0.79 | AG28: DIL
A29: 11 | B29: 953981103R00 | C29: Chemické kotvy do betonu, do cihelného zdiva do betonu, hloubky 110 mm, M 12, ampule pro chemickou kotvu | D29: kus | E29: 5 | G29: =ROUND(E29*F29,2) -> 0 | I29: =ROUND(E29*H29,2) -> 0 | K29: =ROUND(E29*J29,2) -> 0 | L29: 15 | M29: =G29*(1+L29/100) -> 0 | N29: 0 | O29: =ROUND(E29*N29,2) -> 0 | P29: 0 | Q29: =ROUND(E29*P29,2) -> 0 | S29: RTS 17/ I | T29: Indiv | U29: 0.158 | V29: =ROUND(E29*U29,2) -> 0.79 | AG29: POL1_9
A30: Díl: | B30: 99 | C30: Staveništní přesun hmot | G30: =SUMIF(AG31:AG32,"<>NOR",G31:G32) -> 0 | I30: =SUM(I31:I32) -> 0 | K30: =SUM(K31:K32) -> 0 | M30: =SUM(M31:M32) -> 0 | O30: =SUM(O31:O32) -> 0 | Q30: =SUM(Q31:Q32) -> 0 | V30: =SUM(V31:V32) -> 1.33 | AG30: DIL
A31: 12 | B31: 998011002R00 | C31: Přesun hmot pro budovy s nosnou konstrukcí zděnou výšky přes 6 do 12 m | D31: t | E31: 4.3332 | G31: =ROUND(E31*F31,2) -> 0 | I31: =ROUND(E31*H31,2) -> 0 | K31: =ROUND(E31*J31,2) -> 0 | L31: 15 | M31: =G31*(1+L31/100) -> 0 | N31: 0 | O31: =ROUND(E31*N31,2) -> 0 | P31: 0 | Q31: =ROUND(E31*P31,2) -> 0 | S31: RTS 17/ I | T31: Indiv | U31: 0.307 | V31: =ROUND(E31*U31,2) -> 1.33 | AG31: POL1_9
C32: přesun hmot pro budovy občanské výstavby (JKSO 801), budovy pro bydlení (JKSO 803) budovy pro výrobu a služby (JKSO 812) s nosnou svislou konstrukcí zděnou z cihel nebo tvárnic nebo kovovou | AG32: SPI | BA32: =C32 -> přesun hmot pro budovy občanské výstavby (JKSO 801), budovy pro bydlení (JKSO 803) budovy pro výrobu a služby (JKSO 812) s nosnou svislou konstrukcí zděnou z cihel nebo tvárnic nebo kovovou
A33: Díl: | B33: 5 | C33: Komunikace | G33: =SUMIF(AG34:AG53,"<>NOR",G34:G53) -> 0 | I33: =SUM(I34:I53) -> 0 | K33: =SUM(K34:K53) -> 0 | M33: =SUM(M34:M53) -> 0 | O33: =SUM(O34:O53) -> 6.53 | Q33: =SUM(Q34:Q53) -> 0 | V33: =SUM(V34:V53) -> 7.97 | AG33: DIL
A34: 13 | B34: 564221111R00 | C34: Podklad nebo podsyp ze štěrkopísku tloušťka po zhutnění 80 mm | D34: m2 | E34: 7.84 | G34: =ROUND(E34*F34,2) -> 0 | I34: =ROUND(E34*H34,2) -> 0 | K34: =ROUND(E34*J34,2) -> 0 | L34: 15 | M34: =G34*(1+L34/100) -> 0 | N34: 0 | O34: =ROUND(E34*N34,2) -> 0 | P34: 0 | Q34: =ROUND(E34*P34,2) -> 0 | S34: RTS 17/ I | T34: Indiv | U34: 0.024 | V34: =ROUND(E34*U34,2) -> 0.19 | AG34: POL1_9
C35: s rozprostřením, vlhčením a zhutněním | AG35: SPI
C36: Převzatá hodnota množství z položky : 7,84 | E36: 7.84 | AG36: VV | AH36: 0
C37: Začátek provozního součtu | AG37: VV
C38: 2,8*2,8 | E38: 7.84 | AG38: VV | AH38: 2
C39: Konec provozního součtu | AG39: VV
A40: 14 | B40: 564851111I10I10 | C40: Podklad ze štěrkodrtě ŠD tl 150 mm | D40: m2 | E40: 7.84 | G40: =ROUND(E40*F40,2) -> 0 | I40: =ROUND(E40*H40,2) -> 0 | K40: =ROUND(E40*J40,2) -> 0 | L40: 15 | M40: =G40*(1+L40/100) -> 0 | N40: 0 | O40: =ROUND(E40*N40,2) -> 0 | P40: 0 | Q40: =ROUND(E40*P40,2) -> 0 | S40: Vlastní | T40: Indiv | U40: 0 | V40: =ROUND(E40*U40,2) -> 0 | AG40: POL1_9
C41: Převzatá hodnota množství z položky : 7,84 | E41: 7.84 | AG41: VV | AH41: 0
C42: Začátek provozního součtu | AG42: VV
AG43: VV | AH43: 2
C44: 2,8*2,8 | E44: 7.84 | AG44: VV | AH44: 2
C45: Konec provozního součtu | AG45: VV
A46: 15 | B46: 594511111RT2 | C46: Dlažba nebo přídlažba z lomového kamene do lože z betonu tř. C -/7,5 tloušťky 50 mm, včetně dodávky kamene tloušťky 20cm, třídy 1 | D46: m2 | E46: 7.84 | G46: =ROUND(E46*F46,2) -> 0 | I46: =ROUND(E46*H46,2) -> 0 | K46: =ROUND(E46*J46,2) -> 0 | L46: 15 | M46: =G46*(1+L46/100) -> 0 | N46: 0.63 | O46: =ROUND(E46*N46,2) -> 4.94 | P46: 0 | Q46: =ROUND(E46*P46,2) -> 0 | S46: RTS 17/ I | T46: Indiv | U46: 0.992 | V46: =ROUND(E46*U46,2) -> 7.78 | AG46: POL1_9
C47: lomařsky upraveného rigolového, bez vyplnění spár v ploše vodorovné nebo ve sklonu, s provedením lože tl. 50 mm | AG47: SPI | BA47: =C47 -> lomařsky upraveného rigolového, bez vyplnění spár v ploše vodorovné nebo ve sklonu, s provedením lože tl. 50 mm
A48: 16 | B48: 916241213 | C48: Osazení obrubníku kamenného stojatého s boční opěrou do lože z betonu prostého | D48: m | E48: 11.2 | G48: =ROUND(E48*F48,2) -> 0 | I48: =ROUND(E48*H48,2) -> 0 | K48: =ROUND(E48*J48,2) -> 0 | L48: 15 | M48: =G48*(1+L48/100) -> 0 | N48: 0.14067 | O48: =ROUND(E48*N48,2) -> 1.58 | P48: 0 | Q48: =ROUND(E48*P48,2) -> 0 | S48: Vlastní | T48: Indiv | U48: 0 | V48: =ROUND(E48*U48,2) -> 0 | AG48: POL1_9
C49: Převzatá hodnota množství z položky : 11,2 | E49: 11.2 | AG49: VV | AH49: 0
C50: Začátek provozního součtu | AG50: VV
C51: 2,8*4 | E51: 11.2 | AG51: VV | AH51: 2
C52: Konec provozního součtu | AG52: VV
A53: 17 | B53: 919726123 | C53: Geotextilie pro ochranu, separaci a filtraci netkaná měrná hmotnost do 500 g/m2 | D53: m2 | E53: 8 | G53: =ROUND(E53*F53,2) -> 0 | I53: =ROUND(E53*H53,2) -> 0 | K53: =ROUND(E53*J53,2) -> 0 | L53: 15 | M53: =G53*(1+L53/100) -> 0 | N53: 0.00069 | O53: =ROUND(E53*N53,2) -> 0.01 | P53: 0 | Q53: =ROUND(E53*P53,2) -> 0 | S53: Vlastní | T53: Indiv | U53: 0 | V53: =ROUND(E53*U53,2) -> 0 | AG53: POL1_9
A54: Díl: | B54: 762 | C54: Konstrukce tesařské | G54: =SUMIF(AG55:AG67,"<>NOR",G55:G67) -> 0 | I54: =SUM(I55:I67) -> 0 | K54: =SUM(K55:K67) -> 0 | M54: =SUM(M55:M67) -> 0 | O54: =SUM(O55:O67) -> 2.41 | Q54: =SUM(Q55:Q67) -> 0 | V54: =SUM(V55:V67) -> 15.16 | AG54: DIL
A55: 18 | B55: 762841110R00 | C55: Podbíjení stropů a střech rovných montáž_x000D_ z hrubých prken, na sraz | D55: m2 | E55: 11.2 | G55: =ROUND(E55*F55,2) -> 0 | I55: =ROUND(E55*H55,2) -> 0 | K55: =ROUND(E55*J55,2) -> 0 | L55: 15 | M55: =G55*(1+L55/100) -> 0 | N55: 0.00016 | O55: =ROUND(E55*N55,2) -> 0 | P55: 0 | Q55: =ROUND(E55*P55,2) -> 0 | S55: RTS 17/ I | T55: Indiv | U55: 0.188 | V55: =ROUND(E55*U55,2) -> 2.11 | AG55: POL1_9
A56: 19 | B56: 762895000R00 | C56: Spojovací a ochranné prostředky hřebíky, svory, impregnace | D56: m3 | E56: 0.171 | G56: =ROUND(E56*F56,2) -> 0 | I56: =ROUND(E56*H56,2) -> 0 | K56: =ROUND(E56*J56,2) -> 0 | L56: 15 | M56: =G56*(1+L56/100) -> 0 | N56: 0.00311 | O56: =ROUND(E56*N56,2) -> 0 | P56: 0 | Q56: =ROUND(E56*P56,2) -> 0 | S56: RTS 17/ I | T56: Indiv | U56: 0 | V56: =ROUND(E56*U56,2) -> 0 | AG56: POL1_9
A57: 20 | B57: 762911113R00 | C57: Impregnace řeziva máčením, ochrana proti termitům, dřevokazným houbám, plísním a dřevokaznému hmyzu | D57: m2 | E57: 19 | G57: =ROUND(E57*F57,2) -> 0 | I57: =ROUND(E57*H57,2) -> 0 | K57: =ROUND(E57*J57,2) -> 0 | L57: 15 | M57: =G57*(1+L57/100) -> 0 | N57: 4e-05 | O57: =ROUND(E57*N57,2) -> 0 | P57: 0 | Q57: =ROUND(E57*P57,2) -> 0 | S57: RTS 17/ I | T57: Indiv | U57: 0 | V57: =ROUND(E57*U57,2) -> 0 | AG57: POL1_9
A58: 21 | B58: 554300 | C58: D+M Sedátko opalované dubové dřevo, včt uchycení na konstrukci zdobné | D58: kus | E58: 1 | G58: =ROUND(E58*F58,2) -> 0 | I58: =ROUND(E58*H58,2) -> 0 | K58: =ROUND(E58*J58,2) -> 0 | L58: 15 | M58: =G58*(1+L58/100) -> 0 | N58: 0.008 | O58: =ROUND(E58*N58,2) -> 0.01 | P58: 0 | Q58: =ROUND(E58*P58,2) -> 0 | S58: Vlastní | T58: Indiv | U58: 0 | V58: =ROUND(E58*U58,2) -> 0 | AG58: POL1_9
A59: 22 | B59: 762114 | C59: Montáž konst altánku | D59: ks | E59: 1 | G59: =ROUND(E59*F59,2) -> 0 | I59: =ROUND(E59*H59,2) -> 0 | K59: =ROUND(E59*J59,2) -> 0 | L59: 15 | M59: =G59*(1+L59/100) -> 0 | N59: 0.0002 | O59: =ROUND(E59*N59,2) -> 0 | P59: 0 | Q59: =ROUND(E59*P59,2) -> 0 | S59: Vlastní | T59: Indiv | U59: 0 | V59: =ROUND(E59*U59,2) -> 0 | AG59: POL1_9
A60: 23 | B60: 762710012RAD | C60: Prostorové vázané konstrukce z řeziva plochy 224 cm2, hranoly, rozměru 14 x 14 cm, bez impregnace řeziva | D60: m | E60: 12 | G60: =ROUND(E60*F60,2) -> 0 | I60: =ROUND(E60*H60,2) -> 0 | K60: =ROUND(E60*J60,2) -> 0 | L60: 15 | M60: =G60*(1+L60/100) -> 0 | N60: 0.01478 | O60: =ROUND(E60*N60,2) -> 0.18 | P60: 0 | Q60: =ROUND(E60*P60,2) -> 0 | S60: RTS 17/ I | T60: Indiv | U60: 0.62388 | V60: =ROUND(E60*U60,2) -> 7.49 | AG60: POL2_9
C61: hraněného včetně spojovacích a ochranných prostředků. | AG61: SPI
A62: 24 | B62: 31148620R | C62: vrut zapuštěná hlava, do dřeva; ocelový; d = 6,0 mm; l = 90,0 mm; povrch. úprava cementováno a kaleno, žlutý zinek | D62: 1000 ks | E62: 1 | G62: =ROUND(E62*F62,2) -> 0 | I62: =ROUND(E62*H62,2) -> 0 | K62: =ROUND(E62*J62,2) -> 0 | L62: 15 | M62: =G62*(1+L62/100) -> 0 | N62: 0.01 | O62: =ROUND(E62*N62,2) -> 0.01 | P62: 0 | Q62: =ROUND(E62*P62,2) -> 0 | S62: RTS 17/ I | T62: Indiv | U62: 0 | V62: =ROUND(E62*U62,2) -> 0 | AG62: POL3_0
A63: 25 | B63: 311755216R | C63: prvek spojovací úhelník statický s otvory a výztuhou; tl.2,5 mm, šířka 65 mm; ocelový plech žárově pozinkovaný,jako spojovací materiál slouží kroužkové (konvexní) hřebíky pr.4mm nebo vruty,svorníky a matice | D63: kus | E63: 15 | G63: =ROUND(E63*F63,2) -> 0 | I63: =ROUND(E63*H63,2) -> 0 | K63: =ROUND(E63*J63,2) -> 0 | L63: 15 | M63: =G63*(1+L63/100) -> 0 | N63: 0.00023 | O63: =ROUND(E63*N63,2) -> 0 | P63: 0 | Q63: =ROUND(E63*P63,2) -> 0 | S63: RTS 17/ I | T63: Indiv | U63: 0 | V63: =ROUND(E63*U63,2) -> 0 | AG63: POL3_0
A64: 26 | B64: 60510118R | C64: prkno SM/JD; l = 2 500 až 3 000 mm; jakost I; neomítané | D64: m3 | E64: 0.1843 | G64: =ROUND(E64*F64,2) -> 0 | I64: =ROUND(E64*H64,2) -> 0 | K64: =ROUND(E64*J64,2) -> 0 | L64: 15 | M64: =G64*(1+L64/100) -> 0 | N64: 0.55 | O64: =ROUND(E64*N64,2) -> 0.1 | P64: 0 | Q64: =ROUND(E64*P64,2) -> 0 | S64: RTS 17/ I | T64: Indiv | U64: 0 | V64: =ROUND(E64*U64,2) -> 0 | AG64: POL3_0
A65: 27 | B65: 60515804R | C65: hranol SM; konstrukční, masivní; tl = 40,0 mm; š = 140 mm; l = 5 000,0 mm; pro konstrukce nepohledové | D65: bm | E65: 4.21 | G65: =ROUND(E65*F65,2) -> 0 | I65: =ROUND(E65*H65,2) -> 0 | K65: =ROUND(E65*J65,2) -> 0 | L65: 15 | M65: =G65*(1+L65/100) -> 0 | N65: 0.5 | O65: =ROUND(E65*N65,2) -> 2.11 | P65: 0 | Q65: =ROUND(E65*P65,2) -> 0 | S65: RTS 17/ I | T65: Indiv | U65: 0 | V65: =ROUND(E65*U65,2) -> 0 | AG65: POL3_0
A66: 28 | B66: 998762102R00 | C66: Přesun hmot pro konstrukce tesařské v objektech výšky do 12 m | D66: t | E66: 3.17583 | G66: =ROUND(E66*F66,2) -> 0 | I66: =ROUND(E66*H66,2) -> 0 | K66: =ROUND(E66*J66,2) -> 0 | L66: 15 | M66: =G66*(1+L66/100) -> 0 | N66: 0 | O66: =ROUND(E66*N66,2) -> 0 | P66: 0 | Q66: =ROUND(E66*P66,2) -> 0 | S66: RTS 17/ I | T66: Indiv | U66: 1.751 | V66: =ROUND(E66*U66,2) -> 5.56 | AG66: POL1_9
C67: 50 m vodorovně | AG67: SPI
A68: Díl: | B68: 765 | C68: Krytiny tvrdé | G68: =SUMIF(AG69:AG76,"<>NOR",G69:G76) -> 0 | I68: =SUM(I69:I76) -> 0 | K68: =SUM(K69:K76) -> 0 | M68: =SUM(M69:M76) -> 0 | O68: =SUM(O69:O76) -> 0.36 | Q68: =SUM(Q69:Q76) -> 0 | V68: =SUM(V69:V76) -> 12.01 | AG68: DIL
A69: 29 | B69: 765342215R00 | C69: Krytina z přírodní břidlice střech složitých, ze čtverců, 300 x 300 mm, s jednoduchým krytím, na předem připravený podklad, o sklonu střechy do 30° | D69: m2 | E69: 11.7 | G69: =ROUND(E69*F69,2) -> 0 | I69: =ROUND(E69*H69,2) -> 0 | K69: =ROUND(E69*J69,2) -> 0 | L69: 15 | M69: =G69*(1+L69/100) -> 0 | N69: 0.03056 | O69: =ROUND(E69*N69,2) -> 0.36 | P69: 0 | Q69: =ROUND(E69*P69,2) -> 0 | S69: RTS 17/ I | T69: Indiv | U69: 0.968 | V69: =ROUND(E69*U69,2) -> 11.33 | AG69: POL1_9
C70: včetně spojovacích prostředků, | AG70: SPI
C71: Převzatá hodnota množství z položky : 11,7 | E71: 11.7 | AG71: VV | AH71: 0
C72: Začátek provozního součtu | AG72: VV
C73: střecha: : 11,7 | E73: 11.7 | AG73: VV | AH73: 2
C74: Konec provozního součtu | AG74: VV
A75: 30 | B75: 998765102R00 | C75: Přesun hmot pro krytiny tvrdé v objektech výšky do 12 m | D75: t | E75: 0.29032 | G75: =ROUND(E75*F75,2) -> 0 | I75: =ROUND(E75*H75,2) -> 0 | K75: =ROUND(E75*J75,2) -> 0 | L75: 15 | M75: =G75*(1+L75/100) -> 0 | N75: 0 | O75: =ROUND(E75*N75,2) -> 0 | P75: 0 | Q75: =ROUND(E75*P75,2) -> 0 | S75: RTS 17/ I | T75: Indiv | U75: 2.329 | V75: =ROUND(E75*U75,2) -> 0.68 | AG75: POL1_9
C76: 50 m vodorovně | AG76: SPI
AE77: 15 | AF77: 21
B78: Celkem | G78: =G8+G14+G25+G28+G30+G33+G54+G68 -> 0 | AE78: =SUMIF(L7:L76,AE77,G7:G76) -> 0 | AF78: =SUMIF(L7:L76,AF77,G7:G76) -> 0 | AG78: SUM
AG79: END

Sheet SO 05 SO 05 Pol
A1: Položkový soupis prací a dodávek | AG1: #TypZaznamu#
A2: S: | B2: 002_v3 | C2: OBNOVA LESOPARKU HRADISKO A KALVÁRIE - KALVÁRIE | AG2: STA
A3: O: | B3: SO 05 | C3: Vegetační úpravy | AC3: STA | AG3: OBJ
A4: R: | B4: SO 05 | C4: Vegetační úpravy | AG4: ROZ
A6: P.č. | B6: Číslo položky | C6: Název položky | D6: MJ | E6: množství | F6: cena / MJ | G6: Celkem | H6: Dodávka | I6: Dodávka celk. | J6: Montáž | K6: Montáž celk. | L6: DPH | M6: cena s DPH | N6: hmotnost / MJ | O6: hmotnost celk.(t) | P6: dem. hmotnost / MJ | Q6: dem. hmotnost celk.(t) | R6: Ceník | S6: Cen. soustava / platnost | T6: Cenová úroveň | U6: Nhod / MJ | V6: Nhod celk. | W6: Dodavatel
A8: Díl: | B8: 11 | C8: Přípravné a přidružené práce | G8: =SUMIF(AG9:AG9,"<>NOR",G9:G9) -> 0 | I8: =SUM(I9:I9) -> 0 | K8: =SUM(K9:K9) -> 0 | M8: =SUM(M9:M9) -> 0 | O8: =SUM(O9:O9) -> 0 | Q8: =SUM(Q9:Q9) -> 0 | V8: =SUM(V9:V9) -> 0 | AG8: DIL
A9: 1 | B9: 0052R | C9: Vegetační úpravy, viz. samostatný rozpočet | D9: ks | E9: 1 | G9: =ROUND(E9*F9,2) -> 0 | I9: =ROUND(E9*H9,2) -> 0 | K9: =ROUND(E9*J9,2) -> 0 | L9: 15 | M9: =G9*(1+L9/100) -> 0 | N9: 0 | O9: =ROUND(E9*N9,2) -> 0 | P9: 0 | Q9: =ROUND(E9*P9,2) -> 0 | S9: Vlastní | T9: Indiv | U9: 0 | V9: =ROUND(E9*U9,2) -> 0 | AG9: POL3_0
AE10: 15 | AF10: 21
B11: Celkem | G11: =G8 -> 0 | AE11: =SUMIF(L7:L9,AE10,G7:G9) -> 0 | AF11: =SUMIF(L7:L9,AF10,G7:G9) -> 0 | AG11: SUM
AG12: END

Sheet SO 06 SO 06 Pol
A1: Položkový soupis prací a dodávek | AG1: #TypZaznamu#
A2: S: | B2: 002_v3 | C2: OBNOVA LESOPARKU HRADISKO A KALVÁRIE - KALVÁRIE | AG2: STA
A3: O: | B3: SO 06 | C3: Úpravy povrchů „nezpevněné chodníčky“ | AC3: STA | AG3: OBJ
A4: R: | B4: SO 06 | C4: Úpravy povrchů „nezpevněné chodníčky“ | AG4: ROZ
A6: P.č. | B6: Číslo položky | C6: Název položky | D6: MJ | E6: množství | F6: cena / MJ | G6: Celkem | H6: Dodávka | I6: Dodávka celk. | J6: Montáž | K6: Montáž celk. | L6: DPH | M6: cena s DPH | N6: hmotnost / MJ | O6: hmotnost celk.(t) | P6: dem. hmotnost / MJ | Q6: dem. hmotnost celk.(t) | R6: Ceník | S6: Cen. soustava / platnost | T6: Cenová úroveň | U6: Nhod / MJ | V6: Nhod celk. | W6: Dodavatel
A8: Díl: | B8: 1 | C8: Zemní práce | G8: =SUMIF(AG9:AG19,"<>NOR",G9:G19) -> 0 | I8: =SUM(I9:I19) -> 0 | K8: =SUM(K9:K19) -> 0 | M8: =SUM(M9:M19) -> 0 | O8: =SUM(O9:O19) -> 0 | Q8: =SUM(Q9:Q19) -> 0 | V8: =SUM(V9:V19) -> 383.87 | AG8: DIL
A9: 1 | B9: 122202201R00 | C9: Odkopávky a prokopávky pro silnice v hornině 3 do 100 m3 | D9: m3 | E9: 752.68 | G9: =ROUND(E9*F9,2) -> 0 | I9: =ROUND(E9*H9,2) -> 0 | K9: =ROUND(E9*J9,2) -> 0 | L9: 21 | M9: =G9*(1+L9/100) -> 0 | N9: 0 | O9: =ROUND(E9*N9,2) -> 0 | P9: 0 | Q9: =ROUND(E9*P9,2) -> 0 | S9: RTS 17/ I | T9: Indiv | U9: 0.422 | V9: =ROUND(E9*U9,2) -> 317.63 | AG9: POL1_1
C10: s přemístěním výkopku v příčných profilech na vzdálenost do 15 m nebo s naložením na dopravní prostředek. | AG10: SPI | BA10: =C10 -> s přemístěním výkopku v příčných profilech na vzdálenost do 15 m nebo s naložením na dopravní prostředek.
C11: stěrková cesta : 94 | E11: 94 | AG11: VV | AH11: 0
C12: žulová cesta : 68,5 | E12: 68.5 | AG12: VV | AH12: 0
C13: MKZ cesta : 590,18 | E13: 590.18 | AG13: VV | AH13: 0
A14: 2 | B14: 122202209R00 | C14: Odkopávky a prokopávky pro silnice v hornině 3 příplatek za lepivost horniny | D14: m3 | E14: 752.68 | G14: =ROUND(E14*F14,2) -> 0 | I14: =ROUND(E14*H14,2) -> 0 | K14: =ROUND(E14*J14,2) -> 0 | L14: 21 | M14: =G14*(1+L14/100) -> 0 | N14: 0 | O14: =ROUND(E14*N14,2) -> 0 | P14: 0 | Q14: =ROUND(E14*P14,2) -> 0 | S14: RTS 17/ I | T14: Indiv | U14: 0.088 | V14: =ROUND(E14*U14,2) -> 66.24 | AG14: POL1_1
C15: s přemístěním výkopku v příčných profilech na vzdálenost do 15 m nebo s naložením na dopravní prostředek. | AG15: SPI | BA15: =C15 -> s přemístěním výkopku v příčných profilech na vzdálenost do 15 m nebo s naložením na dopravní prostředek.
C16: stěrková cesta : 94 | E16: 94 | AG16: VV | AH16: 0
C17: žulová cesta : 68,5 | E17: 68.5 | AG17: VV | AH17: 0
C18: MKZ cesta : 590,18 | E18: 590.18 | AG18: VV | AH18: 0
A19: 3 | B19: 139601102R0W | C19: Ruční výkop jam, rýh a šachet v hornině tř. 3 patky+rýhy | D19: m3 | E19: 21 | G19: =ROUND(E19*F19,2) -> 0 | I19: =ROUND(E19*H19,2) -> 0 | K19: =ROUND(E19*J19,2) -> 0 | L19: 21 | M19: =G19*(1+L19/100) -> 0 | N19: 0 | O19: =ROUND(E19*N19,2) -> 0 | P19: 0 | Q19: =ROUND(E19*P19,2) -> 0 | S19: Vlastní | T19: Indiv | U19: 0 | V19: =ROUND(E19*U19,2) -> 0 | AG19: POL1_1
A20: Díl: | B20: 91 | C20: Doplňující práce na komunikaci | G20: =SUMIF(AG21:AG23,"<>NOR",G21:G23) -> 0 | I20: =SUM(I21:I23) -> 0 | K20: =SUM(K21:K23) -> 0 | M20: =SUM(M21:M23) -> 0 | O20: =SUM(O21:O23) -> 0 | Q20: =SUM(Q21:Q23) -> 0 | V20: =SUM(V21:V23) -> 0 | AG20: DIL
A21: 4 | B21: 91215122 | C21: SVODNICE DODÁVKA A MONTÁŽ viz PD, kuláč 2x 1,4m včt obložení zaustění kamen | D21: kus | E21: 45 | G21: =ROUND(E21*F21,2) -> 0 | I21: =ROUND(E21*H21,2) -> 0 | K21: =ROUND(E21*J21,2) -> 0 | L21: 21 | M21: =G21*(1+L21/100) -> 0 | N21: 0 | O21: =ROUND(E21*N21,2) -> 0 | P21: 0 | Q21: =ROUND(E21*P21,2) -> 0 | S21: Vlastní | T21: Indiv | U21: 0 | V21: =ROUND(E21*U21,2) -> 0 | AG21: POL2_
A22: 5 | B22: 912151225 | C22: SVODNICE DODÁVKA A MONTÁŽ viz PD, kuláč 2x 1,75m včt obložení zaustění kamen | D22: kus | E22: 5 | G22: =ROUND(E22*F22,2) -> 0 | I22: =ROUND(E22*H22,2) -> 0 | K22: =ROUND(E22*J22,2) -> 0 | L22: 21 | M22: =G22*(1+L22/100) -> 0 | N22: 0 | O22: =ROUND(E22*N22,2) -> 0 | P22: 0 | Q22: =ROUND(E22*P22,2) -> 0 | S22: Vlastní | T22: Indiv | U22: 0 | V22: =ROUND(E22*U22,2) -> 0 | AG22: POL2_
A23: 6 | B23: 912151224 | C23: SVODNICE DODÁVKA A MONTÁŽ viz PD, kuláč 2x 2,15m včt obložení zaustění kamen | D23: kus | E23: 5 | G23: =ROUND(E23*F23,2) -> 0 | I23: =ROUND(E23*H23,2) -> 0 | K23: =ROUND(E23*J23,2) -> 0 | L23: 21 | M23: =G23*(1+L23/100) -> 0 | N23: 0 | O23: =ROUND(E23*N23,2) -> 0 | P23: 0 | Q23: =ROUND(E23*P23,2) -> 0 | S23: Vlastní | T23: Indiv | U23: 0 | V23: =ROUND(E23*U23,2) -> 0 | AG23: POL2_
A24: Díl: | B24: 1 | C24: Zemní práce | G24: =SUMIF(AG25:AG44,"<>NOR",G25:G44) -> 0 | I24: =SUM(I25:I44) -> 0 | K24: =SUM(K25:K44) -> 0 | M24: =SUM(M25:M44) -> 0 | O24: =SUM(O25:O44) -> 0 | Q24: =SUM(Q25:Q44) -> 0 | V24: =SUM(V25:V44) -> 201.5 | AG24: DIL
A25: 7 | B25: 171201201R00 | C25: Uložení sypaniny na dočasnou skládku tak, že na 1 m2 plochy připadá přes 2 m3 výkopku nebo ornice | D25: m3 | E25: 773.68 | G25: =ROUND(E25*F25,2) -> 0 | I25: =ROUND(E25*H25,2) -> 0 | K25: =ROUND(E25*J25,2) -> 0 | L25: 21 | M25: =G25*(1+L25/100) -> 0 | N25: 0 | O25: =ROUND(E25*N25,2) -> 0 | P25: 0 | Q25: =ROUND(E25*P25,2) -> 0 | S25: RTS 17/ I | T25: Indiv | U25: 0.009 | V25: =ROUND(E25*U25,2) -> 6.96 | AG25: POL1_1
C26: Hodnota z bývalého odkazu. : 773,68 | E26: 773.68 | AG26: VV | AH26: 0
A27: 8 | B27: 181101101R00 | C27: Úprava pláně v zářezech v hornině 1 až 4, bez zhutnění | D27: m2 | E27: 1520 | G27: =ROUND(E27*F27,2) -> 0 | I27: =ROUND(E27*H27,2) -> 0 | K27: =ROUND(E27*J27,2) -> 0 | L27: 21 | M27: =G27*(1+L27/100) -> 0 | N27: 0 | O27: =ROUND(E27*N27,2) -> 0 | P27: 0 | Q27: =ROUND(E27*P27,2) -> 0 | S27: RTS 17/ I | T27: Indiv | U27: 0.013 | V27: =ROUND(E27*U27,2) -> 19.76 | AG27: POL1_1
C28: vyrovnáním výškových rozdílů, ploch vodorovných a ploch do sklonu 1 : 5. | AG28: SPI
C29: stěrkové cesty : 1225 | E29: 1225 | AG29: VV | AH29: 0
C30: žulové cesty : 295 | E30: 295 | AG30: VV | AH30: 0
A31: 9 | B31: 162301101R00 | C31: Vodorovné přemístění výkopku z horniny 1 až 4, na vzdálenost přes 50 do 500 m | D31: m3 | E31: 773.68 | G31: =ROUND(E31*F31,2) -> 0 | I31: =ROUND(E31*H31,2) -> 0 | K31: =ROUND(E31*J31,2) -> 0 | L31: 21 | M31: =G31*(1+L31/100) -> 0 | N31: 0 | O31: =ROUND(E31*N31,2) -> 0 | P31: 0 | Q31: =ROUND(E31*P31,2) -> 0 | S31: RTS 17/ I | T31: Indiv | U31: 0 | V31: =ROUND(E31*U31,2) -> 0 | AG31: POL1_1
C32: po suchu, bez ohledu na druh dopravního prostředku, bez naložení výkopku, avšak se složením bez rozhrnutí, | AG32: SPI | BA32: =C32 -> po suchu, bez ohledu na druh dopravního prostředku, bez naložení výkopku, avšak se složením bez rozhrnutí,
C33: Hodnota z bývalého odkazu. : 773,68 | E33: 773.68 | AG33: VV | AH33: 0
A34: 10 | B34: 356212T10I10 | C34: Vodorovné přemístění do 10000 m výkopku/sypaniny z horniny tř. 1 až 4 | D34: m3 | E34: 773.68 | G34: =ROUND(E34*F34,2) -> 0 | I34: =ROUND(E34*H34,2) -> 0 | K34: =ROUND(E34*J34,2) -> 0 | L34: 21 | M34: =G34*(1+L34/100) -> 0 | N34: 0 | O34: =ROUND(E34*N34,2) -> 0 | P34: 0 | Q34: =ROUND(E34*P34,2) -> 0 | S34: Vlastní | T34: Indiv | U34: 0 | V34: =ROUND(E34*U34,2) -> 0 | AG34: POL1_1
C35: Hodnota z bývalého odkazu. : 773,68 | E35: 773.68 | AG35: VV | AH35: 0
A36: 11 | B36: 354943T10I10 | C36: Nakládání výkopku z hornin tř. 1 až 4 do 100 m3 | D36: m3 | E36: 773.68 | G36: =ROUND(E36*F36,2) -> 0 | I36: =ROUND(E36*H36,2) -> 0 | K36: =ROUND(E36*J36,2) -> 0 | L36: 21 | M36: =G36*(1+L36/100) -> 0 | N36: 0 | O36: =ROUND(E36*N36,2) -> 0 | P36: 0 | Q36: =ROUND(E36*P36,2) -> 0 | S36: Vlastní | T36: Indiv | U36: 0 | V36: =ROUND(E36*U36,2) -> 0 | AG36: POL1_1
C37: Hodnota z bývalého odkazu. : 773,68 | E37: 773.68 | AG37: VV | AH37: 0
A38: 12 | B38: 171101101R00 | C38: Uložení sypaniny do násypů zhutněných s uzavřením povrchu násypu z hornin soudržných s předepsanou mírou zhutnění v procentech výsledků zkoušek Proctor-Standard _x000D_ _x000D_ na 95 % PS | D38: m3 | E38: 773.68 | G38: =ROUND(E38*F38,2) -> 0 | I38: =ROUND(E38*H38,2) -> 0 | K38: =ROUND(E38*J38,2) -> 0 | L38: 21 | M38: =G38*(1+L38/100) -> 0 | N38: 0 | O38: =ROUND(E38*N38,2) -> 0 | P38: 0 | Q38: =ROUND(E38*P38,2) -> 0 | S38: RTS 17/ I | T38: Indiv | U38: 0 | V38: =ROUND(E38*U38,2) -> 0 | AG38: POL1_1
C39: s rozprostřením sypaniny ve vrstvách a s hrubým urovnáním, | AG39: SPI
C40: Položka pořadí 11 : 773,68000 | E40: 773.68 | AG40: VV | AH40: 5
A41: 13 | B41: 171201211 | C41: Poplatek za uložení odpadu ze sypaniny na skládce (skládkovné) | D41: t | E41: 1236.8 | G41: =ROUND(E41*F41,2) -> 0 | I41: =ROUND(E41*H41,2) -> 0 | K41: =ROUND(E41*J41,2) -> 0 | L41: 21 | M41: =G41*(1+L41/100) -> 0 | N41: 0 | O41: =ROUND(E41*N41,2) -> 0 | P41: 0 | Q41: =ROUND(E41*P41,2) -> 0 | S41: Vlastní | T41: Indiv | U41: 0 | V41: =ROUND(E41*U41,2) -> 0 | AG41: POL1_1
C42: 339,43*1,6 | AG42: POP
C43: 773*1,6 | E43: 1236.8 | AG43: VV | AH43: 0
A44: 14 | B44: 111203111R00 | C44: Odstranění pařezu odfrézováním až do hloubky 50 cm | D44: m2 | E44: 60 | G44: =ROUND(E44*F44,2) -> 0 | I44: =ROUND(E44*H44,2) -> 0 | K44: =ROUND(E44*J44,2) -> 0 | L44: 21 | M44: =G44*(1+L44/100) -> 0 | N44: 0 | O44: =ROUND(E44*N44,2) -> 0 | P44: 0 | Q44: =ROUND(E44*P44,2) -> 0 | S44: RTS 17/ I | T44: Indiv | U44: 2.913 | V44: =ROUND(E44*U44,2) -> 174.78 | AG44: POL1_
A45: Díl: | B45: 5 | C45: Komunikace | G45: =SUMIF(AG46:AG46,"<>NOR",G46:G46) -> 0 | I45: =SUM(I46:I46) -> 0 | K45: =SUM(K46:K46) -> 0 | M45: =SUM(M46:M46) -> 0 | O45: =SUM(O46:O46) -> 0 | Q45: =SUM(Q46:Q46) -> 0 | V45: =SUM(V46:V46) -> 0 | AG45: DIL
A46: 15 | B46: 0054R77 | C46: D+M dřevěných stupňů š 0,85m viz PD tl 10cm včt osazení svisllých kůl dl.0,5m, akát odkornění | D46: ks | E46: 113 | G46: =ROUND(E46*F46,2) -> 0 | I46: =ROUND(E46*H46,2) -> 0 | K46: =ROUND(E46*J46,2) -> 0 | L46: 21 | M46: =G46*(1+L46/100) -> 0 | N46: 0 | O46: =ROUND(E46*N46,2) -> 0 | P46: 0 | Q46: =ROUND(E46*P46,2) -> 0 | S46: Vlastní | T46: Indiv | U46: 0 | V46: =ROUND(E46*U46,2) -> 0 | AG46: POL1_1
A47: Díl: | B47: 1 | C47: Zemní práce | G47: =SUMIF(AG48:AG51,"<>NOR",G48:G51) -> 0 | I47: =SUM(I48:I51) -> 0 | K47: =SUM(K48:K51) -> 0 | M47: =SUM(M48:M51) -> 0 | O47: =SUM(O48:O51) -> 0.05 | Q47: =SUM(Q48:Q51) -> 0 | V47: =SUM(V48:V51) -> 536.26 | AG47: DIL
A48: 16 | B48: 182104212R00 | C48: Zpevnění svahu 1:2 vrbovými povázkami D do 15 cm | D48: m2 | E48: 32.9 | G48: =ROUND(E48*F48,2) -> 0 | I48: =ROUND(E48*H48,2) -> 0 | K48: =ROUND(E48*J48,2) -> 0 | L48: 21 | M48: =G48*(1+L48/100) -> 0 | N48: 0.00028 | O48: =ROUND(E48*N48,2) -> 0.01 | P48: 0 | Q48: =ROUND(E48*P48,2) -> 0 | S48: RTS 17/ I | T48: Indiv | U48: 2.461 | V48: =ROUND(E48*U48,2) -> 80.97 | AG48: POL1_
A49: 17 | B49: 182104211R00 | C49: Zpevnění svahu 1:2 vrbovými povázkami D do 10 cm | D49: m2 | E49: 150 | G49: =ROUND(E49*F49,2) -> 0 | I49: =ROUND(E49*H49,2) -> 0 | K49: =ROUND(E49*J49,2) -> 0 | L49: 21 | M49: =G49*(1+L49/100) -> 0 | N49: 0.00027 | O49: =ROUND(E49*N49,2) -> 0.04 | P49: 0 | Q49: =ROUND(E49*P49,2) -> 0 | S49: RTS 17/ I | T49: Indiv | U49: 2.441 | V49: =ROUND(E49*U49,2) -> 366.15 | AG49: POL1_
A50: 18 | B50: 181050010RA0 | C50: Terénní modelace při sejmutí ornice v tloušťce 150 mm | D50: m2 | E50: 261 | G50: =ROUND(E50*F50,2) -> 0 | I50: =ROUND(E50*H50,2) -> 0 | K50: =ROUND(E50*J50,2) -> 0 | L50: 21 | M50: =G50*(1+L50/100) -> 0 | N50: 0 | O50: =ROUND(E50*N50,2) -> 0 | P50: 0 | Q50: =ROUND(E50*P50,2) -> 0 | S50: RTS 17/ I | T50: Indiv | U50: 0.34155 | V50: =ROUND(E50*U50,2) -> 89.14 | AG50: POL2_
C51: Sejmutí ornice nebo lesní půdy s vodorovným přemístěním na hromady v místě upotřebení nebo na dočasné či trvalé skládky se složením. Úprava pláně v násypech vyrovnáním výškových rozdílů. Úprava pozemku s rozpojením a přehrnutím včetně urovnání. Plošná úprava terénu s urovnáním povrchu, bez doplnění ornice, v hornině 1 až 4. Rozprostření a urovnání ornice v rovině s případným nutným přemístěním hromad nebo dočasných skládek na místo potřeby ze vzdálenosti do 30 m, v rovině nebo ve svahu do 1 : 5. | AG51: SPI | BA51: =C51 -> Sejmutí ornice nebo lesní půdy s vodorovným přemístěním na hromady v místě upotřebení nebo na dočasné či trvalé skládky se složením. Úprava pláně v násypech vyrovnáním výškových rozdílů. Úprava pozemku s rozpojením a přehrnutím včetně urovnání. Plošná úprava terénu s urovnáním povrchu, bez doplnění ornice, v hornině 1 až 4. Rozprostření a urovnání ornice v rovině s případným nutným přemístěním hromad nebo dočasných skládek na místo potřeby ze vzdálenosti do 30 m, v rovině nebo ve svahu do 1 : 5.
A52: Díl: | B52: 2 | C52: Základy a zvláštní zakládání | G52: =SUMIF(AG53:AG63,"<>NOR",G53:G63) -> 0 | I52: =SUM(I53:I63) -> 0 | K52: =SUM(K53:K63) -> 0 | M52: =SUM(M53:M63) -> 0 | O52: =SUM(O53:O63) -> 2.13 | Q52: =SUM(Q53:Q63) -> 0 | V52: =SUM(V53:V63) -> 0 | AG52: DIL
A53: 19 | B53: 289970111R00 | C53: Geotextílie separační, filtrační, zpevňující polypropylén, 300 g/m2 | D53: m2 | E53: 4268 | G53: =ROUND(E53*F53,2) -> 0 | I53: =ROUND(E53*H53,2) -> 0 | K53: =ROUND(E53*J53,2) -> 0 | L53: 21 | M53: =G53*(1+L53/100) -> 0 | N53: 0.0005 | O53: =ROUND(E53*N53,2) -> 2.13 | P53: 0 | Q53: =ROUND(E53*P53,2) -> 0 | S53: RTS 17/ I | T53: Indiv | U53: 0 | V53: =ROUND(E53*U53,2) -> 0 | AG53: POL1_1
C54: Včt přesahu 10% | AG54: POP
C55: Položka pořadí 26 : 2360,00000 | E55: 2360 | AG55: VV | AH55: 5
C56: chodní z dlažby : 295*1,1 | E56: 324.5 | AG56: VV | AH56: 0
C57: štěrkové chodníčky : 1225*1,1 | E57: 1347.5 | AG57: VV | AH57: 0
C58: mzk : 2360*0,1 | E58: 236 | AG58: VV | AH58: 0
A59: 20 | B59: 215901101R00 | C59: Zhutnění podloží z rostlé horniny 1 až 4 pod násypy z hornin soudržných do 92% PS a nesoudržných sypkých relativní ulehlosti l(d) do 0,8 | D59: m2 | E59: 3880 | G59: =ROUND(E59*F59,2) -> 0 | I59: =ROUND(E59*H59,2) -> 0 | K59: =ROUND(E59*J59,2) -> 0 | L59: 21 | M59: =G59*(1+L59/100) -> 0 | N59: 0 | O59: =ROUND(E59*N59,2) -> 0 | P59: 0 | Q59: =ROUND(E59*P59,2) -> 0 | S59: RTS 17/ I | T59: Indiv | U59: 0 | V59: =ROUND(E59*U59,2) -> 0 | AG59: POL1_1
C60: z rostlé horniny tř.1 - 4 pod násypy z hornin soudržných do 92% PS a hornin nesoudržných sypkých relativní ulehlosti I(d) do 0,8 | AG60: SPI | BA60: =C60 -> z rostlé horniny tř.1 - 4 pod násypy z hornin soudržných do 92% PS a hornin nesoudržných sypkých relativní ulehlosti I(d) do 0,8
C61: chodní z dlažby : 295 | E61: 295 | AG61: VV | AH61: 0
C62: štěrkové chodníčky : 1225 | E62: 1225 | AG62: VV | AH62: 0
C63: Položka pořadí 26 : 2360,00000 | E63: 2360 | AG63: VV | AH63: 5
A64: Díl: | B64: 5 | C64: Komunikace | G64: =SUMIF(AG65:AG93,"<>NOR",G65:G93) -> 0 | I64: =SUM(I65:I93) -> 0 | K64: =SUM(K65:K93) -> 0 | M64: =SUM(M65:M93) -> 0 | O64: =SUM(O65:O93) -> 1997.84 | Q64: =SUM(Q65:Q93) -> 0 | V64: =SUM(V65:V93) -> 166.58 | AG64: DIL
A65: 21 | B65: 564851111I10I10 | C65: Podklad ze štěrkodrtě ŠD tl 150 mm | D65: m2 | E65: 1225 | G65: =ROUND(E65*F65,2) -> 0 | I65: =ROUND(E65*H65,2) -> 0 | K65: =ROUND(E65*J65,2) -> 0 | L65: 21 | M65: =G65*(1+L65/100) -> 0 | N65: 0 | O65: =ROUND(E65*N65,2) -> 0 | P65: 0 | Q65: =ROUND(E65*P65,2) -> 0 | S65: Vlastní | T65: Indiv | U65: 0 | V65: =ROUND(E65*U65,2) -> 0 | AG65: POL1_1
C66: štěrkové chodníčky : 1225 | E66: 1225 | AG66: VV | AH66: 0
A67: 22 | B67: 564721111R00 | C67: Podklad nebo kryt z kameniva hrubého drceného tloušťka po zhutnění 80 mm | D67: m2 | E67: 345 | G67: =ROUND(E67*F67,2) -> 0 | I67: =ROUND(E67*H67,2) -> 0 | K67: =ROUND(E67*J67,2) -> 0 | L67: 21 | M67: =G67*(1+L67/100) -> 0 | N67: 0.15765 | O67: =ROUND(E67*N67,2) -> 54.39 | P67: 0 | Q67: =ROUND(E67*P67,2) -> 0 | S67: RTS 17/ I | T67: Indiv | U67: 0.026 | V67: =ROUND(E67*U67,2) -> 8.97 | AG67: POL1_1
C68: velikost 32 - 63 mm s rozprostřením a zhutněním | AG68: SPI
C69: chodní z dlažby : 295 | E69: 295 | AG69: VV | AH69: 0
C70: žulové přejezdy : 50 | E70: 50 | AG70: VV | AH70: 0
A71: 23 | B71: 564721111R00 | C71: Podklad nebo kryt z kameniva hrubého drceného tloušťka po zhutnění 80 mm | D71: m2 | E71: 3585 | G71: =ROUND(E71*F71,2) -> 0 | I71: =ROUND(E71*H71,2) -> 0 | K71: =ROUND(E71*J71,2) -> 0 | L71: 21 | M71: =G71*(1+L71/100) -> 0 | N71: 0.15765 | O71: =ROUND(E71*N71,2) -> 565.18 | P71: 0 | Q71: =ROUND(E71*P71,2) -> 0 | S71: RTS 17/ I | T71: Indiv | U71: 0.026 | V71: =ROUND(E71*U71,2) -> 93.21 | AG71: POL1_1
C72: velikost 32 - 63 mm s rozprostřením a zhutněním | AG72: SPI
C73: štěrkové chodníčky vyrovnání nerovností : 1225 | E73: 1225 | AG73: VV | AH73: 0
C74: MZK : 2360 | E74: 2360 | AG74: VV | AH74: 0
A75: 24 | B75: 564851111R00 | C75: Podklad ze štěrkodrti s rozprostřením a zhutněním tloušťka po zhutnění 150 mm | D75: m2 | E75: 345 | G75: =ROUND(E75*F75,2) -> 0 | I75: =ROUND(E75*H75,2) -> 0 | K75: =ROUND(E75*J75,2) -> 0 | L75: 21 | M75: =G75*(1+L75/100) -> 0 | N75: 0.33075 | O75: =ROUND(E75*N75,2) -> 114.11 | P75: 0 | Q75: =ROUND(E75*P75,2) -> 0 | S75: RTS 17/ I | T75: Indiv | U75: 0.026 | V75: =ROUND(E75*U75,2) -> 8.97 | AG75: POL1_1
C76: Položka pořadí 22 : 345,00000 | E76: 345 | AG76: VV | AH76: 5
A77: 25 | B77: 564831111R00 | C77: Podklad ze štěrkodrti s rozprostřením a zhutněním tloušťka po zhutnění 100 mm | D77: m2 | E77: 2410 | G77: =ROUND(E77*F77,2) -> 0 | I77: =ROUND(E77*H77,2) -> 0 | K77: =ROUND(E77*J77,2) -> 0 | L77: 21 | M77: =G77*(1+L77/100) -> 0 | N77: 0.2205 | O77: =ROUND(E77*N77,2) -> 531.41 | P77: 0 | Q77: =ROUND(E77*P77,2) -> 0 | S77: RTS 17/ I | T77: Indiv | U77: 0.023 | V77: =ROUND(E77*U77,2) -> 55.43 | AG77: POL1_
C78: Položka pořadí 26 : 2360,00000 | E78: 2360 | AG78: VV | AH78: 5
C79: 50 | E79: 50 | AG79: VV | AH79: 0
A80: 26 | B80: 564932111R00 | C80: Podklad nebo kryt z mechanicky zpevněného kameniva (MZK) tloušťka po zhutnění 100 mm | D80: m2 | E80: 2360 | G80: =ROUND(E80*F80,2) -> 0 | I80: =ROUND(E80*H80,2) -> 0 | K80: =ROUND(E80*J80,2) -> 0 | L80: 21 | M80: =G80*(1+L80/100) -> 0 | N80: 0.25094 | O80: =ROUND(E80*N80,2) -> 592.22 | P80: 0 | Q80: =ROUND(E80*P80,2) -> 0 | S80: RTS 17/ I | T80: Indiv | U80: 0 | V80: =ROUND(E80*U80,2) -> 0 | AG80: POL1_1
C81: s rozprostřením a zhutněním | AG81: SPI
A82: 27 | B82: 591211111R00 | C82: Kladení dlažby z kostek drobných z kamene, do lože z kameniva těženého tloušťky 50 mm | D82: m2 | E82: 345 | G82: =ROUND(E82*F82,2) -> 0 | I82: =ROUND(E82*H82,2) -> 0 | K82: =ROUND(E82*J82,2) -> 0 | L82: 21 | M82: =G82*(1+L82/100) -> 0 | N82: 0.11 | O82: =ROUND(E82*N82,2) -> 37.95 | P82: 0 | Q82: =ROUND(E82*P82,2) -> 0 | S82: RTS 17/ I | T82: Indiv | U82: 0 | V82: =ROUND(E82*U82,2) -> 0 | AG82: POL12_1
C83: s provedením lože do 50 mm, s vyplněním spár, s dvojím beraněním a se smetením přebytečného materiálu na krajnici | AG83: SPI | BA83: =C83 -> s provedením lože do 50 mm, s vyplněním spár, s dvojím beraněním a se smetením přebytečného materiálu na krajnici
C84: celkem žulové cesty : 295 | E84: 295 | AG84: VV | AH84: 0
C85: žulové přejezdy : 50 | E85: 50 | AG85: VV | AH85: 0
A86: 28 | B86: 58380057R | C86: mozaika dlažební štípaná; materiálová skupina I/2 (žula); 5/7 cm | D86: m2 | E86: 295 | G86: =ROUND(E86*F86,2) -> 0 | I86: =ROUND(E86*H86,2) -> 0 | K86: =ROUND(E86*J86,2) -> 0 | L86: 21 | M86: =G86*(1+L86/100) -> 0 | N86: 0.143 | O86: =ROUND(E86*N86,2) -> 42.19 | P86: 0 | Q86: =ROUND(E86*P86,2) -> 0 | S86: RTS 17/ I | T86: RTS 16/ II | U86: 0 | V86: =ROUND(E86*U86,2) -> 0 | AG86: POL3_
C87: 295 | E87: 295 | AG87: VV | AH87: 0
A88: 29 | B88: 58380120.AR | C88: kostka dlažební materiálová skupina I/2 (žula); tř. I.; 8/10 cm | D88: m2 | E88: 50 | G88: =ROUND(E88*F88,2) -> 0 | I88: =ROUND(E88*H88,2) -> 0 | K88: =ROUND(E88*J88,2) -> 0 | L88: 21 | M88: =G88*(1+L88/100) -> 0 | N88: 0.2 | O88: =ROUND(E88*N88,2) -> 10 | P88: 0 | Q88: =ROUND(E88*P88,2) -> 0 | S88: RTS 17/ I | T88: Indiv | U88: 0 | V88: =ROUND(E88*U88,2) -> 0 | AG88: POL3_1
C89: 50 | E89: 50 | AG89: VV | AH89: 0
A90: 30 | B90: 599632111R00 | C90: Vyplnění spár dlažby (přídlažby) z lomového kamene cementovou maltou | D90: m2 | E90: 345 | G90: =ROUND(E90*F90,2) -> 0 | I90: =ROUND(E90*H90,2) -> 0 | K90: =ROUND(E90*J90,2) -> 0 | L90: 21 | M90: =G90*(1+L90/100) -> 0 | N90: 0.14607 | O90: =ROUND(E90*N90,2) -> 50.39 | P90: 0 | Q90: =ROUND(E90*P90,2) -> 0 | S90: RTS 17/ I | T90: Indiv | U90: 0 | V90: =ROUND(E90*U90,2) -> 0 | AG90: POL1_1
C91: v jakémkoliv sklonu plochy a jakékoliv tloušťky | AG91: SPI
C92: 295 | E92: 295 | AG92: VV | AH92: 0
C93: 50 | E93: 50 | AG93: VV | AH93: 0
A94: Díl: | B94: 9 | C94: Ostatní konstrukce a práce, bourání | G94: =SUMIF(AG95:AG101,"<>NOR",G95:G101) -> 0 | I94: =SUM(I95:I101) -> 0 | K94: =SUM(K95:K101) -> 0 | M94: =SUM(M95:M101) -> 0 | O94: =SUM(O95:O101) -> 592.54 | Q94: =SUM(Q95:Q101) -> 0 | V94: =SUM(V95:V101) -> 0 | AG94: DIL
A95: 31 | B95: 916241213 | C95: Osazení obrubníku kamenného stojatého s boční opěrou do lože z betonu prostého | D95: m | E95: 2868 | G95: =ROUND(E95*F95,2) -> 0 | I95: =ROUND(E95*H95,2) -> 0 | K95: =ROUND(E95*J95,2) -> 0 | L95: 21 | M95: =G95*(1+L95/100) -> 0 | N95: 0.14067 | O95: =ROUND(E95*N95,2) -> 403.44 | P95: 0 | Q95: =ROUND(E95*P95,2) -> 0 | S95: Vlastní | T95: Indiv | U95: 0 | V95: =ROUND(E95*U95,2) -> 0 | AG95: POL1_1
A96: 32 | B96: 583802110 | C96: krajník silniční kamenný, (aAP) žula, KS3 13x20 x 30-80 | D96: m | E96: 2868 | G96: =ROUND(E96*F96,2) -> 0 | I96: =ROUND(E96*H96,2) -> 0 | K96: =ROUND(E96*J96,2) -> 0 | L96: 21 | M96: =G96*(1+L96/100) -> 0 | N96: 0.065 | O96: =ROUND(E96*N96,2) -> 186.42 | P96: 0 | Q96: =ROUND(E96*P96,2) -> 0 | S96: Vlastní | T96: Indiv | U96: 0 | V96: =ROUND(E96*U96,2) -> 0 | AG96: POL3_1
A97: 33 | B97: 919726123 | C97: Montáž Geotextilie pro ochranu, separaci a filtraci netkaná měrná hmotnost do 500 g/m2 | D97: m2 | E97: 3880 | G97: =ROUND(E97*F97,2) -> 0 | I97: =ROUND(E97*H97,2) -> 0 | K97: =ROUND(E97*J97,2) -> 0 | L97: 21 | M97: =G97*(1+L97/100) -> 0 | N97: 0.00069 | O97: =ROUND(E97*N97,2) -> 2.68 | P97: 0 | Q97: =ROUND(E97*P97,2) -> 0 | S97: Vlastní | T97: Indiv | U97: 0 | V97: =ROUND(E97*U97,2) -> 0 | AG97: POL1_1
C98: Plochy MZK, štěrkové chodníky,žulová dlažba,přejezdy | AG98: POP
C99: Položka pořadí 26 : 2360,00000 | E99: 2360 | AG99: VV | AH99: 5
C100: chodní z dlažby : 295 | E100: 295 | AG100: VV | AH100: 0
C101: štěrkové chodníčky : 1225 | E101: 1225 | AG101: VV | AH101: 0
A102: Díl: | B102: 91 | C102: Doplňující práce na komunikaci | G102: =SUMIF(AG103:AG105,"<>NOR",G103:G105) -> 0 | I102: =SUM(I103:I105) -> 0 | K102: =SUM(K103:K105) -> 0 | M102: =SUM(M103:M105) -> 0 | O102: =SUM(O103:O105) -> 204.66 | Q102: =SUM(Q103:Q105) -> 0 | V102: =SUM(V103:V105) -> 366.7 | AG102: DIL
...

Sheet SO 07 SO 07 Pol
A1: Položkový soupis prací a dodávek | AG1: #TypZaznamu#
A2: S: | B2: 002_v3 | C2: OBNOVA LESOPARKU HRADISKO A KALVÁRIE - KALVÁRIE | AG2: STA
A3: O: | B3: SO 07 | C3: Mobiliář | AC3: STA | AG3: OBJ
A4: R: | B4: SO 07 | C4: Mobiliář | AG4: ROZ
A6: P.č. | B6: Číslo položky | C6: Název položky | D6: MJ | E6: množství | F6: cena / MJ | G6: Celkem | H6: Dodávka | I6: Dodávka celk. | J6: Montáž | K6: Montáž celk. | L6: DPH | M6: cena s DPH | N6: hmotnost / MJ | O6: hmotnost celk.(t) | P6: dem. hmotnost / MJ | Q6: dem. hmotnost celk.(t) | R6: Ceník | S6: Cen. soustava / platnost | T6: Cenová úroveň | U6: Nhod / MJ | V6: Nhod celk. | W6: Dodavatel
A8: Díl: | B8: 38 | C8: Kompletní konstrukce | G8: =SUMIF(AG9:AG9,"<>NOR",G9:G9) -> 0 | I8: =SUM(I9:I9) -> 0 | K8: =SUM(K9:K9) -> 0 | M8: =SUM(M9:M9) -> 0 | O8: =SUM(O9:O9) -> 0 | Q8: =SUM(Q9:Q9) -> 0 | V8: =SUM(V9:V9) -> 0 | AG8: DIL
A9: 1 | B9: 0051 R | C9: Mobiliář D+M, viz. samostatný rozpočet | D9: ks | E9: 1 | G9: =ROUND(E9*F9,2) -> 0 | I9: =ROUND(E9*H9,2) -> 0 | K9: =ROUND(E9*J9,2) -> 0 | L9: 15 | M9: =G9*(1+L9/100) -> 0 | N9: 0 | O9: =ROUND(E9*N9,2) -> 0 | P9: 0 | Q9: =ROUND(E9*P9,2) -> 0 | S9: Vlastní | T9: Indiv | U9: 0 | V9: =ROUND(E9*U9,2) -> 0 | AG9: POL3_0
AE10: 15 | AF10: 21
B11: Celkem | G11: =G8 -> 0 | AE11: =SUMIF(L7:L9,AE10,G7:G9) -> 0 | AF11: =SUMIF(L7:L9,AF10,G7:G9) -> 0 | AG11: SUM
AG12: END

Sheet SO 08 SO 08 Pol
A1: Položkový soupis prací a dodávek | AG1: #TypZaznamu#
A2: S: | B2: 002_v3 | C2: OBNOVA LESOPARKU HRADISKO A KALVÁRIE - KALVÁRIE | AG2: STA
A3: O: | B3: SO 08 | C3: Obnova rozvodů a sloupů VO | AC3: STA | AG3: OBJ
A4: R: | B4: SO 08 | C4: Obnova rozvodů a sloupů VO | AG4: ROZ
A6: P.č. | B6: Číslo položky | C6: Název položky | D6: MJ | E6: množství | F6: cena / MJ | G6: Celkem | H6: Dodávka | I6: Dodávka celk. | J6: Montáž | K6: Montáž celk. | L6: DPH | M6: cena s DPH | N6: hmotnost / MJ | O6: hmotnost celk.(t) | P6: dem. hmotnost / MJ | Q6: dem. hmotnost celk.(t) | R6: Ceník | S6: Cen. soustava / platnost | T6: Cenová úroveň | U6: Nhod / MJ | V6: Nhod celk. | W6: Dodavatel
A8: Díl: | B8: M21 | C8: Elektromontáže | G8: =SUMIF(AG9:AG9,"<>NOR",G9:G9) -> 0 | I8: =SUM(I9:I9) -> 0 | K8: =SUM(K9:K9) -> 0 | M8: =SUM(M9:M9) -> 0 | O8: =SUM(O9:O9) -> 0 | Q8: =SUM(Q9:Q9) -> 0 | V8: =SUM(V9:V9) -> 0 | AG8: DIL
A9: 1 | B9: 2108999 | C9: obnova rozvodů a sloupů VO viz samostatný rozpočet | D9: soubor | E9: 1 | G9: =ROUND(E9*F9,2) -> 0 | I9: =ROUND(E9*H9,2) -> 0 | K9: =ROUND(E9*J9,2) -> 0 | L9: 15 | M9: =G9*(1+L9/100) -> 0 | N9: 0 | O9: =ROUND(E9*N9,2) -> 0 | P9: 0 | Q9: =ROUND(E9*P9,2) -> 0 | S9: Vlastní | T9: Indiv | U9: 0 | V9: =ROUND(E9*U9,2) -> 0 | AG9: POL1_9
AE10: 15 | AF10: 21
B11: Celkem | G11: =G8 -> 0 | AE11: =SUMIF(L7:L9,AE10,G7:G9) -> 0 | AF11: =SUMIF(L7:L9,AF10,G7:G9) -> 0 | AG11: SUM
AG12: END
