Workbook
Name CelkemDPHVypocet: Stavba!$H$59
Name CenaCelkem: Stavba!$G$29
Name CenaCelkemBezDPH: Stavba!$G$28
Name CenaCelkemVypocet: Stavba!$I$59
Name cisloobjektu: Stavba!$D$3
Name CisloRozpoctu: '[1]Krycí list'!$C$2
Name CisloStavby: Stavba!$D$2
Name cislostavby: '[1]Krycí list'!$A$7
Name CisloStavebnihoRozpoctu: Stavba!$D$4
Name dadresa: Stavba!$D$12:$G$12
Name DIČ: Stavba!$I$12
Name dmisto: Stavba!$E$13:$G$13
Name DPHSni: Stavba!$G$24
Name DPHZakl: Stavba!$G$26
Name dpsc: Stavba!$D$13
Name IČO: Stavba!$I$11
Name Mena: Stavba!$J$29
Name MistoStavby: Stavba!$D$4
Name nazevobjektu: Stavba!$E$3
Name NazevRozpoctu: '[1]Krycí list'!$D$2
Name NazevStavby: Stavba!$E$2
Name nazevstavby: '[1]Krycí list'!$C$7
Name NazevStavebnihoRozpoctu: Stavba!$E$4
Name oadresa: Stavba!$D$6
Name Objednatel: Stavba!$D$5
Name Objekt: Stavba!$B$38
Name odic: Stavba!$I$6
Name oico: Stavba!$I$5
Name omisto: Stavba!$E$7
Name onazev: Stavba!$D$6
Name opsc: Stavba!$D$7
Name padresa: Stavba!$D$9
Name pdic: Stavba!$I$9
Name pico: Stavba!$I$8
Name pmisto: Stavba!$E$10
Name PocetMJ: #REF!
Name PoptavkaID: Stavba!$A$1
Name pPSC: Stavba!$D$10
Name Projektant: Stavba!$D$8
Name SazbaDPH1: Stavba!$E$23
Name SazbaDPH1: '[1]Krycí list'!$C$30
Name SazbaDPH2: Stavba!$E$25
Name SazbaDPH2: '[1]Krycí list'!$C$32
Name SloupecCC: #REF!
Name SloupecCisloPol: #REF!
Name SloupecJC: #REF!
Name SloupecMJ: #REF!
Name SloupecMnozstvi: #REF!
Name SloupecNazPol: #REF!
Name SloupecPC: #REF!
Name Vypracoval: Stavba!$D$14
Name ZakladDPHSni: Stavba!$G$23
Name ZakladDPHSniVypocet: Stavba!$F$59
Name ZakladDPHZakl: Stavba!$G$25
Name ZakladDPHZaklVypocet: Stavba!$G$59
Name ZaObjednatele: Stavba!$G$34
Name Zaokrouhleni: Stavba!$G$27
Name ZaZhotovitele: Stavba!$D$34
Name Zhotovitel: Stavba!$D$11:$G$11

Sheet Pokyny pro vyplnění
A1: Pokyny pro vyplnění
A2: Ve všech listech tohoto souboru můžete měnit pouze buňky s modrým pozadím. Jedná se o tyto údaje : - údaje o firmě - jednotkové ceny položek zadané na maximálně dvě desetinná místa

Sheet Stavba
A1: #RTSROZP# | B1: Soupis stavebních prací, dodávek a služeb
B2: Stavba: | D2: 002_v3 | E2: OBNOVA LESOPARKU HRADISKO A KALVÁRIE - KALVÁRIE
B5: Zadavatel | H5: IČO:
H6: DIČ:
B8: Projektant: | H8: IČO:
H9: DIČ:
B11: Zhotovitel: | D11: STAVBY VANTO, s.r.o. | H11: IČO: | I11: 28269314
D12: Panská 25 | H12: DIČ: | I12: CZ28269314
D13: 68604 | E13: Kunovice
B14: Vypracoval:
B15: Rozpis ceny | I15: Celkem
A16: HSV | B16: HSV | I16: =SUMIF(F66:F89,A16,I66:I89)+SUMIF(F66:F89,"PSU",I66:I89) -> 0
A17: PSV | B17: PSV | I17: =SUMIF(F66:F89,A17,I66:I89) -> 0
A18: MON | B18: MON | I18: =SUMIF(F66:F89,A18,I66:I89) -> 0
A19: VN | B19: Vedlejší náklady | I19: =SUMIF(F66:F89,A19,I66:I89) -> 0
A20: ON | B20: Ostatní náklady | I20: =SUMIF(F66:F89,A20,I66:I89) -> 0
B21: Celkem | I21: =SUM(I16:J20) -> 0
B22: Rekapitulace daní
B23: Základ pro sníženou DPH | E23: 15 | F23: % | G23: =ZakladDPHSniVypocet -> 0 | J23: =Mena -> CZK
B24: Snížená DPH | E24: =SazbaDPH1 -> 15 | F24: % | G24: =I23*E23/100 -> 0 | J24: =Mena -> CZK
B25: Základ pro základní DPH | E25: 21 | F25: % | G25: =ZakladDPHZaklVypocet -> 0 | J25: =Mena -> CZK
B26: Základní DPH | E26: =SazbaDPH2 -> 21 | F26: % | G26: =I25*E25/100 -> 0 | J26: =Mena -> CZK
A27: =ZakladDPHSni+ZakladDPHZakl -> 0 | B27: Zaokrouhlení | G27: =CenaCelkemBezDPH-(ZakladDPHSni+ZakladDPHZakl) -> 0 | J27: =Mena -> CZK
A28: =(A27-INT(A27))*100 -> 0 | B28: Cena celkem bez DPH | G28: =IF(A28>50, ROUNDUP(A27, 0), ROUNDDOWN(A27, 0)) -> 0 | J28: =Mena -> CZK
B29: Cena celkem s DPH | G29: =ZakladDPHSni+DPHSni+ZakladDPHZakl+DPHZakl+Zaokrouhleni -> 0 | J29: CZK
C32: v | F32: dne | H32: =TODAY() -> 43320
D35: Za zhotovitele | H35: Za objednatele
B37: Rekapitulace dílčích částí
A38: #CASTI>> | B38: Číslo | C38: Název | F38: =B23 -> Základ pro sníženou DPH | G38: =B25 -> Základ pro základní DPH | H38: DPH celkem | I38: Cena celkem | J38: %
A39: 1 | B39: Stavba | F39: ='1 1 Pol'!AE23+'SO 01 SO 01.1 Pol'!AE154+'SO 01 SO 01.2 Pol'!AE194+'SO 02 SO 02 Pol'!AE104+'SO 03 SO 03 Pol'!AE52+'SO 04 SO 04 Pol'!AE78+'SO 05 SO 05 Pol'!AE11+'SO 06 SO 06 Pol'!AE110+'SO 07 SO 07 Pol'!AE11+'SO 08 SO 08 Pol'!AE11 -> 0 | G39: ='1 1 Pol'!AF23+'SO 01 SO 01.1 Pol'!AF154+'SO 01 SO 01.2 Pol'!AF194+'SO 02 SO 02 Pol'!AF104+'SO 03 SO 03 Pol'!AF52+'SO 04 SO 04 Pol'!AF78+'SO 05 SO 05 Pol'!AF11+'SO 06 SO 06 Pol'!AF110+'SO 07 SO 07 Pol'!AF11+'SO 08 SO 08 Pol'!AF11 -> 0 | I39: =F39+G39+H39 -> 0 | J39: =IF(CenaCelkemVypocet=0,"",I39/CenaCelkemVypocet*100)
A40: 2 | B40: 1 | C40: VRN | F40: ='1 1 Pol'!AE23 -> 0 | G40: ='1 1 Pol'!AF23 -> 0 | I40: =F40+G40+H40 -> 0 | J40: =IF(CenaCelkemVypocet=0,"",I40/CenaCelkemVypocet*100)
A41: 3 | B41: 1 | C41: VRN | F41: ='1 1 Pol'!AE23 -> 0 | G41: ='1 1 Pol'!AF23 -> 0 | I41: =F41+G41+H41 -> 0 | J41: =IF(CenaCelkemVypocet=0,"",I41/CenaCelkemVypocet*100)
A42: 2 | B42: SO 01 | C42: Přístupová komunikace | F42: ='SO 01 SO 01.1 Pol'!AE154+'SO 01 SO 01.2 Pol'!AE194 -> 0 | G42: ='SO 01 SO 01.1 Pol'!AF154+'SO 01 SO 01.2 Pol'!AF194 -> 0 | I42: =F42+G42+H42 -> 0 | J42: =IF(CenaCelkemVypocet=0,"",I42/CenaCelkemVypocet*100)
A43: 3 | B43: SO 01.1 | C43: SO 01 PŘÍSTUPOVÁ KOMUNIKACE U HŘBITOVa | F43: ='SO 01 SO 01.1 Pol'!AE154 -> 0 | G43: ='SO 01 SO 01.1 Pol'!AF154 -> 0 | I43: =F43+G43+H43 -> 0 | J43: =IF(CenaCelkemVypocet=0,"",I43/CenaCelkemVypocet*100)
A44: 3 | B44: SO 01.2 | C44: SO 01 PŘÍSTUPOVÁ KOMUNIKACE Za školou | F44: ='SO 01 SO 01.2 Pol'!AE194 -> 0 | G44: ='SO 01 SO 01.2 Pol'!AF194 -> 0 | I44: =F44+G44+H44 -> 0 | J44: =IF(CenaCelkemVypocet=0,"",I44/CenaCelkemVypocet*100)
A45: 2 | B45: SO 02 | C45: Altán „Letýšek“ | F45: ='SO 02 SO 02 Pol'!AE104 -> 0 | G45: ='SO 02 SO 02 Pol'!AF104 -> 0 | I45: =F45+G45+H45 -> 0 | J45: =IF(CenaCelkemVypocet=0,"",I45/CenaCelkemVypocet*100)
A46: 3 | B46: SO 02 | C46: Altán „Letýšek“ | F46: ='SO 02 SO 02 Pol'!AE104 -> 0 | G46: ='SO 02 SO 02 Pol'!AF104 -> 0 | I46: =F46+G46+H46 -> 0 | J46: =IF(CenaCelkemVypocet=0,"",I46/CenaCelkemVypocet*100)
A47: 2 | B47: SO 03 | C47: Altán SV | F47: ='SO 03 SO 03 Pol'!AE52 -> 0 | G47: ='SO 03 SO 03 Pol'!AF52 -> 0 | I47: =F47+G47+H47 -> 0 | J47: =IF(CenaCelkemVypocet=0,"",I47/CenaCelkemVypocet*100)
A48: 3 | B48: SO 03 | C48: Altán SV | F48: ='SO 03 SO 03 Pol'!AE52 -> 0 | G48: ='SO 03 SO 03 Pol'!AF52 -> 0 | I48: =F48+G48+H48 -> 0 | J48: =IF(CenaCelkemVypocet=0,"",I48/CenaCelkemVypocet*100)
A49: 2 | B49: SO 04 | C49: Altán „Parasol“ | F49: ='SO 04 SO 04 Pol'!AE78 -> 0 | G49: ='SO 04 SO 04 Pol'!AF78 -> 0 | I49: =F49+G49+H49 -> 0 | J49: =IF(CenaCelkemVypocet=0,"",I49/CenaCelkemVypocet*100)
...

Sheet VzorPolozky
A1: Položkový rozpočet
A2: S:
A3: O:
A4: R:

Sheet 1 1 Pol
A1: Položkový soupis prací a dodávek | AG1: #TypZaznamu#
A2: S: | B2: 002_v3 | C2: OBNOVA LESOPARKU HRADISKO A KALVÁRIE - KALVÁRIE | AG2: STA
A3: O: | B3: 1 | C3: VRN | AC3: STA | AG3: OBJ
A4: R: | B4: 1 | C4: VRN | AG4: ROZ
A6: P.č. | B6: Číslo položky | C6: Název položky | D6: MJ | E6: množství | F6: cena / MJ | G6: Celkem | H6: Dodávka | I6: Dodávka celk. | J6: Montáž | K6: Montáž celk. | L6: DPH | M6: cena s DPH | N6: hmotnost / MJ | O6: hmotnost celk.(t) | P6: dem. hmotnost / MJ | Q6: dem. hmotnost celk.(t) | R6: Ceník | S6: Cen. soustava / platnost | T6: Cenová úroveň | U6: Nhod / MJ | V6: Nhod celk. | W6: Dodavatel
A8: Díl: | B8: 01 | C8: Celý objekt | G8: =SUMIF(AG9:AG21,"<>NOR",G9:G21) -> 0 | I8: =SUM(I9:I21) -> 0 | K8: =SUM(K9:K21) -> 0 | M8: =SUM(M9:M21) -> 0 | O8: =SUM(O9:O21) -> 0 | Q8: =SUM(Q9:Q21) -> 0 | V8: =SUM(V9:V21) -> 0 | AG8: DIL
A9: 1 | B9: 004111010R | C9: Průzkumné práce | D9: Soubor | E9: 1 | G9: =ROUND(E9*F9,2) -> 0 | I9: =ROUND(E9*H9,2) -> 0 | K9: =ROUND(E9*J9,2) -> 0 | L9: 21 | M9: =G9*(1+L9/100) -> 0 | N9: 0 | O9: =ROUND(E9*N9,2) -> 0 | P9: 0 | Q9: =ROUND(E9*P9,2) -> 0 | S9: RTS 17/ I | T9: Indiv | U9: 0 | V9: =ROUND(E9*U9,2) -> 0 | AG9: POL99_8
C10: Náklady na provedení průzkumů nebo doplnění stávajících průzkumů, pokud je obchodní podmínky vyžadují a tyto průzkumy nejsou v dostatečném rozsahu součástí projektové dokumentace. Jedná se zejména o Geologický – inženýrsko-geologický / radonový / hydrogeologický / pedologický průzkum, botanický a zoologický průzkum, stavební průzkum – umělecko historický / stavebně statický a případný průzkum výskytu nebezpečných látek – odpadu / munice / výbušnin apod. | AG10: POP | BA10: =C10 -> Náklady na provedení průzkumů nebo doplnění stávajících průzkumů, pokud je obchodní podmínky vyžadují a tyto průzkumy nejsou v dostatečném rozsahu součástí projektové dokumentace. Jedná se zejména o Geologický – inženýrsko-geologický / radonový / hydrogeologický / pedologický průzkum, botanický a zoologický průzkum, stavební průzkum – umělecko historický / stavebně statický a případný průzkum výskytu nebezpečných látek – odpadu / munice / výbušnin apod.
A11: 2 | B11: 005111020R | C11: Vytyčení stavby | D11: Soubor | E11: 1 | G11: =ROUND(E11*F11,2) -> 0 | I11: =ROUND(E11*H11,2) -> 0 | K11: =ROUND(E11*J11,2) -> 0 | L11: 21 | M11: =G11*(1+L11/100) -> 0 | N11: 0 | O11: =ROUND(E11*N11,2) -> 0 | P11: 0 | Q11: =ROUND(E11*P11,2) -> 0 | S11: RTS 17/ I | T11: Indiv | U11: 0 | V11: =ROUND(E11*U11,2) -> 0 | AG11: POL99_8
C12: Geodetické zaměření rohů stavby, stabilizace bodů a sestavení laviček. | AG12: POP
C13: Vyhotovení protokolu o vytyčení stavby se seznamem souřadnic vytyčených bodů a jejich polohopisnými (S-JTSK) a výškopisnými (Bpv) hodnotami. | AG13: POP | BA13: =C13 -> Vyhotovení protokolu o vytyčení stavby se seznamem souřadnic vytyčených bodů a jejich polohopisnými (S-JTSK) a výškopisnými (Bpv) hodnotami.
A14: 3 | B14: 005111021R | C14: Vytyčení inženýrských sítí | D14: Soubor | E14: 1 | G14: =ROUND(E14*F14,2) -> 0 | I14: =ROUND(E14*H14,2) -> 0 | K14: =ROUND(E14*J14,2) -> 0 | L14: 21 | M14: =G14*(1+L14/100) -> 0 | N14: 0 | O14: =ROUND(E14*N14,2) -> 0 | P14: 0 | Q14: =ROUND(E14*P14,2) -> 0 | S14: RTS 17/ I | T14: Indiv | U14: 0 | V14: =ROUND(E14*U14,2) -> 0 | AG14: POL99_8
C15: Zaměření a vytýčení stávajících inženýrských sítí v místě stavby z hlediska jejich ochrany při provádění stavby. | AG15: POP | BA15: =C15 -> Zaměření a vytýčení stávajících inženýrských sítí v místě stavby z hlediska jejich ochrany při provádění stavby.
A16: 4 | B16: 005122 R | C16: Provozní vlivy | D16: Soubor | E16: 1 | G16: =ROUND(E16*F16,2) -> 0 | I16: =ROUND(E16*H16,2) -> 0 | K16: =ROUND(E16*J16,2) -> 0 | L16: 21 | M16: =G16*(1+L16/100) -> 0 | N16: 0 | O16: =ROUND(E16*N16,2) -> 0 | P16: 0 | Q16: =ROUND(E16*P16,2) -> 0 | S16: RTS 17/ I | T16: Indiv | U16: 0 | V16: =ROUND(E16*U16,2) -> 0 | AG16: POL99_8
C17: Náklady na ztížené podmínky provádění tam, kde jsou stavební práce zcela nebo zčásti omezovány provozem jiných osob. Jde zejména o zvýšené náklady související s omezením provozem v areálu objednatele nebo o náklady v důsledku nezbytného respektování stávající dopravy ovlivňující stavební práce. | AG17: POP | BA17: =C17 -> Náklady na ztížené podmínky provádění tam, kde jsou stavební práce zcela nebo zčásti omezovány provozem jiných osob. Jde zejména o zvýšené náklady související s omezením provozem v areálu objednatele nebo o náklady v důsledku nezbytného respektování stávající dopravy ovlivňující stavební práce.
A18: 5 | B18: 005241010R | C18: Dokumentace skutečného provedení | D18: Soubor | E18: 1 | G18: =ROUND(E18*F18,2) -> 0 | I18: =ROUND(E18*H18,2) -> 0 | K18: =ROUND(E18*J18,2) -> 0 | L18: 21 | M18: =G18*(1+L18/100) -> 0 | N18: 0 | O18: =ROUND(E18*N18,2) -> 0 | P18: 0 | Q18: =ROUND(E18*P18,2) -> 0 | S18: RTS 17/ I | T18: Indiv | U18: 0 | V18: =ROUND(E18*U18,2) -> 0 | AG18: POL99_8
C19: Náklady na vyhotovení dokumentace skutečného provedení stavby a její předání objednateli v požadované formě a požadovaném počtu. | AG19: POP | BA19: =C19 -> Náklady na vyhotovení dokumentace skutečného provedení stavby a její předání objednateli v požadované formě a požadovaném počtu.
A20: 6 | B20: 005241020R | C20: Geodetické zaměření skutečného provedení | D20: Soubor | E20: 1 | G20: =ROUND(E20*F20,2) -> 0 | I20: =ROUND(E20*H20,2) -> 0 | K20: =ROUND(E20*J20,2) -> 0 | L20: 21 | M20: =G20*(1+L20/100) -> 0 | N20: 0 | O20: =ROUND(E20*N20,2) -> 0 | P20: 0 | Q20: =ROUND(E20*P20,2) -> 0 | S20: RTS 17/ I | T20: Indiv | U20: 0 | V20: =ROUND(E20*U20,2) -> 0 | AG20: POL99_8
C21: Náklady na provedení skutečného zaměření stavby v rozsahu nezbytném pro zápis změny do katastru nemovitostí. | AG21: POP | BA21: =C21 -> Náklady na provedení skutečného zaměření stavby v rozsahu nezbytném pro zápis změny do katastru nemovitostí.
AE22: 15 | AF22: 21
B23: Celkem | G23: =G8 -> 0 | AE23: =SUMIF(L7:L21,AE22,G7:G21) -> 0 | AF23: =SUMIF(L7:L21,AF22,G7:G21) -> 0 | AG23: SUM
AG24: END

Sheet SO 01 SO 01.1 Pol
A1: Položkový soupis prací a dodávek | AG1: #TypZaznamu#
A2: S: | B2: 002_v3 | C2: OBNOVA LESOPARKU HRADISKO A KALVÁRIE - KALVÁRIE | AG2: STA
A3: O: | B3: SO 01 | C3: Přístupová komunikace | AC3: STA | AG3: OBJ
A4: R: | B4: SO 01.1 | C4: SO 01 PŘÍSTUPOVÁ KOMUNIKACE U HŘBITOVa | AG4: ROZ
A6: P.č. | B6: Číslo položky | C6: Název položky | D6: MJ | E6: množství | F6: cena / MJ | G6: Celkem | H6: Dodávka | I6: Dodávka celk. | J6: Montáž | K6: Montáž celk. | L6: DPH | M6: cena s DPH | N6: hmotnost / MJ | O6: hmotnost celk.(t) | P6: dem. hmotnost / MJ | Q6: dem. hmotnost celk.(t) | R6: Ceník | S6: Cen. soustava / platnost | T6: Cenová úroveň | U6: Nhod / MJ | V6: Nhod celk. | W6: Dodavatel
A8: Díl: | B8: 1 | C8: Zemní práce | G8: =SUMIF(AG9:AG73,"<>NOR",G9:G73) -> 0 | I8: =SUM(I9:I73) -> 0 | K8: =SUM(K9:K73) -> 0 | M8: =SUM(M9:M73) -> 0 | O8: =SUM(O9:O73) -> 0 | Q8: =SUM(Q9:Q73) -> 252.34 | V8: =SUM(V9:V73) -> 425.52 | AG8: DIL
A9: 1 | B9: 111203111R0T | C9: Odstranění kořenů a kořenových náběhů až do hloubky 50 cm | D9: m2 | E9: 12 | G9: =ROUND(E9*F9,2) -> 0 | I9: =ROUND(E9*H9,2) -> 0 | K9: =ROUND(E9*J9,2) -> 0 | L9: 15 | M9: =G9*(1+L9/100) -> 0 | N9: 0 | O9: =ROUND(E9*N9,2) -> 0 | P9: 0 | Q9: =ROUND(E9*P9,2) -> 0 | S9: Vlastní | T9: Indiv | U9: 0 | V9: =ROUND(E9*U9,2) -> 0 | AG9: POL1_9
A10: 2 | B10: 113107610R00 | C10: Odstranění podkladů nebo krytů z kameniva hrubého drceného, v ploše jednotlivě nad 50 m2, tloušťka vrstvy 100 mm | D10: m2 | E10: 180 | G10: =ROUND(E10*F10,2) -> 0 | I10: =ROUND(E10*H10,2) -> 0 | K10: =ROUND(E10*J10,2) -> 0 | L10: 15 | M10: =G10*(1+L10/100) -> 0 | N10: 0 | O10: =ROUND(E10*N10,2) -> 0 | P10: 0.22 | Q10: =ROUND(E10*P10,2) -> 39.6 | S10: RTS 17/ I | T10: Indiv | U10: 0.049 | V10: =ROUND(E10*U10,2) -> 8.82 | AG10: POL1_9
C11: Převzatá hodnota množství z položky : 180 | E11: 180 | AG11: VV | AH11: 0
C12: Začátek provozního součtu | AG12: VV
C13: 60*3 | E13: 180 | AG13: VV | AH13: 2
C14: Konec provozního součtu | AG14: VV
A15: 3 | B15: 113111130R00 | C15: Odstranění podkladů nebo krytů z kameniva zpevněného cementem, v ploše jednotlivě do 50 m2, tloušťka vrstvy 300 mm | D15: m2 | E15: 180 | G15: =ROUND(E15*F15,2) -> 0 | I15: =ROUND(E15*H15,2) -> 0 | K15: =ROUND(E15*J15,2) -> 0 | L15: 15 | M15: =G15*(1+L15/100) -> 0 | N15: 0 | O15: =ROUND(E15*N15,2) -> 0 | P15: 0.76629 | Q15: =ROUND(E15*P15,2) -> 137.93 | S15: RTS 17/ I | T15: Indiv | U15: 0.84 | V15: =ROUND(E15*U15,2) -> 151.2 | AG15: POL1_9
C16: Převzatá hodnota množství z položky : 180 | E16: 180 | AG16: VV | AH16: 0
C17: Začátek provozního součtu | AG17: VV
C18: 60*3 | E18: 180 | AG18: VV | AH18: 2
C19: Konec provozního součtu | AG19: VV
A20: 4 | B20: 122202202R00 | C20: Odkopávky a prokopávky pro silnice v hornině 3 přes 100 do 1 000 m3 | D20: m3 | E20: 460.016 | G20: =ROUND(E20*F20,2) -> 0 | I20: =ROUND(E20*H20,2) -> 0 | K20: =ROUND(E20*J20,2) -> 0 | L20: 15 | M20: =G20*(1+L20/100) -> 0 | N20: 0 | O20: =ROUND(E20*N20,2) -> 0 | P20: 0 | Q20: =ROUND(E20*P20,2) -> 0 | S20: RTS 17/ I | T20: Indiv | U20: 0.223 | V20: =ROUND(E20*U20,2) -> 102.58 | AG20: POL1_9
C21: s přemístěním výkopku v příčných profilech na vzdálenost do 15 m nebo s naložením na dopravní prostředek. | AG21: SPI | BA21: =C21 -> s přemístěním výkopku v příčných profilech na vzdálenost do 15 m nebo s naložením na dopravní prostředek.
C22: Převzatá hodnota množství z položky : 460,016 | E22: 460.02 | AG22: VV | AH22: 0
C23: Začátek provozního součtu | AG23: VV
C24: 65*(3,5+1,7)*,24+42*(2+1,7)*,24+122*(2+2)*,7 | E24: 460.02 | AG24: VV | AH24: 2
C25: Konec provozního součtu | AG25: VV
A26: 5 | B26: 122202209R00 | C26: Odkopávky a prokopávky pro silnice v hornině 3 příplatek za lepivost horniny | D26: m3 | E26: 460.016 | G26: =ROUND(E26*F26,2) -> 0 | I26: =ROUND(E26*H26,2) -> 0 | K26: =ROUND(E26*J26,2) -> 0 | L26: 15 | M26: =G26*(1+L26/100) -> 0 | N26: 0 | O26: =ROUND(E26*N26,2) -> 0 | P26: 0 | Q26: =ROUND(E26*P26,2) -> 0 | S26: RTS 17/ I | T26: Indiv | U26: 0.088 | V26: =ROUND(E26*U26,2) -> 40.48 | AG26: POL1_9
C27: s přemístěním výkopku v příčných profilech na vzdálenost do 15 m nebo s naložením na dopravní prostředek. | AG27: SPI | BA27: =C27 -> s přemístěním výkopku v příčných profilech na vzdálenost do 15 m nebo s naložením na dopravní prostředek.
C28: Převzatá hodnota množství z položky : 460,016 | E28: 460.02 | AG28: VV | AH28: 0
C29: Začátek provozního součtu | AG29: VV
C30: 65*(3,5+1,7)*,24+42*(2+1,7)*,24+122*(2+2)*,7 | E30: 460.02 | AG30: VV | AH30: 2
C31: Konec provozního součtu | AG31: VV
A32: 6 | B32: 162301101R00 | C32: Vodorovné přemístění výkopku z horniny 1 až 4, na vzdálenost přes 50 do 500 m | D32: m3 | E32: 514.016 | G32: =ROUND(E32*F32,2) -> 0 | I32: =ROUND(E32*H32,2) -> 0 | K32: =ROUND(E32*J32,2) -> 0 | L32: 15 | M32: =G32*(1+L32/100) -> 0 | N32: 0 | O32: =ROUND(E32*N32,2) -> 0 | P32: 0 | Q32: =ROUND(E32*P32,2) -> 0 | S32: RTS 17/ I | T32: Indiv | U32: 0.011 | V32: =ROUND(E32*U32,2) -> 5.65 | AG32: POL1_9
C33: po suchu, bez ohledu na druh dopravního prostředku, bez naložení výkopku, avšak se složením bez rozhrnutí, | AG33: SPI | BA33: =C33 -> po suchu, bez ohledu na druh dopravního prostředku, bez naložení výkopku, avšak se složením bez rozhrnutí,
C34: Převzatá hodnota množství z položky : 514,016 | E34: 514.02 | AG34: VV | AH34: 0
C35: Začátek provozního součtu | AG35: VV
C36: 65*(3,5+1,7)*,24+42*(2+1,7)*,24+122*(2+2)*,7+180*,3 | E36: 514.02 | AG36: VV | AH36: 2
C37: Konec provozního součtu | AG37: VV
A38: 7 | B38: 113106121R00 | C38: Rozebrání dlažeb, panelů komunikací pro pěší s jakýmkoliv ložem a výplní spár_x000D_ z betonových nebo kameninových dlaždic nebo tvarovek | D38: m2 | E38: 59 | G38: =ROUND(E38*F38,2) -> 0 | I38: =ROUND(E38*H38,2) -> 0 | K38: =ROUND(E38*J38,2) -> 0 | L38: 15 | M38: =G38*(1+L38/100) -> 0 | N38: 0 | O38: =ROUND(E38*N38,2) -> 0 | P38: 0.138 | Q38: =ROUND(E38*P38,2) -> 8.14 | S38: RTS 17/ I | T38: Indiv | U38: 0.16 | V38: =ROUND(E38*U38,2) -> 9.44 | AG38: POL1_9
C39: s přemístěním hmot na skládku na vzdálenost do 3 m nebo s naložením na dopravní prostředek | AG39: SPI
A40: 8 | B40: 171101101R00 | C40: Uložení sypaniny do násypů zhutněných s uzavřením povrchu násypu z hornin soudržných s předepsanou mírou zhutnění v procentech výsledků zkoušek Proctor-Standard _x000D_ _x000D_ na 95 % PS | D40: m3 | E40: 257.008 | G40: =ROUND(E40*F40,2) -> 0 | I40: =ROUND(E40*H40,2) -> 0 | K40: =ROUND(E40*J40,2) -> 0 | L40: 15 | M40: =G40*(1+L40/100) -> 0 | N40: 0 | O40: =ROUND(E40*N40,2) -> 0 | P40: 0 | Q40: =ROUND(E40*P40,2) -> 0 | S40: RTS 17/ I | T40: Indiv | U40: 0.043 | V40: =ROUND(E40*U40,2) -> 11.05 | AG40: POL1_9
C41: s rozprostřením sypaniny ve vrstvách a s hrubým urovnáním, | AG41: SPI
C42: Převzatá hodnota množství z položky : 257,008 | E42: 257.01 | AG42: VV | AH42: 0
...

Sheet SO 01 SO 01.2 Pol
A1: Položkový soupis prací a dodávek | AG1: #TypZaznamu#
A2: S: | B2: 002_v3 | C2: OBNOVA LESOPARKU HRADISKO A KALVÁRIE - KALVÁRIE | AG2: STA
A3: O: | B3: SO 01 | C3: Přístupová komunikace | AC3: STA | AG3: OBJ
A4: R: | B4: SO 01.2 | C4: SO 01 PŘÍSTUPOVÁ KOMUNIKACE Za školou | AG4: ROZ
A6: P.č. | B6: Číslo položky | C6: Název položky | D6: MJ | E6: množství | F6: cena / MJ | G6: Celkem | H6: Dodávka | I6: Dodávka celk. | J6: Montáž | K6: Montáž celk. | L6: DPH | M6: cena s DPH | N6: hmotnost / MJ | O6: hmotnost celk.(t) | P6: dem. hmotnost / MJ | Q6: dem. hmotnost celk.(t) | R6: Ceník | S6: Cen. soustava / platnost | T6: Cenová úroveň | U6: Nhod / MJ | V6: Nhod celk. | W6: Dodavatel
A8: Díl: | B8: 1 | C8: Zemní práce | G8: =SUMIF(AG9:AG70,"<>NOR",G9:G70) -> 0 | I8: =SUM(I9:I70) -> 0 | K8: =SUM(K9:K70) -> 0 | M8: =SUM(M9:M70) -> 0 | O8: =SUM(O9:O70) -> 0 | Q8: =SUM(Q9:Q70) -> 490.78 | V8: =SUM(V9:V70) -> 598.63 | AG8: DIL
A9: 1 | B9: 111203111R00 | C9: Odstranění pařezu odfrézováním až do hloubky 50 cm | D9: m2 | E9: 12 | G9: =ROUND(E9*F9,2) -> 0 | I9: =ROUND(E9*H9,2) -> 0 | K9: =ROUND(E9*J9,2) -> 0 | L9: 15 | M9: =G9*(1+L9/100) -> 0 | N9: 0 | O9: =ROUND(E9*N9,2) -> 0 | P9: 0 | Q9: =ROUND(E9*P9,2) -> 0 | S9: RTS 17/ I | T9: Indiv | U9: 2.913 | V9: =ROUND(E9*U9,2) -> 34.96 | AG9: POL1_9
A10: 2 | B10: 113107610R00 | C10: Odstranění podkladů nebo krytů z kameniva hrubého drceného, v ploše jednotlivě nad 50 m2, tloušťka vrstvy 100 mm | D10: m2 | E10: 497.61 | G10: =ROUND(E10*F10,2) -> 0 | I10: =ROUND(E10*H10,2) -> 0 | K10: =ROUND(E10*J10,2) -> 0 | L10: 15 | M10: =G10*(1+L10/100) -> 0 | N10: 0 | O10: =ROUND(E10*N10,2) -> 0 | P10: 0.22 | Q10: =ROUND(E10*P10,2) -> 109.47 | S10: RTS 17/ I | T10: Indiv | U10: 0.049 | V10: =ROUND(E10*U10,2) -> 24.38 | AG10: POL1_9
C11: Převzatá hodnota množství z položky : 497,61 | E11: 497.61 | AG11: VV | AH11: 0
C12: Začátek provozního součtu | AG12: VV
C13: 165,87*3 | E13: 497.61 | AG13: VV | AH13: 2
C14: Konec provozního součtu | AG14: VV
A15: 3 | B15: 113111130R00 | C15: Odstranění podkladů nebo krytů z kameniva zpevněného cementem, v ploše jednotlivě do 50 m2, tloušťka vrstvy 300 mm | D15: m2 | E15: 497.61 | G15: =ROUND(E15*F15,2) -> 0 | I15: =ROUND(E15*H15,2) -> 0 | K15: =ROUND(E15*J15,2) -> 0 | L15: 15 | M15: =G15*(1+L15/100) -> 0 | N15: 0 | O15: =ROUND(E15*N15,2) -> 0 | P15: 0.76629 | Q15: =ROUND(E15*P15,2) -> 381.31 | S15: RTS 17/ I | T15: Indiv | U15: 0.84 | V15: =ROUND(E15*U15,2) -> 417.99 | AG15: POL1_9
C16: Převzatá hodnota množství z položky : 497,61 | E16: 497.61 | AG16: VV | AH16: 0
C17: Začátek provozního součtu | AG17: VV
C18: 165,87*3 | E18: 497.61 | AG18: VV | AH18: 2
C19: Konec provozního součtu | AG19: VV
A20: 4 | B20: 122202202R00 | C20: Odkopávky a prokopávky pro silnice v hornině 3 přes 100 do 1 000 m3 | D20: m3 | E20: 235.4016 | G20: =ROUND(E20*F20,2) -> 0 | I20: =ROUND(E20*H20,2) -> 0 | K20: =ROUND(E20*J20,2) -> 0 | L20: 15 | M20: =G20*(1+L20/100) -> 0 | N20: 0 | O20: =ROUND(E20*N20,2) -> 0 | P20: 0 | Q20: =ROUND(E20*P20,2) -> 0 | S20: RTS 17/ I | T20: Indiv | U20: 0.223 | V20: =ROUND(E20*U20,2) -> 52.49 | AG20: POL1_9
C21: s přemístěním výkopku v příčných profilech na vzdálenost do 15 m nebo s naložením na dopravní prostředek. | AG21: SPI | BA21: =C21 -> s přemístěním výkopku v příčných profilech na vzdálenost do 15 m nebo s naložením na dopravní prostředek.
C22: Převzatá hodnota množství z položky : 235,4016 | E22: 235.4 | AG22: VV | AH22: 0
C23: Začátek provozního součtu | AG23: VV
C24: 0,17*139,92+663,48*,24+97*,54 | E24: 235.4 | AG24: VV | AH24: 2
C25: Konec provozního součtu | AG25: VV
A26: 5 | B26: 122202209R00 | C26: Odkopávky a prokopávky pro silnice v hornině 3 příplatek za lepivost horniny | D26: m3 | E26: 235.4016 | G26: =ROUND(E26*F26,2) -> 0 | I26: =ROUND(E26*H26,2) -> 0 | K26: =ROUND(E26*J26,2) -> 0 | L26: 15 | M26: =G26*(1+L26/100) -> 0 | N26: 0 | O26: =ROUND(E26*N26,2) -> 0 | P26: 0 | Q26: =ROUND(E26*P26,2) -> 0 | S26: RTS 17/ I | T26: Indiv | U26: 0.088 | V26: =ROUND(E26*U26,2) -> 20.72 | AG26: POL1_9
C27: s přemístěním výkopku v příčných profilech na vzdálenost do 15 m nebo s naložením na dopravní prostředek. | AG27: SPI | BA27: =C27 -> s přemístěním výkopku v příčných profilech na vzdálenost do 15 m nebo s naložením na dopravní prostředek.
C28: Převzatá hodnota množství z položky : 235,4016 | E28: 235.4 | AG28: VV | AH28: 0
C29: Začátek provozního součtu | AG29: VV
C30: 0,17*139,92+663,48*,24+97*,54 | E30: 235.4 | AG30: VV | AH30: 2
C31: Konec provozního součtu | AG31: VV
A32: 6 | B32: 162301101R00 | C32: Vodorovné přemístění výkopku z horniny 1 až 4, na vzdálenost přes 50 do 500 m | D32: m3 | E32: 503.8356 | G32: =ROUND(E32*F32,2) -> 0 | I32: =ROUND(E32*H32,2) -> 0 | K32: =ROUND(E32*J32,2) -> 0 | L32: 15 | M32: =G32*(1+L32/100) -> 0 | N32: 0 | O32: =ROUND(E32*N32,2) -> 0 | P32: 0 | Q32: =ROUND(E32*P32,2) -> 0 | S32: RTS 17/ I | T32: Indiv | U32: 0.011 | V32: =ROUND(E32*U32,2) -> 5.54 | AG32: POL1_9
C33: po suchu, bez ohledu na druh dopravního prostředku, bez naložení výkopku, avšak se složením bez rozhrnutí, | AG33: SPI | BA33: =C33 -> po suchu, bez ohledu na druh dopravního prostředku, bez naložení výkopku, avšak se složením bez rozhrnutí,
C34: Převzatá hodnota množství z položky : 503,8356 | E34: 503.84 | AG34: VV | AH34: 0
C35: Začátek provozního součtu | AG35: VV
C36: 0,17*139,92+663,48*,24+97*,54+497,1*0,54 | E36: 503.84 | AG36: VV | AH36: 2
C37: Konec provozního součtu | AG37: VV
A38: 7 | B38: 171101101R00 | C38: Uložení sypaniny do násypů zhutněných s uzavřením povrchu násypu z hornin soudržných s předepsanou mírou zhutnění v procentech výsledků zkoušek Proctor-Standard _x000D_ _x000D_ na 95 % PS | D38: m3 | E38: 503.8356 | G38: =ROUND(E38*F38,2) -> 0 | I38: =ROUND(E38*H38,2) -> 0 | K38: =ROUND(E38*J38,2) -> 0 | L38: 15 | M38: =G38*(1+L38/100) -> 0 | N38: 0 | O38: =ROUND(E38*N38,2) -> 0 | P38: 0 | Q38: =ROUND(E38*P38,2) -> 0 | S38: RTS 17/ I | T38: Indiv | U38: 0.043 | V38: =ROUND(E38*U38,2) -> 21.66 | AG38: POL1_9
C39: s rozprostřením sypaniny ve vrstvách a s hrubým urovnáním, | AG39: SPI
C40: Převzatá hodnota množství z položky : 503,8356 | E40: 503.84 | AG40: VV | AH40: 0
C41: Začátek provozního součtu | AG41: VV
C42: 0,17*139,92+663,48*,24+97*,54+497,1*0,54 | E42: 503.84 | AG42: VV | AH42: 2
...

Sheet SO 02 SO 02 Pol
A1: Položkový soupis prací a dodávek | AG1: #TypZaznamu#
A2: S: | B2: 002_v3 | C2: OBNOVA LESOPARKU HRADISKO A KALVÁRIE - KALVÁRIE | AG2: STA
A3: O: | B3: SO 02 | C3: Altán „Letýšek“ | AC3: STA | AG3: OBJ
A4: R: | B4: SO 02 | C4: Altán „Letýšek“ | AG4: ROZ
A6: P.č. | B6: Číslo položky | C6: Název položky | D6: MJ | E6: množství | F6: cena / MJ | G6: Celkem | H6: Dodávka | I6: Dodávka celk. | J6: Montáž | K6: Montáž celk. | L6: DPH | M6: cena s DPH | N6: hmotnost / MJ | O6: hmotnost celk.(t) | P6: dem. hmotnost / MJ | Q6: dem. hmotnost celk.(t) | R6: Ceník | S6: Cen. soustava / platnost | T6: Cenová úroveň | U6: Nhod / MJ | V6: Nhod celk. | W6: Dodavatel
A8: Díl: | B8: 1 | C8: Zemní práce | G8: =SUMIF(AG9:AG14,"<>NOR",G9:G14) -> 0 | I8: =SUM(I9:I14) -> 0 | K8: =SUM(K9:K14) -> 0 | M8: =SUM(M9:M14) -> 0 | O8: =SUM(O9:O14) -> 0 | Q8: =SUM(Q9:Q14) -> 0 | V8: =SUM(V9:V14) -> 20.1 | AG8: DIL
A9: 1 | B9: 121100001RAA | C9: Sejmutí ornice naložení a uložení_x000D_ odvoz do 1 000 m | D9: m3 | E9: 5.6 | G9: =ROUND(E9*F9,2) -> 0 | I9: =ROUND(E9*H9,2) -> 0 | K9: =ROUND(E9*J9,2) -> 0 | L9: 15 | M9: =G9*(1+L9/100) -> 0 | N9: 0 | O9: =ROUND(E9*N9,2) -> 0 | P9: 0 | Q9: =ROUND(E9*P9,2) -> 0 | S9: RTS 17/ I | T9: Indiv | U9: 0.17 | V9: =ROUND(E9*U9,2) -> 0.95 | AG9: POL2_9
C10: popř. lesní půdy s naložením, vodorovným přemístěním a složením na hromady nebo se zpětným přemístěním a rozprostřením. | AG10: SPI | BA10: =C10 -> popř. lesní půdy s naložením, vodorovným přemístěním a složením na hromady nebo se zpětným přemístěním a rozprostřením.
A11: 2 | B11: 162100010RAA | C11: Příplatek za vodorovný přesun za každých dalších 1 000 m vodorvoného přemístění výkopku | D11: m3 | E11: 3.42 | G11: =ROUND(E11*F11,2) -> 0 | I11: =ROUND(E11*H11,2) -> 0 | K11: =ROUND(E11*J11,2) -> 0 | L11: 15 | M11: =G11*(1+L11/100) -> 0 | N11: 0 | O11: =ROUND(E11*N11,2) -> 0 | P11: 0 | Q11: =ROUND(E11*P11,2) -> 0 | S11: RTS 17/ I | T11: Indiv | U11: 0 | V11: =ROUND(E11*U11,2) -> 0 | AG11: POL2_9
C12: výkopku přes vymezenou dopravní vzdálenost uvedenou u jednotlivých položek. | AG12: SPI
A13: 3 | B13: 182300010RA0 | C13: Rozprostření ornice ve svahu nad 1 : 5 a osetí travou při tloušťce 150 mm, dovoz ornice ze vzdálenosti 500 m | D13: m2 | E13: 50 | G13: =ROUND(E13*F13,2) -> 0 | I13: =ROUND(E13*H13,2) -> 0 | K13: =ROUND(E13*J13,2) -> 0 | L13: 15 | M13: =G13*(1+L13/100) -> 0 | N13: 3e-05 | O13: =ROUND(E13*N13,2) -> 0 | P13: 0 | Q13: =ROUND(E13*P13,2) -> 0 | S13: RTS 17/ I | T13: Indiv | U13: 0.38302 | V13: =ROUND(E13*U13,2) -> 19.15 | AG13: POL2_9
C14: vč. urovnání ornice, naložení na skládce a vodorovným přemístěním ornice na místo rozprostření, založení trávníku osetím a dodávky travního semene. | AG14: SPI | BA14: =C14 -> vč. urovnání ornice, naložení na skládce a vodorovným přemístěním ornice na místo rozprostření, založení trávníku osetím a dodávky travního semene.
A15: Díl: | B15: 2 | C15: Základy a zvláštní zakládání | G15: =SUMIF(AG16:AG20,"<>NOR",G16:G20) -> 0 | I15: =SUM(I16:I20) -> 0 | K15: =SUM(K16:K20) -> 0 | M15: =SUM(M16:M20) -> 0 | O15: =SUM(O16:O20) -> 25.23 | Q15: =SUM(Q16:Q20) -> 0 | V15: =SUM(V16:V20) -> 26.34 | AG15: DIL
A16: 4 | B16: 212850001RA0 | C16: Drenáž podél základu objektu z drenážních trub, d 100 mm | D16: m | E16: 14 | G16: =ROUND(E16*F16,2) -> 0 | I16: =ROUND(E16*H16,2) -> 0 | K16: =ROUND(E16*J16,2) -> 0 | L16: 15 | M16: =G16*(1+L16/100) -> 0 | N16: 0.42953 | O16: =ROUND(E16*N16,2) -> 6.01 | P16: 0 | Q16: =ROUND(E16*P16,2) -> 0 | S16: RTS 17/ I | T16: Indiv | U16: 1.4019 | V16: =ROUND(E16*U16,2) -> 19.63 | AG16: POL2_9
C17: včetně betonového lože C 16/20, obsypu kamenivem, ochranné geotextilie a revizní šachty | AG17: SPI
A18: 5 | B18: 2793200344 | C18: Základová zeď ŽB z betonu C 16/20 tloušťky 60 cm, bednění, výztuž 120 kg/m3, | D18: m2 | E18: 6.1 | G18: =ROUND(E18*F18,2) -> 0 | I18: =ROUND(E18*H18,2) -> 0 | K18: =ROUND(E18*J18,2) -> 0 | L18: 15 | M18: =G18*(1+L18/100) -> 0 | N18: 1.78352 | O18: =ROUND(E18*N18,2) -> 10.88 | P18: 0 | Q18: =ROUND(E18*P18,2) -> 0 | S18: Vlastní | T18: Indiv | U18: 0 | V18: =ROUND(E18*U18,2) -> 0 | AG18: POL1_9
A19: 6 | B19: 271100010RA0 | C19: Polštáře pod základy ze štěrkopísku | D19: m3 | E19: 4.3 | G19: =ROUND(E19*F19,2) -> 0 | I19: =ROUND(E19*H19,2) -> 0 | K19: =ROUND(E19*J19,2) -> 0 | L19: 15 | M19: =G19*(1+L19/100) -> 0 | N19: 1.93971 | O19: =ROUND(E19*N19,2) -> 8.34 | P19: 0 | Q19: =ROUND(E19*P19,2) -> 0 | S19: RTS 17/ I | T19: Indiv | U19: 1.5605 | V19: =ROUND(E19*U19,2) -> 6.71 | AG19: POL2_9
C20: zhutněné ze štěrkopísku. | AG20: SPI
A21: Díl: | B21: 3 | C21: Svislé a kompletní konstrukce | G21: =SUMIF(AG22:AG23,"<>NOR",G22:G23) -> 0 | I21: =SUM(I22:I23) -> 0 | K21: =SUM(K22:K23) -> 0 | M21: =SUM(M22:M23) -> 0 | O21: =SUM(O22:O23) -> 10.55 | Q21: =SUM(Q22:Q23) -> 0 | V21: =SUM(V22:V23) -> 34.05 | AG21: DIL
A22: 7 | B22: 311200001RAA | C22: Zdivo z kamene neopracovaného, jednostranně lícované, spárované | D22: m3 | E22: 3.9 | G22: =ROUND(E22*F22,2) -> 0 | I22: =ROUND(E22*H22,2) -> 0 | K22: =ROUND(E22*J22,2) -> 0 | L22: 15 | M22: =G22*(1+L22/100) -> 0 | N22: 2.70569 | O22: =ROUND(E22*N22,2) -> 10.55 | P22: 0 | Q22: =ROUND(E22*P22,2) -> 0 | S22: RTS 17/ I | T22: Indiv | U22: 8.7309 | V22: =ROUND(E22*U22,2) -> 34.05 | AG22: POL2_9
C23: jednostranně lícované, včetně spárování. | AG23: SPI
A24: Díl: | B24: 4 | C24: Vodorovné konstrukce | G24: =SUMIF(AG25:AG25,"<>NOR",G25:G25) -> 0 | I24: =SUM(I25:I25) -> 0 | K24: =SUM(K25:K25) -> 0 | M24: =SUM(M25:M25) -> 0 | O24: =SUM(O25:O25) -> 18.28 | Q24: =SUM(Q25:Q25) -> 0 | V24: =SUM(V25:V25) -> 30.49 | AG24: DIL
A25: 8 | B25: 465513427R00 | C25: Dlažba z kamene na MC,s vyspár.MCs, tl.do 40 cm | D25: m2 | E25: 16.2 | G25: =ROUND(E25*F25,2) -> 0 | I25: =ROUND(E25*H25,2) -> 0 | K25: =ROUND(E25*J25,2) -> 0 | L25: 15 | M25: =G25*(1+L25/100) -> 0 | N25: 1.12858 | O25: =ROUND(E25*N25,2) -> 18.28 | P25: 0 | Q25: =ROUND(E25*P25,2) -> 0 | S25: RTS 17/ I | T25: Indiv | U25: 1.882 | V25: =ROUND(E25*U25,2) -> 30.49 | AG25: POL1_9
A26: Díl: | B26: 762 | C26: Konstrukce tesařské | G26: =SUMIF(AG27:AG29,"<>NOR",G27:G29) -> 0 | I26: =SUM(I27:I29) -> 0 | K26: =SUM(K27:K29) -> 0 | M26: =SUM(M27:M29) -> 0 | O26: =SUM(O27:O29) -> 2.68 | Q26: =SUM(Q27:Q29) -> 0 | V26: =SUM(V27:V29) -> 5.89 | AG26: DIL
A27: 9 | B27: 76271OA0 | C27: Vázané prostorové konstrukce z řeziva, opalované dubové dřevo, 2 roky vyzrálé, altán | D27: m3 | E27: 3.2 | G27: =ROUND(E27*F27,2) -> 0 | I27: =ROUND(E27*H27,2) -> 0 | K27: =ROUND(E27*J27,2) -> 0 | L27: 15 | M27: =G27*(1+L27/100) -> 0 | N27: 0.7276 | O27: =ROUND(E27*N27,2) -> 2.33 | P27: 0 | Q27: =ROUND(E27*P27,2) -> 0 | S27: Vlastní | T27: Indiv | U27: 0 | V27: =ROUND(E27*U27,2) -> 0 | AG27: POL3_0
A28: 10 | B28: 762520310RAC | C28: Podlahy z desek a fošen z prken hoblovaných, na pero a drážku, na polštáře á 1 m, tloušťky 50 mm, včetně impregnace řeziva | D28: m2 | E28: 9.69 | G28: =ROUND(E28*F28,2) -> 0 | I28: =ROUND(E28*H28,2) -> 0 | K28: =ROUND(E28*J28,2) -> 0 | L28: 15 | M28: =G28*(1+L28/100) -> 0 | N28: 0.0363 | O28: =ROUND(E28*N28,2) -> 0.35 | P28: 0 | Q28: =ROUND(E28*P28,2) -> 0 | S28: RTS 17/ I | T28: Indiv | U28: 0.60756 | V28: =ROUND(E28*U28,2) -> 5.89 | AG28: POL2_9
C29: Položení polštářů pod podlahy o osové vzdálenosti do 1 m, položení a přibití hoblovaných prken, spojovací a ochranné prostředky, dodávka a impregnace materiálu. | AG29: POP | BA29: =C29 -> Položení polštářů pod podlahy o osové vzdálenosti do 1 m, položení a přibití hoblovaných prken, spojovací a ochranné prostředky, dodávka a impregnace materiálu.
A30: Díl: | B30: 764 | C30: Konstrukce klempířské | G30: =SUMIF(AG31:AG31,"<>NOR",G31:G31) -> 0 | I30: =SUM(I31:I31) -> 0 | K30: =SUM(K31:K31) -> 0 | M30: =SUM(M31:M31) -> 0 | O30: =SUM(O31:O31) -> 0.13 | Q30: =SUM(Q31:Q31) -> 0 | V30: =SUM(V31:V31) -> 0 | AG30: DIL
A31: 11 | B31: 76431901 | C31: Krytina dřevěné došky, na dřevo, D+M | D31: m2 | E31: 22.9 | G31: =ROUND(E31*F31,2) -> 0 | I31: =ROUND(E31*H31,2) -> 0 | K31: =ROUND(E31*J31,2) -> 0 | L31: 15 | M31: =G31*(1+L31/100) -> 0 | N31: 0.0057 | O31: =ROUND(E31*N31,2) -> 0.13 | P31: 0 | Q31: =ROUND(E31*P31,2) -> 0 | S31: Vlastní | T31: Indiv | U31: 0 | V31: =ROUND(E31*U31,2) -> 0 | AG31: POL1_9
A32: Díl: | B32: 766 | C32: Konstrukce truhlářské | G32: =SUMIF(AG33:AG34,"<>NOR",G33:G34) -> 0 | I32: =SUM(I33:I34) -> 0 | K32: =SUM(K33:K34) -> 0 | M32: =SUM(M33:M34) -> 0 | O32: =SUM(O33:O34) -> 0.07 | Q32: =SUM(Q33:Q34) -> 0 | V32: =SUM(V33:V34) -> 0 | AG32: DIL
A33: 12 | B33: 76612OA0 | C33: Stěny dřevěné kompletizované, povrchová úprava oplalování, D+M | D33: m2 | E33: 13.3 | G33: =ROUND(E33*F33,2) -> 0 | I33: =ROUND(E33*H33,2) -> 0 | K33: =ROUND(E33*J33,2) -> 0 | L33: 15 | M33: =G33*(1+L33/100) -> 0 | N33: 0 | O33: =ROUND(E33*N33,2) -> 0 | P33: 0 | Q33: =ROUND(E33*P33,2) -> 0 | S33: Vlastní | T33: Indiv | U33: 0 | V33: =ROUND(E33*U33,2) -> 0 | AG33: POL1_9
A34: 13 | B34: 766410 | C34: Výplň stěn deskami z trvdého dřeva včt nosné konstukcev DZ cena zadaná 4000kč/m2 | D34: m2 | E34: 14 | G34: =ROUND(E34*F34,2) -> 0 | I34: =ROUND(E34*H34,2) -> 0 | K34: =ROUND(E34*J34,2) -> 0 | L34: 15 | M34: =G34*(1+L34/100) -> 0 | N34: 0.00474 | O34: =ROUND(E34*N34,2) -> 0.07 | P34: 0 | Q34: =ROUND(E34*P34,2) -> 0 | S34: Vlastní | T34: Indiv | U34: 0 | V34: =ROUND(E34*U34,2) -> 0 | AG34: POL1_9
A35: Díl: | B35: 767 | C35: Konstrukce zámečnické | G35: =SUMIF(AG36:AG38,"<>NOR",G36:G38) -> 0 | I35: =SUM(I36:I38) -> 0 | K35: =SUM(K36:K38) -> 0 | M35: =SUM(M36:M38) -> 0 | O35: =SUM(O36:O38) -> 0.13 | Q35: =SUM(Q36:Q38) -> 0 | V35: =SUM(V36:V38) -> 35.81 | AG35: DIL
A36: 14 | B36: 767110119RA0 | C36: Stěny zasklené montáž stěn z ocelových profilů, pouze montáž, stěna ve specifikaci, | D36: m2 | E36: 22 | G36: =ROUND(E36*F36,2) -> 0 | I36: =ROUND(E36*H36,2) -> 0 | K36: =ROUND(E36*J36,2) -> 0 | L36: 15 | M36: =G36*(1+L36/100) -> 0 | N36: 0.00017 | O36: =ROUND(E36*N36,2) -> 0 | P36: 0 | Q36: =ROUND(E36*P36,2) -> 0 | S36: RTS 17/ I | T36: Indiv | U36: 1.31001 | V36: =ROUND(E36*U36,2) -> 28.82 | AG36: POL2_9
A37: 15 | B37: 767200001RA0 | C37: Schodišťové zábradlí madlo, nátěr | D37: m | E37: 7 | G37: =ROUND(E37*F37,2) -> 0 | I37: =ROUND(E37*H37,2) -> 0 | K37: =ROUND(E37*J37,2) -> 0 | L37: 15 | M37: =G37*(1+L37/100) -> 0 | N37: 0.01808 | O37: =ROUND(E37*N37,2) -> 0.13 | P37: 0 | Q37: =ROUND(E37*P37,2) -> 0 | S37: RTS 17/ I | T37: Indiv | U37: 0.99851 | V37: =ROUND(E37*U37,2) -> 6.99 | AG37: POL2_9
C38: z trubek nebo tenkostěnných profilů do zdiva (10 kg/m zábradlí), dodávka a montáž dřevěných průběžných madel, nátěr zábradlí syntetický základní a dvojnásobný vrchní, nátěr madla lazurovacím lakem dvojnásobný s napuštěním. | AG38: SPI | BA38: =C38 -> z trubek nebo tenkostěnných profilů do zdiva (10 kg/m zábradlí), dodávka a montáž dřevěných průběžných madel, nátěr zábradlí syntetický základní a dvojnásobný vrchní, nátěr madla lazurovacím lakem dvojnásobný s napuštěním.
A39: Díl: | B39: 99 | C39: Staveništní přesun hmot | G39: =SUMIF(AG40:AG41,"<>NOR",G40:G41) -> 0 | I39: =SUM(I40:I41) -> 0 | K39: =SUM(K40:K41) -> 0 | M39: =SUM(M40:M41) -> 0 | O39: =SUM(O40:O41) -> 0 | Q39: =SUM(Q40:Q41) -> 0 | V39: =SUM(V40:V41) -> 35.94 | AG39: DIL
A40: 16 | B40: 998011002R00 | C40: Přesun hmot pro budovy s nosnou konstrukcí zděnou výšky přes 6 do 12 m | D40: t | E40: 117.07773 | G40: =ROUND(E40*F40,2) -> 0 | I40: =ROUND(E40*H40,2) -> 0 | K40: =ROUND(E40*J40,2) -> 0 | L40: 15 | M40: =G40*(1+L40/100) -> 0 | N40: 0 | O40: =ROUND(E40*N40,2) -> 0 | P40: 0 | Q40: =ROUND(E40*P40,2) -> 0 | S40: RTS 17/ I | T40: Indiv | U40: 0.307 | V40: =ROUND(E40*U40,2) -> 35.94 | AG40: POL1_9
C41: přesun hmot pro budovy občanské výstavby (JKSO 801), budovy pro bydlení (JKSO 803) budovy pro výrobu a služby (JKSO 812) s nosnou svislou konstrukcí zděnou z cihel nebo tvárnic nebo kovovou | AG41: SPI | BA41: =C41 -> přesun hmot pro budovy občanské výstavby (JKSO 801), budovy pro bydlení (JKSO 803) budovy pro výrobu a služby (JKSO 812) s nosnou svislou konstrukcí zděnou z cihel nebo tvárnic nebo kovovou
A42: Díl: | B42: 1 | C42: Zemní práce | G42: =SUMIF(AG43:AG61,"<>NOR",G43:G61) -> 0 | I42: =SUM(I43:I61) -> 0 | K42: =SUM(K43:K61) -> 0 | M42: =SUM(M43:M61) -> 0 | O42: =SUM(O43:O61) -> 0 | Q42: =SUM(Q43:Q61) -> 0 | V42: =SUM(V43:V61) -> 57.02 | AG42: DIL
...

Sheet SO 03 SO 03 Pol
A1: Položkový soupis prací a dodávek | AG1: #TypZaznamu#
A2: S: | B2: 002_v3 | C2: OBNOVA LESOPARKU HRADISKO A KALVÁRIE - KALVÁRIE | AG2: STA
A3: O: | B3: SO 03 | C3: Altán SV | AC3: STA | AG3: OBJ
A4: R: | B4: SO 03 | C4: Altán SV | AG4: ROZ
A6: P.č. | B6: Číslo položky | C6: Název položky | D6: MJ | E6: množství | F6: cena / MJ | G6: Celkem | H6: Dodávka | I6: Dodávka celk. | J6: Montáž | K6: Montáž celk. | L6: DPH | M6: cena s DPH | N6: hmotnost / MJ | O6: hmotnost celk.(t) | P6: dem. hmotnost / MJ | Q6: dem. hmotnost celk.(t) | R6: Ceník | S6: Cen. soustava / platnost | T6: Cenová úroveň | U6: Nhod / MJ | V6: Nhod celk. | W6: Dodavatel
A8: Díl: | B8: 1 | C8: Zemní práce | G8: =SUMIF(AG9:AG11,"<>NOR",G9:G11) -> 0 | I8: =SUM(I9:I11) -> 0 | K8: =SUM(K9:K11) -> 0 | M8: =SUM(M9:M11) -> 0 | O8: =SUM(O9:O11) -> 0 | Q8: =SUM(Q9:Q11) -> 0 | V8: =SUM(V9:V11) -> 5.75 | AG8: DIL
A9: 1 | B9: 182300010RA0 | C9: Rozprostření ornice ve svahu nad 1 : 5 a osetí travou při tloušťce 150 mm, dovoz ornice ze vzdálenosti 500 m | D9: m2 | E9: 15 | G9: =ROUND(E9*F9,2) -> 0 | I9: =ROUND(E9*H9,2) -> 0 | K9: =ROUND(E9*J9,2) -> 0 | L9: 15 | M9: =G9*(1+L9/100) -> 0 | N9: 3e-05 | O9: =ROUND(E9*N9,2) -> 0 | P9: 0 | Q9: =ROUND(E9*P9,2) -> 0 | S9: RTS 17/ I | T9: Indiv | U9: 0.38302 | V9: =ROUND(E9*U9,2) -> 5.75 | AG9: POL2_9
C10: vč. urovnání ornice, naložení na skládce a vodorovným přemístěním ornice na místo rozprostření, založení trávníku osetím a dodávky travního semene. | AG10: SPI | BA10: =C10 -> vč. urovnání ornice, naložení na skládce a vodorovným přemístěním ornice na místo rozprostření, založení trávníku osetím a dodávky travního semene.
C11: Včetně přesunu hmot. | AG11: POP
A12: Díl: | B12: 762 | C12: Konstrukce tesařské | G12: =SUMIF(AG13:AG13,"<>NOR",G13:G13) -> 0 | I12: =SUM(I13:I13) -> 0 | K12: =SUM(K13:K13) -> 0 | M12: =SUM(M13:M13) -> 0 | O12: =SUM(O13:O13) -> 0 | Q12: =SUM(Q13:Q13) -> 0 | V12: =SUM(V13:V13) -> 0 | AG12: DIL
A13: 2 | B13: 762911113R00 | C13: Impregnace řeziva máčením, ochrana proti termitům, dřevokazným houbám, plísním a dřevokaznému hmyzu | D13: m2 | E13: 8.79 | G13: =ROUND(E13*F13,2) -> 0 | I13: =ROUND(E13*H13,2) -> 0 | K13: =ROUND(E13*J13,2) -> 0 | L13: 15 | M13: =G13*(1+L13/100) -> 0 | N13: 4e-05 | O13: =ROUND(E13*N13,2) -> 0 | P13: 0 | Q13: =ROUND(E13*P13,2) -> 0 | S13: RTS 17/ I | T13: Indiv | U13: 0 | V13: =ROUND(E13*U13,2) -> 0 | AG13: POL1_9
A14: Díl: | B14: 783 | C14: Nátěry | G14: =SUMIF(AG15:AG15,"<>NOR",G15:G15) -> 0 | I14: =SUM(I15:I15) -> 0 | K14: =SUM(K15:K15) -> 0 | M14: =SUM(M15:M15) -> 0 | O14: =SUM(O15:O15) -> 0 | Q14: =SUM(Q15:Q15) -> 0 | V14: =SUM(V15:V15) -> 0 | AG14: DIL
A15: 3 | B15: 93873OA0 | C15: OŠETŘENÍ DŘEV KONSTR (hydroizolačním NÁTĚREM) podzemní část | D15: m2 | E15: 2 | G15: =ROUND(E15*F15,2) -> 0 | I15: =ROUND(E15*H15,2) -> 0 | K15: =ROUND(E15*J15,2) -> 0 | L15: 15 | M15: =G15*(1+L15/100) -> 0 | N15: 0.00032 | O15: =ROUND(E15*N15,2) -> 0 | P15: 0 | Q15: =ROUND(E15*P15,2) -> 0 | S15: Vlastní | T15: Indiv | U15: 0 | V15: =ROUND(E15*U15,2) -> 0 | AG15: POL1_9
A16: Díl: | B16: 762 | C16: Konstrukce tesařské | G16: =SUMIF(AG17:AG22,"<>NOR",G17:G22) -> 0 | I16: =SUM(I17:I22) -> 0 | K16: =SUM(K17:K22) -> 0 | M16: =SUM(M17:M22) -> 0 | O16: =SUM(O17:O22) -> 0.18 | Q16: =SUM(Q17:Q22) -> 0 | V16: =SUM(V17:V22) -> 8.81 | AG16: DIL
A17: 4 | B17: 762111111RA0 | C17: Nosná konstrukce stěn dřevostaveb obvodových stěn | D17: bm | E17: 12.2 | G17: =ROUND(E17*F17,2) -> 0 | I17: =ROUND(E17*H17,2) -> 0 | K17: =ROUND(E17*J17,2) -> 0 | L17: 15 | M17: =G17*(1+L17/100) -> 0 | N17: 0.01487 | O17: =ROUND(E17*N17,2) -> 0.18 | P17: 0 | Q17: =ROUND(E17*P17,2) -> 0 | S17: RTS 17/ I | T17: Indiv | U17: 0.72196 | V17: =ROUND(E17*U17,2) -> 8.81 | AG17: POL2_9
C18: z profilů 60/140 mm. | AG18: SPI
C19: Převzatá hodnota množství z položky : 12,2 | E19: 12.2 | AG19: VV | AH19: 0
C20: Začátek provozního součtu | AG20: VV
C21: 11,2+1 | E21: 12.2 | AG21: VV | AH21: 2
C22: Konec provozního součtu | AG22: VV
A23: Díl: | B23: 99 | C23: Staveništní přesun hmot | G23: =SUMIF(AG24:AG25,"<>NOR",G24:G25) -> 0 | I23: =SUM(I24:I25) -> 0 | K23: =SUM(K24:K25) -> 0 | M23: =SUM(M24:M25) -> 0 | O23: =SUM(O24:O25) -> 0 | Q23: =SUM(Q24:Q25) -> 0 | V23: =SUM(V24:V25) -> 6.64 | AG23: DIL
A24: 5 | B24: 998011001R00 | C24: Přesun hmot pro budovy s nosnou konstrukcí zděnou výšky do 6 m | D24: t | E24: 7.78971 | G24: =ROUND(E24*F24,2) -> 0 | I24: =ROUND(E24*H24,2) -> 0 | K24: =ROUND(E24*J24,2) -> 0 | L24: 15 | M24: =G24*(1+L24/100) -> 0 | N24: 0 | O24: =ROUND(E24*N24,2) -> 0 | P24: 0 | Q24: =ROUND(E24*P24,2) -> 0 | S24: RTS 17/ I | T24: Indiv | U24: 0.852 | V24: =ROUND(E24*U24,2) -> 6.64 | AG24: POL1_9
C25: přesun hmot pro budovy občanské výstavby (JKSO 801), budovy pro bydlení (JKSO 803) budovy pro výrobu a služby (JKSO 812) s nosnou svislou konstrukcí zděnou z cihel nebo tvárnic nebo kovovou | AG25: SPI | BA25: =C25 -> přesun hmot pro budovy občanské výstavby (JKSO 801), budovy pro bydlení (JKSO 803) budovy pro výrobu a služby (JKSO 812) s nosnou svislou konstrukcí zděnou z cihel nebo tvárnic nebo kovovou
A26: Díl: | B26: 2 | C26: Základy a zvláštní zakládání | G26: =SUMIF(AG27:AG36,"<>NOR",G27:G36) -> 0 | I26: =SUM(I27:I36) -> 0 | K26: =SUM(K27:K36) -> 0 | M26: =SUM(M27:M36) -> 0 | O26: =SUM(O27:O36) -> 7.8 | Q26: =SUM(Q27:Q36) -> 0 | V26: =SUM(V27:V36) -> 26.41 | AG26: DIL
A27: 6 | B27: 271571112R00 | C27: Polštář základu ze štěrkopísku netříděného | D27: m3 | E27: 0.668 | G27: =ROUND(E27*F27,2) -> 0 | I27: =ROUND(E27*H27,2) -> 0 | K27: =ROUND(E27*J27,2) -> 0 | L27: 15 | M27: =G27*(1+L27/100) -> 0 | N27: 1.93971 | O27: =ROUND(E27*N27,2) -> 1.3 | P27: 0 | Q27: =ROUND(E27*P27,2) -> 0 | S27: RTS 17/ I | T27: Indiv | U27: 0.965 | V27: =ROUND(E27*U27,2) -> 0.64 | AG27: POL1_9
A28: 7 | B28: 275321311R00 | C28: Beton základových patek železový třídy C 16/20 | D28: m3 | E28: 2.268 | G28: =ROUND(E28*F28,2) -> 0 | I28: =ROUND(E28*H28,2) -> 0 | K28: =ROUND(E28*J28,2) -> 0 | L28: 15 | M28: =G28*(1+L28/100) -> 0 | N28: 2.525 | O28: =ROUND(E28*N28,2) -> 5.73 | P28: 0 | Q28: =ROUND(E28*P28,2) -> 0 | S28: RTS 17/ I | T28: Indiv | U28: 0.48 | V28: =ROUND(E28*U28,2) -> 1.09 | AG28: POL1_9
C29: bez dodávky a uložení výztuže | AG29: SPI
A30: 8 | B30: 275351215R00 | C30: Bednění stěn základových patek zřízení | D30: m2 | E30: 11.7936 | G30: =ROUND(E30*F30,2) -> 0 | I30: =ROUND(E30*H30,2) -> 0 | K30: =ROUND(E30*J30,2) -> 0 | L30: 15 | M30: =G30*(1+L30/100) -> 0 | N30: 0.0392 | O30: =ROUND(E30*N30,2) -> 0.46 | P30: 0 | Q30: =ROUND(E30*P30,2) -> 0 | S30: RTS 17/ I | T30: Indiv | U30: 1.05 | V30: =ROUND(E30*U30,2) -> 12.38 | AG30: POL1_9
C31: bednění svislé nebo šikmé (odkloněné), půdorysně přímé nebo zalomené, stěn základových patek ve volných nebo zapažených jámách, rýhách, šachtách, včetně případných vzpěr, | AG31: SPI | BA31: =C31 -> bednění svislé nebo šikmé (odkloněné), půdorysně přímé nebo zalomené, stěn základových patek ve volných nebo zapažených jámách, rýhách, šachtách, včetně případných vzpěr,
A32: 9 | B32: 275351216R00 | C32: Bednění stěn základových patek odstranění | D32: m2 | E32: 11.7936 | G32: =ROUND(E32*F32,2) -> 0 | I32: =ROUND(E32*H32,2) -> 0 | K32: =ROUND(E32*J32,2) -> 0 | L32: 15 | M32: =G32*(1+L32/100) -> 0 | N32: 0 | O32: =ROUND(E32*N32,2) -> 0 | P32: 0 | Q32: =ROUND(E32*P32,2) -> 0 | S32: RTS 17/ I | T32: Indiv | U32: 0.32 | V32: =ROUND(E32*U32,2) -> 3.77 | AG32: POL1_9
C33: bednění svislé nebo šikmé (odkloněné), půdorysně přímé nebo zalomené, stěn základových patek ve volných nebo zapažených jámách, rýhách, šachtách, včetně případných vzpěr, | AG33: SPI | BA33: =C33 -> bednění svislé nebo šikmé (odkloněné), půdorysně přímé nebo zalomené, stěn základových patek ve volných nebo zapažených jámách, rýhách, šachtách, včetně případných vzpěr,
A34: 10 | B34: 275353131R00 | C34: Bednění kotevních otvorů a prostupů v základových patkách o průřezu přes 0,05 do 0,10 m2, hloubky do 1,00 m | D34: kus | E34: 2 | G34: =ROUND(E34*F34,2) -> 0 | I34: =ROUND(E34*H34,2) -> 0 | K34: =ROUND(E34*J34,2) -> 0 | L34: 15 | M34: =G34*(1+L34/100) -> 0 | N34: 0.01353 | O34: =ROUND(E34*N34,2) -> 0.03 | P34: 0 | Q34: =ROUND(E34*P34,2) -> 0 | S34: RTS 17/ I | T34: Indiv | U34: 1.064 | V34: =ROUND(E34*U34,2) -> 2.13 | AG34: POL1_9
C35: včetně polohového zajištění a odbednění, popřípadě ztraceného bednění z pletiva a podobně. | AG35: SPI
A36: 11 | B36: 275361821R00 | C36: Výztuž základových patek z betonářské oceli 10 505(R) | D36: t | E36: 0.27216 | G36: =ROUND(E36*F36,2) -> 0 | I36: =ROUND(E36*H36,2) -> 0 | K36: =ROUND(E36*J36,2) -> 0 | L36: 15 | M36: =G36*(1+L36/100) -> 0 | N36: 1.02116 | O36: =ROUND(E36*N36,2) -> 0.28 | P36: 0 | Q36: =ROUND(E36*P36,2) -> 0 | S36: RTS 17/ I | T36: Indiv | U36: 23.531 | V36: =ROUND(E36*U36,2) -> 6.4 | AG36: POL1_9
A37: Díl: | B37: 1 | C37: Zemní práce | G37: =SUMIF(AG38:AG48,"<>NOR",G38:G48) -> 0 | I37: =SUM(I38:I48) -> 0 | K37: =SUM(K38:K48) -> 0 | M37: =SUM(M38:M48) -> 0 | O37: =SUM(O38:O48) -> 0 | Q37: =SUM(Q38:Q48) -> 0 | V37: =SUM(V38:V48) -> 0.63 | AG37: DIL
A38: 12 | B38: 131201112R00 | C38: Hloubení nezapažených jam a zářezů do 1000 m3, v hornině 3, hloubení strojně | D38: m3 | E38: 3.84 | G38: =ROUND(E38*F38,2) -> 0 | I38: =ROUND(E38*H38,2) -> 0 | K38: =ROUND(E38*J38,2) -> 0 | L38: 15 | M38: =G38*(1+L38/100) -> 0 | N38: 0 | O38: =ROUND(E38*N38,2) -> 0 | P38: 0 | Q38: =ROUND(E38*P38,2) -> 0 | S38: RTS 17/ I | T38: Indiv | U38: 0.11 | V38: =ROUND(E38*U38,2) -> 0.42 | AG38: POL1_9
C39: kromě zářezů se šikmými stěnami pro podzemní vedení, s urovnáním dna do předepsaného profilu a spádu, s případným nutným přemístěním ve výkopišti a dále buď s přemístěním výkopku na přilehlém terénu na vzdálenost do 3 m od okraje jámy nebo s naložením na dopravní prostředek, | AG39: SPI | BA39: =C39 -> kromě zářezů se šikmými stěnami pro podzemní vedení, s urovnáním dna do předepsaného profilu a spádu, s případným nutným přemístěním ve výkopišti a dále buď s přemístěním výkopku na přilehlém terénu na vzdálenost do 3 m od okraje jámy nebo s naložením na dopravní prostředek,
C40: Převzatá hodnota množství z položky : 3,84 | E40: 3.84 | AG40: VV | AH40: 0
C41: Začátek provozního součtu | AG41: VV
C42: 3,84 | E42: 3.84 | AG42: VV | AH42: 2
...

Sheet SO 04 SO 04 Pol
A1: Položkový soupis prací a dodávek | AG1: #TypZaznamu#
A2: S: | B2: 002_v3 | C2: OBNOVA LESOPARKU HRADISKO A KALVÁRIE - KALVÁRIE | AG2: STA
A3: O: | B3: SO 04 | C3: Altán „Parasol“ | AC3: STA | AG3: OBJ
A4: R: | B4: SO 04 | C4: Altán „Parasol“ | AG4: ROZ
A6: P.č. | B6: Číslo položky | C6: Název položky | D6: MJ | E6: množství | F6: cena / MJ | G6: Celkem | H6: Dodávka | I6: Dodávka celk. | J6: Montáž | K6: Montáž celk. | L6: DPH | M6: cena s DPH | N6: hmotnost / MJ | O6: hmotnost celk.(t) | P6: dem. hmotnost / MJ | Q6: dem. hmotnost celk.(t) | R6: Ceník | S6: Cen. soustava / platnost | T6: Cenová úroveň | U6: Nhod / MJ | V6: Nhod celk. | W6: Dodavatel
A8: Díl: | B8: 1 | C8: Zemní práce | G8: =SUMIF(AG9:AG13,"<>NOR",G9:G13) -> 0 | I8: =SUM(I9:I13) -> 0 | K8: =SUM(K9:K13) -> 0 | M8: =SUM(M9:M13) -> 0 | O8: =SUM(O9:O13) -> 0 | Q8: =SUM(Q9:Q13) -> 0 | V8: =SUM(V9:V13) -> 10 | AG8: DIL
A9: 1 | B9: 121100002RAA | C9: Sejmutí ornice uložení na deponii, zpětný přesun_x000D_ rozprostření v tloušťce 200 mm | D9: m3 | E9: 0.5 | G9: =ROUND(E9*F9,2) -> 0 | I9: =ROUND(E9*H9,2) -> 0 | K9: =ROUND(E9*J9,2) -> 0 | L9: 15 | M9: =G9*(1+L9/100) -> 0 | N9: 0 | O9: =ROUND(E9*N9,2) -> 0 | P9: 0 | Q9: =ROUND(E9*P9,2) -> 0 | S9: RTS 17/ I | T9: Indiv | U9: 1.438 | V9: =ROUND(E9*U9,2) -> 0.72 | AG9: POL2_9
C10: popř. lesní půdy s naložením, vodorovným přemístěním a složením na hromady nebo se zpětným přemístěním a rozprostřením. | AG10: SPI | BA10: =C10 -> popř. lesní půdy s naložením, vodorovným přemístěním a složením na hromady nebo se zpětným přemístěním a rozprostřením.
A11: 2 | B11: 131100010RAC | C11: Hloubení jam nezapažených v hornině 1 ÷ 4, odvoz do 10 000 m, uložení na skládku | D11: m3 | E11: 5 | G11: =ROUND(E11*F11,2) -> 0 | I11: =ROUND(E11*H11,2) -> 0 | K11: =ROUND(E11*J11,2) -> 0 | L11: 15 | M11: =G11*(1+L11/100) -> 0 | N11: 0 | O11: =ROUND(E11*N11,2) -> 0 | P11: 0 | Q11: =ROUND(E11*P11,2) -> 0 | S11: RTS 17/ I | T11: Indiv | U11: 0.32334 | V11: =ROUND(E11*U11,2) -> 1.62 | AG11: POL2_9
A12: 3 | B12: 182300010RA0 | C12: Rozprostření ornice ve svahu nad 1 : 5 a osetí travou při tloušťce 150 mm, dovoz ornice ze vzdálenosti 500 m | D12: m2 | E12: 20 | G12: =ROUND(E12*F12,2) -> 0 | I12: =ROUND(E12*H12,2) -> 0 | K12: =ROUND(E12*J12,2) -> 0 | L12: 15 | M12: =G12*(1+L12/100) -> 0 | N12: 3e-05 | O12: =ROUND(E12*N12,2) -> 0 | P12: 0 | Q12: =ROUND(E12*P12,2) -> 0 | S12: RTS 17/ I | T12: Indiv | U12: 0.38302 | V12: =ROUND(E12*U12,2) -> 7.66 | AG12: POL2_9
C13: vč. urovnání ornice, naložení na skládce a vodorovným přemístěním ornice na místo rozprostření, založení trávníku osetím a dodávky travního semene. | AG13: SPI | BA13: =C13 -> vč. urovnání ornice, naložení na skládce a vodorovným přemístěním ornice na místo rozprostření, založení trávníku osetím a dodávky travního semene.
A14: Díl: | B14: 2 | C14: Základy a zvláštní zakládání | G14: =SUMIF(AG15:AG24,"<>NOR",G15:G24) -> 0 | I14: =SUM(I15:I24) -> 0 | K14: =SUM(K15:K24) -> 0 | M14: =SUM(M15:M24) -> 0 | O14: =SUM(O15:O24) -> 3.86 | Q14: =SUM(Q15:Q24) -> 0 | V14: =SUM(V15:V24) -> 14.24 | AG14: DIL
A15: 4 | B15: 271571112R00 | C15: Polštář základu ze štěrkopísku netříděného | D15: m3 | E15: 0.125 | G15: =ROUND(E15*F15,2) -> 0 | I15: =ROUND(E15*H15,2) -> 0 | K15: =ROUND(E15*J15,2) -> 0 | L15: 15 | M15: =G15*(1+L15/100) -> 0 | N15: 1.93971 | O15: =ROUND(E15*N15,2) -> 0.24 | P15: 0 | Q15: =ROUND(E15*P15,2) -> 0 | S15: RTS 17/ I | T15: Indiv | U15: 0.965 | V15: =ROUND(E15*U15,2) -> 0.12 | AG15: POL1_9
A16: 5 | B16: 275321311R00 | C16: Beton základových patek železový třídy C 16/20 | D16: m3 | E16: 1.25 | G16: =ROUND(E16*F16,2) -> 0 | I16: =ROUND(E16*H16,2) -> 0 | K16: =ROUND(E16*J16,2) -> 0 | L16: 15 | M16: =G16*(1+L16/100) -> 0 | N16: 2.525 | O16: =ROUND(E16*N16,2) -> 3.16 | P16: 0 | Q16: =ROUND(E16*P16,2) -> 0 | S16: RTS 17/ I | T16: Indiv | U16: 0.48 | V16: =ROUND(E16*U16,2) -> 0.6 | AG16: POL1_9
C17: bez dodávky a uložení výztuže | AG17: SPI
A18: 6 | B18: 275351215R00 | C18: Bednění stěn základových patek zřízení | D18: m2 | E18: 4.8 | G18: =ROUND(E18*F18,2) -> 0 | I18: =ROUND(E18*H18,2) -> 0 | K18: =ROUND(E18*J18,2) -> 0 | L18: 15 | M18: =G18*(1+L18/100) -> 0 | N18: 0.0392 | O18: =ROUND(E18*N18,2) -> 0.19 | P18: 0 | Q18: =ROUND(E18*P18,2) -> 0 | S18: RTS 17/ I | T18: Indiv | U18: 1.05 | V18: =ROUND(E18*U18,2) -> 5.04 | AG18: POL1_9
C19: bednění svislé nebo šikmé (odkloněné), půdorysně přímé nebo zalomené, stěn základových patek ve volných nebo zapažených jámách, rýhách, šachtách, včetně případných vzpěr, | AG19: SPI | BA19: =C19 -> bednění svislé nebo šikmé (odkloněné), půdorysně přímé nebo zalomené, stěn základových patek ve volných nebo zapažených jámách, rýhách, šachtách, včetně případných vzpěr,
A20: 7 | B20: 275351216R00 | C20: Bednění stěn základových patek odstranění | D20: m2 | E20: 4.8 | G20: =ROUND(E20*F20,2) -> 0 | I20: =ROUND(E20*H20,2) -> 0 | K20: =ROUND(E20*J20,2) -> 0 | L20: 15 | M20: =G20*(1+L20/100) -> 0 | N20: 0 | O20: =ROUND(E20*N20,2) -> 0 | P20: 0 | Q20: =ROUND(E20*P20,2) -> 0 | S20: RTS 17/ I | T20: Indiv | U20: 0.32 | V20: =ROUND(E20*U20,2) -> 1.54 | AG20: POL1_9
C21: bednění svislé nebo šikmé (odkloněné), půdorysně přímé nebo zalomené, stěn základových patek ve volných nebo zapažených jámách, rýhách, šachtách, včetně případných vzpěr, | AG21: SPI | BA21: =C21 -> bednění svislé nebo šikmé (odkloněné), půdorysně přímé nebo zalomené, stěn základových patek ve volných nebo zapažených jámách, rýhách, šachtách, včetně případných vzpěr,
A22: 8 | B22: 275353131R00 | C22: Bednění kotevních otvorů a prostupů v základových patkách o průřezu přes 0,05 do 0,10 m2, hloubky do 1,00 m | D22: kus | E22: 1 | G22: =ROUND(E22*F22,2) -> 0 | I22: =ROUND(E22*H22,2) -> 0 | K22: =ROUND(E22*J22,2) -> 0 | L22: 15 | M22: =G22*(1+L22/100) -> 0 | N22: 0.01353 | O22: =ROUND(E22*N22,2) -> 0.01 | P22: 0 | Q22: =ROUND(E22*P22,2) -> 0 | S22: RTS 17/ I | T22: Indiv | U22: 1.064 | V22: =ROUND(E22*U22,2) -> 1.06 | AG22: POL1_9
C23: včetně polohového zajištění a odbednění, popřípadě ztraceného bednění z pletiva a podobně. | AG23: SPI
A24: 9 | B24: 275361821R00 | C24: Výztuž základových patek z betonářské oceli 10 505(R) | D24: t | E24: 0.25 | G24: =ROUND(E24*F24,2) -> 0 | I24: =ROUND(E24*H24,2) -> 0 | K24: =ROUND(E24*J24,2) -> 0 | L24: 15 | M24: =G24*(1+L24/100) -> 0 | N24: 1.02116 | O24: =ROUND(E24*N24,2) -> 0.26 | P24: 0 | Q24: =ROUND(E24*P24,2) -> 0 | S24: RTS 17/ I | T24: Indiv | U24: 23.531 | V24: =ROUND(E24*U24,2) -> 5.88 | AG24: POL1_9
A25: Díl: | B25: 63 | C25: Podlahy a podlahové konstrukce | G25: =SUMIF(AG26:AG27,"<>NOR",G26:G27) -> 0 | I25: =SUM(I26:I27) -> 0 | K25: =SUM(K26:K27) -> 0 | M25: =SUM(M26:M27) -> 0 | O25: =SUM(O26:O27) -> 0.32 | Q25: =SUM(Q26:Q27) -> 0 | V25: =SUM(V26:V27) -> 0.32 | AG25: DIL
A26: 10 | B26: 631313411R00 | C26: Mazanina z betonu prostého tl. přes 80 do 120 mm třídy C 8/10 | D26: m3 | E26: 0.125 | G26: =ROUND(E26*F26,2) -> 0 | I26: =ROUND(E26*H26,2) -> 0 | K26: =ROUND(E26*J26,2) -> 0 | L26: 15 | M26: =G26*(1+L26/100) -> 0 | N26: 2.525 | O26: =ROUND(E26*N26,2) -> 0.32 | P26: 0 | Q26: =ROUND(E26*P26,2) -> 0 | S26: RTS 17/ I | T26: Indiv | U26: 2.58 | V26: =ROUND(E26*U26,2) -> 0.32 | AG26: POL1_9
C27: (z kameniva) hlazená dřevěným hladítkem | AG27: SPI
A28: Díl: | B28: 95 | C28: Dokončovací konstrukce na pozemních stavbách | G28: =SUMIF(AG29:AG29,"<>NOR",G29:G29) -> 0 | I28: =SUM(I29:I29) -> 0 | K28: =SUM(K29:K29) -> 0 | M28: =SUM(M29:M29) -> 0 | O28: =SUM(O29:O29) -> 0 | Q28: =SUM(Q29:Q29) -> 0 | V28: =SUM(V29:V29) -> 0.79 | AG28: DIL
A29: 11 | B29: 953981103R00 | C29: Chemické kotvy do betonu, do cihelného zdiva do betonu, hloubky 110 mm, M 12, ampule pro chemickou kotvu | D29: kus | E29: 5 | G29: =ROUND(E29*F29,2) -> 0 | I29: =ROUND(E29*H29,2) -> 0 | K29: =ROUND(E29*J29,2) -> 0 | L29: 15 | M29: =G29*(1+L29/100) -> 0 | N29: 0 | O29: =ROUND(E29*N29,2) -> 0 | P29: 0 | Q29: =ROUND(E29*P29,2) -> 0 | S29: RTS 17/ I | T29: Indiv | U29: 0.158 | V29: =ROUND(E29*U29,2) -> 0.79 | AG29: POL1_9
A30: Díl: | B30: 99 | C30: Staveništní přesun hmot | G30: =SUMIF(AG31:AG32,"<>NOR",G31:G32) -> 0 | I30: =SUM(I31:I32) -> 0 | K30: =SUM(K31:K32) -> 0 | M30: =SUM(M31:M32) -> 0 | O30: =SUM(O31:O32) -> 0 | Q30: =SUM(Q31:Q32) -> 0 | V30: =SUM(V31:V32) -> 1.33 | AG30: DIL
A31: 12 | B31: 998011002R00 | C31: Přesun hmot pro budovy s nosnou konstrukcí zděnou výšky přes 6 do 12 m | D31: t | E31: 4.3332 | G31: =ROUND(E31*F31,2) -> 0 | I31: =ROUND(E31*H31,2) -> 0 | K31: =ROUND(E31*J31,2) -> 0 | L31: 15 | M31: =G31*(1+L31/100) -> 0 | N31: 0 | O31: =ROUND(E31*N31,2) -> 0 | P31: 0 | Q31: =ROUND(E31*P31,2) -> 0 | S31: RTS 17/ I | T31: Indiv | U31: 0.307 | V31: =ROUND(E31*U31,2) -> 1.33 | AG31: POL1_9
C32: přesun hmot pro budovy občanské výstavby (JKSO 801), budovy pro bydlení (JKSO 803) budovy pro výrobu a služby (JKSO 812) s nosnou svislou konstrukcí zděnou z cihel nebo tvárnic nebo kovovou | AG32: SPI | BA32: =C32 -> přesun hmot pro budovy občanské výstavby (JKSO 801), budovy pro bydlení (JKSO 803) budovy pro výrobu a služby (JKSO 812) s nosnou svislou konstrukcí zděnou z cihel nebo tvárnic nebo kovovou
A33: Díl: | B33: 5 | C33: Komunikace | G33: =SUMIF(AG34:AG53,"<>NOR",G34:G53) -> 0 | I33: =SUM(I34:I53) -> 0 | K33: =SUM(K34:K53) -> 0 | M33: =SUM(M34:M53) -> 0 | O33: =SUM(O34:O53) -> 6.53 | Q33: =SUM(Q34:Q53) -> 0 | V33: =SUM(V34:V53) -> 7.97 | AG33: DIL
A34: 13 | B34: 564221111R00 | C34: Podklad nebo podsyp ze štěrkopísku tloušťka po zhutnění 80 mm | D34: m2 | E34: 7.84 | G34: =ROUND(E34*F34,2) -> 0 | I34: =ROUND(E34*H34,2) -> 0 | K34: =ROUND(E34*J34,2) -> 0 | L34: 15 | M34: =G34*(1+L34/100) -> 0 | N34: 0 | O34: =ROUND(E34*N34,2) -> 0 | P34: 0 | Q34: =ROUND(E34*P34,2) -> 0 | S34: RTS 17/ I | T34: Indiv | U34: 0.024 | V34: =ROUND(E34*U34,2) -> 0.19 | AG34: POL1_9
C35: s rozprostřením, vlhčením a zhutněním | AG35: SPI
C36: Převzatá hodnota množství z položky : 7,84 | E36: 7.84 | AG36: VV | AH36: 0
C37: Začátek provozního součtu | AG37: VV
C38: 2,8*2,8 | E38: 7.84 | AG38: VV | AH38: 2
C39: Konec provozního součtu | AG39: VV
A40: 14 | B40: 564851111I10I10 | C40: Podklad ze štěrkodrtě ŠD tl 150 mm | D40: m2 | E40: 7.84 | G40: =ROUND(E40*F40,2) -> 0 | I40: =ROUND(E40*H40,2) -> 0 | K40: =ROUND(E40*J40,2) -> 0 | L40: 15 | M40: =G40*(1+L40/100) -> 0 | N40: 0 | O40: =ROUND(E40*N40,2) -> 0 | P40: 0 | Q40: =ROUND(E40*P40,2) -> 0 | S40: Vlastní | T40: Indiv | U40: 0 | V40: =ROUND(E40*U40,2) -> 0 | AG40: POL1_9
C41: Převzatá hodnota množství z položky : 7,84 | E41: 7.84 | AG41: VV | AH41: 0
C42: Začátek provozního součtu | AG42: VV
...

Sheet SO 05 SO 05 Pol
A1: Položkový soupis prací a dodávek | AG1: #TypZaznamu#
A2: S: | B2: 002_v3 | C2: OBNOVA LESOPARKU HRADISKO A KALVÁRIE - KALVÁRIE | AG2: STA
A3: O: | B3: SO 05 | C3: Vegetační úpravy | AC3: STA | AG3: OBJ
A4: R: | B4: SO 05 | C4: Vegetační úpravy | AG4: ROZ
A6: P.č. | B6: Číslo položky | C6: Název položky | D6: MJ | E6: množství | F6: cena / MJ | G6: Celkem | H6: Dodávka | I6: Dodávka celk. | J6: Montáž | K6: Montáž celk. | L6: DPH | M6: cena s DPH | N6: hmotnost / MJ | O6: hmotnost celk.(t) | P6: dem. hmotnost / MJ | Q6: dem. hmotnost celk.(t) | R6: Ceník | S6: Cen. soustava / platnost | T6: Cenová úroveň | U6: Nhod / MJ | V6: Nhod celk. | W6: Dodavatel
A8: Díl: | B8: 11 | C8: Přípravné a přidružené práce | G8: =SUMIF(AG9:AG9,"<>NOR",G9:G9) -> 0 | I8: =SUM(I9:I9) -> 0 | K8: =SUM(K9:K9) -> 0 | M8: =SUM(M9:M9) -> 0 | O8: =SUM(O9:O9) -> 0 | Q8: =SUM(Q9:Q9) -> 0 | V8: =SUM(V9:V9) -> 0 | AG8: DIL
