Workbook
Name CelkemObjekty: Stavba!$F$32
Name CisloStavby: Stavba!$D$5
Name dadresa: Stavba!$D$8
Name DIČ: Stavba!$K$8
Name dmisto: Stavba!#REF!
Name Dodavka: '01 01 Rek'!$G$31
Name dpsc: Stavba!$C$9
Name HSV: '01 01 Rek'!$E$31
Name IČO: Stavba!$K$7
Name Mont: '01 01 Rek'!$H$31
Name NazevObjektu: Stavba!$C$29
Name NazevStavby: Stavba!$E$5
Name Objednatel: Stavba!$D$11
Name Objekt: Stavba!$B$29
Name odic: Stavba!$K$12
Name oico: Stavba!$K$11
Name omisto: Stavba!$D$13
Name onazev: Stavba!$D$12
Name opsc: Stavba!$C$13
Name PSV: '01 01 Rek'!$F$31
Name SazbaDPH1: Stavba!$D$19
Name SazbaDPH2: Stavba!$D$21
Name SoucetDilu: Stavba!$F$57:$J$57
Name StavbaCelkem: Stavba!$H$32
Name Zhotovitel: Stavba!$D$7

Sheet Stavba
C2: Položkový rozpočet stavby | H2: Datum:
C5: Stavba : | E5: Areál ÚP Bučovice - demolice staveb
C7: Objednatel : | D7: město Bučovice | H7: IČO : | I7: 291676
D8: Jiráskova 502 | H8: DIČ : | I8: CZ00291676
D9: 685 01 Bučovice
C11: Zhotovitel : | H11: IČO :
H12: DIČ :
C14: Za zhotovitele : | H14: Za objednatele :
C16: _______________ | H16: _______________
J18: Rozpočtové náklady
B19: Základ pro DPH | D19: 15 | E19: % | I19: =ROUND(G32,0) -> 0
B20: DPH | D20: =SazbaDPH1 -> 15 | E20: % | I20: =ROUND(I19*D20/100,0) -> 0
B21: Základ pro DPH | D21: 21 | E21: % | I21: =ROUND(H32,0) -> 0
B22: DPH | D22: =SazbaDPH2 -> 21 | E22: % | I22: =ROUND(I21*D21/100,0) -> 0
B23: Cena celkem za stavbu | I23: =SUM(I19:I22) -> 0
B27: Rekapitulace stavebních objektů a provozních souborů
B29: Číslo a název objektu / provozního souboru | F29: Cena celkem | G29: =CONCATENATE("Základ DPH ",SazbaDPH1," %") -> Základ DPH 15 % | H29: =CONCATENATE("Základ DPH ",SazbaDPH2," %") -> Základ DPH 21 % | I29: DPH celkem | J29: %
B30: 01 | C30: Areál ÚP Bučovice - demolice staveb | F30: =G30+H30+I30 -> 0 | G30: 0 | H30: ='01 01 KL'!G30 -> 0 | I30: =(G30*SazbaDPH1)/100+(H30*SazbaDPH2)/100 -> 0 | J30: =IF(CelkemObjekty=0,"",F30/CelkemObjekty*100)
B31: 02 | C31: Odstranění komunikačních ploch | F31: =G31+H31+I31 -> 0 | G31: 0 | H31: ='02 01 KL'!G30 -> 0 | I31: =(G31*SazbaDPH1)/100+(H31*SazbaDPH2)/100 -> 0 | J31: =IF(CelkemObjekty=0,"",F31/CelkemObjekty*100)
B32: Celkem za stavbu | F32: =SUM(F30:F31) -> 0 | G32: =SUM(G30:G31) -> 0 | H32: =SUM(H30:H31) -> 0 | I32: =SUM(I30:I31) -> 0 | J32: =IF(CelkemObjekty=0,"",F32/CelkemObjekty*100)
B36: Rekapitulace stavebních rozpočtů
B38: Číslo objektu | C38: Číslo a název rozpočtu | F38: Cena celkem | G38: =CONCATENATE("Základ DPH ",SazbaDPH1," %") -> Základ DPH 15 % | H38: =CONCATENATE("Základ DPH ",SazbaDPH2," %") -> Základ DPH 21 % | I38: DPH celkem | J38: %
B39: 01 | C39: 01 Demolice objektů | F39: =G39+H39+I39 -> 0 | G39: 0 | H39: ='01 01 KL'!G30 -> 0 | I39: =(G39*SazbaDPH1)/100+(H39*SazbaDPH2)/100 -> 0 | J39: =IF(CelkemObjekty=0,"",F39/CelkemObjekty*100)
B40: 02 | C40: 01 Demolice | F40: =G40+H40+I40 -> 0 | G40: 0 | H40: ='02 01 KL'!G30 -> 0 | I40: =(G40*SazbaDPH1)/100+(H40*SazbaDPH2)/100 -> 0 | J40: =IF(CelkemObjekty=0,"",F40/CelkemObjekty*100)
B41: Celkem za stavbu | F41: =SUM(F39:F40) -> 0 | G41: =SUM(G39:G40) -> 0 | H41: =SUM(H39:H40) -> 0 | I41: =SUM(I39:I40) -> 0 | J41: =IF(CelkemObjekty=0,"",F41/CelkemObjekty*100)
B46: Rekapitulace stavebních dílů
B48: Číslo a název dílu | E48: % | F48: HSV | G48: PSV | H48: Dodávka | I48: Montáž | J48: HZS
B49: 0 | C49: Přípravné a pomocné práce | E49: =IF(SUM(SoucetDilu)=0,"",SUM(F49:J49)/SUM(SoucetDilu)*100) | F49: ='01 01 Rek'!E7 -> 0 | G49: 0 | H49: 0 | I49: 0 | J49: 0
B50: 1 | C50: Zemní práce | E50: =IF(SUM(SoucetDilu)=0,"",SUM(F50:J50)/SUM(SoucetDilu)*100) | F50: ='01 01 Rek'!E8 -> 0 | G50: 0 | H50: 0 | I50: 0 | J50: 0
B51: 18 | C51: Povrchové úpravy terénu | E51: =IF(SUM(SoucetDilu)=0,"",SUM(F51:J51)/SUM(SoucetDilu)*100) | F51: ='01 01 Rek'!E9+'02 01 Rek'!E7 -> 0 | G51: 0 | H51: 0 | I51: 0 | J51: 0
B52: 46 | C52: Zpevněné plochy | E52: =IF(SUM(SoucetDilu)=0,"",SUM(F52:J52)/SUM(SoucetDilu)*100) | F52: ='02 01 Rek'!E8 -> 0 | G52: 0 | H52: 0 | I52: 0 | J52: 0
B53: 767 | C53: Konstrukce zámečnické | E53: =IF(SUM(SoucetDilu)=0,"",SUM(F53:J53)/SUM(SoucetDilu)*100) | F53: 0 | G53: ='01 01 Rek'!F11 -> 0 | H53: 0 | I53: 0 | J53: 0
B54: 799 | C54: Ostatní | E54: =IF(SUM(SoucetDilu)=0,"",SUM(F54:J54)/SUM(SoucetDilu)*100) | F54: 0 | G54: ='01 01 Rek'!F12 -> 0 | H54: 0 | I54: 0 | J54: 0
B55: 98 | C55: Demolice | E55: =IF(SUM(SoucetDilu)=0,"",SUM(F55:J55)/SUM(SoucetDilu)*100) | F55: ='01 01 Rek'!E10 -> 0 | G55: 0 | H55: 0 | I55: 0 | J55: 0
B56: D96 | C56: Přesuny suti a vybouraných hmot | E56: =IF(SUM(SoucetDilu)=0,"",SUM(F56:J56)/SUM(SoucetDilu)*100) | F56: ='01 01 Rek'!E13+'02 01 Rek'!E9 -> 0 | G56: 0 | H56: 0 | I56: 0 | J56: 0
B57: Celkem za stavbu | E57: =IF(SUM(SoucetDilu)=0,"",SUM(F57:J57)/SUM(SoucetDilu)*100) | F57: =SUM(F49:F56) -> 0 | G57: =SUM(G49:G56) -> 0 | H57: =SUM(H49:H56) -> 0 | I57: =SUM(I49:I56) -> 0 | J57: =SUM(J49:J56) -> 0
B64: Rekapitulace vedlejších rozpočtových nákladů
B66: Název vedlejšího nákladu | H66: Cena celkem
B67: Ztížené výrobní podmínky | H67: 0
B68: Oborová přirážka | H68: 0
B69: Přesun stavebních kapacit | H69: 0
B70: Mimostaveništní doprava | H70: 0
B71: Zařízení staveniště | H71: 0
B72: Provoz investora | H72: 0
B73: Kompletační činnost (IČD) | H73: 0
B74: Rezerva rozpočtu | H74: 0
B75: VRN CELKEM | H75: 0
B76: Celkem za stavbu | H76: =SUM(H67:H75) -> 0

Sheet 01 01 KL
A1: POLOŽKOVÝ ROZPOČET
A2: Rozpočet | C2: 01 | D2: Demolice objektů | F2: JKSO
A4: Objekt | F4: SKP
A5: 01 | C5: Areál ÚP Bučovice - demolice staveb | F5: Měrná jednotka
A6: Stavba | F6: Počet jednotek | G6: 0
A7: 190004/2 | C7: Areál ÚP Bučovice - demolice staveb | F7: Náklady na m.j. | G7: =IF(G6=0,,ROUND((G30+G32)/G6,1)) -> 0
A8: Projektant | F8: Typ rozpočtu
A9: Zpracovatel projektu
A10: Objednatel
A11: Dodavatel | F11: Zakázkové číslo
A12: Rozpočtoval | F12: Počet listů
A13: ROZPOČTOVÉ NÁKLADY
A14: Základní rozpočtové náklady | D14: Ostatní rozpočtové náklady
B15: HSV celkem | C15: ='01 01 Rek'!E14 -> 0 | D15: ='01 01 Rek'!A19 -> Ztížené výrobní podmínky | G15: ='01 01 Rek'!I19 -> 0
A16: Z | B16: PSV celkem | C16: ='01 01 Rek'!F14 -> 0 | D16: ='01 01 Rek'!A20 -> Oborová přirážka | G16: ='01 01 Rek'!I20 -> 0
A17: R | B17: M práce celkem | C17: ='01 01 Rek'!H14 -> 0 | D17: ='01 01 Rek'!A21 -> Přesun stavebních kapacit | G17: ='01 01 Rek'!I21 -> 0
A18: N | B18: M dodávky celkem | C18: ='01 01 Rek'!G14 -> 0 | D18: ='01 01 Rek'!A22 -> Mimostaveništní doprava | G18: ='01 01 Rek'!I22 -> 0
A19: ZRN celkem | C19: =SUM(C15:C18) -> 0 | D19: ='01 01 Rek'!A23 -> Zařízení staveniště | G19: ='01 01 Rek'!I23 -> 0
D20: ='01 01 Rek'!A24 -> Provoz investora | G20: ='01 01 Rek'!I24 -> 0
A21: HZS | C21: ='01 01 Rek'!I14 -> 0 | D21: ='01 01 Rek'!A25 -> Kompletační činnost (IČD) | G21: ='01 01 Rek'!I25 -> 0
A22: ZRN+HZS | C22: =C19+C21 -> 0 | D22: Ostatní náklady neuvedené | G22: =G23-SUM(G15:G21) -> 0
A23: ZRN+ost.náklady+HZS | C23: =C22+G23 -> 0 | D23: Ostatní náklady celkem | G23: ='01 01 Rek'!H28 -> 0
A24: Vypracoval | D24: Za zhotovitele | F24: Za objednatele
A25: Jméno : | D25: Jméno : | F25: Jméno :
A26: Datum : | D26: Datum : | F26: Datum :
A28: Podpis : | D28: Podpis: | F28: Podpis:
A30: Základ pro DPH | C30: 21 | D30: % | G30: =C23-G32 -> 0
A31: DPH | C31: =C30 -> 21 | D31: % | G31: =ROUND(PRODUCT(G30,C31/100),0) -> 0
A32: Základ pro DPH | C32: 0 | D32: % | G32: 0
A33: DPH | C33: =C32 -> 0 | D33: % | G33: =ROUND(PRODUCT(G32,C33/100),0) -> 0
A34: CENA ZA OBJEKT CELKEM | F34: =ROUND(SUM(G30:G33),0) -> 0
A36: Poznámka :

Sheet 01 01 Rek
A1: Stavba : | C1: 190004/2 Areál ÚP Bučovice - demolice staveb | G1: Rozpočet : | H1: 01
A2: Objekt : | C2: 01 Areál ÚP Bučovice - demolice staveb | G2: Demolice objektů
A4: REKAPITULACE STAVEBNÍCH DÍLŮ
B6: Stavební díl | E6: HSV | F6: PSV | G6: Dodávka | H6: Montáž | I6: HZS
A7: ='01 01 Pol'!B7 -> 0 | B7: ='01 01 Pol'!C7 -> Přípravné a pomocné práce | E7: ='01 01 Pol'!BA10 -> 0 | F7: ='01 01 Pol'!BB10 -> 0 | G7: ='01 01 Pol'!BC10 -> 0 | H7: ='01 01 Pol'!BD10 -> 0 | I7: ='01 01 Pol'!BE10 -> 0
A8: ='01 01 Pol'!B11 -> 1 | B8: ='01 01 Pol'!C11 -> Zemní práce | E8: ='01 01 Pol'!BA19 -> 0 | F8: ='01 01 Pol'!BB19 -> 0 | G8: ='01 01 Pol'!BC19 -> 0 | H8: ='01 01 Pol'!BD19 -> 0 | I8: ='01 01 Pol'!BE19 -> 0
A9: ='01 01 Pol'!B20 -> 18 | B9: ='01 01 Pol'!C20 -> Povrchové úpravy terénu | E9: ='01 01 Pol'!BA23 -> 0 | F9: ='01 01 Pol'!BB23 -> 0 | G9: ='01 01 Pol'!BC23 -> 0 | H9: ='01 01 Pol'!BD23 -> 0 | I9: ='01 01 Pol'!BE23 -> 0
A10: ='01 01 Pol'!B24 -> 98 | B10: ='01 01 Pol'!C24 -> Demolice | E10: ='01 01 Pol'!BA69 -> 0 | F10: ='01 01 Pol'!BB69 -> 0 | G10: ='01 01 Pol'!BC69 -> 0 | H10: ='01 01 Pol'!BD69 -> 0 | I10: ='01 01 Pol'!BE69 -> 0
A11: ='01 01 Pol'!B70 -> 767 | B11: ='01 01 Pol'!C70 -> Konstrukce zámečnické | E11: ='01 01 Pol'!BA80 -> 0 | F11: ='01 01 Pol'!BB80 -> 0 | G11: ='01 01 Pol'!BC80 -> 0 | H11: ='01 01 Pol'!BD80 -> 0 | I11: ='01 01 Pol'!BE80 -> 0
A12: ='01 01 Pol'!B81 -> 799 | B12: ='01 01 Pol'!C81 -> Ostatní | E12: ='01 01 Pol'!BA83 -> 0 | F12: ='01 01 Pol'!BB83 -> 0 | G12: ='01 01 Pol'!BC83 -> 0 | H12: ='01 01 Pol'!BD83 -> 0 | I12: ='01 01 Pol'!BE83 -> 0
A13: ='01 01 Pol'!B84 -> D96 | B13: ='01 01 Pol'!C84 -> Přesuny suti a vybouraných hmot | E13: ='01 01 Pol'!BA127 -> 0 | F13: ='01 01 Pol'!BB127 -> 0 | G13: ='01 01 Pol'!BC127 -> 0 | H13: ='01 01 Pol'!BD127 -> 0 | I13: ='01 01 Pol'!BE127 -> 0
B14: CELKEM OBJEKT | E14: =SUM(E7:E13) -> 0 | F14: =SUM(F7:F13) -> 0 | G14: =SUM(G7:G13) -> 0 | H14: =SUM(H7:H13) -> 0 | I14: =SUM(I7:I13) -> 0
A16: VEDLEJŠÍ ROZPOČTOVÉ NÁKLADY
A18: Název VRN | E18: Kč | F18: % | G18: Základna | I18: Kč
A19: Ztížené výrobní podmínky | E19: 0 | F19: 0 | G19: =SUM(E14:H14) -> 0 | I19: =E19+F19*G19/100 -> 0 | BA19: 0
A20: Oborová přirážka | E20: 0 | F20: 0 | G20: =SUM(E14:H14) -> 0 | I20: =E20+F20*G20/100 -> 0 | BA20: 0
A21: Přesun stavebních kapacit | E21: 0 | F21: 0 | G21: =SUM(E14:H14) -> 0 | I21: =E21+F21*G21/100 -> 0 | BA21: 0
A22: Mimostaveništní doprava | E22: 0 | F22: 0 | G22: =SUM(E14:H14) -> 0 | I22: =E22+F22*G22/100 -> 0 | BA22: 0
A23: Zařízení staveniště | E23: 0 | F23: 0 | G23: =SUM(E14:H14) -> 0 | I23: =E23+F23*G23/100 -> 0 | BA23: 1
A24: Provoz investora | E24: 0 | F24: 0 | G24: =SUM(E14:H14) -> 0 | I24: =E24+F24*G24/100 -> 0 | BA24: 1
A25: Kompletační činnost (IČD) | E25: 0 | F25: 0 | G25: =SUM(E14:H14) -> 0 | I25: =E25+F25*G25/100 -> 0 | BA25: 2
A26: Rezerva rozpočtu | E26: 0 | F26: 0 | G26: =SUM(E14:H14) -> 0 | I26: =E26+F26*G26/100 -> 0 | BA26: 2
A27: VRN CELKEM | E27: 0 | F27: 0 | G27: =SUM(E14:H14) -> 0 | I27: =E27+F27*G27/100 -> 0 | BA27: 0
B28: CELKEM VRN | H28: =SUM(I19:I27) -> 0

Sheet 01 01 Pol
A1: Položkový rozpočet
A3: Stavba : | C3: 190004/2 Areál ÚP Bučovice - demolice staveb | E3: Rozpočet: | F3: ='01 01 Rek'!H1 -> 01
A4: Objekt : | C4: 01 Areál ÚP Bučovice - demolice staveb | E4: ='01 01 Rek'!G2 -> Demolice objektů
A6: P.č. | B6: Číslo položky | C6: Název položky | D6: MJ | E6: množství | F6: cena / MJ | G6: celkem (Kč) | H6: Jednotková hmotnost | I6: Celková hmotnost | J6: Jednotková dem.hmot. | K6: Celková dem.hmot.
A7: Díl: | B7: 0 | C7: Přípravné a pomocné práce | O7: 1
A8: 1 | B8: R 999-01 | C8: Vyklízení objektu před demolicí | D8: kpl | E8: 1 | G8: =E8*F8 -> 0 | H8: 0 | I8: =E8*H8 -> 0 | K8: =E8*J8 -> 0 | O8: 2 | AA8: 12 | AB8: 0 | AC8: 1 | AZ8: 1 | BA8: =IF(AZ8=1,G8,0) -> 0 | BB8: =IF(AZ8=2,G8,0) -> 0 | BC8: =IF(AZ8=3,G8,0) -> 0 | BD8: =IF(AZ8=4,G8,0) -> 0 | BE8: =IF(AZ8=5,G8,0) -> 0 | CA8: 12 | CB8: 0
A9: 2 | B9: R 999-02 | C9: Odčerpání vody v jímce | D9: kpl | E9: 1 | G9: =E9*F9 -> 0 | H9: 4e-05 | I9: =E9*H9 -> 4e-05 | K9: =E9*J9 -> 0 | O9: 2 | AA9: 12 | AB9: 0 | AC9: 21 | AZ9: 1 | BA9: =IF(AZ9=1,G9,0) -> 0 | BB9: =IF(AZ9=2,G9,0) -> 0 | BC9: =IF(AZ9=3,G9,0) -> 0 | BD9: =IF(AZ9=4,G9,0) -> 0 | BE9: =IF(AZ9=5,G9,0) -> 0 | CA9: 12 | CB9: 0
B10: Celkem za | C10: 0 Přípravné a pomocné práce | G10: =SUM(G7:G9) -> 0 | I10: =SUM(I7:I9) -> 4e-05 | K10: =SUM(K7:K9) -> 0 | O10: 4 | BA10: =SUM(BA7:BA9) -> 0 | BB10: =SUM(BB7:BB9) -> 0 | BC10: =SUM(BC7:BC9) -> 0 | BD10: =SUM(BD7:BD9) -> 0 | BE10: =SUM(BE7:BE9) -> 0
A11: Díl: | B11: 1 | C11: Zemní práce | O11: 1
A12: 3 | B12: 122201103 | C12: Odkopávky nezapažené v hor. 3 do 10000 m3 | D12: m3 | E12: 1058.5 | G12: =E12*F12 -> 0 | H12: 0 | I12: =E12*H12 -> 0 | J12: -2 | K12: =E12*J12 -> -2117 | O12: 2 | AA12: 1 | AB12: 1 | AC12: 1 | AZ12: 1 | BA12: =IF(AZ12=1,G12,0) -> 0 | BB12: =IF(AZ12=2,G12,0) -> 0 | BC12: =IF(AZ12=3,G12,0) -> 0 | BD12: =IF(AZ12=4,G12,0) -> 0 | BE12: =IF(AZ12=5,G12,0) -> 0 | CA12: 1 | CB12: 1
A13: 4 | B13: 174101101 | C13: Zásyp jam, rýh, šachet se zhutněním | D13: m3 | E13: 6766.6 | G13: =E13*F13 -> 0 | H13: 0 | I13: =E13*H13 -> 0 | J13: 0 | K13: =E13*J13 -> 0 | O13: 2 | AA13: 1 | AB13: 1 | AC13: 1 | AZ13: 1 | BA13: =IF(AZ13=1,G13,0) -> 0 | BB13: =IF(AZ13=2,G13,0) -> 0 | BC13: =IF(AZ13=3,G13,0) -> 0 | BD13: =IF(AZ13=4,G13,0) -> 0 | BE13: =IF(AZ13=5,G13,0) -> 0 | CA13: 1 | CB13: 1
C14: Obj. SO09:37*10*4 | E14: 1480 | M14: Obj. SO09:37*10*4
C15: Obj. SO05:46*14*2,4 | E15: 1545.6 | M15: Obj. SO05:46*14*2,4
C16: Obj. SO11:24*16*4 | E16: 1536 | M16: Obj. SO11:24*16*4
C17: Obj. SO10:33*10*4 | E17: 1320 | M17: Obj. SO10:33*10*4
C18: Obj. SO12:885 | E18: 885 | M18: Obj. SO12:885
B19: Celkem za | C19: 1 Zemní práce | G19: =SUM(G11:G18) -> 0 | I19: =SUM(I11:I18) -> 0 | K19: =SUM(K11:K18) -> -2117 | O19: 4 | BA19: =SUM(BA11:BA18) -> 0 | BB19: =SUM(BB11:BB18) -> 0 | BC19: =SUM(BC11:BC18) -> 0 | BD19: =SUM(BD11:BD18) -> 0 | BE19: =SUM(BE11:BE18) -> 0
A20: Díl: | B20: 18 | C20: Povrchové úpravy terénu | O20: 1
A21: 5 | B21: 181101101 | C21: Úprava pláně v zářezech v hor. 1-4, bez zhutnění | D21: m2 | E21: 13819 | G21: =E21*F21 -> 0 | H21: 0 | I21: =E21*H21 -> 0 | J21: 0 | K21: =E21*J21 -> 0 | O21: 2 | AA21: 1 | AB21: 1 | AC21: 1 | AZ21: 1 | BA21: =IF(AZ21=1,G21,0) -> 0 | BB21: =IF(AZ21=2,G21,0) -> 0 | BC21: =IF(AZ21=3,G21,0) -> 0 | BD21: =IF(AZ21=4,G21,0) -> 0 | BE21: =IF(AZ21=5,G21,0) -> 0 | CA21: 1 | CB21: 1
C22: ZP bouraných obj.:197+620+183+755+630+602+576+586+370+254+384+4558+3382+438+284 | E22: 13819 | M22: ZP bouraných obj.:197+620+183+755+630+602+576+586+370+254+384+4558+3382+438+284
B23: Celkem za | C23: 18 Povrchové úpravy terénu | G23: =SUM(G20:G22) -> 0 | I23: =SUM(I20:I22) -> 0 | K23: =SUM(K20:K22) -> 0 | O23: 4 | BA23: =SUM(BA20:BA22) -> 0 | BB23: =SUM(BB20:BB22) -> 0 | BC23: =SUM(BC20:BC22) -> 0 | BD23: =SUM(BD20:BD22) -> 0 | BE23: =SUM(BE20:BE22) -> 0
A24: Díl: | B24: 98 | C24: Demolice | O24: 1
A25: 6 | B25: 130901121 | C25: Bourání konstrukcí z betonu prostého ve vykopávk. bagrem s kladivem | D25: m3 | E25: 1247.5264 | G25: =E25*F25 -> 0 | H25: 0 | I25: =E25*H25 -> 0 | J25: -2.2 | K25: =E25*J25 -> -2744.5581 | O25: 2 | AA25: 1 | AB25: 1 | AC25: 1 | AZ25: 1 | BA25: =IF(AZ25=1,G25,0) -> 0 | BB25: =IF(AZ25=2,G25,0) -> 0 | BC25: =IF(AZ25=3,G25,0) -> 0 | BD25: =IF(AZ25=4,G25,0) -> 0 | BE25: =IF(AZ25=5,G25,0) -> 0 | CA25: 1 | CB25: 1
C26: Obj. SO05:43,12*3*2,4*0,4 | E26: 124.1856 | M26: Obj. SO05:43,12*3*2,4*0,4
C27: 14,11*7*2,4*0,4 | E27: 94.8192 | M27: 14,11*7*2,4*0,4
C28: 43,12*13,35*0,4*2 | E28: 460.5216 | M28: 43,12*13,35*0,4*2
C29: základy mimo objekty:568 | E29: 568 | M29: základy mimo objekty:568
A30: 7 | B30: 130901123 | C30: Bourání konstrukcí ze železobetonu ve vykopávkách bagrem s kladivem | D30: m3 | E30: 1206 | G30: =E30*F30 -> 0 | H30: 0 | I30: =E30*H30 -> 0 | J30: -2.4 | K30: =E30*J30 -> -2894.4 | O30: 2 | AA30: 1 | AB30: 1 | AC30: 1 | AZ30: 1 | BA30: =IF(AZ30=1,G30,0) -> 0 | BB30: =IF(AZ30=2,G30,0) -> 0 | BC30: =IF(AZ30=3,G30,0) -> 0 | BD30: =IF(AZ30=4,G30,0) -> 0 | BE30: =IF(AZ30=5,G30,0) -> 0 | CA30: 1 | CB30: 1
C31: obj. SO09 Vodní nádrž 1:447 | E31: 447 | M31: obj. SO09 Vodní nádrž 1:447
C32: obj. SO10 Nádrž vč. jímek:337 | E32: 337 | M32: obj. SO10 Nádrž vč. jímek:337
C33: obj. SO11 Vodní nádrž 2:422 | E33: 422 | M33: obj. SO11 Vodní nádrž 2:422
A34: 8 | B34: 765321810 | C34: Demontáž azbestocement. prvků | D34: m2 | E34: 979 | G34: =E34*F34 -> 0 | H34: 0 | I34: =E34*H34 -> 0 | J34: -0.014 | K34: =E34*J34 -> -13.706 | O34: 2 | AA34: 1 | AB34: 7 | AC34: 7 | AZ34: 1 | BA34: =IF(AZ34=1,G34,0) -> 0 | BB34: =IF(AZ34=2,G34,0) -> 0 | BC34: =IF(AZ34=3,G34,0) -> 0 | BD34: =IF(AZ34=4,G34,0) -> 0 | BE34: =IF(AZ34=5,G34,0) -> 0 | CA34: 1 | CB34: 7
C35: Obj.SO03:174 | E35: 174 | M35: Obj.SO03:174
C36: Obj.SO08:20 | E36: 20 | M36: Obj.SO08:20
C37: Obj.SO12:455 | E37: 455 | M37: Obj.SO12:455
C38: Obj.SO13:330 | E38: 330 | M38: Obj.SO13:330
A39: 9 | B39: 767134802 | C39: Demontáž oplechování stěn plechy šroubovanými | D39: m2 | E39: 628 | G39: =E39*F39 -> 0 | H39: 0 | I39: =E39*H39 -> 0 | J39: -0.009 | K39: =E39*J39 -> -5.652 | O39: 2 | AA39: 1 | AB39: 7 | AC39: 7 | AZ39: 1 | BA39: =IF(AZ39=1,G39,0) -> 0 | BB39: =IF(AZ39=2,G39,0) -> 0 | BC39: =IF(AZ39=3,G39,0) -> 0 | BD39: =IF(AZ39=4,G39,0) -> 0 | BE39: =IF(AZ39=5,G39,0) -> 0 | CA39: 1 | CB39: 7
C40: SO06:628 | E40: 628 | M40: SO06:628
A41: 10 | B41: 962032231 | C41: Bourání zdiva z cihel pálených na MVC | D41: m3 | E41: 36.8 | G41: =E41*F41 -> 0 | H41: 0.00128 | I41: =E41*H41 -> 0.047104 | J41: -1.8 | K41: =E41*J41 -> -66.24 | O41: 2 | AA41: 1 | AB41: 1 | AC41: 1 | AZ41: 1 | BA41: =IF(AZ41=1,G41,0) -> 0 | BB41: =IF(AZ41=2,G41,0) -> 0 | BC41: =IF(AZ41=3,G41,0) -> 0 | BD41: =IF(AZ41=4,G41,0) -> 0 | BE41: =IF(AZ41=5,G41,0) -> 0 | CA41: 1 | CB41: 1
C42: SO06:36,8 | E42: 36.8 | M42: SO06:36,8
A43: 11 | B43: 981011111 | C43: Demolice budov rozebráním, dřevěné lehké | D43: m3 | E43: 71 | G43: =E43*F43 -> 0 | H43: 0.00074 | I43: =E43*H43 -> 0.05254 | J43: -0.039 | K43: =E43*J43 -> -2.769 | O43: 2 | AA43: 1 | AB43: 0 | AC43: 0 | AZ43: 1 | BA43: =IF(AZ43=1,G43,0) -> 0 | BB43: =IF(AZ43=2,G43,0) -> 0 | BC43: =IF(AZ43=3,G43,0) -> 0 | BD43: =IF(AZ43=4,G43,0) -> 0 | BE43: =IF(AZ43=5,G43,0) -> 0 | CA43: 1 | CB43: 0
C44: SO02:71 | E44: 71 | M44: SO02:71
A45: 12 | B45: 981014312 | C45: Demolice budov mechanizací, zdivo, konstr. do 15 % | D45: m3 | E45: 2105 | G45: =E45*F45 -> 0 | H45: 0 | I45: =E45*H45 -> 0 | J45: -0.25 | K45: =E45*J45 -> -526.25 | O45: 2 | AA45: 1 | AB45: 1 | AC45: 1 | AZ45: 1 | BA45: =IF(AZ45=1,G45,0) -> 0 | BB45: =IF(AZ45=2,G45,0) -> 0 | BC45: =IF(AZ45=3,G45,0) -> 0 | BD45: =IF(AZ45=4,G45,0) -> 0 | BE45: =IF(AZ45=5,G45,0) -> 0 | CA45: 1 | CB45: 1
C46: SO02:2105 | E46: 2105 | M46: SO02:2105
A47: 13 | B47: 981014314 | C47: Demolice budov mechanizací, zdivo, konstr. do 25 % | D47: m3 | E47: 13220 | G47: =E47*F47 -> 0 | H47: 0 | I47: =E47*H47 -> 0 | J47: -0.45 | K47: =E47*J47 -> -5949 | O47: 2 | AA47: 1 | AB47: 1 | AC47: 1 | AZ47: 1 | BA47: =IF(AZ47=1,G47,0) -> 0 | BB47: =IF(AZ47=2,G47,0) -> 0 | BC47: =IF(AZ47=3,G47,0) -> 0 | BD47: =IF(AZ47=4,G47,0) -> 0 | BE47: =IF(AZ47=5,G47,0) -> 0 | CA47: 1 | CB47: 1
C48: SO01:852 | E48: 852 | M48: SO01:852
C49: SO03:712 | E49: 712 | M49: SO03:712
C50: SO07:4550 | E50: 4550 | M50: SO07:4550
C51: SO08:2308 | E51: 2308 | M51: SO08:2308
C52: SO13 strojovna:3090 | E52: 3090 | M52: SO13 strojovna:3090
C53: SO14:1708 | E53: 1708 | M53: SO14:1708
A54: 14 | B54: 981133311 | C54: Demolice hal mechanizací, zdivo, konstr. do 10 % | D54: m3 | E54: 93256 | G54: =E54*F54 -> 0 | H54: 0 | I54: =E54*H54 -> 0 | J54: -0.15 | K54: =E54*J54 -> -13988.4 | O54: 2 | AA54: 1 | AB54: 1 | AC54: 1 | AZ54: 1 | BA54: =IF(AZ54=1,G54,0) -> 0 | BB54: =IF(AZ54=2,G54,0) -> 0 | BC54: =IF(AZ54=3,G54,0) -> 0 | BD54: =IF(AZ54=4,G54,0) -> 0 | BE54: =IF(AZ54=5,G54,0) -> 0 | CA54: 1 | CB54: 1
C55: obj. SO12:59937 | E55: 59937 | M55: obj. SO12:59937
C56: obj.SO13:33319 | E56: 33319 | M56: obj.SO13:33319
A57: 15 | B57: 981332111 | C57: Demolice ocelových konstrukcí | D57: t | E57: 8 | G57: =E57*F57 -> 0 | H57: 0 | I57: =E57*H57 -> 0 | J57: -1 | K57: =E57*J57 -> -8 | O57: 2 | AA57: 1 | AB57: 1 | AC57: 1 | AZ57: 1 | BA57: =IF(AZ57=1,G57,0) -> 0 | BB57: =IF(AZ57=2,G57,0) -> 0 | BC57: =IF(AZ57=3,G57,0) -> 0 | BD57: =IF(AZ57=4,G57,0) -> 0 | BE57: =IF(AZ57=5,G57,0) -> 0 | CA57: 1 | CB57: 1
C58: SO 06:8 | E58: 8 | M58: SO 06:8
A59: 16 | B59: 981513113 | C59: Demol konstrukcí beton mechan. | D59: m3 | E59: 4550.35 | G59: =E59*F59 -> 0 | H59: 0 | I59: =E59*H59 -> 0 | J59: -2.38 | K59: =E59*J59 -> -10829.833 | O59: 2 | AA59: 1 | AB59: 1 | AC59: 1 | AZ59: 1 | BA59: =IF(AZ59=1,G59,0) -> 0 | BB59: =IF(AZ59=2,G59,0) -> 0 | BC59: =IF(AZ59=3,G59,0) -> 0 | BD59: =IF(AZ59=4,G59,0) -> 0 | BE59: =IF(AZ59=5,G59,0) -> 0 | CA59: 1 | CB59: 1
C60: Bourání mazanin betonových: | E60: 0 | M60: Bourání mazanin betonových:
C61: Objekty: 57,5+173,8+53,5+105+142,8+81+156,8+1340+703+109,5 | E61: 2922.9 | M61: Objekty: 57,5+173,8+53,5+105+142,8+81+156,8+1340+703+109,5
C62: Bourání základů: | E62: 0 | M62: Bourání základů:
C63: Objekty: 54,9+194,3+52+64,5+55,6+121,25+556+465,6+63,3 | E63: 1627.45 | M63: Objekty: 54,9+194,3+52+64,5+55,6+121,25+556+465,6+63,3
A64: 17 | B64: 981513114 | C64: Demol konstrukcí ŽB mechan. sloupy, kanály klimatizace, nádrže | D64: m3 | E64: 463.36 | G64: =E64*F64 -> 0 | H64: 0 | I64: =E64*H64 -> 0 | J64: -2.41 | K64: =E64*J64 -> -1116.6976 | O64: 2 | AA64: 1 | AB64: 1 | AC64: 1 | AZ64: 1 | BA64: =IF(AZ64=1,G64,0) -> 0 | BB64: =IF(AZ64=2,G64,0) -> 0 | BC64: =IF(AZ64=3,G64,0) -> 0 | BD64: =IF(AZ64=4,G64,0) -> 0 | BE64: =IF(AZ64=5,G64,0) -> 0 | CA64: 1 | CB64: 1
C65: SO12:100*0,4*0,4*13,15 | E65: 210.4 | M65: SO12:100*0,4*0,4*13,15
C66: SO13: | E66: 0 | M66: SO13:
C67: sloupy:0,4*0,4*42*10,5 | E67: 70.56 | M67: sloupy:0,4*0,4*42*10,5
C68: kanaly:152*2*1,2*0,5 | E68: 182.4 | M68: kanaly:152*2*1,2*0,5
B69: Celkem za | C69: 98 Demolice | G69: =SUM(G24:G68) -> 0 | I69: =SUM(I24:I68) -> 0.099644 | K69: =SUM(K24:K68) -> -38145.506 | O69: 4 | BA69: =SUM(BA24:BA68) -> 0 | BB69: =SUM(BB24:BB68) -> 0 | BC69: =SUM(BC24:BC68) -> 0 | BD69: =SUM(BD24:BD68) -> 0 | BE69: =SUM(BE24:BE68) -> 0
A70: Díl: | B70: 767 | C70: Konstrukce zámečnické | O70: 1
A71: 18 | B71: 767920840 | C71: Demontáž vrat plochy do 10 m2 | D71: kus | E71: 34 | G71: =E71*F71 -> 0 | H71: 0 | I71: =E71*H71 -> 0 | J71: -0.285 | K71: =E71*J71 -> -9.69 | O71: 2 | AA71: 1 | AB71: 7 | AC71: 7 | AZ71: 2 | BA71: =IF(AZ71=1,G71,0) -> 0 | BB71: =IF(AZ71=2,G71,0) -> 0 | BC71: =IF(AZ71=3,G71,0) -> 0 | BD71: =IF(AZ71=4,G71,0) -> 0 | BE71: =IF(AZ71=5,G71,0) -> 0 | CA71: 1 | CB71: 7
C72: SO02:10 | E72: 10 | M72: SO02:10
C73: SO03:1 | E73: 1 | M73: SO03:1
C74: SO12:12 | E74: 12 | M74: SO12:12
C75: SO13:8 | E75: 8 | M75: SO13:8
C76: SO14:2 | E76: 2 | M76: SO14:2
C77: SO06:1 | E77: 1 | M77: SO06:1
A78: 19 | B78: 767920860 | C78: Demontáž vrat k plochy do 20 m2 | D78: kus | E78: 2 | G78: =E78*F78 -> 0 | H78: 0 | I78: =E78*H78 -> 0 | J78: -0.4 | K78: =E78*J78 -> -0.8 | O78: 2 | AA78: 1 | AB78: 7 | AC78: 7 | AZ78: 2 | BA78: =IF(AZ78=1,G78,0) -> 0 | BB78: =IF(AZ78=2,G78,0) -> 0 | BC78: =IF(AZ78=3,G78,0) -> 0 | BD78: =IF(AZ78=4,G78,0) -> 0 | BE78: =IF(AZ78=5,G78,0) -> 0 | CA78: 1 | CB78: 7
C79: SO06:2 | E79: 2 | M79: SO06:2
B80: Celkem za | C80: 767 Konstrukce zámečnické | G80: =SUM(G70:G79) -> 0 | I80: =SUM(I70:I79) -> 0 | K80: =SUM(K70:K79) -> -10.49 | O80: 4 | BA80: =SUM(BA70:BA79) -> 0 | BB80: =SUM(BB70:BB79) -> 0 | BC80: =SUM(BC70:BC79) -> 0 | BD80: =SUM(BD70:BD79) -> 0 | BE80: =SUM(BE70:BE79) -> 0
A81: Díl: | B81: 799 | C81: Ostatní | O81: 1
A82: 20 | B82: R 999-03 | C82: Třídění vybouraných hmot - separace HZS | D82: kpl | E82: 1 | G82: =E82*F82 -> 0 | H82: 0 | I82: =E82*H82 -> 0 | K82: =E82*J82 -> 0 | O82: 2 | AA82: 12 | AB82: 0 | AC82: 2 | AZ82: 2 | BA82: =IF(AZ82=1,G82,0) -> 0 | BB82: =IF(AZ82=2,G82,0) -> 0 | BC82: =IF(AZ82=3,G82,0) -> 0 | BD82: =IF(AZ82=4,G82,0) -> 0 | BE82: =IF(AZ82=5,G82,0) -> 0 | CA82: 12 | CB82: 0
B83: Celkem za | C83: 799 Ostatní | G83: =SUM(G81:G82) -> 0 | I83: =SUM(I81:I82) -> 0 | K83: =SUM(K81:K82) -> 0 | O83: 4 | BA83: =SUM(BA81:BA82) -> 0 | BB83: =SUM(BB81:BB82) -> 0 | BC83: =SUM(BC81:BC82) -> 0 | BD83: =SUM(BD81:BD82) -> 0 | BE83: =SUM(BE81:BE82) -> 0
A84: Díl: | B84: D96 | C84: Přesuny suti a vybouraných hmot | O84: 1
A85: 21 | B85: 979083111 | C85: Vodorovné přemístění suti do 100 m recyklace v místě staveniště | D85: t | E85: 35112 | G85: =E85*F85 -> 0 | H85: 0 | I85: =E85*H85 -> 0 | J85: 0 | K85: =E85*J85 -> 0 | O85: 2 | AA85: 1 | AB85: 0 | AC85: 0 | AZ85: 1 | BA85: =IF(AZ85=1,G85,0) -> 0 | BB85: =IF(AZ85=2,G85,0) -> 0 | BC85: =IF(AZ85=3,G85,0) -> 0 | BD85: =IF(AZ85=4,G85,0) -> 0 | BE85: =IF(AZ85=5,G85,0) -> 0 | CA85: 1 | CB85: 0
C86: beton:14896 | E86: 14896 | M86: beton:14896
C87: cihla:15093 | E87: 15093 | M87: cihla:15093
C88: tašky:14 | E88: 14 | M88: tašky:14
C89: suť mimo (N):2992 | E89: 2992 | M89: suť mimo (N):2992
C90: zemina a kamení:2117 | E90: 2117 | M90: zemina a kamení:2117
A91: 22 | B91: 979083117 | C91: Vodorovné přemístění suti na skládku dle návrhu zhotovitele | D91: t | E91: 1732.91 | G91: =E91*F91 -> 0 | H91: 0 | I91: =E91*H91 -> 0 | J91: 0 | K91: =E91*J91 -> 0 | O91: 2 | AA91: 1 | AB91: 3 | AC91: 3 | AZ91: 1 | BA91: =IF(AZ91=1,G91,0) -> 0 | BB91: =IF(AZ91=2,G91,0) -> 0 | BC91: =IF(AZ91=3,G91,0) -> 0 | BD91: =IF(AZ91=4,G91,0) -> 0 | BE91: =IF(AZ91=5,G91,0) -> 0 | CA91: 1 | CB91: 3
C92: Odpady (N): | E92: 0 | M92: Odpady (N):
C93: 170106*, 170301*, 170605*:1021+17,42+22,2 | E93: 1060.62 | M93: 170106*, 170301*, 170605*:1021+17,42+22,2
C94: 160210*, 170902* :0,4+2 | E94: 2.4 | M94: 160210*, 170902* :0,4+2
C95: Odpady (O): | E95: 0 | M95: Odpady (O):
C96: 170201,170202, 170203, 170302:232,9+26,8+6,6+88,7 | E96: 355 | M96: 170201,170202, 170203, 170302:232,9+26,8+6,6+88,7
C97: 170601, 170802, 200307:8,8+1,8+181 | E97: 191.6 | M97: 170601, 170802, 200307:8,8+1,8+181
C98: 170405, 170407, 170411:74,4+32,47+16,42 | E98: 123.29 | M98: 170405, 170407, 170411:74,4+32,47+16,42
A99: 23 | B99: 979096211 | C99: Drcení stavební suti mobilní drticí jednotkou | D99: t | E99: 32995 | G99: =E99*F99 -> 0 | H99: 0 | I99: =E99*H99 -> 0 | J99: 0 | K99: =E99*J99 -> 0 | O99: 2 | AA99: 1 | AB99: 1 | AC99: 1 | AZ99: 1 | BA99: =IF(AZ99=1,G99,0) -> 0 | BB99: =IF(AZ99=2,G99,0) -> 0 | BC99: =IF(AZ99=3,G99,0) -> 0 | BD99: =IF(AZ99=4,G99,0) -> 0 | BE99: =IF(AZ99=5,G99,0) -> 0 | CA99: 1 | CB99: 1
C100: beton:14896 | E100: 14896 | M100: beton:14896
C101: cihla:15093 | E101: 15093 | M101: cihla:15093
C102: tašky:14 | E102: 14 | M102: tašky:14
...

Sheet 02 01 KL
A1: POLOŽKOVÝ ROZPOČET
A2: Rozpočet | C2: 01 | D2: Demolice | F2: JKSO
A4: Objekt | F4: SKP
A5: 02 | C5: Odstranění komunikačních ploch | F5: Měrná jednotka
A6: Stavba | F6: Počet jednotek | G6: 0
A7: 190004/2 | C7: Areál ÚP Bučovice - demolice staveb | F7: Náklady na m.j. | G7: =IF(G6=0,,ROUND((G30+G32)/G6,1)) -> 0
A8: Projektant | F8: Typ rozpočtu
A9: Zpracovatel projektu
A10: Objednatel
A11: Dodavatel | F11: Zakázkové číslo
A12: Rozpočtoval | F12: Počet listů
A13: ROZPOČTOVÉ NÁKLADY
A14: Základní rozpočtové náklady | D14: Ostatní rozpočtové náklady
B15: HSV celkem | C15: ='02 01 Rek'!E10 -> 0 | D15: ='02 01 Rek'!A15 -> Ztížené výrobní podmínky | G15: ='02 01 Rek'!I15 -> 0
A16: Z | B16: PSV celkem | C16: ='02 01 Rek'!F10 -> 0 | D16: ='02 01 Rek'!A16 -> Oborová přirážka | G16: ='02 01 Rek'!I16 -> 0
A17: R | B17: M práce celkem | C17: ='02 01 Rek'!H10 -> 0 | D17: ='02 01 Rek'!A17 -> Přesun stavebních kapacit | G17: ='02 01 Rek'!I17 -> 0
A18: N | B18: M dodávky celkem | C18: ='02 01 Rek'!G10 -> 0 | D18: ='02 01 Rek'!A18 -> Mimostaveništní doprava | G18: ='02 01 Rek'!I18 -> 0
A19: ZRN celkem | C19: =SUM(C15:C18) -> 0 | D19: ='02 01 Rek'!A19 -> Zařízení staveniště | G19: ='02 01 Rek'!I19 -> 0
D20: ='02 01 Rek'!A20 -> Provoz investora | G20: ='02 01 Rek'!I20 -> 0
A21: HZS | C21: ='02 01 Rek'!I10 -> 0 | D21: ='02 01 Rek'!A21 -> Kompletační činnost (IČD) | G21: ='02 01 Rek'!I21 -> 0
A22: ZRN+HZS | C22: =C19+C21 -> 0 | D22: Ostatní náklady neuvedené | G22: =G23-SUM(G15:G21) -> 0
A23: ZRN+ost.náklady+HZS | C23: =C22+G23 -> 0 | D23: Ostatní náklady celkem | G23: ='02 01 Rek'!H24 -> 0
A24: Vypracoval | D24: Za zhotovitele | F24: Za objednatele
A25: Jméno : | D25: Jméno : | F25: Jméno :
A26: Datum : | D26: Datum : | F26: Datum :
A28: Podpis : | D28: Podpis: | F28: Podpis:
A30: Základ pro DPH | C30: 21 | D30: % | G30: =C23-G32 -> 0
A31: DPH | C31: =C30 -> 21 | D31: % | G31: =ROUND(PRODUCT(G30,C31/100),0) -> 0
A32: Základ pro DPH | C32: 0 | D32: % | G32: 0
A33: DPH | C33: =C32 -> 0 | D33: % | G33: =ROUND(PRODUCT(G32,C33/100),0) -> 0
A34: CENA ZA OBJEKT CELKEM | F34: =ROUND(SUM(G30:G33),0) -> 0
A36: Poznámka :

Sheet 02 01 Rek
A1: Stavba : | C1: 190004/2 Areál ÚP Bučovice - demolice staveb | G1: Rozpočet : | H1: 01
A2: Objekt : | C2: 02 Odstranění komunikačních ploch | G2: Demolice
A4: REKAPITULACE STAVEBNÍCH DÍLŮ
B6: Stavební díl | E6: HSV | F6: PSV | G6: Dodávka | H6: Montáž | I6: HZS
A7: ='02 01 Pol'!B7 -> 18 | B7: ='02 01 Pol'!C7 -> Povrchové úpravy terénu | E7: ='02 01 Pol'!BA9 -> 0 | F7: ='02 01 Pol'!BB9 -> 0 | G7: ='02 01 Pol'!BC9 -> 0 | H7: ='02 01 Pol'!BD9 -> 0 | I7: ='02 01 Pol'!BE9 -> 0
A8: ='02 01 Pol'!B10 -> 46 | B8: ='02 01 Pol'!C10 -> Zpevněné plochy | E8: ='02 01 Pol'!BA16 -> 0 | F8: ='02 01 Pol'!BB16 -> 0 | G8: ='02 01 Pol'!BC16 -> 0 | H8: ='02 01 Pol'!BD16 -> 0 | I8: ='02 01 Pol'!BE16 -> 0
A9: ='02 01 Pol'!B17 -> D96 | B9: ='02 01 Pol'!C17 -> Přesuny suti a vybouraných hmot | E9: ='02 01 Pol'!BA21 -> 0 | F9: ='02 01 Pol'!BB21 -> 0 | G9: ='02 01 Pol'!BC21 -> 0 | H9: ='02 01 Pol'!BD21 -> 0 | I9: ='02 01 Pol'!BE21 -> 0
B10: CELKEM OBJEKT | E10: =SUM(E7:E9) -> 0 | F10: =SUM(F7:F9) -> 0 | G10: =SUM(G7:G9) -> 0 | H10: =SUM(H7:H9) -> 0 | I10: =SUM(I7:I9) -> 0
A12: VEDLEJŠÍ ROZPOČTOVÉ NÁKLADY
A14: Název VRN | E14: Kč | F14: % | G14: Základna | I14: Kč
A15: Ztížené výrobní podmínky | E15: 0 | F15: 0 | G15: =SUM(E10:H10) -> 0 | I15: =E15+F15*G15/100 -> 0 | BA15: 0
A16: Oborová přirážka | E16: 0 | F16: 0 | G16: =SUM(E10:H10) -> 0 | I16: =E16+F16*G16/100 -> 0 | BA16: 0
A17: Přesun stavebních kapacit | E17: 0 | F17: 0 | G17: =SUM(E10:H10) -> 0 | I17: =E17+F17*G17/100 -> 0 | BA17: 0
A18: Mimostaveništní doprava | E18: 0 | F18: 0 | G18: =SUM(E10:H10) -> 0 | I18: =E18+F18*G18/100 -> 0 | BA18: 0
A19: Zařízení staveniště | E19: 0 | F19: 0 | G19: =SUM(E10:H10) -> 0 | I19: =E19+F19*G19/100 -> 0 | BA19: 1
A20: Provoz investora | E20: 0 | F20: 0 | G20: =SUM(E10:H10) -> 0 | I20: =E20+F20*G20/100 -> 0 | BA20: 1
A21: Kompletační činnost (IČD) | E21: 0 | F21: 0 | G21: =SUM(E10:H10) -> 0 | I21: =E21+F21*G21/100 -> 0 | BA21: 2
A22: Rezerva rozpočtu | E22: 0 | F22: 0 | G22: =SUM(E10:H10) -> 0 | I22: =E22+F22*G22/100 -> 0 | BA22: 2
A23: VRN CELKEM | E23: 0 | F23: 0 | G23: =SUM(E10:H10) -> 0 | I23: =E23+F23*G23/100 -> 0 | BA23: 0
B24: CELKEM VRN | H24: =SUM(I15:I23) -> 0

Sheet 02 01 Pol
A1: Položkový rozpočet
A3: Stavba : | C3: 190004/2 Areál ÚP Bučovice - demolice staveb | E3: Rozpočet: | F3: ='02 01 Rek'!H1 -> 01
A4: Objekt : | C4: 02 Odstranění komunikačních ploch | E4: ='02 01 Rek'!G2 -> Demolice
A6: P.č. | B6: Číslo položky | C6: Název položky | D6: MJ | E6: množství | F6: cena / MJ | G6: celkem (Kč) | H6: Jednotková hmotnost | I6: Celková hmotnost | J6: Jednotková dem.hmot. | K6: Celková dem.hmot.
A7: Díl: | B7: 18 | C7: Povrchové úpravy terénu | O7: 1
A8: 1 | B8: 181101101 | C8: Úprava pláně v zářezech v hor. 1-4, bez zhutnění | D8: m2 | E8: 27850 | G8: =E8*F8 -> 0 | H8: 0 | I8: =E8*H8 -> 0 | J8: 0 | K8: =E8*J8 -> 0 | O8: 2 | AA8: 1 | AB8: 1 | AC8: 1 | AZ8: 1 | BA8: =IF(AZ8=1,G8,0) -> 0 | BB8: =IF(AZ8=2,G8,0) -> 0 | BC8: =IF(AZ8=3,G8,0) -> 0 | BD8: =IF(AZ8=4,G8,0) -> 0 | BE8: =IF(AZ8=5,G8,0) -> 0 | CA8: 1 | CB8: 1
B9: Celkem za | C9: 18 Povrchové úpravy terénu | G9: =SUM(G7:G8) -> 0 | I9: =SUM(I7:I8) -> 0 | K9: =SUM(K7:K8) -> 0 | O9: 4 | BA9: =SUM(BA7:BA8) -> 0 | BB9: =SUM(BB7:BB8) -> 0 | BC9: =SUM(BC7:BC8) -> 0 | BD9: =SUM(BD7:BD8) -> 0 | BE9: =SUM(BE7:BE8) -> 0
A10: Díl: | B10: 46 | C10: Zpevněné plochy | O10: 1
A11: 2 | B11: 113107221 | C11: Odstranění podkladu nad 200 m2,kam.drcené tl.10 cm | D11: m2 | E11: 7422 | G11: =E11*F11 -> 0 | H11: 0 | I11: =E11*H11 -> 0 | J11: -0.13 | K11: =E11*J11 -> -964.86 | O11: 2 | AA11: 1 | AB11: 0 | AC11: 0 | AZ11: 1 | BA11: =IF(AZ11=1,G11,0) -> 0 | BB11: =IF(AZ11=2,G11,0) -> 0 | BC11: =IF(AZ11=3,G11,0) -> 0 | BD11: =IF(AZ11=4,G11,0) -> 0 | BE11: =IF(AZ11=5,G11,0) -> 0 | CA11: 1 | CB11: 0
A12: 3 | B12: 113109420 | C12: Odstranění podkladu pl.nad 50 m2, beton, tl. 20 cm | D12: m2 | E12: 7422 | G12: =E12*F12 -> 0 | H12: 0 | I12: =E12*H12 -> 0 | J12: -0.48 | K12: =E12*J12 -> -3562.56 | O12: 2 | AA12: 1 | AB12: 1 | AC12: 1 | AZ12: 1 | BA12: =IF(AZ12=1,G12,0) -> 0 | BB12: =IF(AZ12=2,G12,0) -> 0 | BC12: =IF(AZ12=3,G12,0) -> 0 | BD12: =IF(AZ12=4,G12,0) -> 0 | BE12: =IF(AZ12=5,G12,0) -> 0 | CA12: 1 | CB12: 1
C13: 2366+3378+585+662+431 | E13: 7422 | M13: 2366+3378+585+662+431
A14: 4 | B14: 979087212 | C14: Nakládání suti na dopravní prostředky | D14: t | E14: 4526 | G14: =E14*F14 -> 0 | H14: 0 | I14: =E14*H14 -> 0 | J14: 0 | K14: =E14*J14 -> 0 | O14: 2 | AA14: 1 | AB14: 0 | AC14: 0 | AZ14: 1 | BA14: =IF(AZ14=1,G14,0) -> 0 | BB14: =IF(AZ14=2,G14,0) -> 0 | BC14: =IF(AZ14=3,G14,0) -> 0 | BD14: =IF(AZ14=4,G14,0) -> 0 | BE14: =IF(AZ14=5,G14,0) -> 0 | CA14: 1 | CB14: 0
C15: 964+3562 | E15: 4526 | M15: 964+3562
B16: Celkem za | C16: 46 Zpevněné plochy | G16: =SUM(G10:G15) -> 0 | I16: =SUM(I10:I15) -> 0 | K16: =SUM(K10:K15) -> -4527.42 | O16: 4 | BA16: =SUM(BA10:BA15) -> 0 | BB16: =SUM(BB10:BB15) -> 0 | BC16: =SUM(BC10:BC15) -> 0 | BD16: =SUM(BD10:BD15) -> 0 | BE16: =SUM(BE10:BE15) -> 0
A17: Díl: | B17: D96 | C17: Přesuny suti a vybouraných hmot | O17: 1
A18: 5 | B18: 979083111 | C18: Vodorovné přemístění suti na skládku do 100 m | D18: t | E18: 4526 | G18: =E18*F18 -> 0 | H18: 0 | I18: =E18*H18 -> 0 | J18: 0 | K18: =E18*J18 -> 0 | O18: 2 | AA18: 1 | AB18: 3 | AC18: 3 | AZ18: 1 | BA18: =IF(AZ18=1,G18,0) -> 0 | BB18: =IF(AZ18=2,G18,0) -> 0 | BC18: =IF(AZ18=3,G18,0) -> 0 | BD18: =IF(AZ18=4,G18,0) -> 0 | BE18: =IF(AZ18=5,G18,0) -> 0 | CA18: 1 | CB18: 3
A19: 6 | B19: 979096211 | C19: Drcení stavební suti mobilní drticí jednotkou | D19: t | E19: 4526 | G19: =E19*F19 -> 0 | H19: 0 | I19: =E19*H19 -> 0 | J19: 0 | K19: =E19*J19 -> 0 | O19: 2 | AA19: 1 | AB19: 1 | AC19: 1 | AZ19: 1 | BA19: =IF(AZ19=1,G19,0) -> 0 | BB19: =IF(AZ19=2,G19,0) -> 0 | BC19: =IF(AZ19=3,G19,0) -> 0 | BD19: =IF(AZ19=4,G19,0) -> 0 | BE19: =IF(AZ19=5,G19,0) -> 0 | CA19: 1 | CB19: 1
A20: 7 | B20: 979096221 | C20: Třídění stavební suti mobilní třídicí jednotkou | D20: t | E20: 4526 | G20: =E20*F20 -> 0 | H20: 0 | I20: =E20*H20 -> 0 | J20: 0 | K20: =E20*J20 -> 0 | O20: 2 | AA20: 1 | AB20: 1 | AC20: 1 | AZ20: 1 | BA20: =IF(AZ20=1,G20,0) -> 0 | BB20: =IF(AZ20=2,G20,0) -> 0 | BC20: =IF(AZ20=3,G20,0) -> 0 | BD20: =IF(AZ20=4,G20,0) -> 0 | BE20: =IF(AZ20=5,G20,0) -> 0 | CA20: 1 | CB20: 1
B21: Celkem za | C21: D96 Přesuny suti a vybouraných hmot | G21: =SUM(G17:G20) -> 0 | I21: =SUM(I17:I20) -> 0 | K21: =SUM(K17:K20) -> 0 | O21: 4 | BA21: =SUM(BA17:BA20) -> 0 | BB21: =SUM(BB17:BB20) -> 0 | BC21: =SUM(BC17:BC20) -> 0 | BD21: =SUM(BD17:BD20) -> 0 | BE21: =SUM(BE17:BE20) -> 0
