Workbook

Sheet Rekapitulace stavby
A1: Export Komplet | BA1: 2.0 | BB1: ZAMOK | BT1: False | BU1: False | BV1: {ef730a07-c9ac-4ae3-998c-11552a2cb0ef}
BS2: 0,01 | BT2: 21
BS3: 0,01 | BT3: 15
D4: REKAPITULACE STAVBY | AS4: v --- níže se nacházejí doplnkové a pomocné údaje k sestavám --- v | BE4: Návod na vyplnění | BS4: 0,0001
D5: Kód: | K5: 2020_05_11 | BE5: Měnit lze pouze buňky se žlutým podbarvením!_x000D_ _x000D_ 1) na prvním listu Rekapitulace stavby vyplňte v sestavě_x000D_ _x000D_ a) Souhrnný list_x000D_ - údaje o Uchazeči_x000D_ (přenesou se do ostatních sestav i v jiných listech)_x000D_ _x000D_ b) Rekapitulace objektů_x000D_ - potřebné Ostatní náklady_x000D_ _x000D_ 2) na vybraných listech vyplňte v sestavě_x000D_ _x000D_ a) Krycí list_x000D_ - údaje o Uchazeči, pokud se liší od údajů o Uchazeči na Souhrnném listu_x000D_ (údaje se přenesou do ostatních sestav v daném listu)_x000D_ _x000D_ b) Rekapitulace rozpočtu_x000D_ - potřebné Ostatní náklady_x000D_ _x000D_ c) Celkové náklady za stavbu_x000D_ - ceny u položek_x000D_ - množství, pokud má žluté podbarvení_x000D_ - a v případě potřeby poznámku (ta je ve skrytém sloupci) | BS5: 0,01
D6: Stavba: | K6: NOVOSTAVBA SOCIÁLNÍCH BYTŮ NA PARC. Č. 789/2 | BS6: 0,01
D7: KSO: | AK7: CC-CZ: | BS7: 0,01
D8: Místo: | K8: Protivanov, ul.Na Balkáně | AK8: Datum: | AN8: 11. 12. 2019 | BS8: 0,01
BS9: 0,01
D10: Zadavatel: | AK10: IČ: | AN10: 00288675 | BS10: 0,01
E11: Městys Protivanov, Náměstí 32, 798 48 Protivanov | AK11: DIČ: | AN11: CZ00288675 | BS11: 0,01
BS12: 0,01
D13: Uchazeč: | AK13: IČ: | AN13: Vyplň údaj | BS13: 0,01
E14: Vyplň údaj | AK14: DIČ: | AN14: Vyplň údaj | BS14: 0,01
BS15: False
D16: Projektant: | AK16: IČ: | BS16: False
E17: PROMED Brno, spol. s r.o | AK17: DIČ: | BS17: True
BS18: 0,01
D19: Zpracovatel: | AK19: IČ: | BS19: 0,01
AK20: DIČ: | BS20: True
D22: Poznámka:
E23: OBJEKT SO 05 PŘÍPOJKA NN NENÍ SOUČÁSTÍ NACENĚNÍ, BUDE REALIZOVÁNO SAMOSTATNĚ
D26: Cena bez DPH | AK26: =ROUND(AG94,2) -> 0
L28: Sazba daně | W28: Základ daně | AK28: Výše daně
D29: DPH | F29: základní | L29: 0.21 | W29: =ROUND(AZ94, 2) -> 0 | AK29: =ROUND(AV94, 2) -> 0
F30: snížená | L30: 0.15 | W30: =ROUND(BA94, 2) -> 0 | AK30: =ROUND(AW94, 2) -> 0
F31: zákl. přenesená | L31: 0.21 | W31: =ROUND(BB94, 2) -> 0 | AK31: 0
F32: sníž. přenesená | L32: 0.15 | W32: =ROUND(BC94, 2) -> 0 | AK32: 0
F33: nulová | L33: 0 | W33: =ROUND(BD94, 2) -> 0 | AK33: 0
D35: Cena s DPH | T35: v | X35: CZK | AK35: =SUM(AK26:AK33) -> 0
D49: Projektant | AH49: Zpracovatel
D60: Datum a podpis: | V60: Razítko | AH60: Datum a podpis: | AM60: Razítko
D64: Objednavatel | AH64: Uchazeč
D75: Datum a podpis: | V75: Razítko | AH75: Datum a podpis: | AM75: Razítko
C82: REKAPITULACE OBJEKTŮ STAVBY A SOUPISŮ PRACÍ
C84: Kód: | L84: =K5 -> 2020_05_11
C85: Stavba: | L85: =K6 -> NOVOSTAVBA SOCIÁLNÍCH BYTŮ NA PARC. Č. 789/2
C87: Místo: | L87: =IF(K8="","",K8) -> Protivanov, ul.Na Balkáně | AI87: Datum: | AM87: =IF(AN8= "","",AN8) -> 11. 12. 2019
C89: Zadavatel: | L89: =IF(E11= "","",E11) -> Městys Protivanov, Náměstí 32, 798 48 Protivanov | AI89: Projektant: | AM89: =IF(E17="","",E17) -> PROMED Brno, spol. s r.o | AS89: Informatívní údaje z listů zakázek
C90: Uchazeč: | L90: =IF(E14= "Vyplň údaj","",E14) | AI90: Zpracovatel: | AM90: =IF(E20="","",E20)
...

Sheet D.1.1 - Architektonické a...
AT2: {6bc6a8e0-9751-41e0-8b63-aeaad6d0c9ea}
AT3: 1
D4: KRYCÍ LIST SOUPISU PRACÍ | M4: v --- níže se nacházejí doplnkové a pomocné údaje k sestavám --- v | AT4: False
D6: Stavba:
E7: ='Rekapitulace stavby'!K6 -> NOVOSTAVBA SOCIÁLNÍCH BYTŮ NA PARC. Č. 789/2
D8: Objekt:
E9: UZN - UZNATELNÉ NÁKLADY
D10: Soupis:
E11: SO 01 - NOVOSTAVBA SOCIÁLNÍCH BYTŮ
D12: Úroveň 3:
E13: D.1.1 - Architektonické a stavebně technické řešení
D15: KSO: | I15: CC-CZ:
D16: Místo: | F16: Protivanov, ul.Na Balkáně | I16: Datum: | J16: ='Rekapitulace stavby'!AN8 -> 11. 12. 2019
D18: Zadavatel: | I18: IČ: | J18: 00288675
E19: Městys Protivanov, Náměstí 32, 798 48 Protivanov | I19: DIČ: | J19: CZ00288675
D21: Uchazeč: | I21: IČ: | J21: ='Rekapitulace stavby'!AN13 -> Vyplň údaj
E22: ='Rekapitulace stavby'!E14 -> Vyplň údaj | I22: DIČ: | J22: ='Rekapitulace stavby'!AN14 -> Vyplň údaj
D24: Projektant: | I24: IČ:
E25: PROMED Brno, spol. s r.o | I25: DIČ:
D27: Zpracovatel: | I27: IČ: | J27: =IF('Rekapitulace stavby'!AN19="","",'Rekapitulace stavby'!AN19)
E28: =IF('Rekapitulace stavby'!E20="","",'Rekapitulace stavby'!E20) | I28: DIČ: | J28: =IF('Rekapitulace stavby'!AN20="","",'Rekapitulace stavby'!AN20)
D30: Poznámka:
D34: Cena bez DPH | J34: =ROUND(J150, 2) -> 0
F36: Základ daně | I36: Sazba daně | J36: Výše daně
D37: DPH | E37: základní | F37: =ROUND((SUM(BE150:BE1417)), 2) -> 0 | I37: 0.21 | J37: =ROUND(((SUM(BE150:BE1417))*I37), 2) -> 0
E38: snížená | F38: =ROUND((SUM(BF150:BF1417)), 2) -> 0 | I38: 0.15 | J38: =ROUND(((SUM(BF150:BF1417))*I38), 2) -> 0
E39: zákl. přenesená | F39: =ROUND((SUM(BG150:BG1417)), 2) -> 0 | I39: 0.21 | J39: =0 -> 0
E40: sníž. přenesená | F40: =ROUND((SUM(BH150:BH1417)), 2) -> 0 | I40: 0.15 | J40: =0 -> 0
E41: nulová | F41: =ROUND((SUM(BI150:BI1417)), 2) -> 0 | I41: 0 | J41: =0 -> 0
D43: Cena s DPH | G43: v | H43: CZK | J43: =SUM(J34:J41) -> 0
D50: Projektant | G50: Zpracovatel
D61: Datum a podpis: | F61: Razítko | G61: Datum a podpis: | J61: Razítko
D65: Objednavatel | G65: Uchazeč
D76: Datum a podpis: | F76: Razítko | G76: Datum a podpis: | J76: Razítko
C82: REKAPITULACE ČLENĚNÍ SOUPISU PRACÍ
C84: Stavba:
E85: =E7 -> NOVOSTAVBA SOCIÁLNÍCH BYTŮ NA PARC. Č. 789/2
C86: Objekt:
E87: UZN - UZNATELNÉ NÁKLADY
C88: Soupis:
...

Sheet D.1.4.1-1 - Zdravotně tec...
AT2: {2279a868-674b-4512-8b63-9411a9720b69}
AT3: 1
D4: KRYCÍ LIST SOUPISU PRACÍ | M4: v --- níže se nacházejí doplnkové a pomocné údaje k sestavám --- v | AT4: False
D6: Stavba:
E7: ='Rekapitulace stavby'!K6 -> NOVOSTAVBA SOCIÁLNÍCH BYTŮ NA PARC. Č. 789/2
D8: Objekt:
E9: UZN - UZNATELNÉ NÁKLADY
D10: Soupis:
E11: SO 01 - NOVOSTAVBA SOCIÁLNÍCH BYTŮ
D12: Úroveň 3:
E13: D.1.4.1-1 - Zdravotně technické instalace - vnitřní ZTI
D15: KSO: | I15: CC-CZ:
D16: Místo: | F16: Protivanov, ul.Na Balkáně | I16: Datum: | J16: ='Rekapitulace stavby'!AN8 -> 11. 12. 2019
D18: Zadavatel: | I18: IČ: | J18: 00288675
E19: Městys Protivanov, Náměstí 32, 798 48 Protivanov | I19: DIČ: | J19: CZ00288675
D21: Uchazeč: | I21: IČ: | J21: ='Rekapitulace stavby'!AN13 -> Vyplň údaj
E22: ='Rekapitulace stavby'!E14 -> Vyplň údaj | I22: DIČ: | J22: ='Rekapitulace stavby'!AN14 -> Vyplň údaj
D24: Projektant: | I24: IČ:
E25: PROMED Brno, spol. s r.o | I25: DIČ:
D27: Zpracovatel: | I27: IČ: | J27: =IF('Rekapitulace stavby'!AN19="","",'Rekapitulace stavby'!AN19)
E28: =IF('Rekapitulace stavby'!E20="","",'Rekapitulace stavby'!E20) | I28: DIČ: | J28: =IF('Rekapitulace stavby'!AN20="","",'Rekapitulace stavby'!AN20)
D30: Poznámka:
D34: Cena bez DPH | J34: =ROUND(J129, 2) -> 0
F36: Základ daně | I36: Sazba daně | J36: Výše daně
D37: DPH | E37: základní | F37: =ROUND((SUM(BE129:BE228)), 2) -> 0 | I37: 0.21 | J37: =ROUND(((SUM(BE129:BE228))*I37), 2) -> 0
E38: snížená | F38: =ROUND((SUM(BF129:BF228)), 2) -> 0 | I38: 0.15 | J38: =ROUND(((SUM(BF129:BF228))*I38), 2) -> 0
E39: zákl. přenesená | F39: =ROUND((SUM(BG129:BG228)), 2) -> 0 | I39: 0.21 | J39: =0 -> 0
E40: sníž. přenesená | F40: =ROUND((SUM(BH129:BH228)), 2) -> 0 | I40: 0.15 | J40: =0 -> 0
E41: nulová | F41: =ROUND((SUM(BI129:BI228)), 2) -> 0 | I41: 0 | J41: =0 -> 0
D43: Cena s DPH | G43: v | H43: CZK | J43: =SUM(J34:J41) -> 0
D50: Projektant | G50: Zpracovatel
D61: Datum a podpis: | F61: Razítko | G61: Datum a podpis: | J61: Razítko
D65: Objednavatel | G65: Uchazeč
D76: Datum a podpis: | F76: Razítko | G76: Datum a podpis: | J76: Razítko
C82: REKAPITULACE ČLENĚNÍ SOUPISU PRACÍ
C84: Stavba:
E85: =E7 -> NOVOSTAVBA SOCIÁLNÍCH BYTŮ NA PARC. Č. 789/2
C86: Objekt:
E87: UZN - UZNATELNÉ NÁKLADY
C88: Soupis:
...

Sheet D.1.4.1-2 - Zdravotně tec...
AT2: {cc38d7f3-a6c7-4746-b6fa-1f1d12e6d2ce}
AT3: 1
D4: KRYCÍ LIST SOUPISU PRACÍ | M4: v --- níže se nacházejí doplnkové a pomocné údaje k sestavám --- v | AT4: False
D6: Stavba:
E7: ='Rekapitulace stavby'!K6 -> NOVOSTAVBA SOCIÁLNÍCH BYTŮ NA PARC. Č. 789/2
D8: Objekt:
E9: UZN - UZNATELNÉ NÁKLADY
D10: Soupis:
E11: SO 01 - NOVOSTAVBA SOCIÁLNÍCH BYTŮ
D12: Úroveň 3:
E13: D.1.4.1-2 - Zdravotně technické instalace - ležatá kanalizace
D15: KSO: | I15: CC-CZ:
D16: Místo: | F16: Protivanov, ul.Na Balkáně | I16: Datum: | J16: ='Rekapitulace stavby'!AN8 -> 11. 12. 2019
D18: Zadavatel: | I18: IČ: | J18: 00288675
E19: Městys Protivanov, Náměstí 32, 798 48 Protivanov | I19: DIČ: | J19: CZ00288675
D21: Uchazeč: | I21: IČ: | J21: ='Rekapitulace stavby'!AN13 -> Vyplň údaj
E22: ='Rekapitulace stavby'!E14 -> Vyplň údaj | I22: DIČ: | J22: ='Rekapitulace stavby'!AN14 -> Vyplň údaj
D24: Projektant: | I24: IČ:
E25: PROMED Brno, spol. s r.o | I25: DIČ:
D27: Zpracovatel: | I27: IČ: | J27: =IF('Rekapitulace stavby'!AN19="","",'Rekapitulace stavby'!AN19)
E28: =IF('Rekapitulace stavby'!E20="","",'Rekapitulace stavby'!E20) | I28: DIČ: | J28: =IF('Rekapitulace stavby'!AN20="","",'Rekapitulace stavby'!AN20)
D30: Poznámka:
D34: Cena bez DPH | J34: =ROUND(J128, 2) -> 0
F36: Základ daně | I36: Sazba daně | J36: Výše daně
D37: DPH | E37: základní | F37: =ROUND((SUM(BE128:BE163)), 2) -> 0 | I37: 0.21 | J37: =ROUND(((SUM(BE128:BE163))*I37), 2) -> 0
E38: snížená | F38: =ROUND((SUM(BF128:BF163)), 2) -> 0 | I38: 0.15 | J38: =ROUND(((SUM(BF128:BF163))*I38), 2) -> 0
E39: zákl. přenesená | F39: =ROUND((SUM(BG128:BG163)), 2) -> 0 | I39: 0.21 | J39: =0 -> 0
E40: sníž. přenesená | F40: =ROUND((SUM(BH128:BH163)), 2) -> 0 | I40: 0.15 | J40: =0 -> 0
E41: nulová | F41: =ROUND((SUM(BI128:BI163)), 2) -> 0 | I41: 0 | J41: =0 -> 0
D43: Cena s DPH | G43: v | H43: CZK | J43: =SUM(J34:J41) -> 0
D50: Projektant | G50: Zpracovatel
D61: Datum a podpis: | F61: Razítko | G61: Datum a podpis: | J61: Razítko
D65: Objednavatel | G65: Uchazeč
D76: Datum a podpis: | F76: Razítko | G76: Datum a podpis: | J76: Razítko
C82: REKAPITULACE ČLENĚNÍ SOUPISU PRACÍ
C84: Stavba:
E85: =E7 -> NOVOSTAVBA SOCIÁLNÍCH BYTŮ NA PARC. Č. 789/2
C86: Objekt:
E87: UZN - UZNATELNÉ NÁKLADY
C88: Soupis:
...

Sheet D.1.4.2 - Silnoproudá ele...
AT2: {ec508bb4-a617-424e-964b-1fc6fd5b18e2}
AT3: 1
D4: KRYCÍ LIST SOUPISU PRACÍ | M4: v --- níže se nacházejí doplnkové a pomocné údaje k sestavám --- v | AT4: False
D6: Stavba:
E7: ='Rekapitulace stavby'!K6 -> NOVOSTAVBA SOCIÁLNÍCH BYTŮ NA PARC. Č. 789/2
D8: Objekt:
E9: UZN - UZNATELNÉ NÁKLADY
D10: Soupis:
E11: SO 01 - NOVOSTAVBA SOCIÁLNÍCH BYTŮ
D12: Úroveň 3:
E13: D.1.4.2 - Silnoproudá elektrotechnika a hromosvod
D15: KSO: | I15: CC-CZ:
D16: Místo: | F16: Protivanov, ul.Na Balkáně | I16: Datum: | J16: ='Rekapitulace stavby'!AN8 -> 11. 12. 2019
D18: Zadavatel: | I18: IČ: | J18: 00288675
E19: Městys Protivanov, Náměstí 32, 798 48 Protivanov | I19: DIČ: | J19: CZ00288675
D21: Uchazeč: | I21: IČ: | J21: ='Rekapitulace stavby'!AN13 -> Vyplň údaj
E22: ='Rekapitulace stavby'!E14 -> Vyplň údaj | I22: DIČ: | J22: ='Rekapitulace stavby'!AN14 -> Vyplň údaj
D24: Projektant: | I24: IČ:
E25: PROMED Brno, spol. s r.o | I25: DIČ:
D27: Zpracovatel: | I27: IČ: | J27: =IF('Rekapitulace stavby'!AN19="","",'Rekapitulace stavby'!AN19)
E28: =IF('Rekapitulace stavby'!E20="","",'Rekapitulace stavby'!E20) | I28: DIČ: | J28: =IF('Rekapitulace stavby'!AN20="","",'Rekapitulace stavby'!AN20)
D30: Poznámka:
D34: Cena bez DPH | J34: =ROUND(J139, 2) -> 0
F36: Základ daně | I36: Sazba daně | J36: Výše daně
D37: DPH | E37: základní | F37: =ROUND((SUM(BE139:BE267)), 2) -> 0 | I37: 0.21 | J37: =ROUND(((SUM(BE139:BE267))*I37), 2) -> 0
E38: snížená | F38: =ROUND((SUM(BF139:BF267)), 2) -> 0 | I38: 0.15 | J38: =ROUND(((SUM(BF139:BF267))*I38), 2) -> 0
E39: zákl. přenesená | F39: =ROUND((SUM(BG139:BG267)), 2) -> 0 | I39: 0.21 | J39: =0 -> 0
E40: sníž. přenesená | F40: =ROUND((SUM(BH139:BH267)), 2) -> 0 | I40: 0.15 | J40: =0 -> 0
E41: nulová | F41: =ROUND((SUM(BI139:BI267)), 2) -> 0 | I41: 0 | J41: =0 -> 0
D43: Cena s DPH | G43: v | H43: CZK | J43: =SUM(J34:J41) -> 0
D50: Projektant | G50: Zpracovatel
D61: Datum a podpis: | F61: Razítko | G61: Datum a podpis: | J61: Razítko
D65: Objednavatel | G65: Uchazeč
D76: Datum a podpis: | F76: Razítko | G76: Datum a podpis: | J76: Razítko
C82: REKAPITULACE ČLENĚNÍ SOUPISU PRACÍ
C84: Stavba:
E85: =E7 -> NOVOSTAVBA SOCIÁLNÍCH BYTŮ NA PARC. Č. 789/2
C86: Objekt:
E87: UZN - UZNATELNÉ NÁKLADY
C88: Soupis:
...

Sheet D.1.4.3 - Zařízení pro vy...
AT2: {cacc2450-f702-46c7-9976-8fb1ad0cf7bc}
AT3: 1
D4: KRYCÍ LIST SOUPISU PRACÍ | M4: v --- níže se nacházejí doplnkové a pomocné údaje k sestavám --- v | AT4: False
D6: Stavba:
E7: ='Rekapitulace stavby'!K6 -> NOVOSTAVBA SOCIÁLNÍCH BYTŮ NA PARC. Č. 789/2
D8: Objekt:
E9: UZN - UZNATELNÉ NÁKLADY
D10: Soupis:
E11: SO 01 - NOVOSTAVBA SOCIÁLNÍCH BYTŮ
D12: Úroveň 3:
E13: D.1.4.3 - Zařízení pro vytápění staveb
D15: KSO: | I15: CC-CZ:
D16: Místo: | F16: Protivanov, ul.Na Balkáně | I16: Datum: | J16: ='Rekapitulace stavby'!AN8 -> 11. 12. 2019
D18: Zadavatel: | I18: IČ: | J18: 00288675
E19: Městys Protivanov, Náměstí 32, 798 48 Protivanov | I19: DIČ: | J19: CZ00288675
D21: Uchazeč: | I21: IČ: | J21: ='Rekapitulace stavby'!AN13 -> Vyplň údaj
E22: ='Rekapitulace stavby'!E14 -> Vyplň údaj | I22: DIČ: | J22: ='Rekapitulace stavby'!AN14 -> Vyplň údaj
D24: Projektant: | I24: IČ:
E25: PROMED Brno, spol. s r.o | I25: DIČ:
D27: Zpracovatel: | I27: IČ: | J27: =IF('Rekapitulace stavby'!AN19="","",'Rekapitulace stavby'!AN19)
E28: =IF('Rekapitulace stavby'!E20="","",'Rekapitulace stavby'!E20) | I28: DIČ: | J28: =IF('Rekapitulace stavby'!AN20="","",'Rekapitulace stavby'!AN20)
D30: Poznámka:
D34: Cena bez DPH | J34: =ROUND(J131, 2) -> 0
F36: Základ daně | I36: Sazba daně | J36: Výše daně
D37: DPH | E37: základní | F37: =ROUND((SUM(BE131:BE203)), 2) -> 0 | I37: 0.21 | J37: =ROUND(((SUM(BE131:BE203))*I37), 2) -> 0
E38: snížená | F38: =ROUND((SUM(BF131:BF203)), 2) -> 0 | I38: 0.15 | J38: =ROUND(((SUM(BF131:BF203))*I38), 2) -> 0
E39: zákl. přenesená | F39: =ROUND((SUM(BG131:BG203)), 2) -> 0 | I39: 0.21 | J39: =0 -> 0
E40: sníž. přenesená | F40: =ROUND((SUM(BH131:BH203)), 2) -> 0 | I40: 0.15 | J40: =0 -> 0
E41: nulová | F41: =ROUND((SUM(BI131:BI203)), 2) -> 0 | I41: 0 | J41: =0 -> 0
D43: Cena s DPH | G43: v | H43: CZK | J43: =SUM(J34:J41) -> 0
D50: Projektant | G50: Zpracovatel
D61: Datum a podpis: | F61: Razítko | G61: Datum a podpis: | J61: Razítko
D65: Objednavatel | G65: Uchazeč
D76: Datum a podpis: | F76: Razítko | G76: Datum a podpis: | J76: Razítko
C82: REKAPITULACE ČLENĚNÍ SOUPISU PRACÍ
C84: Stavba:
E85: =E7 -> NOVOSTAVBA SOCIÁLNÍCH BYTŮ NA PARC. Č. 789/2
C86: Objekt:
E87: UZN - UZNATELNÉ NÁKLADY
C88: Soupis:
...

Sheet D.1.4.4 - Vzduchotechnika
AT2: {55de6866-68d8-4c2c-954f-8fca262b4c2f}
AT3: 1
D4: KRYCÍ LIST SOUPISU PRACÍ | M4: v --- níže se nacházejí doplnkové a pomocné údaje k sestavám --- v | AT4: False
D6: Stavba:
E7: ='Rekapitulace stavby'!K6 -> NOVOSTAVBA SOCIÁLNÍCH BYTŮ NA PARC. Č. 789/2
D8: Objekt:
E9: UZN - UZNATELNÉ NÁKLADY
D10: Soupis:
E11: SO 01 - NOVOSTAVBA SOCIÁLNÍCH BYTŮ
D12: Úroveň 3:
E13: D.1.4.4 - Vzduchotechnika
D15: KSO: | I15: CC-CZ:
D16: Místo: | F16: Protivanov, ul.Na Balkáně | I16: Datum: | J16: ='Rekapitulace stavby'!AN8 -> 11. 12. 2019
D18: Zadavatel: | I18: IČ: | J18: 00288675
E19: Městys Protivanov, Náměstí 32, 798 48 Protivanov | I19: DIČ: | J19: CZ00288675
D21: Uchazeč: | I21: IČ: | J21: ='Rekapitulace stavby'!AN13 -> Vyplň údaj
E22: ='Rekapitulace stavby'!E14 -> Vyplň údaj | I22: DIČ: | J22: ='Rekapitulace stavby'!AN14 -> Vyplň údaj
D24: Projektant: | I24: IČ:
E25: PROMED Brno, spol. s r.o | I25: DIČ:
D27: Zpracovatel: | I27: IČ: | J27: =IF('Rekapitulace stavby'!AN19="","",'Rekapitulace stavby'!AN19)
E28: =IF('Rekapitulace stavby'!E20="","",'Rekapitulace stavby'!E20) | I28: DIČ: | J28: =IF('Rekapitulace stavby'!AN20="","",'Rekapitulace stavby'!AN20)
D30: Poznámka:
D34: Cena bez DPH | J34: =ROUND(J127, 2) -> 0
F36: Základ daně | I36: Sazba daně | J36: Výše daně
D37: DPH | E37: základní | F37: =ROUND((SUM(BE127:BE143)), 2) -> 0 | I37: 0.21 | J37: =ROUND(((SUM(BE127:BE143))*I37), 2) -> 0
E38: snížená | F38: =ROUND((SUM(BF127:BF143)), 2) -> 0 | I38: 0.15 | J38: =ROUND(((SUM(BF127:BF143))*I38), 2) -> 0
E39: zákl. přenesená | F39: =ROUND((SUM(BG127:BG143)), 2) -> 0 | I39: 0.21 | J39: =0 -> 0
E40: sníž. přenesená | F40: =ROUND((SUM(BH127:BH143)), 2) -> 0 | I40: 0.15 | J40: =0 -> 0
E41: nulová | F41: =ROUND((SUM(BI127:BI143)), 2) -> 0 | I41: 0 | J41: =0 -> 0
D43: Cena s DPH | G43: v | H43: CZK | J43: =SUM(J34:J41) -> 0
D50: Projektant | G50: Zpracovatel
D61: Datum a podpis: | F61: Razítko | G61: Datum a podpis: | J61: Razítko
D65: Objednavatel | G65: Uchazeč
D76: Datum a podpis: | F76: Razítko | G76: Datum a podpis: | J76: Razítko
C82: REKAPITULACE ČLENĚNÍ SOUPISU PRACÍ
C84: Stavba:
E85: =E7 -> NOVOSTAVBA SOCIÁLNÍCH BYTŮ NA PARC. Č. 789/2
C86: Objekt:
E87: UZN - UZNATELNÉ NÁKLADY
C88: Soupis:
...

Sheet SO 02, 03, 07 - PŘÍPOJKA ...
AT2: {cd8a4cce-7249-4fed-a54d-309550e5dfc8}
AT3: 1
D4: KRYCÍ LIST SOUPISU PRACÍ | M4: v --- níže se nacházejí doplnkové a pomocné údaje k sestavám --- v | AT4: False
D6: Stavba:
E7: ='Rekapitulace stavby'!K6 -> NOVOSTAVBA SOCIÁLNÍCH BYTŮ NA PARC. Č. 789/2
D8: Objekt:
E9: UZN - UZNATELNÉ NÁKLADY
D10: Soupis:
E11: SO 02, 03, 07 - PŘÍPOJKA SPLAŠKOVÉ KANALIZACE, PŘÍPOJKA VODOVODU, PRŮLEH SE VSAKOVÁNÍM
D13: KSO: | I13: CC-CZ:
D14: Místo: | F14: Protivanov, ul.Na Balkáně | I14: Datum: | J14: ='Rekapitulace stavby'!AN8 -> 11. 12. 2019
D16: Zadavatel: | I16: IČ: | J16: 00288675
E17: Městys Protivanov, Náměstí 32, 798 48 Protivanov | I17: DIČ: | J17: CZ00288675
D19: Uchazeč: | I19: IČ: | J19: ='Rekapitulace stavby'!AN13 -> Vyplň údaj
E20: ='Rekapitulace stavby'!E14 -> Vyplň údaj | I20: DIČ: | J20: ='Rekapitulace stavby'!AN14 -> Vyplň údaj
D22: Projektant: | I22: IČ:
E23: PROMED Brno, spol. s r.o | I23: DIČ:
D25: Zpracovatel: | I25: IČ: | J25: =IF('Rekapitulace stavby'!AN19="","",'Rekapitulace stavby'!AN19)
E26: =IF('Rekapitulace stavby'!E20="","",'Rekapitulace stavby'!E20) | I26: DIČ: | J26: =IF('Rekapitulace stavby'!AN20="","",'Rekapitulace stavby'!AN20)
D28: Poznámka:
D32: Cena bez DPH | J32: =ROUND(J130, 2) -> 0
F34: Základ daně | I34: Sazba daně | J34: Výše daně
D35: DPH | E35: základní | F35: =ROUND((SUM(BE130:BE185)), 2) -> 0 | I35: 0.21 | J35: =ROUND(((SUM(BE130:BE185))*I35), 2) -> 0
E36: snížená | F36: =ROUND((SUM(BF130:BF185)), 2) -> 0 | I36: 0.15 | J36: =ROUND(((SUM(BF130:BF185))*I36), 2) -> 0
E37: zákl. přenesená | F37: =ROUND((SUM(BG130:BG185)), 2) -> 0 | I37: 0.21 | J37: =0 -> 0
E38: sníž. přenesená | F38: =ROUND((SUM(BH130:BH185)), 2) -> 0 | I38: 0.15 | J38: =0 -> 0
E39: nulová | F39: =ROUND((SUM(BI130:BI185)), 2) -> 0 | I39: 0 | J39: =0 -> 0
D41: Cena s DPH | G41: v | H41: CZK | J41: =SUM(J32:J39) -> 0
D50: Projektant | G50: Zpracovatel
D61: Datum a podpis: | F61: Razítko | G61: Datum a podpis: | J61: Razítko
D65: Objednavatel | G65: Uchazeč
D76: Datum a podpis: | F76: Razítko | G76: Datum a podpis: | J76: Razítko
C82: REKAPITULACE ČLENĚNÍ SOUPISU PRACÍ
C84: Stavba:
E85: =E7 -> NOVOSTAVBA SOCIÁLNÍCH BYTŮ NA PARC. Č. 789/2
C86: Objekt:
E87: UZN - UZNATELNÉ NÁKLADY
C88: Soupis:
E89: =E11 -> SO 02, 03, 07 - PŘÍPOJKA SPLAŠKOVÉ KANALIZACE, PŘÍPOJKA VODOVODU, PRŮLEH SE VSAKOVÁNÍM
C91: Místo: | F91: =F14 -> Protivanov, ul.Na Balkáně | I91: Datum: | J91: =IF(J14="","",J14) -> 11. 12. 2019
...

Sheet SO 04 - PŘÍPOJKA STL PLYN...
AT2: {0cb118f8-4f8c-436c-bbc7-da6bf456a0ff}
AT3: 1
D4: KRYCÍ LIST SOUPISU PRACÍ | M4: v --- níže se nacházejí doplnkové a pomocné údaje k sestavám --- v | AT4: False
D6: Stavba:
E7: ='Rekapitulace stavby'!K6 -> NOVOSTAVBA SOCIÁLNÍCH BYTŮ NA PARC. Č. 789/2
D8: Objekt:
E9: UZN - UZNATELNÉ NÁKLADY
D10: Soupis:
E11: SO 04 - PŘÍPOJKA STL PLYNOVODU
D13: KSO: | I13: CC-CZ:
D14: Místo: | F14: Protivanov, ul.Na Balkáně | I14: Datum: | J14: ='Rekapitulace stavby'!AN8 -> 11. 12. 2019
D16: Zadavatel: | I16: IČ: | J16: 00288675
E17: Městys Protivanov, Náměstí 32, 798 48 Protivanov | I17: DIČ: | J17: CZ00288675
D19: Uchazeč: | I19: IČ: | J19: ='Rekapitulace stavby'!AN13 -> Vyplň údaj
E20: ='Rekapitulace stavby'!E14 -> Vyplň údaj | I20: DIČ: | J20: ='Rekapitulace stavby'!AN14 -> Vyplň údaj
D22: Projektant: | I22: IČ:
E23: PROMED Brno, spol. s r.o | I23: DIČ:
D25: Zpracovatel: | I25: IČ: | J25: =IF('Rekapitulace stavby'!AN19="","",'Rekapitulace stavby'!AN19)
E26: =IF('Rekapitulace stavby'!E20="","",'Rekapitulace stavby'!E20) | I26: DIČ: | J26: =IF('Rekapitulace stavby'!AN20="","",'Rekapitulace stavby'!AN20)
D28: Poznámka:
D32: Cena bez DPH | J32: =ROUND(J122, 2) -> 0
F34: Základ daně | I34: Sazba daně | J34: Výše daně
D35: DPH | E35: základní | F35: =ROUND((SUM(BE122:BE140)), 2) -> 0 | I35: 0.21 | J35: =ROUND(((SUM(BE122:BE140))*I35), 2) -> 0
E36: snížená | F36: =ROUND((SUM(BF122:BF140)), 2) -> 0 | I36: 0.15 | J36: =ROUND(((SUM(BF122:BF140))*I36), 2) -> 0
E37: zákl. přenesená | F37: =ROUND((SUM(BG122:BG140)), 2) -> 0 | I37: 0.21 | J37: =0 -> 0
E38: sníž. přenesená | F38: =ROUND((SUM(BH122:BH140)), 2) -> 0 | I38: 0.15 | J38: =0 -> 0
E39: nulová | F39: =ROUND((SUM(BI122:BI140)), 2) -> 0 | I39: 0 | J39: =0 -> 0
D41: Cena s DPH | G41: v | H41: CZK | J41: =SUM(J32:J39) -> 0
D50: Projektant | G50: Zpracovatel
D61: Datum a podpis: | F61: Razítko | G61: Datum a podpis: | J61: Razítko
D65: Objednavatel | G65: Uchazeč
D76: Datum a podpis: | F76: Razítko | G76: Datum a podpis: | J76: Razítko
C82: REKAPITULACE ČLENĚNÍ SOUPISU PRACÍ
C84: Stavba:
E85: =E7 -> NOVOSTAVBA SOCIÁLNÍCH BYTŮ NA PARC. Č. 789/2
C86: Objekt:
E87: UZN - UZNATELNÉ NÁKLADY
C88: Soupis:
E89: =E11 -> SO 04 - PŘÍPOJKA STL PLYNOVODU
C91: Místo: | F91: =F14 -> Protivanov, ul.Na Balkáně | I91: Datum: | J91: =IF(J14="","",J14) -> 11. 12. 2019
...

Sheet SO 06 - PŘÍJEZDOVÁ KOMUNI...
AT2: {4e0b4158-1ab8-453a-a10c-50cfaed39a2c}
AT3: 1
D4: KRYCÍ LIST SOUPISU PRACÍ | M4: v --- níže se nacházejí doplnkové a pomocné údaje k sestavám --- v | AT4: False
D6: Stavba:
E7: ='Rekapitulace stavby'!K6 -> NOVOSTAVBA SOCIÁLNÍCH BYTŮ NA PARC. Č. 789/2
D8: Objekt:
E9: UZN - UZNATELNÉ NÁKLADY
D10: Soupis:
E11: SO 06 - PŘÍJEZDOVÁ KOMUNIKACE A CHODNÍK
D13: KSO: | I13: CC-CZ:
D14: Místo: | F14: Protivanov, ul.Na Balkáně | I14: Datum: | J14: ='Rekapitulace stavby'!AN8 -> 11. 12. 2019
D16: Zadavatel: | I16: IČ: | J16: 00288675
E17: Městys Protivanov, Náměstí 32, 798 48 Protivanov | I17: DIČ: | J17: CZ00288675
D19: Uchazeč: | I19: IČ: | J19: ='Rekapitulace stavby'!AN13 -> Vyplň údaj
E20: ='Rekapitulace stavby'!E14 -> Vyplň údaj | I20: DIČ: | J20: ='Rekapitulace stavby'!AN14 -> Vyplň údaj
D22: Projektant: | I22: IČ:
E23: PROMED Brno, spol. s r.o | I23: DIČ:
D25: Zpracovatel: | I25: IČ: | J25: =IF('Rekapitulace stavby'!AN19="","",'Rekapitulace stavby'!AN19)
E26: =IF('Rekapitulace stavby'!E20="","",'Rekapitulace stavby'!E20) | I26: DIČ: | J26: =IF('Rekapitulace stavby'!AN20="","",'Rekapitulace stavby'!AN20)
D28: Poznámka:
D32: Cena bez DPH | J32: =ROUND(J132, 2) -> 0
F34: Základ daně | I34: Sazba daně | J34: Výše daně
D35: DPH | E35: základní | F35: =ROUND((SUM(BE132:BE191)), 2) -> 0 | I35: 0.21 | J35: =ROUND(((SUM(BE132:BE191))*I35), 2) -> 0
E36: snížená | F36: =ROUND((SUM(BF132:BF191)), 2) -> 0 | I36: 0.15 | J36: =ROUND(((SUM(BF132:BF191))*I36), 2) -> 0
E37: zákl. přenesená | F37: =ROUND((SUM(BG132:BG191)), 2) -> 0 | I37: 0.21 | J37: =0 -> 0
E38: sníž. přenesená | F38: =ROUND((SUM(BH132:BH191)), 2) -> 0 | I38: 0.15 | J38: =0 -> 0
E39: nulová | F39: =ROUND((SUM(BI132:BI191)), 2) -> 0 | I39: 0 | J39: =0 -> 0
D41: Cena s DPH | G41: v | H41: CZK | J41: =SUM(J32:J39) -> 0
D50: Projektant | G50: Zpracovatel
D61: Datum a podpis: | F61: Razítko | G61: Datum a podpis: | J61: Razítko
D65: Objednavatel | G65: Uchazeč
D76: Datum a podpis: | F76: Razítko | G76: Datum a podpis: | J76: Razítko
C82: REKAPITULACE ČLENĚNÍ SOUPISU PRACÍ
C84: Stavba:
E85: =E7 -> NOVOSTAVBA SOCIÁLNÍCH BYTŮ NA PARC. Č. 789/2
C86: Objekt:
E87: UZN - UZNATELNÉ NÁKLADY
C88: Soupis:
E89: =E11 -> SO 06 - PŘÍJEZDOVÁ KOMUNIKACE A CHODNÍK
C91: Místo: | F91: =F14 -> Protivanov, ul.Na Balkáně | I91: Datum: | J91: =IF(J14="","",J14) -> 11. 12. 2019
...

Sheet SO 08 - AREÁLOVÉ ROZVODY ...
AT2: {ed858b76-7254-4849-9694-b1c371593284}
AT3: 1
D4: KRYCÍ LIST SOUPISU PRACÍ | M4: v --- níže se nacházejí doplnkové a pomocné údaje k sestavám --- v | AT4: False
D6: Stavba:
E7: ='Rekapitulace stavby'!K6 -> NOVOSTAVBA SOCIÁLNÍCH BYTŮ NA PARC. Č. 789/2
D8: Objekt:
E9: UZN - UZNATELNÉ NÁKLADY
D10: Soupis:
E11: SO 08 - AREÁLOVÉ ROZVODY A OSVĚTLENÍ
D13: KSO: | I13: CC-CZ:
D14: Místo: | F14: Protivanov, ul.Na Balkáně | I14: Datum: | J14: ='Rekapitulace stavby'!AN8 -> 11. 12. 2019
D16: Zadavatel: | I16: IČ: | J16: 00288675
E17: Městys Protivanov, Náměstí 32, 798 48 Protivanov | I17: DIČ: | J17: CZ00288675
D19: Uchazeč: | I19: IČ: | J19: ='Rekapitulace stavby'!AN13 -> Vyplň údaj
E20: ='Rekapitulace stavby'!E14 -> Vyplň údaj | I20: DIČ: | J20: ='Rekapitulace stavby'!AN14 -> Vyplň údaj
D22: Projektant: | I22: IČ:
E23: PROMED Brno, spol. s r.o | I23: DIČ:
D25: Zpracovatel: | I25: IČ: | J25: =IF('Rekapitulace stavby'!AN19="","",'Rekapitulace stavby'!AN19)
E26: =IF('Rekapitulace stavby'!E20="","",'Rekapitulace stavby'!E20) | I26: DIČ: | J26: =IF('Rekapitulace stavby'!AN20="","",'Rekapitulace stavby'!AN20)
D28: Poznámka:
D32: Cena bez DPH | J32: =ROUND(J124, 2) -> 0
F34: Základ daně | I34: Sazba daně | J34: Výše daně
D35: DPH | E35: základní | F35: =ROUND((SUM(BE124:BE138)), 2) -> 0 | I35: 0.21 | J35: =ROUND(((SUM(BE124:BE138))*I35), 2) -> 0
E36: snížená | F36: =ROUND((SUM(BF124:BF138)), 2) -> 0 | I36: 0.15 | J36: =ROUND(((SUM(BF124:BF138))*I36), 2) -> 0
E37: zákl. přenesená | F37: =ROUND((SUM(BG124:BG138)), 2) -> 0 | I37: 0.21 | J37: =0 -> 0
E38: sníž. přenesená | F38: =ROUND((SUM(BH124:BH138)), 2) -> 0 | I38: 0.15 | J38: =0 -> 0
E39: nulová | F39: =ROUND((SUM(BI124:BI138)), 2) -> 0 | I39: 0 | J39: =0 -> 0
D41: Cena s DPH | G41: v | H41: CZK | J41: =SUM(J32:J39) -> 0
D50: Projektant | G50: Zpracovatel
D61: Datum a podpis: | F61: Razítko | G61: Datum a podpis: | J61: Razítko
D65: Objednavatel | G65: Uchazeč
D76: Datum a podpis: | F76: Razítko | G76: Datum a podpis: | J76: Razítko
C82: REKAPITULACE ČLENĚNÍ SOUPISU PRACÍ
C84: Stavba:
E85: =E7 -> NOVOSTAVBA SOCIÁLNÍCH BYTŮ NA PARC. Č. 789/2
C86: Objekt:
E87: UZN - UZNATELNÉ NÁKLADY
C88: Soupis:
E89: =E11 -> SO 08 - AREÁLOVÉ ROZVODY A OSVĚTLENÍ
C91: Místo: | F91: =F14 -> Protivanov, ul.Na Balkáně | I91: Datum: | J91: =IF(J14="","",J14) -> 11. 12. 2019
...

Sheet OST - VEDLEJŠÍ A OSTATNÍ ...
AT2: {a92827f5-3ddf-4128-a576-00eb488a8305}
AT3: 1
D4: KRYCÍ LIST SOUPISU PRACÍ | M4: v --- níže se nacházejí doplnkové a pomocné údaje k sestavám --- v | AT4: False
D6: Stavba:
E7: ='Rekapitulace stavby'!K6 -> NOVOSTAVBA SOCIÁLNÍCH BYTŮ NA PARC. Č. 789/2
D8: Objekt:
E9: UZN - UZNATELNÉ NÁKLADY
D10: Soupis:
E11: OST - VEDLEJŠÍ A OSTATNÍ NÁKLADY
D13: KSO: | I13: CC-CZ:
D14: Místo: | F14: Protivanov, ul.Na Balkáně | I14: Datum: | J14: ='Rekapitulace stavby'!AN8 -> 11. 12. 2019
D16: Zadavatel: | I16: IČ: | J16: 00288675
E17: Městys Protivanov, Náměstí 32, 798 48 Protivanov | I17: DIČ: | J17: CZ00288675
D19: Uchazeč: | I19: IČ: | J19: ='Rekapitulace stavby'!AN13 -> Vyplň údaj
E20: ='Rekapitulace stavby'!E14 -> Vyplň údaj | I20: DIČ: | J20: ='Rekapitulace stavby'!AN14 -> Vyplň údaj
D22: Projektant: | I22: IČ:
E23: PROMED Brno, spol. s r.o | I23: DIČ:
D25: Zpracovatel: | I25: IČ: | J25: =IF('Rekapitulace stavby'!AN19="","",'Rekapitulace stavby'!AN19)
E26: =IF('Rekapitulace stavby'!E20="","",'Rekapitulace stavby'!E20) | I26: DIČ: | J26: =IF('Rekapitulace stavby'!AN20="","",'Rekapitulace stavby'!AN20)
D28: Poznámka:
D32: Cena bez DPH | J32: =ROUND(J121, 2) -> 0
F34: Základ daně | I34: Sazba daně | J34: Výše daně
D35: DPH | E35: základní | F35: =ROUND((SUM(BE121:BE130)), 2) -> 0 | I35: 0.21 | J35: =ROUND(((SUM(BE121:BE130))*I35), 2) -> 0
E36: snížená | F36: =ROUND((SUM(BF121:BF130)), 2) -> 0 | I36: 0.15 | J36: =ROUND(((SUM(BF121:BF130))*I36), 2) -> 0
E37: zákl. přenesená | F37: =ROUND((SUM(BG121:BG130)), 2) -> 0 | I37: 0.21 | J37: =0 -> 0
E38: sníž. přenesená | F38: =ROUND((SUM(BH121:BH130)), 2) -> 0 | I38: 0.15 | J38: =0 -> 0
E39: nulová | F39: =ROUND((SUM(BI121:BI130)), 2) -> 0 | I39: 0 | J39: =0 -> 0
D41: Cena s DPH | G41: v | H41: CZK | J41: =SUM(J32:J39) -> 0
D50: Projektant | G50: Zpracovatel
D61: Datum a podpis: | F61: Razítko | G61: Datum a podpis: | J61: Razítko
D65: Objednavatel | G65: Uchazeč
D76: Datum a podpis: | F76: Razítko | G76: Datum a podpis: | J76: Razítko
C82: REKAPITULACE ČLENĚNÍ SOUPISU PRACÍ
C84: Stavba:
E85: =E7 -> NOVOSTAVBA SOCIÁLNÍCH BYTŮ NA PARC. Č. 789/2
C86: Objekt:
E87: UZN - UZNATELNÉ NÁKLADY
C88: Soupis:
E89: =E11 -> OST - VEDLEJŠÍ A OSTATNÍ NÁKLADY
C91: Místo: | F91: =F14 -> Protivanov, ul.Na Balkáně | I91: Datum: | J91: =IF(J14="","",J14) -> 11. 12. 2019
...

Sheet SO 06 - PŘÍJEZDOVÁ KOMUNI..._01
AT2: {d6f906d0-e4e9-4dd6-b18f-7f210b65350f}
AT3: 1
D4: KRYCÍ LIST SOUPISU PRACÍ | M4: v --- níže se nacházejí doplnkové a pomocné údaje k sestavám --- v | AT4: False
D6: Stavba:
E7: ='Rekapitulace stavby'!K6 -> NOVOSTAVBA SOCIÁLNÍCH BYTŮ NA PARC. Č. 789/2
D8: Objekt:
E9: NEU - NEUZNATELNÉ NÁKLADY
D10: Soupis:
E11: SO 06 - PŘÍJEZDOVÁ KOMUNIKACE A CHODNÍK
D13: KSO: | I13: CC-CZ:
D14: Místo: | F14: Protivanov, ul.Na Balkáně | I14: Datum: | J14: ='Rekapitulace stavby'!AN8 -> 11. 12. 2019
D16: Zadavatel: | I16: IČ: | J16: 00288675
E17: Městys Protivanov, Náměstí 32, 798 48 Protivanov | I17: DIČ: | J17: CZ00288675
D19: Uchazeč: | I19: IČ: | J19: ='Rekapitulace stavby'!AN13 -> Vyplň údaj
E20: ='Rekapitulace stavby'!E14 -> Vyplň údaj | I20: DIČ: | J20: ='Rekapitulace stavby'!AN14 -> Vyplň údaj
D22: Projektant: | I22: IČ:
E23: PROMED Brno, spol. s r.o | I23: DIČ:
D25: Zpracovatel: | I25: IČ: | J25: =IF('Rekapitulace stavby'!AN19="","",'Rekapitulace stavby'!AN19)
E26: =IF('Rekapitulace stavby'!E20="","",'Rekapitulace stavby'!E20) | I26: DIČ: | J26: =IF('Rekapitulace stavby'!AN20="","",'Rekapitulace stavby'!AN20)
D28: Poznámka:
D32: Cena bez DPH | J32: =ROUND(J126, 2) -> 0
F34: Základ daně | I34: Sazba daně | J34: Výše daně
D35: DPH | E35: základní | F35: =ROUND((SUM(BE126:BE142)), 2) -> 0 | I35: 0.21 | J35: =ROUND(((SUM(BE126:BE142))*I35), 2) -> 0
E36: snížená | F36: =ROUND((SUM(BF126:BF142)), 2) -> 0 | I36: 0.15 | J36: =ROUND(((SUM(BF126:BF142))*I36), 2) -> 0
E37: zákl. přenesená | F37: =ROUND((SUM(BG126:BG142)), 2) -> 0 | I37: 0.21 | J37: =0 -> 0
E38: sníž. přenesená | F38: =ROUND((SUM(BH126:BH142)), 2) -> 0 | I38: 0.15 | J38: =0 -> 0
E39: nulová | F39: =ROUND((SUM(BI126:BI142)), 2) -> 0 | I39: 0 | J39: =0 -> 0
D41: Cena s DPH | G41: v | H41: CZK | J41: =SUM(J32:J39) -> 0
D50: Projektant | G50: Zpracovatel
D61: Datum a podpis: | F61: Razítko | G61: Datum a podpis: | J61: Razítko
D65: Objednavatel | G65: Uchazeč
D76: Datum a podpis: | F76: Razítko | G76: Datum a podpis: | J76: Razítko
C82: REKAPITULACE ČLENĚNÍ SOUPISU PRACÍ
C84: Stavba:
E85: =E7 -> NOVOSTAVBA SOCIÁLNÍCH BYTŮ NA PARC. Č. 789/2
C86: Objekt:
E87: NEU - NEUZNATELNÉ NÁKLADY
C88: Soupis:
E89: =E11 -> SO 06 - PŘÍJEZDOVÁ KOMUNIKACE A CHODNÍK
C91: Místo: | F91: =F14 -> Protivanov, ul.Na Balkáně | I91: Datum: | J91: =IF(J14="","",J14) -> 11. 12. 2019
...
