Workbook

Sheet Rekapitulace stavby
A1: Export Komplet | BA1: 2.0 | BB1: ZAMOK | BT1: False | BU1: False | BV1: {ef730a07-c9ac-4ae3-998c-11552a2cb0ef}
BS2: 0,01 | BT2: 21
BS3: 0,01 | BT3: 15
D4: REKAPITULACE STAVBY | AS4: v --- níže se nacházejí doplnkové a pomocné údaje k sestavám --- v | BE4: Návod na vyplnění | BS4: 0,0001
D5: Kód: | K5: 2020_05_11 | BE5: Měnit lze pouze buňky se žlutým podbarvením!_x000D_ _x000D_ 1) na prvním listu Rekapitulace stavby vyplňte v sestavě_x000D_ _x000D_ a) Souhrnný list_x000D_ - údaje o Uchazeči_x000D_ (přenesou se do ostatních sestav i v jiných listech)_x000D_ _x000D_ b) Rekapitulace objektů_x000D_ - potřebné Ostatní náklady_x000D_ _x000D_ 2) na vybraných listech vyplňte v sestavě_x000D_ _x000D_ a) Krycí list_x000D_ - údaje o Uchazeči, pokud se liší od údajů o Uchazeči na Souhrnném listu_x000D_ (údaje se přenesou do ostatních sestav v daném listu)_x000D_ _x000D_ b) Rekapitulace rozpočtu_x000D_ - potřebné Ostatní náklady_x000D_ _x000D_ c) Celkové náklady za stavbu_x000D_ - ceny u položek_x000D_ - množství, pokud má žluté podbarvení_x000D_ - a v případě potřeby poznámku (ta je ve skrytém sloupci) | BS5: 0,01
D6: Stavba: | K6: NOVOSTAVBA SOCIÁLNÍCH BYTŮ NA PARC. Č. 789/2 | BS6: 0,01
D7: KSO: | AK7: CC-CZ: | BS7: 0,01
D8: Místo: | K8: Protivanov, ul.Na Balkáně | AK8: Datum: | AN8: 11. 12. 2019 | BS8: 0,01
BS9: 0,01
D10: Zadavatel: | AK10: IČ: | AN10: 00288675 | BS10: 0,01
E11: Městys Protivanov, Náměstí 32, 798 48 Protivanov | AK11: DIČ: | AN11: CZ00288675 | BS11: 0,01
BS12: 0,01
D13: Uchazeč: | AK13: IČ: | AN13: Vyplň údaj | BS13: 0,01
E14: Vyplň údaj | AK14: DIČ: | AN14: Vyplň údaj | BS14: 0,01
BS15: False
D16: Projektant: | AK16: IČ: | BS16: False
E17: PROMED Brno, spol. s r.o | AK17: DIČ: | BS17: True
BS18: 0,01
D19: Zpracovatel: | AK19: IČ: | BS19: 0,01
AK20: DIČ: | BS20: True
D22: Poznámka:
E23: OBJEKT SO 05 PŘÍPOJKA NN NENÍ SOUČÁSTÍ NACENĚNÍ, BUDE REALIZOVÁNO SAMOSTATNĚ
D26: Cena bez DPH | AK26: =ROUND(AG94,2) -> 0
L28: Sazba daně | W28: Základ daně | AK28: Výše daně
D29: DPH | F29: základní | L29: 0.21 | W29: =ROUND(AZ94, 2) -> 0 | AK29: =ROUND(AV94, 2) -> 0
F30: snížená | L30: 0.15 | W30: =ROUND(BA94, 2) -> 0 | AK30: =ROUND(AW94, 2) -> 0
F31: zákl. přenesená | L31: 0.21 | W31: =ROUND(BB94, 2) -> 0 | AK31: 0
F32: sníž. přenesená | L32: 0.15 | W32: =ROUND(BC94, 2) -> 0 | AK32: 0
F33: nulová | L33: 0 | W33: =ROUND(BD94, 2) -> 0 | AK33: 0
D35: Cena s DPH | T35: v | X35: CZK | AK35: =SUM(AK26:AK33) -> 0
D49: Projektant | AH49: Zpracovatel
D60: Datum a podpis: | V60: Razítko | AH60: Datum a podpis: | AM60: Razítko
D64: Objednavatel | AH64: Uchazeč
D75: Datum a podpis: | V75: Razítko | AH75: Datum a podpis: | AM75: Razítko
C82: REKAPITULACE OBJEKTŮ STAVBY A SOUPISŮ PRACÍ
C84: Kód: | L84: =K5 -> 2020_05_11
C85: Stavba: | L85: =K6 -> NOVOSTAVBA SOCIÁLNÍCH BYTŮ NA PARC. Č. 789/2
C87: Místo: | L87: =IF(K8="","",K8) -> Protivanov, ul.Na Balkáně | AI87: Datum: | AM87: =IF(AN8= "","",AN8) -> 11. 12. 2019
C89: Zadavatel: | L89: =IF(E11= "","",E11) -> Městys Protivanov, Náměstí 32, 798 48 Protivanov | AI89: Projektant: | AM89: =IF(E17="","",E17) -> PROMED Brno, spol. s r.o | AS89: Informatívní údaje z listů zakázek
C90: Uchazeč: | L90: =IF(E14= "Vyplň údaj","",E14) | AI90: Zpracovatel: | AM90: =IF(E20="","",E20)
C92: Kód | I92: Popis | AG92: Cena bez DPH [CZK] | AN92: Cena s DPH [CZK] | AQ92: Typ | AS92: z toho Ostat._x000D_ náklady [CZK] | AT92: DPH [CZK] | AU92: Normohodiny [h] | AV92: DPH základní [CZK] | AW92: DPH snížená [CZK] | AX92: DPH základní přenesená_x000D_ [CZK] | AY92: DPH snížená přenesená_x000D_ [CZK] | AZ92: Základna_x000D_ DPH základní | BA92: Základna_x000D_ DPH snížená | BB92: Základna_x000D_ DPH zákl. přenesená | BC92: Základna_x000D_ DPH sníž. přenesená | BD92: Základna_x000D_ DPH nulová
C94: Náklady z rozpočtů | AG94: =ROUND(AG95+AG108,2) -> 0 | AN94: =SUM(AG94,AT94) -> 0 | AS94: =ROUND(AS95+AS108,2) -> 0 | AT94: =ROUND(SUM(AV94:AW94),2) -> 0 | AU94: =ROUND(AU95+AU108,5) -> 0 | AV94: =ROUND(AZ94*L29,2) -> 0 | AW94: =ROUND(BA94*L30,2) -> 0 | AX94: =ROUND(BB94*L29,2) -> 0 | AY94: =ROUND(BC94*L30,2) -> 0 | AZ94: =ROUND(AZ95+AZ108,2) -> 0 | BA94: =ROUND(BA95+BA108,2) -> 0 | BB94: =ROUND(BB95+BB108,2) -> 0 | BC94: =ROUND(BC95+BC108,2) -> 0 | BD94: =ROUND(BD95+BD108,2) -> 0 | BS94: D | BT94: 0 | BU94: ###NOIMPORT### | BV94: IMPORT | BW94: {ef730a07-c9ac-4ae3-998c-11552a2cb0ef} | BX94: {00000000-0000-0000-0000-000000000000}
D95: UZN | J95: UZNATELNÉ NÁKLADY | AG95: =ROUND(AG96+SUM(AG103:AG107),2) -> 0 | AN95: =SUM(AG95,AT95) -> 0 | AQ95: STA | AS95: =ROUND(AS96+SUM(AS103:AS107),2) -> 0 | AT95: =ROUND(SUM(AV95:AW95),2) -> 0 | AU95: =ROUND(AU96+SUM(AU103:AU107),5) -> 0 | AV95: =ROUND(AZ95*L29,2) -> 0 | AW95: =ROUND(BA95*L30,2) -> 0 | AX95: =ROUND(BB95*L29,2) -> 0 | AY95: =ROUND(BC95*L30,2) -> 0 | AZ95: =ROUND(AZ96+SUM(AZ103:AZ107),2) -> 0 | BA95: =ROUND(BA96+SUM(BA103:BA107),2) -> 0 | BB95: =ROUND(BB96+SUM(BB103:BB107),2) -> 0 | BC95: =ROUND(BC96+SUM(BC103:BC107),2) -> 0 | BD95: =ROUND(BD96+SUM(BD103:BD107),2) -> 0 | BS95: D | BT95: 1 | BU95: ###NOIMPORT### | BV95: IMPORT | BW95: {b3b7c780-f89c-4b50-81b4-b0d877468562} | BX95: {ef730a07-c9ac-4ae3-998c-11552a2cb0ef} | CM95: 1
E96: SO 01 | K96: NOVOSTAVBA SOCIÁLNÍCH BYTŮ | AG96: =ROUND(SUM(AG97:AG102),2) -> 0 | AN96: =SUM(AG96,AT96) -> 0 | AQ96: Soupis | AS96: =ROUND(SUM(AS97:AS102),2) -> 0 | AT96: =ROUND(SUM(AV96:AW96),2) -> 0 | AU96: =ROUND(SUM(AU97:AU102),5) -> 0 | AV96: =ROUND(AZ96*L29,2) -> 0 | AW96: =ROUND(BA96*L30,2) -> 0 | AX96: =ROUND(BB96*L29,2) -> 0 | AY96: =ROUND(BC96*L30,2) -> 0 | AZ96: =ROUND(SUM(AZ97:AZ102),2) -> 0 | BA96: =ROUND(SUM(BA97:BA102),2) -> 0 | BB96: =ROUND(SUM(BB97:BB102),2) -> 0 | BC96: =ROUND(SUM(BC97:BC102),2) -> 0 | BD96: =ROUND(SUM(BD97:BD102),2) -> 0 | BS96: D | BT96: 2 | BU96: ###NOIMPORT### | BV96: IMPORT | BW96: {51977d09-832f-4786-996d-1eb1b48fd640} | BX96: {b3b7c780-f89c-4b50-81b4-b0d877468562}
A97: / | F97: D.1.1 | L97: Architektonické a stavebně technické řešení | AG97: ='D.1.1 - Architektonické a...'!J34 -> 0 | AN97: =SUM(AG97,AT97) -> 0 | AQ97: Soupis | AS97: 0 | AT97: =ROUND(SUM(AV97:AW97),2) -> 0 | AU97: ='D.1.1 - Architektonické a...'!P150 -> 0 | AV97: ='D.1.1 - Architektonické a...'!J37 -> 0 | AW97: ='D.1.1 - Architektonické a...'!J38 -> 0 | AX97: ='D.1.1 - Architektonické a...'!J39 -> 0 | AY97: ='D.1.1 - Architektonické a...'!J40 -> 0 | AZ97: ='D.1.1 - Architektonické a...'!F37 -> 0 | BA97: ='D.1.1 - Architektonické a...'!F38 -> 0 | BB97: ='D.1.1 - Architektonické a...'!F39 -> 0 | BC97: ='D.1.1 - Architektonické a...'!F40 -> 0 | BD97: ='D.1.1 - Architektonické a...'!F41 -> 0 | BT97: 3 | BV97: IMPORT | BW97: {6bc6a8e0-9751-41e0-8b63-aeaad6d0c9ea} | BX97: {51977d09-832f-4786-996d-1eb1b48fd640}
A98: / | F98: D.1.4.1-1 | L98: Zdravotně technické instalace - vnitřní ZTI | AG98: ='D.1.4.1-1 - Zdravotně tec...'!J34 -> 0 | AN98: =SUM(AG98,AT98) -> 0 | AQ98: Soupis | AS98: 0 | AT98: =ROUND(SUM(AV98:AW98),2) -> 0 | AU98: ='D.1.4.1-1 - Zdravotně tec...'!P129 -> 0 | AV98: ='D.1.4.1-1 - Zdravotně tec...'!J37 -> 0 | AW98: ='D.1.4.1-1 - Zdravotně tec...'!J38 -> 0 | AX98: ='D.1.4.1-1 - Zdravotně tec...'!J39 -> 0 | AY98: ='D.1.4.1-1 - Zdravotně tec...'!J40 -> 0 | AZ98: ='D.1.4.1-1 - Zdravotně tec...'!F37 -> 0 | BA98: ='D.1.4.1-1 - Zdravotně tec...'!F38 -> 0 | BB98: ='D.1.4.1-1 - Zdravotně tec...'!F39 -> 0 | BC98: ='D.1.4.1-1 - Zdravotně tec...'!F40 -> 0 | BD98: ='D.1.4.1-1 - Zdravotně tec...'!F41 -> 0 | BT98: 3 | BV98: IMPORT | BW98: {2279a868-674b-4512-8b63-9411a9720b69} | BX98: {51977d09-832f-4786-996d-1eb1b48fd640}
A99: / | F99: D.1.4.1-2 | L99: Zdravotně technické instalace - ležatá kanalizace | AG99: ='D.1.4.1-2 - Zdravotně tec...'!J34 -> 0 | AN99: =SUM(AG99,AT99) -> 0 | AQ99: Soupis | AS99: 0 | AT99: =ROUND(SUM(AV99:AW99),2) -> 0 | AU99: ='D.1.4.1-2 - Zdravotně tec...'!P128 -> 0 | AV99: ='D.1.4.1-2 - Zdravotně tec...'!J37 -> 0 | AW99: ='D.1.4.1-2 - Zdravotně tec...'!J38 -> 0 | AX99: ='D.1.4.1-2 - Zdravotně tec...'!J39 -> 0 | AY99: ='D.1.4.1-2 - Zdravotně tec...'!J40 -> 0 | AZ99: ='D.1.4.1-2 - Zdravotně tec...'!F37 -> 0 | BA99: ='D.1.4.1-2 - Zdravotně tec...'!F38 -> 0 | BB99: ='D.1.4.1-2 - Zdravotně tec...'!F39 -> 0 | BC99: ='D.1.4.1-2 - Zdravotně tec...'!F40 -> 0 | BD99: ='D.1.4.1-2 - Zdravotně tec...'!F41 -> 0 | BT99: 3 | BV99: IMPORT | BW99: {cc38d7f3-a6c7-4746-b6fa-1f1d12e6d2ce} | BX99: {51977d09-832f-4786-996d-1eb1b48fd640}
A100: / | F100: D.1.4.2 | L100: Silnoproudá elektrotechnika a hromosvod | AG100: ='D.1.4.2 - Silnoproudá ele...'!J34 -> 0 | AN100: =SUM(AG100,AT100) -> 0 | AQ100: Soupis | AS100: 0 | AT100: =ROUND(SUM(AV100:AW100),2) -> 0 | AU100: ='D.1.4.2 - Silnoproudá ele...'!P139 -> 0 | AV100: ='D.1.4.2 - Silnoproudá ele...'!J37 -> 0 | AW100: ='D.1.4.2 - Silnoproudá ele...'!J38 -> 0 | AX100: ='D.1.4.2 - Silnoproudá ele...'!J39 -> 0 | AY100: ='D.1.4.2 - Silnoproudá ele...'!J40 -> 0 | AZ100: ='D.1.4.2 - Silnoproudá ele...'!F37 -> 0 | BA100: ='D.1.4.2 - Silnoproudá ele...'!F38 -> 0 | BB100: ='D.1.4.2 - Silnoproudá ele...'!F39 -> 0 | BC100: ='D.1.4.2 - Silnoproudá ele...'!F40 -> 0 | BD100: ='D.1.4.2 - Silnoproudá ele...'!F41 -> 0 | BT100: 3 | BV100: IMPORT | BW100: {ec508bb4-a617-424e-964b-1fc6fd5b18e2} | BX100: {51977d09-832f-4786-996d-1eb1b48fd640}
A101: / | F101: D.1.4.3 | L101: Zařízení pro vytápění staveb | AG101: ='D.1.4.3 - Zařízení pro vy...'!J34 -> 0 | AN101: =SUM(AG101,AT101) -> 0 | AQ101: Soupis | AS101: 0 | AT101: =ROUND(SUM(AV101:AW101),2) -> 0 | AU101: ='D.1.4.3 - Zařízení pro vy...'!P131 -> 0 | AV101: ='D.1.4.3 - Zařízení pro vy...'!J37 -> 0 | AW101: ='D.1.4.3 - Zařízení pro vy...'!J38 -> 0 | AX101: ='D.1.4.3 - Zařízení pro vy...'!J39 -> 0 | AY101: ='D.1.4.3 - Zařízení pro vy...'!J40 -> 0 | AZ101: ='D.1.4.3 - Zařízení pro vy...'!F37 -> 0 | BA101: ='D.1.4.3 - Zařízení pro vy...'!F38 -> 0 | BB101: ='D.1.4.3 - Zařízení pro vy...'!F39 -> 0 | BC101: ='D.1.4.3 - Zařízení pro vy...'!F40 -> 0 | BD101: ='D.1.4.3 - Zařízení pro vy...'!F41 -> 0 | BT101: 3 | BV101: IMPORT | BW101: {cacc2450-f702-46c7-9976-8fb1ad0cf7bc} | BX101: {51977d09-832f-4786-996d-1eb1b48fd640}
A102: / | F102: D.1.4.4 | L102: Vzduchotechnika | AG102: ='D.1.4.4 - Vzduchotechnika'!J34 -> 0 | AN102: =SUM(AG102,AT102) -> 0 | AQ102: Soupis | AS102: 0 | AT102: =ROUND(SUM(AV102:AW102),2) -> 0 | AU102: ='D.1.4.4 - Vzduchotechnika'!P127 -> 0 | AV102: ='D.1.4.4 - Vzduchotechnika'!J37 -> 0 | AW102: ='D.1.4.4 - Vzduchotechnika'!J38 -> 0 | AX102: ='D.1.4.4 - Vzduchotechnika'!J39 -> 0 | AY102: ='D.1.4.4 - Vzduchotechnika'!J40 -> 0 | AZ102: ='D.1.4.4 - Vzduchotechnika'!F37 -> 0 | BA102: ='D.1.4.4 - Vzduchotechnika'!F38 -> 0 | BB102: ='D.1.4.4 - Vzduchotechnika'!F39 -> 0 | BC102: ='D.1.4.4 - Vzduchotechnika'!F40 -> 0 | BD102: ='D.1.4.4 - Vzduchotechnika'!F41 -> 0 | BT102: 3 | BV102: IMPORT | BW102: {55de6866-68d8-4c2c-954f-8fca262b4c2f} | BX102: {51977d09-832f-4786-996d-1eb1b48fd640}
A103: / | E103: SO 02, 03, 07 | K103: PŘÍPOJKA SPLAŠKOVÉ KANALIZACE, PŘÍPOJKA VODOVODU, PRŮLEH SE VSAKOVÁNÍM | AG103: ='SO 02, 03, 07 - PŘÍPOJKA ...'!J32 -> 0 | AN103: =SUM(AG103,AT103) -> 0 | AQ103: Soupis | AS103: 0 | AT103: =ROUND(SUM(AV103:AW103),2) -> 0 | AU103: ='SO 02, 03, 07 - PŘÍPOJKA ...'!P130 -> 0 | AV103: ='SO 02, 03, 07 - PŘÍPOJKA ...'!J35 -> 0 | AW103: ='SO 02, 03, 07 - PŘÍPOJKA ...'!J36 -> 0 | AX103: ='SO 02, 03, 07 - PŘÍPOJKA ...'!J37 -> 0 | AY103: ='SO 02, 03, 07 - PŘÍPOJKA ...'!J38 -> 0 | AZ103: ='SO 02, 03, 07 - PŘÍPOJKA ...'!F35 -> 0 | BA103: ='SO 02, 03, 07 - PŘÍPOJKA ...'!F36 -> 0 | BB103: ='SO 02, 03, 07 - PŘÍPOJKA ...'!F37 -> 0 | BC103: ='SO 02, 03, 07 - PŘÍPOJKA ...'!F38 -> 0 | BD103: ='SO 02, 03, 07 - PŘÍPOJKA ...'!F39 -> 0 | BT103: 2 | BV103: IMPORT | BW103: {cd8a4cce-7249-4fed-a54d-309550e5dfc8} | BX103: {b3b7c780-f89c-4b50-81b4-b0d877468562}
A104: / | E104: SO 04 | K104: PŘÍPOJKA STL PLYNOVODU | AG104: ='SO 04 - PŘÍPOJKA STL PLYN...'!J32 -> 0 | AN104: =SUM(AG104,AT104) -> 0 | AQ104: Soupis | AS104: 0 | AT104: =ROUND(SUM(AV104:AW104),2) -> 0 | AU104: ='SO 04 - PŘÍPOJKA STL PLYN...'!P122 -> 0 | AV104: ='SO 04 - PŘÍPOJKA STL PLYN...'!J35 -> 0 | AW104: ='SO 04 - PŘÍPOJKA STL PLYN...'!J36 -> 0 | AX104: ='SO 04 - PŘÍPOJKA STL PLYN...'!J37 -> 0 | AY104: ='SO 04 - PŘÍPOJKA STL PLYN...'!J38 -> 0 | AZ104: ='SO 04 - PŘÍPOJKA STL PLYN...'!F35 -> 0 | BA104: ='SO 04 - PŘÍPOJKA STL PLYN...'!F36 -> 0 | BB104: ='SO 04 - PŘÍPOJKA STL PLYN...'!F37 -> 0 | BC104: ='SO 04 - PŘÍPOJKA STL PLYN...'!F38 -> 0 | BD104: ='SO 04 - PŘÍPOJKA STL PLYN...'!F39 -> 0 | BT104: 2 | BV104: IMPORT | BW104: {0cb118f8-4f8c-436c-bbc7-da6bf456a0ff} | BX104: {b3b7c780-f89c-4b50-81b4-b0d877468562}
A105: / | E105: SO 06 | K105: PŘÍJEZDOVÁ KOMUNIKACE A CHODNÍK | AG105: ='SO 06 - PŘÍJEZDOVÁ KOMUNI...'!J32 -> 0 | AN105: =SUM(AG105,AT105) -> 0 | AQ105: Soupis | AS105: 0 | AT105: =ROUND(SUM(AV105:AW105),2) -> 0 | AU105: ='SO 06 - PŘÍJEZDOVÁ KOMUNI...'!P132 -> 0 | AV105: ='SO 06 - PŘÍJEZDOVÁ KOMUNI...'!J35 -> 0 | AW105: ='SO 06 - PŘÍJEZDOVÁ KOMUNI...'!J36 -> 0 | AX105: ='SO 06 - PŘÍJEZDOVÁ KOMUNI...'!J37 -> 0 | AY105: ='SO 06 - PŘÍJEZDOVÁ KOMUNI...'!J38 -> 0 | AZ105: ='SO 06 - PŘÍJEZDOVÁ KOMUNI...'!F35 -> 0 | BA105: ='SO 06 - PŘÍJEZDOVÁ KOMUNI...'!F36 -> 0 | BB105: ='SO 06 - PŘÍJEZDOVÁ KOMUNI...'!F37 -> 0 | BC105: ='SO 06 - PŘÍJEZDOVÁ KOMUNI...'!F38 -> 0 | BD105: ='SO 06 - PŘÍJEZDOVÁ KOMUNI...'!F39 -> 0 | BT105: 2 | BV105: IMPORT | BW105: {4e0b4158-1ab8-453a-a10c-50cfaed39a2c} | BX105: {b3b7c780-f89c-4b50-81b4-b0d877468562}
A106: / | E106: SO 08 | K106: AREÁLOVÉ ROZVODY A OSVĚTLENÍ | AG106: ='SO 08 - AREÁLOVÉ ROZVODY ...'!J32 -> 0 | AN106: =SUM(AG106,AT106) -> 0 | AQ106: Soupis | AS106: 0 | AT106: =ROUND(SUM(AV106:AW106),2) -> 0 | AU106: ='SO 08 - AREÁLOVÉ ROZVODY ...'!P124 -> 0 | AV106: ='SO 08 - AREÁLOVÉ ROZVODY ...'!J35 -> 0 | AW106: ='SO 08 - AREÁLOVÉ ROZVODY ...'!J36 -> 0 | AX106: ='SO 08 - AREÁLOVÉ ROZVODY ...'!J37 -> 0 | AY106: ='SO 08 - AREÁLOVÉ ROZVODY ...'!J38 -> 0 | AZ106: ='SO 08 - AREÁLOVÉ ROZVODY ...'!F35 -> 0 | BA106: ='SO 08 - AREÁLOVÉ ROZVODY ...'!F36 -> 0 | BB106: ='SO 08 - AREÁLOVÉ ROZVODY ...'!F37 -> 0 | BC106: ='SO 08 - AREÁLOVÉ ROZVODY ...'!F38 -> 0 | BD106: ='SO 08 - AREÁLOVÉ ROZVODY ...'!F39 -> 0 | BT106: 2 | BV106: IMPORT | BW106: {ed858b76-7254-4849-9694-b1c371593284} | BX106: {b3b7c780-f89c-4b50-81b4-b0d877468562}
A107: / | E107: OST | K107: VEDLEJŠÍ A OSTATNÍ NÁKLADY | AG107: ='OST - VEDLEJŠÍ A OSTATNÍ ...'!J32 -> 0 | AN107: =SUM(AG107,AT107) -> 0 | AQ107: Soupis | AS107: 0 | AT107: =ROUND(SUM(AV107:AW107),2) -> 0 | AU107: ='OST - VEDLEJŠÍ A OSTATNÍ ...'!P121 -> 0 | AV107: ='OST - VEDLEJŠÍ A OSTATNÍ ...'!J35 -> 0 | AW107: ='OST - VEDLEJŠÍ A OSTATNÍ ...'!J36 -> 0 | AX107: ='OST - VEDLEJŠÍ A OSTATNÍ ...'!J37 -> 0 | AY107: ='OST - VEDLEJŠÍ A OSTATNÍ ...'!J38 -> 0 | AZ107: ='OST - VEDLEJŠÍ A OSTATNÍ ...'!F35 -> 0 | BA107: ='OST - VEDLEJŠÍ A OSTATNÍ ...'!F36 -> 0 | BB107: ='OST - VEDLEJŠÍ A OSTATNÍ ...'!F37 -> 0 | BC107: ='OST - VEDLEJŠÍ A OSTATNÍ ...'!F38 -> 0 | BD107: ='OST - VEDLEJŠÍ A OSTATNÍ ...'!F39 -> 0 | BT107: 2 | BV107: IMPORT | BW107: {a92827f5-3ddf-4128-a576-00eb488a8305} | BX107: {b3b7c780-f89c-4b50-81b4-b0d877468562}
D108: NEU | J108: NEUZNATELNÉ NÁKLADY | AG108: =ROUND(AG109,2) -> 0 | AN108: =SUM(AG108,AT108) -> 0 | AQ108: STA | AS108: =ROUND(AS109,2) -> 0 | AT108: =ROUND(SUM(AV108:AW108),2) -> 0 | AU108: =ROUND(AU109,5) -> 0 | AV108: =ROUND(AZ108*L29,2) -> 0 | AW108: =ROUND(BA108*L30,2) -> 0 | AX108: =ROUND(BB108*L29,2) -> 0 | AY108: =ROUND(BC108*L30,2) -> 0 | AZ108: =ROUND(AZ109,2) -> 0 | BA108: =ROUND(BA109,2) -> 0 | BB108: =ROUND(BB109,2) -> 0 | BC108: =ROUND(BC109,2) -> 0 | BD108: =ROUND(BD109,2) -> 0 | BS108: D | BT108: 1 | BU108: ###NOIMPORT### | BV108: IMPORT | BW108: {fba32638-e121-4e69-8b1a-7c67cc423a6e} | BX108: {ef730a07-c9ac-4ae3-998c-11552a2cb0ef} | CM108: 1
A109: / | E109: SO 06 | K109: PŘÍJEZDOVÁ KOMUNIKACE A CHODNÍK | AG109: ='SO 06 - PŘÍJEZDOVÁ KOMUNI..._01'!J32 -> 0 | AN109: =SUM(AG109,AT109) -> 0 | AQ109: Soupis | AS109: 0 | AT109: =ROUND(SUM(AV109:AW109),2) -> 0 | AU109: ='SO 06 - PŘÍJEZDOVÁ KOMUNI..._01'!P126 -> 0 | AV109: ='SO 06 - PŘÍJEZDOVÁ KOMUNI..._01'!J35 -> 0 | AW109: ='SO 06 - PŘÍJEZDOVÁ KOMUNI..._01'!J36 -> 0 | AX109: ='SO 06 - PŘÍJEZDOVÁ KOMUNI..._01'!J37 -> 0 | AY109: ='SO 06 - PŘÍJEZDOVÁ KOMUNI..._01'!J38 -> 0 | AZ109: ='SO 06 - PŘÍJEZDOVÁ KOMUNI..._01'!F35 -> 0 | BA109: ='SO 06 - PŘÍJEZDOVÁ KOMUNI..._01'!F36 -> 0 | BB109: ='SO 06 - PŘÍJEZDOVÁ KOMUNI..._01'!F37 -> 0 | BC109: ='SO 06 - PŘÍJEZDOVÁ KOMUNI..._01'!F38 -> 0 | BD109: ='SO 06 - PŘÍJEZDOVÁ KOMUNI..._01'!F39 -> 0 | BT109: 2 | BV109: IMPORT | BW109: {d6f906d0-e4e9-4dd6-b18f-7f210b65350f} | BX109: {fba32638-e121-4e69-8b1a-7c67cc423a6e}

Sheet D.1.1 - Architektonické a...
AT2: {6bc6a8e0-9751-41e0-8b63-aeaad6d0c9ea}
AT3: 1
D4: KRYCÍ LIST SOUPISU PRACÍ | M4: v --- níže se nacházejí doplnkové a pomocné údaje k sestavám --- v | AT4: False
D6: Stavba:
E7: ='Rekapitulace stavby'!K6 -> NOVOSTAVBA SOCIÁLNÍCH BYTŮ NA PARC. Č. 789/2
D8: Objekt:
E9: UZN - UZNATELNÉ NÁKLADY
D10: Soupis:
E11: SO 01 - NOVOSTAVBA SOCIÁLNÍCH BYTŮ
D12: Úroveň 3:
E13: D.1.1 - Architektonické a stavebně technické řešení
D15: KSO: | I15: CC-CZ:
D16: Místo: | F16: Protivanov, ul.Na Balkáně | I16: Datum: | J16: ='Rekapitulace stavby'!AN8 -> 11. 12. 2019
D18: Zadavatel: | I18: IČ: | J18: 00288675
E19: Městys Protivanov, Náměstí 32, 798 48 Protivanov | I19: DIČ: | J19: CZ00288675
D21: Uchazeč: | I21: IČ: | J21: ='Rekapitulace stavby'!AN13 -> Vyplň údaj
E22: ='Rekapitulace stavby'!E14 -> Vyplň údaj | I22: DIČ: | J22: ='Rekapitulace stavby'!AN14 -> Vyplň údaj
D24: Projektant: | I24: IČ:
E25: PROMED Brno, spol. s r.o | I25: DIČ:
D27: Zpracovatel: | I27: IČ: | J27: =IF('Rekapitulace stavby'!AN19="","",'Rekapitulace stavby'!AN19)
E28: =IF('Rekapitulace stavby'!E20="","",'Rekapitulace stavby'!E20) | I28: DIČ: | J28: =IF('Rekapitulace stavby'!AN20="","",'Rekapitulace stavby'!AN20)
D30: Poznámka:
D34: Cena bez DPH | J34: =ROUND(J150, 2) -> 0
F36: Základ daně | I36: Sazba daně | J36: Výše daně
D37: DPH | E37: základní | F37: =ROUND((SUM(BE150:BE1417)), 2) -> 0 | I37: 0.21 | J37: =ROUND(((SUM(BE150:BE1417))*I37), 2) -> 0
E38: snížená | F38: =ROUND((SUM(BF150:BF1417)), 2) -> 0 | I38: 0.15 | J38: =ROUND(((SUM(BF150:BF1417))*I38), 2) -> 0
E39: zákl. přenesená | F39: =ROUND((SUM(BG150:BG1417)), 2) -> 0 | I39: 0.21 | J39: =0 -> 0
E40: sníž. přenesená | F40: =ROUND((SUM(BH150:BH1417)), 2) -> 0 | I40: 0.15 | J40: =0 -> 0
E41: nulová | F41: =ROUND((SUM(BI150:BI1417)), 2) -> 0 | I41: 0 | J41: =0 -> 0
D43: Cena s DPH | G43: v | H43: CZK | J43: =SUM(J34:J41) -> 0
D50: Projektant | G50: Zpracovatel
D61: Datum a podpis: | F61: Razítko | G61: Datum a podpis: | J61: Razítko
D65: Objednavatel | G65: Uchazeč
D76: Datum a podpis: | F76: Razítko | G76: Datum a podpis: | J76: Razítko
C82: REKAPITULACE ČLENĚNÍ SOUPISU PRACÍ
C84: Stavba:
E85: =E7 -> NOVOSTAVBA SOCIÁLNÍCH BYTŮ NA PARC. Č. 789/2
C86: Objekt:
E87: UZN - UZNATELNÉ NÁKLADY
C88: Soupis:
E89: SO 01 - NOVOSTAVBA SOCIÁLNÍCH BYTŮ
C90: Úroveň 3:
E91: =E13 -> D.1.1 - Architektonické a stavebně technické řešení
C93: Místo: | F93: =F16 -> Protivanov, ul.Na Balkáně | I93: Datum: | J93: =IF(J16="","",J16) -> 11. 12. 2019
C95: Zadavatel: | F95: =E19 -> Městys Protivanov, Náměstí 32, 798 48 Protivanov | I95: Projektant: | J95: =E25 -> PROMED Brno, spol. s r.o
C96: Uchazeč: | F96: =IF(E22="","",E22) -> Vyplň údaj | I96: Zpracovatel: | J96: =E28
C98: Kód dílu - Popis | J98: Cena celkem [CZK]
C100: Náklady ze soupisu prací | J100: =J150 -> 0 | AU100: -1
D101: 1 - Zemní práce | J101: =J151 -> 0
D102: 2 - Základy a zvláštní zakládání | J102: =J184 -> 0
D103: 3 - Svislé a kompletní konstrukce | J103: =J231 -> 0
D104: 4 - Vodorovné konstrukce | J104: =J388 -> 0
D105: 5 - Komunikace | J105: =J515 -> 0
D106: 61 - Úpravy povrchů vnitřní | J106: =J520 -> 0
D107: 62 - Úpravy povrchů vnější | J107: =J641 -> 0
D108: 63 - Podlahy a podlahové konstrukce | J108: =J801 -> 0
D109: 94 - Lešení a stavební výtahy | J109: =J853 -> 0
D110: 95 - Dokončovací konstrukce na pozemních stavbách | J110: =J885 -> 0
D111: 99 - Staveništní přesun hmot | J111: =J897 -> 0
D112: 999 - Skladby konstrukcí-neoceňovat | J112: =J899 -> 0
D113: 711 - Izolace proti vodě | J113: =J916 -> 0
D114: 712 - Povlakové krytiny | J114: =J966 -> 0
D115: 713 - Izolace tepelné | J115: =J1026 -> 0
D116: 762 - Konstrukce tesařské | J116: =J1095 -> 0
D117: 764 - Konstrukce klempířské | J117: =J1106 -> 0
D118: 766 - Konstrukce truhlářské | J118: =J1121 -> 0
D119: 767 - Konstrukce zámečnické | J119: =J1151 -> 0
D120: 771 - Podlahy z dlaždic a obklady | J120: =J1190 -> 0
D121: 775 - Podlahy vlysové a parketové | J121: =J1229 -> 0
D122: 777 - Podlahy ze syntetických hmot | J122: =J1245 -> 0
D123: 781 - Obklady keramické | J123: =J1249 -> 0
D124: 783 - Nátěry | J124: =J1290 -> 0
D125: 784 - Malby | J125: =J1307 -> 0
D126: M33 - Montáže dopravních zařízení a vah-výtahy | J126: =J1416 -> 0
C133: SOUPIS PRACÍ
C135: Stavba:
E136: =E7 -> NOVOSTAVBA SOCIÁLNÍCH BYTŮ NA PARC. Č. 789/2
C137: Objekt:
E138: UZN - UZNATELNÉ NÁKLADY
C139: Soupis:
E140: SO 01 - NOVOSTAVBA SOCIÁLNÍCH BYTŮ
C141: Úroveň 3:
E142: =E13 -> D.1.1 - Architektonické a stavebně technické řešení
C144: Místo: | F144: =F16 -> Protivanov, ul.Na Balkáně | I144: Datum: | J144: =IF(J16="","",J16) -> 11. 12. 2019
C146: Zadavatel: | F146: =E19 -> Městys Protivanov, Náměstí 32, 798 48 Protivanov | I146: Projektant: | J146: =E25 -> PROMED Brno, spol. s r.o
C147: Uchazeč: | F147: =IF(E22="","",E22) -> Vyplň údaj | I147: Zpracovatel: | J147: =E28
C149: PČ | D149: Typ | E149: Kód | F149: Popis | G149: MJ | H149: Množství | I149: J.cena [CZK] | J149: Cena celkem [CZK] | K149: Cenová soustava | N149: DPH | O149: J. Nh [h] | P149: Nh celkem [h] | Q149: J. hmotnost [t] | R149: Hmotnost celkem [t] | S149: J. suť [t] | T149: Suť Celkem [t]
C150: Náklady soupisu celkem | J150: =BK150 -> 0 | P150: =P151+P184+P231+P388+P515+P520+P641+P801+P853+P885+P897+P899+P916+P966+P1026+P1095+P1106+P1121+P1151+P1190+P1229+P1245+P1249+P1290+P1307+P1416 -> 0 | R150: =R151+R184+R231+R388+R515+R520+R641+R801+R853+R885+R897+R899+R916+R966+R1026+R1095+R1106+R1121+R1151+R1190+R1229+R1245+R1249+R1290+R1307+R1416 -> 0 | T150: =T151+T184+T231+T388+T515+T520+T641+T801+T853+T885+T897+T899+T916+T966+T1026+T1095+T1106+T1121+T1151+T1190+T1229+T1245+T1249+T1290+T1307+T1416 -> 0 | AT150: D | AU150: -1 | BK150: =BK151+BK184+BK231+BK388+BK515+BK520+BK641+BK801+BK853+BK885+BK897+BK899+BK916+BK966+BK1026+BK1095+BK1106+BK1121+BK1151+BK1190+BK1229+BK1245+BK1249+BK1290+BK1307+BK1416 -> 0
D151: D | E151: 1 | F151: Zemní práce | J151: =BK151 -> 0 | P151: =SUM(P152:P183) -> 0 | R151: =SUM(R152:R183) -> 0 | T151: =SUM(T152:T183) -> 0 | AR151: 1 | AT151: D | AU151: 0 | AY151: ROZPOCET | BK151: =SUM(BK152:BK183) -> 0
C152: 1 | D152: K | E152: 121101101R00 | F152: Sejmutí ornice s přemístěním do 50 m | G152: m3 | H152: 67.3125 | J152: =ROUND(I152*H152,2) -> 0 | K152: RTS 19/ II | N152: snížená | P152: =O152*H152 -> 0 | Q152: 0 | R152: =Q152*H152 -> 0 | S152: 0 | T152: =S152*H152 -> 0 | AR152: 4 | AT152: K | AU152: 1 | AY152: ROZPOCET | BE152: =IF(N152="základní",J152,0) -> 0 | BF152: =IF(N152="snížená",J152,0) -> 0 | BG152: =IF(N152="zákl. přenesená",J152,0) -> 0 | BH152: =IF(N152="sníž. přenesená",J152,0) -> 0 | BI152: =IF(N152="nulová",J152,0) -> 0 | BJ152: 2 | BK152: =ROUND(I152*H152,2) -> 0 | BL152: 4 | BM152: 2
D153: VV | F153: 0,15*(12*18,5+17*12+6,5*3,5) | H153: 67.3125 | AT153: VV | AU153: 1 | AV153: 2 | AW153: True | AX153: 0 | AY153: ROZPOCET
D154: VV | F154: Součet | H154: 67.3125 | AT154: VV | AU154: 1 | AV154: 4 | AW154: True | AX154: 1 | AY154: ROZPOCET
C155: 2 | D155: K | E155: 131201112R00 | F155: Hloubení nezapaž. jam hor.3 do 1000 m3, STROJNĚ | G155: m3 | H155: 396.9 | J155: =ROUND(I155*H155,2) -> 0 | K155: RTS 19/ II | N155: snížená | P155: =O155*H155 -> 0 | Q155: 0 | R155: =Q155*H155 -> 0 | S155: 0 | T155: =S155*H155 -> 0 | AR155: 4 | AT155: K | AU155: 1 | AY155: ROZPOCET | BE155: =IF(N155="základní",J155,0) -> 0 | BF155: =IF(N155="snížená",J155,0) -> 0 | BG155: =IF(N155="zákl. přenesená",J155,0) -> 0 | BH155: =IF(N155="sníž. přenesená",J155,0) -> 0 | BI155: =IF(N155="nulová",J155,0) -> 0 | BJ155: 2 | BK155: =ROUND(I155*H155,2) -> 0 | BL155: 4 | BM155: 4
D156: VV | F156: 0,84*(12*18,5+17*12+4,5*4+4,5*2+6,5*1,5+3,9*2,5) | H156: 396.9 | AT156: VV | AU156: 1 | AV156: 2 | AW156: True | AX156: 0 | AY156: ROZPOCET
D157: VV | F157: Součet | H157: 396.9 | AT157: VV | AU157: 1 | AV157: 4 | AW157: True | AX157: 1 | AY157: ROZPOCET
C158: 3 | D158: K | E158: 131201119R00 | F158: Příplatek za lepivost - hloubení nezap.jam v hor.3 | G158: m3 | H158: 396.9 | J158: =ROUND(I158*H158,2) -> 0 | K158: RTS 19/ II | N158: snížená | P158: =O158*H158 -> 0 | Q158: 0 | R158: =Q158*H158 -> 0 | S158: 0 | T158: =S158*H158 -> 0 | AR158: 4 | AT158: K | AU158: 1 | AY158: ROZPOCET | BE158: =IF(N158="základní",J158,0) -> 0 | BF158: =IF(N158="snížená",J158,0) -> 0 | BG158: =IF(N158="zákl. přenesená",J158,0) -> 0 | BH158: =IF(N158="sníž. přenesená",J158,0) -> 0 | BI158: =IF(N158="nulová",J158,0) -> 0 | BJ158: 2 | BK158: =ROUND(I158*H158,2) -> 0 | BL158: 4 | BM158: 6
C159: 4 | D159: K | E159: 162701105R00 | F159: Vodorovné přemístění výkopku z hor.1-4 do 10000 m | G159: m3 | H159: 555.6584 | J159: =ROUND(I159*H159,2) -> 0 | K159: RTS 19/ II | N159: snížená | P159: =O159*H159 -> 0 | Q159: 0 | R159: =Q159*H159 -> 0 | S159: 0 | T159: =S159*H159 -> 0 | AR159: 4 | AT159: K | AU159: 1 | AY159: ROZPOCET | BE159: =IF(N159="základní",J159,0) -> 0 | BF159: =IF(N159="snížená",J159,0) -> 0 | BG159: =IF(N159="zákl. přenesená",J159,0) -> 0 | BH159: =IF(N159="sníž. přenesená",J159,0) -> 0 | BI159: =IF(N159="nulová",J159,0) -> 0 | BJ159: 2 | BK159: =ROUND(I159*H159,2) -> 0 | BL159: 4 | BM159: 8
D160: VV | F160: zemina z jam : | AT160: VV | AU160: 1 | AV160: 1 | AW160: True | AX160: 0 | AY160: ROZPOCET
D161: VV | F161: 396,9 | H161: 396.9 | AT161: VV | AU161: 1 | AV161: 2 | AW161: True | AX161: 0 | AY161: ROZPOCET
D162: VV | F162: zemina z pilot : | AT162: VV | AU162: 1 | AV162: 1 | AW162: True | AX162: 0 | AY162: ROZPOCET
...

Sheet D.1.4.1-1 - Zdravotně tec...
AT2: {2279a868-674b-4512-8b63-9411a9720b69}
AT3: 1
D4: KRYCÍ LIST SOUPISU PRACÍ | M4: v --- níže se nacházejí doplnkové a pomocné údaje k sestavám --- v | AT4: False
D6: Stavba:
E7: ='Rekapitulace stavby'!K6 -> NOVOSTAVBA SOCIÁLNÍCH BYTŮ NA PARC. Č. 789/2
D8: Objekt:
E9: UZN - UZNATELNÉ NÁKLADY
D10: Soupis:
E11: SO 01 - NOVOSTAVBA SOCIÁLNÍCH BYTŮ
D12: Úroveň 3:
E13: D.1.4.1-1 - Zdravotně technické instalace - vnitřní ZTI
D15: KSO: | I15: CC-CZ:
D16: Místo: | F16: Protivanov, ul.Na Balkáně | I16: Datum: | J16: ='Rekapitulace stavby'!AN8 -> 11. 12. 2019
D18: Zadavatel: | I18: IČ: | J18: 00288675
E19: Městys Protivanov, Náměstí 32, 798 48 Protivanov | I19: DIČ: | J19: CZ00288675
D21: Uchazeč: | I21: IČ: | J21: ='Rekapitulace stavby'!AN13 -> Vyplň údaj
E22: ='Rekapitulace stavby'!E14 -> Vyplň údaj | I22: DIČ: | J22: ='Rekapitulace stavby'!AN14 -> Vyplň údaj
D24: Projektant: | I24: IČ:
E25: PROMED Brno, spol. s r.o | I25: DIČ:
D27: Zpracovatel: | I27: IČ: | J27: =IF('Rekapitulace stavby'!AN19="","",'Rekapitulace stavby'!AN19)
E28: =IF('Rekapitulace stavby'!E20="","",'Rekapitulace stavby'!E20) | I28: DIČ: | J28: =IF('Rekapitulace stavby'!AN20="","",'Rekapitulace stavby'!AN20)
D30: Poznámka:
D34: Cena bez DPH | J34: =ROUND(J129, 2) -> 0
F36: Základ daně | I36: Sazba daně | J36: Výše daně
D37: DPH | E37: základní | F37: =ROUND((SUM(BE129:BE228)), 2) -> 0 | I37: 0.21 | J37: =ROUND(((SUM(BE129:BE228))*I37), 2) -> 0
E38: snížená | F38: =ROUND((SUM(BF129:BF228)), 2) -> 0 | I38: 0.15 | J38: =ROUND(((SUM(BF129:BF228))*I38), 2) -> 0
E39: zákl. přenesená | F39: =ROUND((SUM(BG129:BG228)), 2) -> 0 | I39: 0.21 | J39: =0 -> 0
E40: sníž. přenesená | F40: =ROUND((SUM(BH129:BH228)), 2) -> 0 | I40: 0.15 | J40: =0 -> 0
E41: nulová | F41: =ROUND((SUM(BI129:BI228)), 2) -> 0 | I41: 0 | J41: =0 -> 0
D43: Cena s DPH | G43: v | H43: CZK | J43: =SUM(J34:J41) -> 0
D50: Projektant | G50: Zpracovatel
D61: Datum a podpis: | F61: Razítko | G61: Datum a podpis: | J61: Razítko
D65: Objednavatel | G65: Uchazeč
D76: Datum a podpis: | F76: Razítko | G76: Datum a podpis: | J76: Razítko
C82: REKAPITULACE ČLENĚNÍ SOUPISU PRACÍ
C84: Stavba:
E85: =E7 -> NOVOSTAVBA SOCIÁLNÍCH BYTŮ NA PARC. Č. 789/2
C86: Objekt:
E87: UZN - UZNATELNÉ NÁKLADY
C88: Soupis:
E89: SO 01 - NOVOSTAVBA SOCIÁLNÍCH BYTŮ
C90: Úroveň 3:
E91: =E13 -> D.1.4.1-1 - Zdravotně technické instalace - vnitřní ZTI
C93: Místo: | F93: =F16 -> Protivanov, ul.Na Balkáně | I93: Datum: | J93: =IF(J16="","",J16) -> 11. 12. 2019
C95: Zadavatel: | F95: =E19 -> Městys Protivanov, Náměstí 32, 798 48 Protivanov | I95: Projektant: | J95: =E25 -> PROMED Brno, spol. s r.o
C96: Uchazeč: | F96: =IF(E22="","",E22) -> Vyplň údaj | I96: Zpracovatel: | J96: =E28
C98: Kód dílu - Popis | J98: Cena celkem [CZK]
C100: Náklady ze soupisu prací | J100: =J129 -> 0 | AU100: -1
D101: 721 - Vnitřní kanalizace | J101: =J130 -> 0
D102: 722 - Vnitřní vodovod | J102: =J151 -> 0
D103: 723 - Vnitřní plynovod | J103: =J183 -> 0
D104: 725 - Zařizovací předměty | J104: =J200 -> 0
D105: 783 - Nátěry | J105: =J227 -> 0
C112: SOUPIS PRACÍ
C114: Stavba:
E115: =E7 -> NOVOSTAVBA SOCIÁLNÍCH BYTŮ NA PARC. Č. 789/2
C116: Objekt:
E117: UZN - UZNATELNÉ NÁKLADY
C118: Soupis:
E119: SO 01 - NOVOSTAVBA SOCIÁLNÍCH BYTŮ
C120: Úroveň 3:
E121: =E13 -> D.1.4.1-1 - Zdravotně technické instalace - vnitřní ZTI
C123: Místo: | F123: =F16 -> Protivanov, ul.Na Balkáně | I123: Datum: | J123: =IF(J16="","",J16) -> 11. 12. 2019
C125: Zadavatel: | F125: =E19 -> Městys Protivanov, Náměstí 32, 798 48 Protivanov | I125: Projektant: | J125: =E25 -> PROMED Brno, spol. s r.o
C126: Uchazeč: | F126: =IF(E22="","",E22) -> Vyplň údaj | I126: Zpracovatel: | J126: =E28
C128: PČ | D128: Typ | E128: Kód | F128: Popis | G128: MJ | H128: Množství | I128: J.cena [CZK] | J128: Cena celkem [CZK] | K128: Cenová soustava | N128: DPH | O128: J. Nh [h] | P128: Nh celkem [h] | Q128: J. hmotnost [t] | R128: Hmotnost celkem [t] | S128: J. suť [t] | T128: Suť Celkem [t]
C129: Náklady soupisu celkem | J129: =BK129 -> 0 | P129: =P130+P151+P183+P200+P227 -> 0 | R129: =R130+R151+R183+R200+R227 -> 0 | T129: =T130+T151+T183+T200+T227 -> 0 | AT129: D | AU129: -1 | BK129: =BK130+BK151+BK183+BK200+BK227 -> 0
D130: D | E130: 721 | F130: Vnitřní kanalizace | J130: =BK130 -> 0 | P130: =SUM(P131:P150) -> 0 | R130: =SUM(R131:R150) -> 0 | T130: =SUM(T131:T150) -> 0 | AR130: 2 | AT130: D | AU130: 0 | AY130: ROZPOCET | BK130: =SUM(BK131:BK150) -> 0
C131: 1 | D131: K | E131: 28349014R | F131: Dvířka revizní plná SI 3030 rozměr 300x300 mm | G131: kus | H131: 4 | J131: =ROUND(I131*H131,2) -> 0 | N131: snížená | P131: =O131*H131 -> 0 | Q131: 0 | R131: =Q131*H131 -> 0 | S131: 0 | T131: =S131*H131 -> 0 | AR131: 16 | AT131: K | AU131: 1 | AY131: ROZPOCET | BE131: =IF(N131="základní",J131,0) -> 0 | BF131: =IF(N131="snížená",J131,0) -> 0 | BG131: =IF(N131="zákl. přenesená",J131,0) -> 0 | BH131: =IF(N131="sníž. přenesená",J131,0) -> 0 | BI131: =IF(N131="nulová",J131,0) -> 0 | BJ131: 2 | BK131: =ROUND(I131*H131,2) -> 0 | BL131: 16 | BM131: 665745570
C132: 2 | D132: K | E132: 28349063R | F132: Mřížka větrací 150*150 mm se síťkou bílá, RR 120 S | G132: kus | H132: 4 | J132: =ROUND(I132*H132,2) -> 0 | N132: snížená | P132: =O132*H132 -> 0 | Q132: 0 | R132: =Q132*H132 -> 0 | S132: 0 | T132: =S132*H132 -> 0 | AR132: 16 | AT132: K | AU132: 1 | AY132: ROZPOCET | BE132: =IF(N132="základní",J132,0) -> 0 | BF132: =IF(N132="snížená",J132,0) -> 0 | BG132: =IF(N132="zákl. přenesená",J132,0) -> 0 | BH132: =IF(N132="sníž. přenesená",J132,0) -> 0 | BI132: =IF(N132="nulová",J132,0) -> 0 | BJ132: 2 | BK132: =ROUND(I132*H132,2) -> 0 | BL132: 16 | BM132: -598747156
C133: 3 | D133: K | E133: 28654741R | F133: Sifon kondenzační DN 40 PP vodorovný odtok, stavební výška 95 mm | G133: kus | H133: 16 | J133: =ROUND(I133*H133,2) -> 0 | N133: snížená | P133: =O133*H133 -> 0 | Q133: 0 | R133: =Q133*H133 -> 0 | S133: 0 | T133: =S133*H133 -> 0 | AR133: 16 | AT133: K | AU133: 1 | AY133: ROZPOCET | BE133: =IF(N133="základní",J133,0) -> 0 | BF133: =IF(N133="snížená",J133,0) -> 0 | BG133: =IF(N133="zákl. přenesená",J133,0) -> 0 | BH133: =IF(N133="sníž. přenesená",J133,0) -> 0 | BI133: =IF(N133="nulová",J133,0) -> 0 | BJ133: 2 | BK133: =ROUND(I133*H133,2) -> 0 | BL133: 16 | BM133: 1018757256
C134: 4 | D134: K | E134: 55162428.AR | F134: Uzávěrka zápachová podomítková DN40/50, pro pračky, myčky, s připojením rozvodu vody | G134: kus | H134: 16 | J134: =ROUND(I134*H134,2) -> 0 | N134: snížená | P134: =O134*H134 -> 0 | Q134: 0 | R134: =Q134*H134 -> 0 | S134: 0 | T134: =S134*H134 -> 0 | AR134: 16 | AT134: K | AU134: 1 | AY134: ROZPOCET | BE134: =IF(N134="základní",J134,0) -> 0 | BF134: =IF(N134="snížená",J134,0) -> 0 | BG134: =IF(N134="zákl. přenesená",J134,0) -> 0 | BH134: =IF(N134="sníž. přenesená",J134,0) -> 0 | BI134: =IF(N134="nulová",J134,0) -> 0 | BJ134: 2 | BK134: =ROUND(I134*H134,2) -> 0 | BL134: 16 | BM134: -691411067
C135: 5 | D135: K | E135: 55162537.AR | F135: Hlavice větrací střešní DN 110 - souprava | G135: kus | H135: 4 | J135: =ROUND(I135*H135,2) -> 0 | N135: snížená | P135: =O135*H135 -> 0 | Q135: 0 | R135: =Q135*H135 -> 0 | S135: 0 | T135: =S135*H135 -> 0 | AR135: 16 | AT135: K | AU135: 1 | AY135: ROZPOCET | BE135: =IF(N135="základní",J135,0) -> 0 | BF135: =IF(N135="snížená",J135,0) -> 0 | BG135: =IF(N135="zákl. přenesená",J135,0) -> 0 | BH135: =IF(N135="sníž. přenesená",J135,0) -> 0 | BI135: =IF(N135="nulová",J135,0) -> 0 | BJ135: 2 | BK135: =ROUND(I135*H135,2) -> 0 | BL135: 16 | BM135: 2046677692
C136: 6 | D136: K | E136: 55162545.AR | F136: Ventil(hlavice) přivzdušňovací DN 50/75/100 | G136: kus | H136: 4 | J136: =ROUND(I136*H136,2) -> 0 | N136: snížená | P136: =O136*H136 -> 0 | Q136: 0 | R136: =Q136*H136 -> 0 | S136: 0 | T136: =S136*H136 -> 0 | AR136: 16 | AT136: K | AU136: 1 | AY136: ROZPOCET | BE136: =IF(N136="základní",J136,0) -> 0 | BF136: =IF(N136="snížená",J136,0) -> 0 | BG136: =IF(N136="zákl. přenesená",J136,0) -> 0 | BH136: =IF(N136="sníž. přenesená",J136,0) -> 0 | BI136: =IF(N136="nulová",J136,0) -> 0 | BJ136: 2 | BK136: =ROUND(I136*H136,2) -> 0 | BL136: 16 | BM136: 1707301718
C137: 7 | D137: K | E137: 713571113RT2 | F137: Požárně ochranná manžeta hl. 60 mm, EI 90, D 75 mm | G137: kus | H137: 8 | J137: =ROUND(I137*H137,2) -> 0 | N137: snížená | P137: =O137*H137 -> 0 | Q137: 0 | R137: =Q137*H137 -> 0 | S137: 0 | T137: =S137*H137 -> 0 | AR137: 16 | AT137: K | AU137: 1 | AY137: ROZPOCET | BE137: =IF(N137="základní",J137,0) -> 0 | BF137: =IF(N137="snížená",J137,0) -> 0 | BG137: =IF(N137="zákl. přenesená",J137,0) -> 0 | BH137: =IF(N137="sníž. přenesená",J137,0) -> 0 | BI137: =IF(N137="nulová",J137,0) -> 0 | BJ137: 2 | BK137: =ROUND(I137*H137,2) -> 0 | BL137: 16 | BM137: 336864527
C138: 8 | D138: K | E138: 713571115RT2 | F138: Požárně ochranná manžeta hl. 60mm, EI 90, D 110 mm | G138: kus | H138: 12 | J138: =ROUND(I138*H138,2) -> 0 | N138: snížená | P138: =O138*H138 -> 0 | Q138: 0 | R138: =Q138*H138 -> 0 | S138: 0 | T138: =S138*H138 -> 0 | AR138: 16 | AT138: K | AU138: 1 | AY138: ROZPOCET | BE138: =IF(N138="základní",J138,0) -> 0 | BF138: =IF(N138="snížená",J138,0) -> 0 | BG138: =IF(N138="zákl. přenesená",J138,0) -> 0 | BH138: =IF(N138="sníž. přenesená",J138,0) -> 0 | BI138: =IF(N138="nulová",J138,0) -> 0 | BJ138: 2 | BK138: =ROUND(I138*H138,2) -> 0 | BL138: 16 | BM138: -1619514590
C139: 9 | D139: K | E139: 721176102R00 | F139: Potrubí HT připojovací D 40 x 1,8 mm | G139: m | H139: 40 | J139: =ROUND(I139*H139,2) -> 0 | N139: snížená | P139: =O139*H139 -> 0 | Q139: 0 | R139: =Q139*H139 -> 0 | S139: 0 | T139: =S139*H139 -> 0 | AR139: 16 | AT139: K | AU139: 1 | AY139: ROZPOCET | BE139: =IF(N139="základní",J139,0) -> 0 | BF139: =IF(N139="snížená",J139,0) -> 0 | BG139: =IF(N139="zákl. přenesená",J139,0) -> 0 | BH139: =IF(N139="sníž. přenesená",J139,0) -> 0 | BI139: =IF(N139="nulová",J139,0) -> 0 | BJ139: 2 | BK139: =ROUND(I139*H139,2) -> 0 | BL139: 16 | BM139: -426017787
C140: 10 | D140: K | E140: 721176103R00 | F140: Potrubí HT připojovací D 50 x 1,8 mm | G140: m | H140: 80 | J140: =ROUND(I140*H140,2) -> 0 | N140: snížená | P140: =O140*H140 -> 0 | Q140: 0 | R140: =Q140*H140 -> 0 | S140: 0 | T140: =S140*H140 -> 0 | AR140: 16 | AT140: K | AU140: 1 | AY140: ROZPOCET | BE140: =IF(N140="základní",J140,0) -> 0 | BF140: =IF(N140="snížená",J140,0) -> 0 | BG140: =IF(N140="zákl. přenesená",J140,0) -> 0 | BH140: =IF(N140="sníž. přenesená",J140,0) -> 0 | BI140: =IF(N140="nulová",J140,0) -> 0 | BJ140: 2 | BK140: =ROUND(I140*H140,2) -> 0 | BL140: 16 | BM140: 2113044668
C141: 11 | D141: K | E141: 721176114R00 | F141: Potrubí HT odpadní svislé D 75 x 1,9 mm | G141: m | H141: 30 | J141: =ROUND(I141*H141,2) -> 0 | N141: snížená | P141: =O141*H141 -> 0 | Q141: 0 | R141: =Q141*H141 -> 0 | S141: 0 | T141: =S141*H141 -> 0 | AR141: 16 | AT141: K | AU141: 1 | AY141: ROZPOCET | BE141: =IF(N141="základní",J141,0) -> 0 | BF141: =IF(N141="snížená",J141,0) -> 0 | BG141: =IF(N141="zákl. přenesená",J141,0) -> 0 | BH141: =IF(N141="sníž. přenesená",J141,0) -> 0 | BI141: =IF(N141="nulová",J141,0) -> 0 | BJ141: 2 | BK141: =ROUND(I141*H141,2) -> 0 | BL141: 16 | BM141: 1788083480
C142: 12 | D142: K | E142: 721176115R00 | F142: Potrubí HT odpadní svislé D 110 x 2,7 mm | G142: m | H142: 60 | J142: =ROUND(I142*H142,2) -> 0 | N142: snížená | P142: =O142*H142 -> 0 | Q142: 0 | R142: =Q142*H142 -> 0 | S142: 0 | T142: =S142*H142 -> 0 | AR142: 16 | AT142: K | AU142: 1 | AY142: ROZPOCET | BE142: =IF(N142="základní",J142,0) -> 0 | BF142: =IF(N142="snížená",J142,0) -> 0 | BG142: =IF(N142="zákl. přenesená",J142,0) -> 0 | BH142: =IF(N142="sníž. přenesená",J142,0) -> 0 | BI142: =IF(N142="nulová",J142,0) -> 0 | BJ142: 2 | BK142: =ROUND(I142*H142,2) -> 0 | BL142: 16 | BM142: -1712452079
... C150: 20 | D150: K | E150: 998721202R0X | F150: Přesun hmot pro vnitřní kanalizaci, výšky do 12 m | G150: soubor | H150: 1 | J150: =ROUND(I150*H150,2) -> 0 | N150: snížená | P150: =O150*H150 -> 0 | Q150: 0 | R150: =Q150*H150 -> 0 | S150: 0 | T150: =S150*H150 -> 0 | AR150: 16 | AT150: K | AU150: 1 | AY150: ROZPOCET | BE150: =IF(N150="základní",J150,0) -> 0 | BF150: =IF(N150="snížená",J150,0) -> 0 | BG150: =IF(N150="zákl. přenesená",J150,0) -> 0 | BH150: =IF(N150="sníž. přenesená",J150,0) -> 0 | BI150: =IF(N150="nulová",J150,0) -> 0 | BJ150: 2 | BK150: =ROUND(I150*H150,2) -> 0 | BL150: 16 | BM150: -665824583
D151: D | E151: 722 | F151: Vnitřní vodovod | J151: =BK151 -> 0 | P151: =SUM(P152:P182) -> 0 | R151: =SUM(R152:R182) -> 0 | T151: =SUM(T152:T182) -> 0 | AR151: 2 | AT151: D | AU151: 0 | AY151: ROZPOCET | BK151: =SUM(BK152:BK182) -> 0
C152: 21 | D152: K | E152: 551100011R | F152: Kohout kulový voda FIV.8363 3/4" | G152: kus | H152: 8 | J152: =ROUND(I152*H152,2) -> 0 | N152: snížená | P152: =O152*H152 -> 0 | Q152: 0 | R152: =Q152*H152 -> 0 | S152: 0 | T152: =S152*H152 -> 0 | AR152: 16 | AT152: K | AU152: 1 | AY152: ROZPOCET | BE152: =IF(N152="základní",J152,0) -> 0 | BF152: =IF(N152="snížená",J152,0) -> 0 | BG152: =IF(N152="zákl. přenesená",J152,0) -> 0 | BH152: =IF(N152="sníž. přenesená",J152,0) -> 0 | BI152: =IF(N152="nulová",J152,0) -> 0 | BJ152: 2 | BK152: =ROUND(I152*H152,2) -> 0 | BL152: 16 | BM152: 2032873683
C153: 22 | D153: K | E153: 551100022R | F153: Kohout kulový voda FIV.8366 1" | G153: kus | H153: 6 | J153: =ROUND(I153*H153,2) -> 0 | N153: snížená | P153: =O153*H153 -> 0 | Q153: 0 | R153: =Q153*H153 -> 0 | S153: 0 | T153: =S153*H153 -> 0 | AR153: 16 | AT153: K | AU153: 1 | AY153: ROZPOCET | BE153: =IF(N153="základní",J153,0) -> 0 | BF153: =IF(N153="snížená",J153,0) -> 0 | BG153: =IF(N153="zákl. přenesená",J153,0) -> 0 | BH153: =IF(N153="sníž. přenesená",J153,0) -> 0 | BI153: =IF(N153="nulová",J153,0) -> 0 | BJ153: 2 | BK153: =ROUND(I153*H153,2) -> 0 | BL153: 16 | BM153: -874444032
C154: 23 | D154: K | E154: 5511001811R | F154: Zpětná klapka - G3/4 | G154: kus | H154: 8 | J154: =ROUND(I154*H154,2) -> 0 | N154: snížená | P154: =O154*H154 -> 0 | Q154: 0 | R154: =Q154*H154 -> 0 | S154: 0 | T154: =S154*H154 -> 0 | AR154: 16 | AT154: K | AU154: 1 | AY154: ROZPOCET | BE154: =IF(N154="základní",J154,0) -> 0 | BF154: =IF(N154="snížená",J154,0) -> 0 | BG154: =IF(N154="zákl. přenesená",J154,0) -> 0 | BH154: =IF(N154="sníž. přenesená",J154,0) -> 0 | BI154: =IF(N154="nulová",J154,0) -> 0 | BJ154: 2 | BK154: =ROUND(I154*H154,2) -> 0 | BL154: 16 | BM154: 634054469
C155: 24 | D155: K | E155: 722131115R00 | F155: Potrubí ocel. vně pozink. D 28x1,5 | G155: m | H155: 25 | J155: =ROUND(I155*H155,2) -> 0 | N155: snížená | P155: =O155*H155 -> 0 | Q155: 0 | R155: =Q155*H155 -> 0 | S155: 0 | T155: =S155*H155 -> 0 | AR155: 16 | AT155: K | AU155: 1 | AY155: ROZPOCET | BE155: =IF(N155="základní",J155,0) -> 0 | BF155: =IF(N155="snížená",J155,0) -> 0 | BG155: =IF(N155="zákl. přenesená",J155,0) -> 0 | BH155: =IF(N155="sníž. přenesená",J155,0) -> 0 | BI155: =IF(N155="nulová",J155,0) -> 0 | BJ155: 2 | BK155: =ROUND(I155*H155,2) -> 0 | BL155: 16 | BM155: 279309254
C156: 25 | D156: K | E156: 722176112R00 | F156: Montáž rozvodů z plastů polyfúz. svařováním D 20mm | G156: m | H156: 240 | J156: =ROUND(I156*H156,2) -> 0 | N156: snížená | P156: =O156*H156 -> 0 | Q156: 0 | R156: =Q156*H156 -> 0 | S156: 0 | T156: =S156*H156 -> 0 | AR156: 16 | AT156: K | AU156: 1 | AY156: ROZPOCET | BE156: =IF(N156="základní",J156,0) -> 0 | BF156: =IF(N156="snížená",J156,0) -> 0 | BG156: =IF(N156="zákl. přenesená",J156,0) -> 0 | BH156: =IF(N156="sníž. přenesená",J156,0) -> 0 | BI156: =IF(N156="nulová",J156,0) -> 0 | BJ156: 2 | BK156: =ROUND(I156*H156,2) -> 0 | BL156: 16 | BM156: 1332075796
C157: 26 | D157: K | E157: 722176113R00 | F157: Montáž rozvodů z plastů polyfúz. svařováním D 25mm | G157: m | H157: 130 | J157: =ROUND(I157*H157,2) -> 0 | N157: snížená | P157: =O157*H157 -> 0 | Q157: 0 | R157: =Q157*H157 -> 0 | S157: 0 | T157: =S157*H157 -> 0 | AR157: 16 | AT157: K | AU157: 1 | AY157: ROZPOCET | BE157: =IF(N157="základní",J157,0) -> 0 | BF157: =IF(N157="snížená",J157,0) -> 0 | BG157: =IF(N157="zákl. přenesená",J157,0) -> 0 | BH157: =IF(N157="sníž. přenesená",J157,0) -> 0 | BI157: =IF(N157="nulová",J157,0) -> 0 | BJ157: 2 | BK157: =ROUND(I157*H157,2) -> 0 | BL157: 16 | BM157: 200071257
C158: 27 | D158: K | E158: 722176114R00 | F158: Montáž rozvodů z plastů polyfúz. svařováním D 32mm | G158: m | H158: 20 | J158: =ROUND(I158*H158,2) -> 0 | N158: snížená | P158: =O158*H158 -> 0 | Q158: 0 | R158: =Q158*H158 -> 0 | S158: 0 | T158: =S158*H158 -> 0 | AR158: 16 | AT158: K | AU158: 1 | AY158: ROZPOCET | BE158: =IF(N158="základní",J158,0) -> 0 | BF158: =IF(N158="snížená",J158,0) -> 0 | BG158: =IF(N158="zákl. přenesená",J158,0) -> 0 | BH158: =IF(N158="sníž. přenesená",J158,0) -> 0 | BI158: =IF(N158="nulová",J158,0) -> 0 | BJ158: 2 | BK158: =ROUND(I158*H158,2) -> 0 | BL158: 16 | BM158: -565318412
C159: 28 | D159: K | E159: 722182001RT1 | F159: Montáž izol.skruží na potrubí přímé DN 25,sam.spoj, samolepicí spoj nebo rychlouzávěr | G159: m | H159: 295 | J159: =ROUND(I159*H159,2) -> 0 | N159: snížená | P159: =O159*H159 -> 0 | Q159: 0 | R159: =Q159*H159 -> 0 | S159: 0 | T159: =S159*H159 -> 0 | AR159: 16 | AT159: K | AU159: 1 | AY159: ROZPOCET | BE159: =IF(N159="základní",J159,0) -> 0 | BF159: =IF(N159="snížená",J159,0) -> 0 | BG159: =IF(N159="zákl. přenesená",J159,0) -> 0 | BH159: =IF(N159="sníž. přenesená",J159,0) -> 0 | BI159: =IF(N159="nulová",J159,0) -> 0 | BJ159: 2 | BK159: =ROUND(I159*H159,2) -> 0 | BL159: 16 | BM159: -1063789557
C160: 29 | D160: K | E160: 722182004RT2 | F160: Montáž izol.skruží na potrubí přímé DN 40,sam.spoj, samolepicí spoj a příčné stažení páskou | G160: m | H160: 120 | J160: =ROUND(I160*H160,2) -> 0 | N160: snížená | P160: =O160*H160 -> 0 | Q160: 0 | R160: =Q160*H160 -> 0 | S160: 0 | T160: =S160*H160 -> 0 | AR160: 16 | AT160: K | AU160: 1 | AY160: ROZPOCET | BE160: =IF(N160="základní",J160,0) -> 0 | BF160: =IF(N160="snížená",J160,0) -> 0 | BG160: =IF(N160="zákl. přenesená",J160,0) -> 0 | BH160: =IF(N160="sníž. přenesená",J160,0) -> 0 | BI160: =IF(N160="nulová",J160,0) -> 0 | BJ160: 2 | BK160: =ROUND(I160*H160,2) -> 0 | BL160: 16 | BM160: -1941576910
C161: 30 | D161: K | E161: 722190401R00 | F161: Vyvedení a upevnění výpustek DN 15 | G161: kus | H161: 74 | J161: =ROUND(I161*H161,2) -> 0 | N161: snížená | P161: =O161*H161 -> 0 | Q161: 0 | R161: =Q161*H161 -> 0 | S161: 0 | T161: =S161*H161 -> 0 | AR161: 16 | AT161: K | AU161: 1 | AY161: ROZPOCET | BE161: =IF(N161="základní",J161,0) -> 0 | BF161: =IF(N161="snížená",J161,0) -> 0 | BG161: =IF(N161="zákl. přenesená",J161,0) -> 0 | BH161: =IF(N161="sníž. přenesená",J161,0) -> 0 | BI161: =IF(N161="nulová",J161,0) -> 0 | BJ161: 2 | BK161: =ROUND(I161*H161,2) -> 0 | BL161: 16 | BM161: 370488638
C162: 31 | D162: K | E162: 722235812R00 | F162: Ventil redukční s manometrem DN 20 | G162: kus | H162: 4 | J162: =ROUND(I162*H162,2) -> 0 | N162: snížená | P162: =O162*H162 -> 0 | Q162: 0 | R162: =Q162*H162 -> 0 | S162: 0 | T162: =S162*H162 -> 0 | AR162: 16 | AT162: K | AU162: 1 | AY162: ROZPOCET | BE162: =IF(N162="základní",J162,0) -> 0 | BF162: =IF(N162="snížená",J162,0) -> 0 | BG162: =IF(N162="zákl. přenesená",J162,0) -> 0 | BH162: =IF(N162="sníž. přenesená",J162,0) -> 0 | BI162: =IF(N162="nulová",J162,0) -> 0 | BJ162: 2 | BK162: =ROUND(I162*H162,2) -> 0 | BL162: 16 | BM162: 1134941393
C163: 32 | D163: K | E163: 722239101R00 | F163: Montáž vodovodních armatur 2závity, G 1/2 | G163: kus | H163: 8 | J163: =ROUND(I163*H163,2) -> 0 | N163: snížená | P163: =O163*H163 -> 0 | Q163: 0 | R163: =Q163*H163 -> 0 | S163: 0 | T163: =S163*H163 -> 0 | AR163: 16 | AT163: K | AU163: 1 | AY163: ROZPOCET | BE163: =IF(N163="základní",J163,0) -> 0 | BF163: =IF(N163="snížená",J163,0) -> 0 | BG163: =IF(N163="zákl. přenesená",J163,0) -> 0 | BH163: =IF(N163="sníž. přenesená",J163,0) -> 0 | BI163: =IF(N163="nulová",J163,0) -> 0 | BJ163: 2 | BK163: =ROUND(I163*H163,2) -> 0 | BL163: 16 | BM163: -2114952072
... C182: 51 | D182: K | E182: 998722202R0X | F182: Přesun hmot pro vnitřní vodovod, výšky do 12 m | G182: soubor | H182: 1 | J182: =ROUND(I182*H182,2) -> 0 | N182: snížená | P182: =O182*H182 -> 0 | Q182: 0 | R182: =Q182*H182 -> 0 | S182: 0 | T182: =S182*H182 -> 0 | AR182: 16 | AT182: K | AU182: 1 | AY182: ROZPOCET | BE182: =IF(N182="základní",J182,0) -> 0 | BF182: =IF(N182="snížená",J182,0) -> 0 | BG182: =IF(N182="zákl. přenesená",J182,0) -> 0 | BH182: =IF(N182="sníž. přenesená",J182,0) -> 0 | BI182: =IF(N182="nulová",J182,0) -> 0 | BJ182: 2 | BK182: =ROUND(I182*H182,2) -> 0 | BL182: 16 | BM182: -1416496049
D183: D | E183: 723 | F183: Vnitřní plynovod | J183: =BK183 -> 0 | P183: =SUM(P184:P199) -> 0 | R183: =SUM(R184:R199) -> 0 | T183: =SUM(T184:T199) -> 0 | AR183: 2 | AT183: D | AU183: 0 | AY183: ROZPOCET | BK183: =SUM(BK184:BK199) -> 0
C184: 52 | D184: K | E184: 42243409.MR | F184: Regulátor tlaku plynu Francel B 6 | G184: kus | H184: 8 | J184: =ROUND(I184*H184,2) -> 0 | N184: snížená | P184: =O184*H184 -> 0 | Q184: 0 | R184: =Q184*H184 -> 0 | S184: 0 | T184: =S184*H184 -> 0 | AR184: 16 | AT184: K | AU184: 1 | AY184: ROZPOCET | BE184: =IF(N184="základní",J184,0) -> 0 | BF184: =IF(N184="snížená",J184,0) -> 0 | BG184: =IF(N184="zákl. přenesená",J184,0) -> 0 | BH184: =IF(N184="sníž. přenesená",J184,0) -> 0 | BI184: =IF(N184="nulová",J184,0) -> 0 | BJ184: 2 | BK184: =ROUND(I184*H184,2) -> 0 | BL184: 16 | BM184: 1326682731
C185: 53 | D185: K | E185: 551310050R | F185: Kohout kulový plyn G 1/2" | G185: kus | H185: 8 | J185: =ROUND(I185*H185,2) -> 0 | N185: snížená | P185: =O185*H185 -> 0 | Q185: 0 | R185: =Q185*H185 -> 0 | S185: 0 | T185: =S185*H185 -> 0 | AR185: 16 | AT185: K | AU185: 1 | AY185: ROZPOCET | BE185: =IF(N185="základní",J185,0) -> 0 | BF185: =IF(N185="snížená",J185,0) -> 0 | BG185: =IF(N185="zákl. přenesená",J185,0) -> 0 | BH185: =IF(N185="sníž. přenesená",J185,0) -> 0 | BI185: =IF(N185="nulová",J185,0) -> 0 | BJ185: 2 | BK185: =ROUND(I185*H185,2) -> 0 | BL185: 16 | BM185: 1140720631
C186: 54 | D186: K | E186: 551310051R | F186: Kohout kulový plyn G 3/4" | G186: kus | H186: 16 | J186: =ROUND(I186*H186,2) -> 0 | N186: snížená | P186: =O186*H186 -> 0 | Q186: 0 | R186: =Q186*H186 -> 0 | S186: 0 | T186: =S186*H186 -> 0 | AR186: 16 | AT186: K | AU186: 1 | AY186: ROZPOCET | BE186: =IF(N186="základní",J186,0) -> 0 | BF186: =IF(N186="snížená",J186,0) -> 0 | BG186: =IF(N186="zákl. přenesená",J186,0) -> 0 | BH186: =IF(N186="sníž. přenesená",J186,0) -> 0 | BI186: =IF(N186="nulová",J186,0) -> 0 | BJ186: 2 | BK186: =ROUND(I186*H186,2) -> 0 | BL186: 16 | BM186: -1181462705
C187: 55 | D187: K | E187: 551310053R | F187: Kohout kulový plyn G 5/4" | G187: kus | H187: 1 | J187: =ROUND(I187*H187,2) -> 0 | N187: snížená | P187: =O187*H187 -> 0 | Q187: 0 | R187: =Q187*H187 -> 0 | S187: 0 | T187: =S187*H187 -> 0 | AR187: 16 | AT187: K | AU187: 1 | AY187: ROZPOCET | BE187: =IF(N187="základní",J187,0) -> 0 | BF187: =IF(N187="snížená",J187,0) -> 0 | BG187: =IF(N187="zákl. přenesená",J187,0) -> 0 | BH187: =IF(N187="sníž. přenesená",J187,0) -> 0 | BI187: =IF(N187="nulová",J187,0) -> 0 | BJ187: 2 | BK187: =ROUND(I187*H187,2) -> 0 | BL187: 16 | BM187: 300816510
...

Sheet D.1.4.1-2 - Zdravotně tec...
AT2: {cc38d7f3-a6c7-4746-b6fa-1f1d12e6d2ce}
AT3: 1
D4: KRYCÍ LIST SOUPISU PRACÍ | M4: v --- níže se nacházejí doplnkové a pomocné údaje k sestavám --- v | AT4: False
D6: Stavba:
E7: ='Rekapitulace stavby'!K6 -> NOVOSTAVBA SOCIÁLNÍCH BYTŮ NA PARC. Č. 789/2
D8: Objekt:
E9: UZN - UZNATELNÉ NÁKLADY
D10: Soupis:
E11: SO 01 - NOVOSTAVBA SOCIÁLNÍCH BYTŮ
D12: Úroveň 3:
E13: D.1.4.1-2 - Zdravotně technické instalace - ležatá kanalizace
D15: KSO: | I15: CC-CZ:
D16: Místo: | F16: Protivanov, ul.Na Balkáně | I16: Datum: | J16: ='Rekapitulace stavby'!AN8 -> 11. 12. 2019
D18: Zadavatel: | I18: IČ: | J18: 00288675
E19: Městys Protivanov, Náměstí 32, 798 48 Protivanov | I19: DIČ: | J19: CZ00288675
D21: Uchazeč: | I21: IČ: | J21: ='Rekapitulace stavby'!AN13 -> Vyplň údaj
E22: ='Rekapitulace stavby'!E14 -> Vyplň údaj | I22: DIČ: | J22: ='Rekapitulace stavby'!AN14 -> Vyplň údaj
D24: Projektant: | I24: IČ:
E25: PROMED Brno, spol. s r.o | I25: DIČ:
D27: Zpracovatel: | I27: IČ: | J27: =IF('Rekapitulace stavby'!AN19="","",'Rekapitulace stavby'!AN19)
E28: =IF('Rekapitulace stavby'!E20="","",'Rekapitulace stavby'!E20) | I28: DIČ: | J28: =IF('Rekapitulace stavby'!AN20="","",'Rekapitulace stavby'!AN20)
D30: Poznámka:
D34: Cena bez DPH | J34: =ROUND(J128, 2) -> 0
F36: Základ daně | I36: Sazba daně | J36: Výše daně
D37: DPH | E37: základní | F37: =ROUND((SUM(BE128:BE163)), 2) -> 0 | I37: 0.21 | J37: =ROUND(((SUM(BE128:BE163))*I37), 2) -> 0
E38: snížená | F38: =ROUND((SUM(BF128:BF163)), 2) -> 0 | I38: 0.15 | J38: =ROUND(((SUM(BF128:BF163))*I38), 2) -> 0
E39: zákl. přenesená | F39: =ROUND((SUM(BG128:BG163)), 2) -> 0 | I39: 0.21 | J39: =0 -> 0
E40: sníž. přenesená | F40: =ROUND((SUM(BH128:BH163)), 2) -> 0 | I40: 0.15 | J40: =0 -> 0
E41: nulová | F41: =ROUND((SUM(BI128:BI163)), 2) -> 0 | I41: 0 | J41: =0 -> 0
D43: Cena s DPH | G43: v | H43: CZK | J43: =SUM(J34:J41) -> 0
D50: Projektant | G50: Zpracovatel
D61: Datum a podpis: | F61: Razítko | G61: Datum a podpis: | J61: Razítko
D65: Objednavatel | G65: Uchazeč
D76: Datum a podpis: | F76: Razítko | G76: Datum a podpis: | J76: Razítko
C82: REKAPITULACE ČLENĚNÍ SOUPISU PRACÍ
C84: Stavba:
E85: =E7 -> NOVOSTAVBA SOCIÁLNÍCH BYTŮ NA PARC. Č. 789/2
C86: Objekt:
E87: UZN - UZNATELNÉ NÁKLADY
C88: Soupis:
E89: SO 01 - NOVOSTAVBA SOCIÁLNÍCH BYTŮ
C90: Úroveň 3:
E91: =E13 -> D.1.4.1-2 - Zdravotně technické instalace - ležatá kanalizace
C93: Místo: | F93: =F16 -> Protivanov, ul.Na Balkáně | I93: Datum: | J93: =IF(J16="","",J16) -> 11. 12. 2019
C95: Zadavatel: | F95: =E19 -> Městys Protivanov, Náměstí 32, 798 48 Protivanov | I95: Projektant: | J95: =E25 -> PROMED Brno, spol. s r.o
C96: Uchazeč: | F96: =IF(E22="","",E22) -> Vyplň údaj | I96: Zpracovatel: | J96: =E28
C98: Kód dílu - Popis | J98: Cena celkem [CZK]
C100: Náklady ze soupisu prací | J100: =J128 -> 0 | AU100: -1
D101: 1 - Zemní práce | J101: =J129 -> 0
D102: 89 - Ostatní konstrukce na trub.ved | J102: =J139 -> 0
D103: 721 - Vnitřní kanalizace | J103: =J150 -> 0
D104: 722 - Vnitřní vodovod | J104: =J157 -> 0
C111: SOUPIS PRACÍ
C113: Stavba:
E114: =E7 -> NOVOSTAVBA SOCIÁLNÍCH BYTŮ NA PARC. Č. 789/2
C115: Objekt:
E116: UZN - UZNATELNÉ NÁKLADY
C117: Soupis:
E118: SO 01 - NOVOSTAVBA SOCIÁLNÍCH BYTŮ
C119: Úroveň 3:
E120: =E13 -> D.1.4.1-2 - Zdravotně technické instalace - ležatá kanalizace
C122: Místo: | F122: =F16 -> Protivanov, ul.Na Balkáně | I122: Datum: | J122: =IF(J16="","",J16) -> 11. 12. 2019
C124: Zadavatel: | F124: =E19 -> Městys Protivanov, Náměstí 32, 798 48 Protivanov | I124: Projektant: | J124: =E25 -> PROMED Brno, spol. s r.o
C125: Uchazeč: | F125: =IF(E22="","",E22) -> Vyplň údaj | I125: Zpracovatel: | J125: =E28
C127: PČ | D127: Typ | E127: Kód | F127: Popis | G127: MJ | H127: Množství | I127: J.cena [CZK] | J127: Cena celkem [CZK] | K127: Cenová soustava | N127: DPH | O127: J. Nh [h] | P127: Nh celkem [h] | Q127: J. hmotnost [t] | R127: Hmotnost celkem [t] | S127: J. suť [t] | T127: Suť Celkem [t]
C128: Náklady soupisu celkem | J128: =BK128 -> 0 | P128: =P129+P139+P150+P157 -> 0 | R128: =R129+R139+R150+R157 -> 0 | T128: =T129+T139+T150+T157 -> 0 | AT128: D | AU128: -1 | BK128: =BK129+BK139+BK150+BK157 -> 0
D129: D | E129: 1 | F129: Zemní práce | J129: =BK129 -> 0 | P129: =SUM(P130:P138) -> 0 | R129: =SUM(R130:R138) -> 0 | T129: =SUM(T130:T138) -> 0 | AR129: 1 | AT129: D | AU129: 0 | AY129: ROZPOCET | BK129: =SUM(BK130:BK138) -> 0
C130: 1 | D130: K | E130: 132201212R00 | F130: Hloubení rýh š.do 200 cm hor.3 do 1000m3,STROJNĚ | G130: m3 | H130: 240 | J130: =ROUND(I130*H130,2) -> 0 | N130: snížená | P130: =O130*H130 -> 0 | Q130: 0 | R130: =Q130*H130 -> 0 | S130: 0 | T130: =S130*H130 -> 0 | AR130: 4 | AT130: K | AU130: 1 | AY130: ROZPOCET | BE130: =IF(N130="základní",J130,0) -> 0 | BF130: =IF(N130="snížená",J130,0) -> 0 | BG130: =IF(N130="zákl. přenesená",J130,0) -> 0 | BH130: =IF(N130="sníž. přenesená",J130,0) -> 0 | BI130: =IF(N130="nulová",J130,0) -> 0 | BJ130: 2 | BK130: =ROUND(I130*H130,2) -> 0 | BL130: 4 | BM130: 634345514
C131: 2 | D131: K | E131: 151101101R00 | F131: Pažení a rozepření stěn rýh - příložné - hl.do 2 m | G131: m2 | H131: 477 | J131: =ROUND(I131*H131,2) -> 0 | N131: snížená | P131: =O131*H131 -> 0 | Q131: 0 | R131: =Q131*H131 -> 0 | S131: 0 | T131: =S131*H131 -> 0 | AR131: 4 | AT131: K | AU131: 1 | AY131: ROZPOCET | BE131: =IF(N131="základní",J131,0) -> 0 | BF131: =IF(N131="snížená",J131,0) -> 0 | BG131: =IF(N131="zákl. přenesená",J131,0) -> 0 | BH131: =IF(N131="sníž. přenesená",J131,0) -> 0 | BI131: =IF(N131="nulová",J131,0) -> 0 | BJ131: 2 | BK131: =ROUND(I131*H131,2) -> 0 | BL131: 4 | BM131: -909248626
C132: 3 | D132: K | E132: 151101111R00 | F132: Odstranění pažení stěn rýh - příložné - hl. do 2 m | G132: m2 | H132: 477 | J132: =ROUND(I132*H132,2) -> 0 | N132: snížená | P132: =O132*H132 -> 0 | Q132: 0 | R132: =Q132*H132 -> 0 | S132: 0 | T132: =S132*H132 -> 0 | AR132: 4 | AT132: K | AU132: 1 | AY132: ROZPOCET | BE132: =IF(N132="základní",J132,0) -> 0 | BF132: =IF(N132="snížená",J132,0) -> 0 | BG132: =IF(N132="zákl. přenesená",J132,0) -> 0 | BH132: =IF(N132="sníž. přenesená",J132,0) -> 0 | BI132: =IF(N132="nulová",J132,0) -> 0 | BJ132: 2 | BK132: =ROUND(I132*H132,2) -> 0 | BL132: 4 | BM132: -1820359523
C133: 5 | D133: K | E133: 161101102R00 | F133: Svislé přemístění výkopku z hor.1-4 do 4,0 m | G133: m3 | H133: 240 | J133: =ROUND(I133*H133,2) -> 0 | N133: snížená | P133: =O133*H133 -> 0 | Q133: 0 | R133: =Q133*H133 -> 0 | S133: 0 | T133: =S133*H133 -> 0 | AR133: 4 | AT133: K | AU133: 1 | AY133: ROZPOCET | BE133: =IF(N133="základní",J133,0) -> 0 | BF133: =IF(N133="snížená",J133,0) -> 0 | BG133: =IF(N133="zákl. přenesená",J133,0) -> 0 | BH133: =IF(N133="sníž. přenesená",J133,0) -> 0 | BI133: =IF(N133="nulová",J133,0) -> 0 | BJ133: 2 | BK133: =ROUND(I133*H133,2) -> 0 | BL133: 4 | BM133: 1303897987
C134: 4 | D134: K | E134: 162701105R00 | F134: Vodorovné přemístění výkopku z hor.1-4 do 10000 m | G134: m3 | H134: 80 | J134: =ROUND(I134*H134,2) -> 0 | N134: snížená | P134: =O134*H134 -> 0 | Q134: 0 | R134: =Q134*H134 -> 0 | S134: 0 | T134: =S134*H134 -> 0 | AR134: 4 | AT134: K | AU134: 1 | AY134: ROZPOCET | BE134: =IF(N134="základní",J134,0) -> 0 | BF134: =IF(N134="snížená",J134,0) -> 0 | BG134: =IF(N134="zákl. přenesená",J134,0) -> 0 | BH134: =IF(N134="sníž. přenesená",J134,0) -> 0 | BI134: =IF(N134="nulová",J134,0) -> 0 | BJ134: 2 | BK134: =ROUND(I134*H134,2) -> 0 | BL134: 4 | BM134: 963202532
C135: 6 | D135: K | E135: 171201201R00 | F135: Uložení sypaniny na skl.-sypanina na výšku přes 2m | G135: m3 | H135: 80 | J135: =ROUND(I135*H135,2) -> 0 | N135: snížená | P135: =O135*H135 -> 0 | Q135: 0 | R135: =Q135*H135 -> 0 | S135: 0 | T135: =S135*H135 -> 0 | AR135: 4 | AT135: K | AU135: 1 | AY135: ROZPOCET | BE135: =IF(N135="základní",J135,0) -> 0 | BF135: =IF(N135="snížená",J135,0) -> 0 | BG135: =IF(N135="zákl. přenesená",J135,0) -> 0 | BH135: =IF(N135="sníž. přenesená",J135,0) -> 0 | BI135: =IF(N135="nulová",J135,0) -> 0 | BJ135: 2 | BK135: =ROUND(I135*H135,2) -> 0 | BL135: 4 | BM135: 193329811
C136: 8 | D136: K | E136: 174101101R00 | F136: Zásyp jam, rýh, šachet se zhutněním | G136: m3 | H136: 160 | J136: =ROUND(I136*H136,2) -> 0 | N136: snížená | P136: =O136*H136 -> 0 | Q136: 0 | R136: =Q136*H136 -> 0 | S136: 0 | T136: =S136*H136 -> 0 | AR136: 4 | AT136: K | AU136: 1 | AY136: ROZPOCET | BE136: =IF(N136="základní",J136,0) -> 0 | BF136: =IF(N136="snížená",J136,0) -> 0 | BG136: =IF(N136="zákl. přenesená",J136,0) -> 0 | BH136: =IF(N136="sníž. přenesená",J136,0) -> 0 | BI136: =IF(N136="nulová",J136,0) -> 0 | BJ136: 2 | BK136: =ROUND(I136*H136,2) -> 0 | BL136: 4 | BM136: 372866383
C137: 9 | D137: K | E137: 175101101RT2 | F137: Obsyp potrubí bez prohození sypaniny, s dodáním štěrkopísku frakce 0 - 22 mm | G137: m3 | H137: 80 | J137: =ROUND(I137*H137,2) -> 0 | N137: snížená | P137: =O137*H137 -> 0 | Q137: 0 | R137: =Q137*H137 -> 0 | S137: 0 | T137: =S137*H137 -> 0 | AR137: 4 | AT137: K | AU137: 1 | AY137: ROZPOCET | BE137: =IF(N137="základní",J137,0) -> 0 | BF137: =IF(N137="snížená",J137,0) -> 0 | BG137: =IF(N137="zákl. přenesená",J137,0) -> 0 | BH137: =IF(N137="sníž. přenesená",J137,0) -> 0 | BI137: =IF(N137="nulová",J137,0) -> 0 | BJ137: 2 | BK137: =ROUND(I137*H137,2) -> 0 | BL137: 4 | BM137: -580972645
C138: 7 | D138: K | E138: 199000002R00 | F138: Poplatek za skládku horniny 1- 4 | G138: m3 | H138: 80 | J138: =ROUND(I138*H138,2) -> 0 | N138: snížená | P138: =O138*H138 -> 0 | Q138: 0 | R138: =Q138*H138 -> 0 | S138: 0 | T138: =S138*H138 -> 0 | AR138: 4 | AT138: K | AU138: 1 | AY138: ROZPOCET | BE138: =IF(N138="základní",J138,0) -> 0 | BF138: =IF(N138="snížená",J138,0) -> 0 | BG138: =IF(N138="zákl. přenesená",J138,0) -> 0 | BH138: =IF(N138="sníž. přenesená",J138,0) -> 0 | BI138: =IF(N138="nulová",J138,0) -> 0 | BJ138: 2 | BK138: =ROUND(I138*H138,2) -> 0 | BL138: 4 | BM138: -2001611511
D139: D | E139: 89 | F139: Ostatní konstrukce na trub.ved | J139: =BK139 -> 0 | P139: =SUM(P140:P149) -> 0 | R139: =SUM(R140:R149) -> 0 | T139: =SUM(T140:T149) -> 0 | AR139: 1 | AT139: D | AU139: 0 | AY139: ROZPOCET | BK139: =SUM(BK140:BK149) -> 0
C140: 17 | D140: K | E140: 59224353.AR | F140: Konus šachetní TBR-Q.1 100-63/58/12 KPS | G140: kus | H140: 1 | J140: =ROUND(I140*H140,2) -> 0 | N140: snížená | P140: =O140*H140 -> 0 | Q140: 0 | R140: =Q140*H140 -> 0 | S140: 0 | T140: =S140*H140 -> 0 | AR140: 4 | AT140: K | AU140: 1 | AY140: ROZPOCET | BE140: =IF(N140="základní",J140,0) -> 0 | BF140: =IF(N140="snížená",J140,0) -> 0 | BG140: =IF(N140="zákl. přenesená",J140,0) -> 0 | BH140: =IF(N140="sníž. přenesená",J140,0) -> 0 | BI140: =IF(N140="nulová",J140,0) -> 0 | BJ140: 2 | BK140: =ROUND(I140*H140,2) -> 0 | BL140: 4 | BM140: -862977629
C141: 15 | D141: K | E141: 59224356.AR | F141: Skruž šachetní TBS-Q.1 100/25/12 | G141: kus | H141: 1 | J141: =ROUND(I141*H141,2) -> 0 | N141: snížená | P141: =O141*H141 -> 0 | Q141: 0 | R141: =Q141*H141 -> 0 | S141: 0 | T141: =S141*H141 -> 0 | AR141: 4 | AT141: K | AU141: 1 | AY141: ROZPOCET | BE141: =IF(N141="základní",J141,0) -> 0 | BF141: =IF(N141="snížená",J141,0) -> 0 | BG141: =IF(N141="zákl. přenesená",J141,0) -> 0 | BH141: =IF(N141="sníž. přenesená",J141,0) -> 0 | BI141: =IF(N141="nulová",J141,0) -> 0 | BJ141: 2 | BK141: =ROUND(I141*H141,2) -> 0 | BL141: 4 | BM141: 1152511572
C142: 16 | D142: K | E142: 59224359.AR | F142: Skruž šachetní TBS-Q.1 100/50/12 | G142: kus | H142: 2 | J142: =ROUND(I142*H142,2) -> 0 | N142: snížená | P142: =O142*H142 -> 0 | Q142: 0 | R142: =Q142*H142 -> 0 | S142: 0 | T142: =S142*H142 -> 0 | AR142: 4 | AT142: K | AU142: 1 | AY142: ROZPOCET | BE142: =IF(N142="základní",J142,0) -> 0 | BF142: =IF(N142="snížená",J142,0) -> 0 | BG142: =IF(N142="zákl. přenesená",J142,0) -> 0 | BH142: =IF(N142="sníž. přenesená",J142,0) -> 0 | BI142: =IF(N142="nulová",J142,0) -> 0 | BJ142: 2 | BK142: =ROUND(I142*H142,2) -> 0 | BL142: 4 | BM142: -829768047
C143: 19 | D143: K | E143: 59224366.AR | F143: Dno šachetní přímé TBZ-Q.1 100/60 V max. 40 | G143: kus | H143: 1 | J143: =ROUND(I143*H143,2) -> 0 | N143: snížená | P143: =O143*H143 -> 0 | Q143: 0 | R143: =Q143*H143 -> 0 | S143: 0 | T143: =S143*H143 -> 0 | AR143: 4 | AT143: K | AU143: 1 | AY143: ROZPOCET | BE143: =IF(N143="základní",J143,0) -> 0 | BF143: =IF(N143="snížená",J143,0) -> 0 | BG143: =IF(N143="zákl. přenesená",J143,0) -> 0 | BH143: =IF(N143="sníž. přenesená",J143,0) -> 0 | BI143: =IF(N143="nulová",J143,0) -> 0 | BJ143: 2 | BK143: =ROUND(I143*H143,2) -> 0 | BL143: 4 | BM143: 1958249965
C144: 18 | D144: K | E144: 59224373.AR | F144: Těsnění elastom pro šach díly EMT - DN 1000 | G144: kus | H144: 2 | J144: =ROUND(I144*H144,2) -> 0 | N144: snížená | P144: =O144*H144 -> 0 | Q144: 0 | R144: =Q144*H144 -> 0 | S144: 0 | T144: =S144*H144 -> 0 | AR144: 4 | AT144: K | AU144: 1 | AY144: ROZPOCET | BE144: =IF(N144="základní",J144,0) -> 0 | BF144: =IF(N144="snížená",J144,0) -> 0 | BG144: =IF(N144="zákl. přenesená",J144,0) -> 0 | BH144: =IF(N144="sníž. přenesená",J144,0) -> 0 | BI144: =IF(N144="nulová",J144,0) -> 0 | BJ144: 2 | BK144: =ROUND(I144*H144,2) -> 0 | BL144: 4 | BM144: 642351788
C145: 11 | D145: K | E145: 894421111RT1 | F145: Osazení betonových dílců šachet do 0,5 t, skruže rovné, na kroužek, do 0,5 t | G145: kus | H145: 3 | J145: =ROUND(I145*H145,2) -> 0 | N145: snížená | P145: =O145*H145 -> 0 | Q145: 0 | R145: =Q145*H145 -> 0 | S145: 0 | T145: =S145*H145 -> 0 | AR145: 4 | AT145: K | AU145: 1 | AY145: ROZPOCET | BE145: =IF(N145="základní",J145,0) -> 0 | BF145: =IF(N145="snížená",J145,0) -> 0 | BG145: =IF(N145="zákl. přenesená",J145,0) -> 0 | BH145: =IF(N145="sníž. přenesená",J145,0) -> 0 | BI145: =IF(N145="nulová",J145,0) -> 0 | BJ145: 2 | BK145: =ROUND(I145*H145,2) -> 0 | BL145: 4 | BM145: 1853610048
C146: 12 | D146: K | E146: 894421112R00 | F146: Osazení betonových dílců šachet do 1,4 t | G146: kus | H146: 1 | J146: =ROUND(I146*H146,2) -> 0 | N146: snížená | P146: =O146*H146 -> 0 | Q146: 0 | R146: =Q146*H146 -> 0 | S146: 0 | T146: =S146*H146 -> 0 | AR146: 4 | AT146: K | AU146: 1 | AY146: ROZPOCET | BE146: =IF(N146="základní",J146,0) -> 0 | BF146: =IF(N146="snížená",J146,0) -> 0 | BG146: =IF(N146="zákl. přenesená",J146,0) -> 0 | BH146: =IF(N146="sníž. přenesená",J146,0) -> 0 | BI146: =IF(N146="nulová",J146,0) -> 0 | BJ146: 2 | BK146: =ROUND(I146*H146,2) -> 0 | BL146: 4 | BM146: -1857630723
C147: 10 | D147: K | E147: 894422111RT1 | F147: Osazení betonových dílců šachet, skruže přechodové, na kroužek | G147: kus | H147: 1 | J147: =ROUND(I147*H147,2) -> 0 | N147: snížená | P147: =O147*H147 -> 0 | Q147: 0 | R147: =Q147*H147 -> 0 | S147: 0 | T147: =S147*H147 -> 0 | AR147: 4 | AT147: K | AU147: 1 | AY147: ROZPOCET | BE147: =IF(N147="základní",J147,0) -> 0 | BF147: =IF(N147="snížená",J147,0) -> 0 | BG147: =IF(N147="zákl. přenesená",J147,0) -> 0 | BH147: =IF(N147="sníž. přenesená",J147,0) -> 0 | BI147: =IF(N147="nulová",J147,0) -> 0 | BJ147: 2 | BK147: =ROUND(I147*H147,2) -> 0 | BL147: 4 | BM147: 1079787888
C148: 13 | D148: K | E148: 894423111RT1 | F148: Osazení betonových dílců šachet do 2,0 t, šachtová dna, na kroužek, do 2,0 t | G148: kus | H148: 1 | J148: =ROUND(I148*H148,2) -> 0 | N148: snížená | P148: =O148*H148 -> 0 | Q148: 0 | R148: =Q148*H148 -> 0 | S148: 0 | T148: =S148*H148 -> 0 | AR148: 4 | AT148: K | AU148: 1 | AY148: ROZPOCET | BE148: =IF(N148="základní",J148,0) -> 0 | BF148: =IF(N148="snížená",J148,0) -> 0 | BG148: =IF(N148="zákl. přenesená",J148,0) -> 0 | BH148: =IF(N148="sníž. přenesená",J148,0) -> 0 | BI148: =IF(N148="nulová",J148,0) -> 0 | BJ148: 2 | BK148: =ROUND(I148*H148,2) -> 0 | BL148: 4 | BM148: 531135181
C149: 14 | D149: K | E149: 899103111RT2 | F149: Osazení poklopu s rámem do 150 kg, včetně dodávky poklopu lit. kruhového D 600 | G149: kus | H149: 1 | J149: =ROUND(I149*H149,2) -> 0 | N149: snížená | P149: =O149*H149 -> 0 | Q149: 0 | R149: =Q149*H149 -> 0 | S149: 0 | T149: =S149*H149 -> 0 | AR149: 4 | AT149: K | AU149: 1 | AY149: ROZPOCET | BE149: =IF(N149="základní",J149,0) -> 0 | BF149: =IF(N149="snížená",J149,0) -> 0 | BG149: =IF(N149="zákl. přenesená",J149,0) -> 0 | BH149: =IF(N149="sníž. přenesená",J149,0) -> 0 | BI149: =IF(N149="nulová",J149,0) -> 0 | BJ149: 2 | BK149: =ROUND(I149*H149,2) -> 0 | BL149: 4 | BM149: -1016078531
D150: D | E150: 721 | F150: Vnitřní kanalizace | J150: =BK150 -> 0 | P150: =SUM(P151:P156) -> 0 | R150: =SUM(R151:R156) -> 0 | T150: =SUM(T151:T156) -> 0 | AR150: 2 | AT150: D | AU150: 0 | AY150: ROZPOCET | BK150: =SUM(BK151:BK156) -> 0
C151: 24 | D151: K | E151: 55162530R | F151: Izol. souprava pro potr prostupy DN110 | G151: kus | H151: 4 | J151: =ROUND(I151*H151,2) -> 0 | N151: snížená | P151: =O151*H151 -> 0 | Q151: 0 | R151: =Q151*H151 -> 0 | S151: 0 | T151: =S151*H151 -> 0 | AR151: 16 | AT151: K | AU151: 1 | AY151: ROZPOCET | BE151: =IF(N151="základní",J151,0) -> 0 | BF151: =IF(N151="snížená",J151,0) -> 0 | BG151: =IF(N151="zákl. přenesená",J151,0) -> 0 | BH151: =IF(N151="sníž. přenesená",J151,0) -> 0 | BI151: =IF(N151="nulová",J151,0) -> 0 | BJ151: 2 | BK151: =ROUND(I151*H151,2) -> 0 | BL151: 16 | BM151: -1176948047
C152: 20 | D152: K | E152: 721176223R00 | F152: Potrubí KG svodné (ležaté) v zemi D 125 x 3,2 mm | G152: m | H152: 10 | J152: =ROUND(I152*H152,2) -> 0 | N152: snížená | P152: =O152*H152 -> 0 | Q152: 0 | R152: =Q152*H152 -> 0 | S152: 0 | T152: =S152*H152 -> 0 | AR152: 16 | AT152: K | AU152: 1 | AY152: ROZPOCET | BE152: =IF(N152="základní",J152,0) -> 0 | BF152: =IF(N152="snížená",J152,0) -> 0 | BG152: =IF(N152="zákl. přenesená",J152,0) -> 0 | BH152: =IF(N152="sníž. přenesená",J152,0) -> 0 | BI152: =IF(N152="nulová",J152,0) -> 0 | BJ152: 2 | BK152: =ROUND(I152*H152,2) -> 0 | BL152: 16 | BM152: -2061464281
C153: 21 | D153: K | E153: 721176224R00 | F153: Potrubí KG svodné (ležaté) v zemi D 160 x 4,0 mm | G153: m | H153: 70 | J153: =ROUND(I153*H153,2) -> 0 | N153: snížená | P153: =O153*H153 -> 0 | Q153: 0 | R153: =Q153*H153 -> 0 | S153: 0 | T153: =S153*H153 -> 0 | AR153: 16 | AT153: K | AU153: 1 | AY153: ROZPOCET | BE153: =IF(N153="základní",J153,0) -> 0 | BF153: =IF(N153="snížená",J153,0) -> 0 | BG153: =IF(N153="zákl. přenesená",J153,0) -> 0 | BH153: =IF(N153="sníž. přenesená",J153,0) -> 0 | BI153: =IF(N153="nulová",J153,0) -> 0 | BJ153: 2 | BK153: =ROUND(I153*H153,2) -> 0 | BL153: 16 | BM153: -1674153173
C154: 22 | D154: K | E154: 721176225R00 | F154: Potrubí KG svodné (ležaté) v zemi D 200 x 4,9 mm | G154: m | H154: 30 | J154: =ROUND(I154*H154,2) -> 0 | N154: snížená | P154: =O154*H154 -> 0 | Q154: 0 | R154: =Q154*H154 -> 0 | S154: 0 | T154: =S154*H154 -> 0 | AR154: 16 | AT154: K | AU154: 1 | AY154: ROZPOCET | BE154: =IF(N154="základní",J154,0) -> 0 | BF154: =IF(N154="snížená",J154,0) -> 0 | BG154: =IF(N154="zákl. přenesená",J154,0) -> 0 | BH154: =IF(N154="sníž. přenesená",J154,0) -> 0 | BI154: =IF(N154="nulová",J154,0) -> 0 | BJ154: 2 | BK154: =ROUND(I154*H154,2) -> 0 | BL154: 16 | BM154: -1070595819
C155: 23 | D155: K | E155: 721290112R00 | F155: Zkouška těsnosti kanalizace vodou DN 200 | G155: m | H155: 110 | J155: =ROUND(I155*H155,2) -> 0 | N155: snížená | P155: =O155*H155 -> 0 | Q155: 0 | R155: =Q155*H155 -> 0 | S155: 0 | T155: =S155*H155 -> 0 | AR155: 16 | AT155: K | AU155: 1 | AY155: ROZPOCET | BE155: =IF(N155="základní",J155,0) -> 0 | BF155: =IF(N155="snížená",J155,0) -> 0 | BG155: =IF(N155="zákl. přenesená",J155,0) -> 0 | BH155: =IF(N155="sníž. přenesená",J155,0) -> 0 | BI155: =IF(N155="nulová",J155,0) -> 0 | BJ155: 2 | BK155: =ROUND(I155*H155,2) -> 0 | BL155: 16 | BM155: -813142690
C156: 25 | D156: K | E156: 998721202R0X | F156: Přesun hmot pro vnitřní kanalizaci, výšky do 12 m | G156: soubor | H156: 1 | J156: =ROUND(I156*H156,2) -> 0 | N156: snížená | P156: =O156*H156 -> 0 | Q156: 0 | R156: =Q156*H156 -> 0 | S156: 0 | T156: =S156*H156 -> 0 | AR156: 16 | AT156: K | AU156: 1 | AY156: ROZPOCET | BE156: =IF(N156="základní",J156,0) -> 0 | BF156: =IF(N156="snížená",J156,0) -> 0 | BG156: =IF(N156="zákl. přenesená",J156,0) -> 0 | BH156: =IF(N156="sníž. přenesená",J156,0) -> 0 | BI156: =IF(N156="nulová",J156,0) -> 0 | BJ156: 2 | BK156: =ROUND(I156*H156,2) -> 0 | BL156: 16 | BM156: 2053673053
D157: D | E157: 722 | F157: Vnitřní vodovod | J157: =BK157 -> 0 | P157: =SUM(P158:P163) -> 0 | R157: =SUM(R158:R163) -> 0 | T157: =SUM(T158:T163) -> 0 | AR157: 2 | AT157: D | AU157: 0 | AY157: ROZPOCET | BK157: =SUM(BK158:BK163) -> 0
C158: 28 | D158: K | E158: 722171213R00 | F158: Potrubí z PEHD, D 32 x 3,0 mm | G158: m | H158: 30 | J158: =ROUND(I158*H158,2) -> 0 | N158: snížená | P158: =O158*H158 -> 0 | Q158: 0 | R158: =Q158*H158 -> 0 | S158: 0 | T158: =S158*H158 -> 0 | AR158: 16 | AT158: K | AU158: 1 | AY158: ROZPOCET | BE158: =IF(N158="základní",J158,0) -> 0 | BF158: =IF(N158="snížená",J158,0) -> 0 | BG158: =IF(N158="zákl. přenesená",J158,0) -> 0 | BH158: =IF(N158="sníž. přenesená",J158,0) -> 0 | BI158: =IF(N158="nulová",J158,0) -> 0 | BJ158: 2 | BK158: =ROUND(I158*H158,2) -> 0 | BL158: 16 | BM158: 687042675
C159: 29 | D159: K | E159: 722171214R00 | F159: Potrubí z PEHD, D 40 x 3,7 mm | G159: m | H159: 20 | J159: =ROUND(I159*H159,2) -> 0 | N159: snížená | P159: =O159*H159 -> 0 | Q159: 0 | R159: =Q159*H159 -> 0 | S159: 0 | T159: =S159*H159 -> 0 | AR159: 16 | AT159: K | AU159: 1 | AY159: ROZPOCET | BE159: =IF(N159="základní",J159,0) -> 0 | BF159: =IF(N159="snížená",J159,0) -> 0 | BG159: =IF(N159="zákl. přenesená",J159,0) -> 0 | BH159: =IF(N159="sníž. přenesená",J159,0) -> 0 | BI159: =IF(N159="nulová",J159,0) -> 0 | BJ159: 2 | BK159: =ROUND(I159*H159,2) -> 0 | BL159: 16 | BM159: -470308441
C160: 26 | D160: K | E160: 722290226R00 | F160: Zkouška tlaku potrubí závitového DN 50 | G160: m | H160: 50 | J160: =ROUND(I160*H160,2) -> 0 | N160: snížená | P160: =O160*H160 -> 0 | Q160: 0 | R160: =Q160*H160 -> 0 | S160: 0 | T160: =S160*H160 -> 0 | AR160: 16 | AT160: K | AU160: 1 | AY160: ROZPOCET | BE160: =IF(N160="základní",J160,0) -> 0 | BF160: =IF(N160="snížená",J160,0) -> 0 | BG160: =IF(N160="zákl. přenesená",J160,0) -> 0 | BH160: =IF(N160="sníž. přenesená",J160,0) -> 0 | BI160: =IF(N160="nulová",J160,0) -> 0 | BJ160: 2 | BK160: =ROUND(I160*H160,2) -> 0 | BL160: 16 | BM160: -1959285724
C161: 27 | D161: K | E161: 722290234R00 | F161: Proplach a dezinfekce vodovod.potrubí DN 80 | G161: m | H161: 50 | J161: =ROUND(I161*H161,2) -> 0 | N161: snížená | P161: =O161*H161 -> 0 | Q161: 0 | R161: =Q161*H161 -> 0 | S161: 0 | T161: =S161*H161 -> 0 | AR161: 16 | AT161: K | AU161: 1 | AY161: ROZPOCET | BE161: =IF(N161="základní",J161,0) -> 0 | BF161: =IF(N161="snížená",J161,0) -> 0 | BG161: =IF(N161="zákl. přenesená",J161,0) -> 0 | BH161: =IF(N161="sníž. přenesená",J161,0) -> 0 | BI161: =IF(N161="nulová",J161,0) -> 0 | BJ161: 2 | BK161: =ROUND(I161*H161,2) -> 0 | BL161: 16 | BM161: 929421229
C162: 30 | D162: K | E162: 899711122R00 | F162: Fólie výstražná z PVC , šířka 30 cm | G162: m | H162: 50 | J162: =ROUND(I162*H162,2) -> 0 | N162: snížená | P162: =O162*H162 -> 0 | Q162: 0 | R162: =Q162*H162 -> 0 | S162: 0 | T162: =S162*H162 -> 0 | AR162: 16 | AT162: K | AU162: 1 | AY162: ROZPOCET | BE162: =IF(N162="základní",J162,0) -> 0 | BF162: =IF(N162="snížená",J162,0) -> 0 | BG162: =IF(N162="zákl. přenesená",J162,0) -> 0 | BH162: =IF(N162="sníž. přenesená",J162,0) -> 0 | BI162: =IF(N162="nulová",J162,0) -> 0 | BJ162: 2 | BK162: =ROUND(I162*H162,2) -> 0 | BL162: 16 | BM162: 214086269
...

Sheet D.1.4.2 - Silnoproudá ele...
AT2: {ec508bb4-a617-424e-964b-1fc6fd5b18e2}
AT3: 1
D4: KRYCÍ LIST SOUPISU PRACÍ | M4: v --- níže se nacházejí doplnkové a pomocné údaje k sestavám --- v | AT4: False
D6: Stavba:
E7: ='Rekapitulace stavby'!K6 -> NOVOSTAVBA SOCIÁLNÍCH BYTŮ NA PARC. Č. 789/2
D8: Objekt:
E9: UZN - UZNATELNÉ NÁKLADY
D10: Soupis:
E11: SO 01 - NOVOSTAVBA SOCIÁLNÍCH BYTŮ
D12: Úroveň 3:
E13: D.1.4.2 - Silnoproudá elektrotechnika a hromosvod
D15: KSO: | I15: CC-CZ:
D16: Místo: | F16: Protivanov, ul.Na Balkáně | I16: Datum: | J16: ='Rekapitulace stavby'!AN8 -> 11. 12. 2019
D18: Zadavatel: | I18: IČ: | J18: 00288675
E19: Městys Protivanov, Náměstí 32, 798 48 Protivanov | I19: DIČ: | J19: CZ00288675
D21: Uchazeč: | I21: IČ: | J21: ='Rekapitulace stavby'!AN13 -> Vyplň údaj
E22: ='Rekapitulace stavby'!E14 -> Vyplň údaj | I22: DIČ: | J22: ='Rekapitulace stavby'!AN14 -> Vyplň údaj
D24: Projektant: | I24: IČ:
E25: PROMED Brno, spol. s r.o | I25: DIČ:
D27: Zpracovatel: | I27: IČ: | J27: =IF('Rekapitulace stavby'!AN19="","",'Rekapitulace stavby'!AN19)
E28: =IF('Rekapitulace stavby'!E20="","",'Rekapitulace stavby'!E20) | I28: DIČ: | J28: =IF('Rekapitulace stavby'!AN20="","",'Rekapitulace stavby'!AN20)
D30: Poznámka:
D34: Cena bez DPH | J34: =ROUND(J139, 2) -> 0
F36: Základ daně | I36: Sazba daně | J36: Výše daně
D37: DPH | E37: základní | F37: =ROUND((SUM(BE139:BE267)), 2) -> 0 | I37: 0.21 | J37: =ROUND(((SUM(BE139:BE267))*I37), 2) -> 0
E38: snížená | F38: =ROUND((SUM(BF139:BF267)), 2) -> 0 | I38: 0.15 | J38: =ROUND(((SUM(BF139:BF267))*I38), 2) -> 0
E39: zákl. přenesená | F39: =ROUND((SUM(BG139:BG267)), 2) -> 0 | I39: 0.21 | J39: =0 -> 0
E40: sníž. přenesená | F40: =ROUND((SUM(BH139:BH267)), 2) -> 0 | I40: 0.15 | J40: =0 -> 0
E41: nulová | F41: =ROUND((SUM(BI139:BI267)), 2) -> 0 | I41: 0 | J41: =0 -> 0
D43: Cena s DPH | G43: v | H43: CZK | J43: =SUM(J34:J41) -> 0
D50: Projektant | G50: Zpracovatel
D61: Datum a podpis: | F61: Razítko | G61: Datum a podpis: | J61: Razítko
D65: Objednavatel | G65: Uchazeč
D76: Datum a podpis: | F76: Razítko | G76: Datum a podpis: | J76: Razítko
C82: REKAPITULACE ČLENĚNÍ SOUPISU PRACÍ
C84: Stavba:
E85: =E7 -> NOVOSTAVBA SOCIÁLNÍCH BYTŮ NA PARC. Č. 789/2
C86: Objekt:
E87: UZN - UZNATELNÉ NÁKLADY
C88: Soupis:
E89: SO 01 - NOVOSTAVBA SOCIÁLNÍCH BYTŮ
C90: Úroveň 3:
E91: =E13 -> D.1.4.2 - Silnoproudá elektrotechnika a hromosvod
C93: Místo: | F93: =F16 -> Protivanov, ul.Na Balkáně | I93: Datum: | J93: =IF(J16="","",J16) -> 11. 12. 2019
C95: Zadavatel: | F95: =E19 -> Městys Protivanov, Náměstí 32, 798 48 Protivanov | I95: Projektant: | J95: =E25 -> PROMED Brno, spol. s r.o
C96: Uchazeč: | F96: =IF(E22="","",E22) -> Vyplň údaj | I96: Zpracovatel: | J96: =E28
C98: Kód dílu - Popis | J98: Cena celkem [CZK]
C100: Náklady ze soupisu prací | J100: =J139 -> 0 | AU100: -1
D101: EI-K - ELEKTROINSTALACE - KABELY | J101: =J140 -> 0
D102: IM - INSTALAČNÍ MATERIÁL | J102: =J151 -> 0
D103: SSP - SPÍNACÍ , SPOUŠTĚCÍ A REGUL. ÚSTROJÍ | J103: =J157 -> 0
D104: UV - UKONČENÍ VODIČŮ | J104: =J172 -> 0
D105: S - SVÍTIDLA | J105: =J175 -> 0
D106: RO - ROZVÁDĚČ - RE | J106: =J183 -> 0
D107: RB - ROZVADĚČ RB2.1 -RB2.4, RB3.1-RB3.4 - 8 KUSŮ | J107: =J196 -> 0
D108: RS - ROZVÁDĚČ RS | J108: =J217 -> 0
D109: MR - MĚŘENÍ A REVIZE | J109: =J229 -> 0
D110: H - HROMOSVOD- - JÍMACÍ SOUSTAVA + SVODY | J110: =J231 -> 0
D111: MR-H - MĚŘENÍ A REVIZE HROMOSVODU | J111: =J241 -> 0
D112: D-T - Dodávka - TRUBKOVÁNÍ SLABOPROUD - ZVONEK | J112: =J243 -> 0
D113: M-T - MONTÁŽ - TRUBKOVÁNÍ SLABOPROUD - ZVONEK | J113: =J250 -> 0
D114: D-C - Dodávka - TRUBKOVÁNÍ SLABOPROUD- CETIN | J114: =J257 -> 0
D115: M-C - MONTÁŽ - TRUBKOVÁNÍ SLABOPROUD - CETIN | J115: =J263 -> 0
C122: SOUPIS PRACÍ
C124: Stavba:
E125: =E7 -> NOVOSTAVBA SOCIÁLNÍCH BYTŮ NA PARC. Č. 789/2
C126: Objekt:
E127: UZN - UZNATELNÉ NÁKLADY
C128: Soupis:
E129: SO 01 - NOVOSTAVBA SOCIÁLNÍCH BYTŮ
C130: Úroveň 3:
E131: =E13 -> D.1.4.2 - Silnoproudá elektrotechnika a hromosvod
C133: Místo: | F133: =F16 -> Protivanov, ul.Na Balkáně | I133: Datum: | J133: =IF(J16="","",J16) -> 11. 12. 2019
C135: Zadavatel: | F135: =E19 -> Městys Protivanov, Náměstí 32, 798 48 Protivanov | I135: Projektant: | J135: =E25 -> PROMED Brno, spol. s r.o
C136: Uchazeč: | F136: =IF(E22="","",E22) -> Vyplň údaj | I136: Zpracovatel: | J136: =E28
C138: PČ | D138: Typ | E138: Kód | F138: Popis | G138: MJ | H138: Množství | I138: J.cena [CZK] | J138: Cena celkem [CZK] | K138: Cenová soustava | N138: DPH | O138: J. Nh [h] | P138: Nh celkem [h] | Q138: J. hmotnost [t] | R138: Hmotnost celkem [t] | S138: J. suť [t] | T138: Suť Celkem [t]
C139: Náklady soupisu celkem | J139: =BK139 -> 0 | P139: =P140+P151+P157+P172+P175+P183+P196+P217+P229+P231+P241+P243+P250+P257+P263 -> 0 | R139: =R140+R151+R157+R172+R175+R183+R196+R217+R229+R231+R241+R243+R250+R257+R263 -> 0 | T139: =T140+T151+T157+T172+T175+T183+T196+T217+T229+T231+T241+T243+T250+T257+T263 -> 0 | AT139: D | AU139: -1 | BK139: =BK140+BK151+BK157+BK172+BK175+BK183+BK196+BK217+BK229+BK231+BK241+BK243+BK250+BK257+BK263 -> 0
D140: D | E140: EI-K | F140: ELEKTROINSTALACE - KABELY | J140: =BK140 -> 0 | P140: =SUM(P141:P150) -> 0 | R140: =SUM(R141:R150) -> 0 | T140: =SUM(T141:T150) -> 0 | AR140: 1 | AT140: D | AU140: 0 | AY140: ROZPOCET | BK140: =SUM(BK141:BK150) -> 0
C141: 1 | D141: K | E141: 210 80-0134.RT5 | F141: Kabel CYKY 750V 5Jx6 uložený pevně včetně dodávky kabelu | G141: m | H141: 225 | J141: =ROUND(I141*H141,2) -> 0 | N141: snížená | P141: =O141*H141 -> 0 | Q141: 0 | R141: =Q141*H141 -> 0 | S141: 0 | T141: =S141*H141 -> 0 | AR141: 4 | AT141: K | AU141: 1 | AY141: ROZPOCET | BE141: =IF(N141="základní",J141,0) -> 0 | BF141: =IF(N141="snížená",J141,0) -> 0 | BG141: =IF(N141="zákl. přenesená",J141,0) -> 0 | BH141: =IF(N141="sníž. přenesená",J141,0) -> 0 | BI141: =IF(N141="nulová",J141,0) -> 0 | BJ141: 2 | BK141: =ROUND(I141*H141,2) -> 0 | BL141: 4 | BM141: 2
C142: 2 | D142: K | E142: 210 80-0134.RT5.1 | F142: Kabel CYKY 750V 5Jx4 uložený pevně včetně dodávky kabelu | G142: m | H142: 22 | J142: =ROUND(I142*H142,2) -> 0 | N142: snížená | P142: =O142*H142 -> 0 | Q142: 0 | R142: =Q142*H142 -> 0 | S142: 0 | T142: =S142*H142 -> 0 | AR142: 4 | AT142: K | AU142: 1 | AY142: ROZPOCET | BE142: =IF(N142="základní",J142,0) -> 0 | BF142: =IF(N142="snížená",J142,0) -> 0 | BG142: =IF(N142="zákl. přenesená",J142,0) -> 0 | BH142: =IF(N142="sníž. přenesená",J142,0) -> 0 | BI142: =IF(N142="nulová",J142,0) -> 0 | BJ142: 2 | BK142: =ROUND(I142*H142,2) -> 0 | BL142: 4 | BM142: 4
C143: 3 | D143: K | E143: 210 80-0116.RT3 | F143: Kabel CYKY 750V 5J X 2,5 uložený pod omítku včetně doddávky kabelu 5J X2,5 | G143: m | H143: 94 | J143: =ROUND(I143*H143,2) -> 0 | N143: snížená | P143: =O143*H143 -> 0 | Q143: 0 | R143: =Q143*H143 -> 0 | S143: 0 | T143: =S143*H143 -> 0 | AR143: 4 | AT143: K | AU143: 1 | AY143: ROZPOCET | BE143: =IF(N143="základní",J143,0) -> 0 | BF143: =IF(N143="snížená",J143,0) -> 0 | BG143: =IF(N143="zákl. přenesená",J143,0) -> 0 | BH143: =IF(N143="sníž. přenesená",J143,0) -> 0 | BI143: =IF(N143="nulová",J143,0) -> 0 | BJ143: 2 | BK143: =ROUND(I143*H143,2) -> 0 | BL143: 4 | BM143: 6
C144: 4 | D144: K | E144: 210 80-0101.RT1 | F144: Kabel CYKY 750V 2O X 1.5 uložený pod omítku včetně doddávky kabelu 2O X 1.5 | G144: m | H144: 135 | J144: =ROUND(I144*H144,2) -> 0 | N144: snížená | P144: =O144*H144 -> 0 | Q144: 0 | R144: =Q144*H144 -> 0 | S144: 0 | T144: =S144*H144 -> 0 | AR144: 4 | AT144: K | AU144: 1 | AY144: ROZPOCET | BE144: =IF(N144="základní",J144,0) -> 0 | BF144: =IF(N144="snížená",J144,0) -> 0 | BG144: =IF(N144="zákl. přenesená",J144,0) -> 0 | BH144: =IF(N144="sníž. přenesená",J144,0) -> 0 | BI144: =IF(N144="nulová",J144,0) -> 0 | BJ144: 2 | BK144: =ROUND(I144*H144,2) -> 0 | BL144: 4 | BM144: 8
C145: 5 | D145: K | E145: 210 80-0105.RT2 | F145: Kabel CYKY 750V 3O X 1.5 uložený pod omítku včetně doddávky kabelu 3O X 1.5 | G145: m | H145: 358 | J145: =ROUND(I145*H145,2) -> 0 | N145: snížená | P145: =O145*H145 -> 0 | Q145: 0 | R145: =Q145*H145 -> 0 | S145: 0 | T145: =S145*H145 -> 0 | AR145: 4 | AT145: K | AU145: 1 | AY145: ROZPOCET | BE145: =IF(N145="základní",J145,0) -> 0 | BF145: =IF(N145="snížená",J145,0) -> 0 | BG145: =IF(N145="zákl. přenesená",J145,0) -> 0 | BH145: =IF(N145="sníž. přenesená",J145,0) -> 0 | BI145: =IF(N145="nulová",J145,0) -> 0 | BJ145: 2 | BK145: =ROUND(I145*H145,2) -> 0 | BL145: 4 | BM145: 10
C146: 6 | D146: K | E146: 210 80-0105.RT2.1 | F146: Kabel CYKY 750V 3J X 1.5 uložený pod omítku včetně doddávky kabelu 3J X 1.5 | G146: m | H146: 956 | J146: =ROUND(I146*H146,2) -> 0 | N146: snížená | P146: =O146*H146 -> 0 | Q146: 0 | R146: =Q146*H146 -> 0 | S146: 0 | T146: =S146*H146 -> 0 | AR146: 4 | AT146: K | AU146: 1 | AY146: ROZPOCET | BE146: =IF(N146="základní",J146,0) -> 0 | BF146: =IF(N146="snížená",J146,0) -> 0 | BG146: =IF(N146="zákl. přenesená",J146,0) -> 0 | BH146: =IF(N146="sníž. přenesená",J146,0) -> 0 | BI146: =IF(N146="nulová",J146,0) -> 0 | BJ146: 2 | BK146: =ROUND(I146*H146,2) -> 0 | BL146: 4 | BM146: 12
C147: 7 | D147: K | E147: 210 80-0106.RT2 | F147: Kabel CYKY 750V 3J X 2.5 uložený pod omítku včetně doddávky kabelu 3J X 2.5 | G147: m | H147: 578 | J147: =ROUND(I147*H147,2) -> 0 | N147: snížená | P147: =O147*H147 -> 0 | Q147: 0 | R147: =Q147*H147 -> 0 | S147: 0 | T147: =S147*H147 -> 0 | AR147: 4 | AT147: K | AU147: 1 | AY147: ROZPOCET | BE147: =IF(N147="základní",J147,0) -> 0 | BF147: =IF(N147="snížená",J147,0) -> 0 | BG147: =IF(N147="zákl. přenesená",J147,0) -> 0 | BH147: =IF(N147="sníž. přenesená",J147,0) -> 0 | BI147: =IF(N147="nulová",J147,0) -> 0 | BJ147: 2 | BK147: =ROUND(I147*H147,2) -> 0 | BL147: 4 | BM147: 14
C148: 8 | D148: K | E148: 210 80-0116.RT3.1 | F148: Kabel CYKY 750V 5J X 1,5 uložený pod omítku včetně doddávky kabelu 5J X1,5 | G148: m | H148: 180 | J148: =ROUND(I148*H148,2) -> 0 | N148: snížená | P148: =O148*H148 -> 0 | Q148: 0 | R148: =Q148*H148 -> 0 | S148: 0 | T148: =S148*H148 -> 0 | AR148: 4 | AT148: K | AU148: 1 | AY148: ROZPOCET | BE148: =IF(N148="základní",J148,0) -> 0 | BF148: =IF(N148="snížená",J148,0) -> 0 | BG148: =IF(N148="zákl. přenesená",J148,0) -> 0 | BH148: =IF(N148="sníž. přenesená",J148,0) -> 0 | BI148: =IF(N148="nulová",J148,0) -> 0 | BJ148: 2 | BK148: =ROUND(I148*H148,2) -> 0 | BL148: 4 | BM148: 16
C149: 9 | D149: K | E149: 210 80-0625.RT1 | F149: Vodič CYA 4 ochranné pospojování včetně doddávky vodiče CYA 4 | G149: m | H149: 65 | J149: =ROUND(I149*H149,2) -> 0 | N149: snížená | P149: =O149*H149 -> 0 | Q149: 0 | R149: =Q149*H149 -> 0 | S149: 0 | T149: =S149*H149 -> 0 | AR149: 4 | AT149: K | AU149: 1 | AY149: ROZPOCET | BE149: =IF(N149="základní",J149,0) -> 0 | BF149: =IF(N149="snížená",J149,0) -> 0 | BG149: =IF(N149="zákl. přenesená",J149,0) -> 0 | BH149: =IF(N149="sníž. přenesená",J149,0) -> 0 | BI149: =IF(N149="nulová",J149,0) -> 0 | BJ149: 2 | BK149: =ROUND(I149*H149,2) -> 0 | BL149: 4 | BM149: 18
C150: 10 | D150: K | E150: 210 80-0625-RT6 | F150: Kabel CYY16 žl. Zelený pod omítku | G150: m | H150: 35 | J150: =ROUND(I150*H150,2) -> 0 | N150: snížená | P150: =O150*H150 -> 0 | Q150: 0 | R150: =Q150*H150 -> 0 | S150: 0 | T150: =S150*H150 -> 0 | AR150: 4 | AT150: K | AU150: 1 | AY150: ROZPOCET | BE150: =IF(N150="základní",J150,0) -> 0 | BF150: =IF(N150="snížená",J150,0) -> 0 | BG150: =IF(N150="zákl. přenesená",J150,0) -> 0 | BH150: =IF(N150="sníž. přenesená",J150,0) -> 0 | BI150: =IF(N150="nulová",J150,0) -> 0 | BJ150: 2 | BK150: =ROUND(I150*H150,2) -> 0 | BL150: 4 | BM150: 20
D151: D | E151: IM | F151: INSTALAČNÍ MATERIÁL | J151: =BK151 -> 0 | P151: =SUM(P152:P156) -> 0 | R151: =SUM(R152:R156) -> 0 | T151: =SUM(T152:T156) -> 0 | AR151: 1 | AT151: D | AU151: 0 | AY151: ROZPOCET | BK151: =SUM(BK152:BK156) -> 0
C152: 11 | D152: K | E152: Pol256 | F152: Svorka Bernard včetně pásku Cu včetně dodávky svprky | G152: ks | H152: 40 | J152: =ROUND(I152*H152,2) -> 0 | N152: snížená | P152: =O152*H152 -> 0 | Q152: 0 | R152: =Q152*H152 -> 0 | S152: 0 | T152: =S152*H152 -> 0 | AR152: 4 | AT152: K | AU152: 1 | AY152: ROZPOCET | BE152: =IF(N152="základní",J152,0) -> 0 | BF152: =IF(N152="snížená",J152,0) -> 0 | BG152: =IF(N152="zákl. přenesená",J152,0) -> 0 | BH152: =IF(N152="sníž. přenesená",J152,0) -> 0 | BI152: =IF(N152="nulová",J152,0) -> 0 | BJ152: 2 | BK152: =ROUND(I152*H152,2) -> 0 | BL152: 4 | BM152: 22
C153: 12 | D153: K | E153: 210 01-0301.RT1 | F153: Krabice přístrojová KP68 bez zapojení včetně doddávky krabice | G153: ks | H153: 132 | J153: =ROUND(I153*H153,2) -> 0 | N153: snížená | P153: =O153*H153 -> 0 | Q153: 0 | R153: =Q153*H153 -> 0 | S153: 0 | T153: =S153*H153 -> 0 | AR153: 4 | AT153: K | AU153: 1 | AY153: ROZPOCET | BE153: =IF(N153="základní",J153,0) -> 0 | BF153: =IF(N153="snížená",J153,0) -> 0 | BG153: =IF(N153="zákl. přenesená",J153,0) -> 0 | BH153: =IF(N153="sníž. přenesená",J153,0) -> 0 | BI153: =IF(N153="nulová",J153,0) -> 0 | BJ153: 2 | BK153: =ROUND(I153*H153,2) -> 0 | BL153: 4 | BM153: 24
C154: 13 | D154: K | E154: 210 01-0321.RT1 | F154: krabice odbočná se zapojením kruhová včetně dodávky krabice 1903+svork.+víčko | G154: ks | H154: 115 | J154: =ROUND(I154*H154,2) -> 0 | N154: snížená | P154: =O154*H154 -> 0 | Q154: 0 | R154: =Q154*H154 -> 0 | S154: 0 | T154: =S154*H154 -> 0 | AR154: 4 | AT154: K | AU154: 1 | AY154: ROZPOCET | BE154: =IF(N154="základní",J154,0) -> 0 | BF154: =IF(N154="snížená",J154,0) -> 0 | BG154: =IF(N154="zákl. přenesená",J154,0) -> 0 | BH154: =IF(N154="sníž. přenesená",J154,0) -> 0 | BI154: =IF(N154="nulová",J154,0) -> 0 | BJ154: 2 | BK154: =ROUND(I154*H154,2) -> 0 | BL154: 4 | BM154: 26
C155: 14 | D155: K | E155: 211 11-1011.RT1 | F155: Trubka ohebná PVC uložená do podlahy včetně doddávky trubky | G155: m | H155: 35 | J155: =ROUND(I155*H155,2) -> 0 | N155: snížená | P155: =O155*H155 -> 0 | Q155: 0 | R155: =Q155*H155 -> 0 | S155: 0 | T155: =S155*H155 -> 0 | AR155: 4 | AT155: K | AU155: 1 | AY155: ROZPOCET | BE155: =IF(N155="základní",J155,0) -> 0 | BF155: =IF(N155="snížená",J155,0) -> 0 | BG155: =IF(N155="zákl. přenesená",J155,0) -> 0 | BH155: =IF(N155="sníž. přenesená",J155,0) -> 0 | BI155: =IF(N155="nulová",J155,0) -> 0 | BJ155: 2 | BK155: =ROUND(I155*H155,2) -> 0 | BL155: 4 | BM155: 28
C156: 15 | D156: K | E156: 210 01-0301-RT9 | F156: Drobný materiál | G156: ks | H156: 2 | J156: =ROUND(I156*H156,2) -> 0 | N156: snížená | P156: =O156*H156 -> 0 | Q156: 0 | R156: =Q156*H156 -> 0 | S156: 0 | T156: =S156*H156 -> 0 | AR156: 4 | AT156: K | AU156: 1 | AY156: ROZPOCET | BE156: =IF(N156="základní",J156,0) -> 0 | BF156: =IF(N156="snížená",J156,0) -> 0 | BG156: =IF(N156="zákl. přenesená",J156,0) -> 0 | BH156: =IF(N156="sníž. přenesená",J156,0) -> 0 | BI156: =IF(N156="nulová",J156,0) -> 0 | BJ156: 2 | BK156: =ROUND(I156*H156,2) -> 0 | BL156: 4 | BM156: 30
D157: D | E157: SSP | F157: SPÍNACÍ , SPOUŠTĚCÍ A REGUL. ÚSTROJÍ | J157: =BK157 -> 0 | P157: =SUM(P158:P171) -> 0 | R157: =SUM(R158:R171) -> 0 | T157: =SUM(T158:T171) -> 0 | AR157: 1 | AT157: D | AU157: 0 | AY157: ROZPOCET | BK157: =SUM(BK158:BK171) -> 0
C158: 16 | D158: K | E158: 211 11-0001.RT1 | F158: Spínač nástěnný 1.polový řazení 1 včetně dodávky spínače | G158: ks | H158: 56 | J158: =ROUND(I158*H158,2) -> 0 | N158: snížená | P158: =O158*H158 -> 0 | Q158: 0 | R158: =Q158*H158 -> 0 | S158: 0 | T158: =S158*H158 -> 0 | AR158: 4 | AT158: K | AU158: 1 | AY158: ROZPOCET | BE158: =IF(N158="základní",J158,0) -> 0 | BF158: =IF(N158="snížená",J158,0) -> 0 | BG158: =IF(N158="zákl. přenesená",J158,0) -> 0 | BH158: =IF(N158="sníž. přenesená",J158,0) -> 0 | BI158: =IF(N158="nulová",J158,0) -> 0 | BJ158: 2 | BK158: =ROUND(I158*H158,2) -> 0 | BL158: 4 | BM158: 32
C159: 17 | D159: K | E159: 211 11-0004.RT1 | F159: Spínač nástěnný střídavý řazení 6 včetně dodávky spínače | G159: ks | H159: 32 | J159: =ROUND(I159*H159,2) -> 0 | N159: snížená | P159: =O159*H159 -> 0 | Q159: 0 | R159: =Q159*H159 -> 0 | S159: 0 | T159: =S159*H159 -> 0 | AR159: 4 | AT159: K | AU159: 1 | AY159: ROZPOCET | BE159: =IF(N159="základní",J159,0) -> 0 | BF159: =IF(N159="snížená",J159,0) -> 0 | BG159: =IF(N159="zákl. přenesená",J159,0) -> 0 | BH159: =IF(N159="sníž. přenesená",J159,0) -> 0 | BI159: =IF(N159="nulová",J159,0) -> 0 | BJ159: 2 | BK159: =ROUND(I159*H159,2) -> 0 | BL159: 4 | BM159: 34
C160: 18 | D160: K | E160: 211 11-0005.RT1 | F160: Spínač nástěnný křížový řazení 7 včetně dodávky spínače | G160: ks | H160: 8 | J160: =ROUND(I160*H160,2) -> 0 | N160: snížená | P160: =O160*H160 -> 0 | Q160: 0 | R160: =Q160*H160 -> 0 | S160: 0 | T160: =S160*H160 -> 0 | AR160: 4 | AT160: K | AU160: 1 | AY160: ROZPOCET | BE160: =IF(N160="základní",J160,0) -> 0 | BF160: =IF(N160="snížená",J160,0) -> 0 | BG160: =IF(N160="zákl. přenesená",J160,0) -> 0 | BH160: =IF(N160="sníž. přenesená",J160,0) -> 0 | BI160: =IF(N160="nulová",J160,0) -> 0 | BJ160: 2 | BK160: =ROUND(I160*H160,2) -> 0 | BL160: 4 | BM160: 36
C161: 19 | D161: K | E161: 211 11-0044.RT2 | F161: Spínač nástěnný střídavý dvojitý řazení 5B včetně dodávky spínače | G161: ks | H161: 16 | J161: =ROUND(I161*H161,2) -> 0 | N161: snížená | P161: =O161*H161 -> 0 | Q161: 0 | R161: =Q161*H161 -> 0 | S161: 0 | T161: =S161*H161 -> 0 | AR161: 4 | AT161: K | AU161: 1 | AY161: ROZPOCET | BE161: =IF(N161="základní",J161,0) -> 0 | BF161: =IF(N161="snížená",J161,0) -> 0 | BG161: =IF(N161="zákl. přenesená",J161,0) -> 0 | BH161: =IF(N161="sníž. přenesená",J161,0) -> 0 | BI161: =IF(N161="nulová",J161,0) -> 0 | BJ161: 2 | BK161: =ROUND(I161*H161,2) -> 0 | BL161: 4 | BM161: 38
C162: 20 | D162: K | E162: 211 11-0005.RT6 | F162: Spínač nástěnný střídavý řazení 6 VDT včetně dodávky spínače | G162: ks | H162: 2 | J162: =ROUND(I162*H162,2) -> 0 | N162: snížená | P162: =O162*H162 -> 0 | Q162: 0 | R162: =Q162*H162 -> 0 | S162: 0 | T162: =S162*H162 -> 0 | AR162: 4 | AT162: K | AU162: 1 | AY162: ROZPOCET | BE162: =IF(N162="základní",J162,0) -> 0 | BF162: =IF(N162="snížená",J162,0) -> 0 | BG162: =IF(N162="zákl. přenesená",J162,0) -> 0 | BH162: =IF(N162="sníž. přenesená",J162,0) -> 0 | BI162: =IF(N162="nulová",J162,0) -> 0 | BJ162: 2 | BK162: =ROUND(I162*H162,2) -> 0 | BL162: 4 | BM162: 40
...

Sheet D.1.4.3 - Zařízení pro vy...
AT2: {cacc2450-f702-46c7-9976-8fb1ad0cf7bc}
AT3: 1
D4: KRYCÍ LIST SOUPISU PRACÍ | M4: v --- níže se nacházejí doplnkové a pomocné údaje k sestavám --- v | AT4: False
D6: Stavba:
E7: ='Rekapitulace stavby'!K6 -> NOVOSTAVBA SOCIÁLNÍCH BYTŮ NA PARC. Č. 789/2
D8: Objekt:
E9: UZN - UZNATELNÉ NÁKLADY
D10: Soupis:
E11: SO 01 - NOVOSTAVBA SOCIÁLNÍCH BYTŮ
D12: Úroveň 3:
E13: D.1.4.3 - Zařízení pro vytápění staveb
D15: KSO: | I15: CC-CZ:
D16: Místo: | F16: Protivanov, ul.Na Balkáně | I16: Datum: | J16: ='Rekapitulace stavby'!AN8 -> 11. 12. 2019
D18: Zadavatel: | I18: IČ: | J18: 00288675
E19: Městys Protivanov, Náměstí 32, 798 48 Protivanov | I19: DIČ: | J19: CZ00288675
D21: Uchazeč: | I21: IČ: | J21: ='Rekapitulace stavby'!AN13 -> Vyplň údaj
E22: ='Rekapitulace stavby'!E14 -> Vyplň údaj | I22: DIČ: | J22: ='Rekapitulace stavby'!AN14 -> Vyplň údaj
D24: Projektant: | I24: IČ:
E25: PROMED Brno, spol. s r.o | I25: DIČ:
D27: Zpracovatel: | I27: IČ: | J27: =IF('Rekapitulace stavby'!AN19="","",'Rekapitulace stavby'!AN19)
E28: =IF('Rekapitulace stavby'!E20="","",'Rekapitulace stavby'!E20) | I28: DIČ: | J28: =IF('Rekapitulace stavby'!AN20="","",'Rekapitulace stavby'!AN20)
D30: Poznámka:
D34: Cena bez DPH | J34: =ROUND(J131, 2) -> 0
F36: Základ daně | I36: Sazba daně | J36: Výše daně
D37: DPH | E37: základní | F37: =ROUND((SUM(BE131:BE203)), 2) -> 0 | I37: 0.21 | J37: =ROUND(((SUM(BE131:BE203))*I37), 2) -> 0
E38: snížená | F38: =ROUND((SUM(BF131:BF203)), 2) -> 0 | I38: 0.15 | J38: =ROUND(((SUM(BF131:BF203))*I38), 2) -> 0
E39: zákl. přenesená | F39: =ROUND((SUM(BG131:BG203)), 2) -> 0 | I39: 0.21 | J39: =0 -> 0
E40: sníž. přenesená | F40: =ROUND((SUM(BH131:BH203)), 2) -> 0 | I40: 0.15 | J40: =0 -> 0
E41: nulová | F41: =ROUND((SUM(BI131:BI203)), 2) -> 0 | I41: 0 | J41: =0 -> 0
D43: Cena s DPH | G43: v | H43: CZK | J43: =SUM(J34:J41) -> 0
D50: Projektant | G50: Zpracovatel
D61: Datum a podpis: | F61: Razítko | G61: Datum a podpis: | J61: Razítko
D65: Objednavatel | G65: Uchazeč
D76: Datum a podpis: | F76: Razítko | G76: Datum a podpis: | J76: Razítko
C82: REKAPITULACE ČLENĚNÍ SOUPISU PRACÍ
C84: Stavba:
E85: =E7 -> NOVOSTAVBA SOCIÁLNÍCH BYTŮ NA PARC. Č. 789/2
C86: Objekt:
E87: UZN - UZNATELNÉ NÁKLADY
C88: Soupis:
E89: SO 01 - NOVOSTAVBA SOCIÁLNÍCH BYTŮ
C90: Úroveň 3:
E91: =E13 -> D.1.4.3 - Zařízení pro vytápění staveb
C93: Místo: | F93: =F16 -> Protivanov, ul.Na Balkáně | I93: Datum: | J93: =IF(J16="","",J16) -> 11. 12. 2019
C95: Zadavatel: | F95: =E19 -> Městys Protivanov, Náměstí 32, 798 48 Protivanov | I95: Projektant: | J95: =E25 -> PROMED Brno, spol. s r.o
C96: Uchazeč: | F96: =IF(E22="","",E22) -> Vyplň údaj | I96: Zpracovatel: | J96: =E28
C98: Kód dílu - Popis | J98: Cena celkem [CZK]
C100: Náklady ze soupisu prací | J100: =J131 -> 0 | AU100: -1
D101: 713 - Izolace tepelné | J101: =J132 -> 0
D102: 731 - Kotelny | J102: =J137 -> 0
D103: 733 - Rozvod potrubí | J103: =J162 -> 0
D104: 734 - Armatury | J104: =J167 -> 0
D105: 735 - Otopná tělesa | J105: =J179 -> 0
D106: 767 - Konstrukce zámečnické | J106: =J193 -> 0
D107: OST - Ostatní náklady | J107: =J199 -> 0
C114: SOUPIS PRACÍ
C116: Stavba:
E117: =E7 -> NOVOSTAVBA SOCIÁLNÍCH BYTŮ NA PARC. Č. 789/2
C118: Objekt:
E119: UZN - UZNATELNÉ NÁKLADY
C120: Soupis:
E121: SO 01 - NOVOSTAVBA SOCIÁLNÍCH BYTŮ
C122: Úroveň 3:
E123: =E13 -> D.1.4.3 - Zařízení pro vytápění staveb
C125: Místo: | F125: =F16 -> Protivanov, ul.Na Balkáně | I125: Datum: | J125: =IF(J16="","",J16) -> 11. 12. 2019
C127: Zadavatel: | F127: =E19 -> Městys Protivanov, Náměstí 32, 798 48 Protivanov | I127: Projektant: | J127: =E25 -> PROMED Brno, spol. s r.o
C128: Uchazeč: | F128: =IF(E22="","",E22) -> Vyplň údaj | I128: Zpracovatel: | J128: =E28
C130: PČ | D130: Typ | E130: Kód | F130: Popis | G130: MJ | H130: Množství | I130: J.cena [CZK] | J130: Cena celkem [CZK] | K130: Cenová soustava | N130: DPH | O130: J. Nh [h] | P130: Nh celkem [h] | Q130: J. hmotnost [t] | R130: Hmotnost celkem [t] | S130: J. suť [t] | T130: Suť Celkem [t]
C131: Náklady soupisu celkem | J131: =BK131 -> 0 | P131: =P132+P137+P162+P167+P179+P193+P199 -> 0 | R131: =R132+R137+R162+R167+R179+R193+R199 -> 0 | T131: =T132+T137+T162+T167+T179+T193+T199 -> 0 | AT131: D | AU131: -1 | BK131: =BK132+BK137+BK162+BK167+BK179+BK193+BK199 -> 0
D132: D | E132: 713 | F132: Izolace tepelné | J132: =BK132 -> 0 | P132: =SUM(P133:P136) -> 0 | R132: =SUM(R133:R136) -> 0 | T132: =SUM(T133:T136) -> 0 | AR132: 2 | AT132: D | AU132: 0 | AY132: ROZPOCET | BK132: =SUM(BK133:BK136) -> 0
C133: 1 | D133: K | E133: 713311121 | F133: Montáž izolace tepelné těles pásy nebo rohožemi bez povrchové úpravy (izolační materiál ve specifikaci) připevněnými ocelovým drátem nebo na trny z tyčové oceli kruhové (bez přivaření trnů) pomocí příchytek nebo ohnutím trnů ploch tvarových jednovrstvá | G133: m2 | H133: 66 | J133: =ROUND(I133*H133,2) -> 0 | N133: snížená | P133: =O133*H133 -> 0 | Q133: 0 | R133: =Q133*H133 -> 0 | S133: 0 | T133: =S133*H133 -> 0 | AR133: 16 | AT133: K | AU133: 1 | AY133: ROZPOCET | BE133: =IF(N133="základní",J133,0) -> 0 | BF133: =IF(N133="snížená",J133,0) -> 0 | BG133: =IF(N133="zákl. přenesená",J133,0) -> 0 | BH133: =IF(N133="sníž. přenesená",J133,0) -> 0 | BI133: =IF(N133="nulová",J133,0) -> 0 | BJ133: 2 | BK133: =ROUND(I133*H133,2) -> 0 | BL133: 16 | BM133: 2
C134: 2 | D134: K | E134: 283-77095 | F134: izolace tepelná potrubí z pěnového polyetylenu 15 x 13 mm | G134: m | H134: 510 | J134: =ROUND(I134*H134,2) -> 0 | N134: snížená | P134: =O134*H134 -> 0 | Q134: 0 | R134: =Q134*H134 -> 0 | S134: 0 | T134: =S134*H134 -> 0 | AR134: 16 | AT134: K | AU134: 1 | AY134: ROZPOCET | BE134: =IF(N134="základní",J134,0) -> 0 | BF134: =IF(N134="snížená",J134,0) -> 0 | BG134: =IF(N134="zákl. přenesená",J134,0) -> 0 | BH134: =IF(N134="sníž. přenesená",J134,0) -> 0 | BI134: =IF(N134="nulová",J134,0) -> 0 | BJ134: 2 | BK134: =ROUND(I134*H134,2) -> 0 | BL134: 16 | BM134: 4
C135: 3 | D135: K | E135: vlastní cena | F135: Tvarovky a ohyby izolace z polyethylénu, součinitel tepelné vodivosti min. 0,038 W/mK | G135: soubor | H135: 1 | J135: =ROUND(I135*H135,2) -> 0 | N135: snížená | P135: =O135*H135 -> 0 | Q135: 0 | R135: =Q135*H135 -> 0 | S135: 0 | T135: =S135*H135 -> 0 | AR135: 16 | AT135: K | AU135: 1 | AY135: ROZPOCET | BE135: =IF(N135="základní",J135,0) -> 0 | BF135: =IF(N135="snížená",J135,0) -> 0 | BG135: =IF(N135="zákl. přenesená",J135,0) -> 0 | BH135: =IF(N135="sníž. přenesená",J135,0) -> 0 | BI135: =IF(N135="nulová",J135,0) -> 0 | BJ135: 2 | BK135: =ROUND(I135*H135,2) -> 0 | BL135: 16 | BM135: 6
C136: 4 | D136: K | E136: 998713102 | F136: Přesun hmot tonážní pro izolace tepelné v objektech v do 12 m | G136: t | H136: 0.15 | J136: =ROUND(I136*H136,2) -> 0 | N136: snížená | P136: =O136*H136 -> 0 | Q136: 0 | R136: =Q136*H136 -> 0 | S136: 0 | T136: =S136*H136 -> 0 | AR136: 16 | AT136: K | AU136: 1 | AY136: ROZPOCET | BE136: =IF(N136="základní",J136,0) -> 0 | BF136: =IF(N136="snížená",J136,0) -> 0 | BG136: =IF(N136="zákl. přenesená",J136,0) -> 0 | BH136: =IF(N136="sníž. přenesená",J136,0) -> 0 | BI136: =IF(N136="nulová",J136,0) -> 0 | BJ136: 2 | BK136: =ROUND(I136*H136,2) -> 0 | BL136: 16 | BM136: 8
D137: D | E137: 731 | F137: Kotelny | J137: =BK137 -> 0 | P137: =SUM(P138:P161) -> 0 | R137: =SUM(R138:R161) -> 0 | T137: =SUM(T138:T161) -> 0 | AR137: 2 | AT137: D | AU137: 0 | AY137: ROZPOCET | BK137: =SUM(BK138:BK161) -> 0
C138: 5 | D138: K | E138: 731341130 | F138: Hadice napouštěcí pryžové D 16/23 | G138: m | H138: 40 | J138: =ROUND(I138*H138,2) -> 0 | N138: snížená | P138: =O138*H138 -> 0 | Q138: 0 | R138: =Q138*H138 -> 0 | S138: 0 | T138: =S138*H138 -> 0 | AR138: 16 | AT138: K | AU138: 1 | AY138: ROZPOCET | BE138: =IF(N138="základní",J138,0) -> 0 | BF138: =IF(N138="snížená",J138,0) -> 0 | BG138: =IF(N138="zákl. přenesená",J138,0) -> 0 | BH138: =IF(N138="sníž. přenesená",J138,0) -> 0 | BI138: =IF(N138="nulová",J138,0) -> 0 | BJ138: 2 | BK138: =ROUND(I138*H138,2) -> 0 | BL138: 16 | BM138: 10
C139: 6 | D139: K | E139: 731244492 | F139: Montáž kotle ocelového závěsného na plyn kondenzačního o výkonu do 20 kW | G139: soubor | H139: 8 | J139: =ROUND(I139*H139,2) -> 0 | N139: snížená | P139: =O139*H139 -> 0 | Q139: 0 | R139: =Q139*H139 -> 0 | S139: 0 | T139: =S139*H139 -> 0 | AR139: 16 | AT139: K | AU139: 1 | AY139: ROZPOCET | BE139: =IF(N139="základní",J139,0) -> 0 | BF139: =IF(N139="snížená",J139,0) -> 0 | BG139: =IF(N139="zákl. přenesená",J139,0) -> 0 | BH139: =IF(N139="sníž. přenesená",J139,0) -> 0 | BI139: =IF(N139="nulová",J139,0) -> 0 | BJ139: 2 | BK139: =ROUND(I139*H139,2) -> 0 | BL139: 16 | BM139: 12
C140: 7 | D140: K | E140: vlastní cena.1 | F140: Sestava nástěnné kondenzační centrály se zabudovaným vrstveným zásobníkem pitné vody 14/100 L | G140: soubor | H140: 8 | J140: =ROUND(I140*H140,2) -> 0 | N140: snížená | P140: =O140*H140 -> 0 | Q140: 0 | R140: =Q140*H140 -> 0 | S140: 0 | T140: =S140*H140 -> 0 | AR140: 16 | AT140: K | AU140: 1 | AY140: ROZPOCET | BE140: =IF(N140="základní",J140,0) -> 0 | BF140: =IF(N140="snížená",J140,0) -> 0 | BG140: =IF(N140="zákl. přenesená",J140,0) -> 0 | BH140: =IF(N140="sníž. přenesená",J140,0) -> 0 | BI140: =IF(N140="nulová",J140,0) -> 0 | BJ140: 2 | BK140: =ROUND(I140*H140,2) -> 0 | BL140: 16 | BM140: 14
D141: P | F141: Poznámka k položce:_x000D_ Sestava obsahuje: nástěnný kondenzační kotel pro vytápění a přípravu teplé vody s vrstveným zásobníkem CGW-2L - plynule modulovaný výkon 1,8 - 15,2 kW - zásobník s objemem 44 l poskytuje komfort ohřáté vody 100 l - rozměry (v x š x h) 790 x 800 x 378 mm, hmotnost 54 kg ekvitermní regulaci - zobrazovací modul AM k zabudování do kotle - vnější snímač připojovací sadu pro instalaci nad omítkou - plynový kohout s tepelnou pojistkou, 2 kohouty otopná/vratná voda, pojistný ventil 3 bary, odpadový trychtýř | AT141: P | AU141: 1
C142: 8 | D142: K | E142: vlastní cena.2 | F142: Připojovací sada CGW pro instalaci nad omítkou pro CGW - Pojistná skupina bez omezovače tlaku, přípojka pojistné skupiny na přívod studené vody, 2 těsnění 3´´. | G142: soubor | H142: 8 | J142: =ROUND(I142*H142,2) -> 0 | N142: snížená | P142: =O142*H142 -> 0 | Q142: 0 | R142: =Q142*H142 -> 0 | S142: 0 | T142: =S142*H142 -> 0 | AR142: 16 | AT142: K | AU142: 1 | AY142: ROZPOCET | BE142: =IF(N142="základní",J142,0) -> 0 | BF142: =IF(N142="snížená",J142,0) -> 0 | BG142: =IF(N142="zákl. přenesená",J142,0) -> 0 | BH142: =IF(N142="sníž. přenesená",J142,0) -> 0 | BI142: =IF(N142="nulová",J142,0) -> 0 | BJ142: 2 | BK142: =ROUND(I142*H142,2) -> 0 | BL142: 16 | BM142: 16
C143: 9 | D143: K | E143: vlastní cena.3 | F143: Zatrubkování + kabeláž MaR | G143: soubor | H143: 8 | J143: =ROUND(I143*H143,2) -> 0 | N143: snížená | P143: =O143*H143 -> 0 | Q143: 0 | R143: =Q143*H143 -> 0 | S143: 0 | T143: =S143*H143 -> 0 | AR143: 16 | AT143: K | AU143: 1 | AY143: ROZPOCET | BE143: =IF(N143="základní",J143,0) -> 0 | BF143: =IF(N143="snížená",J143,0) -> 0 | BG143: =IF(N143="zákl. přenesená",J143,0) -> 0 | BH143: =IF(N143="sníž. přenesená",J143,0) -> 0 | BI143: =IF(N143="nulová",J143,0) -> 0 | BJ143: 2 | BK143: =ROUND(I143*H143,2) -> 0 | BL143: 16 | BM143: 18
C144: 10 | D144: K | E144: LPRK05 | F144: Kouřovod - LIK trubka s hrdlem; 0,25 m, průměr 60/100 mm | G144: kus | H144: 8 | J144: =ROUND(I144*H144,2) -> 0 | N144: snížená | P144: =O144*H144 -> 0 | Q144: 0 | R144: =Q144*H144 -> 0 | S144: 0 | T144: =S144*H144 -> 0 | AR144: 16 | AT144: K | AU144: 1 | AY144: ROZPOCET | BE144: =IF(N144="základní",J144,0) -> 0 | BF144: =IF(N144="snížená",J144,0) -> 0 | BG144: =IF(N144="zákl. přenesená",J144,0) -> 0 | BH144: =IF(N144="sníž. přenesená",J144,0) -> 0 | BI144: =IF(N144="nulová",J144,0) -> 0 | BJ144: 2 | BK144: =ROUND(I144*H144,2) -> 0 | BL144: 16 | BM144: 20
C145: 11 | D145: K | E145: LPUK05 | F145: Kouřovod - LIK revizní T-kus se změnou směru, průměr 60/100 mm | G145: kus | H145: 8 | J145: =ROUND(I145*H145,2) -> 0 | N145: snížená | P145: =O145*H145 -> 0 | Q145: 0 | R145: =Q145*H145 -> 0 | S145: 0 | T145: =S145*H145 -> 0 | AR145: 16 | AT145: K | AU145: 1 | AY145: ROZPOCET | BE145: =IF(N145="základní",J145,0) -> 0 | BF145: =IF(N145="snížená",J145,0) -> 0 | BG145: =IF(N145="zákl. přenesená",J145,0) -> 0 | BH145: =IF(N145="sníž. přenesená",J145,0) -> 0 | BI145: =IF(N145="nulová",J145,0) -> 0 | BJ145: 2 | BK145: =ROUND(I145*H145,2) -> 0 | BL145: 16 | BM145: 22
C146: 12 | D146: K | E146: LPRK15 | F146: Kouřovod - LIK trubka s hrdlem; 1 m, průměr 60/100 mm | G146: kus | H146: 8 | J146: =ROUND(I146*H146,2) -> 0 | N146: snížená | P146: =O146*H146 -> 0 | Q146: 0 | R146: =Q146*H146 -> 0 | S146: 0 | T146: =S146*H146 -> 0 | AR146: 16 | AT146: K | AU146: 1 | AY146: ROZPOCET | BE146: =IF(N146="základní",J146,0) -> 0 | BF146: =IF(N146="snížená",J146,0) -> 0 | BG146: =IF(N146="zákl. přenesená",J146,0) -> 0 | BH146: =IF(N146="sníž. přenesená",J146,0) -> 0 | BI146: =IF(N146="nulová",J146,0) -> 0 | BJ146: 2 | BK146: =ROUND(I146*H146,2) -> 0 | BL146: 16 | BM146: 24
C147: 13 | D147: K | E147: APWHL8 | F147: Komín - LAL stěnová objímka zesílená, průměr 80/125 mm | G147: kus | H147: 8 | J147: =ROUND(I147*H147,2) -> 0 | N147: snížená | P147: =O147*H147 -> 0 | Q147: 0 | R147: =Q147*H147 -> 0 | S147: 0 | T147: =S147*H147 -> 0 | AR147: 16 | AT147: K | AU147: 1 | AY147: ROZPOCET | BE147: =IF(N147="základní",J147,0) -> 0 | BF147: =IF(N147="snížená",J147,0) -> 0 | BG147: =IF(N147="zákl. přenesená",J147,0) -> 0 | BH147: =IF(N147="sníž. přenesená",J147,0) -> 0 | BI147: =IF(N147="nulová",J147,0) -> 0 | BJ147: 2 | BK147: =ROUND(I147*H147,2) -> 0 | BL147: 16 | BM147: 26
C148: 14 | D148: K | E148: LPMAL8 | F148: Komín - LIL odtok s hrdlem, průměr 80/125 mm | G148: kus | H148: 4 | J148: =ROUND(I148*H148,2) -> 0 | N148: snížená | P148: =O148*H148 -> 0 | Q148: 0 | R148: =Q148*H148 -> 0 | S148: 0 | T148: =S148*H148 -> 0 | AR148: 16 | AT148: K | AU148: 1 | AY148: ROZPOCET | BE148: =IF(N148="základní",J148,0) -> 0 | BF148: =IF(N148="snížená",J148,0) -> 0 | BG148: =IF(N148="zákl. přenesená",J148,0) -> 0 | BH148: =IF(N148="sníž. přenesená",J148,0) -> 0 | BI148: =IF(N148="nulová",J148,0) -> 0 | BJ148: 2 | BK148: =ROUND(I148*H148,2) -> 0 | BL148: 16 | BM148: 28
C149: 15 | D149: K | E149: ZULJ40 | F149: Komín - Sifon Long John (pro přetlak) vývod 40 mm | G149: kus | H149: 4 | J149: =ROUND(I149*H149,2) -> 0 | N149: snížená | P149: =O149*H149 -> 0 | Q149: 0 | R149: =Q149*H149 -> 0 | S149: 0 | T149: =S149*H149 -> 0 | AR149: 16 | AT149: K | AU149: 1 | AY149: ROZPOCET | BE149: =IF(N149="základní",J149,0) -> 0 | BF149: =IF(N149="snížená",J149,0) -> 0 | BG149: =IF(N149="zákl. přenesená",J149,0) -> 0 | BH149: =IF(N149="sníž. přenesená",J149,0) -> 0 | BI149: =IF(N149="nulová",J149,0) -> 0 | BJ149: 2 | BK149: =ROUND(I149*H149,2) -> 0 | BL149: 16 | BM149: 30
C150: 16 | D150: K | E150: ZUWK01 | F150: Komín - Hadice pro odvod kondenzátu 1 bm, průměr 80/125 mm | G150: kus | H150: 12 | J150: =ROUND(I150*H150,2) -> 0 | N150: snížená | P150: =O150*H150 -> 0 | Q150: 0 | R150: =Q150*H150 -> 0 | S150: 0 | T150: =S150*H150 -> 0 | AR150: 16 | AT150: K | AU150: 1 | AY150: ROZPOCET | BE150: =IF(N150="základní",J150,0) -> 0 | BF150: =IF(N150="snížená",J150,0) -> 0 | BG150: =IF(N150="zákl. přenesená",J150,0) -> 0 | BH150: =IF(N150="sníž. přenesená",J150,0) -> 0 | BI150: =IF(N150="nulová",J150,0) -> 0 | BJ150: 2 | BK150: =ROUND(I150*H150,2) -> 0 | BL150: 16 | BM150: 32
C151: 17 | D151: K | E151: LPRTL8 | F151: Komín - LIL revizní T-kus, průměr 80/125 mm | G151: kus | H151: 4 | J151: =ROUND(I151*H151,2) -> 0 | N151: snížená | P151: =O151*H151 -> 0 | Q151: 0 | R151: =Q151*H151 -> 0 | S151: 0 | T151: =S151*H151 -> 0 | AR151: 16 | AT151: K | AU151: 1 | AY151: ROZPOCET | BE151: =IF(N151="základní",J151,0) -> 0 | BF151: =IF(N151="snížená",J151,0) -> 0 | BG151: =IF(N151="zákl. přenesená",J151,0) -> 0 | BH151: =IF(N151="sníž. přenesená",J151,0) -> 0 | BI151: =IF(N151="nulová",J151,0) -> 0 | BJ151: 2 | BK151: =ROUND(I151*H151,2) -> 0 | BL151: 16 | BM151: 34
C152: 18 | D152: K | E152: TTAD03 | F152: Komín - Revizní dvířka (bílá), průměr 155x305 mm | G152: kus | H152: 8 | J152: =ROUND(I152*H152,2) -> 0 | N152: snížená | P152: =O152*H152 -> 0 | Q152: 0 | R152: =Q152*H152 -> 0 | S152: 0 | T152: =S152*H152 -> 0 | AR152: 16 | AT152: K | AU152: 1 | AY152: ROZPOCET | BE152: =IF(N152="základní",J152,0) -> 0 | BF152: =IF(N152="snížená",J152,0) -> 0 | BG152: =IF(N152="zákl. přenesená",J152,0) -> 0 | BH152: =IF(N152="sníž. přenesená",J152,0) -> 0 | BI152: =IF(N152="nulová",J152,0) -> 0 | BJ152: 2 | BK152: =ROUND(I152*H152,2) -> 0 | BL152: 16 | BM152: 36
C153: 19 | D153: K | E153: LPRL18 | F153: Komín - LIL trubka s hrdlem; 1 m, průměr 80/125 mm | G153: kus | H153: 16 | J153: =ROUND(I153*H153,2) -> 0 | N153: snížená | P153: =O153*H153 -> 0 | Q153: 0 | R153: =Q153*H153 -> 0 | S153: 0 | T153: =S153*H153 -> 0 | AR153: 16 | AT153: K | AU153: 1 | AY153: ROZPOCET | BE153: =IF(N153="základní",J153,0) -> 0 | BF153: =IF(N153="snížená",J153,0) -> 0 | BG153: =IF(N153="zákl. přenesená",J153,0) -> 0 | BH153: =IF(N153="sníž. přenesená",J153,0) -> 0 | BI153: =IF(N153="nulová",J153,0) -> 0 | BJ153: 2 | BK153: =ROUND(I153*H153,2) -> 0 | BL153: 16 | BM153: 38
... C161: 27 | D161: K | E161: 998731102 | F161: Přesun hmot tonážní pro kotelny v objektech v do 12 m | G161: t | H161: 0.6 | J161: =ROUND(I161*H161,2) -> 0 | N161: snížená | P161: =O161*H161 -> 0 | Q161: 0 | R161: =Q161*H161 -> 0 | S161: 0 | T161: =S161*H161 -> 0 | AR161: 16 | AT161: K | AU161: 1 | AY161: ROZPOCET | BE161: =IF(N161="základní",J161,0) -> 0 | BF161: =IF(N161="snížená",J161,0) -> 0 | BG161: =IF(N161="zákl. přenesená",J161,0) -> 0 | BH161: =IF(N161="sníž. přenesená",J161,0) -> 0 | BI161: =IF(N161="nulová",J161,0) -> 0 | BJ161: 2 | BK161: =ROUND(I161*H161,2) -> 0 | BL161: 16 | BM161: 54
D162: D | E162: 733 | F162: Rozvod potrubí | J162: =BK162 -> 0 | P162: =SUM(P163:P166) -> 0 | R162: =SUM(R163:R166) -> 0 | T162: =SUM(T163:T166) -> 0 | AR162: 2 | AT162: D | AU162: 0 | AY162: ROZPOCET | BK162: =SUM(BK163:BK166) -> 0
C163: 28 | D163: K | E163: 733222102 | F163: Potrubí měděné polotvrdé spojované měkkým pájením D 15x1 | G163: m | H163: 510 | J163: =ROUND(I163*H163,2) -> 0 | N163: snížená | P163: =O163*H163 -> 0 | Q163: 0 | R163: =Q163*H163 -> 0 | S163: 0 | T163: =S163*H163 -> 0 | AR163: 16 | AT163: K | AU163: 1 | AY163: ROZPOCET | BE163: =IF(N163="základní",J163,0) -> 0 | BF163: =IF(N163="snížená",J163,0) -> 0 | BG163: =IF(N163="zákl. přenesená",J163,0) -> 0 | BH163: =IF(N163="sníž. přenesená",J163,0) -> 0 | BI163: =IF(N163="nulová",J163,0) -> 0 | BJ163: 2 | BK163: =ROUND(I163*H163,2) -> 0 | BL163: 16 | BM163: 56
C164: 29 | D164: K | E164: 733291101 | F164: Zkouška těsnosti potrubí měděné do D 35x1,5 | G164: m | H164: 510 | J164: =ROUND(I164*H164,2) -> 0 | N164: snížená | P164: =O164*H164 -> 0 | Q164: 0 | R164: =Q164*H164 -> 0 | S164: 0 | T164: =S164*H164 -> 0 | AR164: 16 | AT164: K | AU164: 1 | AY164: ROZPOCET | BE164: =IF(N164="základní",J164,0) -> 0 | BF164: =IF(N164="snížená",J164,0) -> 0 | BG164: =IF(N164="zákl. přenesená",J164,0) -> 0 | BH164: =IF(N164="sníž. přenesená",J164,0) -> 0 | BI164: =IF(N164="nulová",J164,0) -> 0 | BJ164: 2 | BK164: =ROUND(I164*H164,2) -> 0 | BL164: 16 | BM164: 58
C165: 30 | D165: K | E165: 733224222 | F165: Příplatek k potrubí měděnému za zhotovení přípojky z trubek měděných D 15x1 | G165: kus | H165: 80 | J165: =ROUND(I165*H165,2) -> 0 | N165: snížená | P165: =O165*H165 -> 0 | Q165: 0 | R165: =Q165*H165 -> 0 | S165: 0 | T165: =S165*H165 -> 0 | AR165: 16 | AT165: K | AU165: 1 | AY165: ROZPOCET | BE165: =IF(N165="základní",J165,0) -> 0 | BF165: =IF(N165="snížená",J165,0) -> 0 | BG165: =IF(N165="zákl. přenesená",J165,0) -> 0 | BH165: =IF(N165="sníž. přenesená",J165,0) -> 0 | BI165: =IF(N165="nulová",J165,0) -> 0 | BJ165: 2 | BK165: =ROUND(I165*H165,2) -> 0 | BL165: 16 | BM165: 60
C166: 31 | D166: K | E166: 998733102 | F166: Přesun hmot tonážní pro rozvody potrubí v objektech v do 12 m | G166: t | H166: 0.3 | J166: =ROUND(I166*H166,2) -> 0 | N166: snížená | P166: =O166*H166 -> 0 | Q166: 0 | R166: =Q166*H166 -> 0 | S166: 0 | T166: =S166*H166 -> 0 | AR166: 16 | AT166: K | AU166: 1 | AY166: ROZPOCET | BE166: =IF(N166="základní",J166,0) -> 0 | BF166: =IF(N166="snížená",J166,0) -> 0 | BG166: =IF(N166="zákl. přenesená",J166,0) -> 0 | BH166: =IF(N166="sníž. přenesená",J166,0) -> 0 | BI166: =IF(N166="nulová",J166,0) -> 0 | BJ166: 2 | BK166: =ROUND(I166*H166,2) -> 0 | BL166: 16 | BM166: 62
D167: D | E167: 734 | F167: Armatury | J167: =BK167 -> 0 | P167: =SUM(P168:P178) -> 0 | R167: =SUM(R168:R178) -> 0 | T167: =SUM(T168:T178) -> 0 | AR167: 2 | AT167: D | AU167: 0 | AY167: ROZPOCET | BK167: =SUM(BK168:BK178) -> 0
C168: 32 | D168: K | E168: 734209113 | F168: Montáž armatury závitové s dvěma závity G 1/2 | G168: kus | H168: 80 | J168: =ROUND(I168*H168,2) -> 0 | N168: snížená | P168: =O168*H168 -> 0 | Q168: 0 | R168: =Q168*H168 -> 0 | S168: 0 | T168: =S168*H168 -> 0 | AR168: 16 | AT168: K | AU168: 1 | AY168: ROZPOCET | BE168: =IF(N168="základní",J168,0) -> 0 | BF168: =IF(N168="snížená",J168,0) -> 0 | BG168: =IF(N168="zákl. přenesená",J168,0) -> 0 | BH168: =IF(N168="sníž. přenesená",J168,0) -> 0 | BI168: =IF(N168="nulová",J168,0) -> 0 | BJ168: 2 | BK168: =ROUND(I168*H168,2) -> 0 | BL168: 16 | BM168: 64
C169: 33 | D169: K | E169: 734291123 | F169: Kohout plnící a vypouštěcí G 1/2 PN 10 do 90°C závitový | G169: kus | H169: 24 | J169: =ROUND(I169*H169,2) -> 0 | N169: snížená | P169: =O169*H169 -> 0 | Q169: 0 | R169: =Q169*H169 -> 0 | S169: 0 | T169: =S169*H169 -> 0 | AR169: 16 | AT169: K | AU169: 1 | AY169: ROZPOCET | BE169: =IF(N169="základní",J169,0) -> 0 | BF169: =IF(N169="snížená",J169,0) -> 0 | BG169: =IF(N169="zákl. přenesená",J169,0) -> 0 | BH169: =IF(N169="sníž. přenesená",J169,0) -> 0 | BI169: =IF(N169="nulová",J169,0) -> 0 | BJ169: 2 | BK169: =ROUND(I169*H169,2) -> 0 | BL169: 16 | BM169: 66
...

Sheet D.1.4.4 - Vzduchotechnika
AT2: {55de6866-68d8-4c2c-954f-8fca262b4c2f}
AT3: 1
D4: KRYCÍ LIST SOUPISU PRACÍ | M4: v --- níže se nacházejí doplnkové a pomocné údaje k sestavám --- v | AT4: False
D6: Stavba:
E7: ='Rekapitulace stavby'!K6 -> NOVOSTAVBA SOCIÁLNÍCH BYTŮ NA PARC. Č. 789/2
D8: Objekt:
E9: UZN - UZNATELNÉ NÁKLADY
D10: Soupis:
E11: SO 01 - NOVOSTAVBA SOCIÁLNÍCH BYTŮ
D12: Úroveň 3:
E13: D.1.4.4 - Vzduchotechnika
D15: KSO: | I15: CC-CZ:
D16: Místo: | F16: Protivanov, ul.Na Balkáně | I16: Datum: | J16: ='Rekapitulace stavby'!AN8 -> 11. 12. 2019
D18: Zadavatel: | I18: IČ: | J18: 00288675
E19: Městys Protivanov, Náměstí 32, 798 48 Protivanov | I19: DIČ: | J19: CZ00288675
D21: Uchazeč: | I21: IČ: | J21: ='Rekapitulace stavby'!AN13 -> Vyplň údaj
E22: ='Rekapitulace stavby'!E14 -> Vyplň údaj | I22: DIČ: | J22: ='Rekapitulace stavby'!AN14 -> Vyplň údaj
D24: Projektant: | I24: IČ:
E25: PROMED Brno, spol. s r.o | I25: DIČ:
D27: Zpracovatel: | I27: IČ: | J27: =IF('Rekapitulace stavby'!AN19="","",'Rekapitulace stavby'!AN19)
E28: =IF('Rekapitulace stavby'!E20="","",'Rekapitulace stavby'!E20) | I28: DIČ: | J28: =IF('Rekapitulace stavby'!AN20="","",'Rekapitulace stavby'!AN20)
D30: Poznámka:
D34: Cena bez DPH | J34: =ROUND(J127, 2) -> 0
F36: Základ daně | I36: Sazba daně | J36: Výše daně
D37: DPH | E37: základní | F37: =ROUND((SUM(BE127:BE143)), 2) -> 0 | I37: 0.21 | J37: =ROUND(((SUM(BE127:BE143))*I37), 2) -> 0
E38: snížená | F38: =ROUND((SUM(BF127:BF143)), 2) -> 0 | I38: 0.15 | J38: =ROUND(((SUM(BF127:BF143))*I38), 2) -> 0
E39: zákl. přenesená | F39: =ROUND((SUM(BG127:BG143)), 2) -> 0 | I39: 0.21 | J39: =0 -> 0
E40: sníž. přenesená | F40: =ROUND((SUM(BH127:BH143)), 2) -> 0 | I40: 0.15 | J40: =0 -> 0
E41: nulová | F41: =ROUND((SUM(BI127:BI143)), 2) -> 0 | I41: 0 | J41: =0 -> 0
D43: Cena s DPH | G43: v | H43: CZK | J43: =SUM(J34:J41) -> 0
D50: Projektant | G50: Zpracovatel
D61: Datum a podpis: | F61: Razítko | G61: Datum a podpis: | J61: Razítko
D65: Objednavatel | G65: Uchazeč
D76: Datum a podpis: | F76: Razítko | G76: Datum a podpis: | J76: Razítko
C82: REKAPITULACE ČLENĚNÍ SOUPISU PRACÍ
C84: Stavba:
E85: =E7 -> NOVOSTAVBA SOCIÁLNÍCH BYTŮ NA PARC. Č. 789/2
C86: Objekt:
E87: UZN - UZNATELNÉ NÁKLADY
C88: Soupis:
E89: SO 01 - NOVOSTAVBA SOCIÁLNÍCH BYTŮ
C90: Úroveň 3:
E91: =E13 -> D.1.4.4 - Vzduchotechnika
C93: Místo: | F93: =F16 -> Protivanov, ul.Na Balkáně | I93: Datum: | J93: =IF(J16="","",J16) -> 11. 12. 2019
C95: Zadavatel: | F95: =E19 -> Městys Protivanov, Náměstí 32, 798 48 Protivanov | I95: Projektant: | J95: =E25 -> PROMED Brno, spol. s r.o
C96: Uchazeč: | F96: =IF(E22="","",E22) -> Vyplň údaj | I96: Zpracovatel: | J96: =E28
C98: Kód dílu - Popis | J98: Cena celkem [CZK]
C100: Náklady ze soupisu prací | J100: =J127 -> 0 | AU100: -1
D101: VZT - Zařízení č.1 - Větrání kuchyní | J101: =J128 -> 0
D102: DM - Doplňkový materiál | J102: =J135 -> 0
D103: OST - Ostatní | J103: =J138 -> 0
C110: SOUPIS PRACÍ
C112: Stavba:
E113: =E7 -> NOVOSTAVBA SOCIÁLNÍCH BYTŮ NA PARC. Č. 789/2
C114: Objekt:
E115: UZN - UZNATELNÉ NÁKLADY
C116: Soupis:
E117: SO 01 - NOVOSTAVBA SOCIÁLNÍCH BYTŮ
C118: Úroveň 3:
E119: =E13 -> D.1.4.4 - Vzduchotechnika
C121: Místo: | F121: =F16 -> Protivanov, ul.Na Balkáně | I121: Datum: | J121: =IF(J16="","",J16) -> 11. 12. 2019
C123: Zadavatel: | F123: =E19 -> Městys Protivanov, Náměstí 32, 798 48 Protivanov | I123: Projektant: | J123: =E25 -> PROMED Brno, spol. s r.o
C124: Uchazeč: | F124: =IF(E22="","",E22) -> Vyplň údaj | I124: Zpracovatel: | J124: =E28
C126: PČ | D126: Typ | E126: Kód | F126: Popis | G126: MJ | H126: Množství | I126: J.cena [CZK] | J126: Cena celkem [CZK] | K126: Cenová soustava | N126: DPH | O126: J. Nh [h] | P126: Nh celkem [h] | Q126: J. hmotnost [t] | R126: Hmotnost celkem [t] | S126: J. suť [t] | T126: Suť Celkem [t]
C127: Náklady soupisu celkem | J127: =BK127 -> 0 | P127: =P128+P135+P138 -> 0 | R127: =R128+R135+R138 -> 0 | T127: =T128+T135+T138 -> 0 | AT127: D | AU127: -1 | BK127: =BK128+BK135+BK138 -> 0
D128: D | E128: VZT | F128: Zařízení č.1 - Větrání kuchyní | J128: =BK128 -> 0 | P128: =SUM(P129:P134) -> 0 | R128: =SUM(R129:R134) -> 0 | T128: =SUM(T129:T134) -> 0 | AR128: 1 | AT128: D | AU128: 0 | AY128: ROZPOCET | BK128: =SUM(BK129:BK134) -> 0
C129: 1 | D129: K | E129: VZT-01 | F129: Digestoř nástěnná, Qv=150m3/hod, Lw(A)max.=61dBA | G129: ks | H129: 8 | J129: =ROUND(I129*H129,2) -> 0 | N129: snížená | P129: =O129*H129 -> 0 | Q129: 0 | R129: =Q129*H129 -> 0 | S129: 0 | T129: =S129*H129 -> 0 | AR129: 4 | AT129: K | AU129: 1 | AY129: ROZPOCET | BE129: =IF(N129="základní",J129,0) -> 0 | BF129: =IF(N129="snížená",J129,0) -> 0 | BG129: =IF(N129="zákl. přenesená",J129,0) -> 0 | BH129: =IF(N129="sníž. přenesená",J129,0) -> 0 | BI129: =IF(N129="nulová",J129,0) -> 0 | BJ129: 2 | BK129: =ROUND(I129*H129,2) -> 0 | BL129: 4 | BM129: 2
C130: 2 | D130: K | E130: VZT-02 | F130: Těsná zpětná klapka D 125 mm | G130: ks | H130: 8 | J130: =ROUND(I130*H130,2) -> 0 | N130: snížená | P130: =O130*H130 -> 0 | Q130: 0 | R130: =Q130*H130 -> 0 | S130: 0 | T130: =S130*H130 -> 0 | AR130: 4 | AT130: K | AU130: 1 | AY130: ROZPOCET | BE130: =IF(N130="základní",J130,0) -> 0 | BF130: =IF(N130="snížená",J130,0) -> 0 | BG130: =IF(N130="zákl. přenesená",J130,0) -> 0 | BH130: =IF(N130="sníž. přenesená",J130,0) -> 0 | BI130: =IF(N130="nulová",J130,0) -> 0 | BJ130: 2 | BK130: =ROUND(I130*H130,2) -> 0 | BL130: 4 | BM130: 4
C131: 3 | D131: K | E131: VZT-03 | F131: Tlumič vsuvný D 125 mm / L 300 mm | G131: ks | H131: 8 | J131: =ROUND(I131*H131,2) -> 0 | N131: snížená | P131: =O131*H131 -> 0 | Q131: 0 | R131: =Q131*H131 -> 0 | S131: 0 | T131: =S131*H131 -> 0 | AR131: 4 | AT131: K | AU131: 1 | AY131: ROZPOCET | BE131: =IF(N131="základní",J131,0) -> 0 | BF131: =IF(N131="snížená",J131,0) -> 0 | BG131: =IF(N131="zákl. přenesená",J131,0) -> 0 | BH131: =IF(N131="sníž. přenesená",J131,0) -> 0 | BI131: =IF(N131="nulová",J131,0) -> 0 | BJ131: 2 | BK131: =ROUND(I131*H131,2) -> 0 | BL131: 4 | BM131: 6
C132: 4 | D132: K | E132: VZT-04 | F132: Trouba SPIRO - 125 - včetně tvarovek - těsné provedení | G132: bm | H132: 16 | J132: =ROUND(I132*H132,2) -> 0 | N132: snížená | P132: =O132*H132 -> 0 | Q132: 0 | R132: =Q132*H132 -> 0 | S132: 0 | T132: =S132*H132 -> 0 | AR132: 4 | AT132: K | AU132: 1 | AY132: ROZPOCET | BE132: =IF(N132="základní",J132,0) -> 0 | BF132: =IF(N132="snížená",J132,0) -> 0 | BG132: =IF(N132="zákl. přenesená",J132,0) -> 0 | BH132: =IF(N132="sníž. přenesená",J132,0) -> 0 | BI132: =IF(N132="nulová",J132,0) -> 0 | BJ132: 2 | BK132: =ROUND(I132*H132,2) -> 0 | BL132: 4 | BM132: 8
C133: 5 | D133: K | E133: VZT-05 | F133: Trouba SPIRO - 150 - včetně tvarovek - těsné provedení | G133: bm | H133: 24 | J133: =ROUND(I133*H133,2) -> 0 | N133: snížená | P133: =O133*H133 -> 0 | Q133: 0 | R133: =Q133*H133 -> 0 | S133: 0 | T133: =S133*H133 -> 0 | AR133: 4 | AT133: K | AU133: 1 | AY133: ROZPOCET | BE133: =IF(N133="základní",J133,0) -> 0 | BF133: =IF(N133="snížená",J133,0) -> 0 | BG133: =IF(N133="zákl. přenesená",J133,0) -> 0 | BH133: =IF(N133="sníž. přenesená",J133,0) -> 0 | BI133: =IF(N133="nulová",J133,0) -> 0 | BJ133: 2 | BK133: =ROUND(I133*H133,2) -> 0 | BL133: 4 | BM133: 10
C134: 6 | D134: K | E134: VZT-06 | F134: Tep a protihluk.izol.tl. 6 cm - venkovní s oplechováním | G134: m2 | H134: 4 | J134: =ROUND(I134*H134,2) -> 0 | N134: snížená | P134: =O134*H134 -> 0 | Q134: 0 | R134: =Q134*H134 -> 0 | S134: 0 | T134: =S134*H134 -> 0 | AR134: 4 | AT134: K | AU134: 1 | AY134: ROZPOCET | BE134: =IF(N134="základní",J134,0) -> 0 | BF134: =IF(N134="snížená",J134,0) -> 0 | BG134: =IF(N134="zákl. přenesená",J134,0) -> 0 | BH134: =IF(N134="sníž. přenesená",J134,0) -> 0 | BI134: =IF(N134="nulová",J134,0) -> 0 | BJ134: 2 | BK134: =ROUND(I134*H134,2) -> 0 | BL134: 4 | BM134: 12
D135: D | E135: DM | F135: Doplňkový materiál | J135: =BK135 -> 0 | P135: =SUM(P136:P137) -> 0 | R135: =SUM(R136:R137) -> 0 | T135: =SUM(T136:T137) -> 0 | AR135: 1 | AT135: D | AU135: 0 | AY135: ROZPOCET | BK135: =SUM(BK136:BK137) -> 0
C136: 7 | D136: K | E136: DM-01 | F136: Materiál pro spoje, montáž, závěsy, atd. | G136: kpl | H136: 1 | J136: =ROUND(I136*H136,2) -> 0 | N136: snížená | P136: =O136*H136 -> 0 | Q136: 0 | R136: =Q136*H136 -> 0 | S136: 0 | T136: =S136*H136 -> 0 | AR136: 4 | AT136: K | AU136: 1 | AY136: ROZPOCET | BE136: =IF(N136="základní",J136,0) -> 0 | BF136: =IF(N136="snížená",J136,0) -> 0 | BG136: =IF(N136="zákl. přenesená",J136,0) -> 0 | BH136: =IF(N136="sníž. přenesená",J136,0) -> 0 | BI136: =IF(N136="nulová",J136,0) -> 0 | BJ136: 2 | BK136: =ROUND(I136*H136,2) -> 0 | BL136: 4 | BM136: 14
C137: 8 | D137: K | E137: DM-02 | F137: Požární ucpávky | G137: ks | H137: 4 | J137: =ROUND(I137*H137,2) -> 0 | N137: snížená | P137: =O137*H137 -> 0 | Q137: 0 | R137: =Q137*H137 -> 0 | S137: 0 | T137: =S137*H137 -> 0 | AR137: 4 | AT137: K | AU137: 1 | AY137: ROZPOCET | BE137: =IF(N137="základní",J137,0) -> 0 | BF137: =IF(N137="snížená",J137,0) -> 0 | BG137: =IF(N137="zákl. přenesená",J137,0) -> 0 | BH137: =IF(N137="sníž. přenesená",J137,0) -> 0 | BI137: =IF(N137="nulová",J137,0) -> 0 | BJ137: 2 | BK137: =ROUND(I137*H137,2) -> 0 | BL137: 4 | BM137: 16
D138: D | E138: OST | F138: Ostatní | J138: =BK138 -> 0 | P138: =SUM(P139:P143) -> 0 | R138: =SUM(R139:R143) -> 0 | T138: =SUM(T139:T143) -> 0 | AR138: 4 | AT138: D | AU138: 0 | AY138: ROZPOCET | BK138: =SUM(BK139:BK143) -> 0
C139: 9 | D139: K | E139: OST-01 | F139: Doprava | G139: soubor | H139: 1 | J139: =ROUND(I139*H139,2) -> 0 | N139: snížená | P139: =O139*H139 -> 0 | Q139: 0 | R139: =Q139*H139 -> 0 | S139: 0 | T139: =S139*H139 -> 0 | AR139: 262144 | AT139: K | AU139: 1 | AY139: ROZPOCET | BE139: =IF(N139="základní",J139,0) -> 0 | BF139: =IF(N139="snížená",J139,0) -> 0 | BG139: =IF(N139="zákl. přenesená",J139,0) -> 0 | BH139: =IF(N139="sníž. přenesená",J139,0) -> 0 | BI139: =IF(N139="nulová",J139,0) -> 0 | BJ139: 2 | BK139: =ROUND(I139*H139,2) -> 0 | BL139: 262144 | BM139: 18
C140: 10 | D140: K | E140: OST-02 | F140: Přesuny | G140: soubor | H140: 1 | J140: =ROUND(I140*H140,2) -> 0 | N140: snížená | P140: =O140*H140 -> 0 | Q140: 0 | R140: =Q140*H140 -> 0 | S140: 0 | T140: =S140*H140 -> 0 | AR140: 262144 | AT140: K | AU140: 1 | AY140: ROZPOCET | BE140: =IF(N140="základní",J140,0) -> 0 | BF140: =IF(N140="snížená",J140,0) -> 0 | BG140: =IF(N140="zákl. přenesená",J140,0) -> 0 | BH140: =IF(N140="sníž. přenesená",J140,0) -> 0 | BI140: =IF(N140="nulová",J140,0) -> 0 | BJ140: 2 | BK140: =ROUND(I140*H140,2) -> 0 | BL140: 262144 | BM140: 20
C141: 11 | D141: K | E141: OST-03 | F141: Zaregulování, vyzkoušení, předávací řízení | G141: hod | H141: 4 | J141: =ROUND(I141*H141,2) -> 0 | N141: snížená | P141: =O141*H141 -> 0 | Q141: 0 | R141: =Q141*H141 -> 0 | S141: 0 | T141: =S141*H141 -> 0 | AR141: 262144 | AT141: K | AU141: 1 | AY141: ROZPOCET | BE141: =IF(N141="základní",J141,0) -> 0 | BF141: =IF(N141="snížená",J141,0) -> 0 | BG141: =IF(N141="zákl. přenesená",J141,0) -> 0 | BH141: =IF(N141="sníž. přenesená",J141,0) -> 0 | BI141: =IF(N141="nulová",J141,0) -> 0 | BJ141: 2 | BK141: =ROUND(I141*H141,2) -> 0 | BL141: 262144 | BM141: 22
C142: 12 | D142: K | E142: OST-04 | F142: Inženýrská a koordinační činnost | G142: hod | H142: 4 | J142: =ROUND(I142*H142,2) -> 0 | N142: snížená | P142: =O142*H142 -> 0 | Q142: 0 | R142: =Q142*H142 -> 0 | S142: 0 | T142: =S142*H142 -> 0 | AR142: 262144 | AT142: K | AU142: 1 | AY142: ROZPOCET | BE142: =IF(N142="základní",J142,0) -> 0 | BF142: =IF(N142="snížená",J142,0) -> 0 | BG142: =IF(N142="zákl. přenesená",J142,0) -> 0 | BH142: =IF(N142="sníž. přenesená",J142,0) -> 0 | BI142: =IF(N142="nulová",J142,0) -> 0 | BJ142: 2 | BK142: =ROUND(I142*H142,2) -> 0 | BL142: 262144 | BM142: 24
C143: 13 | D143: K | E143: OST-05 | F143: Dokumentace konečného provedení, návody, atesty, prohlášení o shodě | G143: hod | H143: 4 | J143: =ROUND(I143*H143,2) -> 0 | N143: snížená | P143: =O143*H143 -> 0 | Q143: 0 | R143: =Q143*H143 -> 0 | S143: 0 | T143: =S143*H143 -> 0 | AR143: 262144 | AT143: K | AU143: 1 | AY143: ROZPOCET | BE143: =IF(N143="základní",J143,0) -> 0 | BF143: =IF(N143="snížená",J143,0) -> 0 | BG143: =IF(N143="zákl. přenesená",J143,0) -> 0 | BH143: =IF(N143="sníž. přenesená",J143,0) -> 0 | BI143: =IF(N143="nulová",J143,0) -> 0 | BJ143: 2 | BK143: =ROUND(I143*H143,2) -> 0 | BL143: 262144 | BM143: 26

Sheet SO 02, 03, 07 - PŘÍPOJKA ...
AT2: {cd8a4cce-7249-4fed-a54d-309550e5dfc8}
AT3: 1
D4: KRYCÍ LIST SOUPISU PRACÍ | M4: v --- níže se nacházejí doplnkové a pomocné údaje k sestavám --- v | AT4: False
D6: Stavba:
E7: ='Rekapitulace stavby'!K6 -> NOVOSTAVBA SOCIÁLNÍCH BYTŮ NA PARC. Č. 789/2
D8: Objekt:
E9: UZN - UZNATELNÉ NÁKLADY
D10: Soupis:
E11: SO 02, 03, 07 - PŘÍPOJKA SPLAŠKOVÉ KANALIZACE, PŘÍPOJKA VODOVODU, PRŮLEH SE VSAKOVÁNÍM
D13: KSO: | I13: CC-CZ:
D14: Místo: | F14: Protivanov, ul.Na Balkáně | I14: Datum: | J14: ='Rekapitulace stavby'!AN8 -> 11. 12. 2019
D16: Zadavatel: | I16: IČ: | J16: 00288675
E17: Městys Protivanov, Náměstí 32, 798 48 Protivanov | I17: DIČ: | J17: CZ00288675
D19: Uchazeč: | I19: IČ: | J19: ='Rekapitulace stavby'!AN13 -> Vyplň údaj
E20: ='Rekapitulace stavby'!E14 -> Vyplň údaj | I20: DIČ: | J20: ='Rekapitulace stavby'!AN14 -> Vyplň údaj
D22: Projektant: | I22: IČ:
E23: PROMED Brno, spol. s r.o | I23: DIČ:
D25: Zpracovatel: | I25: IČ: | J25: =IF('Rekapitulace stavby'!AN19="","",'Rekapitulace stavby'!AN19)
E26: =IF('Rekapitulace stavby'!E20="","",'Rekapitulace stavby'!E20) | I26: DIČ: | J26: =IF('Rekapitulace stavby'!AN20="","",'Rekapitulace stavby'!AN20)
D28: Poznámka:
D32: Cena bez DPH | J32: =ROUND(J130, 2) -> 0
F34: Základ daně | I34: Sazba daně | J34: Výše daně
D35: DPH | E35: základní | F35: =ROUND((SUM(BE130:BE185)), 2) -> 0 | I35: 0.21 | J35: =ROUND(((SUM(BE130:BE185))*I35), 2) -> 0
E36: snížená | F36: =ROUND((SUM(BF130:BF185)), 2) -> 0 | I36: 0.15 | J36: =ROUND(((SUM(BF130:BF185))*I36), 2) -> 0
E37: zákl. přenesená | F37: =ROUND((SUM(BG130:BG185)), 2) -> 0 | I37: 0.21 | J37: =0 -> 0
E38: sníž. přenesená | F38: =ROUND((SUM(BH130:BH185)), 2) -> 0 | I38: 0.15 | J38: =0 -> 0
E39: nulová | F39: =ROUND((SUM(BI130:BI185)), 2) -> 0 | I39: 0 | J39: =0 -> 0
D41: Cena s DPH | G41: v | H41: CZK | J41: =SUM(J32:J39) -> 0
D50: Projektant | G50: Zpracovatel
D61: Datum a podpis: | F61: Razítko | G61: Datum a podpis: | J61: Razítko
D65: Objednavatel | G65: Uchazeč
D76: Datum a podpis: | F76: Razítko | G76: Datum a podpis: | J76: Razítko
C82: REKAPITULACE ČLENĚNÍ SOUPISU PRACÍ
C84: Stavba:
E85: =E7 -> NOVOSTAVBA SOCIÁLNÍCH BYTŮ NA PARC. Č. 789/2
C86: Objekt:
E87: UZN - UZNATELNÉ NÁKLADY
C88: Soupis:
E89: =E11 -> SO 02, 03, 07 - PŘÍPOJKA SPLAŠKOVÉ KANALIZACE, PŘÍPOJKA VODOVODU, PRŮLEH SE VSAKOVÁNÍM
C91: Místo: | F91: =F14 -> Protivanov, ul.Na Balkáně | I91: Datum: | J91: =IF(J14="","",J14) -> 11. 12. 2019
C93: Zadavatel: | F93: =E17 -> Městys Protivanov, Náměstí 32, 798 48 Protivanov | I93: Projektant: | J93: =E23 -> PROMED Brno, spol. s r.o
C94: Uchazeč: | F94: =IF(E20="","",E20) -> Vyplň údaj | I94: Zpracovatel: | J94: =E26
C96: Kód dílu - Popis | J96: Cena celkem [CZK]
C98: Náklady ze soupisu prací | J98: =J130 -> 0 | AU98: -1
D99: 1 - Zemní práce | J99: =J131 -> 0
D100: 11 - Přípravné a přidružené práce | J100: =J145 -> 0
D101: 56 - Podklad.vrstvy komunikací a zp | J101: =J148 -> 0
D102: 8 - Trubní vedení | J102: =J152 -> 0
D103: 89 - Ostatní konstrukce na trub.ved | J103: =J158 -> 0
D104: 91 - Doplňující práce na komunikaci | J104: =J170 -> 0
D105: 99 - Staveništní přesun hmot | J105: =J172 -> 0
D106: 721 - Vnitřní kanalizace | J106: =J175 -> 0
D107: 722 - Vnitřní vodovod | J107: =J178 -> 0
D108: M21 - Elektromontáže | J108: =J184 -> 0
C115: SOUPIS PRACÍ
C117: Stavba:
E118: =E7 -> NOVOSTAVBA SOCIÁLNÍCH BYTŮ NA PARC. Č. 789/2
C119: Objekt:
E120: UZN - UZNATELNÉ NÁKLADY
C121: Soupis:
E122: =E11 -> SO 02, 03, 07 - PŘÍPOJKA SPLAŠKOVÉ KANALIZACE, PŘÍPOJKA VODOVODU, PRŮLEH SE VSAKOVÁNÍM
C124: Místo: | F124: =F14 -> Protivanov, ul.Na Balkáně | I124: Datum: | J124: =IF(J14="","",J14) -> 11. 12. 2019
C126: Zadavatel: | F126: =E17 -> Městys Protivanov, Náměstí 32, 798 48 Protivanov | I126: Projektant: | J126: =E23 -> PROMED Brno, spol. s r.o
C127: Uchazeč: | F127: =IF(E20="","",E20) -> Vyplň údaj | I127: Zpracovatel: | J127: =E26
C129: PČ | D129: Typ | E129: Kód | F129: Popis | G129: MJ | H129: Množství | I129: J.cena [CZK] | J129: Cena celkem [CZK] | K129: Cenová soustava | N129: DPH | O129: J. Nh [h] | P129: Nh celkem [h] | Q129: J. hmotnost [t] | R129: Hmotnost celkem [t] | S129: J. suť [t] | T129: Suť Celkem [t]
C130: Náklady soupisu celkem | J130: =BK130 -> 0 | P130: =P131+P145+P148+P152+P158+P170+P172+P175+P178+P184 -> 0 | R130: =R131+R145+R148+R152+R158+R170+R172+R175+R178+R184 -> 0 | T130: =T131+T145+T148+T152+T158+T170+T172+T175+T178+T184 -> 0 | AT130: D | AU130: -1 | BK130: =BK131+BK145+BK148+BK152+BK158+BK170+BK172+BK175+BK178+BK184 -> 0
D131: D | E131: 1 | F131: Zemní práce | J131: =BK131 -> 0 | P131: =SUM(P132:P144) -> 0 | R131: =SUM(R132:R144) -> 0 | T131: =SUM(T132:T144) -> 0 | AR131: 1 | AT131: D | AU131: 0 | AY131: ROZPOCET | BK131: =SUM(BK132:BK144) -> 0
C132: 1 | D132: K | E132: 115001103R00 | F132: Převedení vody potrubím o průměru do DN 200 mm | G132: m | H132: 50 | J132: =ROUND(I132*H132,2) -> 0 | N132: snížená | P132: =O132*H132 -> 0 | Q132: 0 | R132: =Q132*H132 -> 0 | S132: 0 | T132: =S132*H132 -> 0 | AR132: 4 | AT132: K | AU132: 1 | AY132: ROZPOCET | BE132: =IF(N132="základní",J132,0) -> 0 | BF132: =IF(N132="snížená",J132,0) -> 0 | BG132: =IF(N132="zákl. přenesená",J132,0) -> 0 | BH132: =IF(N132="sníž. přenesená",J132,0) -> 0 | BI132: =IF(N132="nulová",J132,0) -> 0 | BJ132: 2 | BK132: =ROUND(I132*H132,2) -> 0 | BL132: 4 | BM132: 2
C133: 2 | D133: K | E133: 115101202R00 | F133: Čerpání vody do výšky 10 m, přítok 500-1000 l/min | G133: h | H133: 70 | J133: =ROUND(I133*H133,2) -> 0 | N133: snížená | P133: =O133*H133 -> 0 | Q133: 0 | R133: =Q133*H133 -> 0 | S133: 0 | T133: =S133*H133 -> 0 | AR133: 4 | AT133: K | AU133: 1 | AY133: ROZPOCET | BE133: =IF(N133="základní",J133,0) -> 0 | BF133: =IF(N133="snížená",J133,0) -> 0 | BG133: =IF(N133="zákl. přenesená",J133,0) -> 0 | BH133: =IF(N133="sníž. přenesená",J133,0) -> 0 | BI133: =IF(N133="nulová",J133,0) -> 0 | BJ133: 2 | BK133: =ROUND(I133*H133,2) -> 0 | BL133: 4 | BM133: 4
C134: 3 | D134: K | E134: 132201212R00 | F134: Hloubení rýh š.do 200 cm hor.3 do 1000m3,STROJNĚ | G134: m3 | H134: 270 | J134: =ROUND(I134*H134,2) -> 0 | N134: snížená | P134: =O134*H134 -> 0 | Q134: 0 | R134: =Q134*H134 -> 0 | S134: 0 | T134: =S134*H134 -> 0 | AR134: 4 | AT134: K | AU134: 1 | AY134: ROZPOCET | BE134: =IF(N134="základní",J134,0) -> 0 | BF134: =IF(N134="snížená",J134,0) -> 0 | BG134: =IF(N134="zákl. přenesená",J134,0) -> 0 | BH134: =IF(N134="sníž. přenesená",J134,0) -> 0 | BI134: =IF(N134="nulová",J134,0) -> 0 | BJ134: 2 | BK134: =ROUND(I134*H134,2) -> 0 | BL134: 4 | BM134: 6
C135: 4 | D135: K | E135: 151101102R00 | F135: Pažení a rozepření stěn rýh - příložné - hl.do 4 m | G135: m2 | H135: 155 | J135: =ROUND(I135*H135,2) -> 0 | N135: snížená | P135: =O135*H135 -> 0 | Q135: 0 | R135: =Q135*H135 -> 0 | S135: 0 | T135: =S135*H135 -> 0 | AR135: 4 | AT135: K | AU135: 1 | AY135: ROZPOCET | BE135: =IF(N135="základní",J135,0) -> 0 | BF135: =IF(N135="snížená",J135,0) -> 0 | BG135: =IF(N135="zákl. přenesená",J135,0) -> 0 | BH135: =IF(N135="sníž. přenesená",J135,0) -> 0 | BI135: =IF(N135="nulová",J135,0) -> 0 | BJ135: 2 | BK135: =ROUND(I135*H135,2) -> 0 | BL135: 4 | BM135: 8
C136: 5 | D136: K | E136: 151101112R00 | F136: Odstranění pažení stěn rýh - příložné - hl. do 4 m | G136: m2 | H136: 155 | J136: =ROUND(I136*H136,2) -> 0 | N136: snížená | P136: =O136*H136 -> 0 | Q136: 0 | R136: =Q136*H136 -> 0 | S136: 0 | T136: =S136*H136 -> 0 | AR136: 4 | AT136: K | AU136: 1 | AY136: ROZPOCET | BE136: =IF(N136="základní",J136,0) -> 0 | BF136: =IF(N136="snížená",J136,0) -> 0 | BG136: =IF(N136="zákl. přenesená",J136,0) -> 0 | BH136: =IF(N136="sníž. přenesená",J136,0) -> 0 | BI136: =IF(N136="nulová",J136,0) -> 0 | BJ136: 2 | BK136: =ROUND(I136*H136,2) -> 0 | BL136: 4 | BM136: 10
C137: 6 | D137: K | E137: 162701105R00 | F137: Vodorovné přemístění výkopku z hor.1-4 do 10000 m | G137: m3 | H137: 175 | J137: =ROUND(I137*H137,2) -> 0 | N137: snížená | P137: =O137*H137 -> 0 | Q137: 0 | R137: =Q137*H137 -> 0 | S137: 0 | T137: =S137*H137 -> 0 | AR137: 4 | AT137: K | AU137: 1 | AY137: ROZPOCET | BE137: =IF(N137="základní",J137,0) -> 0 | BF137: =IF(N137="snížená",J137,0) -> 0 | BG137: =IF(N137="zákl. přenesená",J137,0) -> 0 | BH137: =IF(N137="sníž. přenesená",J137,0) -> 0 | BI137: =IF(N137="nulová",J137,0) -> 0 | BJ137: 2 | BK137: =ROUND(I137*H137,2) -> 0 | BL137: 4 | BM137: 12
C138: 7 | D138: K | E138: 161101102R00 | F138: Svislé přemístění výkopku z hor.1-4 do 4,0 m | G138: m3 | H138: 270 | J138: =ROUND(I138*H138,2) -> 0 | N138: snížená | P138: =O138*H138 -> 0 | Q138: 0 | R138: =Q138*H138 -> 0 | S138: 0 | T138: =S138*H138 -> 0 | AR138: 4 | AT138: K | AU138: 1 | AY138: ROZPOCET | BE138: =IF(N138="základní",J138,0) -> 0 | BF138: =IF(N138="snížená",J138,0) -> 0 | BG138: =IF(N138="zákl. přenesená",J138,0) -> 0 | BH138: =IF(N138="sníž. přenesená",J138,0) -> 0 | BI138: =IF(N138="nulová",J138,0) -> 0 | BJ138: 2 | BK138: =ROUND(I138*H138,2) -> 0 | BL138: 4 | BM138: 14
C139: 8 | D139: K | E139: 171201201R00 | F139: Uložení sypaniny na skl.-sypanina na výšku přes 2m | G139: m3 | H139: 175 | J139: =ROUND(I139*H139,2) -> 0 | N139: snížená | P139: =O139*H139 -> 0 | Q139: 0 | R139: =Q139*H139 -> 0 | S139: 0 | T139: =S139*H139 -> 0 | AR139: 4 | AT139: K | AU139: 1 | AY139: ROZPOCET | BE139: =IF(N139="základní",J139,0) -> 0 | BF139: =IF(N139="snížená",J139,0) -> 0 | BG139: =IF(N139="zákl. přenesená",J139,0) -> 0 | BH139: =IF(N139="sníž. přenesená",J139,0) -> 0 | BI139: =IF(N139="nulová",J139,0) -> 0 | BJ139: 2 | BK139: =ROUND(I139*H139,2) -> 0 | BL139: 4 | BM139: 16
C140: 9 | D140: K | E140: 199000002R00 | F140: Poplatek za skládku horniny 1- 4 | G140: m3 | H140: 175 | J140: =ROUND(I140*H140,2) -> 0 | N140: snížená | P140: =O140*H140 -> 0 | Q140: 0 | R140: =Q140*H140 -> 0 | S140: 0 | T140: =S140*H140 -> 0 | AR140: 4 | AT140: K | AU140: 1 | AY140: ROZPOCET | BE140: =IF(N140="základní",J140,0) -> 0 | BF140: =IF(N140="snížená",J140,0) -> 0 | BG140: =IF(N140="zákl. přenesená",J140,0) -> 0 | BH140: =IF(N140="sníž. přenesená",J140,0) -> 0 | BI140: =IF(N140="nulová",J140,0) -> 0 | BJ140: 2 | BK140: =ROUND(I140*H140,2) -> 0 | BL140: 4 | BM140: 18
C141: 10 | D141: K | E141: 174101101R00 | F141: Zásyp jam, rýh, šachet se zhutněním | G141: m3 | H141: 95 | J141: =ROUND(I141*H141,2) -> 0 | N141: snížená | P141: =O141*H141 -> 0 | Q141: 0 | R141: =Q141*H141 -> 0 | S141: 0 | T141: =S141*H141 -> 0 | AR141: 4 | AT141: K | AU141: 1 | AY141: ROZPOCET | BE141: =IF(N141="základní",J141,0) -> 0 | BF141: =IF(N141="snížená",J141,0) -> 0 | BG141: =IF(N141="zákl. přenesená",J141,0) -> 0 | BH141: =IF(N141="sníž. přenesená",J141,0) -> 0 | BI141: =IF(N141="nulová",J141,0) -> 0 | BJ141: 2 | BK141: =ROUND(I141*H141,2) -> 0 | BL141: 4 | BM141: 20
C142: 11 | D142: K | E142: 181300014RAE | F142: Rozprostření ornice v rovině tloušťka 30 cm, dovoz ornice ze vzdálenosti 15 km, osetí trávou | G142: m2 | H142: 200 | J142: =ROUND(I142*H142,2) -> 0 | N142: snížená | P142: =O142*H142 -> 0 | Q142: 0 | R142: =Q142*H142 -> 0 | S142: 0 | T142: =S142*H142 -> 0 | AR142: 4 | AT142: K | AU142: 1 | AY142: ROZPOCET | BE142: =IF(N142="základní",J142,0) -> 0 | BF142: =IF(N142="snížená",J142,0) -> 0 | BG142: =IF(N142="zákl. přenesená",J142,0) -> 0 | BH142: =IF(N142="sníž. přenesená",J142,0) -> 0 | BI142: =IF(N142="nulová",J142,0) -> 0 | BJ142: 2 | BK142: =ROUND(I142*H142,2) -> 0 | BL142: 4 | BM142: 22
C143: 12 | D143: K | E143: 583318004R | F143: Kamenivo těžené frakce 16/32 Jihomor. kraj | G143: t | H143: 30 | J143: =ROUND(I143*H143,2) -> 0 | N143: snížená | P143: =O143*H143 -> 0 | Q143: 0 | R143: =Q143*H143 -> 0 | S143: 0 | T143: =S143*H143 -> 0 | AR143: 4 | AT143: K | AU143: 1 | AY143: ROZPOCET | BE143: =IF(N143="základní",J143,0) -> 0 | BF143: =IF(N143="snížená",J143,0) -> 0 | BG143: =IF(N143="zákl. přenesená",J143,0) -> 0 | BH143: =IF(N143="sníž. přenesená",J143,0) -> 0 | BI143: =IF(N143="nulová",J143,0) -> 0 | BJ143: 2 | BK143: =ROUND(I143*H143,2) -> 0 | BL143: 4 | BM143: 24
C144: 13 | D144: K | E144: 175101101RT2 | F144: Obsyp potrubí bez prohození sypaniny, s dodáním štěrkopísku frakce 0 - 22 mm | G144: m3 | H144: 40 | J144: =ROUND(I144*H144,2) -> 0 | N144: snížená | P144: =O144*H144 -> 0 | Q144: 0 | R144: =Q144*H144 -> 0 | S144: 0 | T144: =S144*H144 -> 0 | AR144: 4 | AT144: K | AU144: 1 | AY144: ROZPOCET | BE144: =IF(N144="základní",J144,0) -> 0 | BF144: =IF(N144="snížená",J144,0) -> 0 | BG144: =IF(N144="zákl. přenesená",J144,0) -> 0 | BH144: =IF(N144="sníž. přenesená",J144,0) -> 0 | BI144: =IF(N144="nulová",J144,0) -> 0 | BJ144: 2 | BK144: =ROUND(I144*H144,2) -> 0 | BL144: 4 | BM144: 26
D145: D | E145: 11 | F145: Přípravné a přidružené práce | J145: =BK145 -> 0 | P145: =SUM(P146:P147) -> 0 | R145: =SUM(R146:R147) -> 0 | T145: =SUM(T146:T147) -> 0 | AR145: 1 | AT145: D | AU145: 0 | AY145: ROZPOCET | BK145: =SUM(BK146:BK147) -> 0
C146: 14 | D146: K | E146: 113107122RAB | F146: Odstranění bet.vozovky, kryt tl.20 cm, pl.nad 50m2, včetně nakládání a odvozu na skládku do 1 km | G146: m2 | H146: 45 | J146: =ROUND(I146*H146,2) -> 0 | N146: snížená | P146: =O146*H146 -> 0 | Q146: 0 | R146: =Q146*H146 -> 0 | S146: 0 | T146: =S146*H146 -> 0 | AR146: 4 | AT146: K | AU146: 1 | AY146: ROZPOCET | BE146: =IF(N146="základní",J146,0) -> 0 | BF146: =IF(N146="snížená",J146,0) -> 0 | BG146: =IF(N146="zákl. přenesená",J146,0) -> 0 | BH146: =IF(N146="sníž. přenesená",J146,0) -> 0 | BI146: =IF(N146="nulová",J146,0) -> 0 | BJ146: 2 | BK146: =ROUND(I146*H146,2) -> 0 | BL146: 4 | BM146: 28
C147: 15 | D147: K | E147: 113111120R00 | F147: Odstranění podkladu pl.50 m2,kam.zpev.cem.tl.20 cm | G147: m2 | H147: 45 | J147: =ROUND(I147*H147,2) -> 0 | N147: snížená | P147: =O147*H147 -> 0 | Q147: 0 | R147: =Q147*H147 -> 0 | S147: 0 | T147: =S147*H147 -> 0 | AR147: 4 | AT147: K | AU147: 1 | AY147: ROZPOCET | BE147: =IF(N147="základní",J147,0) -> 0 | BF147: =IF(N147="snížená",J147,0) -> 0 | BG147: =IF(N147="zákl. přenesená",J147,0) -> 0 | BH147: =IF(N147="sníž. přenesená",J147,0) -> 0 | BI147: =IF(N147="nulová",J147,0) -> 0 | BJ147: 2 | BK147: =ROUND(I147*H147,2) -> 0 | BL147: 4 | BM147: 30
D148: D | E148: 56 | F148: Podklad.vrstvy komunikací a zp | J148: =BK148 -> 0 | P148: =SUM(P149:P151) -> 0 | R148: =SUM(R149:R151) -> 0 | T148: =SUM(T149:T151) -> 0 | AR148: 1 | AT148: D | AU148: 0 | AY148: ROZPOCET | BK148: =SUM(BK149:BK151) -> 0
C149: 16 | D149: K | E149: 564851111RT2 | F149: Podklad ze štěrkodrti po zhutnění tloušťky 15 cm, štěrkodrť frakce 0-32 mm | G149: m2 | H149: 45 | J149: =ROUND(I149*H149,2) -> 0 | N149: snížená | P149: =O149*H149 -> 0 | Q149: 0 | R149: =Q149*H149 -> 0 | S149: 0 | T149: =S149*H149 -> 0 | AR149: 4 | AT149: K | AU149: 1 | AY149: ROZPOCET | BE149: =IF(N149="základní",J149,0) -> 0 | BF149: =IF(N149="snížená",J149,0) -> 0 | BG149: =IF(N149="zákl. přenesená",J149,0) -> 0 | BH149: =IF(N149="sníž. přenesená",J149,0) -> 0 | BI149: =IF(N149="nulová",J149,0) -> 0 | BJ149: 2 | BK149: =ROUND(I149*H149,2) -> 0 | BL149: 4 | BM149: 32
C150: 17 | D150: K | E150: 631621113R00 | F150: Podklad z obalovaného kameniva tl. 30 mm | G150: m2 | H150: 45 | J150: =ROUND(I150*H150,2) -> 0 | N150: snížená | P150: =O150*H150 -> 0 | Q150: 0 | R150: =Q150*H150 -> 0 | S150: 0 | T150: =S150*H150 -> 0 | AR150: 4 | AT150: K | AU150: 1 | AY150: ROZPOCET | BE150: =IF(N150="základní",J150,0) -> 0 | BF150: =IF(N150="snížená",J150,0) -> 0 | BG150: =IF(N150="zákl. přenesená",J150,0) -> 0 | BH150: =IF(N150="sníž. přenesená",J150,0) -> 0 | BI150: =IF(N150="nulová",J150,0) -> 0 | BJ150: 2 | BK150: =ROUND(I150*H150,2) -> 0 | BL150: 4 | BM150: 34
C151: 18 | D151: K | E151: 577112114R00 | F151: Beton asfalt. ACO 11 S modifik. š. do 3 m, tl.5 cm | G151: m2 | H151: 45 | J151: =ROUND(I151*H151,2) -> 0 | N151: snížená | P151: =O151*H151 -> 0 | Q151: 0 | R151: =Q151*H151 -> 0 | S151: 0 | T151: =S151*H151 -> 0 | AR151: 4 | AT151: K | AU151: 1 | AY151: ROZPOCET | BE151: =IF(N151="základní",J151,0) -> 0 | BF151: =IF(N151="snížená",J151,0) -> 0 | BG151: =IF(N151="zákl. přenesená",J151,0) -> 0 | BH151: =IF(N151="sníž. přenesená",J151,0) -> 0 | BI151: =IF(N151="nulová",J151,0) -> 0 | BJ151: 2 | BK151: =ROUND(I151*H151,2) -> 0 | BL151: 4 | BM151: 36
D152: D | E152: 8 | F152: Trubní vedení | J152: =BK152 -> 0 | P152: =SUM(P153:P157) -> 0 | R152: =SUM(R153:R157) -> 0 | T152: =SUM(T153:T157) -> 0 | AR152: 1 | AT152: D | AU152: 0 | AY152: ROZPOCET | BK152: =SUM(BK153:BK157) -> 0
C153: 19 | D153: K | E153: 891211111R00 | F153: Montáž vodovodních šoupátek ve výkopu DN 50 | G153: kus | H153: 1 | J153: =ROUND(I153*H153,2) -> 0 | N153: snížená | P153: =O153*H153 -> 0 | Q153: 0 | R153: =Q153*H153 -> 0 | S153: 0 | T153: =S153*H153 -> 0 | AR153: 4 | AT153: K | AU153: 1 | AY153: ROZPOCET | BE153: =IF(N153="základní",J153,0) -> 0 | BF153: =IF(N153="snížená",J153,0) -> 0 | BG153: =IF(N153="zákl. přenesená",J153,0) -> 0 | BH153: =IF(N153="sníž. přenesená",J153,0) -> 0 | BI153: =IF(N153="nulová",J153,0) -> 0 | BJ153: 2 | BK153: =ROUND(I153*H153,2) -> 0 | BL153: 4 | BM153: 38
C154: 20 | D154: K | E154: 42200750R | F154: Poklop uliční šoupátkový 1750 - voda | G154: kus | H154: 1 | J154: =ROUND(I154*H154,2) -> 0 | N154: snížená | P154: =O154*H154 -> 0 | Q154: 0 | R154: =Q154*H154 -> 0 | S154: 0 | T154: =S154*H154 -> 0 | AR154: 4 | AT154: K | AU154: 1 | AY154: ROZPOCET | BE154: =IF(N154="základní",J154,0) -> 0 | BF154: =IF(N154="snížená",J154,0) -> 0 | BG154: =IF(N154="zákl. přenesená",J154,0) -> 0 | BH154: =IF(N154="sníž. přenesená",J154,0) -> 0 | BI154: =IF(N154="nulová",J154,0) -> 0 | BJ154: 2 | BK154: =ROUND(I154*H154,2) -> 0 | BL154: 4 | BM154: 40
C155: 21 | D155: K | E155: 42228156R | F155: Šoupátko 2510 DN 5/4" pro dom.příp. - voda | G155: kus | H155: 1 | J155: =ROUND(I155*H155,2) -> 0 | N155: snížená | P155: =O155*H155 -> 0 | Q155: 0 | R155: =Q155*H155 -> 0 | S155: 0 | T155: =S155*H155 -> 0 | AR155: 4 | AT155: K | AU155: 1 | AY155: ROZPOCET | BE155: =IF(N155="základní",J155,0) -> 0 | BF155: =IF(N155="snížená",J155,0) -> 0 | BG155: =IF(N155="zákl. přenesená",J155,0) -> 0 | BH155: =IF(N155="sníž. přenesená",J155,0) -> 0 | BI155: =IF(N155="nulová",J155,0) -> 0 | BJ155: 2 | BK155: =ROUND(I155*H155,2) -> 0 | BL155: 4 | BM155: 42
C156: 22 | D156: K | E156: 42291010R | F156: Souprava zemní tuhá 9000E1 DN 32 1,5m | G156: kus | H156: 1 | J156: =ROUND(I156*H156,2) -> 0 | N156: snížená | P156: =O156*H156 -> 0 | Q156: 0 | R156: =Q156*H156 -> 0 | S156: 0 | T156: =S156*H156 -> 0 | AR156: 4 | AT156: K | AU156: 1 | AY156: ROZPOCET | BE156: =IF(N156="základní",J156,0) -> 0 | BF156: =IF(N156="snížená",J156,0) -> 0 | BG156: =IF(N156="zákl. přenesená",J156,0) -> 0 | BH156: =IF(N156="sníž. přenesená",J156,0) -> 0 | BI156: =IF(N156="nulová",J156,0) -> 0 | BJ156: 2 | BK156: =ROUND(I156*H156,2) -> 0 | BL156: 4 | BM156: 44
C157: 23 | D157: K | E157: 899721112R00 | F157: Fólie výstražná z PVC bílá, šířka 30 cm | G157: m | H157: 12 | J157: =ROUND(I157*H157,2) -> 0 | N157: snížená | P157: =O157*H157 -> 0 | Q157: 0 | R157: =Q157*H157 -> 0 | S157: 0 | T157: =S157*H157 -> 0 | AR157: 4 | AT157: K | AU157: 1 | AY157: ROZPOCET | BE157: =IF(N157="základní",J157,0) -> 0 | BF157: =IF(N157="snížená",J157,0) -> 0 | BG157: =IF(N157="zákl. přenesená",J157,0) -> 0 | BH157: =IF(N157="sníž. přenesená",J157,0) -> 0 | BI157: =IF(N157="nulová",J157,0) -> 0 | BJ157: 2 | BK157: =ROUND(I157*H157,2) -> 0 | BL157: 4 | BM157: 46
D158: D | E158: 89 | F158: Ostatní konstrukce na trub.ved | J158: =BK158 -> 0 | P158: =SUM(P159:P169) -> 0 | R158: =SUM(R159:R169) -> 0 | T158: =SUM(T159:T169) -> 0 | AR158: 1 | AT158: D | AU158: 0 | AY158: ROZPOCET | BK158: =SUM(BK159:BK169) -> 0
C159: 24 | D159: K | E159: 894422111RT1 | F159: Osazení betonových dílců šachet, skruže přechodové, na kroužek | G159: kus | H159: 1 | J159: =ROUND(I159*H159,2) -> 0 | N159: snížená | P159: =O159*H159 -> 0 | Q159: 0 | R159: =Q159*H159 -> 0 | S159: 0 | T159: =S159*H159 -> 0 | AR159: 4 | AT159: K | AU159: 1 | AY159: ROZPOCET | BE159: =IF(N159="základní",J159,0) -> 0 | BF159: =IF(N159="snížená",J159,0) -> 0 | BG159: =IF(N159="zákl. přenesená",J159,0) -> 0 | BH159: =IF(N159="sníž. přenesená",J159,0) -> 0 | BI159: =IF(N159="nulová",J159,0) -> 0 | BJ159: 2 | BK159: =ROUND(I159*H159,2) -> 0 | BL159: 4 | BM159: 48
C160: 25 | D160: K | E160: 894421111RT1 | F160: Osazení betonových dílců šachet do 0,5 t, skruže rovné, na kroužek, do 0,5 t | G160: kus | H160: 1 | J160: =ROUND(I160*H160,2) -> 0 | N160: snížená | P160: =O160*H160 -> 0 | Q160: 0 | R160: =Q160*H160 -> 0 | S160: 0 | T160: =S160*H160 -> 0 | AR160: 4 | AT160: K | AU160: 1 | AY160: ROZPOCET | BE160: =IF(N160="základní",J160,0) -> 0 | BF160: =IF(N160="snížená",J160,0) -> 0 | BG160: =IF(N160="zákl. přenesená",J160,0) -> 0 | BH160: =IF(N160="sníž. přenesená",J160,0) -> 0 | BI160: =IF(N160="nulová",J160,0) -> 0 | BJ160: 2 | BK160: =ROUND(I160*H160,2) -> 0 | BL160: 4 | BM160: 50
C161: 26 | D161: K | E161: 894421112R00 | F161: Osazení betonových dílců šachet do 1,4 t | G161: kus | H161: 1 | J161: =ROUND(I161*H161,2) -> 0 | N161: snížená | P161: =O161*H161 -> 0 | Q161: 0 | R161: =Q161*H161 -> 0 | S161: 0 | T161: =S161*H161 -> 0 | AR161: 4 | AT161: K | AU161: 1 | AY161: ROZPOCET | BE161: =IF(N161="základní",J161,0) -> 0 | BF161: =IF(N161="snížená",J161,0) -> 0 | BG161: =IF(N161="zákl. přenesená",J161,0) -> 0 | BH161: =IF(N161="sníž. přenesená",J161,0) -> 0 | BI161: =IF(N161="nulová",J161,0) -> 0 | BJ161: 2 | BK161: =ROUND(I161*H161,2) -> 0 | BL161: 4 | BM161: 52
C162: 27 | D162: K | E162: 894423111RT1 | F162: Osazení betonových dílců šachet do 2,0 t, šachtová dna, na kroužek, do 2,0 t | G162: kus | H162: 1 | J162: =ROUND(I162*H162,2) -> 0 | N162: snížená | P162: =O162*H162 -> 0 | Q162: 0 | R162: =Q162*H162 -> 0 | S162: 0 | T162: =S162*H162 -> 0 | AR162: 4 | AT162: K | AU162: 1 | AY162: ROZPOCET | BE162: =IF(N162="základní",J162,0) -> 0 | BF162: =IF(N162="snížená",J162,0) -> 0 | BG162: =IF(N162="zákl. přenesená",J162,0) -> 0 | BH162: =IF(N162="sníž. přenesená",J162,0) -> 0 | BI162: =IF(N162="nulová",J162,0) -> 0 | BJ162: 2 | BK162: =ROUND(I162*H162,2) -> 0 | BL162: 4 | BM162: 54
C163: 28 | D163: K | E163: 899103111RT2 | F163: Osazení poklopu s rámem do 150 kg, včetně dodávky poklopu lit. kruhového D 600 | G163: kus | H163: 1 | J163: =ROUND(I163*H163,2) -> 0 | N163: snížená | P163: =O163*H163 -> 0 | Q163: 0 | R163: =Q163*H163 -> 0 | S163: 0 | T163: =S163*H163 -> 0 | AR163: 4 | AT163: K | AU163: 1 | AY163: ROZPOCET | BE163: =IF(N163="základní",J163,0) -> 0 | BF163: =IF(N163="snížená",J163,0) -> 0 | BG163: =IF(N163="zákl. přenesená",J163,0) -> 0 | BH163: =IF(N163="sníž. přenesená",J163,0) -> 0 | BI163: =IF(N163="nulová",J163,0) -> 0 | BJ163: 2 | BK163: =ROUND(I163*H163,2) -> 0 | BL163: 4 | BM163: 56
C164: 29 | D164: K | E164: 59224349.AR | F164: Prstenec vyrovn šachetní TBW-Q.1 63/10 | G164: kus | H164: 1 | J164: =ROUND(I164*H164,2) -> 0 | N164: snížená | P164: =O164*H164 -> 0 | Q164: 0 | R164: =Q164*H164 -> 0 | S164: 0 | T164: =S164*H164 -> 0 | AR164: 4 | AT164: K | AU164: 1 | AY164: ROZPOCET | BE164: =IF(N164="základní",J164,0) -> 0 | BF164: =IF(N164="snížená",J164,0) -> 0 | BG164: =IF(N164="zákl. přenesená",J164,0) -> 0 | BH164: =IF(N164="sníž. přenesená",J164,0) -> 0 | BI164: =IF(N164="nulová",J164,0) -> 0 | BJ164: 2 | BK164: =ROUND(I164*H164,2) -> 0 | BL164: 4 | BM164: 58
...

Sheet SO 04 - PŘÍPOJKA STL PLYN...
AT2: {0cb118f8-4f8c-436c-bbc7-da6bf456a0ff}
AT3: 1
D4: KRYCÍ LIST SOUPISU PRACÍ | M4: v --- níže se nacházejí doplnkové a pomocné údaje k sestavám --- v | AT4: False
D6: Stavba:
E7: ='Rekapitulace stavby'!K6 -> NOVOSTAVBA SOCIÁLNÍCH BYTŮ NA PARC. Č. 789/2
D8: Objekt:
E9: UZN - UZNATELNÉ NÁKLADY
D10: Soupis:
E11: SO 04 - PŘÍPOJKA STL PLYNOVODU
D13: KSO: | I13: CC-CZ:
D14: Místo: | F14: Protivanov, ul.Na Balkáně | I14: Datum: | J14: ='Rekapitulace stavby'!AN8 -> 11. 12. 2019
D16: Zadavatel: | I16: IČ: | J16: 00288675
E17: Městys Protivanov, Náměstí 32, 798 48 Protivanov | I17: DIČ: | J17: CZ00288675
D19: Uchazeč: | I19: IČ: | J19: ='Rekapitulace stavby'!AN13 -> Vyplň údaj
E20: ='Rekapitulace stavby'!E14 -> Vyplň údaj | I20: DIČ: | J20: ='Rekapitulace stavby'!AN14 -> Vyplň údaj
D22: Projektant: | I22: IČ:
E23: PROMED Brno, spol. s r.o | I23: DIČ:
D25: Zpracovatel: | I25: IČ: | J25: =IF('Rekapitulace stavby'!AN19="","",'Rekapitulace stavby'!AN19)
E26: =IF('Rekapitulace stavby'!E20="","",'Rekapitulace stavby'!E20) | I26: DIČ: | J26: =IF('Rekapitulace stavby'!AN20="","",'Rekapitulace stavby'!AN20)
D28: Poznámka:
D32: Cena bez DPH | J32: =ROUND(J122, 2) -> 0
F34: Základ daně | I34: Sazba daně | J34: Výše daně
D35: DPH | E35: základní | F35: =ROUND((SUM(BE122:BE140)), 2) -> 0 | I35: 0.21 | J35: =ROUND(((SUM(BE122:BE140))*I35), 2) -> 0
E36: snížená | F36: =ROUND((SUM(BF122:BF140)), 2) -> 0 | I36: 0.15 | J36: =ROUND(((SUM(BF122:BF140))*I36), 2) -> 0
E37: zákl. přenesená | F37: =ROUND((SUM(BG122:BG140)), 2) -> 0 | I37: 0.21 | J37: =0 -> 0
E38: sníž. přenesená | F38: =ROUND((SUM(BH122:BH140)), 2) -> 0 | I38: 0.15 | J38: =0 -> 0
E39: nulová | F39: =ROUND((SUM(BI122:BI140)), 2) -> 0 | I39: 0 | J39: =0 -> 0
D41: Cena s DPH | G41: v | H41: CZK | J41: =SUM(J32:J39) -> 0
D50: Projektant | G50: Zpracovatel
D61: Datum a podpis: | F61: Razítko | G61: Datum a podpis: | J61: Razítko
D65: Objednavatel | G65: Uchazeč
D76: Datum a podpis: | F76: Razítko | G76: Datum a podpis: | J76: Razítko
C82: REKAPITULACE ČLENĚNÍ SOUPISU PRACÍ
C84: Stavba:
E85: =E7 -> NOVOSTAVBA SOCIÁLNÍCH BYTŮ NA PARC. Č. 789/2
C86: Objekt:
E87: UZN - UZNATELNÉ NÁKLADY
C88: Soupis:
E89: =E11 -> SO 04 - PŘÍPOJKA STL PLYNOVODU
C91: Místo: | F91: =F14 -> Protivanov, ul.Na Balkáně | I91: Datum: | J91: =IF(J14="","",J14) -> 11. 12. 2019
C93: Zadavatel: | F93: =E17 -> Městys Protivanov, Náměstí 32, 798 48 Protivanov | I93: Projektant: | J93: =E23 -> PROMED Brno, spol. s r.o
C94: Uchazeč: | F94: =IF(E20="","",E20) -> Vyplň údaj | I94: Zpracovatel: | J94: =E26
C96: Kód dílu - Popis | J96: Cena celkem [CZK]
C98: Náklady ze soupisu prací | J98: =J122 -> 0 | AU98: -1
D99: 1 - Zemní práce | J99: =J123 -> 0
D100: 723 - Vnitřní plynovod | J100: =J131 -> 0
C107: SOUPIS PRACÍ
C109: Stavba:
E110: =E7 -> NOVOSTAVBA SOCIÁLNÍCH BYTŮ NA PARC. Č. 789/2
C111: Objekt:
E112: UZN - UZNATELNÉ NÁKLADY
C113: Soupis:
E114: =E11 -> SO 04 - PŘÍPOJKA STL PLYNOVODU
C116: Místo: | F116: =F14 -> Protivanov, ul.Na Balkáně | I116: Datum: | J116: =IF(J14="","",J14) -> 11. 12. 2019
C118: Zadavatel: | F118: =E17 -> Městys Protivanov, Náměstí 32, 798 48 Protivanov | I118: Projektant: | J118: =E23 -> PROMED Brno, spol. s r.o
C119: Uchazeč: | F119: =IF(E20="","",E20) -> Vyplň údaj | I119: Zpracovatel: | J119: =E26
C121: PČ | D121: Typ | E121: Kód | F121: Popis | G121: MJ | H121: Množství | I121: J.cena [CZK] | J121: Cena celkem [CZK] | K121: Cenová soustava | N121: DPH | O121: J. Nh [h] | P121: Nh celkem [h] | Q121: J. hmotnost [t] | R121: Hmotnost celkem [t] | S121: J. suť [t] | T121: Suť Celkem [t]
C122: Náklady soupisu celkem | J122: =BK122 -> 0 | P122: =P123+P131 -> 0 | R122: =R123+R131 -> 0 | T122: =T123+T131 -> 0 | AT122: D | AU122: -1 | BK122: =BK123+BK131 -> 0
D123: D | E123: 1 | F123: Zemní práce | J123: =BK123 -> 0 | P123: =SUM(P124:P130) -> 0 | R123: =SUM(R124:R130) -> 0 | T123: =SUM(T124:T130) -> 0 | AR123: 1 | AT123: D | AU123: 0 | AY123: ROZPOCET | BK123: =SUM(BK124:BK130) -> 0
C124: 1 | D124: K | E124: 132201210R00 | F124: Hloubení rýh š.do 200 cm hor.3 do 50 m3,STROJNĚ | G124: m3 | H124: 45 | J124: =ROUND(I124*H124,2) -> 0 | N124: snížená | P124: =O124*H124 -> 0 | Q124: 0 | R124: =Q124*H124 -> 0 | S124: 0 | T124: =S124*H124 -> 0 | AR124: 4 | AT124: K | AU124: 1 | AY124: ROZPOCET | BE124: =IF(N124="základní",J124,0) -> 0 | BF124: =IF(N124="snížená",J124,0) -> 0 | BG124: =IF(N124="zákl. přenesená",J124,0) -> 0 | BH124: =IF(N124="sníž. přenesená",J124,0) -> 0 | BI124: =IF(N124="nulová",J124,0) -> 0 | BJ124: 2 | BK124: =ROUND(I124*H124,2) -> 0 | BL124: 4 | BM124: 2
C125: 2 | D125: K | E125: 162701105R00 | F125: Vodorovné přemístění výkopku z hor.1-4 do 10000 m | G125: m3 | H125: 25 | J125: =ROUND(I125*H125,2) -> 0 | N125: snížená | P125: =O125*H125 -> 0 | Q125: 0 | R125: =Q125*H125 -> 0 | S125: 0 | T125: =S125*H125 -> 0 | AR125: 4 | AT125: K | AU125: 1 | AY125: ROZPOCET | BE125: =IF(N125="základní",J125,0) -> 0 | BF125: =IF(N125="snížená",J125,0) -> 0 | BG125: =IF(N125="zákl. přenesená",J125,0) -> 0 | BH125: =IF(N125="sníž. přenesená",J125,0) -> 0 | BI125: =IF(N125="nulová",J125,0) -> 0 | BJ125: 2 | BK125: =ROUND(I125*H125,2) -> 0 | BL125: 4 | BM125: 4
C126: 3 | D126: K | E126: 161101102R00 | F126: Svislé přemístění výkopku z hor.1-4 do 4,0 m | G126: m3 | H126: 45 | J126: =ROUND(I126*H126,2) -> 0 | N126: snížená | P126: =O126*H126 -> 0 | Q126: 0 | R126: =Q126*H126 -> 0 | S126: 0 | T126: =S126*H126 -> 0 | AR126: 4 | AT126: K | AU126: 1 | AY126: ROZPOCET | BE126: =IF(N126="základní",J126,0) -> 0 | BF126: =IF(N126="snížená",J126,0) -> 0 | BG126: =IF(N126="zákl. přenesená",J126,0) -> 0 | BH126: =IF(N126="sníž. přenesená",J126,0) -> 0 | BI126: =IF(N126="nulová",J126,0) -> 0 | BJ126: 2 | BK126: =ROUND(I126*H126,2) -> 0 | BL126: 4 | BM126: 6
C127: 4 | D127: K | E127: 171201201R00 | F127: Uložení sypaniny na skl.-sypanina na výšku přes 2m | G127: m3 | H127: 25 | J127: =ROUND(I127*H127,2) -> 0 | N127: snížená | P127: =O127*H127 -> 0 | Q127: 0 | R127: =Q127*H127 -> 0 | S127: 0 | T127: =S127*H127 -> 0 | AR127: 4 | AT127: K | AU127: 1 | AY127: ROZPOCET | BE127: =IF(N127="základní",J127,0) -> 0 | BF127: =IF(N127="snížená",J127,0) -> 0 | BG127: =IF(N127="zákl. přenesená",J127,0) -> 0 | BH127: =IF(N127="sníž. přenesená",J127,0) -> 0 | BI127: =IF(N127="nulová",J127,0) -> 0 | BJ127: 2 | BK127: =ROUND(I127*H127,2) -> 0 | BL127: 4 | BM127: 8
C128: 5 | D128: K | E128: 199000002R00 | F128: Poplatek za skládku horniny 1- 4 | G128: m3 | H128: 25 | J128: =ROUND(I128*H128,2) -> 0 | N128: snížená | P128: =O128*H128 -> 0 | Q128: 0 | R128: =Q128*H128 -> 0 | S128: 0 | T128: =S128*H128 -> 0 | AR128: 4 | AT128: K | AU128: 1 | AY128: ROZPOCET | BE128: =IF(N128="základní",J128,0) -> 0 | BF128: =IF(N128="snížená",J128,0) -> 0 | BG128: =IF(N128="zákl. přenesená",J128,0) -> 0 | BH128: =IF(N128="sníž. přenesená",J128,0) -> 0 | BI128: =IF(N128="nulová",J128,0) -> 0 | BJ128: 2 | BK128: =ROUND(I128*H128,2) -> 0 | BL128: 4 | BM128: 10
C129: 6 | D129: K | E129: 174101101R00 | F129: Zásyp jam, rýh, šachet se zhutněním | G129: m3 | H129: 20 | J129: =ROUND(I129*H129,2) -> 0 | N129: snížená | P129: =O129*H129 -> 0 | Q129: 0 | R129: =Q129*H129 -> 0 | S129: 0 | T129: =S129*H129 -> 0 | AR129: 4 | AT129: K | AU129: 1 | AY129: ROZPOCET | BE129: =IF(N129="základní",J129,0) -> 0 | BF129: =IF(N129="snížená",J129,0) -> 0 | BG129: =IF(N129="zákl. přenesená",J129,0) -> 0 | BH129: =IF(N129="sníž. přenesená",J129,0) -> 0 | BI129: =IF(N129="nulová",J129,0) -> 0 | BJ129: 2 | BK129: =ROUND(I129*H129,2) -> 0 | BL129: 4 | BM129: 12
C130: 7 | D130: K | E130: 175101101RT2 | F130: Obsyp potrubí bez prohození sypaniny, s dodáním štěrkopísku frakce 0 - 22 mm | G130: m3 | H130: 25 | J130: =ROUND(I130*H130,2) -> 0 | N130: snížená | P130: =O130*H130 -> 0 | Q130: 0 | R130: =Q130*H130 -> 0 | S130: 0 | T130: =S130*H130 -> 0 | AR130: 4 | AT130: K | AU130: 1 | AY130: ROZPOCET | BE130: =IF(N130="základní",J130,0) -> 0 | BF130: =IF(N130="snížená",J130,0) -> 0 | BG130: =IF(N130="zákl. přenesená",J130,0) -> 0 | BH130: =IF(N130="sníž. přenesená",J130,0) -> 0 | BI130: =IF(N130="nulová",J130,0) -> 0 | BJ130: 2 | BK130: =ROUND(I130*H130,2) -> 0 | BL130: 4 | BM130: 14
D131: D | E131: 723 | F131: Vnitřní plynovod | J131: =BK131 -> 0 | P131: =SUM(P132:P140) -> 0 | R131: =SUM(R132:R140) -> 0 | T131: =SUM(T132:T140) -> 0 | AR131: 2 | AT131: D | AU131: 0 | AY131: ROZPOCET | BK131: =SUM(BK132:BK140) -> 0
C132: 8 | D132: K | E132: 723190907R00 | F132: Odvzdušnění a napuštění plynového potrubí | G132: m | H132: 65 | J132: =ROUND(I132*H132,2) -> 0 | N132: snížená | P132: =O132*H132 -> 0 | Q132: 0 | R132: =Q132*H132 -> 0 | S132: 0 | T132: =S132*H132 -> 0 | AR132: 16 | AT132: K | AU132: 1 | AY132: ROZPOCET | BE132: =IF(N132="základní",J132,0) -> 0 | BF132: =IF(N132="snížená",J132,0) -> 0 | BG132: =IF(N132="zákl. přenesená",J132,0) -> 0 | BH132: =IF(N132="sníž. přenesená",J132,0) -> 0 | BI132: =IF(N132="nulová",J132,0) -> 0 | BJ132: 2 | BK132: =ROUND(I132*H132,2) -> 0 | BL132: 16 | BM132: 16
C133: 9 | D133: K | E133: 723190909R00 | F133: Zkouška tlaková plynového potrubí | G133: kus | H133: 65 | J133: =ROUND(I133*H133,2) -> 0 | N133: snížená | P133: =O133*H133 -> 0 | Q133: 0 | R133: =Q133*H133 -> 0 | S133: 0 | T133: =S133*H133 -> 0 | AR133: 16 | AT133: K | AU133: 1 | AY133: ROZPOCET | BE133: =IF(N133="základní",J133,0) -> 0 | BF133: =IF(N133="snížená",J133,0) -> 0 | BG133: =IF(N133="zákl. přenesená",J133,0) -> 0 | BH133: =IF(N133="sníž. přenesená",J133,0) -> 0 | BI133: =IF(N133="nulová",J133,0) -> 0 | BJ133: 2 | BK133: =ROUND(I133*H133,2) -> 0 | BL133: 16 | BM133: 18
C134: 10 | D134: K | E134: 723-PC | F134: Chránička na potrubí DN100 | G134: m | H134: 5 | J134: =ROUND(I134*H134,2) -> 0 | N134: snížená | P134: =O134*H134 -> 0 | Q134: 0 | R134: =Q134*H134 -> 0 | S134: 0 | T134: =S134*H134 -> 0 | AR134: 16 | AT134: K | AU134: 1 | AY134: ROZPOCET | BE134: =IF(N134="základní",J134,0) -> 0 | BF134: =IF(N134="snížená",J134,0) -> 0 | BG134: =IF(N134="zákl. přenesená",J134,0) -> 0 | BH134: =IF(N134="sníž. přenesená",J134,0) -> 0 | BI134: =IF(N134="nulová",J134,0) -> 0 | BJ134: 2 | BK134: =ROUND(I134*H134,2) -> 0 | BL134: 16 | BM134: 20
C135: 11 | D135: K | E135: 28613609R | F135: Trubka SDR 11 40x3,7 mm plyn - návin | G135: m | H135: 25 | J135: =ROUND(I135*H135,2) -> 0 | N135: snížená | P135: =O135*H135 -> 0 | Q135: 0 | R135: =Q135*H135 -> 0 | S135: 0 | T135: =S135*H135 -> 0 | AR135: 16 | AT135: K | AU135: 1 | AY135: ROZPOCET | BE135: =IF(N135="základní",J135,0) -> 0 | BF135: =IF(N135="snížená",J135,0) -> 0 | BG135: =IF(N135="zákl. přenesená",J135,0) -> 0 | BH135: =IF(N135="sníž. přenesená",J135,0) -> 0 | BI135: =IF(N135="nulová",J135,0) -> 0 | BJ135: 2 | BK135: =ROUND(I135*H135,2) -> 0 | BL135: 16 | BM135: 22
C136: 12 | D136: K | E136: 28613612R | F136: Trubka SDR 11 63x5,8 mm plyn - tyče | G136: m | H136: 40 | J136: =ROUND(I136*H136,2) -> 0 | N136: snížená | P136: =O136*H136 -> 0 | Q136: 0 | R136: =Q136*H136 -> 0 | S136: 0 | T136: =S136*H136 -> 0 | AR136: 16 | AT136: K | AU136: 1 | AY136: ROZPOCET | BE136: =IF(N136="základní",J136,0) -> 0 | BF136: =IF(N136="snížená",J136,0) -> 0 | BG136: =IF(N136="zákl. přenesená",J136,0) -> 0 | BH136: =IF(N136="sníž. přenesená",J136,0) -> 0 | BI136: =IF(N136="nulová",J136,0) -> 0 | BJ136: 2 | BK136: =ROUND(I136*H136,2) -> 0 | BL136: 16 | BM136: 24
C137: 13 | D137: K | E137: 28314146.AR | F137: Fólie výstražná žlutá "POZOR PLYN", š. 300 mm | G137: m | H137: 65 | J137: =ROUND(I137*H137,2) -> 0 | N137: snížená | P137: =O137*H137 -> 0 | Q137: 0 | R137: =Q137*H137 -> 0 | S137: 0 | T137: =S137*H137 -> 0 | AR137: 16 | AT137: K | AU137: 1 | AY137: ROZPOCET | BE137: =IF(N137="základní",J137,0) -> 0 | BF137: =IF(N137="snížená",J137,0) -> 0 | BG137: =IF(N137="zákl. přenesená",J137,0) -> 0 | BH137: =IF(N137="sníž. přenesená",J137,0) -> 0 | BI137: =IF(N137="nulová",J137,0) -> 0 | BJ137: 2 | BK137: =ROUND(I137*H137,2) -> 0 | BL137: 16 | BM137: 26
C138: 14 | D138: K | E138: 34141301R | F138: Vodič silový pevné uložení CYY 2,5 mm2 | G138: m | H138: 65 | J138: =ROUND(I138*H138,2) -> 0 | N138: snížená | P138: =O138*H138 -> 0 | Q138: 0 | R138: =Q138*H138 -> 0 | S138: 0 | T138: =S138*H138 -> 0 | AR138: 16 | AT138: K | AU138: 1 | AY138: ROZPOCET | BE138: =IF(N138="základní",J138,0) -> 0 | BF138: =IF(N138="snížená",J138,0) -> 0 | BG138: =IF(N138="zákl. přenesená",J138,0) -> 0 | BH138: =IF(N138="sníž. přenesená",J138,0) -> 0 | BI138: =IF(N138="nulová",J138,0) -> 0 | BJ138: 2 | BK138: =ROUND(I138*H138,2) -> 0 | BL138: 16 | BM138: 28
C139: 15 | D139: K | E139: 723-PC.1 | F139: Revizní zpráva | G139: soubor | H139: 1 | J139: =ROUND(I139*H139,2) -> 0 | N139: snížená | P139: =O139*H139 -> 0 | Q139: 0 | R139: =Q139*H139 -> 0 | S139: 0 | T139: =S139*H139 -> 0 | AR139: 16 | AT139: K | AU139: 1 | AY139: ROZPOCET | BE139: =IF(N139="základní",J139,0) -> 0 | BF139: =IF(N139="snížená",J139,0) -> 0 | BG139: =IF(N139="zákl. přenesená",J139,0) -> 0 | BH139: =IF(N139="sníž. přenesená",J139,0) -> 0 | BI139: =IF(N139="nulová",J139,0) -> 0 | BJ139: 2 | BK139: =ROUND(I139*H139,2) -> 0 | BL139: 16 | BM139: 30
C140: 16 | D140: K | E140: 998723202R0X | F140: Přesun hmot pro vnitřní plynovod, výšky do 12 m | G140: % | J140: =ROUND(I140*H140,2) -> 0 | N140: snížená | P140: =O140*H140 -> 0 | Q140: 0 | R140: =Q140*H140 -> 0 | S140: 0 | T140: =S140*H140 -> 0 | AR140: 16 | AT140: K | AU140: 1 | AY140: ROZPOCET | BE140: =IF(N140="základní",J140,0) -> 0 | BF140: =IF(N140="snížená",J140,0) -> 0 | BG140: =IF(N140="zákl. přenesená",J140,0) -> 0 | BH140: =IF(N140="sníž. přenesená",J140,0) -> 0 | BI140: =IF(N140="nulová",J140,0) -> 0 | BJ140: 2 | BK140: =ROUND(I140*H140,2) -> 0 | BL140: 16 | BM140: 32

Sheet SO 06 - PŘÍJEZDOVÁ KOMUNI...
AT2: {4e0b4158-1ab8-453a-a10c-50cfaed39a2c}
AT3: 1
D4: KRYCÍ LIST SOUPISU PRACÍ | M4: v --- níže se nacházejí doplnkové a pomocné údaje k sestavám --- v | AT4: False
D6: Stavba:
E7: ='Rekapitulace stavby'!K6 -> NOVOSTAVBA SOCIÁLNÍCH BYTŮ NA PARC. Č. 789/2
D8: Objekt:
E9: UZN - UZNATELNÉ NÁKLADY
D10: Soupis:
E11: SO 06 - PŘÍJEZDOVÁ KOMUNIKACE A CHODNÍK
D13: KSO: | I13: CC-CZ:
D14: Místo: | F14: Protivanov, ul.Na Balkáně | I14: Datum: | J14: ='Rekapitulace stavby'!AN8 -> 11. 12. 2019
D16: Zadavatel: | I16: IČ: | J16: 00288675
E17: Městys Protivanov, Náměstí 32, 798 48 Protivanov | I17: DIČ: | J17: CZ00288675
D19: Uchazeč: | I19: IČ: | J19: ='Rekapitulace stavby'!AN13 -> Vyplň údaj
E20: ='Rekapitulace stavby'!E14 -> Vyplň údaj | I20: DIČ: | J20: ='Rekapitulace stavby'!AN14 -> Vyplň údaj
D22: Projektant: | I22: IČ:
E23: PROMED Brno, spol. s r.o | I23: DIČ:
D25: Zpracovatel: | I25: IČ: | J25: =IF('Rekapitulace stavby'!AN19="","",'Rekapitulace stavby'!AN19)
E26: =IF('Rekapitulace stavby'!E20="","",'Rekapitulace stavby'!E20) | I26: DIČ: | J26: =IF('Rekapitulace stavby'!AN20="","",'Rekapitulace stavby'!AN20)
D28: Poznámka:
D32: Cena bez DPH | J32: =ROUND(J132, 2) -> 0
F34: Základ daně | I34: Sazba daně | J34: Výše daně
D35: DPH | E35: základní | F35: =ROUND((SUM(BE132:BE191)), 2) -> 0 | I35: 0.21 | J35: =ROUND(((SUM(BE132:BE191))*I35), 2) -> 0
E36: snížená | F36: =ROUND((SUM(BF132:BF191)), 2) -> 0 | I36: 0.15 | J36: =ROUND(((SUM(BF132:BF191))*I36), 2) -> 0
E37: zákl. přenesená | F37: =ROUND((SUM(BG132:BG191)), 2) -> 0 | I37: 0.21 | J37: =0 -> 0
E38: sníž. přenesená | F38: =ROUND((SUM(BH132:BH191)), 2) -> 0 | I38: 0.15 | J38: =0 -> 0
E39: nulová | F39: =ROUND((SUM(BI132:BI191)), 2) -> 0 | I39: 0 | J39: =0 -> 0
D41: Cena s DPH | G41: v | H41: CZK | J41: =SUM(J32:J39) -> 0
D50: Projektant | G50: Zpracovatel
D61: Datum a podpis: | F61: Razítko | G61: Datum a podpis: | J61: Razítko
D65: Objednavatel | G65: Uchazeč
D76: Datum a podpis: | F76: Razítko | G76: Datum a podpis: | J76: Razítko
C82: REKAPITULACE ČLENĚNÍ SOUPISU PRACÍ
C84: Stavba:
E85: =E7 -> NOVOSTAVBA SOCIÁLNÍCH BYTŮ NA PARC. Č. 789/2
C86: Objekt:
E87: UZN - UZNATELNÉ NÁKLADY
C88: Soupis:
E89: =E11 -> SO 06 - PŘÍJEZDOVÁ KOMUNIKACE A CHODNÍK
C91: Místo: | F91: =F14 -> Protivanov, ul.Na Balkáně | I91: Datum: | J91: =IF(J14="","",J14) -> 11. 12. 2019
C93: Zadavatel: | F93: =E17 -> Městys Protivanov, Náměstí 32, 798 48 Protivanov | I93: Projektant: | J93: =E23 -> PROMED Brno, spol. s r.o
C94: Uchazeč: | F94: =IF(E20="","",E20) -> Vyplň údaj | I94: Zpracovatel: | J94: =E26
C96: Kód dílu - Popis | J96: Cena celkem [CZK]
C98: Náklady ze soupisu prací | J98: =J132 -> 0 | AU98: -1
D99: 11 - Přípravné a přidružené práce | J99: =J133 -> 0
D100: 12 - Odkopávky a prokopávky | J100: =J137 -> 0
D101: 16 - Přemístění výkopku | J101: =J140 -> 0
D102: 17 - Konstrukce ze zemin | J102: =J143 -> 0
D103: 18 - Povrchové úpravy terénu | J103: =J145 -> 0
D104: 21 - Úprava podloží a základové spáry | J104: =J150 -> 0
D105: 28 - Zpevňování hornin a konstrukcí | J105: =J153 -> 0
D106: 56 - Podkladní vrstvy komunikací, letišť a ploch | J106: =J156 -> 0
D107: 57 - Kryty pozemních komunikací, letišť a ploch z kameniva nebo živičné | J107: =J163 -> 0
D108: 59 - Kryty pozemních komunikací, letišť a ploch dlážděných (předlažby) | J108: =J166 -> 0
D109: 91 - Doplňující konstrukce a práce na pozemních komunikacích a zpevněných plochách | J109: =J174 -> 0
D110: S - Přesuny sutí | J110: =J187 -> 0
C117: SOUPIS PRACÍ
C119: Stavba:
E120: =E7 -> NOVOSTAVBA SOCIÁLNÍCH BYTŮ NA PARC. Č. 789/2
C121: Objekt:
E122: UZN - UZNATELNÉ NÁKLADY
C123: Soupis:
E124: =E11 -> SO 06 - PŘÍJEZDOVÁ KOMUNIKACE A CHODNÍK
C126: Místo: | F126: =F14 -> Protivanov, ul.Na Balkáně | I126: Datum: | J126: =IF(J14="","",J14) -> 11. 12. 2019
C128: Zadavatel: | F128: =E17 -> Městys Protivanov, Náměstí 32, 798 48 Protivanov | I128: Projektant: | J128: =E23 -> PROMED Brno, spol. s r.o
C129: Uchazeč: | F129: =IF(E20="","",E20) -> Vyplň údaj | I129: Zpracovatel: | J129: =E26
C131: PČ | D131: Typ | E131: Kód | F131: Popis | G131: MJ | H131: Množství | I131: J.cena [CZK] | J131: Cena celkem [CZK] | K131: Cenová soustava | N131: DPH | O131: J. Nh [h] | P131: Nh celkem [h] | Q131: J. hmotnost [t] | R131: Hmotnost celkem [t] | S131: J. suť [t] | T131: Suť Celkem [t]
C132: Náklady soupisu celkem | J132: =BK132 -> 0 | P132: =P133+P137+P140+P143+P145+P150+P153+P156+P163+P166+P174+P187 -> 0 | R132: =R133+R137+R140+R143+R145+R150+R153+R156+R163+R166+R174+R187 -> 0 | T132: =T133+T137+T140+T143+T145+T150+T153+T156+T163+T166+T174+T187 -> 0 | AT132: D | AU132: -1 | BK132: =BK133+BK137+BK140+BK143+BK145+BK150+BK153+BK156+BK163+BK166+BK174+BK187 -> 0
D133: D | E133: 11 | F133: Přípravné a přidružené práce | J133: =BK133 -> 0 | P133: =SUM(P134:P136) -> 0 | R133: =SUM(R134:R136) -> 0 | T133: =SUM(T134:T136) -> 0 | AR133: 1 | AT133: D | AU133: 0 | AY133: ROZPOCET | BK133: =SUM(BK134:BK136) -> 0
C134: 1 | D134: K | E134: 119001201R00 | F134: Úprava zemin vápnem, tl. vrstvy 15 - 30 cm | G134: m3 | H134: 136.413 | J134: =ROUND(I134*H134,2) -> 0 | K134: RTS II / 2019 | N134: snížená | P134: =O134*H134 -> 0 | Q134: 0 | R134: =Q134*H134 -> 0 | S134: 0 | T134: =S134*H134 -> 0 | AR134: 4 | AT134: K | AU134: 1 | AY134: ROZPOCET | BE134: =IF(N134="základní",J134,0) -> 0 | BF134: =IF(N134="snížená",J134,0) -> 0 | BG134: =IF(N134="zákl. přenesená",J134,0) -> 0 | BH134: =IF(N134="sníž. přenesená",J134,0) -> 0 | BI134: =IF(N134="nulová",J134,0) -> 0 | BJ134: 2 | BK134: =ROUND(I134*H134,2) -> 0 | BL134: 4 | BM134: 2
C135: 2 | D135: M | E135: 58530120.A | F135: Vápno bílé CL 90 (pro stabilizaci) VL | G135: t | H135: 5.46 | J135: =ROUND(I135*H135,2) -> 0 | K135: RTS II / 2019 | N135: snížená | P135: =O135*H135 -> 0 | Q135: 0 | R135: =Q135*H135 -> 0 | S135: 0 | T135: =S135*H135 -> 0 | AR135: 8 | AT135: M | AU135: 1 | AY135: ROZPOCET | BE135: =IF(N135="základní",J135,0) -> 0 | BF135: =IF(N135="snížená",J135,0) -> 0 | BG135: =IF(N135="zákl. přenesená",J135,0) -> 0 | BH135: =IF(N135="sníž. přenesená",J135,0) -> 0 | BI135: =IF(N135="nulová",J135,0) -> 0 | BJ135: 2 | BK135: =ROUND(I135*H135,2) -> 0 | BL135: 4 | BM135: 4
C136: 3 | D136: K | E136: 113108315R00 | F136: Odstranění asfaltové vrstvy pl. do 50 m2, tl.15 cm | G136: m2 | H136: 7.3 | J136: =ROUND(I136*H136,2) -> 0 | K136: RTS II / 2019 | N136: snížená | P136: =O136*H136 -> 0 | Q136: 0 | R136: =Q136*H136 -> 0 | S136: 0 | T136: =S136*H136 -> 0 | AR136: 4 | AT136: K | AU136: 1 | AY136: ROZPOCET | BE136: =IF(N136="základní",J136,0) -> 0 | BF136: =IF(N136="snížená",J136,0) -> 0 | BG136: =IF(N136="zákl. přenesená",J136,0) -> 0 | BH136: =IF(N136="sníž. přenesená",J136,0) -> 0 | BI136: =IF(N136="nulová",J136,0) -> 0 | BJ136: 2 | BK136: =ROUND(I136*H136,2) -> 0 | BL136: 4 | BM136: 6
D137: D | E137: 12 | F137: Odkopávky a prokopávky | J137: =BK137 -> 0 | P137: =SUM(P138:P139) -> 0 | R137: =SUM(R138:R139) -> 0 | T137: =SUM(T138:T139) -> 0 | AR137: 1 | AT137: D | AU137: 0 | AY137: ROZPOCET | BK137: =SUM(BK138:BK139) -> 0
C138: 4 | D138: K | E138: 121101102R00 | F138: Sejmutí ornice s přemístěním přes 50 do 100 m | G138: m3 | H138: 108.16 | J138: =ROUND(I138*H138,2) -> 0 | K138: RTS II / 2019 | N138: snížená | P138: =O138*H138 -> 0 | Q138: 0 | R138: =Q138*H138 -> 0 | S138: 0 | T138: =S138*H138 -> 0 | AR138: 4 | AT138: K | AU138: 1 | AY138: ROZPOCET | BE138: =IF(N138="základní",J138,0) -> 0 | BF138: =IF(N138="snížená",J138,0) -> 0 | BG138: =IF(N138="zákl. přenesená",J138,0) -> 0 | BH138: =IF(N138="sníž. přenesená",J138,0) -> 0 | BI138: =IF(N138="nulová",J138,0) -> 0 | BJ138: 2 | BK138: =ROUND(I138*H138,2) -> 0 | BL138: 4 | BM138: 8
C139: 5 | D139: K | E139: 122202201R00 | F139: Odkopávky pro silnice v hor. 3 do 100 m3 | G139: m3 | H139: 3.8 | J139: =ROUND(I139*H139,2) -> 0 | K139: RTS II / 2019 | N139: snížená | P139: =O139*H139 -> 0 | Q139: 0 | R139: =Q139*H139 -> 0 | S139: 0 | T139: =S139*H139 -> 0 | AR139: 4 | AT139: K | AU139: 1 | AY139: ROZPOCET | BE139: =IF(N139="základní",J139,0) -> 0 | BF139: =IF(N139="snížená",J139,0) -> 0 | BG139: =IF(N139="zákl. přenesená",J139,0) -> 0 | BH139: =IF(N139="sníž. přenesená",J139,0) -> 0 | BI139: =IF(N139="nulová",J139,0) -> 0 | BJ139: 2 | BK139: =ROUND(I139*H139,2) -> 0 | BL139: 4 | BM139: 10
D140: D | E140: 16 | F140: Přemístění výkopku | J140: =BK140 -> 0 | P140: =SUM(P141:P142) -> 0 | R140: =SUM(R141:R142) -> 0 | T140: =SUM(T141:T142) -> 0 | AR140: 1 | AT140: D | AU140: 0 | AY140: ROZPOCET | BK140: =SUM(BK141:BK142) -> 0
C141: 7 | D141: K | E141: 162201102R00 | F141: Vodorovné přemístění výkopku z hor.1-4 do 50 m | G141: m3 | H141: 116.61 | J141: =ROUND(I141*H141,2) -> 0 | K141: RTS II / 2019 | N141: snížená | P141: =O141*H141 -> 0 | Q141: 0 | R141: =Q141*H141 -> 0 | S141: 0 | T141: =S141*H141 -> 0 | AR141: 4 | AT141: K | AU141: 1 | AY141: ROZPOCET | BE141: =IF(N141="základní",J141,0) -> 0 | BF141: =IF(N141="snížená",J141,0) -> 0 | BG141: =IF(N141="zákl. přenesená",J141,0) -> 0 | BH141: =IF(N141="sníž. přenesená",J141,0) -> 0 | BI141: =IF(N141="nulová",J141,0) -> 0 | BJ141: 2 | BK141: =ROUND(I141*H141,2) -> 0 | BL141: 4 | BM141: 14
C142: 8 | D142: K | E142: 167101101R00 | F142: Nakládání výkopku z hor.1-4 v množství do 100 m3 | G142: m3 | H142: 116.61 | J142: =ROUND(I142*H142,2) -> 0 | K142: RTS II / 2019 | N142: snížená | P142: =O142*H142 -> 0 | Q142: 0 | R142: =Q142*H142 -> 0 | S142: 0 | T142: =S142*H142 -> 0 | AR142: 4 | AT142: K | AU142: 1 | AY142: ROZPOCET | BE142: =IF(N142="základní",J142,0) -> 0 | BF142: =IF(N142="snížená",J142,0) -> 0 | BG142: =IF(N142="zákl. přenesená",J142,0) -> 0 | BH142: =IF(N142="sníž. přenesená",J142,0) -> 0 | BI142: =IF(N142="nulová",J142,0) -> 0 | BJ142: 2 | BK142: =ROUND(I142*H142,2) -> 0 | BL142: 4 | BM142: 16
D143: D | E143: 17 | F143: Konstrukce ze zemin | J143: =BK143 -> 0 | P143: =P144 -> 0 | R143: =R144 -> 0 | T143: =T144 -> 0 | AR143: 1 | AT143: D | AU143: 0 | AY143: ROZPOCET | BK143: =BK144 -> 0
C144: 9 | D144: K | E144: 171201201R00 | F144: Uložení sypaniny na skl. u staveniště | G144: m3 | H144: 116.61 | J144: =ROUND(I144*H144,2) -> 0 | K144: RTS II / 2019 | N144: snížená | P144: =O144*H144 -> 0 | Q144: 0 | R144: =Q144*H144 -> 0 | S144: 0 | T144: =S144*H144 -> 0 | AR144: 4 | AT144: K | AU144: 1 | AY144: ROZPOCET | BE144: =IF(N144="základní",J144,0) -> 0 | BF144: =IF(N144="snížená",J144,0) -> 0 | BG144: =IF(N144="zákl. přenesená",J144,0) -> 0 | BH144: =IF(N144="sníž. přenesená",J144,0) -> 0 | BI144: =IF(N144="nulová",J144,0) -> 0 | BJ144: 2 | BK144: =ROUND(I144*H144,2) -> 0 | BL144: 4 | BM144: 18
D145: D | E145: 18 | F145: Povrchové úpravy terénu | J145: =BK145 -> 0 | P145: =SUM(P146:P149) -> 0 | R145: =SUM(R146:R149) -> 0 | T145: =SUM(T146:T149) -> 0 | AR145: 1 | AT145: D | AU145: 0 | AY145: ROZPOCET | BK145: =SUM(BK146:BK149) -> 0
C146: 10 | D146: K | E146: 181101102R00 | F146: Úprava pláně v zářezech v hor. 1-4, se zhutněním | G146: m2 | H146: 441.32 | J146: =ROUND(I146*H146,2) -> 0 | K146: RTS II / 2019 | N146: snížená | P146: =O146*H146 -> 0 | Q146: 0 | R146: =Q146*H146 -> 0 | S146: 0 | T146: =S146*H146 -> 0 | AR146: 4 | AT146: K | AU146: 1 | AY146: ROZPOCET | BE146: =IF(N146="základní",J146,0) -> 0 | BF146: =IF(N146="snížená",J146,0) -> 0 | BG146: =IF(N146="zákl. přenesená",J146,0) -> 0 | BH146: =IF(N146="sníž. přenesená",J146,0) -> 0 | BI146: =IF(N146="nulová",J146,0) -> 0 | BJ146: 2 | BK146: =ROUND(I146*H146,2) -> 0 | BL146: 4 | BM146: 20
C147: 11 | D147: K | E147: 181301103R00 | F147: Rozprostření ornice, rovina, tl. 15-20 cm,do 500m2 | G147: m2 | H147: 543.4 | J147: =ROUND(I147*H147,2) -> 0 | K147: RTS II / 2019 | N147: snížená | P147: =O147*H147 -> 0 | Q147: 0 | R147: =Q147*H147 -> 0 | S147: 0 | T147: =S147*H147 -> 0 | AR147: 4 | AT147: K | AU147: 1 | AY147: ROZPOCET | BE147: =IF(N147="základní",J147,0) -> 0 | BF147: =IF(N147="snížená",J147,0) -> 0 | BG147: =IF(N147="zákl. přenesená",J147,0) -> 0 | BH147: =IF(N147="sníž. přenesená",J147,0) -> 0 | BI147: =IF(N147="nulová",J147,0) -> 0 | BJ147: 2 | BK147: =ROUND(I147*H147,2) -> 0 | BL147: 4 | BM147: 22
C148: 12 | D148: K | E148: 180402111R00 | F148: Založení trávníku parkového výsevem v rovině | G148: m2 | H148: 543.4 | J148: =ROUND(I148*H148,2) -> 0 | K148: RTS II / 2019 | N148: snížená | P148: =O148*H148 -> 0 | Q148: 0 | R148: =Q148*H148 -> 0 | S148: 0 | T148: =S148*H148 -> 0 | AR148: 4 | AT148: K | AU148: 1 | AY148: ROZPOCET | BE148: =IF(N148="základní",J148,0) -> 0 | BF148: =IF(N148="snížená",J148,0) -> 0 | BG148: =IF(N148="zákl. přenesená",J148,0) -> 0 | BH148: =IF(N148="sníž. přenesená",J148,0) -> 0 | BI148: =IF(N148="nulová",J148,0) -> 0 | BJ148: 2 | BK148: =ROUND(I148*H148,2) -> 0 | BL148: 4 | BM148: 24
C149: 13 | D149: M | E149: 00572460 | F149: Směs travní technická PROFI | G149: kg | H149: 16.7911 | J149: =ROUND(I149*H149,2) -> 0 | K149: RTS II / 2019 | N149: snížená | P149: =O149*H149 -> 0 | Q149: 0 | R149: =Q149*H149 -> 0 | S149: 0 | T149: =S149*H149 -> 0 | AR149: 8 | AT149: M | AU149: 1 | AY149: ROZPOCET | BE149: =IF(N149="základní",J149,0) -> 0 | BF149: =IF(N149="snížená",J149,0) -> 0 | BG149: =IF(N149="zákl. přenesená",J149,0) -> 0 | BH149: =IF(N149="sníž. přenesená",J149,0) -> 0 | BI149: =IF(N149="nulová",J149,0) -> 0 | BJ149: 2 | BK149: =ROUND(I149*H149,2) -> 0 | BL149: 4 | BM149: 26
D150: D | E150: 21 | F150: Úprava podloží a základové spáry | J150: =BK150 -> 0 | P150: =SUM(P151:P152) -> 0 | R150: =SUM(R151:R152) -> 0 | T150: =SUM(T151:T152) -> 0 | AR150: 1 | AT150: D | AU150: 0 | AY150: ROZPOCET | BK150: =SUM(BK151:BK152) -> 0
C151: 14 | D151: K | E151: 212752112R00 | F151: Trativody z drenážních trubek, lože, DN 100 mm | G151: m | H151: 31 | J151: =ROUND(I151*H151,2) -> 0 | K151: RTS II / 2017 | N151: snížená | P151: =O151*H151 -> 0 | Q151: 0 | R151: =Q151*H151 -> 0 | S151: 0 | T151: =S151*H151 -> 0 | AR151: 4 | AT151: K | AU151: 1 | AY151: ROZPOCET | BE151: =IF(N151="základní",J151,0) -> 0 | BF151: =IF(N151="snížená",J151,0) -> 0 | BG151: =IF(N151="zákl. přenesená",J151,0) -> 0 | BH151: =IF(N151="sníž. přenesená",J151,0) -> 0 | BI151: =IF(N151="nulová",J151,0) -> 0 | BJ151: 2 | BK151: =ROUND(I151*H151,2) -> 0 | BL151: 4 | BM151: 28
C152: 15 | D152: M | E152: 28611223 | F152: Trubka PVC-U drenážní flexibilní DN 100 mm | G152: m | H152: 31 | J152: =ROUND(I152*H152,2) -> 0 | K152: RTS II / 2019 | N152: snížená | P152: =O152*H152 -> 0 | Q152: 0 | R152: =Q152*H152 -> 0 | S152: 0 | T152: =S152*H152 -> 0 | AR152: 8 | AT152: M | AU152: 1 | AY152: ROZPOCET | BE152: =IF(N152="základní",J152,0) -> 0 | BF152: =IF(N152="snížená",J152,0) -> 0 | BG152: =IF(N152="zákl. přenesená",J152,0) -> 0 | BH152: =IF(N152="sníž. přenesená",J152,0) -> 0 | BI152: =IF(N152="nulová",J152,0) -> 0 | BJ152: 2 | BK152: =ROUND(I152*H152,2) -> 0 | BL152: 4 | BM152: 30
D153: D | E153: 28 | F153: Zpevňování hornin a konstrukcí | J153: =BK153 -> 0 | P153: =SUM(P154:P155) -> 0 | R153: =SUM(R154:R155) -> 0 | T153: =SUM(T154:T155) -> 0 | AR153: 1 | AT153: D | AU153: 0 | AY153: ROZPOCET | BK153: =SUM(BK154:BK155) -> 0
C154: 16 | D154: K | E154: 289971212R00 | F154: Zřízení vrstvy z geotextilie sklon do 1:5 š.do 6 m | G154: m2 | H154: 263.42 | J154: =ROUND(I154*H154,2) -> 0 | K154: RTS II / 2019 | N154: snížená | P154: =O154*H154 -> 0 | Q154: 0 | R154: =Q154*H154 -> 0 | S154: 0 | T154: =S154*H154 -> 0 | AR154: 4 | AT154: K | AU154: 1 | AY154: ROZPOCET | BE154: =IF(N154="základní",J154,0) -> 0 | BF154: =IF(N154="snížená",J154,0) -> 0 | BG154: =IF(N154="zákl. přenesená",J154,0) -> 0 | BH154: =IF(N154="sníž. přenesená",J154,0) -> 0 | BI154: =IF(N154="nulová",J154,0) -> 0 | BJ154: 2 | BK154: =ROUND(I154*H154,2) -> 0 | BL154: 4 | BM154: 32
C155: 17 | D155: M | E155: 67352020 | F155: Geotextilie silniční PK-Tex PP 15 100 g/m2 | G155: m2 | H155: 263.42 | J155: =ROUND(I155*H155,2) -> 0 | K155: RTS II / 2019 | N155: snížená | P155: =O155*H155 -> 0 | Q155: 0 | R155: =Q155*H155 -> 0 | S155: 0 | T155: =S155*H155 -> 0 | AR155: 8 | AT155: M | AU155: 1 | AY155: ROZPOCET | BE155: =IF(N155="základní",J155,0) -> 0 | BF155: =IF(N155="snížená",J155,0) -> 0 | BG155: =IF(N155="zákl. přenesená",J155,0) -> 0 | BH155: =IF(N155="sníž. přenesená",J155,0) -> 0 | BI155: =IF(N155="nulová",J155,0) -> 0 | BJ155: 2 | BK155: =ROUND(I155*H155,2) -> 0 | BL155: 4 | BM155: 34
D156: D | E156: 56 | F156: Podkladní vrstvy komunikací, letišť a ploch | J156: =BK156 -> 0 | P156: =SUM(P157:P162) -> 0 | R156: =SUM(R157:R162) -> 0 | T156: =SUM(T157:T162) -> 0 | AR156: 1 | AT156: D | AU156: 0 | AY156: ROZPOCET | BK156: =SUM(BK157:BK162) -> 0
C157: 18 | D157: K | E157: 564851111R00 | F157: Podklad ze štěrkodrti po zhutnění tloušťky 15 cm | G157: m2 | H157: 177.9 | J157: =ROUND(I157*H157,2) -> 0 | K157: RTS II / 2019 | N157: snížená | P157: =O157*H157 -> 0 | Q157: 0 | R157: =Q157*H157 -> 0 | S157: 0 | T157: =S157*H157 -> 0 | AR157: 4 | AT157: K | AU157: 1 | AY157: ROZPOCET | BE157: =IF(N157="základní",J157,0) -> 0 | BF157: =IF(N157="snížená",J157,0) -> 0 | BG157: =IF(N157="zákl. přenesená",J157,0) -> 0 | BH157: =IF(N157="sníž. přenesená",J157,0) -> 0 | BI157: =IF(N157="nulová",J157,0) -> 0 | BJ157: 2 | BK157: =ROUND(I157*H157,2) -> 0 | BL157: 4 | BM157: 36
C158: 19 | D158: K | E158: 564861111R00 | F158: Podklad ze štěrkodrti po zhutnění tloušťky 20 cm | G158: m2 | H158: 263.42 | J158: =ROUND(I158*H158,2) -> 0 | K158: RTS II / 2019 | N158: snížená | P158: =O158*H158 -> 0 | Q158: 0 | R158: =Q158*H158 -> 0 | S158: 0 | T158: =S158*H158 -> 0 | AR158: 4 | AT158: K | AU158: 1 | AY158: ROZPOCET | BE158: =IF(N158="základní",J158,0) -> 0 | BF158: =IF(N158="snížená",J158,0) -> 0 | BG158: =IF(N158="zákl. přenesená",J158,0) -> 0 | BH158: =IF(N158="sníž. přenesená",J158,0) -> 0 | BI158: =IF(N158="nulová",J158,0) -> 0 | BJ158: 2 | BK158: =ROUND(I158*H158,2) -> 0 | BL158: 4 | BM158: 38
C159: 20 | D159: K | E159: 564962111R00 | F159: Podklad z mechanicky zpevněného kameniva tl. 20 cm | G159: m2 | H159: 240.71 | J159: =ROUND(I159*H159,2) -> 0 | K159: RTS II / 2019 | N159: snížená | P159: =O159*H159 -> 0 | Q159: 0 | R159: =Q159*H159 -> 0 | S159: 0 | T159: =S159*H159 -> 0 | AR159: 4 | AT159: K | AU159: 1 | AY159: ROZPOCET | BE159: =IF(N159="základní",J159,0) -> 0 | BF159: =IF(N159="snížená",J159,0) -> 0 | BG159: =IF(N159="zákl. přenesená",J159,0) -> 0 | BH159: =IF(N159="sníž. přenesená",J159,0) -> 0 | BI159: =IF(N159="nulová",J159,0) -> 0 | BJ159: 2 | BK159: =ROUND(I159*H159,2) -> 0 | BL159: 4 | BM159: 40
C160: 21 | D160: K | E160: 567411120R00 | F160: Podklad ze štěrku vyplněného maltou ŠCM, tl 200 mm | G160: m2 | H160: 4.38 | J160: =ROUND(I160*H160,2) -> 0 | K160: RTS II / 2019 | N160: snížená | P160: =O160*H160 -> 0 | Q160: 0 | R160: =Q160*H160 -> 0 | S160: 0 | T160: =S160*H160 -> 0 | AR160: 4 | AT160: K | AU160: 1 | AY160: ROZPOCET | BE160: =IF(N160="základní",J160,0) -> 0 | BF160: =IF(N160="snížená",J160,0) -> 0 | BG160: =IF(N160="zákl. přenesená",J160,0) -> 0 | BH160: =IF(N160="sníž. přenesená",J160,0) -> 0 | BI160: =IF(N160="nulová",J160,0) -> 0 | BJ160: 2 | BK160: =ROUND(I160*H160,2) -> 0 | BL160: 4 | BM160: 42
C161: 22 | D161: K | E161: 565181111R00 | F161: Podklad z obal kamen. ACP 22+, š. do 3 m, tl.15 cm | G161: m2 | H161: 7.3 | J161: =ROUND(I161*H161,2) -> 0 | K161: RTS II / 2019 | N161: snížená | P161: =O161*H161 -> 0 | Q161: 0 | R161: =Q161*H161 -> 0 | S161: 0 | T161: =S161*H161 -> 0 | AR161: 4 | AT161: K | AU161: 1 | AY161: ROZPOCET | BE161: =IF(N161="základní",J161,0) -> 0 | BF161: =IF(N161="snížená",J161,0) -> 0 | BG161: =IF(N161="zákl. přenesená",J161,0) -> 0 | BH161: =IF(N161="sníž. přenesená",J161,0) -> 0 | BI161: =IF(N161="nulová",J161,0) -> 0 | BJ161: 2 | BK161: =ROUND(I161*H161,2) -> 0 | BL161: 4 | BM161: 44
C162: 23 | D162: K | E162: 569903311R00 | F162: Zřízení zemních krajnic se zhutněním | G162: m3 | H162: 17.55 | J162: =ROUND(I162*H162,2) -> 0 | K162: RTS II / 2019 | N162: snížená | P162: =O162*H162 -> 0 | Q162: 0 | R162: =Q162*H162 -> 0 | S162: 0 | T162: =S162*H162 -> 0 | AR162: 4 | AT162: K | AU162: 1 | AY162: ROZPOCET | BE162: =IF(N162="základní",J162,0) -> 0 | BF162: =IF(N162="snížená",J162,0) -> 0 | BG162: =IF(N162="zákl. přenesená",J162,0) -> 0 | BH162: =IF(N162="sníž. přenesená",J162,0) -> 0 | BI162: =IF(N162="nulová",J162,0) -> 0 | BJ162: 2 | BK162: =ROUND(I162*H162,2) -> 0 | BL162: 4 | BM162: 46
D163: D | E163: 57 | F163: Kryty pozemních komunikací, letišť a ploch z kameniva nebo živičné | J163: =BK163 -> 0 | P163: =SUM(P164:P165) -> 0 | R163: =SUM(R164:R165) -> 0 | T163: =SUM(T164:T165) -> 0 | AR163: 1 | AT163: D | AU163: 0 | AY163: ROZPOCET | BK163: =SUM(BK164:BK165) -> 0
C164: 24 | D164: K | E164: 573211111R00 | F164: Postřik živičný spojovací z asfaltu 0,5-0,7 kg/m2 | G164: m2 | H164: 7.3 | J164: =ROUND(I164*H164,2) -> 0 | K164: RTS II / 2019 | N164: snížená | P164: =O164*H164 -> 0 | Q164: 0 | R164: =Q164*H164 -> 0 | S164: 0 | T164: =S164*H164 -> 0 | AR164: 4 | AT164: K | AU164: 1 | AY164: ROZPOCET | BE164: =IF(N164="základní",J164,0) -> 0 | BF164: =IF(N164="snížená",J164,0) -> 0 | BG164: =IF(N164="zákl. přenesená",J164,0) -> 0 | BH164: =IF(N164="sníž. přenesená",J164,0) -> 0 | BI164: =IF(N164="nulová",J164,0) -> 0 | BJ164: 2 | BK164: =ROUND(I164*H164,2) -> 0 | BL164: 4 | BM164: 48
...

Sheet SO 08 - AREÁLOVÉ ROZVODY ...
AT2: {ed858b76-7254-4849-9694-b1c371593284}
AT3: 1
D4: KRYCÍ LIST SOUPISU PRACÍ | M4: v --- níže se nacházejí doplnkové a pomocné údaje k sestavám --- v | AT4: False
D6: Stavba:
E7: ='Rekapitulace stavby'!K6 -> NOVOSTAVBA SOCIÁLNÍCH BYTŮ NA PARC. Č. 789/2
D8: Objekt:
E9: UZN - UZNATELNÉ NÁKLADY
D10: Soupis:
E11: SO 08 - AREÁLOVÉ ROZVODY A OSVĚTLENÍ
D13: KSO: | I13: CC-CZ:
D14: Místo: | F14: Protivanov, ul.Na Balkáně | I14: Datum: | J14: ='Rekapitulace stavby'!AN8 -> 11. 12. 2019
D16: Zadavatel: | I16: IČ: | J16: 00288675
E17: Městys Protivanov, Náměstí 32, 798 48 Protivanov | I17: DIČ: | J17: CZ00288675
D19: Uchazeč: | I19: IČ: | J19: ='Rekapitulace stavby'!AN13 -> Vyplň údaj
E20: ='Rekapitulace stavby'!E14 -> Vyplň údaj | I20: DIČ: | J20: ='Rekapitulace stavby'!AN14 -> Vyplň údaj
D22: Projektant: | I22: IČ:
E23: PROMED Brno, spol. s r.o | I23: DIČ:
D25: Zpracovatel: | I25: IČ: | J25: =IF('Rekapitulace stavby'!AN19="","",'Rekapitulace stavby'!AN19)
E26: =IF('Rekapitulace stavby'!E20="","",'Rekapitulace stavby'!E20) | I26: DIČ: | J26: =IF('Rekapitulace stavby'!AN20="","",'Rekapitulace stavby'!AN20)
D28: Poznámka:
D32: Cena bez DPH | J32: =ROUND(J124, 2) -> 0
F34: Základ daně | I34: Sazba daně | J34: Výše daně
D35: DPH | E35: základní | F35: =ROUND((SUM(BE124:BE138)), 2) -> 0 | I35: 0.21 | J35: =ROUND(((SUM(BE124:BE138))*I35), 2) -> 0
E36: snížená | F36: =ROUND((SUM(BF124:BF138)), 2) -> 0 | I36: 0.15 | J36: =ROUND(((SUM(BF124:BF138))*I36), 2) -> 0
E37: zákl. přenesená | F37: =ROUND((SUM(BG124:BG138)), 2) -> 0 | I37: 0.21 | J37: =0 -> 0
E38: sníž. přenesená | F38: =ROUND((SUM(BH124:BH138)), 2) -> 0 | I38: 0.15 | J38: =0 -> 0
E39: nulová | F39: =ROUND((SUM(BI124:BI138)), 2) -> 0 | I39: 0 | J39: =0 -> 0
D41: Cena s DPH | G41: v | H41: CZK | J41: =SUM(J32:J39) -> 0
D50: Projektant | G50: Zpracovatel
D61: Datum a podpis: | F61: Razítko | G61: Datum a podpis: | J61: Razítko
D65: Objednavatel | G65: Uchazeč
D76: Datum a podpis: | F76: Razítko | G76: Datum a podpis: | J76: Razítko
C82: REKAPITULACE ČLENĚNÍ SOUPISU PRACÍ
C84: Stavba:
E85: =E7 -> NOVOSTAVBA SOCIÁLNÍCH BYTŮ NA PARC. Č. 789/2
C86: Objekt:
E87: UZN - UZNATELNÉ NÁKLADY
C88: Soupis:
E89: =E11 -> SO 08 - AREÁLOVÉ ROZVODY A OSVĚTLENÍ
C91: Místo: | F91: =F14 -> Protivanov, ul.Na Balkáně | I91: Datum: | J91: =IF(J14="","",J14) -> 11. 12. 2019
C93: Zadavatel: | F93: =E17 -> Městys Protivanov, Náměstí 32, 798 48 Protivanov | I93: Projektant: | J93: =E23 -> PROMED Brno, spol. s r.o
C94: Uchazeč: | F94: =IF(E20="","",E20) -> Vyplň údaj | I94: Zpracovatel: | J94: =E26
C96: Kód dílu - Popis | J96: Cena celkem [CZK]
C98: Náklady ze soupisu prací | J98: =J124 -> 0 | AU98: -1
D99: VR-K - VENKOVNÍ ROZVODY NN - KABELY | J99: =J125 -> 0
D100: UV - UKONČENÍ VODIČŮ | J100: =J130 -> 0
D101: S - SVÍTIDLA | J101: =J133 -> 0
D102: O - OSTATNÍ | J102: =J136 -> 0
C109: SOUPIS PRACÍ
C111: Stavba:
E112: =E7 -> NOVOSTAVBA SOCIÁLNÍCH BYTŮ NA PARC. Č. 789/2
C113: Objekt:
E114: UZN - UZNATELNÉ NÁKLADY
C115: Soupis:
E116: =E11 -> SO 08 - AREÁLOVÉ ROZVODY A OSVĚTLENÍ
C118: Místo: | F118: =F14 -> Protivanov, ul.Na Balkáně | I118: Datum: | J118: =IF(J14="","",J14) -> 11. 12. 2019
C120: Zadavatel: | F120: =E17 -> Městys Protivanov, Náměstí 32, 798 48 Protivanov | I120: Projektant: | J120: =E23 -> PROMED Brno, spol. s r.o
C121: Uchazeč: | F121: =IF(E20="","",E20) -> Vyplň údaj | I121: Zpracovatel: | J121: =E26
C123: PČ | D123: Typ | E123: Kód | F123: Popis | G123: MJ | H123: Množství | I123: J.cena [CZK] | J123: Cena celkem [CZK] | K123: Cenová soustava | N123: DPH | O123: J. Nh [h] | P123: Nh celkem [h] | Q123: J. hmotnost [t] | R123: Hmotnost celkem [t] | S123: J. suť [t] | T123: Suť Celkem [t]
C124: Náklady soupisu celkem | J124: =BK124 -> 0 | P124: =P125+P130+P133+P136 -> 0 | R124: =R125+R130+R133+R136 -> 0 | T124: =T125+T130+T133+T136 -> 0 | AT124: D | AU124: -1 | BK124: =BK125+BK130+BK133+BK136 -> 0
D125: D | E125: VR-K | F125: VENKOVNÍ ROZVODY NN - KABELY | J125: =BK125 -> 0 | P125: =SUM(P126:P129) -> 0 | R125: =SUM(R126:R129) -> 0 | T125: =SUM(T126:T129) -> 0 | AR125: 1 | AT125: D | AU125: 0 | AY125: ROZPOCET | BK125: =SUM(BK126:BK129) -> 0
C126: 1 | D126: K | E126: 210 80-0134.RT4 | F126: Kabel CYKY 750V 5Jx4 uložený v zemi v trubce četně dodávky kabelu | G126: m | H126: 135 | J126: =ROUND(I126*H126,2) -> 0 | N126: snížená | P126: =O126*H126 -> 0 | Q126: 0 | R126: =Q126*H126 -> 0 | S126: 0 | T126: =S126*H126 -> 0 | AR126: 4 | AT126: K | AU126: 1 | AY126: ROZPOCET | BE126: =IF(N126="základní",J126,0) -> 0 | BF126: =IF(N126="snížená",J126,0) -> 0 | BG126: =IF(N126="zákl. přenesená",J126,0) -> 0 | BH126: =IF(N126="sníž. přenesená",J126,0) -> 0 | BI126: =IF(N126="nulová",J126,0) -> 0 | BJ126: 2 | BK126: =ROUND(I126*H126,2) -> 0 | BL126: 4 | BM126: 2
C127: 2 | D127: K | E127: 210 80-0116.RT3 | F127: Kabel CYKY - J 4x35 uložený v zemi včetně dodávky kabelu | G127: m | H127: 25 | J127: =ROUND(I127*H127,2) -> 0 | N127: snížená | P127: =O127*H127 -> 0 | Q127: 0 | R127: =Q127*H127 -> 0 | S127: 0 | T127: =S127*H127 -> 0 | AR127: 4 | AT127: K | AU127: 1 | AY127: ROZPOCET | BE127: =IF(N127="základní",J127,0) -> 0 | BF127: =IF(N127="snížená",J127,0) -> 0 | BG127: =IF(N127="zákl. přenesená",J127,0) -> 0 | BH127: =IF(N127="sníž. přenesená",J127,0) -> 0 | BI127: =IF(N127="nulová",J127,0) -> 0 | BJ127: 2 | BK127: =ROUND(I127*H127,2) -> 0 | BL127: 4 | BM127: 4
C128: 3 | D128: K | E128: 210 22-0022.RT1 | F128: Vedení uzemňovací v zemi FeZn 30/4 včetně dodávky FeZn 30/4 | G128: m | H128: 25 | J128: =ROUND(I128*H128,2) -> 0 | N128: snížená | P128: =O128*H128 -> 0 | Q128: 0 | R128: =Q128*H128 -> 0 | S128: 0 | T128: =S128*H128 -> 0 | AR128: 4 | AT128: K | AU128: 1 | AY128: ROZPOCET | BE128: =IF(N128="základní",J128,0) -> 0 | BF128: =IF(N128="snížená",J128,0) -> 0 | BG128: =IF(N128="zákl. přenesená",J128,0) -> 0 | BH128: =IF(N128="sníž. přenesená",J128,0) -> 0 | BI128: =IF(N128="nulová",J128,0) -> 0 | BJ128: 2 | BK128: =ROUND(I128*H128,2) -> 0 | BL128: 4 | BM128: 6
C129: 4 | D129: K | E129: Pol293 | F129: Trubka KF09040 uložená v zemi včetně dodávky trubky | G129: ks | H129: 185 | J129: =ROUND(I129*H129,2) -> 0 | N129: snížená | P129: =O129*H129 -> 0 | Q129: 0 | R129: =Q129*H129 -> 0 | S129: 0 | T129: =S129*H129 -> 0 | AR129: 4 | AT129: K | AU129: 1 | AY129: ROZPOCET | BE129: =IF(N129="základní",J129,0) -> 0 | BF129: =IF(N129="snížená",J129,0) -> 0 | BG129: =IF(N129="zákl. přenesená",J129,0) -> 0 | BH129: =IF(N129="sníž. přenesená",J129,0) -> 0 | BI129: =IF(N129="nulová",J129,0) -> 0 | BJ129: 2 | BK129: =ROUND(I129*H129,2) -> 0 | BL129: 4 | BM129: 8
D130: D | E130: UV | F130: UKONČENÍ VODIČŮ | J130: =BK130 -> 0 | P130: =SUM(P131:P132) -> 0 | R130: =SUM(R131:R132) -> 0 | T130: =SUM(T131:T132) -> 0 | AR130: 1 | AT130: D | AU130: 0 | AY130: ROZPOCET | BK130: =SUM(BK131:BK132) -> 0
C131: 5 | D131: K | E131: 210 10-003.R00 | F131: Ukončení vodičů+zapojení do 16 mm2 | G131: ks | H131: 80 | J131: =ROUND(I131*H131,2) -> 0 | N131: snížená | P131: =O131*H131 -> 0 | Q131: 0 | R131: =Q131*H131 -> 0 | S131: 0 | T131: =S131*H131 -> 0 | AR131: 4 | AT131: K | AU131: 1 | AY131: ROZPOCET | BE131: =IF(N131="základní",J131,0) -> 0 | BF131: =IF(N131="snížená",J131,0) -> 0 | BG131: =IF(N131="zákl. přenesená",J131,0) -> 0 | BH131: =IF(N131="sníž. přenesená",J131,0) -> 0 | BI131: =IF(N131="nulová",J131,0) -> 0 | BJ131: 2 | BK131: =ROUND(I131*H131,2) -> 0 | BL131: 4 | BM131: 10
C132: 6 | D132: K | E132: 210 10-005.R02 | F132: Ukončení vodičů do 4x50 | G132: ks | H132: 8 | J132: =ROUND(I132*H132,2) -> 0 | N132: snížená | P132: =O132*H132 -> 0 | Q132: 0 | R132: =Q132*H132 -> 0 | S132: 0 | T132: =S132*H132 -> 0 | AR132: 4 | AT132: K | AU132: 1 | AY132: ROZPOCET | BE132: =IF(N132="základní",J132,0) -> 0 | BF132: =IF(N132="snížená",J132,0) -> 0 | BG132: =IF(N132="zákl. přenesená",J132,0) -> 0 | BH132: =IF(N132="sníž. přenesená",J132,0) -> 0 | BI132: =IF(N132="nulová",J132,0) -> 0 | BJ132: 2 | BK132: =ROUND(I132*H132,2) -> 0 | BL132: 4 | BM132: 12
D133: D | E133: S | F133: SVÍTIDLA | J133: =BK133 -> 0 | P133: =SUM(P134:P135) -> 0 | R133: =SUM(R134:R135) -> 0 | T133: =SUM(T134:T135) -> 0 | AR133: 1 | AT133: D | AU133: 0 | AY133: ROZPOCET | BK133: =SUM(BK134:BK135) -> 0
C134: 7 | D134: K | E134: 210 20-1002.RT16 | F134: Svítidlo H - LED IP54 na stožár 2,5m včetně dodávky svítidla a zdroje | G134: ks | H134: 7 | J134: =ROUND(I134*H134,2) -> 0 | N134: snížená | P134: =O134*H134 -> 0 | Q134: 0 | R134: =Q134*H134 -> 0 | S134: 0 | T134: =S134*H134 -> 0 | AR134: 4 | AT134: K | AU134: 1 | AY134: ROZPOCET | BE134: =IF(N134="základní",J134,0) -> 0 | BF134: =IF(N134="snížená",J134,0) -> 0 | BG134: =IF(N134="zákl. přenesená",J134,0) -> 0 | BH134: =IF(N134="sníž. přenesená",J134,0) -> 0 | BI134: =IF(N134="nulová",J134,0) -> 0 | BJ134: 2 | BK134: =ROUND(I134*H134,2) -> 0 | BL134: 4 | BM134: 14
C135: 8 | D135: K | E135: 210 20-1002.RT11 | F135: Stožár pro venkovní svítidlo 2,5m | G135: ks | H135: 7 | J135: =ROUND(I135*H135,2) -> 0 | N135: snížená | P135: =O135*H135 -> 0 | Q135: 0 | R135: =Q135*H135 -> 0 | S135: 0 | T135: =S135*H135 -> 0 | AR135: 4 | AT135: K | AU135: 1 | AY135: ROZPOCET | BE135: =IF(N135="základní",J135,0) -> 0 | BF135: =IF(N135="snížená",J135,0) -> 0 | BG135: =IF(N135="zákl. přenesená",J135,0) -> 0 | BH135: =IF(N135="sníž. přenesená",J135,0) -> 0 | BI135: =IF(N135="nulová",J135,0) -> 0 | BJ135: 2 | BK135: =ROUND(I135*H135,2) -> 0 | BL135: 4 | BM135: 16
D136: D | E136: O | F136: OSTATNÍ | J136: =BK136 -> 0 | P136: =SUM(P137:P138) -> 0 | R136: =SUM(R137:R138) -> 0 | T136: =SUM(T137:T138) -> 0 | AR136: 1 | AT136: D | AU136: 0 | AY136: ROZPOCET | BK136: =SUM(BK137:BK138) -> 0
C137: 9 | D137: K | E137: O-01 | F137: Měření a revize | G137: hod | H137: 15 | J137: =ROUND(I137*H137,2) -> 0 | N137: snížená | P137: =O137*H137 -> 0 | Q137: 0 | R137: =Q137*H137 -> 0 | S137: 0 | T137: =S137*H137 -> 0 | AR137: 4 | AT137: K | AU137: 1 | AY137: ROZPOCET | BE137: =IF(N137="základní",J137,0) -> 0 | BF137: =IF(N137="snížená",J137,0) -> 0 | BG137: =IF(N137="zákl. přenesená",J137,0) -> 0 | BH137: =IF(N137="sníž. přenesená",J137,0) -> 0 | BI137: =IF(N137="nulová",J137,0) -> 0 | BJ137: 2 | BK137: =ROUND(I137*H137,2) -> 0 | BL137: 4 | BM137: 18
C138: 10 | D138: K | E138: O-02 | F138: Výkop a zához č.50, hl 60, zřízení kabelového lože z písku a zakrytí folii | G138: m | H138: 145 | J138: =ROUND(I138*H138,2) -> 0 | N138: snížená | P138: =O138*H138 -> 0 | Q138: 0 | R138: =Q138*H138 -> 0 | S138: 0 | T138: =S138*H138 -> 0 | AR138: 4 | AT138: K | AU138: 1 | AY138: ROZPOCET | BE138: =IF(N138="základní",J138,0) -> 0 | BF138: =IF(N138="snížená",J138,0) -> 0 | BG138: =IF(N138="zákl. přenesená",J138,0) -> 0 | BH138: =IF(N138="sníž. přenesená",J138,0) -> 0 | BI138: =IF(N138="nulová",J138,0) -> 0 | BJ138: 2 | BK138: =ROUND(I138*H138,2) -> 0 | BL138: 4 | BM138: 20

Sheet OST - VEDLEJŠÍ A OSTATNÍ ...
AT2: {a92827f5-3ddf-4128-a576-00eb488a8305}
AT3: 1
D4: KRYCÍ LIST SOUPISU PRACÍ | M4: v --- níže se nacházejí doplnkové a pomocné údaje k sestavám --- v | AT4: False
D6: Stavba:
E7: ='Rekapitulace stavby'!K6 -> NOVOSTAVBA SOCIÁLNÍCH BYTŮ NA PARC. Č. 789/2
D8: Objekt:
E9: UZN - UZNATELNÉ NÁKLADY
D10: Soupis:
E11: OST - VEDLEJŠÍ A OSTATNÍ NÁKLADY
D13: KSO: | I13: CC-CZ:
D14: Místo: | F14: Protivanov, ul.Na Balkáně | I14: Datum: | J14: ='Rekapitulace stavby'!AN8 -> 11. 12. 2019
D16: Zadavatel: | I16: IČ: | J16: 00288675
E17: Městys Protivanov, Náměstí 32, 798 48 Protivanov | I17: DIČ: | J17: CZ00288675
D19: Uchazeč: | I19: IČ: | J19: ='Rekapitulace stavby'!AN13 -> Vyplň údaj
E20: ='Rekapitulace stavby'!E14 -> Vyplň údaj | I20: DIČ: | J20: ='Rekapitulace stavby'!AN14 -> Vyplň údaj
D22: Projektant: | I22: IČ:
E23: PROMED Brno, spol. s r.o | I23: DIČ:
D25: Zpracovatel: | I25: IČ: | J25: =IF('Rekapitulace stavby'!AN19="","",'Rekapitulace stavby'!AN19)
E26: =IF('Rekapitulace stavby'!E20="","",'Rekapitulace stavby'!E20) | I26: DIČ: | J26: =IF('Rekapitulace stavby'!AN20="","",'Rekapitulace stavby'!AN20)
D28: Poznámka:
D32: Cena bez DPH | J32: =ROUND(J121, 2) -> 0
F34: Základ daně | I34: Sazba daně | J34: Výše daně
D35: DPH | E35: základní | F35: =ROUND((SUM(BE121:BE130)), 2) -> 0 | I35: 0.21 | J35: =ROUND(((SUM(BE121:BE130))*I35), 2) -> 0
E36: snížená | F36: =ROUND((SUM(BF121:BF130)), 2) -> 0 | I36: 0.15 | J36: =ROUND(((SUM(BF121:BF130))*I36), 2) -> 0
E37: zákl. přenesená | F37: =ROUND((SUM(BG121:BG130)), 2) -> 0 | I37: 0.21 | J37: =0 -> 0
E38: sníž. přenesená | F38: =ROUND((SUM(BH121:BH130)), 2) -> 0 | I38: 0.15 | J38: =0 -> 0
E39: nulová | F39: =ROUND((SUM(BI121:BI130)), 2) -> 0 | I39: 0 | J39: =0 -> 0
D41: Cena s DPH | G41: v | H41: CZK | J41: =SUM(J32:J39) -> 0
D50: Projektant | G50: Zpracovatel
D61: Datum a podpis: | F61: Razítko | G61: Datum a podpis: | J61: Razítko
D65: Objednavatel | G65: Uchazeč
D76: Datum a podpis: | F76: Razítko | G76: Datum a podpis: | J76: Razítko
C82: REKAPITULACE ČLENĚNÍ SOUPISU PRACÍ
C84: Stavba:
E85: =E7 -> NOVOSTAVBA SOCIÁLNÍCH BYTŮ NA PARC. Č. 789/2
C86: Objekt:
E87: UZN - UZNATELNÉ NÁKLADY
C88: Soupis:
E89: =E11 -> OST - VEDLEJŠÍ A OSTATNÍ NÁKLADY
C91: Místo: | F91: =F14 -> Protivanov, ul.Na Balkáně | I91: Datum: | J91: =IF(J14="","",J14) -> 11. 12. 2019
C93: Zadavatel: | F93: =E17 -> Městys Protivanov, Náměstí 32, 798 48 Protivanov | I93: Projektant: | J93: =E23 -> PROMED Brno, spol. s r.o
C94: Uchazeč: | F94: =IF(E20="","",E20) -> Vyplň údaj | I94: Zpracovatel: | J94: =E26
C96: Kód dílu - Popis | J96: Cena celkem [CZK]
C98: Náklady ze soupisu prací | J98: =J121 -> 0 | AU98: -1
D99: D1 - Ostatní náklady | J99: =J122 -> 0
C106: SOUPIS PRACÍ
C108: Stavba:
E109: =E7 -> NOVOSTAVBA SOCIÁLNÍCH BYTŮ NA PARC. Č. 789/2
C110: Objekt:
E111: UZN - UZNATELNÉ NÁKLADY
C112: Soupis:
E113: =E11 -> OST - VEDLEJŠÍ A OSTATNÍ NÁKLADY
C115: Místo: | F115: =F14 -> Protivanov, ul.Na Balkáně | I115: Datum: | J115: =IF(J14="","",J14) -> 11. 12. 2019
C117: Zadavatel: | F117: =E17 -> Městys Protivanov, Náměstí 32, 798 48 Protivanov | I117: Projektant: | J117: =E23 -> PROMED Brno, spol. s r.o
C118: Uchazeč: | F118: =IF(E20="","",E20) -> Vyplň údaj | I118: Zpracovatel: | J118: =E26
C120: PČ | D120: Typ | E120: Kód | F120: Popis | G120: MJ | H120: Množství | I120: J.cena [CZK] | J120: Cena celkem [CZK] | K120: Cenová soustava | N120: DPH | O120: J. Nh [h] | P120: Nh celkem [h] | Q120: J. hmotnost [t] | R120: Hmotnost celkem [t] | S120: J. suť [t] | T120: Suť Celkem [t]
C121: Náklady soupisu celkem | J121: =BK121 -> 0 | P121: =P122 -> 0 | R121: =R122 -> 0 | T121: =T122 -> 0 | AT121: D | AU121: -1 | BK121: =BK122 -> 0
D122: D | E122: D1 | F122: Ostatní náklady | J122: =BK122 -> 0 | P122: =SUM(P123:P130) -> 0 | R122: =SUM(R123:R130) -> 0 | T122: =SUM(T123:T130) -> 0 | AR122: 1 | AT122: D | AU122: 0 | AY122: ROZPOCET | BK122: =SUM(BK123:BK130) -> 0
C123: 1 | D123: K | E123: Pol294 | F123: Zařízení staveniště | G123: Soubor | H123: 1 | J123: =ROUND(I123*H123,2) -> 0 | N123: snížená | P123: =O123*H123 -> 0 | Q123: 0 | R123: =Q123*H123 -> 0 | S123: 0 | T123: =S123*H123 -> 0 | AR123: 4 | AT123: K | AU123: 1 | AY123: ROZPOCET | BE123: =IF(N123="základní",J123,0) -> 0 | BF123: =IF(N123="snížená",J123,0) -> 0 | BG123: =IF(N123="zákl. přenesená",J123,0) -> 0 | BH123: =IF(N123="sníž. přenesená",J123,0) -> 0 | BI123: =IF(N123="nulová",J123,0) -> 0 | BJ123: 2 | BK123: =ROUND(I123*H123,2) -> 0 | BL123: 4 | BM123: 2
C124: 2 | D124: K | E124: Pol295 | F124: Dopracování výrobní dokumentace | G124: soubor | H124: 1 | J124: =ROUND(I124*H124,2) -> 0 | N124: snížená | P124: =O124*H124 -> 0 | Q124: 0 | R124: =Q124*H124 -> 0 | S124: 0 | T124: =S124*H124 -> 0 | AR124: 4 | AT124: K | AU124: 1 | AY124: ROZPOCET | BE124: =IF(N124="základní",J124,0) -> 0 | BF124: =IF(N124="snížená",J124,0) -> 0 | BG124: =IF(N124="zákl. přenesená",J124,0) -> 0 | BH124: =IF(N124="sníž. přenesená",J124,0) -> 0 | BI124: =IF(N124="nulová",J124,0) -> 0 | BJ124: 2 | BK124: =ROUND(I124*H124,2) -> 0 | BL124: 4 | BM124: 4
C125: 3 | D125: K | E125: Pol296 | F125: Projektová dokumentace skutečného provedení | G125: soubor | H125: 1 | J125: =ROUND(I125*H125,2) -> 0 | N125: snížená | P125: =O125*H125 -> 0 | Q125: 0 | R125: =Q125*H125 -> 0 | S125: 0 | T125: =S125*H125 -> 0 | AR125: 4 | AT125: K | AU125: 1 | AY125: ROZPOCET | BE125: =IF(N125="základní",J125,0) -> 0 | BF125: =IF(N125="snížená",J125,0) -> 0 | BG125: =IF(N125="zákl. přenesená",J125,0) -> 0 | BH125: =IF(N125="sníž. přenesená",J125,0) -> 0 | BI125: =IF(N125="nulová",J125,0) -> 0 | BJ125: 2 | BK125: =ROUND(I125*H125,2) -> 0 | BL125: 4 | BM125: 6
