Workbook
Name CelkemObjekty: Stavba!$F$31
Name CisloStavby: Stavba!$D$5
Name dadresa: Stavba!$D$8
Name DIČ: Stavba!$K$8
Name dmisto: Stavba!$D$9
Name dpsc: Stavba!$C$9
Name IČO: Stavba!$K$7
Name NazevObjektu: Stavba!$C$29
Name NazevStavby: Stavba!$E$5
Name Objednatel: Stavba!$D$11
Name Objekt: Stavba!$B$29
Name odic: Stavba!$K$12
Name oico: Stavba!$K$11
Name omisto: Stavba!$D$13
Name onazev: Stavba!$D$12
Name opsc: Stavba!$C$13
Name SazbaDPH1: Stavba!$D$19
Name SazbaDPH2: Stavba!$D$21
Name SoucetDilu: Stavba!$F$146:$J$146
Name StavbaCelkem: Stavba!$H$31
Name Zhotovitel: Stavba!$D$7

Sheet Stavba
C2: Slepý rozpočet stavby | H2: Datum: | I2: =TODAY() -> 44013
C5: Stavba : | D5: 2020/12 | E5: RD se sociálními byty Študlov
C7: Objednatel : | H7: IČO :
H8: DIČ :
C11: Zhotovitel : | H11: IČO :
H12: DIČ :
C14: Za zhotovitele : | H14: Za objednatele :
C16: _______________ | H16: _______________
J18: Rozpočtové náklady
B19: Základ pro DPH | D19: 15 | E19: % | I19: =ROUND(G31,0) -> 0
B20: DPH | D20: =SazbaDPH1 -> 15 | E20: % | I20: =ROUND(I19*D20/100,0) -> 0
B21: Základ pro DPH | D21: 21 | E21: % | I21: =ROUND(H31,0) -> 0
B22: DPH | D22: =SazbaDPH2 -> 21 | E22: % | I22: =ROUND(I21*D21/100,0) -> 0
B23: Cena celkem za stavbu | I23: =SUM(I19:I22) -> 0
B27: Rekapitulace stavebních objektů a provozních souborů
B29: Číslo a název objektu / provozního souboru | F29: Cena celkem | G29: =CONCATENATE("Základ DPH ",SazbaDPH1," %") -> Základ DPH 15 % | H29: =CONCATENATE("Základ DPH ",SazbaDPH2," %") -> Základ DPH 21 % | I29: DPH celkem | J29: %
B30: 1 | C30: RD se sociálními byty Študlov | F30: =G30+H30+I30 -> 0 | G30: 0 | H30: 0 | I30: =(G30*SazbaDPH1)/100+(H30*SazbaDPH2)/100 -> 0 | J30: =IF(CelkemObjekty=0,"",F30/CelkemObjekty*100)
B31: Celkem za stavbu | F31: =SUM(F30:F30) -> 0 | G31: =SUM(G30:G30) -> 0 | H31: =SUM(H30:H30) -> 0 | I31: =SUM(I30:I30) -> 0 | J31: =IF(CelkemObjekty=0,"",F31/CelkemObjekty*100)
B35: Rekapitulace stavebních rozpočtů
B37: Číslo objektu | C37: Číslo a název rozpočtu | F37: Cena celkem | G37: =CONCATENATE("Základ DPH ",SazbaDPH1," %") -> Základ DPH 15 % | H37: =CONCATENATE("Základ DPH ",SazbaDPH2," %") -> Základ DPH 21 % | I37: DPH celkem | J37: %
B38: 1 | C38: 1 Stavební část | F38: =G38+H38+I38 -> 0 | G38: 0 | H38: 0 | I38: =(G38*SazbaDPH1)/100+(H38*SazbaDPH2)/100 -> 0 | J38: =IF(CelkemObjekty=0,"",F38/CelkemObjekty*100)
B39: 1 | C39: 2 Bourací práce | F39: =G39+H39+I39 -> 0 | G39: 0 | H39: 0 | I39: =(G39*SazbaDPH1)/100+(H39*SazbaDPH2)/100 -> 0 | J39: =IF(CelkemObjekty=0,"",F39/CelkemObjekty*100)
B40: 1 | C40: 3 ZTI | F40: =G40+H40+I40 -> 0 | G40: 0 | H40: 0 | I40: =(G40*SazbaDPH1)/100+(H40*SazbaDPH2)/100 -> 0 | J40: =IF(CelkemObjekty=0,"",F40/CelkemObjekty*100)
B41: 1 | C41: 4 UT | F41: =G41+H41+I41 -> 0 | G41: 0 | H41: 0 | I41: =(G41*SazbaDPH1)/100+(H41*SazbaDPH2)/100 -> 0 | J41: =IF(CelkemObjekty=0,"",F41/CelkemObjekty*100)
B42: 1 | C42: 5 elektroinstalace | F42: =G42+H42+I42 -> 0 | G42: 0 | H42: 0 | I42: =(G42*SazbaDPH1)/100+(H42*SazbaDPH2)/100 -> 0 | J42: =IF(CelkemObjekty=0,"",F42/CelkemObjekty*100)
B43: 1 | C43: 6 Přípojka plynu | F43: =G43+H43+I43 -> 0 | G43: 0 | H43: 0 | I43: =(G43*SazbaDPH1)/100+(H43*SazbaDPH2)/100 -> 0 | J43: =IF(CelkemObjekty=0,"",F43/CelkemObjekty*100)
B44: 1 | C44: 7 Přípojka vodovodu | F44: =G44+H44+I44 -> 0 | G44: 0 | H44: 0 | I44: =(G44*SazbaDPH1)/100+(H44*SazbaDPH2)/100 -> 0 | J44: =IF(CelkemObjekty=0,"",F44/CelkemObjekty*100)
B45: 1 | C45: 8 Dešťová kanalizace | F45: =G45+H45+I45 -> 0 | G45: 0 | H45: 0 | I45: =(G45*SazbaDPH1)/100+(H45*SazbaDPH2)/100 -> 0 | J45: =IF(CelkemObjekty=0,"",F45/CelkemObjekty*100)
B46: 1 | C46: 9 Přípojka splaškové kanalizace | F46: =G46+H46+I46 -> 0 | G46: 0 | H46: 0 | I46: =(G46*SazbaDPH1)/100+(H46*SazbaDPH2)/100 -> 0 | J46: =IF(CelkemObjekty=0,"",F46/CelkemObjekty*100)
B47: 1 | C47: 10 Čistírna odpadních vod | F47: =G47+H47+I47 -> 0 | G47: 0 | H47: 0 | I47: =(G47*SazbaDPH1)/100+(H47*SazbaDPH2)/100 -> 0 | J47: =IF(CelkemObjekty=0,"",F47/CelkemObjekty*100)
B48: Celkem za stavbu | F48: =SUM(F38:F47) -> 0 | G48: =SUM(G38:G47) -> 0 | H48: =SUM(H38:H47) -> 0 | I48: =SUM(I38:I47) -> 0 | J48: =IF(CelkemObjekty=0,"",F48/CelkemObjekty*100)
B53: Rekapitulace stavebních dílů
B55: Číslo a název dílu | E55: % | F55: HSV | G55: PSV | H55: Dodávka | I55: Montáž | J55: HZS
B56: 1 | C56: Zemní práce | E56: =IF(SUM(SoucetDilu)=0,"",SUM(F56:J56)/SUM(SoucetDilu)*100) | F56: 0 | G56: 0 | H56: 0 | I56: 0 | J56: 0
B57: 100 | C57: MONTÁŽNÍ PRÁCE | E57: =IF(SUM(SoucetDilu)=0,"",SUM(F57:J57)/SUM(SoucetDilu)*100) | F57: 0 | G57: 0 | H57: 0 | I57: 0 | J57: 0
B58: 102 | C58: PRŮRAZ CIHLOVÝM ZDIVEM | E58: =IF(SUM(SoucetDilu)=0,"",SUM(F58:J58)/SUM(SoucetDilu)*100) | F58: 0 | G58: 0 | H58: 0 | I58: 0 | J58: 0
B59: 105 | C59: PRŮRAZ BETONOVOU ZDÍ | E59: =IF(SUM(SoucetDilu)=0,"",SUM(F59:J59)/SUM(SoucetDilu)*100) | F59: 0 | G59: 0 | H59: 0 | I59: 0 | J59: 0
B60: 108 | C60: CIHELNEM DO PLOCHY 25 dm2 | E60: =IF(SUM(SoucetDilu)=0,"",SUM(F60:J60)/SUM(SoucetDilu)*100) | F60: 0 | G60: 0 | H60: 0 | I60: 0 | J60: 0
B61: 11 | C61: Přípravné a přidružené práce | E61: =IF(SUM(SoucetDilu)=0,"",SUM(F61:J61)/SUM(SoucetDilu)*100) | F61: 0 | G61: 0 | H61: 0 | I61: 0 | J61: 0
B62: 111 | C62: CIHELNEM PRO KRABICE | E62: =IF(SUM(SoucetDilu)=0,"",SUM(F62:J62)/SUM(SoucetDilu)*100) | F62: 0 | G62: 0 | H62: 0 | I62: 0 | J62: 0
...

Sheet 1 1 KL
A1: SLEPÝ ROZPOČET
A2: Rozpočet | C2: 1 | D2: Stavební část | F2: JKSO
A4: Objekt | F4: SKP
A5: 1 | C5: RD se sociálními byty Študlov | F5: Měrná jednotka
A6: Stavba | F6: Počet jednotek
A7: 2020/12 | C7: RD se sociálními byty Študlov | F7: Náklady na m.j. | G7: =IF(G6=0,,ROUND((F30+F32)/G6,1)) -> 0
A8: Projektant | F8: Typ rozpočtu
A9: Zpracovatel projektu
A10: Objednatel
A11: Dodavatel | F11: Zakázkové číslo
A12: Rozpočtoval | F12: Počet listů
A13: ROZPOČTOVÉ NÁKLADY
A14: Základní rozpočtové náklady | D14: Ostatní rozpočtové náklady
B15: HSV celkem | C15: ='1 1 Rek'!E39 -> 0 | D15: ='1 1 Rek'!A47 -> 0 | G15: ='1 1 Rek'!I47 -> 0
A16: Z | B16: PSV celkem | C16: ='1 1 Rek'!F39 -> 0
A17: R | B17: M práce celkem | C17: ='1 1 Rek'!H39 -> 0
A18: N | B18: M dodávky celkem | C18: ='1 1 Rek'!G39 -> 0
A19: ZRN celkem | C19: =SUM(C15:C18) -> 0
A21: HZS | C21: ='1 1 Rek'!I39 -> 0
A22: ZRN+HZS | C22: =C19+C21 -> 0 | D22: Ostatní náklady neuvedené | G22: =G23-SUM(G15:G21) -> 0
A23: ZRN+ost.náklady+HZS | C23: =C22+G23 -> 0 | D23: Ostatní náklady celkem | G23: ='1 1 Rek'!H45 -> 0
A24: Vypracoval | D24: Za zhotovitele | F24: Za objednatele
A25: Jméno : | D25: Jméno : | F25: Jméno :
A26: Datum : | D26: Datum : | F26: Datum :
A28: Podpis : | D28: Podpis: | F28: Podpis:
A30: Základ pro DPH | C30: 15 | D30: % | F30: =ROUND(C23-F32,0) -> 0
A31: DPH | C31: =C30 -> 15 | D31: % | F31: =ROUND(PRODUCT(F30,C31/100),1) -> 0
A32: Základ pro DPH | C32: 0 | D32: % | F32: 0
A33: DPH | C33: =C32 -> 0 | D33: % | F33: =ROUND(PRODUCT(F32,C33/100),1) -> 0
A34: CENA ZA OBJEKT CELKEM | F34: =CEILING(SUM(F30:F33),IF(SUM(F30:F33)>=0,1,-1)) -> 0
A36: Poznámka :

Sheet 1 1 Rek
A1: Stavba : | C1: 2020/12 RD se sociálními byty Študlov | G1: Rozpočet : | H1: 1
A2: Objekt : | C2: 1 RD se sociálními byty Študlov | G2: Stavební část
A4: REKAPITULACE STAVEBNÍCH DÍLŮ
B6: Stavební díl | E6: HSV | F6: PSV | G6: Dodávka | H6: Montáž | I6: HZS
A7: ='1 1 Pol'!B7 -> 1 | B7: ='1 1 Pol'!C7 -> Zemní práce | E7: ='1 1 Pol'!BA27 -> 0 | F7: ='1 1 Pol'!BB27 -> 0 | G7: ='1 1 Pol'!BC27 -> 0 | H7: ='1 1 Pol'!BD27 -> 0 | I7: ='1 1 Pol'!BE27 -> 0
A8: ='1 1 Pol'!B28 -> 2 | B8: ='1 1 Pol'!C28 -> Základy,zvláštní zakládání | E8: ='1 1 Pol'!BA51 -> 0 | F8: ='1 1 Pol'!BB51 -> 0 | G8: ='1 1 Pol'!BC51 -> 0 | H8: ='1 1 Pol'!BD51 -> 0 | I8: ='1 1 Pol'!BE51 -> 0
A9: ='1 1 Pol'!B52 -> 3 | B9: ='1 1 Pol'!C52 -> Svislé a kompletní konstrukce | E9: ='1 1 Pol'!BA113 -> 0 | F9: ='1 1 Pol'!BB113 -> 0 | G9: ='1 1 Pol'!BC113 -> 0 | H9: ='1 1 Pol'!BD113 -> 0 | I9: ='1 1 Pol'!BE113 -> 0
A10: ='1 1 Pol'!B114 -> 4 | B10: ='1 1 Pol'!C114 -> Vodorovné konstrukce | E10: ='1 1 Pol'!BA124 -> 0 | F10: ='1 1 Pol'!BB124 -> 0 | G10: ='1 1 Pol'!BC124 -> 0 | H10: ='1 1 Pol'!BD124 -> 0 | I10: ='1 1 Pol'!BE124 -> 0
A11: ='1 1 Pol'!B125 -> 5 | B11: ='1 1 Pol'!C125 -> Komunikace | E11: ='1 1 Pol'!BA133 -> 0 | F11: ='1 1 Pol'!BB133 -> 0 | G11: ='1 1 Pol'!BC133 -> 0 | H11: ='1 1 Pol'!BD133 -> 0 | I11: ='1 1 Pol'!BE133 -> 0
A12: ='1 1 Pol'!B134 -> 60 | B12: ='1 1 Pol'!C134 -> Úpravy povrchů, omítky | E12: ='1 1 Pol'!BA136 -> 0 | F12: ='1 1 Pol'!BB136 -> 0 | G12: ='1 1 Pol'!BC136 -> 0 | H12: ='1 1 Pol'!BD136 -> 0 | I12: ='1 1 Pol'!BE136 -> 0
A13: ='1 1 Pol'!B137 -> 61 | B13: ='1 1 Pol'!C137 -> Upravy povrchů vnitřní | E13: ='1 1 Pol'!BA172 -> 0 | F13: ='1 1 Pol'!BB172 -> 0 | G13: ='1 1 Pol'!BC172 -> 0 | H13: ='1 1 Pol'!BD172 -> 0 | I13: ='1 1 Pol'!BE172 -> 0
A14: ='1 1 Pol'!B173 -> 62 | B14: ='1 1 Pol'!C173 -> Upravy povrchů vnější | E14: ='1 1 Pol'!BA211 -> 0 | F14: ='1 1 Pol'!BB211 -> 0 | G14: ='1 1 Pol'!BC211 -> 0 | H14: ='1 1 Pol'!BD211 -> 0 | I14: ='1 1 Pol'!BE211 -> 0
A15: ='1 1 Pol'!B212 -> 63 | B15: ='1 1 Pol'!C212 -> Podlahy a podlahové konstrukce | E15: ='1 1 Pol'!BA220 -> 0 | F15: ='1 1 Pol'!BB220 -> 0 | G15: ='1 1 Pol'!BC220 -> 0 | H15: ='1 1 Pol'!BD220 -> 0 | I15: ='1 1 Pol'!BE220 -> 0
A16: ='1 1 Pol'!B221 -> 64 | B16: ='1 1 Pol'!C221 -> Výplně otvorů | E16: ='1 1 Pol'!BA227 -> 0 | F16: ='1 1 Pol'!BB227 -> 0 | G16: ='1 1 Pol'!BC227 -> 0 | H16: ='1 1 Pol'!BD227 -> 0 | I16: ='1 1 Pol'!BE227 -> 0
A17: ='1 1 Pol'!B228 -> 8 | B17: ='1 1 Pol'!C228 -> Trubní vedení | E17: ='1 1 Pol'!BA230 -> 0 | F17: ='1 1 Pol'!BB230 -> 0 | G17: ='1 1 Pol'!BC230 -> 0 | H17: ='1 1 Pol'!BD230 -> 0 | I17: ='1 1 Pol'!BE230 -> 0
A18: ='1 1 Pol'!B231 -> 94 | B18: ='1 1 Pol'!C231 -> Lešení a stavební výtahy | E18: ='1 1 Pol'!BA237 -> 0 | F18: ='1 1 Pol'!BB237 -> 0 | G18: ='1 1 Pol'!BC237 -> 0 | H18: ='1 1 Pol'!BD237 -> 0 | I18: ='1 1 Pol'!BE237 -> 0
A19: ='1 1 Pol'!B238 -> 95 | B19: ='1 1 Pol'!C238 -> Dokončovací kce na pozem.stav. | E19: ='1 1 Pol'!BA243 -> 0 | F19: ='1 1 Pol'!BB243 -> 0 | G19: ='1 1 Pol'!BC243 -> 0 | H19: ='1 1 Pol'!BD243 -> 0 | I19: ='1 1 Pol'!BE243 -> 0
A20: ='1 1 Pol'!B244 -> 96 | B20: ='1 1 Pol'!C244 -> Bourání konstrukcí | E20: ='1 1 Pol'!BA249 -> 0 | F20: ='1 1 Pol'!BB249 -> 0 | G20: ='1 1 Pol'!BC249 -> 0 | H20: ='1 1 Pol'!BD249 -> 0 | I20: ='1 1 Pol'!BE249 -> 0
A21: ='1 1 Pol'!B250 -> 97 | B21: ='1 1 Pol'!C250 -> Prorážení otvorů | E21: ='1 1 Pol'!BA253 -> 0 | F21: ='1 1 Pol'!BB253 -> 0 | G21: ='1 1 Pol'!BC253 -> 0 | H21: ='1 1 Pol'!BD253 -> 0 | I21: ='1 1 Pol'!BE253 -> 0
A22: ='1 1 Pol'!B254 -> 99 | B22: ='1 1 Pol'!C254 -> Staveništní přesun hmot | E22: ='1 1 Pol'!BA257 -> 0 | F22: ='1 1 Pol'!BB257 -> 0 | G22: ='1 1 Pol'!BC257 -> 0 | H22: ='1 1 Pol'!BD257 -> 0 | I22: ='1 1 Pol'!BE257 -> 0
A23: ='1 1 Pol'!B258 -> 711 | B23: ='1 1 Pol'!C258 -> Izolace proti vodě | E23: ='1 1 Pol'!BA264 -> 0 | F23: ='1 1 Pol'!BB264 -> 0 | G23: ='1 1 Pol'!BC264 -> 0 | H23: ='1 1 Pol'!BD264 -> 0 | I23: ='1 1 Pol'!BE264 -> 0
A24: ='1 1 Pol'!B265 -> 712 | B24: ='1 1 Pol'!C265 -> Živičné krytiny | E24: ='1 1 Pol'!BA277 -> 0 | F24: ='1 1 Pol'!BB277 -> 0 | G24: ='1 1 Pol'!BC277 -> 0 | H24: ='1 1 Pol'!BD277 -> 0 | I24: ='1 1 Pol'!BE277 -> 0
A25: ='1 1 Pol'!B278 -> 713 | B25: ='1 1 Pol'!C278 -> Izolace tepelné | E25: ='1 1 Pol'!BA301 -> 0 | F25: ='1 1 Pol'!BB301 -> 0 | G25: ='1 1 Pol'!BC301 -> 0 | H25: ='1 1 Pol'!BD301 -> 0 | I25: ='1 1 Pol'!BE301 -> 0
A26: ='1 1 Pol'!B302 -> 762 | B26: ='1 1 Pol'!C302 -> Konstrukce tesařské | E26: ='1 1 Pol'!BA334 -> 0 | F26: ='1 1 Pol'!BB334 -> 0 | G26: ='1 1 Pol'!BC334 -> 0 | H26: ='1 1 Pol'!BD334 -> 0 | I26: ='1 1 Pol'!BE334 -> 0
A27: ='1 1 Pol'!B335 -> 763 | B27: ='1 1 Pol'!C335 -> Dřevostavby | E27: ='1 1 Pol'!BA343 -> 0 | F27: ='1 1 Pol'!BB343 -> 0 | G27: ='1 1 Pol'!BC343 -> 0 | H27: ='1 1 Pol'!BD343 -> 0 | I27: ='1 1 Pol'!BE343 -> 0
A28: ='1 1 Pol'!B344 -> 764 | B28: ='1 1 Pol'!C344 -> Konstrukce klempířské | E28: ='1 1 Pol'!BA373 -> 0 | F28: ='1 1 Pol'!BB373 -> 0 | G28: ='1 1 Pol'!BC373 -> 0 | H28: ='1 1 Pol'!BD373 -> 0 | I28: ='1 1 Pol'!BE373 -> 0
A29: ='1 1 Pol'!B374 -> 766 | B29: ='1 1 Pol'!C374 -> Konstrukce truhlářské | E29: ='1 1 Pol'!BA417 -> 0 | F29: ='1 1 Pol'!BB417 -> 0 | G29: ='1 1 Pol'!BC417 -> 0 | H29: ='1 1 Pol'!BD417 -> 0 | I29: ='1 1 Pol'!BE417 -> 0
A30: ='1 1 Pol'!B418 -> 767 | B30: ='1 1 Pol'!C418 -> Konstrukce zámečnické | E30: ='1 1 Pol'!BA439 -> 0 | F30: ='1 1 Pol'!BB439 -> 0 | G30: ='1 1 Pol'!BC439 -> 0 | H30: ='1 1 Pol'!BD439 -> 0 | I30: ='1 1 Pol'!BE439 -> 0
A31: ='1 1 Pol'!B440 -> 771 | B31: ='1 1 Pol'!C440 -> Podlahy z dlaždic a obklady | E31: ='1 1 Pol'!BA481 -> 0 | F31: ='1 1 Pol'!BB481 -> 0 | G31: ='1 1 Pol'!BC481 -> 0 | H31: ='1 1 Pol'!BD481 -> 0 | I31: ='1 1 Pol'!BE481 -> 0
A32: ='1 1 Pol'!B482 -> 776 | B32: ='1 1 Pol'!C482 -> Podlahy povlakové | E32: ='1 1 Pol'!BA496 -> 0 | F32: ='1 1 Pol'!BB496 -> 0 | G32: ='1 1 Pol'!BC496 -> 0 | H32: ='1 1 Pol'!BD496 -> 0 | I32: ='1 1 Pol'!BE496 -> 0
A33: ='1 1 Pol'!B497 -> 782 | B33: ='1 1 Pol'!C497 -> Konstrukce z přírodního kamene | E33: ='1 1 Pol'!BA500 -> 0 | F33: ='1 1 Pol'!BB500 -> 0 | G33: ='1 1 Pol'!BC500 -> 0 | H33: ='1 1 Pol'!BD500 -> 0 | I33: ='1 1 Pol'!BE500 -> 0
A34: ='1 1 Pol'!B501 -> 783 | B34: ='1 1 Pol'!C501 -> Nátěry | E34: ='1 1 Pol'!BA510 -> 0 | F34: ='1 1 Pol'!BB510 -> 0 | G34: ='1 1 Pol'!BC510 -> 0 | H34: ='1 1 Pol'!BD510 -> 0 | I34: ='1 1 Pol'!BE510 -> 0
A35: ='1 1 Pol'!B511 -> 784 | B35: ='1 1 Pol'!C511 -> Malby | E35: ='1 1 Pol'!BA522 -> 0 | F35: ='1 1 Pol'!BB522 -> 0 | G35: ='1 1 Pol'!BC522 -> 0 | H35: ='1 1 Pol'!BD522 -> 0 | I35: ='1 1 Pol'!BE522 -> 0
A36: ='1 1 Pol'!B523 -> M22 | B36: ='1 1 Pol'!C523 -> Montáž sdělovací a zabezp.tech | E36: ='1 1 Pol'!BA525 -> 0 | F36: ='1 1 Pol'!BB525 -> 0 | G36: ='1 1 Pol'!BC525 -> 0 | H36: ='1 1 Pol'!BD525 -> 0 | I36: ='1 1 Pol'!BE525 -> 0
A37: ='1 1 Pol'!B526 -> M46 | B37: ='1 1 Pol'!C526 -> Zemní práce při montážích | E37: ='1 1 Pol'!BA528 -> 0 | F37: ='1 1 Pol'!BB528 -> 0 | G37: ='1 1 Pol'!BC528 -> 0 | H37: ='1 1 Pol'!BD528 -> 0 | I37: ='1 1 Pol'!BE528 -> 0
A38: ='1 1 Pol'!B529 -> VN | B38: ='1 1 Pol'!C529 -> Vedlejší náklady | E38: ='1 1 Pol'!BA538 -> 0 | F38: ='1 1 Pol'!BB538 -> 0 | G38: ='1 1 Pol'!BC538 -> 0 | H38: ='1 1 Pol'!BD538 -> 0 | I38: ='1 1 Pol'!BE538 -> 0
B39: CELKEM OBJEKT | E39: =SUM(E7:E38) -> 0 | F39: =SUM(F7:F38) -> 0 | G39: =SUM(G7:G38) -> 0 | H39: =SUM(H7:H38) -> 0 | I39: =SUM(I7:I38) -> 0
A41: VEDLEJŠÍ ROZPOČTOVÉ NÁKLADY
A43: Název VRN | E43: Kč | F43: % | G43: Základna | I43: Kč
G44: =CHOOSE(BA44+1,E39+F39,E39+F39+H39,E39+F39+G39+H39,E39,F39,H39,G39,H39+G39,0) -> 0 | I44: =E44+F44*G44/100 -> 0 | BA44: 8
...

Sheet 1 1 Pol
A3: Stavba : | C3: 2020/12 RD se sociálními byty Študlov | E3: Rozpočet: | F3: ='1 1 Rek'!H1 -> 1
A4: Objekt : | C4: 1 RD se sociálními byty Študlov | E4: ='1 1 Rek'!G2 -> Stavební část
A6: P.č. | B6: Číslo položky | C6: Název položky | D6: MJ | E6: množství | F6: cena / MJ | G6: celkem (Kč) | H6: Jednotková hmotnost | I6: Celková hmotnost | J6: Jednotková dem.hmot. | K6: Celková dem.hmot.
A7: Díl: | B7: 1 | C7: Zemní práce | O7: 1
A8: 1 | B8: 111200001RA0 | C8: Odstranění křovin a stromů do 100 mm, spálení | D8: m2 | E8: 45 | F8: 0 | G8: =E8*F8 -> 0 | H8: 0 | I8: =E8*H8 -> 0 | J8: 0 | K8: =E8*J8 -> 0 | O8: 2 | AA8: 2 | AB8: 1 | AC8: 1 | AZ8: 1 | BA8: =IF(AZ8=1,G8,0) -> 0 | BB8: =IF(AZ8=2,G8,0) -> 0 | BC8: =IF(AZ8=3,G8,0) -> 0 | BD8: =IF(AZ8=4,G8,0) -> 0 | BE8: =IF(AZ8=5,G8,0) -> 0 | CA8: 2 | CB8: 1
A9: 2 | B9: 162201401R00 | C9: Vod.přemístění větví listnatých, do D 30 cm do 1000 m | D9: kus | E9: 50 | F9: 0 | G9: =E9*F9 -> 0 | H9: 0 | I9: =E9*H9 -> 0 | J9: 0 | K9: =E9*J9 -> 0 | O9: 2 | AA9: 1 | AB9: 1 | AC9: 1 | AZ9: 1 | BA9: =IF(AZ9=1,G9,0) -> 0 | BB9: =IF(AZ9=2,G9,0) -> 0 | BC9: =IF(AZ9=3,G9,0) -> 0 | BD9: =IF(AZ9=4,G9,0) -> 0 | BE9: =IF(AZ9=5,G9,0) -> 0 | CA9: 1 | CB9: 1
A10: 3 | B10: 132200010RA0 | C10: Hloubení nezapaž. rýh šířky do 60 cm v hornině 1-4 | D10: m3 | E10: 3.2165 | F10: 0 | G10: =E10*F10 -> 0 | H10: 0 | I10: =E10*H10 -> 0 | J10: 0 | K10: =E10*J10 -> 0 | O10: 2 | AA10: 2 | AB10: 1 | AC10: 1 | AZ10: 1 | BA10: =IF(AZ10=1,G10,0) -> 0 | BB10: =IF(AZ10=2,G10,0) -> 0 | BC10: =IF(AZ10=3,G10,0) -> 0 | BD10: =IF(AZ10=4,G10,0) -> 0 | BE10: =IF(AZ10=5,G10,0) -> 0 | CA10: 2 | CB10: 1
C11: op.zed , 02:2,13*0,65 | E11: 1.3845 | M11: op.zed , 02:2,13*0,65
C12: zadního zákl. závětří:2*0,6*0,6*0,6 | E12: 0.432 | M12: zadního zákl. závětří:2*0,6*0,6*0,6
C13: op.zed, 01:7*0,2 | E13: 1.4 | M13: op.zed, 01:7*0,2
A14: 4 | B14: 133201101R00 | C14: Hloubení šachet v hor.3 do 100 m3 | D14: m3 | E14: 2.0779 | F14: 0 | G14: =E14*F14 -> 0 | H14: 0 | I14: =E14*H14 -> 0 | J14: 0 | K14: =E14*J14 -> 0 | O14: 2 | AA14: 1 | AB14: 1 | AC14: 1 | AZ14: 1 | BA14: =IF(AZ14=1,G14,0) -> 0 | BB14: =IF(AZ14=2,G14,0) -> 0 | BC14: =IF(AZ14=3,G14,0) -> 0 | BD14: =IF(AZ14=4,G14,0) -> 0 | BE14: =IF(AZ14=5,G14,0) -> 0 | CA14: 1 | CB14: 1
C15: STÁNÍ PRO AUTOMOBILY -patky gar.stání:5*0,6*0,6*0,78 | E15: 1.404 | M15: STÁNÍ PRO AUTOMOBILY -patky gar.stání:5*0,6*0,6*0,78
C16: 3*0,6*0,48*0,78 | E16: 0.6739 | M16: 3*0,6*0,48*0,78
A17: 5 | B17: 122201101R00 | C17: Odkopávky nezapažené v hor. 3 do 100 m3 | D17: m3 | E17: 85.2175 | F17: 0 | G17: =E17*F17 -> 0 | H17: 0 | I17: =E17*H17 -> 0 | J17: 0 | K17: =E17*J17 -> 0 | O17: 2 | AA17: 1 | AB17: 1 | AC17: 1 | AZ17: 1 | BA17: =IF(AZ17=1,G17,0) -> 0 | BB17: =IF(AZ17=2,G17,0) -> 0 | BC17: =IF(AZ17=3,G17,0) -> 0 | BD17: =IF(AZ17=4,G17,0) -> 0 | BE17: =IF(AZ17=5,G17,0) -> 0 | CA17: 1 | CB17: 1
C18: chodník:38,47*0,25 | E18: 9.6175 | M18: chodník:38,47*0,25
C19: HTÚ opěrná zed:54*0,5 | E19: 27 | M19: HTÚ opěrná zed:54*0,5
C20: Garážové stání:36*1,1 | E20: 39.6 | M20: Garážové stání:36*1,1
C21: HTÚ svahu:18*0,5 | E21: 9 | M21: HTÚ svahu:18*0,5
A22: 6 | B22: 162100010RA0 | C22: Vodorovné přemístění výkopku | D22: m3 | E22: 85.21 | F22: 0 | G22: =E22*F22 -> 0 | H22: 0 | I22: =E22*H22 -> 0 | J22: 0 | K22: =E22*J22 -> 0 | O22: 2 | AA22: 2 | AB22: 1 | AC22: 1 | AZ22: 1 | BA22: =IF(AZ22=1,G22,0) -> 0 | BB22: =IF(AZ22=2,G22,0) -> 0 | BC22: =IF(AZ22=3,G22,0) -> 0 | BD22: =IF(AZ22=4,G22,0) -> 0 | BE22: =IF(AZ22=5,G22,0) -> 0 | CA22: 2 | CB22: 1
A23: 7 | B23: 162100010RAC | C23: Vodorovné přemístění výkopku, příplatek za každých dalších 10 km | D23: m3 | E23: 85.21 | F23: 0 | G23: =E23*F23 -> 0 | H23: 0 | I23: =E23*H23 -> 0 | J23: 0 | K23: =E23*J23 -> 0 | O23: 2 | AA23: 2 | AB23: 1 | AC23: 1 | AZ23: 1 | BA23: =IF(AZ23=1,G23,0) -> 0 | BB23: =IF(AZ23=2,G23,0) -> 0 | BC23: =IF(AZ23=3,G23,0) -> 0 | BD23: =IF(AZ23=4,G23,0) -> 0 | BE23: =IF(AZ23=5,G23,0) -> 0 | CA23: 2 | CB23: 1
A24: 8 | B24: 181101102R00 | C24: Úprava pláně v zářezech v hor. 1-4, se zhutněním, plocha vjezdu a stání aut | D24: m2 | E24: 123.11 | F24: 0 | G24: =E24*F24 -> 0 | H24: 0 | I24: =E24*H24 -> 0 | J24: 0 | K24: =E24*J24 -> 0 | O24: 2 | AA24: 1 | AB24: 1 | AC24: 1 | AZ24: 1 | BA24: =IF(AZ24=1,G24,0) -> 0 | BB24: =IF(AZ24=2,G24,0) -> 0 | BC24: =IF(AZ24=3,G24,0) -> 0 | BD24: =IF(AZ24=4,G24,0) -> 0 | BE24: =IF(AZ24=5,G24,0) -> 0 | CA24: 1 | CB24: 1
A25: 9 | B25: 181101101R00 | C25: Úprava pláně v zářezech v hor. 1-4, bez zhutnění, svah za přístřeškem+prostor před vstupem | D25: m2 | E25: 68 | F25: 0 | G25: =E25*F25 -> 0 | H25: 0 | I25: =E25*H25 -> 0 | J25: 0 | K25: =E25*J25 -> 0 | O25: 2 | AA25: 1 | AB25: 1 | AC25: 1 | AZ25: 1 | BA25: =IF(AZ25=1,G25,0) -> 0 | BB25: =IF(AZ25=2,G25,0) -> 0 | BC25: =IF(AZ25=3,G25,0) -> 0 | BD25: =IF(AZ25=4,G25,0) -> 0 | BE25: =IF(AZ25=5,G25,0) -> 0 | CA25: 1 | CB25: 1
A26: 10 | B26: 199000002R00 | C26: Poplatek za skládku horniny 1- 4 | D26: m3 | E26: 85.21 | F26: 0 | G26: =E26*F26 -> 0 | H26: 0 | I26: =E26*H26 -> 0 | J26: 0 | K26: =E26*J26 -> 0 | O26: 2 | AA26: 1 | AB26: 1 | AC26: 1 | AZ26: 1 | BA26: =IF(AZ26=1,G26,0) -> 0 | BB26: =IF(AZ26=2,G26,0) -> 0 | BC26: =IF(AZ26=3,G26,0) -> 0 | BD26: =IF(AZ26=4,G26,0) -> 0 | BE26: =IF(AZ26=5,G26,0) -> 0 | CA26: 1 | CB26: 1
B27: Celkem za | C27: 1 Zemní práce | G27: =SUM(G7:G26) -> 0 | I27: =SUM(I7:I26) -> 0 | K27: =SUM(K7:K26) -> 0 | O27: 4 | BA27: =SUM(BA7:BA26) -> 0 | BB27: =SUM(BB7:BB26) -> 0 | BC27: =SUM(BC7:BC26) -> 0 | BD27: =SUM(BD7:BD26) -> 0 | BE27: =SUM(BE7:BE26) -> 0
A28: Díl: | B28: 2 | C28: Základy,zvláštní zakládání | O28: 1
A29: 11 | B29: 215901101RT5 | C29: Zhutnění podloží z hornin nesoudržných do 92% PS, vibrační deskou-chodník okolo objektu | D29: m2 | E29: 51.77 | F29: 0 | G29: =E29*F29 -> 0 | H29: 0 | I29: =E29*H29 -> 0 | J29: 0 | K29: =E29*J29 -> 0 | O29: 2 | AA29: 1 | AB29: 1 | AC29: 1 | AZ29: 1 | BA29: =IF(AZ29=1,G29,0) -> 0 | BB29: =IF(AZ29=2,G29,0) -> 0 | BC29: =IF(AZ29=3,G29,0) -> 0 | BD29: =IF(AZ29=4,G29,0) -> 0 | BE29: =IF(AZ29=5,G29,0) -> 0 | CA29: 1 | CB29: 1
A30: 12 | B30: 273321311R00 | C30: Železobeton základových desek C 16/20 | D30: m3 | E30: 2.15 | F30: 0 | G30: =E30*F30 -> 0 | H30: 0 | I30: =E30*H30 -> 0 | J30: 0 | K30: =E30*J30 -> 0 | O30: 2 | AA30: 1 | AB30: 1 | AC30: 1 | AZ30: 1 | BA30: =IF(AZ30=1,G30,0) -> 0 | BB30: =IF(AZ30=2,G30,0) -> 0 | BC30: =IF(AZ30=3,G30,0) -> 0 | BD30: =IF(AZ30=4,G30,0) -> 0 | BE30: =IF(AZ30=5,G30,0) -> 0 | CA30: 1 | CB30: 1
C31: deska závětří zadního vstupu:6*0,1 | E31: 0.6 | M31: deska závětří zadního vstupu:6*0,1
C32: deska plochy vstupu:15,5*0,1 | E32: 1.55 | M32: deska plochy vstupu:15,5*0,1
A33: 13 | B33: 273361921RT4 | C33: Výztuž základových desek ze svařovaných sítí, průměr drátu 6,0, oka 100/100 mm KH30 | D33: t | E33: 0.068 | F33: 0 | G33: =E33*F33 -> 0 | H33: 0 | I33: =E33*H33 -> 0 | J33: 0 | K33: =E33*J33 -> 0 | O33: 2 | AA33: 1 | AB33: 1 | AC33: 1 | AZ33: 1 | BA33: =IF(AZ33=1,G33,0) -> 0 | BB33: =IF(AZ33=2,G33,0) -> 0 | BC33: =IF(AZ33=3,G33,0) -> 0 | BD33: =IF(AZ33=4,G33,0) -> 0 | BE33: =IF(AZ33=5,G33,0) -> 0 | CA33: 1 | CB33: 1
A34: 14 | B34: 271100010RA0 | C34: Polštář pod základy ze štěrkopísku | D34: m3 | E34: 1.4359 | F34: 0 | G34: =E34*F34 -> 0 | H34: 0 | I34: =E34*H34 -> 0 | J34: 0 | K34: =E34*J34 -> 0 | O34: 2 | AA34: 2 | AB34: 1 | AC34: 1 | AZ34: 1 | BA34: =IF(AZ34=1,G34,0) -> 0 | BB34: =IF(AZ34=2,G34,0) -> 0 | BC34: =IF(AZ34=3,G34,0) -> 0 | BD34: =IF(AZ34=4,G34,0) -> 0 | BE34: =IF(AZ34=5,G34,0) -> 0 | CA34: 2 | CB34: 1
C35: základ přístup.chodníku:8,25*0,2*0,15 | E35: 0.2475 | M35: základ přístup.chodníku:8,25*0,2*0,15
C36: patky:10*0,6*0,6*0,15 | E36: 0.54 | M36: patky:10*0,6*0,6*0,15
C37: základ opěrné zdi:6,65*0,65*0,15 | E37: 0.6484 | M37: základ opěrné zdi:6,65*0,65*0,15
A38: 15 | B38: 274351215R00 | C38: Bednění stěn základových pasů - zřízení | D38: m2 | E38: 5 | F38: 0 | G38: =E38*F38 -> 0 | H38: 0 | I38: =E38*H38 -> 0 | J38: 0 | K38: =E38*J38 -> 0 | O38: 2 | AA38: 1 | AB38: 0 | AC38: 0 | AZ38: 1 | BA38: =IF(AZ38=1,G38,0) -> 0 | BB38: =IF(AZ38=2,G38,0) -> 0 | BC38: =IF(AZ38=3,G38,0) -> 0 | BD38: =IF(AZ38=4,G38,0) -> 0 | BE38: =IF(AZ38=5,G38,0) -> 0 | CA38: 1 | CB38: 0
C39: op.stěna 01:5 | E39: 5 | M39: op.stěna 01:5
A40: 16 | B40: 274351292R00 | C40: Odstranění bednění stěn základových pasů | D40: m2 | E40: 5 | F40: 0 | G40: =E40*F40 -> 0 | H40: 0 | I40: =E40*H40 -> 0 | J40: 0 | K40: =E40*J40 -> 0 | O40: 2 | AA40: 1 | AB40: 1 | AC40: 1 | AZ40: 1 | BA40: =IF(AZ40=1,G40,0) -> 0 | BB40: =IF(AZ40=2,G40,0) -> 0 | BC40: =IF(AZ40=3,G40,0) -> 0 | BD40: =IF(AZ40=4,G40,0) -> 0 | BE40: =IF(AZ40=5,G40,0) -> 0 | CA40: 1 | CB40: 1
A41: 17 | B41: 274361921R00 | C41: Výztuž základových pasů ze svařovaných sítí | D41: t | E41: 0.097 | F41: 0 | G41: =E41*F41 -> 0 | H41: 0 | I41: =E41*H41 -> 0 | J41: 0 | K41: =E41*J41 -> 0 | O41: 2 | AA41: 1 | AB41: 1 | AC41: 1 | AZ41: 1 | BA41: =IF(AZ41=1,G41,0) -> 0 | BB41: =IF(AZ41=2,G41,0) -> 0 | BC41: =IF(AZ41=3,G41,0) -> 0 | BD41: =IF(AZ41=4,G41,0) -> 0 | BE41: =IF(AZ41=5,G41,0) -> 0 | CA41: 1 | CB41: 1
A42: 18 | B42: 274361821R00 | C42: Výztuž základ. pasů z betonářské oceli 10505 (R) | D42: t | E42: 0.035 | F42: 0 | G42: =E42*F42 -> 0 | H42: 0 | I42: =E42*H42 -> 0 | J42: 0 | K42: =E42*J42 -> 0 | O42: 2 | AA42: 1 | AB42: 1 | AC42: 1 | AZ42: 1 | BA42: =IF(AZ42=1,G42,0) -> 0 | BB42: =IF(AZ42=2,G42,0) -> 0 | BC42: =IF(AZ42=3,G42,0) -> 0 | BD42: =IF(AZ42=4,G42,0) -> 0 | BE42: =IF(AZ42=5,G42,0) -> 0 | CA42: 1 | CB42: 1
A43: 19 | B43: 275321311R00 | C43: Železobeton základových patek C 16/20 | D43: m3 | E43: 2.304 | F43: 0 | G43: =E43*F43 -> 0 | H43: 0 | I43: =E43*H43 -> 0 | J43: 0 | K43: =E43*J43 -> 0 | O43: 2 | AA43: 1 | AB43: 1 | AC43: 1 | AZ43: 1 | BA43: =IF(AZ43=1,G43,0) -> 0 | BB43: =IF(AZ43=2,G43,0) -> 0 | BC43: =IF(AZ43=3,G43,0) -> 0 | BD43: =IF(AZ43=4,G43,0) -> 0 | BE43: =IF(AZ43=5,G43,0) -> 0 | CA43: 1 | CB43: 1
...

Sheet 1 2 KL
A1: SLEPÝ ROZPOČET
A2: Rozpočet | C2: 2 | D2: Bourací práce | F2: JKSO
A4: Objekt | F4: SKP
A5: 1 | C5: RD se sociálními byty Študlov | F5: Měrná jednotka
A6: Stavba | F6: Počet jednotek
A7: 2020/12 | C7: RD se sociálními byty Študlov | F7: Náklady na m.j. | G7: =IF(G6=0,,ROUND((F30+F32)/G6,1)) -> 0
A8: Projektant | F8: Typ rozpočtu
A9: Zpracovatel projektu
A10: Objednatel
A11: Dodavatel | F11: Zakázkové číslo
A12: Rozpočtoval | F12: Počet listů
A13: ROZPOČTOVÉ NÁKLADY
A14: Základní rozpočtové náklady | D14: Ostatní rozpočtové náklady
B15: HSV celkem | C15: ='1 2 Rek'!E30 -> 0 | D15: ='1 2 Rek'!A38 -> 0 | G15: ='1 2 Rek'!I38 -> 0
A16: Z | B16: PSV celkem | C16: ='1 2 Rek'!F30 -> 0
A17: R | B17: M práce celkem | C17: ='1 2 Rek'!H30 -> 0
A18: N | B18: M dodávky celkem | C18: ='1 2 Rek'!G30 -> 0
A19: ZRN celkem | C19: =SUM(C15:C18) -> 0
A21: HZS | C21: ='1 2 Rek'!I30 -> 0
A22: ZRN+HZS | C22: =C19+C21 -> 0 | D22: Ostatní náklady neuvedené | G22: =G23-SUM(G15:G21) -> 0
A23: ZRN+ost.náklady+HZS | C23: =C22+G23 -> 0 | D23: Ostatní náklady celkem | G23: ='1 2 Rek'!H36 -> 0
A24: Vypracoval | D24: Za zhotovitele | F24: Za objednatele
A25: Jméno : | D25: Jméno : | F25: Jméno :
A26: Datum : | D26: Datum : | F26: Datum :
A28: Podpis : | D28: Podpis: | F28: Podpis:
A30: Základ pro DPH | C30: 15 | D30: % | F30: =ROUND(C23-F32,0) -> 0
A31: DPH | C31: =C30 -> 15 | D31: % | F31: =ROUND(PRODUCT(F30,C31/100),1) -> 0
A32: Základ pro DPH | C32: 0 | D32: % | F32: 0
A33: DPH | C33: =C32 -> 0 | D33: % | F33: =ROUND(PRODUCT(F32,C33/100),1) -> 0
A34: CENA ZA OBJEKT CELKEM | F34: =CEILING(SUM(F30:F33),IF(SUM(F30:F33)>=0,1,-1)) -> 0
A36: Poznámka :

Sheet 1 2 Rek
A1: Stavba : | C1: 2020/12 RD se sociálními byty Študlov | G1: Rozpočet : | H1: 2
A2: Objekt : | C2: 1 RD se sociálními byty Študlov | G2: Bourací práce
A4: REKAPITULACE STAVEBNÍCH DÍLŮ
B6: Stavební díl | E6: HSV | F6: PSV | G6: Dodávka | H6: Montáž | I6: HZS
A7: ='1 2 Pol'!B7 -> 1 | B7: ='1 2 Pol'!C7 -> Zemní práce | E7: ='1 2 Pol'!BA19 -> 0 | F7: ='1 2 Pol'!BB19 -> 0 | G7: ='1 2 Pol'!BC19 -> 0 | H7: ='1 2 Pol'!BD19 -> 0 | I7: ='1 2 Pol'!BE19 -> 0
A8: ='1 2 Pol'!B20 -> 96 | B8: ='1 2 Pol'!C20 -> Bourání konstrukcí | E8: ='1 2 Pol'!BA58 -> 0 | F8: ='1 2 Pol'!BB58 -> 0 | G8: ='1 2 Pol'!BC58 -> 0 | H8: ='1 2 Pol'!BD58 -> 0 | I8: ='1 2 Pol'!BE58 -> 0
A9: ='1 2 Pol'!B59 -> 97 | B9: ='1 2 Pol'!C59 -> Prorážení otvorů | E9: ='1 2 Pol'!BA78 -> 0 | F9: ='1 2 Pol'!BB78 -> 0 | G9: ='1 2 Pol'!BC78 -> 0 | H9: ='1 2 Pol'!BD78 -> 0 | I9: ='1 2 Pol'!BE78 -> 0
A10: ='1 2 Pol'!B79 -> 98 | B10: ='1 2 Pol'!C79 -> Demolice | E10: ='1 2 Pol'!BA82 -> 0 | F10: ='1 2 Pol'!BB82 -> 0 | G10: ='1 2 Pol'!BC82 -> 0 | H10: ='1 2 Pol'!BD82 -> 0 | I10: ='1 2 Pol'!BE82 -> 0
A11: ='1 2 Pol'!B83 -> 711 | B11: ='1 2 Pol'!C83 -> Izolace proti vodě | E11: ='1 2 Pol'!BA85 -> 0 | F11: ='1 2 Pol'!BB85 -> 0 | G11: ='1 2 Pol'!BC85 -> 0 | H11: ='1 2 Pol'!BD85 -> 0 | I11: ='1 2 Pol'!BE85 -> 0
A12: ='1 2 Pol'!B86 -> 713 | B12: ='1 2 Pol'!C86 -> Izolace tepelné | E12: ='1 2 Pol'!BA88 -> 0 | F12: ='1 2 Pol'!BB88 -> 0 | G12: ='1 2 Pol'!BC88 -> 0 | H12: ='1 2 Pol'!BD88 -> 0 | I12: ='1 2 Pol'!BE88 -> 0
A13: ='1 2 Pol'!B89 -> 721 | B13: ='1 2 Pol'!C89 -> Vnitřní kanalizace | E13: ='1 2 Pol'!BA92 -> 0 | F13: ='1 2 Pol'!BB92 -> 0 | G13: ='1 2 Pol'!BC92 -> 0 | H13: ='1 2 Pol'!BD92 -> 0 | I13: ='1 2 Pol'!BE92 -> 0
A14: ='1 2 Pol'!B93 -> 722 | B14: ='1 2 Pol'!C93 -> Vnitřní vodovod | E14: ='1 2 Pol'!BA95 -> 0 | F14: ='1 2 Pol'!BB95 -> 0 | G14: ='1 2 Pol'!BC95 -> 0 | H14: ='1 2 Pol'!BD95 -> 0 | I14: ='1 2 Pol'!BE95 -> 0
A15: ='1 2 Pol'!B96 -> 725 | B15: ='1 2 Pol'!C96 -> Zařizovací předměty | E15: ='1 2 Pol'!BA100 -> 0 | F15: ='1 2 Pol'!BB100 -> 0 | G15: ='1 2 Pol'!BC100 -> 0 | H15: ='1 2 Pol'!BD100 -> 0 | I15: ='1 2 Pol'!BE100 -> 0
A16: ='1 2 Pol'!B101 -> 731 | B16: ='1 2 Pol'!C101 -> Kotelny | E16: ='1 2 Pol'!BA104 -> 0 | F16: ='1 2 Pol'!BB104 -> 0 | G16: ='1 2 Pol'!BC104 -> 0 | H16: ='1 2 Pol'!BD104 -> 0 | I16: ='1 2 Pol'!BE104 -> 0
A17: ='1 2 Pol'!B105 -> 732 | B17: ='1 2 Pol'!C105 -> Strojovny | E17: ='1 2 Pol'!BA107 -> 0 | F17: ='1 2 Pol'!BB107 -> 0 | G17: ='1 2 Pol'!BC107 -> 0 | H17: ='1 2 Pol'!BD107 -> 0 | I17: ='1 2 Pol'!BE107 -> 0
A18: ='1 2 Pol'!B108 -> 733 | B18: ='1 2 Pol'!C108 -> Rozvod potrubí | E18: ='1 2 Pol'!BA111 -> 0 | F18: ='1 2 Pol'!BB111 -> 0 | G18: ='1 2 Pol'!BC111 -> 0 | H18: ='1 2 Pol'!BD111 -> 0 | I18: ='1 2 Pol'!BE111 -> 0
A19: ='1 2 Pol'!B112 -> 735 | B19: ='1 2 Pol'!C112 -> Otopná tělesa | E19: ='1 2 Pol'!BA114 -> 0 | F19: ='1 2 Pol'!BB114 -> 0 | G19: ='1 2 Pol'!BC114 -> 0 | H19: ='1 2 Pol'!BD114 -> 0 | I19: ='1 2 Pol'!BE114 -> 0
A20: ='1 2 Pol'!B115 -> 762 | B20: ='1 2 Pol'!C115 -> Konstrukce tesařské | E20: ='1 2 Pol'!BA118 -> 0 | F20: ='1 2 Pol'!BB118 -> 0 | G20: ='1 2 Pol'!BC118 -> 0 | H20: ='1 2 Pol'!BD118 -> 0 | I20: ='1 2 Pol'!BE118 -> 0
A21: ='1 2 Pol'!B119 -> 764 | B21: ='1 2 Pol'!C119 -> Konstrukce klempířské | E21: ='1 2 Pol'!BA124 -> 0 | F21: ='1 2 Pol'!BB124 -> 0 | G21: ='1 2 Pol'!BC124 -> 0 | H21: ='1 2 Pol'!BD124 -> 0 | I21: ='1 2 Pol'!BE124 -> 0
A22: ='1 2 Pol'!B125 -> 766 | B22: ='1 2 Pol'!C125 -> Konstrukce truhlářské | E22: ='1 2 Pol'!BA136 -> 0 | F22: ='1 2 Pol'!BB136 -> 0 | G22: ='1 2 Pol'!BC136 -> 0 | H22: ='1 2 Pol'!BD136 -> 0 | I22: ='1 2 Pol'!BE136 -> 0
A23: ='1 2 Pol'!B137 -> 767 | B23: ='1 2 Pol'!C137 -> Konstrukce zámečnické | E23: ='1 2 Pol'!BA146 -> 0 | F23: ='1 2 Pol'!BB146 -> 0 | G23: ='1 2 Pol'!BC146 -> 0 | H23: ='1 2 Pol'!BD146 -> 0 | I23: ='1 2 Pol'!BE146 -> 0
A24: ='1 2 Pol'!B147 -> 771 | B24: ='1 2 Pol'!C147 -> Podlahy z dlaždic a obklady | E24: ='1 2 Pol'!BA150 -> 0 | F24: ='1 2 Pol'!BB150 -> 0 | G24: ='1 2 Pol'!BC150 -> 0 | H24: ='1 2 Pol'!BD150 -> 0 | I24: ='1 2 Pol'!BE150 -> 0
A25: ='1 2 Pol'!B151 -> 775 | B25: ='1 2 Pol'!C151 -> Podlahy vlysové a parketové | E25: ='1 2 Pol'!BA153 -> 0 | F25: ='1 2 Pol'!BB153 -> 0 | G25: ='1 2 Pol'!BC153 -> 0 | H25: ='1 2 Pol'!BD153 -> 0 | I25: ='1 2 Pol'!BE153 -> 0
A26: ='1 2 Pol'!B154 -> 776 | B26: ='1 2 Pol'!C154 -> Podlahy povlakové | E26: ='1 2 Pol'!BA156 -> 0 | F26: ='1 2 Pol'!BB156 -> 0 | G26: ='1 2 Pol'!BC156 -> 0 | H26: ='1 2 Pol'!BD156 -> 0 | I26: ='1 2 Pol'!BE156 -> 0
A27: ='1 2 Pol'!B157 -> 781 | B27: ='1 2 Pol'!C157 -> Obklady keramické | E27: ='1 2 Pol'!BA159 -> 0 | F27: ='1 2 Pol'!BB159 -> 0 | G27: ='1 2 Pol'!BC159 -> 0 | H27: ='1 2 Pol'!BD159 -> 0 | I27: ='1 2 Pol'!BE159 -> 0
A28: ='1 2 Pol'!B160 -> 784 | B28: ='1 2 Pol'!C160 -> Malby | E28: ='1 2 Pol'!BA162 -> 0 | F28: ='1 2 Pol'!BB162 -> 0 | G28: ='1 2 Pol'!BC162 -> 0 | H28: ='1 2 Pol'!BD162 -> 0 | I28: ='1 2 Pol'!BE162 -> 0
A29: ='1 2 Pol'!B163 -> M21 | B29: ='1 2 Pol'!C163 -> Elektromontáže | E29: ='1 2 Pol'!BA166 -> 0 | F29: ='1 2 Pol'!BB166 -> 0 | G29: ='1 2 Pol'!BC166 -> 0 | H29: ='1 2 Pol'!BD166 -> 0 | I29: ='1 2 Pol'!BE166 -> 0
B30: CELKEM OBJEKT | E30: =SUM(E7:E29) -> 0 | F30: =SUM(F7:F29) -> 0 | G30: =SUM(G7:G29) -> 0 | H30: =SUM(H7:H29) -> 0 | I30: =SUM(I7:I29) -> 0
A32: VEDLEJŠÍ ROZPOČTOVÉ NÁKLADY
A34: Název VRN | E34: Kč | F34: % | G34: Základna | I34: Kč
G35: =CHOOSE(BA35+1,E30+F30,E30+F30+H30,E30+F30+G30+H30,E30,F30,H30,G30,H30+G30,0) -> 0 | I35: =E35+F35*G35/100 -> 0 | BA35: 8
B36: CELKEM VRN | H36: =SUM(I35:I35) -> 0

Sheet 1 2 Pol
A1: Slepý rozpočet
A3: Stavba : | C3: 2020/12 RD se sociálními byty Študlov | E3: Rozpočet: | F3: ='1 2 Rek'!H1 -> 2
A4: Objekt : | C4: 1 RD se sociálními byty Študlov | E4: ='1 2 Rek'!G2 -> Bourací práce
A6: P.č. | B6: Číslo položky | C6: Název položky | D6: MJ | E6: množství | F6: cena / MJ | G6: celkem (Kč) | H6: Jednotková hmotnost | I6: Celková hmotnost | J6: Jednotková dem.hmot. | K6: Celková dem.hmot.
A7: Díl: | B7: 1 | C7: Zemní práce | O7: 1
A8: 1 | B8: 113106005RAB | C8: Odstranění beton.dlažby vč.podkladu, pl.do 50 m2, včetně naložení a odvozu na skládku do 1 km | D8: m2 | E8: 19.71 | F8: 0 | G8: =E8*F8 -> 0 | H8: 0 | I8: =E8*H8 -> 0 | J8: 0 | K8: =E8*J8 -> 0 | O8: 2 | AA8: 2 | AB8: 1 | AC8: 1 | AZ8: 1 | BA8: =IF(AZ8=1,G8,0) -> 0 | BB8: =IF(AZ8=2,G8,0) -> 0 | BC8: =IF(AZ8=3,G8,0) -> 0 | BD8: =IF(AZ8=4,G8,0) -> 0 | BE8: =IF(AZ8=5,G8,0) -> 0 | CA8: 2 | CB8: 1
A9: 2 | B9: 113109318R00 | C9: Odstranění podkladu pl.50 m2, bet.prostý tl.18 cm | D9: m2 | E9: 85.4 | F9: 0 | G9: =E9*F9 -> 0 | H9: 0 | I9: =E9*H9 -> 0 | J9: 0 | K9: =E9*J9 -> 0 | O9: 2 | AA9: 1 | AB9: 1 | AC9: 1 | AZ9: 1 | BA9: =IF(AZ9=1,G9,0) -> 0 | BB9: =IF(AZ9=2,G9,0) -> 0 | BC9: =IF(AZ9=3,G9,0) -> 0 | BD9: =IF(AZ9=4,G9,0) -> 0 | BE9: =IF(AZ9=5,G9,0) -> 0 | CA9: 1 | CB9: 1
C10: bet.plocha vjezdu:36,95 | E10: 36.95 | M10: bet.plocha vjezdu:36,95
C11: chodníky:48,45 | E11: 48.45 | M11: chodníky:48,45
A12: 3 | B12: 113107735R00 | C12: Odstranění podkladu pl.50 m2,drcené+štět tl.35 cm | D12: m2 | E12: 36.95 | F12: 0 | G12: =E12*F12 -> 0 | H12: 0 | I12: =E12*H12 -> 0 | J12: 0 | K12: =E12*J12 -> 0 | O12: 2 | AA12: 1 | AB12: 1 | AC12: 1 | AZ12: 1 | BA12: =IF(AZ12=1,G12,0) -> 0 | BB12: =IF(AZ12=2,G12,0) -> 0 | BC12: =IF(AZ12=3,G12,0) -> 0 | BD12: =IF(AZ12=4,G12,0) -> 0 | BE12: =IF(AZ12=5,G12,0) -> 0 | CA12: 1 | CB12: 1
C13: podklad vjezd:36,95 | E13: 36.95 | M13: podklad vjezd:36,95
A14: 4 | B14: 112101113R00 | C14: Kácení stromů listnatých průměru 40 cm, svah 1:5 | D14: kus | E14: 4 | F14: 0 | G14: =E14*F14 -> 0 | H14: 0 | I14: =E14*H14 -> 0 | J14: 0 | K14: =E14*J14 -> 0 | O14: 2 | AA14: 1 | AB14: 1 | AC14: 1 | AZ14: 1 | BA14: =IF(AZ14=1,G14,0) -> 0 | BB14: =IF(AZ14=2,G14,0) -> 0 | BC14: =IF(AZ14=3,G14,0) -> 0 | BD14: =IF(AZ14=4,G14,0) -> 0 | BE14: =IF(AZ14=5,G14,0) -> 0 | CA14: 1 | CB14: 1
A15: 5 | B15: 112201113R00 | C15: Odstranění pařezů o průměru do 40 cm, svah 1:5 | D15: kus | E15: 3 | F15: 0 | G15: =E15*F15 -> 0 | H15: 0 | I15: =E15*H15 -> 0 | J15: 0 | K15: =E15*J15 -> 0 | O15: 2 | AA15: 1 | AB15: 1 | AC15: 1 | AZ15: 1 | BA15: =IF(AZ15=1,G15,0) -> 0 | BB15: =IF(AZ15=2,G15,0) -> 0 | BC15: =IF(AZ15=3,G15,0) -> 0 | BD15: =IF(AZ15=4,G15,0) -> 0 | BE15: =IF(AZ15=5,G15,0) -> 0 | CA15: 1 | CB15: 1
A16: 6 | B16: 121101103R00 | C16: Sejmutí ornice s přemístěním přes 100 do 250 m | D16: m3 | E16: 38.75 | F16: 0 | G16: =E16*F16 -> 0 | H16: 0 | I16: =E16*H16 -> 0 | J16: 0 | K16: =E16*J16 -> 0 | O16: 2 | AA16: 1 | AB16: 1 | AC16: 1 | AZ16: 1 | BA16: =IF(AZ16=1,G16,0) -> 0 | BB16: =IF(AZ16=2,G16,0) -> 0 | BC16: =IF(AZ16=3,G16,0) -> 0 | BD16: =IF(AZ16=4,G16,0) -> 0 | BE16: =IF(AZ16=5,G16,0) -> 0 | CA16: 1 | CB16: 1
C17: plocha pro stání,chodníky,..:193,75*0,2 | E17: 38.75 | M17: plocha pro stání,chodníky,..:193,75*0,2
A18: 7 | B18: 111251111R00 | C18: Drcení ořezaných větví průměru do 10 cm | D18: m3 | E18: 2 | F18: 0 | G18: =E18*F18 -> 0 | H18: 0 | I18: =E18*H18 -> 0 | J18: 0 | K18: =E18*J18 -> 0 | O18: 2 | AA18: 1 | AB18: 1 | AC18: 1 | AZ18: 1 | BA18: =IF(AZ18=1,G18,0) -> 0 | BB18: =IF(AZ18=2,G18,0) -> 0 | BC18: =IF(AZ18=3,G18,0) -> 0 | BD18: =IF(AZ18=4,G18,0) -> 0 | BE18: =IF(AZ18=5,G18,0) -> 0 | CA18: 1 | CB18: 1
B19: Celkem za | C19: 1 Zemní práce | G19: =SUM(G7:G18) -> 0 | I19: =SUM(I7:I18) -> 0 | K19: =SUM(K7:K18) -> 0 | O19: 4 | BA19: =SUM(BA7:BA18) -> 0 | BB19: =SUM(BB7:BB18) -> 0 | BC19: =SUM(BC7:BC18) -> 0 | BD19: =SUM(BD7:BD18) -> 0 | BE19: =SUM(BE7:BE18) -> 0
A20: Díl: | B20: 96 | C20: Bourání konstrukcí | O20: 1
A21: 8 | B21: 962052211R00 | C21: Bourání zdiva železobetonového nadzákladového | D21: m3 | E21: 2.412 | F21: 0 | G21: =E21*F21 -> 0 | H21: 0 | I21: =E21*H21 -> 0 | J21: 0 | K21: =E21*J21 -> 0 | O21: 2 | AA21: 1 | AB21: 1 | AC21: 1 | AZ21: 1 | BA21: =IF(AZ21=1,G21,0) -> 0 | BB21: =IF(AZ21=2,G21,0) -> 0 | BC21: =IF(AZ21=3,G21,0) -> 0 | BD21: =IF(AZ21=4,G21,0) -> 0 | BE21: =IF(AZ21=5,G21,0) -> 0 | CA21: 1 | CB21: 1
C22: opěrná zed:6,7*0,3*1,2 | E22: 2.412 | M22: opěrná zed:6,7*0,3*1,2
A23: 9 | B23: 966067111R00 | C23: Rozebrání plotu tyč. lať. prken. drátěného, plech. | D23: m | E23: 20.75 | F23: 0 | G23: =E23*F23 -> 0 | H23: 0 | I23: =E23*H23 -> 0 | J23: 0 | K23: =E23*J23 -> 0 | O23: 2 | AA23: 1 | AB23: 1 | AC23: 1 | AZ23: 1 | BA23: =IF(AZ23=1,G23,0) -> 0 | BB23: =IF(AZ23=2,G23,0) -> 0 | BC23: =IF(AZ23=3,G23,0) -> 0 | BD23: =IF(AZ23=4,G23,0) -> 0 | BE23: =IF(AZ23=5,G23,0) -> 0 | CA23: 1 | CB23: 1
A24: 10 | B24: 961044111R00 | C24: Bourání základů z betonu prostého | D24: m3 | E24: 0.408 | F24: 0 | G24: =E24*F24 -> 0 | H24: 0 | I24: =E24*H24 -> 0 | J24: 0 | K24: =E24*J24 -> 0 | O24: 2 | AA24: 1 | AB24: 1 | AC24: 1 | AZ24: 1 | BA24: =IF(AZ24=1,G24,0) -> 0 | BB24: =IF(AZ24=2,G24,0) -> 0 | BC24: =IF(AZ24=3,G24,0) -> 0 | BD24: =IF(AZ24=4,G24,0) -> 0 | BE24: =IF(AZ24=5,G24,0) -> 0 | CA24: 1 | CB24: 1
C25: základ zadního zádveří:0,85*0,4*1,2 | E25: 0.408 | M25: základ zadního zádveří:0,85*0,4*1,2
A26: 11 | B26: 965042231R00 | C26: Bourání mazanin betonových tl. nad 10 cm, pl. 4 m2 | D26: m3 | E26: 0.5475 | F26: 0 | G26: =E26*F26 -> 0 | H26: 0 | I26: =E26*H26 -> 0 | J26: 0 | K26: =E26*J26 -> 0 | O26: 2 | AA26: 1 | AB26: 1 | AC26: 1 | AZ26: 1 | BA26: =IF(AZ26=1,G26,0) -> 0 | BB26: =IF(AZ26=2,G26,0) -> 0 | BC26: =IF(AZ26=3,G26,0) -> 0 | BD26: =IF(AZ26=4,G26,0) -> 0 | BE26: =IF(AZ26=5,G26,0) -> 0 | CA26: 1 | CB26: 1
C27: bet.deska zadního zádveří:1*3,65*0,15 | E27: 0.5475 | M27: bet.deska zadního zádveří:1*3,65*0,15
A28: 12 | B28: 968061113R00 | C28: Vyvěšení dřevěných okenních křídel pl. nad 1,5 m2 | D28: kus | E28: 11 | F28: 0 | G28: =E28*F28 -> 0 | H28: 0 | I28: =E28*H28 -> 0 | J28: 0 | K28: =E28*J28 -> 0 | O28: 2 | AA28: 1 | AB28: 1 | AC28: 1 | AZ28: 1 | BA28: =IF(AZ28=1,G28,0) -> 0 | BB28: =IF(AZ28=2,G28,0) -> 0 | BC28: =IF(AZ28=3,G28,0) -> 0 | BD28: =IF(AZ28=4,G28,0) -> 0 | BE28: =IF(AZ28=5,G28,0) -> 0 | CA28: 1 | CB28: 1
A29: 13 | B29: 968095001R00 | C29: Bourání parapetů dřevěných š. do 25 cm | D29: m | E29: 16.3 | F29: 0 | G29: =E29*F29 -> 0 | H29: 0 | I29: =E29*H29 -> 0 | J29: 0 | K29: =E29*J29 -> 0 | O29: 2 | AA29: 1 | AB29: 1 | AC29: 1 | AZ29: 1 | BA29: =IF(AZ29=1,G29,0) -> 0 | BB29: =IF(AZ29=2,G29,0) -> 0 | BC29: =IF(AZ29=3,G29,0) -> 0 | BD29: =IF(AZ29=4,G29,0) -> 0 | BE29: =IF(AZ29=5,G29,0) -> 0 | CA29: 1 | CB29: 1
A30: 14 | B30: 968061125R00 | C30: Vyvěšení dřevěných dveřních křídel pl. do 2 m2 | D30: kus | E30: 26 | F30: 0 | G30: =E30*F30 -> 0 | H30: 0 | I30: =E30*H30 -> 0 | J30: 0 | K30: =E30*J30 -> 0 | O30: 2 | AA30: 1 | AB30: 1 | AC30: 1 | AZ30: 1 | BA30: =IF(AZ30=1,G30,0) -> 0 | BB30: =IF(AZ30=2,G30,0) -> 0 | BC30: =IF(AZ30=3,G30,0) -> 0 | BD30: =IF(AZ30=4,G30,0) -> 0 | BE30: =IF(AZ30=5,G30,0) -> 0 | CA30: 1 | CB30: 1
A31: 15 | B31: 968091001R00 | C31: Bourání parapetů teracových š. do 30 cm tl.3 cm | D31: m | E31: 10.95 | F31: 0 | G31: =E31*F31 -> 0 | H31: 0 | I31: =E31*H31 -> 0 | J31: 0 | K31: =E31*J31 -> 0 | O31: 2 | AA31: 1 | AB31: 1 | AC31: 1 | AZ31: 1 | BA31: =IF(AZ31=1,G31,0) -> 0 | BB31: =IF(AZ31=2,G31,0) -> 0 | BC31: =IF(AZ31=3,G31,0) -> 0 | BD31: =IF(AZ31=4,G31,0) -> 0 | BE31: =IF(AZ31=5,G31,0) -> 0 | CA31: 1 | CB31: 1
A32: 16 | B32: 968062354R00 | C32: Vybourání dřevěných rámů oken dvojitých pl. 1 m2 | D32: m2 | E32: 5.85 | F32: 0 | G32: =E32*F32 -> 0 | H32: 0 | I32: =E32*H32 -> 0 | J32: 0 | K32: =E32*J32 -> 0 | O32: 2 | AA32: 1 | AB32: 1 | AC32: 1 | AZ32: 1 | BA32: =IF(AZ32=1,G32,0) -> 0 | BB32: =IF(AZ32=2,G32,0) -> 0 | BC32: =IF(AZ32=3,G32,0) -> 0 | BD32: =IF(AZ32=4,G32,0) -> 0 | BE32: =IF(AZ32=5,G32,0) -> 0 | CA32: 1 | CB32: 1
A33: 17 | B33: 968062355R00 | C33: Vybourání dřevěných rámů oken dvojitých pl. 2 m2 | D33: m2 | E33: 21.8 | F33: 0 | G33: =E33*F33 -> 0 | H33: 0 | I33: =E33*H33 -> 0 | J33: 0 | K33: =E33*J33 -> 0 | O33: 2 | AA33: 1 | AB33: 1 | AC33: 1 | AZ33: 1 | BA33: =IF(AZ33=1,G33,0) -> 0 | BB33: =IF(AZ33=2,G33,0) -> 0 | BC33: =IF(AZ33=3,G33,0) -> 0 | BD33: =IF(AZ33=4,G33,0) -> 0 | BE33: =IF(AZ33=5,G33,0) -> 0 | CA33: 1 | CB33: 1
A34: 18 | B34: 968072455R00 | C34: Vybourání kovových dveřních zárubní pl. do 2 m2 | D34: m2 | E34: 48 | F34: 0 | G34: =E34*F34 -> 0 | H34: 0 | I34: =E34*H34 -> 0 | J34: 0 | K34: =E34*J34 -> 0 | O34: 2 | AA34: 1 | AB34: 1 | AC34: 1 | AZ34: 1 | BA34: =IF(AZ34=1,G34,0) -> 0 | BB34: =IF(AZ34=2,G34,0) -> 0 | BC34: =IF(AZ34=3,G34,0) -> 0 | BD34: =IF(AZ34=4,G34,0) -> 0 | BE34: =IF(AZ34=5,G34,0) -> 0 | CA34: 1 | CB34: 1
A35: 19 | B35: 968062455R00 | C35: Vybourání dřevěných dveřních zárubní pl. do 2 m2 | D35: m2 | E35: 4 | F35: 0 | G35: =E35*F35 -> 0 | H35: 0 | I35: =E35*H35 -> 0 | J35: 0 | K35: =E35*J35 -> 0 | O35: 2 | AA35: 1 | AB35: 1 | AC35: 1 | AZ35: 1 | BA35: =IF(AZ35=1,G35,0) -> 0 | BB35: =IF(AZ35=2,G35,0) -> 0 | BC35: =IF(AZ35=3,G35,0) -> 0 | BD35: =IF(AZ35=4,G35,0) -> 0 | BE35: =IF(AZ35=5,G35,0) -> 0 | CA35: 1 | CB35: 1
A36: 20 | B36: 963012510R00 | C36: Bourání stropů z desek žb. š. 30 cm, tl. do 14 cm | D36: m3 | E36: 0.1365 | F36: 0 | G36: =E36*F36 -> 0 | H36: 0 | I36: =E36*H36 -> 0 | J36: 0 | K36: =E36*J36 -> 0 | O36: 2 | AA36: 1 | AB36: 1 | AC36: 1 | AZ36: 1 | BA36: =IF(AZ36=1,G36,0) -> 0 | BB36: =IF(AZ36=2,G36,0) -> 0 | BC36: =IF(AZ36=3,G36,0) -> 0 | BD36: =IF(AZ36=4,G36,0) -> 0 | BE36: =IF(AZ36=5,G36,0) -> 0 | CA36: 1 | CB36: 1
C37: strop zadního závětří:0,91*0,15 | E37: 0.1365 | M37: strop zadního závětří:0,91*0,15
A38: 21 | B38: 962032241R00 | C38: Bourání zdiva z cihel pálených na MC | D38: m3 | E38: 0.5759 | F38: 0 | G38: =E38*F38 -> 0 | H38: 0 | I38: =E38*H38 -> 0 | J38: 0 | K38: =E38*J38 -> 0 | O38: 2 | AA38: 1 | AB38: 1 | AC38: 1 | AZ38: 1 | BA38: =IF(AZ38=1,G38,0) -> 0 | BB38: =IF(AZ38=2,G38,0) -> 0 | BC38: =IF(AZ38=3,G38,0) -> 0 | BD38: =IF(AZ38=4,G38,0) -> 0 | BE38: =IF(AZ38=5,G38,0) -> 0 | CA38: 1 | CB38: 1
C39: zdivo zadního zádveří:2*0,65*0,2*2,215 | E39: 0.5759 | M39: zdivo zadního zádveří:2*0,65*0,2*2,215
A40: 22 | B40: 968061112R00 | C40: Vyvěšení dřevěných okenních křídel pl. do 1,5 m2 | D40: kus | E40: 10 | F40: 0 | G40: =E40*F40 -> 0 | H40: 0 | I40: =E40*H40 -> 0 | J40: 0 | K40: =E40*J40 -> 0 | O40: 2 | AA40: 1 | AB40: 1 | AC40: 1 | AZ40: 1 | BA40: =IF(AZ40=1,G40,0) -> 0 | BB40: =IF(AZ40=2,G40,0) -> 0 | BC40: =IF(AZ40=3,G40,0) -> 0 | BD40: =IF(AZ40=4,G40,0) -> 0 | BE40: =IF(AZ40=5,G40,0) -> 0 | CA40: 1 | CB40: 1
A41: 23 | B41: 962032241R00 | C41: Bourání zdiva z cihel pálených na MC | D41: m3 | E41: 9.2225 | F41: 0 | G41: =E41*F41 -> 0 | H41: 0 | I41: =E41*H41 -> 0 | J41: 0 | K41: =E41*J41 -> 0 | O41: 2 | AA41: 1 | AB41: 1 | AC41: 1 | AZ41: 1 | BA41: =IF(AZ41=1,G41,0) -> 0 | BB41: =IF(AZ41=2,G41,0) -> 0 | BC41: =IF(AZ41=3,G41,0) -> 0 | BD41: =IF(AZ41=4,G41,0) -> 0 | BE41: =IF(AZ41=5,G41,0) -> 0 | CA41: 1 | CB41: 1
C42: zdivo 1.p.p.:4,1*0,35*2,25 | E42: 3.2287 | M42: zdivo 1.p.p.:4,1*0,35*2,25
...

Sheet 1 3 KL
A1: SLEPÝ ROZPOČET
A2: Rozpočet | C2: 3 | D2: ZTI | F2: JKSO
A4: Objekt | F4: SKP
A5: 1 | C5: RD se sociálními byty Študlov | F5: Měrná jednotka
A6: Stavba | F6: Počet jednotek
A7: 2020/12 | C7: RD se sociálními byty Študlov | F7: Náklady na m.j. | G7: =IF(G6=0,,ROUND((F30+F32)/G6,1)) -> 0
A8: Projektant | F8: Typ rozpočtu
A9: Zpracovatel projektu
A10: Objednatel
A11: Dodavatel | F11: Zakázkové číslo
A12: Rozpočtoval | F12: Počet listů
A13: ROZPOČTOVÉ NÁKLADY
A14: Základní rozpočtové náklady | D14: Ostatní rozpočtové náklady
B15: HSV celkem | C15: ='1 3 Rek'!E13 -> 0 | D15: ='1 3 Rek'!A18 -> Ztížené výrobní podmínky | G15: ='1 3 Rek'!I18 -> 0
A16: Z | B16: PSV celkem | C16: ='1 3 Rek'!F13 -> 0 | D16: ='1 3 Rek'!A19 -> Oborová přirážka | G16: ='1 3 Rek'!I19 -> 0
A17: R | B17: M práce celkem | C17: ='1 3 Rek'!H13 -> 0 | D17: ='1 3 Rek'!A20 -> Přesun stavebních kapacit | G17: ='1 3 Rek'!I20 -> 0
A18: N | B18: M dodávky celkem | C18: ='1 3 Rek'!G13 -> 0 | D18: ='1 3 Rek'!A21 -> Mimostaveništní doprava | G18: ='1 3 Rek'!I21 -> 0
A19: ZRN celkem | C19: =SUM(C15:C18) -> 0 | D19: ='1 3 Rek'!A22 -> Zařízení staveniště | G19: ='1 3 Rek'!I22 -> 0
D20: ='1 3 Rek'!A23 -> Provoz investora | G20: ='1 3 Rek'!I23 -> 0
A21: HZS | C21: ='1 3 Rek'!I13 -> 0 | D21: ='1 3 Rek'!A24 -> Kompletační činnost (IČD) | G21: ='1 3 Rek'!I24 -> 0
A22: ZRN+HZS | C22: =C19+C21 -> 0 | D22: Ostatní náklady neuvedené | G22: =G23-SUM(G15:G21) -> 0
A23: ZRN+ost.náklady+HZS | C23: =C22+G23 -> 0 | D23: Ostatní náklady celkem | G23: ='1 3 Rek'!H26 -> 0
A24: Vypracoval | D24: Za zhotovitele | F24: Za objednatele
A25: Jméno : | D25: Jméno : | F25: Jméno :
A26: Datum : | D26: Datum : | F26: Datum :
A28: Podpis : | D28: Podpis: | F28: Podpis:
A30: Základ pro DPH | C30: 15 | D30: % | F30: =ROUND(C23-F32,0) -> 0
A31: DPH | C31: =C30 -> 15 | D31: % | F31: =ROUND(PRODUCT(F30,C31/100),1) -> 0
A32: Základ pro DPH | C32: 0 | D32: % | F32: 0
A33: DPH | C33: =C32 -> 0 | D33: % | F33: =ROUND(PRODUCT(F32,C33/100),1) -> 0
A34: CENA ZA OBJEKT CELKEM | F34: =CEILING(SUM(F30:F33),IF(SUM(F30:F33)>=0,1,-1)) -> 0
A36: Poznámka :

Sheet 1 3 Rek
A1: Stavba : | C1: 2020/12 RD se sociálními byty Študlov | G1: Rozpočet : | H1: 3
A2: Objekt : | C2: 1 RD se sociálními byty Študlov | G2: ZTI
A4: REKAPITULACE STAVEBNÍCH DÍLŮ
B6: Stavební díl | E6: HSV | F6: PSV | G6: Dodávka | H6: Montáž | I6: HZS
A7: ='1 3 Pol'!B7 -> 8 | B7: ='1 3 Pol'!C7 -> Trubní vedení | E7: ='1 3 Pol'!BA20 -> 0 | F7: ='1 3 Pol'!BB20 -> 0 | G7: ='1 3 Pol'!BC20 -> 0 | H7: ='1 3 Pol'!BD20 -> 0 | I7: ='1 3 Pol'!BE20 -> 0
A8: ='1 3 Pol'!B21 -> 97 | B8: ='1 3 Pol'!C21 -> Prorážení otvorů | E8: ='1 3 Pol'!BA23 -> 0 | F8: ='1 3 Pol'!BB23 -> 0 | G8: ='1 3 Pol'!BC23 -> 0 | H8: ='1 3 Pol'!BD23 -> 0 | I8: ='1 3 Pol'!BE23 -> 0
A9: ='1 3 Pol'!B24 -> 721 | B9: ='1 3 Pol'!C24 -> Vnitřní kanalizace | E9: ='1 3 Pol'!BA43 -> 0 | F9: ='1 3 Pol'!BB43 -> 0 | G9: ='1 3 Pol'!BC43 -> 0 | H9: ='1 3 Pol'!BD43 -> 0 | I9: ='1 3 Pol'!BE43 -> 0
A10: ='1 3 Pol'!B44 -> 722 | B10: ='1 3 Pol'!C44 -> Vnitřní vodovod | E10: ='1 3 Pol'!BA77 -> 0 | F10: ='1 3 Pol'!BB77 -> 0 | G10: ='1 3 Pol'!BC77 -> 0 | H10: ='1 3 Pol'!BD77 -> 0 | I10: ='1 3 Pol'!BE77 -> 0
A11: ='1 3 Pol'!B78 -> 725 | B11: ='1 3 Pol'!C78 -> Zařizovací předměty | E11: ='1 3 Pol'!BA114 -> 0 | F11: ='1 3 Pol'!BB114 -> 0 | G11: ='1 3 Pol'!BC114 -> 0 | H11: ='1 3 Pol'!BD114 -> 0 | I11: ='1 3 Pol'!BE114 -> 0
A12: ='1 3 Pol'!B115 -> M23 | B12: ='1 3 Pol'!C115 -> Montáže potrubí | E12: ='1 3 Pol'!BA118 -> 0 | F12: ='1 3 Pol'!BB118 -> 0 | G12: ='1 3 Pol'!BC118 -> 0 | H12: ='1 3 Pol'!BD118 -> 0 | I12: ='1 3 Pol'!BE118 -> 0
B13: CELKEM OBJEKT | E13: =SUM(E7:E12) -> 0 | F13: =SUM(F7:F12) -> 0 | G13: =SUM(G7:G12) -> 0 | H13: =SUM(H7:H12) -> 0 | I13: =SUM(I7:I12) -> 0
A15: VEDLEJŠÍ ROZPOČTOVÉ NÁKLADY
A17: Název VRN | E17: Kč | F17: % | G17: Základna | I17: Kč
A18: Ztížené výrobní podmínky | G18: 0 | I18: =E18+F18*G18/100 -> 0 | BA18: 0
A19: Oborová přirážka | G19: 0 | I19: =E19+F19*G19/100 -> 0 | BA19: 0
A20: Přesun stavebních kapacit | G20: 0 | I20: =E20+F20*G20/100 -> 0 | BA20: 0
A21: Mimostaveništní doprava | G21: 0 | I21: =E21+F21*G21/100 -> 0 | BA21: 0
A22: Zařízení staveniště | G22: 0 | I22: =E22+F22*G22/100 -> 0 | BA22: 1
A23: Provoz investora | G23: 0 | I23: =E23+F23*G23/100 -> 0 | BA23: 1
A24: Kompletační činnost (IČD) | G24: 0 | I24: =E24+F24*G24/100 -> 0 | BA24: 2
A25: Rezerva rozpočtu | G25: 0 | I25: =E25+F25*G25/100 -> 0 | BA25: 2
B26: CELKEM VRN | H26: =SUM(I18:I25) -> 0

Sheet 1 3 Pol
A1: Slepý rozpočet
A3: Stavba : | C3: 2020/12 RD se sociálními byty Študlov | E3: Rozpočet: | F3: ='1 3 Rek'!H1 -> 3
A4: Objekt : | C4: 1 RD se sociálními byty Študlov | E4: ='1 3 Rek'!G2 -> ZTI
A6: P.č. | B6: Číslo položky | C6: Název položky | D6: MJ | E6: množství | F6: cena / MJ | G6: celkem (Kč) | H6: Jednotková hmotnost | I6: Celková hmotnost | J6: Jednotková dem.hmot. | K6: Celková dem.hmot.
A7: Díl: | B7: 8 | C7: Trubní vedení | O7: 1
A8: 1 | B8: 871111104R00 | C8: M.plast.potr ve výkopu na gum.těsnění do DN 300 mm | D8: m | E8: 40 | F8: 0 | G8: =E8*F8 -> 0 | H8: 0 | I8: =E8*H8 -> 0 | J8: 0 | K8: =E8*J8 -> 0 | O8: 2 | AA8: 1 | AB8: 1 | AC8: 1 | AZ8: 1 | BA8: =IF(AZ8=1,G8,0) -> 0 | BB8: =IF(AZ8=2,G8,0) -> 0 | BC8: =IF(AZ8=3,G8,0) -> 0 | BD8: =IF(AZ8=4,G8,0) -> 0 | BE8: =IF(AZ8=5,G8,0) -> 0 | CA8: 1 | CB8: 1
A9: 2 | B9: 877313123R00 | C9: Montáž tvarovek plast. gum.kroužek do DN 150 | D9: kus | E9: 25 | F9: 0 | G9: =E9*F9 -> 0 | H9: 0 | I9: =E9*H9 -> 0 | J9: 0 | K9: =E9*J9 -> 0 | O9: 2 | AA9: 1 | AB9: 1 | AC9: 1 | AZ9: 1 | BA9: =IF(AZ9=1,G9,0) -> 0 | BB9: =IF(AZ9=2,G9,0) -> 0 | BC9: =IF(AZ9=3,G9,0) -> 0 | BD9: =IF(AZ9=4,G9,0) -> 0 | BE9: =IF(AZ9=5,G9,0) -> 0 | CA9: 1 | CB9: 1
A10: 3 | B10: 28611141.A | C10: Trubka kanalizační KGEM SN 4 PVC 110x3,2x1000 | D10: kus | E10: 15 | F10: 0 | G10: =E10*F10 -> 0 | H10: 0 | I10: =E10*H10 -> 0 | K10: =E10*J10 -> 0 | O10: 2 | AA10: 3 | AB10: 1 | AC10: 28611141.A | AZ10: 1 | BA10: =IF(AZ10=1,G10,0) -> 0 | BB10: =IF(AZ10=2,G10,0) -> 0 | BC10: =IF(AZ10=3,G10,0) -> 0 | BD10: =IF(AZ10=4,G10,0) -> 0 | BE10: =IF(AZ10=5,G10,0) -> 0 | CA10: 3 | CB10: 1
A11: 4 | B11: 28611146.A | C11: Trubka kanalizační KGEM SN 4 PVC 125x3,2x1000 | D11: kus | E11: 15 | F11: 0 | G11: =E11*F11 -> 0 | H11: 0 | I11: =E11*H11 -> 0 | K11: =E11*J11 -> 0 | O11: 2 | AA11: 3 | AB11: 1 | AC11: 28611146.A | AZ11: 1 | BA11: =IF(AZ11=1,G11,0) -> 0 | BB11: =IF(AZ11=2,G11,0) -> 0 | BC11: =IF(AZ11=3,G11,0) -> 0 | BD11: =IF(AZ11=4,G11,0) -> 0 | BE11: =IF(AZ11=5,G11,0) -> 0 | CA11: 3 | CB11: 1
A12: 5 | B12: 28611151.A | C12: Trubka kanalizační KGEM SN 4 PVC 160x4,0x1000 | D12: kus | E12: 10 | F12: 0 | G12: =E12*F12 -> 0 | H12: 0 | I12: =E12*H12 -> 0 | K12: =E12*J12 -> 0 | O12: 2 | AA12: 3 | AB12: 1 | AC12: 28611151.A | AZ12: 1 | BA12: =IF(AZ12=1,G12,0) -> 0 | BB12: =IF(AZ12=2,G12,0) -> 0 | BC12: =IF(AZ12=3,G12,0) -> 0 | BD12: =IF(AZ12=4,G12,0) -> 0 | BE12: =IF(AZ12=5,G12,0) -> 0 | CA12: 3 | CB12: 1
A13: 6 | B13: 28651652.A | C13: Koleno kanalizační KGB 110/ 45° PVC | D13: kus | E13: 10 | F13: 0 | G13: =E13*F13 -> 0 | H13: 0 | I13: =E13*H13 -> 0 | K13: =E13*J13 -> 0 | O13: 2 | AA13: 3 | AB13: 1 | AC13: 28651652.A | AZ13: 1 | BA13: =IF(AZ13=1,G13,0) -> 0 | BB13: =IF(AZ13=2,G13,0) -> 0 | BC13: =IF(AZ13=3,G13,0) -> 0 | BD13: =IF(AZ13=4,G13,0) -> 0 | BE13: =IF(AZ13=5,G13,0) -> 0 | CA13: 3 | CB13: 1
A14: 7 | B14: 28651657.A | C14: Koleno kanalizační KGB 125/ 45° PVC | D14: kus | E14: 6 | F14: 0 | G14: =E14*F14 -> 0 | H14: 0 | I14: =E14*H14 -> 0 | K14: =E14*J14 -> 0 | O14: 2 | AA14: 3 | AB14: 1 | AC14: 28651657.A | AZ14: 1 | BA14: =IF(AZ14=1,G14,0) -> 0 | BB14: =IF(AZ14=2,G14,0) -> 0 | BC14: =IF(AZ14=3,G14,0) -> 0 | BD14: =IF(AZ14=4,G14,0) -> 0 | BE14: =IF(AZ14=5,G14,0) -> 0 | CA14: 3 | CB14: 1
A15: 8 | B15: 28651690.A | C15: Redukce kanalizační KGR 125/ 110 PVC | D15: kus | E15: 2 | F15: 0 | G15: =E15*F15 -> 0 | H15: 0 | I15: =E15*H15 -> 0 | K15: =E15*J15 -> 0 | O15: 2 | AA15: 3 | AB15: 1 | AC15: 28651690.A | AZ15: 1 | BA15: =IF(AZ15=1,G15,0) -> 0 | BB15: =IF(AZ15=2,G15,0) -> 0 | BC15: =IF(AZ15=3,G15,0) -> 0 | BD15: =IF(AZ15=4,G15,0) -> 0 | BE15: =IF(AZ15=5,G15,0) -> 0 | CA15: 3 | CB15: 1
A16: 9 | B16: 28651692.A | C16: Redukce kanalizační KGR 160/ 125 PVC | D16: kus | E16: 1 | F16: 0 | G16: =E16*F16 -> 0 | H16: 0 | I16: =E16*H16 -> 0 | K16: =E16*J16 -> 0 | O16: 2 | AA16: 3 | AB16: 1 | AC16: 28651692.A | AZ16: 1 | BA16: =IF(AZ16=1,G16,0) -> 0 | BB16: =IF(AZ16=2,G16,0) -> 0 | BC16: =IF(AZ16=3,G16,0) -> 0 | BD16: =IF(AZ16=4,G16,0) -> 0 | BE16: =IF(AZ16=5,G16,0) -> 0 | CA16: 3 | CB16: 1
A17: 10 | B17: 28651701.A | C17: Odbočka kanalizační KGEA 125/ 110/45° PVC | D17: kus | E17: 3 | F17: 0 | G17: =E17*F17 -> 0 | H17: 0 | I17: =E17*H17 -> 0 | K17: =E17*J17 -> 0 | O17: 2 | AA17: 3 | AB17: 1 | AC17: 28651701.A | AZ17: 1 | BA17: =IF(AZ17=1,G17,0) -> 0 | BB17: =IF(AZ17=2,G17,0) -> 0 | BC17: =IF(AZ17=3,G17,0) -> 0 | BD17: =IF(AZ17=4,G17,0) -> 0 | BE17: =IF(AZ17=5,G17,0) -> 0 | CA17: 3 | CB17: 1
A18: 11 | B18: 28651704.A | C18: Odbočka kanalizační KGEA 160/ 125/45° PVC | D18: kus | E18: 1 | F18: 0 | G18: =E18*F18 -> 0 | H18: 0 | I18: =E18*H18 -> 0 | K18: =E18*J18 -> 0 | O18: 2 | AA18: 3 | AB18: 1 | AC18: 28651704.A | AZ18: 1 | BA18: =IF(AZ18=1,G18,0) -> 0 | BB18: =IF(AZ18=2,G18,0) -> 0 | BC18: =IF(AZ18=3,G18,0) -> 0 | BD18: =IF(AZ18=4,G18,0) -> 0 | BE18: =IF(AZ18=5,G18,0) -> 0 | CA18: 3 | CB18: 1
A19: 12 | B19: 28654193.A | C19: Redukce excentrická kanalizační d 110/75 mm | D19: kus | E19: 3 | F19: 0 | G19: =E19*F19 -> 0 | H19: 0 | I19: =E19*H19 -> 0 | K19: =E19*J19 -> 0 | O19: 2 | AA19: 3 | AB19: 1 | AC19: 28654193.A | AZ19: 1 | BA19: =IF(AZ19=1,G19,0) -> 0 | BB19: =IF(AZ19=2,G19,0) -> 0 | BC19: =IF(AZ19=3,G19,0) -> 0 | BD19: =IF(AZ19=4,G19,0) -> 0 | BE19: =IF(AZ19=5,G19,0) -> 0 | CA19: 3 | CB19: 1
B20: Celkem za | C20: 8 Trubní vedení | G20: =SUM(G7:G19) -> 0 | I20: =SUM(I7:I19) -> 0 | K20: =SUM(K7:K19) -> 0 | O20: 4 | BA20: =SUM(BA7:BA19) -> 0 | BB20: =SUM(BB7:BB19) -> 0 | BC20: =SUM(BC7:BC19) -> 0 | BD20: =SUM(BD7:BD19) -> 0 | BE20: =SUM(BE7:BE19) -> 0
A21: Díl: | B21: 97 | C21: Prorážení otvorů | O21: 1
A22: 13 | B22: 909 R00 | C22: Hzs-nezmeritelne stavebni prace vysekáná drážek a otvorů vč. zapravení | D22: h | E22: 80 | F22: 0 | G22: =E22*F22 -> 0 | H22: 0 | I22: =E22*H22 -> 0 | K22: =E22*J22 -> 0 | O22: 2 | AA22: 10 | AB22: 0 | AC22: 8 | AZ22: 5 | BA22: =IF(AZ22=1,G22,0) -> 0 | BB22: =IF(AZ22=2,G22,0) -> 0 | BC22: =IF(AZ22=3,G22,0) -> 0 | BD22: =IF(AZ22=4,G22,0) -> 0 | BE22: =IF(AZ22=5,G22,0) -> 0 | CA22: 10 | CB22: 0
B23: Celkem za | C23: 97 Prorážení otvorů | G23: =SUM(G21:G22) -> 0 | I23: =SUM(I21:I22) -> 0 | K23: =SUM(K21:K22) -> 0 | O23: 4 | BA23: =SUM(BA21:BA22) -> 0 | BB23: =SUM(BB21:BB22) -> 0 | BC23: =SUM(BC21:BC22) -> 0 | BD23: =SUM(BD21:BD22) -> 0 | BE23: =SUM(BE21:BE22) -> 0
A24: Díl: | B24: 721 | C24: Vnitřní kanalizace | O24: 1
A25: 14 | B25: 721290111R00 | C25: Zkouška těsnosti kanalizace vodou do DN 160 | D25: m | E25: 130 | F25: 0 | G25: =E25*F25 -> 0 | H25: 0 | I25: =E25*H25 -> 0 | J25: 0 | K25: =E25*J25 -> 0 | O25: 2 | AA25: 1 | AB25: 7 | AC25: 7 | AZ25: 2 | BA25: =IF(AZ25=1,G25,0) -> 0 | BB25: =IF(AZ25=2,G25,0) -> 0 | BC25: =IF(AZ25=3,G25,0) -> 0 | BD25: =IF(AZ25=4,G25,0) -> 0 | BE25: =IF(AZ25=5,G25,0) -> 0 | CA25: 1 | CB25: 7
A26: 15 | B26: 733174255R00 | C26: Montáž potrubí z plastů HT D 40 mm | D26: m | E26: 10 | F26: 0 | G26: =E26*F26 -> 0 | H26: 0 | I26: =E26*H26 -> 0 | J26: 0 | K26: =E26*J26 -> 0 | O26: 2 | AA26: 1 | AB26: 7 | AC26: 7 | AZ26: 2 | BA26: =IF(AZ26=1,G26,0) -> 0 | BB26: =IF(AZ26=2,G26,0) -> 0 | BC26: =IF(AZ26=3,G26,0) -> 0 | BD26: =IF(AZ26=4,G26,0) -> 0 | BE26: =IF(AZ26=5,G26,0) -> 0 | CA26: 1 | CB26: 7
A27: 16 | B27: 733174256R00 | C27: Montáž potrubí z plastů HT D 50 mm | D27: m | E27: 30 | F27: 0 | G27: =E27*F27 -> 0 | H27: 0 | I27: =E27*H27 -> 0 | J27: 0 | K27: =E27*J27 -> 0 | O27: 2 | AA27: 1 | AB27: 7 | AC27: 7 | AZ27: 2 | BA27: =IF(AZ27=1,G27,0) -> 0 | BB27: =IF(AZ27=2,G27,0) -> 0 | BC27: =IF(AZ27=3,G27,0) -> 0 | BD27: =IF(AZ27=4,G27,0) -> 0 | BE27: =IF(AZ27=5,G27,0) -> 0 | CA27: 1 | CB27: 7
A28: 17 | B28: 733174258R00 | C28: Montáž potrubí z plastů HT D 75 mm | D28: m | E28: 30 | F28: 0 | G28: =E28*F28 -> 0 | H28: 0 | I28: =E28*H28 -> 0 | J28: 0 | K28: =E28*J28 -> 0 | O28: 2 | AA28: 1 | AB28: 7 | AC28: 7 | AZ28: 2 | BA28: =IF(AZ28=1,G28,0) -> 0 | BB28: =IF(AZ28=2,G28,0) -> 0 | BC28: =IF(AZ28=3,G28,0) -> 0 | BD28: =IF(AZ28=4,G28,0) -> 0 | BE28: =IF(AZ28=5,G28,0) -> 0 | CA28: 1 | CB28: 7
A29: 18 | B29: 733174260R00 | C29: Montáž potrubí z plastů HT D 110 mm | D29: m | E29: 60 | F29: 0 | G29: =E29*F29 -> 0 | H29: 0 | I29: =E29*H29 -> 0 | J29: 0 | K29: =E29*J29 -> 0 | O29: 2 | AA29: 1 | AB29: 7 | AC29: 7 | AZ29: 2 | BA29: =IF(AZ29=1,G29,0) -> 0 | BB29: =IF(AZ29=2,G29,0) -> 0 | BC29: =IF(AZ29=3,G29,0) -> 0 | BD29: =IF(AZ29=4,G29,0) -> 0 | BE29: =IF(AZ29=5,G29,0) -> 0 | CA29: 1 | CB29: 7
A30: 19 | B30: 7210020 | C30: Uchycení potrubí | D30: soub | E30: 1 | F30: 0 | G30: =E30*F30 -> 0 | H30: 0 | I30: =E30*H30 -> 0 | K30: =E30*J30 -> 0 | O30: 2 | AA30: 12 | AB30: 0 | AC30: 19 | AZ30: 2 | BA30: =IF(AZ30=1,G30,0) -> 0 | BB30: =IF(AZ30=2,G30,0) -> 0 | BC30: =IF(AZ30=3,G30,0) -> 0 | BD30: =IF(AZ30=4,G30,0) -> 0 | BE30: =IF(AZ30=5,G30,0) -> 0 | CA30: 12 | CB30: 0
A31: 20 | B31: 28349014 | C31: Dvířka revizní plná rozměr 300x300 mm | D31: kus | E31: 5 | F31: 0 | G31: =E31*F31 -> 0 | H31: 0 | I31: =E31*H31 -> 0 | K31: =E31*J31 -> 0 | O31: 2 | AA31: 3 | AB31: 7 | AC31: 28349014 | AZ31: 2 | BA31: =IF(AZ31=1,G31,0) -> 0 | BB31: =IF(AZ31=2,G31,0) -> 0 | BC31: =IF(AZ31=3,G31,0) -> 0 | BD31: =IF(AZ31=4,G31,0) -> 0 | BE31: =IF(AZ31=5,G31,0) -> 0 | CA31: 3 | CB31: 7
A32: 21 | B32: 28615204.A | C32: Trubka HT s hrdlem D 40 mm délka 1000 mm PP | D32: kus | E32: 10 | F32: 0 | G32: =E32*F32 -> 0 | H32: 0 | I32: =E32*H32 -> 0 | K32: =E32*J32 -> 0 | O32: 2 | AA32: 3 | AB32: 7 | AC32: 28615204.A | AZ32: 2 | BA32: =IF(AZ32=1,G32,0) -> 0 | BB32: =IF(AZ32=2,G32,0) -> 0 | BC32: =IF(AZ32=3,G32,0) -> 0 | BD32: =IF(AZ32=4,G32,0) -> 0 | BE32: =IF(AZ32=5,G32,0) -> 0 | CA32: 3 | CB32: 7
A33: 22 | B33: 28615214.A | C33: Trubka HT s hrdlem D 50 mm délka 1000 mm PP | D33: kus | E33: 30 | F33: 0 | G33: =E33*F33 -> 0 | H33: 0 | I33: =E33*H33 -> 0 | K33: =E33*J33 -> 0 | O33: 2 | AA33: 3 | AB33: 7 | AC33: 28615214.A | AZ33: 2 | BA33: =IF(AZ33=1,G33,0) -> 0 | BB33: =IF(AZ33=2,G33,0) -> 0 | BC33: =IF(AZ33=3,G33,0) -> 0 | BD33: =IF(AZ33=4,G33,0) -> 0 | BE33: =IF(AZ33=5,G33,0) -> 0 | CA33: 3 | CB33: 7
A34: 23 | B34: 28615224.A | C34: Trubka HT s hrdlem D 75 mm délka 1000 mm PP | D34: kus | E34: 30 | F34: 0 | G34: =E34*F34 -> 0 | H34: 0 | I34: =E34*H34 -> 0 | K34: =E34*J34 -> 0 | O34: 2 | AA34: 3 | AB34: 7 | AC34: 28615224.A | AZ34: 2 | BA34: =IF(AZ34=1,G34,0) -> 0 | BB34: =IF(AZ34=2,G34,0) -> 0 | BC34: =IF(AZ34=3,G34,0) -> 0 | BD34: =IF(AZ34=4,G34,0) -> 0 | BE34: =IF(AZ34=5,G34,0) -> 0 | CA34: 3 | CB34: 7
A35: 24 | B35: 28615234.A | C35: Trubka HT s hrdlem D 110 mm délka 1000 mm PP | D35: kus | E35: 60 | F35: 0 | G35: =E35*F35 -> 0 | H35: 0 | I35: =E35*H35 -> 0 | K35: =E35*J35 -> 0 | O35: 2 | AA35: 3 | AB35: 7 | AC35: 28615234.A | AZ35: 2 | BA35: =IF(AZ35=1,G35,0) -> 0 | BB35: =IF(AZ35=2,G35,0) -> 0 | BC35: =IF(AZ35=3,G35,0) -> 0 | BD35: =IF(AZ35=4,G35,0) -> 0 | BE35: =IF(AZ35=5,G35,0) -> 0 | CA35: 3 | CB35: 7
A36: 25 | B36: 28615284.A | C36: Fitinka HT D 40 mm odbočky, kolena | D36: kus | E36: 60 | F36: 0 | G36: =E36*F36 -> 0 | H36: 0 | I36: =E36*H36 -> 0 | K36: =E36*J36 -> 0 | O36: 2 | AA36: 3 | AB36: 7 | AC36: 28615284.A | AZ36: 2 | BA36: =IF(AZ36=1,G36,0) -> 0 | BB36: =IF(AZ36=2,G36,0) -> 0 | BC36: =IF(AZ36=3,G36,0) -> 0 | BD36: =IF(AZ36=4,G36,0) -> 0 | BE36: =IF(AZ36=5,G36,0) -> 0 | CA36: 3 | CB36: 7
A37: 26 | B37: 28615289.A | C37: Fitinka HT D 50 mm odbočky, kolena | D37: kus | E37: 60 | F37: 0 | G37: =E37*F37 -> 0 | H37: 0 | I37: =E37*H37 -> 0 | K37: =E37*J37 -> 0 | O37: 2 | AA37: 3 | AB37: 7 | AC37: 28615289.A | AZ37: 2 | BA37: =IF(AZ37=1,G37,0) -> 0 | BB37: =IF(AZ37=2,G37,0) -> 0 | BC37: =IF(AZ37=3,G37,0) -> 0 | BD37: =IF(AZ37=4,G37,0) -> 0 | BE37: =IF(AZ37=5,G37,0) -> 0 | CA37: 3 | CB37: 7
A38: 27 | B38: 28615292.A | C38: Fitinka HT D 75 mm odbočky, kolena | D38: kus | E38: 60 | F38: 0 | G38: =E38*F38 -> 0 | H38: 0 | I38: =E38*H38 -> 0 | K38: =E38*J38 -> 0 | O38: 2 | AA38: 3 | AB38: 7 | AC38: 28615292.A | AZ38: 2 | BA38: =IF(AZ38=1,G38,0) -> 0 | BB38: =IF(AZ38=2,G38,0) -> 0 | BC38: =IF(AZ38=3,G38,0) -> 0 | BD38: =IF(AZ38=4,G38,0) -> 0 | BE38: =IF(AZ38=5,G38,0) -> 0 | CA38: 3 | CB38: 7
A39: 28 | B39: 28615297.A | C39: Fitinka HT D 110 mm odbočky, kolena | D39: kus | E39: 80 | F39: 0 | G39: =E39*F39 -> 0 | H39: 0 | I39: =E39*H39 -> 0 | K39: =E39*J39 -> 0 | O39: 2 | AA39: 3 | AB39: 7 | AC39: 28615297.A | AZ39: 2 | BA39: =IF(AZ39=1,G39,0) -> 0 | BB39: =IF(AZ39=2,G39,0) -> 0 | BC39: =IF(AZ39=3,G39,0) -> 0 | BD39: =IF(AZ39=4,G39,0) -> 0 | BE39: =IF(AZ39=5,G39,0) -> 0 | CA39: 3 | CB39: 7
