Workbook
Name CelkemObjekty: Stavba!$F$31
Name CisloStavby: Stavba!$D$5
Name dadresa: Stavba!$D$8
Name DIČ: Stavba!$K$8
Name dmisto: Stavba!$D$9
Name dpsc: Stavba!$C$9
Name IČO: Stavba!$K$7
Name NazevObjektu: Stavba!$C$29
Name NazevStavby: Stavba!$E$5
Name Objednatel: Stavba!$D$11
Name Objekt: Stavba!$B$29
Name odic: Stavba!$K$12
Name oico: Stavba!$K$11
Name omisto: Stavba!$D$13
Name onazev: Stavba!$D$12
Name opsc: Stavba!$C$13
Name SazbaDPH1: Stavba!$D$19
Name SazbaDPH2: Stavba!$D$21
Name SoucetDilu: Stavba!$F$146:$J$146
Name StavbaCelkem: Stavba!$H$31
Name Zhotovitel: Stavba!$D$7

Sheet Stavba
C2: Slepý rozpočet stavby | H2: Datum: | I2: =TODAY() -> 44013
C5: Stavba : | D5: 2020/12 | E5: RD se sociálními byty Študlov
C7: Objednatel : | H7: IČO :
H8: DIČ :
C11: Zhotovitel : | H11: IČO :
H12: DIČ :
C14: Za zhotovitele : | H14: Za objednatele :
C16: _______________ | H16: _______________
J18: Rozpočtové náklady
B19: Základ pro DPH | D19: 15 | E19: % | I19: =ROUND(G31,0) -> 0
B20: DPH | D20: =SazbaDPH1 -> 15 | E20: % | I20: =ROUND(I19*D20/100,0) -> 0
B21: Základ pro DPH | D21: 21 | E21: % | I21: =ROUND(H31,0) -> 0
B22: DPH | D22: =SazbaDPH2 -> 21 | E22: % | I22: =ROUND(I21*D21/100,0) -> 0
B23: Cena celkem za stavbu | I23: =SUM(I19:I22) -> 0
B27: Rekapitulace stavebních objektů a provozních souborů
B29: Číslo a název objektu / provozního souboru | F29: Cena celkem | G29: =CONCATENATE("Základ DPH ",SazbaDPH1," %") -> Základ DPH 15 % | H29: =CONCATENATE("Základ DPH ",SazbaDPH2," %") -> Základ DPH 21 % | I29: DPH celkem | J29: %
B30: 1 | C30: RD se sociálními byty Študlov | F30: =G30+H30+I30 -> 0 | G30: 0 | H30: 0 | I30: =(G30*SazbaDPH1)/100+(H30*SazbaDPH2)/100 -> 0 | J30: =IF(CelkemObjekty=0,"",F30/CelkemObjekty*100)
B31: Celkem za stavbu | F31: =SUM(F30:F30) -> 0 | G31: =SUM(G30:G30) -> 0 | H31: =SUM(H30:H30) -> 0 | I31: =SUM(I30:I30) -> 0 | J31: =IF(CelkemObjekty=0,"",F31/CelkemObjekty*100)
B35: Rekapitulace stavebních rozpočtů
B37: Číslo objektu | C37: Číslo a název rozpočtu | F37: Cena celkem | G37: =CONCATENATE("Základ DPH ",SazbaDPH1," %") -> Základ DPH 15 % | H37: =CONCATENATE("Základ DPH ",SazbaDPH2," %") -> Základ DPH 21 % | I37: DPH celkem | J37: %
B38: 1 | C38: 1 Stavební část | F38: =G38+H38+I38 -> 0 | G38: 0 | H38: 0 | I38: =(G38*SazbaDPH1)/100+(H38*SazbaDPH2)/100 -> 0 | J38: =IF(CelkemObjekty=0,"",F38/CelkemObjekty*100)
B39: 1 | C39: 2 Bourací práce | F39: =G39+H39+I39 -> 0 | G39: 0 | H39: 0 | I39: =(G39*SazbaDPH1)/100+(H39*SazbaDPH2)/100 -> 0 | J39: =IF(CelkemObjekty=0,"",F39/CelkemObjekty*100)
B40: 1 | C40: 3 ZTI | F40: =G40+H40+I40 -> 0 | G40: 0 | H40: 0 | I40: =(G40*SazbaDPH1)/100+(H40*SazbaDPH2)/100 -> 0 | J40: =IF(CelkemObjekty=0,"",F40/CelkemObjekty*100)
B41: 1 | C41: 4 UT | F41: =G41+H41+I41 -> 0 | G41: 0 | H41: 0 | I41: =(G41*SazbaDPH1)/100+(H41*SazbaDPH2)/100 -> 0 | J41: =IF(CelkemObjekty=0,"",F41/CelkemObjekty*100)
B42: 1 | C42: 5 elektroinstalace | F42: =G42+H42+I42 -> 0 | G42: 0 | H42: 0 | I42: =(G42*SazbaDPH1)/100+(H42*SazbaDPH2)/100 -> 0 | J42: =IF(CelkemObjekty=0,"",F42/CelkemObjekty*100)
B43: 1 | C43: 6 Přípojka plynu | F43: =G43+H43+I43 -> 0 | G43: 0 | H43: 0 | I43: =(G43*SazbaDPH1)/100+(H43*SazbaDPH2)/100 -> 0 | J43: =IF(CelkemObjekty=0,"",F43/CelkemObjekty*100)
B44: 1 | C44: 7 Přípojka vodovodu | F44: =G44+H44+I44 -> 0 | G44: 0 | H44: 0 | I44: =(G44*SazbaDPH1)/100+(H44*SazbaDPH2)/100 -> 0 | J44: =IF(CelkemObjekty=0,"",F44/CelkemObjekty*100)
B45: 1 | C45: 8 Dešťová kanalizace | F45: =G45+H45+I45 -> 0 | G45: 0 | H45: 0 | I45: =(G45*SazbaDPH1)/100+(H45*SazbaDPH2)/100 -> 0 | J45: =IF(CelkemObjekty=0,"",F45/CelkemObjekty*100)
B46: 1 | C46: 9 Přípojka splaškové kanalizace | F46: =G46+H46+I46 -> 0 | G46: 0 | H46: 0 | I46: =(G46*SazbaDPH1)/100+(H46*SazbaDPH2)/100 -> 0 | J46: =IF(CelkemObjekty=0,"",F46/CelkemObjekty*100)
B47: 1 | C47: 10 Čistírna odpadních vod | F47: =G47+H47+I47 -> 0 | G47: 0 | H47: 0 | I47: =(G47*SazbaDPH1)/100+(H47*SazbaDPH2)/100 -> 0 | J47: =IF(CelkemObjekty=0,"",F47/CelkemObjekty*100)
B48: Celkem za stavbu | F48: =SUM(F38:F47) -> 0 | G48: =SUM(G38:G47) -> 0 | H48: =SUM(H38:H47) -> 0 | I48: =SUM(I38:I47) -> 0 | J48: =IF(CelkemObjekty=0,"",F48/CelkemObjekty*100)
B53: Rekapitulace stavebních dílů
B55: Číslo a název dílu | E55: % | F55: HSV | G55: PSV | H55: Dodávka | I55: Montáž | J55: HZS
B56: 1 | C56: Zemní práce | E56: =IF(SUM(SoucetDilu)=0,"",SUM(F56:J56)/SUM(SoucetDilu)*100) | F56: 0 | G56: 0 | H56: 0 | I56: 0 | J56: 0
B57: 100 | C57: MONTÁŽNÍ PRÁCE | E57: =IF(SUM(SoucetDilu)=0,"",SUM(F57:J57)/SUM(SoucetDilu)*100) | F57: 0 | G57: 0 | H57: 0 | I57: 0 | J57: 0
B58: 102 | C58: PRŮRAZ CIHLOVÝM ZDIVEM | E58: =IF(SUM(SoucetDilu)=0,"",SUM(F58:J58)/SUM(SoucetDilu)*100) | F58: 0 | G58: 0 | H58: 0 | I58: 0 | J58: 0
B59: 105 | C59: PRŮRAZ BETONOVOU ZDÍ | E59: =IF(SUM(SoucetDilu)=0,"",SUM(F59:J59)/SUM(SoucetDilu)*100) | F59: 0 | G59: 0 | H59: 0 | I59: 0 | J59: 0
B60: 108 | C60: CIHELNEM DO PLOCHY 25 dm2 | E60: =IF(SUM(SoucetDilu)=0,"",SUM(F60:J60)/SUM(SoucetDilu)*100) | F60: 0 | G60: 0 | H60: 0 | I60: 0 | J60: 0
B61: 11 | C61: Přípravné a přidružené práce | E61: =IF(SUM(SoucetDilu)=0,"",SUM(F61:J61)/SUM(SoucetDilu)*100) | F61: 0 | G61: 0 | H61: 0 | I61: 0 | J61: 0
B62: 111 | C62: CIHELNEM PRO KRABICE | E62: =IF(SUM(SoucetDilu)=0,"",SUM(F62:J62)/SUM(SoucetDilu)*100) | F62: 0 | G62: 0 | H62: 0 | I62: 0 | J62: 0
B63: 112 | C63: Dodávky - Rozvaděče | E63: =IF(SUM(SoucetDilu)=0,"",SUM(F63:J63)/SUM(SoucetDilu)*100) | F63: 0 | G63: 0 | H63: 0 | I63: 0 | J63: 0
B64: 113 | C64: Nosný systém, trubkování | E64: =IF(SUM(SoucetDilu)=0,"",SUM(F64:J64)/SUM(SoucetDilu)*100) | F64: 0 | G64: 0 | H64: 0 | I64: 0 | J64: 0
B65: 115 | C65: Spínače a zásuvky - standart ABB Tango | E65: =IF(SUM(SoucetDilu)=0,"",SUM(F65:J65)/SUM(SoucetDilu)*100) | F65: 0 | G65: 0 | H65: 0 | I65: 0 | J65: 0
B66: 116 | C66: Svítidla komplet vč. zdrojů, závěsů, upevnění ... | E66: =IF(SUM(SoucetDilu)=0,"",SUM(F66:J66)/SUM(SoucetDilu)*100) | F66: 0 | G66: 0 | H66: 0 | I66: 0 | J66: 0
B67: 118 | C67: CIHELNEM - HLOUBKA 50mm | E67: =IF(SUM(SoucetDilu)=0,"",SUM(F67:J67)/SUM(SoucetDilu)*100) | F67: 0 | G67: 0 | H67: 0 | I67: 0 | J67: 0
... B145: VN | C145: Vedlejší náklady | E145: =IF(SUM(SoucetDilu)=0,"",SUM(F145:J145)/SUM(SoucetDilu)*100) | F145: 0 | G145: 0 | H145: 0 | I145: 0 | J145: 0
B146: Celkem za stavbu | E146: =IF(SUM(SoucetDilu)=0,"",SUM(F146:J146)/SUM(SoucetDilu)*100) | F146: =SUM(F56:F145) -> 0 | G146: =SUM(G56:G145) -> 0 | H146: =SUM(H56:H145) -> 0 | I146: =SUM(I56:I145) -> 0 | J146: =SUM(J56:J145) -> 0
B153: Rekapitulace vedlejších rozpočtových nákladů
B155: Název vedlejšího nákladu | H155: Cena celkem
B156: Ztížené výrobní podmínky | H156: 0
B157: Oborová přirážka | H157: 0
B158: Přesun stavebních kapacit | H158: 0
B159: Mimostaveništní doprava | H159: 0
B160: Zařízení staveniště | H160: 0
B161: Provoz investora | H161: 0
B162: Kompletační činnost (IČD) | H162: 0
B163: Rezerva rozpočtu | H163: 0
B164: Celkem za stavbu | H164: =SUM(H156:H163) -> 0

Sheet 1 1 KL
A1: SLEPÝ ROZPOČET
A2: Rozpočet | C2: 1 | D2: Stavební část | F2: JKSO
A4: Objekt | F4: SKP
A5: 1 | C5: RD se sociálními byty Študlov | F5: Měrná jednotka
A6: Stavba | F6: Počet jednotek
A7: 2020/12 | C7: RD se sociálními byty Študlov | F7: Náklady na m.j. | G7: =IF(G6=0,,ROUND((F30+F32)/G6,1)) -> 0
A8: Projektant | F8: Typ rozpočtu
A9: Zpracovatel projektu
A10: Objednatel
A11: Dodavatel | F11: Zakázkové číslo
A12: Rozpočtoval | F12: Počet listů
A13: ROZPOČTOVÉ NÁKLADY
A14: Základní rozpočtové náklady | D14: Ostatní rozpočtové náklady
B15: HSV celkem | C15: ='1 1 Rek'!E39 -> 0 | D15: ='1 1 Rek'!A47 -> 0 | G15: ='1 1 Rek'!I47 -> 0
A16: Z | B16: PSV celkem | C16: ='1 1 Rek'!F39 -> 0
A17: R | B17: M práce celkem | C17: ='1 1 Rek'!H39 -> 0
A18: N | B18: M dodávky celkem | C18: ='1 1 Rek'!G39 -> 0
A19: ZRN celkem | C19: =SUM(C15:C18) -> 0
A21: HZS | C21: ='1 1 Rek'!I39 -> 0
A22: ZRN+HZS | C22: =C19+C21 -> 0 | D22: Ostatní náklady neuvedené | G22: =G23-SUM(G15:G21) -> 0
A23: ZRN+ost.náklady+HZS | C23: =C22+G23 -> 0 | D23: Ostatní náklady celkem | G23: ='1 1 Rek'!H45 -> 0
A24: Vypracoval | D24: Za zhotovitele | F24: Za objednatele
A25: Jméno : | D25: Jméno : | F25: Jméno :
A26: Datum : | D26: Datum : | F26: Datum :
A28: Podpis : | D28: Podpis: | F28: Podpis:
A30: Základ pro DPH | C30: 15 | D30: % | F30: =ROUND(C23-F32,0) -> 0
A31: DPH | C31: =C30 -> 15 | D31: % | F31: =ROUND(PRODUCT(F30,C31/100),1) -> 0
A32: Základ pro DPH | C32: 0 | D32: % | F32: 0
A33: DPH | C33: =C32 -> 0 | D33: % | F33: =ROUND(PRODUCT(F32,C33/100),1) -> 0
A34: CENA ZA OBJEKT CELKEM | F34: =CEILING(SUM(F30:F33),IF(SUM(F30:F33)>=0,1,-1)) -> 0
A36: Poznámka :

Sheet 1 1 Rek
A1: Stavba : | C1: 2020/12 RD se sociálními byty Študlov | G1: Rozpočet : | H1: 1
A2: Objekt : | C2: 1 RD se sociálními byty Študlov | G2: Stavební část
A4: REKAPITULACE STAVEBNÍCH DÍLŮ
B6: Stavební díl | E6: HSV | F6: PSV | G6: Dodávka | H6: Montáž | I6: HZS
A7: ='1 1 Pol'!B7 -> 1 | B7: ='1 1 Pol'!C7 -> Zemní práce | E7: ='1 1 Pol'!BA27 -> 0 | F7: ='1 1 Pol'!BB27 -> 0 | G7: ='1 1 Pol'!BC27 -> 0 | H7: ='1 1 Pol'!BD27 -> 0 | I7: ='1 1 Pol'!BE27 -> 0
A8: ='1 1 Pol'!B28 -> 2 | B8: ='1 1 Pol'!C28 -> Základy,zvláštní zakládání | E8: ='1 1 Pol'!BA51 -> 0 | F8: ='1 1 Pol'!BB51 -> 0 | G8: ='1 1 Pol'!BC51 -> 0 | H8: ='1 1 Pol'!BD51 -> 0 | I8: ='1 1 Pol'!BE51 -> 0
A9: ='1 1 Pol'!B52 -> 3 | B9: ='1 1 Pol'!C52 -> Svislé a kompletní konstrukce | E9: ='1 1 Pol'!BA113 -> 0 | F9: ='1 1 Pol'!BB113 -> 0 | G9: ='1 1 Pol'!BC113 -> 0 | H9: ='1 1 Pol'!BD113 -> 0 | I9: ='1 1 Pol'!BE113 -> 0
A10: ='1 1 Pol'!B114 -> 4 | B10: ='1 1 Pol'!C114 -> Vodorovné konstrukce | E10: ='1 1 Pol'!BA124 -> 0 | F10: ='1 1 Pol'!BB124 -> 0 | G10: ='1 1 Pol'!BC124 -> 0 | H10: ='1 1 Pol'!BD124 -> 0 | I10: ='1 1 Pol'!BE124 -> 0
A11: ='1 1 Pol'!B125 -> 5 | B11: ='1 1 Pol'!C125 -> Komunikace | E11: ='1 1 Pol'!BA133 -> 0 | F11: ='1 1 Pol'!BB133 -> 0 | G11: ='1 1 Pol'!BC133 -> 0 | H11: ='1 1 Pol'!BD133 -> 0 | I11: ='1 1 Pol'!BE133 -> 0
A12: ='1 1 Pol'!B134 -> 60 | B12: ='1 1 Pol'!C134 -> Úpravy povrchů, omítky | E12: ='1 1 Pol'!BA136 -> 0 | F12: ='1 1 Pol'!BB136 -> 0 | G12: ='1 1 Pol'!BC136 -> 0 | H12: ='1 1 Pol'!BD136 -> 0 | I12: ='1 1 Pol'!BE136 -> 0
A13: ='1 1 Pol'!B137 -> 61 | B13: ='1 1 Pol'!C137 -> Upravy povrchů vnitřní | E13: ='1 1 Pol'!BA172 -> 0 | F13: ='1 1 Pol'!BB172 -> 0 | G13: ='1 1 Pol'!BC172 -> 0 | H13: ='1 1 Pol'!BD172 -> 0 | I13: ='1 1 Pol'!BE172 -> 0
A14: ='1 1 Pol'!B173 -> 62 | B14: ='1 1 Pol'!C173 -> Upravy povrchů vnější | E14: ='1 1 Pol'!BA211 -> 0 | F14: ='1 1 Pol'!BB211 -> 0 | G14: ='1 1 Pol'!BC211 -> 0 | H14: ='1 1 Pol'!BD211 -> 0 | I14: ='1 1 Pol'!BE211 -> 0
A15: ='1 1 Pol'!B212 -> 63 | B15: ='1 1 Pol'!C212 -> Podlahy a podlahové konstrukce | E15: ='1 1 Pol'!BA220 -> 0 | F15: ='1 1 Pol'!BB220 -> 0 | G15: ='1 1 Pol'!BC220 -> 0 | H15: ='1 1 Pol'!BD220 -> 0 | I15: ='1 1 Pol'!BE220 -> 0
A16: ='1 1 Pol'!B221 -> 64 | B16: ='1 1 Pol'!C221 -> Výplně otvorů | E16: ='1 1 Pol'!BA227 -> 0 | F16: ='1 1 Pol'!BB227 -> 0 | G16: ='1 1 Pol'!BC227 -> 0 | H16: ='1 1 Pol'!BD227 -> 0 | I16: ='1 1 Pol'!BE227 -> 0
A17: ='1 1 Pol'!B228 -> 8 | B17: ='1 1 Pol'!C228 -> Trubní vedení | E17: ='1 1 Pol'!BA230 -> 0 | F17: ='1 1 Pol'!BB230 -> 0 | G17: ='1 1 Pol'!BC230 -> 0 | H17: ='1 1 Pol'!BD230 -> 0 | I17: ='1 1 Pol'!BE230 -> 0
A18: ='1 1 Pol'!B231 -> 94 | B18: ='1 1 Pol'!C231 -> Lešení a stavební výtahy | E18: ='1 1 Pol'!BA237 -> 0 | F18: ='1 1 Pol'!BB237 -> 0 | G18: ='1 1 Pol'!BC237 -> 0 | H18: ='1 1 Pol'!BD237 -> 0 | I18: ='1 1 Pol'!BE237 -> 0
A19: ='1 1 Pol'!B238 -> 95 | B19: ='1 1 Pol'!C238 -> Dokončovací kce na pozem.stav. | E19: ='1 1 Pol'!BA243 -> 0 | F19: ='1 1 Pol'!BB243 -> 0 | G19: ='1 1 Pol'!BC243 -> 0 | H19: ='1 1 Pol'!BD243 -> 0 | I19: ='1 1 Pol'!BE243 -> 0
A20: ='1 1 Pol'!B244 -> 96 | B20: ='1 1 Pol'!C244 -> Bourání konstrukcí | E20: ='1 1 Pol'!BA249 -> 0 | F20: ='1 1 Pol'!BB249 -> 0 | G20: ='1 1 Pol'!BC249 -> 0 | H20: ='1 1 Pol'!BD249 -> 0 | I20: ='1 1 Pol'!BE249 -> 0
A21: ='1 1 Pol'!B250 -> 97 | B21: ='1 1 Pol'!C250 -> Prorážení otvorů | E21: ='1 1 Pol'!BA253 -> 0 | F21: ='1 1 Pol'!BB253 -> 0 | G21: ='1 1 Pol'!BC253 -> 0 | H21: ='1 1 Pol'!BD253 -> 0 | I21: ='1 1 Pol'!BE253 -> 0
A22: ='1 1 Pol'!B254 -> 99 | B22: ='1 1 Pol'!C254 -> Staveništní přesun hmot | E22: ='1 1 Pol'!BA257 -> 0 | F22: ='1 1 Pol'!BB257 -> 0 | G22: ='1 1 Pol'!BC257 -> 0 | H22: ='1 1 Pol'!BD257 -> 0 | I22: ='1 1 Pol'!BE257 -> 0
A23: ='1 1 Pol'!B258 -> 711 | B23: ='1 1 Pol'!C258 -> Izolace proti vodě | E23: ='1 1 Pol'!BA264 -> 0 | F23: ='1 1 Pol'!BB264 -> 0 | G23: ='1 1 Pol'!BC264 -> 0 | H23: ='1 1 Pol'!BD264 -> 0 | I23: ='1 1 Pol'!BE264 -> 0
A24: ='1 1 Pol'!B265 -> 712 | B24: ='1 1 Pol'!C265 -> Živičné krytiny | E24: ='1 1 Pol'!BA277 -> 0 | F24: ='1 1 Pol'!BB277 -> 0 | G24: ='1 1 Pol'!BC277 -> 0 | H24: ='1 1 Pol'!BD277 -> 0 | I24: ='1 1 Pol'!BE277 -> 0
A25: ='1 1 Pol'!B278 -> 713 | B25: ='1 1 Pol'!C278 -> Izolace tepelné | E25: ='1 1 Pol'!BA301 -> 0 | F25: ='1 1 Pol'!BB301 -> 0 | G25: ='1 1 Pol'!BC301 -> 0 | H25: ='1 1 Pol'!BD301 -> 0 | I25: ='1 1 Pol'!BE301 -> 0
A26: ='1 1 Pol'!B302 -> 762 | B26: ='1 1 Pol'!C302 -> Konstrukce tesařské | E26: ='1 1 Pol'!BA334 -> 0 | F26: ='1 1 Pol'!BB334 -> 0 | G26: ='1 1 Pol'!BC334 -> 0 | H26: ='1 1 Pol'!BD334 -> 0 | I26: ='1 1 Pol'!BE334 -> 0
A27: ='1 1 Pol'!B335 -> 763 | B27: ='1 1 Pol'!C335 -> Dřevostavby | E27: ='1 1 Pol'!BA343 -> 0 | F27: ='1 1 Pol'!BB343 -> 0 | G27: ='1 1 Pol'!BC343 -> 0 | H27: ='1 1 Pol'!BD343 -> 0 | I27: ='1 1 Pol'!BE343 -> 0
A28: ='1 1 Pol'!B344 -> 764 | B28: ='1 1 Pol'!C344 -> Konstrukce klempířské | E28: ='1 1 Pol'!BA373 -> 0 | F28: ='1 1 Pol'!BB373 -> 0 | G28: ='1 1 Pol'!BC373 -> 0 | H28: ='1 1 Pol'!BD373 -> 0 | I28: ='1 1 Pol'!BE373 -> 0
A29: ='1 1 Pol'!B374 -> 766 | B29: ='1 1 Pol'!C374 -> Konstrukce truhlářské | E29: ='1 1 Pol'!BA417 -> 0 | F29: ='1 1 Pol'!BB417 -> 0 | G29: ='1 1 Pol'!BC417 -> 0 | H29: ='1 1 Pol'!BD417 -> 0 | I29: ='1 1 Pol'!BE417 -> 0
A30: ='1 1 Pol'!B418 -> 767 | B30: ='1 1 Pol'!C418 -> Konstrukce zámečnické | E30: ='1 1 Pol'!BA439 -> 0 | F30: ='1 1 Pol'!BB439 -> 0 | G30: ='1 1 Pol'!BC439 -> 0 | H30: ='1 1 Pol'!BD439 -> 0 | I30: ='1 1 Pol'!BE439 -> 0
A31: ='1 1 Pol'!B440 -> 771 | B31: ='1 1 Pol'!C440 -> Podlahy z dlaždic a obklady | E31: ='1 1 Pol'!BA481 -> 0 | F31: ='1 1 Pol'!BB481 -> 0 | G31: ='1 1 Pol'!BC481 -> 0 | H31: ='1 1 Pol'!BD481 -> 0 | I31: ='1 1 Pol'!BE481 -> 0
A32: ='1 1 Pol'!B482 -> 776 | B32: ='1 1 Pol'!C482 -> Podlahy povlakové | E32: ='1 1 Pol'!BA496 -> 0 | F32: ='1 1 Pol'!BB496 -> 0 | G32: ='1 1 Pol'!BC496 -> 0 | H32: ='1 1 Pol'!BD496 -> 0 | I32: ='1 1 Pol'!BE496 -> 0
A33: ='1 1 Pol'!B497 -> 782 | B33: ='1 1 Pol'!C497 -> Konstrukce z přírodního kamene | E33: ='1 1 Pol'!BA500 -> 0 | F33: ='1 1 Pol'!BB500 -> 0 | G33: ='1 1 Pol'!BC500 -> 0 | H33: ='1 1 Pol'!BD500 -> 0 | I33: ='1 1 Pol'!BE500 -> 0
A34: ='1 1 Pol'!B501 -> 783 | B34: ='1 1 Pol'!C501 -> Nátěry | E34: ='1 1 Pol'!BA510 -> 0 | F34: ='1 1 Pol'!BB510 -> 0 | G34: ='1 1 Pol'!BC510 -> 0 | H34: ='1 1 Pol'!BD510 -> 0 | I34: ='1 1 Pol'!BE510 -> 0
A35: ='1 1 Pol'!B511 -> 784 | B35: ='1 1 Pol'!C511 -> Malby | E35: ='1 1 Pol'!BA522 -> 0 | F35: ='1 1 Pol'!BB522 -> 0 | G35: ='1 1 Pol'!BC522 -> 0 | H35: ='1 1 Pol'!BD522 -> 0 | I35: ='1 1 Pol'!BE522 -> 0
A36: ='1 1 Pol'!B523 -> M22 | B36: ='1 1 Pol'!C523 -> Montáž sdělovací a zabezp.tech | E36: ='1 1 Pol'!BA525 -> 0 | F36: ='1 1 Pol'!BB525 -> 0 | G36: ='1 1 Pol'!BC525 -> 0 | H36: ='1 1 Pol'!BD525 -> 0 | I36: ='1 1 Pol'!BE525 -> 0
A37: ='1 1 Pol'!B526 -> M46 | B37: ='1 1 Pol'!C526 -> Zemní práce při montážích | E37: ='1 1 Pol'!BA528 -> 0 | F37: ='1 1 Pol'!BB528 -> 0 | G37: ='1 1 Pol'!BC528 -> 0 | H37: ='1 1 Pol'!BD528 -> 0 | I37: ='1 1 Pol'!BE528 -> 0
A38: ='1 1 Pol'!B529 -> VN | B38: ='1 1 Pol'!C529 -> Vedlejší náklady | E38: ='1 1 Pol'!BA538 -> 0 | F38: ='1 1 Pol'!BB538 -> 0 | G38: ='1 1 Pol'!BC538 -> 0 | H38: ='1 1 Pol'!BD538 -> 0 | I38: ='1 1 Pol'!BE538 -> 0
B39: CELKEM OBJEKT | E39: =SUM(E7:E38) -> 0 | F39: =SUM(F7:F38) -> 0 | G39: =SUM(G7:G38) -> 0 | H39: =SUM(H7:H38) -> 0 | I39: =SUM(I7:I38) -> 0
A41: VEDLEJŠÍ ROZPOČTOVÉ NÁKLADY
A43: Název VRN | E43: Kč | F43: % | G43: Základna | I43: Kč
G44: =CHOOSE(BA44+1,E39+F39,E39+F39+H39,E39+F39+G39+H39,E39,F39,H39,G39,H39+G39,0) -> 0 | I44: =E44+F44*G44/100 -> 0 | BA44: 8
B45: CELKEM VRN | H45: =SUM(I44:I44) -> 0

Sheet 1 1 Pol
A3: Stavba : | C3: 2020/12 RD se sociálními byty Študlov | E3: Rozpočet: | F3: ='1 1 Rek'!H1 -> 1
A4: Objekt : | C4: 1 RD se sociálními byty Študlov | E4: ='1 1 Rek'!G2 -> Stavební část
A6: P.č. | B6: Číslo položky | C6: Název položky | D6: MJ | E6: množství | F6: cena / MJ | G6: celkem (Kč) | H6: Jednotková hmotnost | I6: Celková hmotnost | J6: Jednotková dem.hmot. | K6: Celková dem.hmot.
A7: Díl: | B7: 1 | C7: Zemní práce | O7: 1
A8: 1 | B8: 111200001RA0 | C8: Odstranění křovin a stromů do 100 mm, spálení | D8: m2 | E8: 45 | F8: 0 | G8: =E8*F8 -> 0 | H8: 0 | I8: =E8*H8 -> 0 | J8: 0 | K8: =E8*J8 -> 0 | O8: 2 | AA8: 2 | AB8: 1 | AC8: 1 | AZ8: 1 | BA8: =IF(AZ8=1,G8,0) -> 0 | BB8: =IF(AZ8=2,G8,0) -> 0 | BC8: =IF(AZ8=3,G8,0) -> 0 | BD8: =IF(AZ8=4,G8,0) -> 0 | BE8: =IF(AZ8=5,G8,0) -> 0 | CA8: 2 | CB8: 1
A9: 2 | B9: 162201401R00 | C9: Vod.přemístění větví listnatých, do D 30 cm do 1000 m | D9: kus | E9: 50 | F9: 0 | G9: =E9*F9 -> 0 | H9: 0 | I9: =E9*H9 -> 0 | J9: 0 | K9: =E9*J9 -> 0 | O9: 2 | AA9: 1 | AB9: 1 | AC9: 1 | AZ9: 1 | BA9: =IF(AZ9=1,G9,0) -> 0 | BB9: =IF(AZ9=2,G9,0) -> 0 | BC9: =IF(AZ9=3,G9,0) -> 0 | BD9: =IF(AZ9=4,G9,0) -> 0 | BE9: =IF(AZ9=5,G9,0) -> 0 | CA9: 1 | CB9: 1
A10: 3 | B10: 132200010RA0 | C10: Hloubení nezapaž. rýh šířky do 60 cm v hornině 1-4 | D10: m3 | E10: 3.2165 | F10: 0 | G10: =E10*F10 -> 0 | H10: 0 | I10: =E10*H10 -> 0 | J10: 0 | K10: =E10*J10 -> 0 | O10: 2 | AA10: 2 | AB10: 1 | AC10: 1 | AZ10: 1 | BA10: =IF(AZ10=1,G10,0) -> 0 | BB10: =IF(AZ10=2,G10,0) -> 0 | BC10: =IF(AZ10=3,G10,0) -> 0 | BD10: =IF(AZ10=4,G10,0) -> 0 | BE10: =IF(AZ10=5,G10,0) -> 0 | CA10: 2 | CB10: 1
C11: op.zed , 02:2,13*0,65 | E11: 1.3845 | M11: op.zed , 02:2,13*0,65
C12: zadního zákl. závětří:2*0,6*0,6*0,6 | E12: 0.432 | M12: zadního zákl. závětří:2*0,6*0,6*0,6
C13: op.zed, 01:7*0,2 | E13: 1.4 | M13: op.zed, 01:7*0,2
A14: 4 | B14: 133201101R00 | C14: Hloubení šachet v hor.3 do 100 m3 | D14: m3 | E14: 2.0779 | F14: 0 | G14: =E14*F14 -> 0 | H14: 0 | I14: =E14*H14 -> 0 | J14: 0 | K14: =E14*J14 -> 0 | O14: 2 | AA14: 1 | AB14: 1 | AC14: 1 | AZ14: 1 | BA14: =IF(AZ14=1,G14,0) -> 0 | BB14: =IF(AZ14=2,G14,0) -> 0 | BC14: =IF(AZ14=3,G14,0) -> 0 | BD14: =IF(AZ14=4,G14,0) -> 0 | BE14: =IF(AZ14=5,G14,0) -> 0 | CA14: 1 | CB14: 1
C15: STÁNÍ PRO AUTOMOBILY -patky gar.stání:5*0,6*0,6*0,78 | E15: 1.404 | M15: STÁNÍ PRO AUTOMOBILY -patky gar.stání:5*0,6*0,6*0,78
C16: 3*0,6*0,48*0,78 | E16: 0.6739 | M16: 3*0,6*0,48*0,78
A17: 5 | B17: 122201101R00 | C17: Odkopávky nezapažené v hor. 3 do 100 m3 | D17: m3 | E17: 85.2175 | F17: 0 | G17: =E17*F17 -> 0 | H17: 0 | I17: =E17*H17 -> 0 | J17: 0 | K17: =E17*J17 -> 0 | O17: 2 | AA17: 1 | AB17: 1 | AC17: 1 | AZ17: 1 | BA17: =IF(AZ17=1,G17,0) -> 0 | BB17: =IF(AZ17=2,G17,0) -> 0 | BC17: =IF(AZ17=3,G17,0) -> 0 | BD17: =IF(AZ17=4,G17,0) -> 0 | BE17: =IF(AZ17=5,G17,0) -> 0 | CA17: 1 | CB17: 1
C18: chodník:38,47*0,25 | E18: 9.6175 | M18: chodník:38,47*0,25
C19: HTÚ opěrná zed:54*0,5 | E19: 27 | M19: HTÚ opěrná zed:54*0,5
C20: Garážové stání:36*1,1 | E20: 39.6 | M20: Garážové stání:36*1,1
C21: HTÚ svahu:18*0,5 | E21: 9 | M21: HTÚ svahu:18*0,5
A22: 6 | B22: 162100010RA0 | C22: Vodorovné přemístění výkopku | D22: m3 | E22: 85.21 | F22: 0 | G22: =E22*F22 -> 0 | H22: 0 | I22: =E22*H22 -> 0 | J22: 0 | K22: =E22*J22 -> 0 | O22: 2 | AA22: 2 | AB22: 1 | AC22: 1 | AZ22: 1 | BA22: =IF(AZ22=1,G22,0) -> 0 | BB22: =IF(AZ22=2,G22,0) -> 0 | BC22: =IF(AZ22=3,G22,0) -> 0 | BD22: =IF(AZ22=4,G22,0) -> 0 | BE22: =IF(AZ22=5,G22,0) -> 0 | CA22: 2 | CB22: 1
A23: 7 | B23: 162100010RAC | C23: Vodorovné přemístění výkopku, příplatek za každých dalších 10 km | D23: m3 | E23: 85.21 | F23: 0 | G23: =E23*F23 -> 0 | H23: 0 | I23: =E23*H23 -> 0 | J23: 0 | K23: =E23*J23 -> 0 | O23: 2 | AA23: 2 | AB23: 1 | AC23: 1 | AZ23: 1 | BA23: =IF(AZ23=1,G23,0) -> 0 | BB23: =IF(AZ23=2,G23,0) -> 0 | BC23: =IF(AZ23=3,G23,0) -> 0 | BD23: =IF(AZ23=4,G23,0) -> 0 | BE23: =IF(AZ23=5,G23,0) -> 0 | CA23: 2 | CB23: 1
A24: 8 | B24: 181101102R00 | C24: Úprava pláně v zářezech v hor. 1-4, se zhutněním, plocha vjezdu a stání aut | D24: m2 | E24: 123.11 | F24: 0 | G24: =E24*F24 -> 0 | H24: 0 | I24: =E24*H24 -> 0 | J24: 0 | K24: =E24*J24 -> 0 | O24: 2 | AA24: 1 | AB24: 1 | AC24: 1 | AZ24: 1 | BA24: =IF(AZ24=1,G24,0) -> 0 | BB24: =IF(AZ24=2,G24,0) -> 0 | BC24: =IF(AZ24=3,G24,0) -> 0 | BD24: =IF(AZ24=4,G24,0) -> 0 | BE24: =IF(AZ24=5,G24,0) -> 0 | CA24: 1 | CB24: 1
A25: 9 | B25: 181101101R00 | C25: Úprava pláně v zářezech v hor. 1-4, bez zhutnění, svah za přístřeškem+prostor před vstupem | D25: m2 | E25: 68 | F25: 0 | G25: =E25*F25 -> 0 | H25: 0 | I25: =E25*H25 -> 0 | J25: 0 | K25: =E25*J25 -> 0 | O25: 2 | AA25: 1 | AB25: 1 | AC25: 1 | AZ25: 1 | BA25: =IF(AZ25=1,G25,0) -> 0 | BB25: =IF(AZ25=2,G25,0) -> 0 | BC25: =IF(AZ25=3,G25,0) -> 0 | BD25: =IF(AZ25=4,G25,0) -> 0 | BE25: =IF(AZ25=5,G25,0) -> 0 | CA25: 1 | CB25: 1
A26: 10 | B26: 199000002R00 | C26: Poplatek za skládku horniny 1- 4 | D26: m3 | E26: 85.21 | F26: 0 | G26: =E26*F26 -> 0 | H26: 0 | I26: =E26*H26 -> 0 | J26: 0 | K26: =E26*J26 -> 0 | O26: 2 | AA26: 1 | AB26: 1 | AC26: 1 | AZ26: 1 | BA26: =IF(AZ26=1,G26,0) -> 0 | BB26: =IF(AZ26=2,G26,0) -> 0 | BC26: =IF(AZ26=3,G26,0) -> 0 | BD26: =IF(AZ26=4,G26,0) -> 0 | BE26: =IF(AZ26=5,G26,0) -> 0 | CA26: 1 | CB26: 1
B27: Celkem za | C27: 1 Zemní práce | G27: =SUM(G7:G26) -> 0 | I27: =SUM(I7:I26) -> 0 | K27: =SUM(K7:K26) -> 0 | O27: 4 | BA27: =SUM(BA7:BA26) -> 0 | BB27: =SUM(BB7:BB26) -> 0 | BC27: =SUM(BC7:BC26) -> 0 | BD27: =SUM(BD7:BD26) -> 0 | BE27: =SUM(BE7:BE26) -> 0
A28: Díl: | B28: 2 | C28: Základy,zvláštní zakládání | O28: 1
A29: 11 | B29: 215901101RT5 | C29: Zhutnění podloží z hornin nesoudržných do 92% PS, vibrační deskou-chodník okolo objektu | D29: m2 | E29: 51.77 | F29: 0 | G29: =E29*F29 -> 0 | H29: 0 | I29: =E29*H29 -> 0 | J29: 0 | K29: =E29*J29 -> 0 | O29: 2 | AA29: 1 | AB29: 1 | AC29: 1 | AZ29: 1 | BA29: =IF(AZ29=1,G29,0) -> 0 | BB29: =IF(AZ29=2,G29,0) -> 0 | BC29: =IF(AZ29=3,G29,0) -> 0 | BD29: =IF(AZ29=4,G29,0) -> 0 | BE29: =IF(AZ29=5,G29,0) -> 0 | CA29: 1 | CB29: 1
A30: 12 | B30: 273321311R00 | C30: Železobeton základových desek C 16/20 | D30: m3 | E30: 2.15 | F30: 0 | G30: =E30*F30 -> 0 | H30: 0 | I30: =E30*H30 -> 0 | J30: 0 | K30: =E30*J30 -> 0 | O30: 2 | AA30: 1 | AB30: 1 | AC30: 1 | AZ30: 1 | BA30: =IF(AZ30=1,G30,0) -> 0 | BB30: =IF(AZ30=2,G30,0) -> 0 | BC30: =IF(AZ30=3,G30,0) -> 0 | BD30: =IF(AZ30=4,G30,0) -> 0 | BE30: =IF(AZ30=5,G30,0) -> 0 | CA30: 1 | CB30: 1
C31: deska závětří zadního vstupu:6*0,1 | E31: 0.6 | M31: deska závětří zadního vstupu:6*0,1
C32: deska plochy vstupu:15,5*0,1 | E32: 1.55 | M32: deska plochy vstupu:15,5*0,1
A33: 13 | B33: 273361921RT4 | C33: Výztuž základových desek ze svařovaných sítí, průměr drátu 6,0, oka 100/100 mm KH30 | D33: t | E33: 0.068 | F33: 0 | G33: =E33*F33 -> 0 | H33: 0 | I33: =E33*H33 -> 0 | J33: 0 | K33: =E33*J33 -> 0 | O33: 2 | AA33: 1 | AB33: 1 | AC33: 1 | AZ33: 1 | BA33: =IF(AZ33=1,G33,0) -> 0 | BB33: =IF(AZ33=2,G33,0) -> 0 | BC33: =IF(AZ33=3,G33,0) -> 0 | BD33: =IF(AZ33=4,G33,0) -> 0 | BE33: =IF(AZ33=5,G33,0) -> 0 | CA33: 1 | CB33: 1
A34: 14 | B34: 271100010RA0 | C34: Polštář pod základy ze štěrkopísku | D34: m3 | E34: 1.4359 | F34: 0 | G34: =E34*F34 -> 0 | H34: 0 | I34: =E34*H34 -> 0 | J34: 0 | K34: =E34*J34 -> 0 | O34: 2 | AA34: 2 | AB34: 1 | AC34: 1 | AZ34: 1 | BA34: =IF(AZ34=1,G34,0) -> 0 | BB34: =IF(AZ34=2,G34,0) -> 0 | BC34: =IF(AZ34=3,G34,0) -> 0 | BD34: =IF(AZ34=4,G34,0) -> 0 | BE34: =IF(AZ34=5,G34,0) -> 0 | CA34: 2 | CB34: 1
C35: základ přístup.chodníku:8,25*0,2*0,15 | E35: 0.2475 | M35: základ přístup.chodníku:8,25*0,2*0,15
C36: patky:10*0,6*0,6*0,15 | E36: 0.54 | M36: patky:10*0,6*0,6*0,15
C37: základ opěrné zdi:6,65*0,65*0,15 | E37: 0.6484 | M37: základ opěrné zdi:6,65*0,65*0,15
A38: 15 | B38: 274351215R00 | C38: Bednění stěn základových pasů - zřízení | D38: m2 | E38: 5 | F38: 0 | G38: =E38*F38 -> 0 | H38: 0 | I38: =E38*H38 -> 0 | J38: 0 | K38: =E38*J38 -> 0 | O38: 2 | AA38: 1 | AB38: 0 | AC38: 0 | AZ38: 1 | BA38: =IF(AZ38=1,G38,0) -> 0 | BB38: =IF(AZ38=2,G38,0) -> 0 | BC38: =IF(AZ38=3,G38,0) -> 0 | BD38: =IF(AZ38=4,G38,0) -> 0 | BE38: =IF(AZ38=5,G38,0) -> 0 | CA38: 1 | CB38: 0
C39: op.stěna 01:5 | E39: 5 | M39: op.stěna 01:5
A40: 16 | B40: 274351292R00 | C40: Odstranění bednění stěn základových pasů | D40: m2 | E40: 5 | F40: 0 | G40: =E40*F40 -> 0 | H40: 0 | I40: =E40*H40 -> 0 | J40: 0 | K40: =E40*J40 -> 0 | O40: 2 | AA40: 1 | AB40: 1 | AC40: 1 | AZ40: 1 | BA40: =IF(AZ40=1,G40,0) -> 0 | BB40: =IF(AZ40=2,G40,0) -> 0 | BC40: =IF(AZ40=3,G40,0) -> 0 | BD40: =IF(AZ40=4,G40,0) -> 0 | BE40: =IF(AZ40=5,G40,0) -> 0 | CA40: 1 | CB40: 1
A41: 17 | B41: 274361921R00 | C41: Výztuž základových pasů ze svařovaných sítí | D41: t | E41: 0.097 | F41: 0 | G41: =E41*F41 -> 0 | H41: 0 | I41: =E41*H41 -> 0 | J41: 0 | K41: =E41*J41 -> 0 | O41: 2 | AA41: 1 | AB41: 1 | AC41: 1 | AZ41: 1 | BA41: =IF(AZ41=1,G41,0) -> 0 | BB41: =IF(AZ41=2,G41,0) -> 0 | BC41: =IF(AZ41=3,G41,0) -> 0 | BD41: =IF(AZ41=4,G41,0) -> 0 | BE41: =IF(AZ41=5,G41,0) -> 0 | CA41: 1 | CB41: 1
A42: 18 | B42: 274361821R00 | C42: Výztuž základ. pasů z betonářské oceli 10505 (R) | D42: t | E42: 0.035 | F42: 0 | G42: =E42*F42 -> 0 | H42: 0 | I42: =E42*H42 -> 0 | J42: 0 | K42: =E42*J42 -> 0 | O42: 2 | AA42: 1 | AB42: 1 | AC42: 1 | AZ42: 1 | BA42: =IF(AZ42=1,G42,0) -> 0 | BB42: =IF(AZ42=2,G42,0) -> 0 | BC42: =IF(AZ42=3,G42,0) -> 0 | BD42: =IF(AZ42=4,G42,0) -> 0 | BE42: =IF(AZ42=5,G42,0) -> 0 | CA42: 1 | CB42: 1
A43: 19 | B43: 275321311R00 | C43: Železobeton základových patek C 16/20 | D43: m3 | E43: 2.304 | F43: 0 | G43: =E43*F43 -> 0 | H43: 0 | I43: =E43*H43 -> 0 | J43: 0 | K43: =E43*J43 -> 0 | O43: 2 | AA43: 1 | AB43: 1 | AC43: 1 | AZ43: 1 | BA43: =IF(AZ43=1,G43,0) -> 0 | BB43: =IF(AZ43=2,G43,0) -> 0 | BC43: =IF(AZ43=3,G43,0) -> 0 | BD43: =IF(AZ43=4,G43,0) -> 0 | BE43: =IF(AZ43=5,G43,0) -> 0 | CA43: 1 | CB43: 1
C44: základ př.:6*0,6*0,6*0,8 | E44: 1.728 | M44: základ př.:6*0,6*0,6*0,8
C45: zadní vstup:2*0,6*0,6*0,8 | E45: 0.576 | M45: zadní vstup:2*0,6*0,6*0,8
A46: 20 | B46: 275361921RT2 | C46: Výztuž základových patek ze svařovaných sítí, průměr drátu 5,0, oka 100/100 mm KD35 | D46: t | E46: 0.055 | F46: 0 | G46: =E46*F46 -> 0 | H46: 0 | I46: =E46*H46 -> 0 | J46: 0 | K46: =E46*J46 -> 0 | O46: 2 | AA46: 1 | AB46: 1 | AC46: 1 | AZ46: 1 | BA46: =IF(AZ46=1,G46,0) -> 0 | BB46: =IF(AZ46=2,G46,0) -> 0 | BC46: =IF(AZ46=3,G46,0) -> 0 | BD46: =IF(AZ46=4,G46,0) -> 0 | BE46: =IF(AZ46=5,G46,0) -> 0 | CA46: 1 | CB46: 1
A47: 21 | B47: 275351215R00 | C47: Bednění stěn základových patek - zřízení | D47: m2 | E47: 8 | F47: 0 | G47: =E47*F47 -> 0 | H47: 0 | I47: =E47*H47 -> 0 | J47: 0 | K47: =E47*J47 -> 0 | O47: 2 | AA47: 1 | AB47: 1 | AC47: 1 | AZ47: 1 | BA47: =IF(AZ47=1,G47,0) -> 0 | BB47: =IF(AZ47=2,G47,0) -> 0 | BC47: =IF(AZ47=3,G47,0) -> 0 | BD47: =IF(AZ47=4,G47,0) -> 0 | BE47: =IF(AZ47=5,G47,0) -> 0 | CA47: 1 | CB47: 1
C48: STÁNÍ PRO AUTOMOBILY:8 | E48: 8 | M48: STÁNÍ PRO AUTOMOBILY:8
A49: 22 | B49: 275351216R00 | C49: Bednění stěn základových patek - odstranění | D49: m2 | E49: 8 | F49: 0 | G49: =E49*F49 -> 0 | H49: 0 | I49: =E49*H49 -> 0 | J49: 0 | K49: =E49*J49 -> 0 | O49: 2 | AA49: 1 | AB49: 1 | AC49: 1 | AZ49: 1 | BA49: =IF(AZ49=1,G49,0) -> 0 | BB49: =IF(AZ49=2,G49,0) -> 0 | BC49: =IF(AZ49=3,G49,0) -> 0 | BD49: =IF(AZ49=4,G49,0) -> 0 | BE49: =IF(AZ49=5,G49,0) -> 0 | CA49: 1 | CB49: 1
C50: STÁNÍ PRO AUTOMOBILY:8 | E50: 8 | M50: STÁNÍ PRO AUTOMOBILY:8
B51: Celkem za | C51: 2 Základy,zvláštní zakládání | G51: =SUM(G28:G50) -> 0 | I51: =SUM(I28:I50) -> 0 | K51: =SUM(K28:K50) -> 0 | O51: 4 | BA51: =SUM(BA28:BA50) -> 0 | BB51: =SUM(BB28:BB50) -> 0 | BC51: =SUM(BC28:BC50) -> 0 | BD51: =SUM(BD28:BD50) -> 0 | BE51: =SUM(BE28:BE50) -> 0
A52: Díl: | B52: 3 | C52: Svislé a kompletní konstrukce | O52: 1
A53: 23 | B53: 31794vp | C53: PR1,2-Osazení válcovaných profilů dodatečně, vysekání drážky, - mater. ve specif. | D53: ks | E53: 4 | F53: 0 | G53: =E53*F53 -> 0 | H53: 0 | I53: =E53*H53 -> 0 | K53: =E53*J53 -> 0 | O53: 2 | AA53: 12 | AB53: 0 | AC53: 23 | AZ53: 1 | BA53: =IF(AZ53=1,G53,0) -> 0 | BB53: =IF(AZ53=2,G53,0) -> 0 | BC53: =IF(AZ53=3,G53,0) -> 0 | BD53: =IF(AZ53=4,G53,0) -> 0 | BE53: =IF(AZ53=5,G53,0) -> 0 | CA53: 12 | CB53: 0
C54: PR1,2-vysekání, úprava rozn.plochy, svaření prof.pásovinou,osazení,:4 | E54: 4 | M54: PR1,2-vysekání, úprava rozn.plochy, svaření prof.pásovinou,osazení,:4
C55: zapravení zednické, včet. dod. pásoviny,plotny: | E55: 0 | M55: zapravení zednické, včet. dod. pásoviny,plotny:
A56: 24 | B56: 31794vp | C56: PR 3,4-Osazení válcovaných profilů dodatečně, vysekání drážky, - mater. ve specif. | D56: ks | E56: 4 | F56: 0 | G56: =E56*F56 -> 0 | H56: 0 | I56: =E56*H56 -> 0 | K56: =E56*J56 -> 0 | O56: 2 | AA56: 12 | AB56: 0 | AC56: 24 | AZ56: 1 | BA56: =IF(AZ56=1,G56,0) -> 0 | BB56: =IF(AZ56=2,G56,0) -> 0 | BC56: =IF(AZ56=3,G56,0) -> 0 | BD56: =IF(AZ56=4,G56,0) -> 0 | BE56: =IF(AZ56=5,G56,0) -> 0 | CA56: 12 | CB56: 0
C57: PR3,4-vysekání, úprava rozn.plochy, svaření prof.pásovinou,osazení,:4 | E57: 4 | M57: PR3,4-vysekání, úprava rozn.plochy, svaření prof.pásovinou,osazení,:4
C58: zapravení zednické, včet. dod. pásoviny,plotny: | E58: 0 | M58: zapravení zednické, včet. dod. pásoviny,plotny:
A59: 25 | B59: 31794vp | C59: PR 5,6,8-Osazení válcovaných profilů dodatečně, vysekání drážky, - mater. ve specif. | D59: ks | E59: 6 | F59: 0 | G59: =E59*F59 -> 0 | H59: 0 | I59: =E59*H59 -> 0 | K59: =E59*J59 -> 0 | O59: 2 | AA59: 12 | AB59: 0 | AC59: 25 | AZ59: 1 | BA59: =IF(AZ59=1,G59,0) -> 0 | BB59: =IF(AZ59=2,G59,0) -> 0 | BC59: =IF(AZ59=3,G59,0) -> 0 | BD59: =IF(AZ59=4,G59,0) -> 0 | BE59: =IF(AZ59=5,G59,0) -> 0 | CA59: 12 | CB59: 0
C60: 1.n.p.:6 | E60: 6 | M60: 1.n.p.:6
C61: zapravení zednické, včet. dod. pásoviny,plotny: | E61: 0 | M61: zapravení zednické, včet. dod. pásoviny,plotny:
A62: 26 | B62: 31794vp | C62: PR 9,10,11,12-Osazení válcovaných profi dodatečně, vysekání drážky, - mater. ve specif. | D62: ks | E62: 8 | F62: 0 | G62: =E62*F62 -> 0 | H62: 0 | I62: =E62*H62 -> 0 | K62: =E62*J62 -> 0 | O62: 2 | AA62: 12 | AB62: 0 | AC62: 26 | AZ62: 1 | BA62: =IF(AZ62=1,G62,0) -> 0 | BB62: =IF(AZ62=2,G62,0) -> 0 | BC62: =IF(AZ62=3,G62,0) -> 0 | BD62: =IF(AZ62=4,G62,0) -> 0 | BE62: =IF(AZ62=5,G62,0) -> 0 | CA62: 12 | CB62: 0
C63: 8 | E63: 8 | M63: 8
C64: zapravení zednické, včet. dod. pásoviny,plotny: | E64: 0 | M64: zapravení zednické, včet. dod. pásoviny,plotny:
A65: 27 | B65: 13380520R | C65: Tyč průřezu I 120, střední, jakost oceli 11373 | D65: t | E65: 0.0882 | F65: 0 | G65: =E65*F65 -> 0 | H65: 0 | I65: =E65*H65 -> 0 | J65: 0 | K65: =E65*J65 -> 0 | O65: 2 | AA65: 1 | AB65: 1 | AC65: 1 | AZ65: 1 | BA65: =IF(AZ65=1,G65,0) -> 0 | BB65: =IF(AZ65=2,G65,0) -> 0 | BC65: =IF(AZ65=3,G65,0) -> 0 | BD65: =IF(AZ65=4,G65,0) -> 0 | BE65: =IF(AZ65=5,G65,0) -> 0 | CA65: 1 | CB65: 1
C66: profil I 120:7,95*11,1*0,001 | E66: 0.0882 | M66: profil I 120:7,95*11,1*0,001
A67: 28 | B67: 13380515R | C67: Tyč průřezu I 100, střední, jakost oceli 11373 | D67: t | E67: 0.1643 | F67: 0 | G67: =E67*F67 -> 0 | H67: 0 | I67: =E67*H67 -> 0 | J67: 0 | K67: =E67*J67 -> 0 | O67: 2 | AA67: 1 | AB67: 1 | AC67: 1 | AZ67: 1 | BA67: =IF(AZ67=1,G67,0) -> 0 | BB67: =IF(AZ67=2,G67,0) -> 0 | BC67: =IF(AZ67=3,G67,0) -> 0 | BD67: =IF(AZ67=4,G67,0) -> 0 | BE67: =IF(AZ67=5,G67,0) -> 0 | CA67: 1 | CB67: 1
C68: profil I 100:19,7*8,34*0,001 | E68: 0.1643 | M68: profil I 100:19,7*8,34*0,001
A69: 29 | B69: 13480815R | C69: Tyč průřezu I 200, hrubé, jakost oceli 11373 | D69: t | E69: 0.2672 | F69: 0 | G69: =E69*F69 -> 0 | H69: 0 | I69: =E69*H69 -> 0 | J69: 0 | K69: =E69*J69 -> 0 | O69: 2 | AA69: 1 | AB69: 1 | AC69: 1 | AZ69: 1 | BA69: =IF(AZ69=1,G69,0) -> 0 | BB69: =IF(AZ69=2,G69,0) -> 0 | BC69: =IF(AZ69=3,G69,0) -> 0 | BD69: =IF(AZ69=4,G69,0) -> 0 | BE69: =IF(AZ69=5,G69,0) -> 0 | CA69: 1 | CB69: 1
C70: profil I 200:10,2*26,2*0,001 | E70: 0.2672 | M70: profil I 200:10,2*26,2*0,001
A71: 30 | B71: 13380630R | C71: Tyč průřezu I 160, střední, jakost oceli S235, 11375 | D71: t | E71: 0.256 | F71: 0 | G71: =E71*F71 -> 0 | H71: 0 | I71: =E71*H71 -> 0 | J71: 0 | K71: =E71*J71 -> 0 | O71: 2 | AA71: 1 | AB71: 1 | AC71: 1 | AZ71: 1 | BA71: =IF(AZ71=1,G71,0) -> 0 | BB71: =IF(AZ71=2,G71,0) -> 0 | BC71: =IF(AZ71=3,G71,0) -> 0 | BD71: =IF(AZ71=4,G71,0) -> 0 | BE71: =IF(AZ71=5,G71,0) -> 0 | CA71: 1 | CB71: 1
C72: profil I 160:14,3*17,9*0,001 | E72: 0.256 | M72: profil I 160:14,3*17,9*0,001
A73: 31 | B73: 31716001 | C73: PR7,13-Překlad plynosilikát-100x249x1250 mm | D73: kus | E73: 5 | F73: 0 | G73: =E73*F73 -> 0 | H73: 0 | I73: =E73*H73 -> 0 | K73: =E73*J73 -> 0 | O73: 2 | AA73: 3 | AB73: 0 | AC73: 31716001 | AZ73: 1 | BA73: =IF(AZ73=1,G73,0) -> 0 | BB73: =IF(AZ73=2,G73,0) -> 0 | BC73: =IF(AZ73=3,G73,0) -> 0 | BD73: =IF(AZ73=4,G73,0) -> 0 | BE73: =IF(AZ73=5,G73,0) -> 0 | CA73: 3 | CB73: 0
A74: 32 | B74: 31716001 | C74: PR7,13-Překlad plynosilikát-100x249x1250 mm | D74: kus | E74: 5 | F74: 0 | G74: =E74*F74 -> 0 | H74: 0 | I74: =E74*H74 -> 0 | K74: =E74*J74 -> 0 | O74: 2 | AA74: 3 | AB74: 0 | AC74: 31716001 | AZ74: 1 | BA74: =IF(AZ74=1,G74,0) -> 0 | BB74: =IF(AZ74=2,G74,0) -> 0 | BC74: =IF(AZ74=3,G74,0) -> 0 | BD74: =IF(AZ74=4,G74,0) -> 0 | BE74: =IF(AZ74=5,G74,0) -> 0 | CA74: 3 | CB74: 0
A75: 33 | B75: 317234410RT2 | C75: Vyzdívka mezi nosníky cihlami pálenými na MC, s použitím suché maltové směsi | D75: m3 | E75: 0.02 | F75: 0 | G75: =E75*F75 -> 0 | H75: 0 | I75: =E75*H75 -> 0 | J75: 0 | K75: =E75*J75 -> 0 | O75: 2 | AA75: 1 | AB75: 1 | AC75: 1 | AZ75: 1 | BA75: =IF(AZ75=1,G75,0) -> 0 | BB75: =IF(AZ75=2,G75,0) -> 0 | BC75: =IF(AZ75=3,G75,0) -> 0 | BD75: =IF(AZ75=4,G75,0) -> 0 | BE75: =IF(AZ75=5,G75,0) -> 0 | CA75: 1 | CB75: 1
A76: 34 | B76: 319201311R00 | C76: Vyrovnání povrchu zdiva maltou tl.do 3 cm | D76: m2 | E76: 6.7 | F76: 0 | G76: =E76*F76 -> 0 | H76: 0 | I76: =E76*H76 -> 0 | J76: 0 | K76: =E76*J76 -> 0 | O76: 2 | AA76: 1 | AB76: 1 | AC76: 1 | AZ76: 1 | BA76: =IF(AZ76=1,G76,0) -> 0 | BB76: =IF(AZ76=2,G76,0) -> 0 | BC76: =IF(AZ76=3,G76,0) -> 0 | BD76: =IF(AZ76=4,G76,0) -> 0 | BE76: =IF(AZ76=5,G76,0) -> 0 | CA76: 1 | CB76: 1
C77: 1.PP-ostění a nadpraží po vybourání otvoru dveří:2,4 | E77: 2.4 | M77: 1.PP-ostění a nadpraží po vybourání otvoru dveří:2,4
C78: 1.np- dtto:1,5 | E78: 1.5 | M78: 1.np- dtto:1,5
C79: podkroví-dtto:2,8 | E79: 2.8 | M79: podkroví-dtto:2,8
A80: 35 | B80: 34224vp | C80: Příčka jednoduchá plynosilikát tl.10cm | D80: m2 | E80: 26.532 | F80: 0 | G80: =E80*F80 -> 0 | H80: 0 | I80: =E80*H80 -> 0 | K80: =E80*J80 -> 0 | O80: 2 | AA80: 12 | AB80: 0 | AC80: 35 | AZ80: 1 | BA80: =IF(AZ80=1,G80,0) -> 0 | BB80: =IF(AZ80=2,G80,0) -> 0 | BC80: =IF(AZ80=3,G80,0) -> 0 | BD80: =IF(AZ80=4,G80,0) -> 0 | BE80: =IF(AZ80=5,G80,0) -> 0 | CA80: 12 | CB80: 0
C81: suteren:3,95*2,23*2 | E81: 17.617 | M81: suteren:3,95*2,23*2
C82: 1.np:2,8*2,65 | E82: 7.42 | M82: 1.np:2,8*2,65
C83: 2.np:1,1*2,45-1,2 | E83: 1.495 | M83: 2.np:1,1*2,45-1,2
A84: 36 | B84: 34224vp | C84: Příčka jednoduchá plynosilikát tl.12,5cm | D84: m2 | E84: 9.54 | F84: 0 | G84: =E84*F84 -> 0 | H84: 0 | I84: =E84*H84 -> 0 | K84: =E84*J84 -> 0 | O84: 2 | AA84: 12 | AB84: 0 | AC84: 36 | AZ84: 1 | BA84: =IF(AZ84=1,G84,0) -> 0 | BB84: =IF(AZ84=2,G84,0) -> 0 | BC84: =IF(AZ84=3,G84,0) -> 0 | BD84: =IF(AZ84=4,G84,0) -> 0 | BE84: =IF(AZ84=5,G84,0) -> 0 | CA84: 12 | CB84: 0
C85: 1.np:2*2,65 | E85: 5.3 | M85: 1.np:2*2,65
C86: 1.np dozdívky:1,6*2,65 | E86: 4.24 | M86: 1.np dozdívky:1,6*2,65
A87: 37 | B87: 34224vp | C87: Příčka jednoduchá plynosilikát tl.15cm | D87: m2 | E87: 2.35 | F87: 0 | G87: =E87*F87 -> 0 | H87: 0 | I87: =E87*H87 -> 0 | K87: =E87*J87 -> 0 | O87: 2 | AA87: 12 | AB87: 0 | AC87: 37 | AZ87: 1 | BA87: =IF(AZ87=1,G87,0) -> 0 | BB87: =IF(AZ87=2,G87,0) -> 0 | BC87: =IF(AZ87=3,G87,0) -> 0 | BD87: =IF(AZ87=4,G87,0) -> 0 | BE87: =IF(AZ87=5,G87,0) -> 0 | CA87: 12 | CB87: 0
A88: 38 | B88: 34224vp | C88: Příčka jednoduchá keramická tl.14,5cm | D88: m2 | E88: 9.54 | F88: 0 | G88: =E88*F88 -> 0 | H88: 0 | I88: =E88*H88 -> 0 | K88: =E88*J88 -> 0 | O88: 2 | AA88: 12 | AB88: 0 | AC88: 38 | AZ88: 1 | BA88: =IF(AZ88=1,G88,0) -> 0 | BB88: =IF(AZ88=2,G88,0) -> 0 | BC88: =IF(AZ88=3,G88,0) -> 0 | BD88: =IF(AZ88=4,G88,0) -> 0 | BE88: =IF(AZ88=5,G88,0) -> 0 | CA88: 12 | CB88: 0
A89: 39 | B89: 310239211RT2 | C89: Zazdívka otvorů plochy do 4 m2 cihlami na MVC, s použitím suché maltové směsi | D89: m3 | E89: 0.88 | F89: 0 | G89: =E89*F89 -> 0 | H89: 0 | I89: =E89*H89 -> 0 | J89: 0 | K89: =E89*J89 -> 0 | O89: 2 | AA89: 1 | AB89: 1 | AC89: 1 | AZ89: 1 | BA89: =IF(AZ89=1,G89,0) -> 0 | BB89: =IF(AZ89=2,G89,0) -> 0 | BC89: =IF(AZ89=3,G89,0) -> 0 | BD89: =IF(AZ89=4,G89,0) -> 0 | BE89: =IF(AZ89=5,G89,0) -> 0 | CA89: 1 | CB89: 1
C90: dozdění otvoru gar.vrat:1*2,2*0,4 | E90: 0.88 | M90: dozdění otvoru gar.vrat:1*2,2*0,4
A91: 40 | B91: 311231732R00 | C91: Zdivo z tvárnic ker. brouš. 30 B P10, tl. 30 cm | D91: m2 | E91: 4.5 | F91: 0 | G91: =E91*F91 -> 0 | H91: 0 | I91: =E91*H91 -> 0 | J91: 0 | K91: =E91*J91 -> 0 | O91: 2 | AA91: 1 | AB91: 1 | AC91: 1 | AZ91: 1 | BA91: =IF(AZ91=1,G91,0) -> 0 | BB91: =IF(AZ91=2,G91,0) -> 0 | BC91: =IF(AZ91=3,G91,0) -> 0 | BD91: =IF(AZ91=4,G91,0) -> 0 | BE91: =IF(AZ91=5,G91,0) -> 0 | CA91: 1 | CB91: 1
C92: 'dozdění - střední a obvod. stěna:1,8*2,5 | E92: 4.5 | M92: 'dozdění - střední a obvod. stěna:1,8*2,5
A93: 41 | B93: 311231733R00 | C93: Zdivo z tvárnic brouš 38 B P10, tl. 38 cm | D93: m2 | E93: 12.9525 | F93: 0 | G93: =E93*F93 -> 0 | H93: 0 | I93: =E93*H93 -> 0 | J93: 0 | K93: =E93*J93 -> 0 | O93: 2 | AA93: 1 | AB93: 1 | AC93: 1 | AZ93: 1 | BA93: =IF(AZ93=1,G93,0) -> 0 | BB93: =IF(AZ93=2,G93,0) -> 0 | BC93: =IF(AZ93=3,G93,0) -> 0 | BD93: =IF(AZ93=4,G93,0) -> 0 | BE93: =IF(AZ93=5,G93,0) -> 0 | CA93: 1 | CB93: 1
C94: 1.np-zdivo obvodové:5,25*2,75 | E94: 14.4375 | M94: 1.np-zdivo obvodové:5,25*2,75
C95: otvor:-4,62 | E95: -4.62 | M95: otvor:-4,62
C96: podkroví-zdivo:1,1*2,85 | E96: 3.135 | M96: podkroví-zdivo:1,1*2,85
A97: 42 | B97: 342270042RA0 | C97: Příčka z desek plynosilik hladkých, tloušťka 10 cm | D97: m2 | E97: 13.285 | F97: 0 | G97: =E97*F97 -> 0 | H97: 0 | I97: =E97*H97 -> 0 | J97: 0 | K97: =E97*J97 -> 0 | O97: 2 | AA97: 2 | AB97: 1 | AC97: 1 | AZ97: 1 | BA97: =IF(AZ97=1,G97,0) -> 0 | BB97: =IF(AZ97=2,G97,0) -> 0 | BC97: =IF(AZ97=3,G97,0) -> 0 | BD97: =IF(AZ97=4,G97,0) -> 0 | BE97: =IF(AZ97=5,G97,0) -> 0 | CA97: 2 | CB97: 1
C98: 1.np-balkony:3,05*1,2 | E98: 3.66 | M98: 1.np-balkony:3,05*1,2
C99: 2.np balkony:7,7*1,25 | E99: 9.625 | M99: 2.np balkony:7,7*1,25
A100: 43 | B100: 314200427RAA | C100: Komín ,v=11 m, 1průd. s šachtou, DN 20, nadstřešní část + soupr. komínové hlavy | D100: soubor | E100: 1 | F100: 0 | G100: =E100*F100 -> 0 | H100: 0 | I100: =E100*H100 -> 0 | J100: 0 | K100: =E100*J100 -> 0 | O100: 2 | AA100: 2 | AB100: 1 | AC100: 1 | AZ100: 1 | BA100: =IF(AZ100=1,G100,0) -> 0 | BB100: =IF(AZ100=2,G100,0) -> 0 | BC100: =IF(AZ100=3,G100,0) -> 0 | BD100: =IF(AZ100=4,G100,0) -> 0 | BE100: =IF(AZ100=5,G100,0) -> 0 | CA100: 2 | CB100: 1
A101: 44 | B101: 311321312R00 | C101: Železobeton nadzákladových zdí C 20/25, kompletní dodávka vč. výztuže | D101: m3 | E101: 10.1998 | F101: 0 | G101: =E101*F101 -> 0 | H101: 0 | I101: =E101*H101 -> 0 | J101: 0 | K101: =E101*J101 -> 0 | O101: 2 | AA101: 1 | AB101: 1 | AC101: 1 | AZ101: 1 | BA101: =IF(AZ101=1,G101,0) -> 0 | BB101: =IF(AZ101=2,G101,0) -> 0 | BC101: =IF(AZ101=3,G101,0) -> 0 | BD101: =IF(AZ101=4,G101,0) -> 0 | BE101: =IF(AZ101=5,G101,0) -> 0 | CA101: 1 | CB101: 1
C102: STĚNA -01:8,26*0,85 | E102: 7.021 | M102: STĚNA -01:8,26*0,85
C103: STĚNA 02:2,13*0,36 | E103: 0.7668 | M103: STĚNA 02:2,13*0,36
...

Sheet 1 2 KL
A1: SLEPÝ ROZPOČET
A2: Rozpočet | C2: 2 | D2: Bourací práce | F2: JKSO
A4: Objekt | F4: SKP
A5: 1 | C5: RD se sociálními byty Študlov | F5: Měrná jednotka
A6: Stavba | F6: Počet jednotek
A7: 2020/12 | C7: RD se sociálními byty Študlov | F7: Náklady na m.j. | G7: =IF(G6=0,,ROUND((F30+F32)/G6,1)) -> 0
A8: Projektant | F8: Typ rozpočtu
A9: Zpracovatel projektu
A10: Objednatel
A11: Dodavatel | F11: Zakázkové číslo
A12: Rozpočtoval | F12: Počet listů
A13: ROZPOČTOVÉ NÁKLADY
A14: Základní rozpočtové náklady | D14: Ostatní rozpočtové náklady
B15: HSV celkem | C15: ='1 2 Rek'!E30 -> 0 | D15: ='1 2 Rek'!A38 -> 0 | G15: ='1 2 Rek'!I38 -> 0
A16: Z | B16: PSV celkem | C16: ='1 2 Rek'!F30 -> 0
A17: R | B17: M práce celkem | C17: ='1 2 Rek'!H30 -> 0
A18: N | B18: M dodávky celkem | C18: ='1 2 Rek'!G30 -> 0
A19: ZRN celkem | C19: =SUM(C15:C18) -> 0
A21: HZS | C21: ='1 2 Rek'!I30 -> 0
A22: ZRN+HZS | C22: =C19+C21 -> 0 | D22: Ostatní náklady neuvedené | G22: =G23-SUM(G15:G21) -> 0
A23: ZRN+ost.náklady+HZS | C23: =C22+G23 -> 0 | D23: Ostatní náklady celkem | G23: ='1 2 Rek'!H36 -> 0
A24: Vypracoval | D24: Za zhotovitele | F24: Za objednatele
A25: Jméno : | D25: Jméno : | F25: Jméno :
A26: Datum : | D26: Datum : | F26: Datum :
A28: Podpis : | D28: Podpis: | F28: Podpis:
A30: Základ pro DPH | C30: 15 | D30: % | F30: =ROUND(C23-F32,0) -> 0
A31: DPH | C31: =C30 -> 15 | D31: % | F31: =ROUND(PRODUCT(F30,C31/100),1) -> 0
A32: Základ pro DPH | C32: 0 | D32: % | F32: 0
A33: DPH | C33: =C32 -> 0 | D33: % | F33: =ROUND(PRODUCT(F32,C33/100),1) -> 0
A34: CENA ZA OBJEKT CELKEM | F34: =CEILING(SUM(F30:F33),IF(SUM(F30:F33)>=0,1,-1)) -> 0
A36: Poznámka :

Sheet 1 2 Rek
A1: Stavba : | C1: 2020/12 RD se sociálními byty Študlov | G1: Rozpočet : | H1: 2
A2: Objekt : | C2: 1 RD se sociálními byty Študlov | G2: Bourací práce
A4: REKAPITULACE STAVEBNÍCH DÍLŮ
B6: Stavební díl | E6: HSV | F6: PSV | G6: Dodávka | H6: Montáž | I6: HZS
A7: ='1 2 Pol'!B7 -> 1 | B7: ='1 2 Pol'!C7 -> Zemní práce | E7: ='1 2 Pol'!BA19 -> 0 | F7: ='1 2 Pol'!BB19 -> 0 | G7: ='1 2 Pol'!BC19 -> 0 | H7: ='1 2 Pol'!BD19 -> 0 | I7: ='1 2 Pol'!BE19 -> 0
A8: ='1 2 Pol'!B20 -> 96 | B8: ='1 2 Pol'!C20 -> Bourání konstrukcí | E8: ='1 2 Pol'!BA58 -> 0 | F8: ='1 2 Pol'!BB58 -> 0 | G8: ='1 2 Pol'!BC58 -> 0 | H8: ='1 2 Pol'!BD58 -> 0 | I8: ='1 2 Pol'!BE58 -> 0
A9: ='1 2 Pol'!B59 -> 97 | B9: ='1 2 Pol'!C59 -> Prorážení otvorů | E9: ='1 2 Pol'!BA78 -> 0 | F9: ='1 2 Pol'!BB78 -> 0 | G9: ='1 2 Pol'!BC78 -> 0 | H9: ='1 2 Pol'!BD78 -> 0 | I9: ='1 2 Pol'!BE78 -> 0
A10: ='1 2 Pol'!B79 -> 98 | B10: ='1 2 Pol'!C79 -> Demolice | E10: ='1 2 Pol'!BA82 -> 0 | F10: ='1 2 Pol'!BB82 -> 0 | G10: ='1 2 Pol'!BC82 -> 0 | H10: ='1 2 Pol'!BD82 -> 0 | I10: ='1 2 Pol'!BE82 -> 0
A11: ='1 2 Pol'!B83 -> 711 | B11: ='1 2 Pol'!C83 -> Izolace proti vodě | E11: ='1 2 Pol'!BA85 -> 0 | F11: ='1 2 Pol'!BB85 -> 0 | G11: ='1 2 Pol'!BC85 -> 0 | H11: ='1 2 Pol'!BD85 -> 0 | I11: ='1 2 Pol'!BE85 -> 0
A12: ='1 2 Pol'!B86 -> 713 | B12: ='1 2 Pol'!C86 -> Izolace tepelné | E12: ='1 2 Pol'!BA88 -> 0 | F12: ='1 2 Pol'!BB88 -> 0 | G12: ='1 2 Pol'!BC88 -> 0 | H12: ='1 2 Pol'!BD88 -> 0 | I12: ='1 2 Pol'!BE88 -> 0
A13: ='1 2 Pol'!B89 -> 721 | B13: ='1 2 Pol'!C89 -> Vnitřní kanalizace | E13: ='1 2 Pol'!BA92 -> 0 | F13: ='1 2 Pol'!BB92 -> 0 | G13: ='1 2 Pol'!BC92 -> 0 | H13: ='1 2 Pol'!BD92 -> 0 | I13: ='1 2 Pol'!BE92 -> 0
A14: ='1 2 Pol'!B93 -> 722 | B14: ='1 2 Pol'!C93 -> Vnitřní vodovod | E14: ='1 2 Pol'!BA95 -> 0 | F14: ='1 2 Pol'!BB95 -> 0 | G14: ='1 2 Pol'!BC95 -> 0 | H14: ='1 2 Pol'!BD95 -> 0 | I14: ='1 2 Pol'!BE95 -> 0
A15: ='1 2 Pol'!B96 -> 725 | B15: ='1 2 Pol'!C96 -> Zařizovací předměty | E15: ='1 2 Pol'!BA100 -> 0 | F15: ='1 2 Pol'!BB100 -> 0 | G15: ='1 2 Pol'!BC100 -> 0 | H15: ='1 2 Pol'!BD100 -> 0 | I15: ='1 2 Pol'!BE100 -> 0
A16: ='1 2 Pol'!B101 -> 731 | B16: ='1 2 Pol'!C101 -> Kotelny | E16: ='1 2 Pol'!BA104 -> 0 | F16: ='1 2 Pol'!BB104 -> 0 | G16: ='1 2 Pol'!BC104 -> 0 | H16: ='1 2 Pol'!BD104 -> 0 | I16: ='1 2 Pol'!BE104 -> 0
A17: ='1 2 Pol'!B105 -> 732 | B17: ='1 2 Pol'!C105 -> Strojovny | E17: ='1 2 Pol'!BA107 -> 0 | F17: ='1 2 Pol'!BB107 -> 0 | G17: ='1 2 Pol'!BC107 -> 0 | H17: ='1 2 Pol'!BD107 -> 0 | I17: ='1 2 Pol'!BE107 -> 0
A18: ='1 2 Pol'!B108 -> 733 | B18: ='1 2 Pol'!C108 -> Rozvod potrubí | E18: ='1 2 Pol'!BA111 -> 0 | F18: ='1 2 Pol'!BB111 -> 0 | G18: ='1 2 Pol'!BC111 -> 0 | H18: ='1 2 Pol'!BD111 -> 0 | I18: ='1 2 Pol'!BE111 -> 0
A19: ='1 2 Pol'!B112 -> 735 | B19: ='1 2 Pol'!C112 -> Otopná tělesa | E19: ='1 2 Pol'!BA114 -> 0 | F19: ='1 2 Pol'!BB114 -> 0 | G19: ='1 2 Pol'!BC114 -> 0 | H19: ='1 2 Pol'!BD114 -> 0 | I19: ='1 2 Pol'!BE114 -> 0
A20: ='1 2 Pol'!B115 -> 762 | B20: ='1 2 Pol'!C115 -> Konstrukce tesařské | E20: ='1 2 Pol'!BA118 -> 0 | F20: ='1 2 Pol'!BB118 -> 0 | G20: ='1 2 Pol'!BC118 -> 0 | H20: ='1 2 Pol'!BD118 -> 0 | I20: ='1 2 Pol'!BE118 -> 0
A21: ='1 2 Pol'!B119 -> 764 | B21: ='1 2 Pol'!C119 -> Konstrukce klempířské | E21: ='1 2 Pol'!BA124 -> 0 | F21: ='1 2 Pol'!BB124 -> 0 | G21: ='1 2 Pol'!BC124 -> 0 | H21: ='1 2 Pol'!BD124 -> 0 | I21: ='1 2 Pol'!BE124 -> 0
A22: ='1 2 Pol'!B125 -> 766 | B22: ='1 2 Pol'!C125 -> Konstrukce truhlářské | E22: ='1 2 Pol'!BA136 -> 0 | F22: ='1 2 Pol'!BB136 -> 0 | G22: ='1 2 Pol'!BC136 -> 0 | H22: ='1 2 Pol'!BD136 -> 0 | I22: ='1 2 Pol'!BE136 -> 0
A23: ='1 2 Pol'!B137 -> 767 | B23: ='1 2 Pol'!C137 -> Konstrukce zámečnické | E23: ='1 2 Pol'!BA146 -> 0 | F23: ='1 2 Pol'!BB146 -> 0 | G23: ='1 2 Pol'!BC146 -> 0 | H23: ='1 2 Pol'!BD146 -> 0 | I23: ='1 2 Pol'!BE146 -> 0
A24: ='1 2 Pol'!B147 -> 771 | B24: ='1 2 Pol'!C147 -> Podlahy z dlaždic a obklady | E24: ='1 2 Pol'!BA150 -> 0 | F24: ='1 2 Pol'!BB150 -> 0 | G24: ='1 2 Pol'!BC150 -> 0 | H24: ='1 2 Pol'!BD150 -> 0 | I24: ='1 2 Pol'!BE150 -> 0
A25: ='1 2 Pol'!B151 -> 775 | B25: ='1 2 Pol'!C151 -> Podlahy vlysové a parketové | E25: ='1 2 Pol'!BA153 -> 0 | F25: ='1 2 Pol'!BB153 -> 0 | G25: ='1 2 Pol'!BC153 -> 0 | H25: ='1 2 Pol'!BD153 -> 0 | I25: ='1 2 Pol'!BE153 -> 0
A26: ='1 2 Pol'!B154 -> 776 | B26: ='1 2 Pol'!C154 -> Podlahy povlakové | E26: ='1 2 Pol'!BA156 -> 0 | F26: ='1 2 Pol'!BB156 -> 0 | G26: ='1 2 Pol'!BC156 -> 0 | H26: ='1 2 Pol'!BD156 -> 0 | I26: ='1 2 Pol'!BE156 -> 0
A27: ='1 2 Pol'!B157 -> 781 | B27: ='1 2 Pol'!C157 -> Obklady keramické | E27: ='1 2 Pol'!BA159 -> 0 | F27: ='1 2 Pol'!BB159 -> 0 | G27: ='1 2 Pol'!BC159 -> 0 | H27: ='1 2 Pol'!BD159 -> 0 | I27: ='1 2 Pol'!BE159 -> 0
A28: ='1 2 Pol'!B160 -> 784 | B28: ='1 2 Pol'!C160 -> Malby | E28: ='1 2 Pol'!BA162 -> 0 | F28: ='1 2 Pol'!BB162 -> 0 | G28: ='1 2 Pol'!BC162 -> 0 | H28: ='1 2 Pol'!BD162 -> 0 | I28: ='1 2 Pol'!BE162 -> 0
A29: ='1 2 Pol'!B163 -> M21 | B29: ='1 2 Pol'!C163 -> Elektromontáže | E29: ='1 2 Pol'!BA166 -> 0 | F29: ='1 2 Pol'!BB166 -> 0 | G29: ='1 2 Pol'!BC166 -> 0 | H29: ='1 2 Pol'!BD166 -> 0 | I29: ='1 2 Pol'!BE166 -> 0
B30: CELKEM OBJEKT | E30: =SUM(E7:E29) -> 0 | F30: =SUM(F7:F29) -> 0 | G30: =SUM(G7:G29) -> 0 | H30: =SUM(H7:H29) -> 0 | I30: =SUM(I7:I29) -> 0
A32: VEDLEJŠÍ ROZPOČTOVÉ NÁKLADY
A34: Název VRN | E34: Kč | F34: % | G34: Základna | I34: Kč
G35: =CHOOSE(BA35+1,E30+F30,E30+F30+H30,E30+F30+G30+H30,E30,F30,H30,G30,H30+G30,0) -> 0 | I35: =E35+F35*G35/100 -> 0 | BA35: 8
B36: CELKEM VRN | H36: =SUM(I35:I35) -> 0

Sheet 1 2 Pol
A1: Slepý rozpočet
A3: Stavba : | C3: 2020/12 RD se sociálními byty Študlov | E3: Rozpočet: | F3: ='1 2 Rek'!H1 -> 2
A4: Objekt : | C4: 1 RD se sociálními byty Študlov | E4: ='1 2 Rek'!G2 -> Bourací práce
A6: P.č. | B6: Číslo položky | C6: Název položky | D6: MJ | E6: množství | F6: cena / MJ | G6: celkem (Kč) | H6: Jednotková hmotnost | I6: Celková hmotnost | J6: Jednotková dem.hmot. | K6: Celková dem.hmot.
A7: Díl: | B7: 1 | C7: Zemní práce | O7: 1
A8: 1 | B8: 113106005RAB | C8: Odstranění beton.dlažby vč.podkladu, pl.do 50 m2, včetně naložení a odvozu na skládku do 1 km | D8: m2 | E8: 19.71 | F8: 0 | G8: =E8*F8 -> 0 | H8: 0 | I8: =E8*H8 -> 0 | J8: 0 | K8: =E8*J8 -> 0 | O8: 2 | AA8: 2 | AB8: 1 | AC8: 1 | AZ8: 1 | BA8: =IF(AZ8=1,G8,0) -> 0 | BB8: =IF(AZ8=2,G8,0) -> 0 | BC8: =IF(AZ8=3,G8,0) -> 0 | BD8: =IF(AZ8=4,G8,0) -> 0 | BE8: =IF(AZ8=5,G8,0) -> 0 | CA8: 2 | CB8: 1
A9: 2 | B9: 113109318R00 | C9: Odstranění podkladu pl.50 m2, bet.prostý tl.18 cm | D9: m2 | E9: 85.4 | F9: 0 | G9: =E9*F9 -> 0 | H9: 0 | I9: =E9*H9 -> 0 | J9: 0 | K9: =E9*J9 -> 0 | O9: 2 | AA9: 1 | AB9: 1 | AC9: 1 | AZ9: 1 | BA9: =IF(AZ9=1,G9,0) -> 0 | BB9: =IF(AZ9=2,G9,0) -> 0 | BC9: =IF(AZ9=3,G9,0) -> 0 | BD9: =IF(AZ9=4,G9,0) -> 0 | BE9: =IF(AZ9=5,G9,0) -> 0 | CA9: 1 | CB9: 1
C10: bet.plocha vjezdu:36,95 | E10: 36.95 | M10: bet.plocha vjezdu:36,95
C11: chodníky:48,45 | E11: 48.45 | M11: chodníky:48,45
A12: 3 | B12: 113107735R00 | C12: Odstranění podkladu pl.50 m2,drcené+štět tl.35 cm | D12: m2 | E12: 36.95 | F12: 0 | G12: =E12*F12 -> 0 | H12: 0 | I12: =E12*H12 -> 0 | J12: 0 | K12: =E12*J12 -> 0 | O12: 2 | AA12: 1 | AB12: 1 | AC12: 1 | AZ12: 1 | BA12: =IF(AZ12=1,G12,0) -> 0 | BB12: =IF(AZ12=2,G12,0) -> 0 | BC12: =IF(AZ12=3,G12,0) -> 0 | BD12: =IF(AZ12=4,G12,0) -> 0 | BE12: =IF(AZ12=5,G12,0) -> 0 | CA12: 1 | CB12: 1
C13: podklad vjezd:36,95 | E13: 36.95 | M13: podklad vjezd:36,95
A14: 4 | B14: 112101113R00 | C14: Kácení stromů listnatých průměru 40 cm, svah 1:5 | D14: kus | E14: 4 | F14: 0 | G14: =E14*F14 -> 0 | H14: 0 | I14: =E14*H14 -> 0 | J14: 0 | K14: =E14*J14 -> 0 | O14: 2 | AA14: 1 | AB14: 1 | AC14: 1 | AZ14: 1 | BA14: =IF(AZ14=1,G14,0) -> 0 | BB14: =IF(AZ14=2,G14,0) -> 0 | BC14: =IF(AZ14=3,G14,0) -> 0 | BD14: =IF(AZ14=4,G14,0) -> 0 | BE14: =IF(AZ14=5,G14,0) -> 0 | CA14: 1 | CB14: 1
A15: 5 | B15: 112201113R00 | C15: Odstranění pařezů o průměru do 40 cm, svah 1:5 | D15: kus | E15: 3 | F15: 0 | G15: =E15*F15 -> 0 | H15: 0 | I15: =E15*H15 -> 0 | J15: 0 | K15: =E15*J15 -> 0 | O15: 2 | AA15: 1 | AB15: 1 | AC15: 1 | AZ15: 1 | BA15: =IF(AZ15=1,G15,0) -> 0 | BB15: =IF(AZ15=2,G15,0) -> 0 | BC15: =IF(AZ15=3,G15,0) -> 0 | BD15: =IF(AZ15=4,G15,0) -> 0 | BE15: =IF(AZ15=5,G15,0) -> 0 | CA15: 1 | CB15: 1
A16: 6 | B16: 121101103R00 | C16: Sejmutí ornice s přemístěním přes 100 do 250 m | D16: m3 | E16: 38.75 | F16: 0 | G16: =E16*F16 -> 0 | H16: 0 | I16: =E16*H16 -> 0 | J16: 0 | K16: =E16*J16 -> 0 | O16: 2 | AA16: 1 | AB16: 1 | AC16: 1 | AZ16: 1 | BA16: =IF(AZ16=1,G16,0) -> 0 | BB16: =IF(AZ16=2,G16,0) -> 0 | BC16: =IF(AZ16=3,G16,0) -> 0 | BD16: =IF(AZ16=4,G16,0) -> 0 | BE16: =IF(AZ16=5,G16,0) -> 0 | CA16: 1 | CB16: 1
C17: plocha pro stání,chodníky,..:193,75*0,2 | E17: 38.75 | M17: plocha pro stání,chodníky,..:193,75*0,2
A18: 7 | B18: 111251111R00 | C18: Drcení ořezaných větví průměru do 10 cm | D18: m3 | E18: 2 | F18: 0 | G18: =E18*F18 -> 0 | H18: 0 | I18: =E18*H18 -> 0 | J18: 0 | K18: =E18*J18 -> 0 | O18: 2 | AA18: 1 | AB18: 1 | AC18: 1 | AZ18: 1 | BA18: =IF(AZ18=1,G18,0) -> 0 | BB18: =IF(AZ18=2,G18,0) -> 0 | BC18: =IF(AZ18=3,G18,0) -> 0 | BD18: =IF(AZ18=4,G18,0) -> 0 | BE18: =IF(AZ18=5,G18,0) -> 0 | CA18: 1 | CB18: 1
B19: Celkem za | C19: 1 Zemní práce | G19: =SUM(G7:G18) -> 0 | I19: =SUM(I7:I18) -> 0 | K19: =SUM(K7:K18) -> 0 | O19: 4 | BA19: =SUM(BA7:BA18) -> 0 | BB19: =SUM(BB7:BB18) -> 0 | BC19: =SUM(BC7:BC18) -> 0 | BD19: =SUM(BD7:BD18) -> 0 | BE19: =SUM(BE7:BE18) -> 0
A20: Díl: | B20: 96 | C20: Bourání konstrukcí | O20: 1
A21: 8 | B21: 962052211R00 | C21: Bourání zdiva železobetonového nadzákladového | D21: m3 | E21: 2.412 | F21: 0 | G21: =E21*F21 -> 0 | H21: 0 | I21: =E21*H21 -> 0 | J21: 0 | K21: =E21*J21 -> 0 | O21: 2 | AA21: 1 | AB21: 1 | AC21: 1 | AZ21: 1 | BA21: =IF(AZ21=1,G21,0) -> 0 | BB21: =IF(AZ21=2,G21,0) -> 0 | BC21: =IF(AZ21=3,G21,0) -> 0 | BD21: =IF(AZ21=4,G21,0) -> 0 | BE21: =IF(AZ21=5,G21,0) -> 0 | CA21: 1 | CB21: 1
C22: opěrná zed:6,7*0,3*1,2 | E22: 2.412 | M22: opěrná zed:6,7*0,3*1,2
A23: 9 | B23: 966067111R00 | C23: Rozebrání plotu tyč. lať. prken. drátěného, plech. | D23: m | E23: 20.75 | F23: 0 | G23: =E23*F23 -> 0 | H23: 0 | I23: =E23*H23 -> 0 | J23: 0 | K23: =E23*J23 -> 0 | O23: 2 | AA23: 1 | AB23: 1 | AC23: 1 | AZ23: 1 | BA23: =IF(AZ23=1,G23,0) -> 0 | BB23: =IF(AZ23=2,G23,0) -> 0 | BC23: =IF(AZ23=3,G23,0) -> 0 | BD23: =IF(AZ23=4,G23,0) -> 0 | BE23: =IF(AZ23=5,G23,0) -> 0 | CA23: 1 | CB23: 1
A24: 10 | B24: 961044111R00 | C24: Bourání základů z betonu prostého | D24: m3 | E24: 0.408 | F24: 0 | G24: =E24*F24 -> 0 | H24: 0 | I24: =E24*H24 -> 0 | J24: 0 | K24: =E24*J24 -> 0 | O24: 2 | AA24: 1 | AB24: 1 | AC24: 1 | AZ24: 1 | BA24: =IF(AZ24=1,G24,0) -> 0 | BB24: =IF(AZ24=2,G24,0) -> 0 | BC24: =IF(AZ24=3,G24,0) -> 0 | BD24: =IF(AZ24=4,G24,0) -> 0 | BE24: =IF(AZ24=5,G24,0) -> 0 | CA24: 1 | CB24: 1
C25: základ zadního zádveří:0,85*0,4*1,2 | E25: 0.408 | M25: základ zadního zádveří:0,85*0,4*1,2
A26: 11 | B26: 965042231R00 | C26: Bourání mazanin betonových tl. nad 10 cm, pl. 4 m2 | D26: m3 | E26: 0.5475 | F26: 0 | G26: =E26*F26 -> 0 | H26: 0 | I26: =E26*H26 -> 0 | J26: 0 | K26: =E26*J26 -> 0 | O26: 2 | AA26: 1 | AB26: 1 | AC26: 1 | AZ26: 1 | BA26: =IF(AZ26=1,G26,0) -> 0 | BB26: =IF(AZ26=2,G26,0) -> 0 | BC26: =IF(AZ26=3,G26,0) -> 0 | BD26: =IF(AZ26=4,G26,0) -> 0 | BE26: =IF(AZ26=5,G26,0) -> 0 | CA26: 1 | CB26: 1
C27: bet.deska zadního zádveří:1*3,65*0,15 | E27: 0.5475 | M27: bet.deska zadního zádveří:1*3,65*0,15
A28: 12 | B28: 968061113R00 | C28: Vyvěšení dřevěných okenních křídel pl. nad 1,5 m2 | D28: kus | E28: 11 | F28: 0 | G28: =E28*F28 -> 0 | H28: 0 | I28: =E28*H28 -> 0 | J28: 0 | K28: =E28*J28 -> 0 | O28: 2 | AA28: 1 | AB28: 1 | AC28: 1 | AZ28: 1 | BA28: =IF(AZ28=1,G28,0) -> 0 | BB28: =IF(AZ28=2,G28,0) -> 0 | BC28: =IF(AZ28=3,G28,0) -> 0 | BD28: =IF(AZ28=4,G28,0) -> 0 | BE28: =IF(AZ28=5,G28,0) -> 0 | CA28: 1 | CB28: 1
A29: 13 | B29: 968095001R00 | C29: Bourání parapetů dřevěných š. do 25 cm | D29: m | E29: 16.3 | F29: 0 | G29: =E29*F29 -> 0 | H29: 0 | I29: =E29*H29 -> 0 | J29: 0 | K29: =E29*J29 -> 0 | O29: 2 | AA29: 1 | AB29: 1 | AC29: 1 | AZ29: 1 | BA29: =IF(AZ29=1,G29,0) -> 0 | BB29: =IF(AZ29=2,G29,0) -> 0 | BC29: =IF(AZ29=3,G29,0) -> 0 | BD29: =IF(AZ29=4,G29,0) -> 0 | BE29: =IF(AZ29=5,G29,0) -> 0 | CA29: 1 | CB29: 1
A30: 14 | B30: 968061125R00 | C30: Vyvěšení dřevěných dveřních křídel pl. do 2 m2 | D30: kus | E30: 26 | F30: 0 | G30: =E30*F30 -> 0 | H30: 0 | I30: =E30*H30 -> 0 | J30: 0 | K30: =E30*J30 -> 0 | O30: 2 | AA30: 1 | AB30: 1 | AC30: 1 | AZ30: 1 | BA30: =IF(AZ30=1,G30,0) -> 0 | BB30: =IF(AZ30=2,G30,0) -> 0 | BC30: =IF(AZ30=3,G30,0) -> 0 | BD30: =IF(AZ30=4,G30,0) -> 0 | BE30: =IF(AZ30=5,G30,0) -> 0 | CA30: 1 | CB30: 1
A31: 15 | B31: 968091001R00 | C31: Bourání parapetů teracových š. do 30 cm tl.3 cm | D31: m | E31: 10.95 | F31: 0 | G31: =E31*F31 -> 0 | H31: 0 | I31: =E31*H31 -> 0 | J31: 0 | K31: =E31*J31 -> 0 | O31: 2 | AA31: 1 | AB31: 1 | AC31: 1 | AZ31: 1 | BA31: =IF(AZ31=1,G31,0) -> 0 | BB31: =IF(AZ31=2,G31,0) -> 0 | BC31: =IF(AZ31=3,G31,0) -> 0 | BD31: =IF(AZ31=4,G31,0) -> 0 | BE31: =IF(AZ31=5,G31,0) -> 0 | CA31: 1 | CB31: 1
A32: 16 | B32: 968062354R00 | C32: Vybourání dřevěných rámů oken dvojitých pl. 1 m2 | D32: m2 | E32: 5.85 | F32: 0 | G32: =E32*F32 -> 0 | H32: 0 | I32: =E32*H32 -> 0 | J32: 0 | K32: =E32*J32 -> 0 | O32: 2 | AA32: 1 | AB32: 1 | AC32: 1 | AZ32: 1 | BA32: =IF(AZ32=1,G32,0) -> 0 | BB32: =IF(AZ32=2,G32,0) -> 0 | BC32: =IF(AZ32=3,G32,0) -> 0 | BD32: =IF(AZ32=4,G32,0) -> 0 | BE32: =IF(AZ32=5,G32,0) -> 0 | CA32: 1 | CB32: 1
A33: 17 | B33: 968062355R00 | C33: Vybourání dřevěných rámů oken dvojitých pl. 2 m2 | D33: m2 | E33: 21.8 | F33: 0 | G33: =E33*F33 -> 0 | H33: 0 | I33: =E33*H33 -> 0 | J33: 0 | K33: =E33*J33 -> 0 | O33: 2 | AA33: 1 | AB33: 1 | AC33: 1 | AZ33: 1 | BA33: =IF(AZ33=1,G33,0) -> 0 | BB33: =IF(AZ33=2,G33,0) -> 0 | BC33: =IF(AZ33=3,G33,0) -> 0 | BD33: =IF(AZ33=4,G33,0) -> 0 | BE33: =IF(AZ33=5,G33,0) -> 0 | CA33: 1 | CB33: 1
A34: 18 | B34: 968072455R00 | C34: Vybourání kovových dveřních zárubní pl. do 2 m2 | D34: m2 | E34: 48 | F34: 0 | G34: =E34*F34 -> 0 | H34: 0 | I34: =E34*H34 -> 0 | J34: 0 | K34: =E34*J34 -> 0 | O34: 2 | AA34: 1 | AB34: 1 | AC34: 1 | AZ34: 1 | BA34: =IF(AZ34=1,G34,0) -> 0 | BB34: =IF(AZ34=2,G34,0) -> 0 | BC34: =IF(AZ34=3,G34,0) -> 0 | BD34: =IF(AZ34=4,G34,0) -> 0 | BE34: =IF(AZ34=5,G34,0) -> 0 | CA34: 1 | CB34: 1
A35: 19 | B35: 968062455R00 | C35: Vybourání dřevěných dveřních zárubní pl. do 2 m2 | D35: m2 | E35: 4 | F35: 0 | G35: =E35*F35 -> 0 | H35: 0 | I35: =E35*H35 -> 0 | J35: 0 | K35: =E35*J35 -> 0 | O35: 2 | AA35: 1 | AB35: 1 | AC35: 1 | AZ35: 1 | BA35: =IF(AZ35=1,G35,0) -> 0 | BB35: =IF(AZ35=2,G35,0) -> 0 | BC35: =IF(AZ35=3,G35,0) -> 0 | BD35: =IF(AZ35=4,G35,0) -> 0 | BE35: =IF(AZ35=5,G35,0) -> 0 | CA35: 1 | CB35: 1
A36: 20 | B36: 963012510R00 | C36: Bourání stropů z desek žb. š. 30 cm, tl. do 14 cm | D36: m3 | E36: 0.1365 | F36: 0 | G36: =E36*F36 -> 0 | H36: 0 | I36: =E36*H36 -> 0 | J36: 0 | K36: =E36*J36 -> 0 | O36: 2 | AA36: 1 | AB36: 1 | AC36: 1 | AZ36: 1 | BA36: =IF(AZ36=1,G36,0) -> 0 | BB36: =IF(AZ36=2,G36,0) -> 0 | BC36: =IF(AZ36=3,G36,0) -> 0 | BD36: =IF(AZ36=4,G36,0) -> 0 | BE36: =IF(AZ36=5,G36,0) -> 0 | CA36: 1 | CB36: 1
C37: strop zadního závětří:0,91*0,15 | E37: 0.1365 | M37: strop zadního závětří:0,91*0,15
A38: 21 | B38: 962032241R00 | C38: Bourání zdiva z cihel pálených na MC | D38: m3 | E38: 0.5759 | F38: 0 | G38: =E38*F38 -> 0 | H38: 0 | I38: =E38*H38 -> 0 | J38: 0 | K38: =E38*J38 -> 0 | O38: 2 | AA38: 1 | AB38: 1 | AC38: 1 | AZ38: 1 | BA38: =IF(AZ38=1,G38,0) -> 0 | BB38: =IF(AZ38=2,G38,0) -> 0 | BC38: =IF(AZ38=3,G38,0) -> 0 | BD38: =IF(AZ38=4,G38,0) -> 0 | BE38: =IF(AZ38=5,G38,0) -> 0 | CA38: 1 | CB38: 1
C39: zdivo zadního zádveří:2*0,65*0,2*2,215 | E39: 0.5759 | M39: zdivo zadního zádveří:2*0,65*0,2*2,215
A40: 22 | B40: 968061112R00 | C40: Vyvěšení dřevěných okenních křídel pl. do 1,5 m2 | D40: kus | E40: 10 | F40: 0 | G40: =E40*F40 -> 0 | H40: 0 | I40: =E40*H40 -> 0 | J40: 0 | K40: =E40*J40 -> 0 | O40: 2 | AA40: 1 | AB40: 1 | AC40: 1 | AZ40: 1 | BA40: =IF(AZ40=1,G40,0) -> 0 | BB40: =IF(AZ40=2,G40,0) -> 0 | BC40: =IF(AZ40=3,G40,0) -> 0 | BD40: =IF(AZ40=4,G40,0) -> 0 | BE40: =IF(AZ40=5,G40,0) -> 0 | CA40: 1 | CB40: 1
A41: 23 | B41: 962032241R00 | C41: Bourání zdiva z cihel pálených na MC | D41: m3 | E41: 9.2225 | F41: 0 | G41: =E41*F41 -> 0 | H41: 0 | I41: =E41*H41 -> 0 | J41: 0 | K41: =E41*J41 -> 0 | O41: 2 | AA41: 1 | AB41: 1 | AC41: 1 | AZ41: 1 | BA41: =IF(AZ41=1,G41,0) -> 0 | BB41: =IF(AZ41=2,G41,0) -> 0 | BC41: =IF(AZ41=3,G41,0) -> 0 | BD41: =IF(AZ41=4,G41,0) -> 0 | BE41: =IF(AZ41=5,G41,0) -> 0 | CA41: 1 | CB41: 1
C42: zdivo 1.p.p.:4,1*0,35*2,25 | E42: 3.2287 | M42: zdivo 1.p.p.:4,1*0,35*2,25
C43: zdivo 1.n.p.:5,25*0,4*2,25 | E43: 4.725 | M43: zdivo 1.n.p.:5,25*0,4*2,25
C44: zdivo 2.n.p.:1,45*0,35*2,5 | E44: 1.2688 | M44: zdivo 2.n.p.:1,45*0,35*2,5
A45: 24 | B45: 962300011RA0 | C45: Bourání komínů z cihel s jedním průduchem | D45: m | E45: 10.5 | F45: 0 | G45: =E45*F45 -> 0 | H45: 0 | I45: =E45*H45 -> 0 | J45: 0 | K45: =E45*J45 -> 0 | O45: 2 | AA45: 2 | AB45: 1 | AC45: 1 | AZ45: 1 | BA45: =IF(AZ45=1,G45,0) -> 0 | BB45: =IF(AZ45=2,G45,0) -> 0 | BC45: =IF(AZ45=3,G45,0) -> 0 | BD45: =IF(AZ45=4,G45,0) -> 0 | BE45: =IF(AZ45=5,G45,0) -> 0 | CA45: 2 | CB45: 1
A46: 25 | B46: 962300012RA0 | C46: Bourání komínů z cihel se dvěma průduchy | D46: m | E46: 8.15 | F46: 0 | G46: =E46*F46 -> 0 | H46: 0 | I46: =E46*H46 -> 0 | J46: 0 | K46: =E46*J46 -> 0 | O46: 2 | AA46: 2 | AB46: 1 | AC46: 1 | AZ46: 1 | BA46: =IF(AZ46=1,G46,0) -> 0 | BB46: =IF(AZ46=2,G46,0) -> 0 | BC46: =IF(AZ46=3,G46,0) -> 0 | BD46: =IF(AZ46=4,G46,0) -> 0 | BE46: =IF(AZ46=5,G46,0) -> 0 | CA46: 2 | CB46: 1
A47: 26 | B47: 962300013RA0 | C47: Bourání komínů z cihel se třemi průduchy | D47: m | E47: 8.25 | F47: 0 | G47: =E47*F47 -> 0 | H47: 0 | I47: =E47*H47 -> 0 | J47: 0 | K47: =E47*J47 -> 0 | O47: 2 | AA47: 2 | AB47: 1 | AC47: 1 | AZ47: 1 | BA47: =IF(AZ47=1,G47,0) -> 0 | BB47: =IF(AZ47=2,G47,0) -> 0 | BC47: =IF(AZ47=3,G47,0) -> 0 | BD47: =IF(AZ47=4,G47,0) -> 0 | BE47: =IF(AZ47=5,G47,0) -> 0 | CA47: 2 | CB47: 1
A48: 27 | B48: 962200011RAB | C48: Bourání příček z cihel pálených, tloušťka 15 cm | D48: m2 | E48: 6.9375 | F48: 0 | G48: =E48*F48 -> 0 | H48: 0 | I48: =E48*H48 -> 0 | J48: 0 | K48: =E48*J48 -> 0 | O48: 2 | AA48: 2 | AB48: 1 | AC48: 1 | AZ48: 1 | BA48: =IF(AZ48=1,G48,0) -> 0 | BB48: =IF(AZ48=2,G48,0) -> 0 | BC48: =IF(AZ48=3,G48,0) -> 0 | BD48: =IF(AZ48=4,G48,0) -> 0 | BE48: =IF(AZ48=5,G48,0) -> 0 | CA48: 2 | CB48: 1
C49: 1.n.p.:7,3*0,15*2,5 | E49: 2.7375 | M49: 1.n.p.:7,3*0,15*2,5
C50: 2.n.p.:11,2*0,15*2,5 | E50: 4.2 | M50: 2.n.p.:11,2*0,15*2,5
A51: 28 | B51: 96508vp | C51: Bourání dlažeb keramických a dalš.povrch.kcí | D51: m2 | E51: 311.03 | F51: 0 | G51: =E51*F51 -> 0 | H51: 0 | I51: =E51*H51 -> 0 | K51: =E51*J51 -> 0 | O51: 2 | AA51: 12 | AB51: 0 | AC51: 28 | AZ51: 1 | BA51: =IF(AZ51=1,G51,0) -> 0 | BB51: =IF(AZ51=2,G51,0) -> 0 | BC51: =IF(AZ51=3,G51,0) -> 0 | BD51: =IF(AZ51=4,G51,0) -> 0 | BE51: =IF(AZ51=5,G51,0) -> 0 | CA51: 12 | CB51: 0
C52: 1.pp-odstr.st. dlažeb,soklů,pvc,dalš...:98,5 | E52: 98.5 | M52: 1.pp-odstr.st. dlažeb,soklů,pvc,dalš...:98,5
C53: 1.np--dtto:104,1 | E53: 104.1 | M53: 1.np--dtto:104,1
C54: 2.np--dtto:108,43 | E54: 108.43 | M54: 2.np--dtto:108,43
A55: 29 | B55: 968072558R00 | C55: Vybourání kovových vrat plochy do 5 m2 | D55: m2 | E55: 4.25 | F55: 0 | G55: =E55*F55 -> 0 | H55: 0 | I55: =E55*H55 -> 0 | J55: 0 | K55: =E55*J55 -> 0 | O55: 2 | AA55: 1 | AB55: 1 | AC55: 1 | AZ55: 1 | BA55: =IF(AZ55=1,G55,0) -> 0 | BB55: =IF(AZ55=2,G55,0) -> 0 | BC55: =IF(AZ55=3,G55,0) -> 0 | BD55: =IF(AZ55=4,G55,0) -> 0 | BE55: =IF(AZ55=5,G55,0) -> 0 | CA55: 1 | CB55: 1
A56: 30 | B56: 968071136R00 | C56: Vyvěšení, zavěšení kovových křídel vrat do 4 m2 | D56: kus | E56: 2 | F56: 0 | G56: =E56*F56 -> 0 | H56: 0 | I56: =E56*H56 -> 0 | J56: 0 | K56: =E56*J56 -> 0 | O56: 2 | AA56: 1 | AB56: 1 | AC56: 1 | AZ56: 1 | BA56: =IF(AZ56=1,G56,0) -> 0 | BB56: =IF(AZ56=2,G56,0) -> 0 | BC56: =IF(AZ56=3,G56,0) -> 0 | BD56: =IF(AZ56=4,G56,0) -> 0 | BE56: =IF(AZ56=5,G56,0) -> 0 | CA56: 1 | CB56: 1
A57: 31 | B57: 96902vp | C57: Vybourání koksového filtru, včetně nakládky,odvozu suti na skládku | D57: kus | E57: 1 | F57: 0 | G57: =E57*F57 -> 0 | H57: 0 | I57: =E57*H57 -> 0 | K57: =E57*J57 -> 0 | O57: 2 | AA57: 12 | AB57: 0 | AC57: 31 | AZ57: 1 | BA57: =IF(AZ57=1,G57,0) -> 0 | BB57: =IF(AZ57=2,G57,0) -> 0 | BC57: =IF(AZ57=3,G57,0) -> 0 | BD57: =IF(AZ57=4,G57,0) -> 0 | BE57: =IF(AZ57=5,G57,0) -> 0 | CA57: 12 | CB57: 0
B58: Celkem za | C58: 96 Bourání konstrukcí | G58: =SUM(G20:G57) -> 0 | I58: =SUM(I20:I57) -> 0 | K58: =SUM(K20:K57) -> 0 | O58: 4 | BA58: =SUM(BA20:BA57) -> 0 | BB58: =SUM(BB20:BB57) -> 0 | BC58: =SUM(BC20:BC57) -> 0 | BD58: =SUM(BD20:BD57) -> 0 | BE58: =SUM(BE20:BE57) -> 0
A59: Díl: | B59: 97 | C59: Prorážení otvorů | O59: 1
A60: 32 | B60: 971100021RAB | C60: Vybourání otvorů ve zdivu cihelném, tloušťka 45 cm | D60: m2 | E60: 7.754 | F60: 0 | G60: =E60*F60 -> 0 | H60: 0 | I60: =E60*H60 -> 0 | J60: 0 | K60: =E60*J60 -> 0 | O60: 2 | AA60: 2 | AB60: 1 | AC60: 1 | AZ60: 1 | BA60: =IF(AZ60=1,G60,0) -> 0 | BB60: =IF(AZ60=2,G60,0) -> 0 | BC60: =IF(AZ60=3,G60,0) -> 0 | BD60: =IF(AZ60=4,G60,0) -> 0 | BE60: =IF(AZ60=5,G60,0) -> 0 | CA60: 2 | CB60: 1
C61: nové otvory pro dveře,posun gar.vrat:2,3*0,4*2,2 | E61: 2.024 | M61: nové otvory pro dveře,posun gar.vrat:2,3*0,4*2,2
C62: vytvoření nové lodžie:5,25*0,4*2,5 | E62: 5.25 | M62: vytvoření nové lodžie:5,25*0,4*2,5
C63: nové okno:1,5*0,4*0,8 | E63: 0.48 | M63: nové okno:1,5*0,4*0,8
A64: 33 | B64: 971100021RAA | C64: Vybourání otvorů ve zdivu cihelném, tloušťka 30 cm | D64: m2 | E64: 2.3625 | F64: 0 | G64: =E64*F64 -> 0 | H64: 0 | I64: =E64*H64 -> 0 | J64: 0 | K64: =E64*J64 -> 0 | O64: 2 | AA64: 2 | AB64: 1 | AC64: 1 | AZ64: 1 | BA64: =IF(AZ64=1,G64,0) -> 0 | BB64: =IF(AZ64=2,G64,0) -> 0 | BC64: =IF(AZ64=3,G64,0) -> 0 | BD64: =IF(AZ64=4,G64,0) -> 0 | BE64: =IF(AZ64=5,G64,0) -> 0 | CA64: 2 | CB64: 1
C65: nové otvory pro dveře: | E65: 0 | M65: nové otvory pro dveře:
C66: 1.pp:1,8*0,3*2,25 | E66: 1.215 | M66: 1.pp:1,8*0,3*2,25
C67: 1.np:0,8*0,3*2,25 | E67: 0.54 | M67: 1.np:0,8*0,3*2,25
C68: 2.np:0,9*0,3*2,25 | E68: 0.6075 | M68: 2.np:0,9*0,3*2,25
A69: 34 | B69: 979083116R00 | C69: Vodorovné přemístění suti na skládku do 5000 m | D69: t | E69: 7.23 | F69: 0 | G69: =E69*F69 -> 0 | H69: 0 | I69: =E69*H69 -> 0 | J69: 0 | K69: =E69*J69 -> 0 | O69: 2 | AA69: 1 | AB69: 1 | AC69: 1 | AZ69: 1 | BA69: =IF(AZ69=1,G69,0) -> 0 | BB69: =IF(AZ69=2,G69,0) -> 0 | BC69: =IF(AZ69=3,G69,0) -> 0 | BD69: =IF(AZ69=4,G69,0) -> 0 | BE69: =IF(AZ69=5,G69,0) -> 0 | CA69: 1 | CB69: 1
A70: 35 | B70: 973100020RA0 | C70: Vysekání kapes ve zdivu z cihel, 30 x 30 x 30 cm | D70: kus | E70: 8 | F70: 0 | G70: =E70*F70 -> 0 | H70: 0 | I70: =E70*H70 -> 0 | J70: 0 | K70: =E70*J70 -> 0 | O70: 2 | AA70: 2 | AB70: 1 | AC70: 1 | AZ70: 1 | BA70: =IF(AZ70=1,G70,0) -> 0 | BB70: =IF(AZ70=2,G70,0) -> 0 | BC70: =IF(AZ70=3,G70,0) -> 0 | BD70: =IF(AZ70=4,G70,0) -> 0 | BE70: =IF(AZ70=5,G70,0) -> 0 | CA70: 2 | CB70: 1
A71: 36 | B71: 978100010RA0 | C71: Otlučení vnitřních omítek stropů vápenocem. 100 % | D71: m2 | E71: 98 | F71: 0 | G71: =E71*F71 -> 0 | H71: 0 | I71: =E71*H71 -> 0 | J71: 0 | K71: =E71*J71 -> 0 | O71: 2 | AA71: 2 | AB71: 1 | AC71: 1 | AZ71: 1 | BA71: =IF(AZ71=1,G71,0) -> 0 | BB71: =IF(AZ71=2,G71,0) -> 0 | BC71: =IF(AZ71=3,G71,0) -> 0 | BD71: =IF(AZ71=4,G71,0) -> 0 | BE71: =IF(AZ71=5,G71,0) -> 0 | CA71: 2 | CB71: 1
A72: 37 | B72: 978200010RA0 | C72: Otlučení vnitřních omítek stěn vápenocem. 100 % | D72: m2 | E72: 178 | F72: 0 | G72: =E72*F72 -> 0 | H72: 0 | I72: =E72*H72 -> 0 | J72: 0 | K72: =E72*J72 -> 0 | O72: 2 | AA72: 2 | AB72: 1 | AC72: 1 | AZ72: 1 | BA72: =IF(AZ72=1,G72,0) -> 0 | BB72: =IF(AZ72=2,G72,0) -> 0 | BC72: =IF(AZ72=3,G72,0) -> 0 | BD72: =IF(AZ72=4,G72,0) -> 0 | BE72: =IF(AZ72=5,G72,0) -> 0 | CA72: 2 | CB72: 1
A73: 38 | B73: 978500010RA0 | C73: Odsekání vnitřních obkladů | D73: m2 | E73: 50 | F73: 0 | G73: =E73*F73 -> 0 | H73: 0 | I73: =E73*H73 -> 0 | J73: 0 | K73: =E73*J73 -> 0 | O73: 2 | AA73: 2 | AB73: 1 | AC73: 1 | AZ73: 1 | BA73: =IF(AZ73=1,G73,0) -> 0 | BB73: =IF(AZ73=2,G73,0) -> 0 | BC73: =IF(AZ73=3,G73,0) -> 0 | BD73: =IF(AZ73=4,G73,0) -> 0 | BE73: =IF(AZ73=5,G73,0) -> 0 | CA73: 2 | CB73: 1
A74: 39 | B74: 979100011RA0 | C74: Odvoz suti a vyb.hmot do 10 km, vnitrost. 15 m | D74: t | E74: 16.04 | F74: 0 | G74: =E74*F74 -> 0 | H74: 0 | I74: =E74*H74 -> 0 | J74: 0 | K74: =E74*J74 -> 0 | O74: 2 | AA74: 2 | AB74: 1 | AC74: 1 | AZ74: 1 | BA74: =IF(AZ74=1,G74,0) -> 0 | BB74: =IF(AZ74=2,G74,0) -> 0 | BC74: =IF(AZ74=3,G74,0) -> 0 | BD74: =IF(AZ74=4,G74,0) -> 0 | BE74: =IF(AZ74=5,G74,0) -> 0 | CA74: 2 | CB74: 1
A75: 40 | B75: 979990102R00 | C75: Poplat.za sklád.suti-směs bet.a cihel nad 30x30cm | D75: t | E75: 16.04 | F75: 0 | G75: =E75*F75 -> 0 | H75: 0 | I75: =E75*H75 -> 0 | J75: 0 | K75: =E75*J75 -> 0 | O75: 2 | AA75: 1 | AB75: 1 | AC75: 1 | AZ75: 1 | BA75: =IF(AZ75=1,G75,0) -> 0 | BB75: =IF(AZ75=2,G75,0) -> 0 | BC75: =IF(AZ75=3,G75,0) -> 0 | BD75: =IF(AZ75=4,G75,0) -> 0 | BE75: =IF(AZ75=5,G75,0) -> 0 | CA75: 1 | CB75: 1
A76: 41 | B76: 976085311R00 | C76: Vybourání kanal.rámů a poklopů plochy do 0,6 m2 | D76: kus | E76: 1 | F76: 0 | G76: =E76*F76 -> 0 | H76: 0 | I76: =E76*H76 -> 0 | J76: 0 | K76: =E76*J76 -> 0 | O76: 2 | AA76: 1 | AB76: 1 | AC76: 1 | AZ76: 1 | BA76: =IF(AZ76=1,G76,0) -> 0 | BB76: =IF(AZ76=2,G76,0) -> 0 | BC76: =IF(AZ76=3,G76,0) -> 0 | BD76: =IF(AZ76=4,G76,0) -> 0 | BE76: =IF(AZ76=5,G76,0) -> 0 | CA76: 1 | CB76: 1
A77: 42 | B77: 976081111R00 | C77: Vybourání pozedního madla z jakéhokoliv zdiva | D77: m | E77: 3 | F77: 0 | G77: =E77*F77 -> 0 | H77: 0 | I77: =E77*H77 -> 0 | J77: 0 | K77: =E77*J77 -> 0 | O77: 2 | AA77: 1 | AB77: 1 | AC77: 1 | AZ77: 1 | BA77: =IF(AZ77=1,G77,0) -> 0 | BB77: =IF(AZ77=2,G77,0) -> 0 | BC77: =IF(AZ77=3,G77,0) -> 0 | BD77: =IF(AZ77=4,G77,0) -> 0 | BE77: =IF(AZ77=5,G77,0) -> 0 | CA77: 1 | CB77: 1
B78: Celkem za | C78: 97 Prorážení otvorů | G78: =SUM(G59:G77) -> 0 | I78: =SUM(I59:I77) -> 0 | K78: =SUM(K59:K77) -> 0 | O78: 4 | BA78: =SUM(BA59:BA77) -> 0 | BB78: =SUM(BB59:BB77) -> 0 | BC78: =SUM(BC59:BC77) -> 0 | BD78: =SUM(BD59:BD77) -> 0 | BE78: =SUM(BE59:BE77) -> 0
A79: Díl: | B79: 98 | C79: Demolice | O79: 1
A80: 43 | B80: 981512114R00 | C80: Demolice konstrukcí jiným způsobem, železobeton | D80: m3 | E80: 3 | F80: 0 | G80: =E80*F80 -> 0 | H80: 0 | I80: =E80*H80 -> 0 | J80: 0 | K80: =E80*J80 -> 0 | O80: 2 | AA80: 1 | AB80: 1 | AC80: 1 | AZ80: 1 | BA80: =IF(AZ80=1,G80,0) -> 0 | BB80: =IF(AZ80=2,G80,0) -> 0 | BC80: =IF(AZ80=3,G80,0) -> 0 | BD80: =IF(AZ80=4,G80,0) -> 0 | BE80: =IF(AZ80=5,G80,0) -> 0 | CA80: 1 | CB80: 1
C81: septik-odstranění 50%:(12*2*0,25)*0,5 | E81: 3 | M81: septik-odstranění 50%:(12*2*0,25)*0,5
B82: Celkem za | C82: 98 Demolice | G82: =SUM(G79:G81) -> 0 | I82: =SUM(I79:I81) -> 0 | K82: =SUM(K79:K81) -> 0 | O82: 4 | BA82: =SUM(BA79:BA81) -> 0 | BB82: =SUM(BB79:BB81) -> 0 | BC82: =SUM(BC79:BC81) -> 0 | BD82: =SUM(BD79:BD81) -> 0 | BE82: =SUM(BE79:BE81) -> 0
A83: Díl: | B83: 711 | C83: Izolace proti vodě | O83: 1
A84: 44 | B84: 71114vp | C84: odstranění - izolace proti vodě vod přitavená, 1x | D84: m2 | E84: 4.87 | F84: 0 | G84: =E84*F84 -> 0 | H84: 0 | I84: =E84*H84 -> 0 | K84: =E84*J84 -> 0 | O84: 2 | AA84: 12 | AB84: 0 | AC84: 44 | AZ84: 2 | BA84: =IF(AZ84=1,G84,0) -> 0 | BB84: =IF(AZ84=2,G84,0) -> 0 | BC84: =IF(AZ84=3,G84,0) -> 0 | BD84: =IF(AZ84=4,G84,0) -> 0 | BE84: =IF(AZ84=5,G84,0) -> 0 | CA84: 12 | CB84: 0
B85: Celkem za | C85: 711 Izolace proti vodě | G85: =SUM(G83:G84) -> 0 | I85: =SUM(I83:I84) -> 0 | K85: =SUM(K83:K84) -> 0 | O85: 4 | BA85: =SUM(BA83:BA84) -> 0 | BB85: =SUM(BB83:BB84) -> 0 | BC85: =SUM(BC83:BC84) -> 0 | BD85: =SUM(BD83:BD84) -> 0 | BE85: =SUM(BE83:BE84) -> 0
A86: Díl: | B86: 713 | C86: Izolace tepelné | O86: 1
A87: 45 | B87: 713101111R00 | C87: Odstr.tep.izolace stropů,volně, EPS tl. do 100 mm | D87: m2 | E87: 5.25 | F87: 0 | G87: =E87*F87 -> 0 | H87: 0 | I87: =E87*H87 -> 0 | J87: 0 | K87: =E87*J87 -> 0 | O87: 2 | AA87: 1 | AB87: 7 | AC87: 7 | AZ87: 2 | BA87: =IF(AZ87=1,G87,0) -> 0 | BB87: =IF(AZ87=2,G87,0) -> 0 | BC87: =IF(AZ87=3,G87,0) -> 0 | BD87: =IF(AZ87=4,G87,0) -> 0 | BE87: =IF(AZ87=5,G87,0) -> 0 | CA87: 1 | CB87: 7
B88: Celkem za | C88: 713 Izolace tepelné | G88: =SUM(G86:G87) -> 0 | I88: =SUM(I86:I87) -> 0 | K88: =SUM(K86:K87) -> 0 | O88: 4 | BA88: =SUM(BA86:BA87) -> 0 | BB88: =SUM(BB86:BB87) -> 0 | BC88: =SUM(BC86:BC87) -> 0 | BD88: =SUM(BD86:BD87) -> 0 | BE88: =SUM(BE86:BE87) -> 0
A89: Díl: | B89: 721 | C89: Vnitřní kanalizace | O89: 1
A90: 46 | B90: 721300010RAA | C90: Demontáž potrubí ležatého z kameniny, do DN 200, vybourání podlahy, výkop | D90: m | E90: 16.25 | F90: 0 | G90: =E90*F90 -> 0 | H90: 0 | I90: =E90*H90 -> 0 | J90: 0 | K90: =E90*J90 -> 0 | O90: 2 | AA90: 2 | AB90: 7 | AC90: 7 | AZ90: 2 | BA90: =IF(AZ90=1,G90,0) -> 0 | BB90: =IF(AZ90=2,G90,0) -> 0 | BC90: =IF(AZ90=3,G90,0) -> 0 | BD90: =IF(AZ90=4,G90,0) -> 0 | BE90: =IF(AZ90=5,G90,0) -> 0 | CA90: 2 | CB90: 7
C91: 1.pp-vzbourání a výkop rýhy pro novou lež.kanalizaci:16,25 | E91: 16.25 | M91: 1.pp-vzbourání a výkop rýhy pro novou lež.kanalizaci:16,25
B92: Celkem za | C92: 721 Vnitřní kanalizace | G92: =SUM(G89:G91) -> 0 | I92: =SUM(I89:I91) -> 0 | K92: =SUM(K89:K91) -> 0 | O92: 4 | BA92: =SUM(BA89:BA91) -> 0 | BB92: =SUM(BB89:BB91) -> 0 | BC92: =SUM(BC89:BC91) -> 0 | BD92: =SUM(BD89:BD91) -> 0 | BE92: =SUM(BE89:BE91) -> 0
A93: Díl: | B93: 722 | C93: Vnitřní vodovod | O93: 1
A94: 47 | B94: 722200010RAA | C94: Demontáž potrubí ocelového do DN 50, s vysekáním ze zdi | D94: m | E94: 25 | F94: 0 | G94: =E94*F94 -> 0 | H94: 0 | I94: =E94*H94 -> 0 | J94: 0 | K94: =E94*J94 -> 0 | O94: 2 | AA94: 2 | AB94: 7 | AC94: 7 | AZ94: 2 | BA94: =IF(AZ94=1,G94,0) -> 0 | BB94: =IF(AZ94=2,G94,0) -> 0 | BC94: =IF(AZ94=3,G94,0) -> 0 | BD94: =IF(AZ94=4,G94,0) -> 0 | BE94: =IF(AZ94=5,G94,0) -> 0 | CA94: 2 | CB94: 7
B95: Celkem za | C95: 722 Vnitřní vodovod | G95: =SUM(G93:G94) -> 0 | I95: =SUM(I93:I94) -> 0 | K95: =SUM(K93:K94) -> 0 | O95: 4 | BA95: =SUM(BA93:BA94) -> 0 | BB95: =SUM(BB93:BB94) -> 0 | BC95: =SUM(BC93:BC94) -> 0 | BD95: =SUM(BD93:BD94) -> 0 | BE95: =SUM(BE93:BE94) -> 0
A96: Díl: | B96: 725 | C96: Zařizovací předměty | O96: 1
A97: 48 | B97: 725290010RA0 | C97: Demontáž klozetu včetně splachovací nádrže | D97: kus | E97: 2 | F97: 0 | G97: =E97*F97 -> 0 | H97: 0 | I97: =E97*H97 -> 0 | J97: 0 | K97: =E97*J97 -> 0 | O97: 2 | AA97: 2 | AB97: 7 | AC97: 7 | AZ97: 2 | BA97: =IF(AZ97=1,G97,0) -> 0 | BB97: =IF(AZ97=2,G97,0) -> 0 | BC97: =IF(AZ97=3,G97,0) -> 0 | BD97: =IF(AZ97=4,G97,0) -> 0 | BE97: =IF(AZ97=5,G97,0) -> 0 | CA97: 2 | CB97: 7
A98: 49 | B98: 725290020RA0 | C98: Demontáž umyvadla včetně baterie a konzol | D98: kus | E98: 2 | F98: 0 | G98: =E98*F98 -> 0 | H98: 0 | I98: =E98*H98 -> 0 | J98: 0 | K98: =E98*J98 -> 0 | O98: 2 | AA98: 2 | AB98: 7 | AC98: 7 | AZ98: 2 | BA98: =IF(AZ98=1,G98,0) -> 0 | BB98: =IF(AZ98=2,G98,0) -> 0 | BC98: =IF(AZ98=3,G98,0) -> 0 | BD98: =IF(AZ98=4,G98,0) -> 0 | BE98: =IF(AZ98=5,G98,0) -> 0 | CA98: 2 | CB98: 7
A99: 50 | B99: 725290030RA0 | C99: Demontáž vany , včetně baterie a obezdění | D99: kus | E99: 3 | F99: 0 | G99: =E99*F99 -> 0 | H99: 0 | I99: =E99*H99 -> 0 | J99: 0 | K99: =E99*J99 -> 0 | O99: 2 | AA99: 2 | AB99: 7 | AC99: 7 | AZ99: 2 | BA99: =IF(AZ99=1,G99,0) -> 0 | BB99: =IF(AZ99=2,G99,0) -> 0 | BC99: =IF(AZ99=3,G99,0) -> 0 | BD99: =IF(AZ99=4,G99,0) -> 0 | BE99: =IF(AZ99=5,G99,0) -> 0 | CA99: 2 | CB99: 7
B100: Celkem za | C100: 725 Zařizovací předměty | G100: =SUM(G96:G99) -> 0 | I100: =SUM(I96:I99) -> 0 | K100: =SUM(K96:K99) -> 0 | O100: 4 | BA100: =SUM(BA96:BA99) -> 0 | BB100: =SUM(BB96:BB99) -> 0 | BC100: =SUM(BC96:BC99) -> 0 | BD100: =SUM(BD96:BD99) -> 0 | BE100: =SUM(BE96:BE99) -> 0
A101: Díl: | B101: 731 | C101: Kotelny | O101: 1
A102: 51 | B102: 731200815R00 | C102: Demontáž kotle ocel. na tuhá paliva do 40 kW | D102: kus | E102: 1 | F102: 0 | G102: =E102*F102 -> 0 | H102: 0 | I102: =E102*H102 -> 0 | J102: 0 | K102: =E102*J102 -> 0 | O102: 2 | AA102: 1 | AB102: 7 | AC102: 7 | AZ102: 2 | BA102: =IF(AZ102=1,G102,0) -> 0 | BB102: =IF(AZ102=2,G102,0) -> 0 | BC102: =IF(AZ102=3,G102,0) -> 0 | BD102: =IF(AZ102=4,G102,0) -> 0 | BE102: =IF(AZ102=5,G102,0) -> 0 | CA102: 1 | CB102: 7
...

Sheet 1 3 KL
A1: SLEPÝ ROZPOČET
A2: Rozpočet | C2: 3 | D2: ZTI | F2: JKSO
A4: Objekt | F4: SKP
A5: 1 | C5: RD se sociálními byty Študlov | F5: Měrná jednotka
A6: Stavba | F6: Počet jednotek
A7: 2020/12 | C7: RD se sociálními byty Študlov | F7: Náklady na m.j. | G7: =IF(G6=0,,ROUND((F30+F32)/G6,1)) -> 0
A8: Projektant | F8: Typ rozpočtu
A9: Zpracovatel projektu
A10: Objednatel
A11: Dodavatel | F11: Zakázkové číslo
A12: Rozpočtoval | F12: Počet listů
A13: ROZPOČTOVÉ NÁKLADY
A14: Základní rozpočtové náklady | D14: Ostatní rozpočtové náklady
B15: HSV celkem | C15: ='1 3 Rek'!E13 -> 0 | D15: ='1 3 Rek'!A18 -> Ztížené výrobní podmínky | G15: ='1 3 Rek'!I18 -> 0
A16: Z | B16: PSV celkem | C16: ='1 3 Rek'!F13 -> 0 | D16: ='1 3 Rek'!A19 -> Oborová přirážka | G16: ='1 3 Rek'!I19 -> 0
A17: R | B17: M práce celkem | C17: ='1 3 Rek'!H13 -> 0 | D17: ='1 3 Rek'!A20 -> Přesun stavebních kapacit | G17: ='1 3 Rek'!I20 -> 0
A18: N | B18: M dodávky celkem | C18: ='1 3 Rek'!G13 -> 0 | D18: ='1 3 Rek'!A21 -> Mimostaveništní doprava | G18: ='1 3 Rek'!I21 -> 0
A19: ZRN celkem | C19: =SUM(C15:C18) -> 0 | D19: ='1 3 Rek'!A22 -> Zařízení staveniště | G19: ='1 3 Rek'!I22 -> 0
D20: ='1 3 Rek'!A23 -> Provoz investora | G20: ='1 3 Rek'!I23 -> 0
A21: HZS | C21: ='1 3 Rek'!I13 -> 0 | D21: ='1 3 Rek'!A24 -> Kompletační činnost (IČD) | G21: ='1 3 Rek'!I24 -> 0
A22: ZRN+HZS | C22: =C19+C21 -> 0 | D22: Ostatní náklady neuvedené | G22: =G23-SUM(G15:G21) -> 0
A23: ZRN+ost.náklady+HZS | C23: =C22+G23 -> 0 | D23: Ostatní náklady celkem | G23: ='1 3 Rek'!H26 -> 0
A24: Vypracoval | D24: Za zhotovitele | F24: Za objednatele
A25: Jméno : | D25: Jméno : | F25: Jméno :
A26: Datum : | D26: Datum : | F26: Datum :
A28: Podpis : | D28: Podpis: | F28: Podpis:
A30: Základ pro DPH | C30: 15 | D30: % | F30: =ROUND(C23-F32,0) -> 0
A31: DPH | C31: =C30 -> 15 | D31: % | F31: =ROUND(PRODUCT(F30,C31/100),1) -> 0
A32: Základ pro DPH | C32: 0 | D32: % | F32: 0
A33: DPH | C33: =C32 -> 0 | D33: % | F33: =ROUND(PRODUCT(F32,C33/100),1) -> 0
A34: CENA ZA OBJEKT CELKEM | F34: =CEILING(SUM(F30:F33),IF(SUM(F30:F33)>=0,1,-1)) -> 0
A36: Poznámka :

Sheet 1 3 Rek
A1: Stavba : | C1: 2020/12 RD se sociálními byty Študlov | G1: Rozpočet : | H1: 3
A2: Objekt : | C2: 1 RD se sociálními byty Študlov | G2: ZTI
A4: REKAPITULACE STAVEBNÍCH DÍLŮ
B6: Stavební díl | E6: HSV | F6: PSV | G6: Dodávka | H6: Montáž | I6: HZS
A7: ='1 3 Pol'!B7 -> 8 | B7: ='1 3 Pol'!C7 -> Trubní vedení | E7: ='1 3 Pol'!BA20 -> 0 | F7: ='1 3 Pol'!BB20 -> 0 | G7: ='1 3 Pol'!BC20 -> 0 | H7: ='1 3 Pol'!BD20 -> 0 | I7: ='1 3 Pol'!BE20 -> 0
A8: ='1 3 Pol'!B21 -> 97 | B8: ='1 3 Pol'!C21 -> Prorážení otvorů | E8: ='1 3 Pol'!BA23 -> 0 | F8: ='1 3 Pol'!BB23 -> 0 | G8: ='1 3 Pol'!BC23 -> 0 | H8: ='1 3 Pol'!BD23 -> 0 | I8: ='1 3 Pol'!BE23 -> 0
A9: ='1 3 Pol'!B24 -> 721 | B9: ='1 3 Pol'!C24 -> Vnitřní kanalizace | E9: ='1 3 Pol'!BA43 -> 0 | F9: ='1 3 Pol'!BB43 -> 0 | G9: ='1 3 Pol'!BC43 -> 0 | H9: ='1 3 Pol'!BD43 -> 0 | I9: ='1 3 Pol'!BE43 -> 0
A10: ='1 3 Pol'!B44 -> 722 | B10: ='1 3 Pol'!C44 -> Vnitřní vodovod | E10: ='1 3 Pol'!BA77 -> 0 | F10: ='1 3 Pol'!BB77 -> 0 | G10: ='1 3 Pol'!BC77 -> 0 | H10: ='1 3 Pol'!BD77 -> 0 | I10: ='1 3 Pol'!BE77 -> 0
A11: ='1 3 Pol'!B78 -> 725 | B11: ='1 3 Pol'!C78 -> Zařizovací předměty | E11: ='1 3 Pol'!BA114 -> 0 | F11: ='1 3 Pol'!BB114 -> 0 | G11: ='1 3 Pol'!BC114 -> 0 | H11: ='1 3 Pol'!BD114 -> 0 | I11: ='1 3 Pol'!BE114 -> 0
A12: ='1 3 Pol'!B115 -> M23 | B12: ='1 3 Pol'!C115 -> Montáže potrubí | E12: ='1 3 Pol'!BA118 -> 0 | F12: ='1 3 Pol'!BB118 -> 0 | G12: ='1 3 Pol'!BC118 -> 0 | H12: ='1 3 Pol'!BD118 -> 0 | I12: ='1 3 Pol'!BE118 -> 0
B13: CELKEM OBJEKT | E13: =SUM(E7:E12) -> 0 | F13: =SUM(F7:F12) -> 0 | G13: =SUM(G7:G12) -> 0 | H13: =SUM(H7:H12) -> 0 | I13: =SUM(I7:I12) -> 0
A15: VEDLEJŠÍ ROZPOČTOVÉ NÁKLADY
A17: Název VRN | E17: Kč | F17: % | G17: Základna | I17: Kč
A18: Ztížené výrobní podmínky | G18: 0 | I18: =E18+F18*G18/100 -> 0 | BA18: 0
A19: Oborová přirážka | G19: 0 | I19: =E19+F19*G19/100 -> 0 | BA19: 0
A20: Přesun stavebních kapacit | G20: 0 | I20: =E20+F20*G20/100 -> 0 | BA20: 0
A21: Mimostaveništní doprava | G21: 0 | I21: =E21+F21*G21/100 -> 0 | BA21: 0
A22: Zařízení staveniště | G22: 0 | I22: =E22+F22*G22/100 -> 0 | BA22: 1
A23: Provoz investora | G23: 0 | I23: =E23+F23*G23/100 -> 0 | BA23: 1
A24: Kompletační činnost (IČD) | G24: 0 | I24: =E24+F24*G24/100 -> 0 | BA24: 2
A25: Rezerva rozpočtu | G25: 0 | I25: =E25+F25*G25/100 -> 0 | BA25: 2
B26: CELKEM VRN | H26: =SUM(I18:I25) -> 0

Sheet 1 3 Pol
A1: Slepý rozpočet
A3: Stavba : | C3: 2020/12 RD se sociálními byty Študlov | E3: Rozpočet: | F3: ='1 3 Rek'!H1 -> 3
A4: Objekt : | C4: 1 RD se sociálními byty Študlov | E4: ='1 3 Rek'!G2 -> ZTI
A6: P.č. | B6: Číslo položky | C6: Název položky | D6: MJ | E6: množství | F6: cena / MJ | G6: celkem (Kč) | H6: Jednotková hmotnost | I6: Celková hmotnost | J6: Jednotková dem.hmot. | K6: Celková dem.hmot.
A7: Díl: | B7: 8 | C7: Trubní vedení | O7: 1
A8: 1 | B8: 871111104R00 | C8: M.plast.potr ve výkopu na gum.těsnění do DN 300 mm | D8: m | E8: 40 | F8: 0 | G8: =E8*F8 -> 0 | H8: 0 | I8: =E8*H8 -> 0 | J8: 0 | K8: =E8*J8 -> 0 | O8: 2 | AA8: 1 | AB8: 1 | AC8: 1 | AZ8: 1 | BA8: =IF(AZ8=1,G8,0) -> 0 | BB8: =IF(AZ8=2,G8,0) -> 0 | BC8: =IF(AZ8=3,G8,0) -> 0 | BD8: =IF(AZ8=4,G8,0) -> 0 | BE8: =IF(AZ8=5,G8,0) -> 0 | CA8: 1 | CB8: 1
A9: 2 | B9: 877313123R00 | C9: Montáž tvarovek plast. gum.kroužek do DN 150 | D9: kus | E9: 25 | F9: 0 | G9: =E9*F9 -> 0 | H9: 0 | I9: =E9*H9 -> 0 | J9: 0 | K9: =E9*J9 -> 0 | O9: 2 | AA9: 1 | AB9: 1 | AC9: 1 | AZ9: 1 | BA9: =IF(AZ9=1,G9,0) -> 0 | BB9: =IF(AZ9=2,G9,0) -> 0 | BC9: =IF(AZ9=3,G9,0) -> 0 | BD9: =IF(AZ9=4,G9,0) -> 0 | BE9: =IF(AZ9=5,G9,0) -> 0 | CA9: 1 | CB9: 1
A10: 3 | B10: 28611141.A | C10: Trubka kanalizační KGEM SN 4 PVC 110x3,2x1000 | D10: kus | E10: 15 | F10: 0 | G10: =E10*F10 -> 0 | H10: 0 | I10: =E10*H10 -> 0 | K10: =E10*J10 -> 0 | O10: 2 | AA10: 3 | AB10: 1 | AC10: 28611141.A | AZ10: 1 | BA10: =IF(AZ10=1,G10,0) -> 0 | BB10: =IF(AZ10=2,G10,0) -> 0 | BC10: =IF(AZ10=3,G10,0) -> 0 | BD10: =IF(AZ10=4,G10,0) -> 0 | BE10: =IF(AZ10=5,G10,0) -> 0 | CA10: 3 | CB10: 1
A11: 4 | B11: 28611146.A | C11: Trubka kanalizační KGEM SN 4 PVC 125x3,2x1000 | D11: kus | E11: 15 | F11: 0 | G11: =E11*F11 -> 0 | H11: 0 | I11: =E11*H11 -> 0 | K11: =E11*J11 -> 0 | O11: 2 | AA11: 3 | AB11: 1 | AC11: 28611146.A | AZ11: 1 | BA11: =IF(AZ11=1,G11,0) -> 0 | BB11: =IF(AZ11=2,G11,0) -> 0 | BC11: =IF(AZ11=3,G11,0) -> 0 | BD11: =IF(AZ11=4,G11,0) -> 0 | BE11: =IF(AZ11=5,G11,0) -> 0 | CA11: 3 | CB11: 1
A12: 5 | B12: 28611151.A | C12: Trubka kanalizační KGEM SN 4 PVC 160x4,0x1000 | D12: kus | E12: 10 | F12: 0 | G12: =E12*F12 -> 0 | H12: 0 | I12: =E12*H12 -> 0 | K12: =E12*J12 -> 0 | O12: 2 | AA12: 3 | AB12: 1 | AC12: 28611151.A | AZ12: 1 | BA12: =IF(AZ12=1,G12,0) -> 0 | BB12: =IF(AZ12=2,G12,0) -> 0 | BC12: =IF(AZ12=3,G12,0) -> 0 | BD12: =IF(AZ12=4,G12,0) -> 0 | BE12: =IF(AZ12=5,G12,0) -> 0 | CA12: 3 | CB12: 1
A13: 6 | B13: 28651652.A | C13: Koleno kanalizační KGB 110/ 45° PVC | D13: kus | E13: 10 | F13: 0 | G13: =E13*F13 -> 0 | H13: 0 | I13: =E13*H13 -> 0 | K13: =E13*J13 -> 0 | O13: 2 | AA13: 3 | AB13: 1 | AC13: 28651652.A | AZ13: 1 | BA13: =IF(AZ13=1,G13,0) -> 0 | BB13: =IF(AZ13=2,G13,0) -> 0 | BC13: =IF(AZ13=3,G13,0) -> 0 | BD13: =IF(AZ13=4,G13,0) -> 0 | BE13: =IF(AZ13=5,G13,0) -> 0 | CA13: 3 | CB13: 1
A14: 7 | B14: 28651657.A | C14: Koleno kanalizační KGB 125/ 45° PVC | D14: kus | E14: 6 | F14: 0 | G14: =E14*F14 -> 0 | H14: 0 | I14: =E14*H14 -> 0 | K14: =E14*J14 -> 0 | O14: 2 | AA14: 3 | AB14: 1 | AC14: 28651657.A | AZ14: 1 | BA14: =IF(AZ14=1,G14,0) -> 0 | BB14: =IF(AZ14=2,G14,0) -> 0 | BC14: =IF(AZ14=3,G14,0) -> 0 | BD14: =IF(AZ14=4,G14,0) -> 0 | BE14: =IF(AZ14=5,G14,0) -> 0 | CA14: 3 | CB14: 1
A15: 8 | B15: 28651690.A | C15: Redukce kanalizační KGR 125/ 110 PVC | D15: kus | E15: 2 | F15: 0 | G15: =E15*F15 -> 0 | H15: 0 | I15: =E15*H15 -> 0 | K15: =E15*J15 -> 0 | O15: 2 | AA15: 3 | AB15: 1 | AC15: 28651690.A | AZ15: 1 | BA15: =IF(AZ15=1,G15,0) -> 0 | BB15: =IF(AZ15=2,G15,0) -> 0 | BC15: =IF(AZ15=3,G15,0) -> 0 | BD15: =IF(AZ15=4,G15,0) -> 0 | BE15: =IF(AZ15=5,G15,0) -> 0 | CA15: 3 | CB15: 1
A16: 9 | B16: 28651692.A | C16: Redukce kanalizační KGR 160/ 125 PVC | D16: kus | E16: 1 | F16: 0 | G16: =E16*F16 -> 0 | H16: 0 | I16: =E16*H16 -> 0 | K16: =E16*J16 -> 0 | O16: 2 | AA16: 3 | AB16: 1 | AC16: 28651692.A | AZ16: 1 | BA16: =IF(AZ16=1,G16,0) -> 0 | BB16: =IF(AZ16=2,G16,0) -> 0 | BC16: =IF(AZ16=3,G16,0) -> 0 | BD16: =IF(AZ16=4,G16,0) -> 0 | BE16: =IF(AZ16=5,G16,0) -> 0 | CA16: 3 | CB16: 1
A17: 10 | B17: 28651701.A | C17: Odbočka kanalizační KGEA 125/ 110/45° PVC | D17: kus | E17: 3 | F17: 0 | G17: =E17*F17 -> 0 | H17: 0 | I17: =E17*H17 -> 0 | K17: =E17*J17 -> 0 | O17: 2 | AA17: 3 | AB17: 1 | AC17: 28651701.A | AZ17: 1 | BA17: =IF(AZ17=1,G17,0) -> 0 | BB17: =IF(AZ17=2,G17,0) -> 0 | BC17: =IF(AZ17=3,G17,0) -> 0 | BD17: =IF(AZ17=4,G17,0) -> 0 | BE17: =IF(AZ17=5,G17,0) -> 0 | CA17: 3 | CB17: 1
A18: 11 | B18: 28651704.A | C18: Odbočka kanalizační KGEA 160/ 125/45° PVC | D18: kus | E18: 1 | F18: 0 | G18: =E18*F18 -> 0 | H18: 0 | I18: =E18*H18 -> 0 | K18: =E18*J18 -> 0 | O18: 2 | AA18: 3 | AB18: 1 | AC18: 28651704.A | AZ18: 1 | BA18: =IF(AZ18=1,G18,0) -> 0 | BB18: =IF(AZ18=2,G18,0) -> 0 | BC18: =IF(AZ18=3,G18,0) -> 0 | BD18: =IF(AZ18=4,G18,0) -> 0 | BE18: =IF(AZ18=5,G18,0) -> 0 | CA18: 3 | CB18: 1
A19: 12 | B19: 28654193.A | C19: Redukce excentrická kanalizační d 110/75 mm | D19: kus | E19: 3 | F19: 0 | G19: =E19*F19 -> 0 | H19: 0 | I19: =E19*H19 -> 0 | K19: =E19*J19 -> 0 | O19: 2 | AA19: 3 | AB19: 1 | AC19: 28654193.A | AZ19: 1 | BA19: =IF(AZ19=1,G19,0) -> 0 | BB19: =IF(AZ19=2,G19,0) -> 0 | BC19: =IF(AZ19=3,G19,0) -> 0 | BD19: =IF(AZ19=4,G19,0) -> 0 | BE19: =IF(AZ19=5,G19,0) -> 0 | CA19: 3 | CB19: 1
B20: Celkem za | C20: 8 Trubní vedení | G20: =SUM(G7:G19) -> 0 | I20: =SUM(I7:I19) -> 0 | K20: =SUM(K7:K19) -> 0 | O20: 4 | BA20: =SUM(BA7:BA19) -> 0 | BB20: =SUM(BB7:BB19) -> 0 | BC20: =SUM(BC7:BC19) -> 0 | BD20: =SUM(BD7:BD19) -> 0 | BE20: =SUM(BE7:BE19) -> 0
A21: Díl: | B21: 97 | C21: Prorážení otvorů | O21: 1
A22: 13 | B22: 909 R00 | C22: Hzs-nezmeritelne stavebni prace vysekáná drážek a otvorů vč. zapravení | D22: h | E22: 80 | F22: 0 | G22: =E22*F22 -> 0 | H22: 0 | I22: =E22*H22 -> 0 | K22: =E22*J22 -> 0 | O22: 2 | AA22: 10 | AB22: 0 | AC22: 8 | AZ22: 5 | BA22: =IF(AZ22=1,G22,0) -> 0 | BB22: =IF(AZ22=2,G22,0) -> 0 | BC22: =IF(AZ22=3,G22,0) -> 0 | BD22: =IF(AZ22=4,G22,0) -> 0 | BE22: =IF(AZ22=5,G22,0) -> 0 | CA22: 10 | CB22: 0
B23: Celkem za | C23: 97 Prorážení otvorů | G23: =SUM(G21:G22) -> 0 | I23: =SUM(I21:I22) -> 0 | K23: =SUM(K21:K22) -> 0 | O23: 4 | BA23: =SUM(BA21:BA22) -> 0 | BB23: =SUM(BB21:BB22) -> 0 | BC23: =SUM(BC21:BC22) -> 0 | BD23: =SUM(BD21:BD22) -> 0 | BE23: =SUM(BE21:BE22) -> 0
A24: Díl: | B24: 721 | C24: Vnitřní kanalizace | O24: 1
A25: 14 | B25: 721290111R00 | C25: Zkouška těsnosti kanalizace vodou do DN 160 | D25: m | E25: 130 | F25: 0 | G25: =E25*F25 -> 0 | H25: 0 | I25: =E25*H25 -> 0 | J25: 0 | K25: =E25*J25 -> 0 | O25: 2 | AA25: 1 | AB25: 7 | AC25: 7 | AZ25: 2 | BA25: =IF(AZ25=1,G25,0) -> 0 | BB25: =IF(AZ25=2,G25,0) -> 0 | BC25: =IF(AZ25=3,G25,0) -> 0 | BD25: =IF(AZ25=4,G25,0) -> 0 | BE25: =IF(AZ25=5,G25,0) -> 0 | CA25: 1 | CB25: 7
A26: 15 | B26: 733174255R00 | C26: Montáž potrubí z plastů HT D 40 mm | D26: m | E26: 10 | F26: 0 | G26: =E26*F26 -> 0 | H26: 0 | I26: =E26*H26 -> 0 | J26: 0 | K26: =E26*J26 -> 0 | O26: 2 | AA26: 1 | AB26: 7 | AC26: 7 | AZ26: 2 | BA26: =IF(AZ26=1,G26,0) -> 0 | BB26: =IF(AZ26=2,G26,0) -> 0 | BC26: =IF(AZ26=3,G26,0) -> 0 | BD26: =IF(AZ26=4,G26,0) -> 0 | BE26: =IF(AZ26=5,G26,0) -> 0 | CA26: 1 | CB26: 7
A27: 16 | B27: 733174256R00 | C27: Montáž potrubí z plastů HT D 50 mm | D27: m | E27: 30 | F27: 0 | G27: =E27*F27 -> 0 | H27: 0 | I27: =E27*H27 -> 0 | J27: 0 | K27: =E27*J27 -> 0 | O27: 2 | AA27: 1 | AB27: 7 | AC27: 7 | AZ27: 2 | BA27: =IF(AZ27=1,G27,0) -> 0 | BB27: =IF(AZ27=2,G27,0) -> 0 | BC27: =IF(AZ27=3,G27,0) -> 0 | BD27: =IF(AZ27=4,G27,0) -> 0 | BE27: =IF(AZ27=5,G27,0) -> 0 | CA27: 1 | CB27: 7
A28: 17 | B28: 733174258R00 | C28: Montáž potrubí z plastů HT D 75 mm | D28: m | E28: 30 | F28: 0 | G28: =E28*F28 -> 0 | H28: 0 | I28: =E28*H28 -> 0 | J28: 0 | K28: =E28*J28 -> 0 | O28: 2 | AA28: 1 | AB28: 7 | AC28: 7 | AZ28: 2 | BA28: =IF(AZ28=1,G28,0) -> 0 | BB28: =IF(AZ28=2,G28,0) -> 0 | BC28: =IF(AZ28=3,G28,0) -> 0 | BD28: =IF(AZ28=4,G28,0) -> 0 | BE28: =IF(AZ28=5,G28,0) -> 0 | CA28: 1 | CB28: 7
A29: 18 | B29: 733174260R00 | C29: Montáž potrubí z plastů HT D 110 mm | D29: m | E29: 60 | F29: 0 | G29: =E29*F29 -> 0 | H29: 0 | I29: =E29*H29 -> 0 | J29: 0 | K29: =E29*J29 -> 0 | O29: 2 | AA29: 1 | AB29: 7 | AC29: 7 | AZ29: 2 | BA29: =IF(AZ29=1,G29,0) -> 0 | BB29: =IF(AZ29=2,G29,0) -> 0 | BC29: =IF(AZ29=3,G29,0) -> 0 | BD29: =IF(AZ29=4,G29,0) -> 0 | BE29: =IF(AZ29=5,G29,0) -> 0 | CA29: 1 | CB29: 7
A30: 19 | B30: 7210020 | C30: Uchycení potrubí | D30: soub | E30: 1 | F30: 0 | G30: =E30*F30 -> 0 | H30: 0 | I30: =E30*H30 -> 0 | K30: =E30*J30 -> 0 | O30: 2 | AA30: 12 | AB30: 0 | AC30: 19 | AZ30: 2 | BA30: =IF(AZ30=1,G30,0) -> 0 | BB30: =IF(AZ30=2,G30,0) -> 0 | BC30: =IF(AZ30=3,G30,0) -> 0 | BD30: =IF(AZ30=4,G30,0) -> 0 | BE30: =IF(AZ30=5,G30,0) -> 0 | CA30: 12 | CB30: 0
A31: 20 | B31: 28349014 | C31: Dvířka revizní plná rozměr 300x300 mm | D31: kus | E31: 5 | F31: 0 | G31: =E31*F31 -> 0 | H31: 0 | I31: =E31*H31 -> 0 | K31: =E31*J31 -> 0 | O31: 2 | AA31: 3 | AB31: 7 | AC31: 28349014 | AZ31: 2 | BA31: =IF(AZ31=1,G31,0) -> 0 | BB31: =IF(AZ31=2,G31,0) -> 0 | BC31: =IF(AZ31=3,G31,0) -> 0 | BD31: =IF(AZ31=4,G31,0) -> 0 | BE31: =IF(AZ31=5,G31,0) -> 0 | CA31: 3 | CB31: 7
A32: 21 | B32: 28615204.A | C32: Trubka HT s hrdlem D 40 mm délka 1000 mm PP | D32: kus | E32: 10 | F32: 0 | G32: =E32*F32 -> 0 | H32: 0 | I32: =E32*H32 -> 0 | K32: =E32*J32 -> 0 | O32: 2 | AA32: 3 | AB32: 7 | AC32: 28615204.A | AZ32: 2 | BA32: =IF(AZ32=1,G32,0) -> 0 | BB32: =IF(AZ32=2,G32,0) -> 0 | BC32: =IF(AZ32=3,G32,0) -> 0 | BD32: =IF(AZ32=4,G32,0) -> 0 | BE32: =IF(AZ32=5,G32,0) -> 0 | CA32: 3 | CB32: 7
A33: 22 | B33: 28615214.A | C33: Trubka HT s hrdlem D 50 mm délka 1000 mm PP | D33: kus | E33: 30 | F33: 0 | G33: =E33*F33 -> 0 | H33: 0 | I33: =E33*H33 -> 0 | K33: =E33*J33 -> 0 | O33: 2 | AA33: 3 | AB33: 7 | AC33: 28615214.A | AZ33: 2 | BA33: =IF(AZ33=1,G33,0) -> 0 | BB33: =IF(AZ33=2,G33,0) -> 0 | BC33: =IF(AZ33=3,G33,0) -> 0 | BD33: =IF(AZ33=4,G33,0) -> 0 | BE33: =IF(AZ33=5,G33,0) -> 0 | CA33: 3 | CB33: 7
A34: 23 | B34: 28615224.A | C34: Trubka HT s hrdlem D 75 mm délka 1000 mm PP | D34: kus | E34: 30 | F34: 0 | G34: =E34*F34 -> 0 | H34: 0 | I34: =E34*H34 -> 0 | K34: =E34*J34 -> 0 | O34: 2 | AA34: 3 | AB34: 7 | AC34: 28615224.A | AZ34: 2 | BA34: =IF(AZ34=1,G34,0) -> 0 | BB34: =IF(AZ34=2,G34,0) -> 0 | BC34: =IF(AZ34=3,G34,0) -> 0 | BD34: =IF(AZ34=4,G34,0) -> 0 | BE34: =IF(AZ34=5,G34,0) -> 0 | CA34: 3 | CB34: 7
A35: 24 | B35: 28615234.A | C35: Trubka HT s hrdlem D 110 mm délka 1000 mm PP | D35: kus | E35: 60 | F35: 0 | G35: =E35*F35 -> 0 | H35: 0 | I35: =E35*H35 -> 0 | K35: =E35*J35 -> 0 | O35: 2 | AA35: 3 | AB35: 7 | AC35: 28615234.A | AZ35: 2 | BA35: =IF(AZ35=1,G35,0) -> 0 | BB35: =IF(AZ35=2,G35,0) -> 0 | BC35: =IF(AZ35=3,G35,0) -> 0 | BD35: =IF(AZ35=4,G35,0) -> 0 | BE35: =IF(AZ35=5,G35,0) -> 0 | CA35: 3 | CB35: 7
A36: 25 | B36: 28615284.A | C36: Fitinka HT D 40 mm odbočky, kolena | D36: kus | E36: 60 | F36: 0 | G36: =E36*F36 -> 0 | H36: 0 | I36: =E36*H36 -> 0 | K36: =E36*J36 -> 0 | O36: 2 | AA36: 3 | AB36: 7 | AC36: 28615284.A | AZ36: 2 | BA36: =IF(AZ36=1,G36,0) -> 0 | BB36: =IF(AZ36=2,G36,0) -> 0 | BC36: =IF(AZ36=3,G36,0) -> 0 | BD36: =IF(AZ36=4,G36,0) -> 0 | BE36: =IF(AZ36=5,G36,0) -> 0 | CA36: 3 | CB36: 7
A37: 26 | B37: 28615289.A | C37: Fitinka HT D 50 mm odbočky, kolena | D37: kus | E37: 60 | F37: 0 | G37: =E37*F37 -> 0 | H37: 0 | I37: =E37*H37 -> 0 | K37: =E37*J37 -> 0 | O37: 2 | AA37: 3 | AB37: 7 | AC37: 28615289.A | AZ37: 2 | BA37: =IF(AZ37=1,G37,0) -> 0 | BB37: =IF(AZ37=2,G37,0) -> 0 | BC37: =IF(AZ37=3,G37,0) -> 0 | BD37: =IF(AZ37=4,G37,0) -> 0 | BE37: =IF(AZ37=5,G37,0) -> 0 | CA37: 3 | CB37: 7
A38: 27 | B38: 28615292.A | C38: Fitinka HT D 75 mm odbočky, kolena | D38: kus | E38: 60 | F38: 0 | G38: =E38*F38 -> 0 | H38: 0 | I38: =E38*H38 -> 0 | K38: =E38*J38 -> 0 | O38: 2 | AA38: 3 | AB38: 7 | AC38: 28615292.A | AZ38: 2 | BA38: =IF(AZ38=1,G38,0) -> 0 | BB38: =IF(AZ38=2,G38,0) -> 0 | BC38: =IF(AZ38=3,G38,0) -> 0 | BD38: =IF(AZ38=4,G38,0) -> 0 | BE38: =IF(AZ38=5,G38,0) -> 0 | CA38: 3 | CB38: 7
A39: 28 | B39: 28615297.A | C39: Fitinka HT D 110 mm odbočky, kolena | D39: kus | E39: 80 | F39: 0 | G39: =E39*F39 -> 0 | H39: 0 | I39: =E39*H39 -> 0 | K39: =E39*J39 -> 0 | O39: 2 | AA39: 3 | AB39: 7 | AC39: 28615297.A | AZ39: 2 | BA39: =IF(AZ39=1,G39,0) -> 0 | BB39: =IF(AZ39=2,G39,0) -> 0 | BC39: =IF(AZ39=3,G39,0) -> 0 | BD39: =IF(AZ39=4,G39,0) -> 0 | BE39: =IF(AZ39=5,G39,0) -> 0 | CA39: 3 | CB39: 7
A40: 29 | B40: 28615443.A | C40: Kus čisticí HTRE D 110 mm PP | D40: kus | E40: 5 | F40: 0 | G40: =E40*F40 -> 0 | H40: 0 | I40: =E40*H40 -> 0 | K40: =E40*J40 -> 0 | O40: 2 | AA40: 3 | AB40: 7 | AC40: 28615443.A | AZ40: 2 | BA40: =IF(AZ40=1,G40,0) -> 0 | BB40: =IF(AZ40=2,G40,0) -> 0 | BC40: =IF(AZ40=3,G40,0) -> 0 | BD40: =IF(AZ40=4,G40,0) -> 0 | BE40: =IF(AZ40=5,G40,0) -> 0 | CA40: 3 | CB40: 7
A41: 30 | B41: 55162545.A | C41: Ventil(hlavice) přivzdušňovací DN 50/75/100 nebo střešní nástavec (taška) vč. přip.sady | D41: kus | E41: 2 | F41: 0 | G41: =E41*F41 -> 0 | H41: 0 | I41: =E41*H41 -> 0 | K41: =E41*J41 -> 0 | O41: 2 | AA41: 3 | AB41: 7 | AC41: 55162545.A | AZ41: 2 | BA41: =IF(AZ41=1,G41,0) -> 0 | BB41: =IF(AZ41=2,G41,0) -> 0 | BC41: =IF(AZ41=3,G41,0) -> 0 | BD41: =IF(AZ41=4,G41,0) -> 0 | BE41: =IF(AZ41=5,G41,0) -> 0 | CA41: 3 | CB41: 7
A42: 31 | B42: 998721201R00 | C42: Přesun hmot pro vnitřní kanalizaci, výšky do 6 m | D42: % | E42: 562.9015 | F42: 0 | G42: =E42*F42 -> 0 | H42: 0 | I42: =E42*H42 -> 0 | J42: 0 | K42: =E42*J42 -> 0 | O42: 2 | AA42: 1 | AB42: 7 | AC42: 7 | AZ42: 2 | BA42: =IF(AZ42=1,G42,0) -> 0 | BB42: =IF(AZ42=2,G42,0) -> 0 | BC42: =IF(AZ42=3,G42,0) -> 0 | BD42: =IF(AZ42=4,G42,0) -> 0 | BE42: =IF(AZ42=5,G42,0) -> 0 | CA42: 1 | CB42: 7
B43: Celkem za | C43: 721 Vnitřní kanalizace | G43: =SUM(G24:G42) -> 0 | I43: =SUM(I24:I42) -> 0 | K43: =SUM(K24:K42) -> 0 | O43: 4 | BA43: =SUM(BA24:BA42) -> 0 | BB43: =SUM(BB24:BB42) -> 0 | BC43: =SUM(BC24:BC42) -> 0 | BD43: =SUM(BD24:BD42) -> 0 | BE43: =SUM(BE24:BE42) -> 0
A44: Díl: | B44: 722 | C44: Vnitřní vodovod | O44: 1
A45: 32 | B45: 722174212R00 | C45: Montáž potrubí z plastů rovné polyfúz. svař. DN 20 | D45: m | E45: 150 | F45: 0 | G45: =E45*F45 -> 0 | H45: 0 | I45: =E45*H45 -> 0 | J45: 0 | K45: =E45*J45 -> 0 | O45: 2 | AA45: 1 | AB45: 7 | AC45: 7 | AZ45: 2 | BA45: =IF(AZ45=1,G45,0) -> 0 | BB45: =IF(AZ45=2,G45,0) -> 0 | BC45: =IF(AZ45=3,G45,0) -> 0 | BD45: =IF(AZ45=4,G45,0) -> 0 | BE45: =IF(AZ45=5,G45,0) -> 0 | CA45: 1 | CB45: 7
A46: 33 | B46: 722174213R00 | C46: Montáž potrubí z plastů rovné polyfúz. svař. DN 25 | D46: m | E46: 150 | F46: 0 | G46: =E46*F46 -> 0 | H46: 0 | I46: =E46*H46 -> 0 | J46: 0 | K46: =E46*J46 -> 0 | O46: 2 | AA46: 1 | AB46: 7 | AC46: 7 | AZ46: 2 | BA46: =IF(AZ46=1,G46,0) -> 0 | BB46: =IF(AZ46=2,G46,0) -> 0 | BC46: =IF(AZ46=3,G46,0) -> 0 | BD46: =IF(AZ46=4,G46,0) -> 0 | BE46: =IF(AZ46=5,G46,0) -> 0 | CA46: 1 | CB46: 7
A47: 34 | B47: 722174214R00 | C47: Montáž potrubí z plastů rovné polyfúz. svař. DN 32 | D47: m | E47: 100 | F47: 0 | G47: =E47*F47 -> 0 | H47: 0 | I47: =E47*H47 -> 0 | J47: 0 | K47: =E47*J47 -> 0 | O47: 2 | AA47: 1 | AB47: 7 | AC47: 7 | AZ47: 2 | BA47: =IF(AZ47=1,G47,0) -> 0 | BB47: =IF(AZ47=2,G47,0) -> 0 | BC47: =IF(AZ47=3,G47,0) -> 0 | BD47: =IF(AZ47=4,G47,0) -> 0 | BE47: =IF(AZ47=5,G47,0) -> 0 | CA47: 1 | CB47: 7
A48: 35 | B48: 722174215R00 | C48: Montáž potrubí z plastů rovné polyfúz. svař. DN 40 | D48: m | E48: 50 | F48: 0 | G48: =E48*F48 -> 0 | H48: 0 | I48: =E48*H48 -> 0 | J48: 0 | K48: =E48*J48 -> 0 | O48: 2 | AA48: 1 | AB48: 7 | AC48: 7 | AZ48: 2 | BA48: =IF(AZ48=1,G48,0) -> 0 | BB48: =IF(AZ48=2,G48,0) -> 0 | BC48: =IF(AZ48=3,G48,0) -> 0 | BD48: =IF(AZ48=4,G48,0) -> 0 | BE48: =IF(AZ48=5,G48,0) -> 0 | CA48: 1 | CB48: 7
A49: 36 | B49: 722181214RT7 | C49: Izolace návleková tl. stěny 20 mm vnitřní průměr 22 mm | D49: m | E49: 150 | F49: 0 | G49: =E49*F49 -> 0 | H49: 0 | I49: =E49*H49 -> 0 | J49: 0 | K49: =E49*J49 -> 0 | O49: 2 | AA49: 1 | AB49: 7 | AC49: 7 | AZ49: 2 | BA49: =IF(AZ49=1,G49,0) -> 0 | BB49: =IF(AZ49=2,G49,0) -> 0 | BC49: =IF(AZ49=3,G49,0) -> 0 | BD49: =IF(AZ49=4,G49,0) -> 0 | BE49: =IF(AZ49=5,G49,0) -> 0 | CA49: 1 | CB49: 7
A50: 37 | B50: 722181214RT8 | C50: Izolace návleková tl. stěny 20 mm vnitřní průměr 25 mm | D50: m | E50: 150 | F50: 0 | G50: =E50*F50 -> 0 | H50: 0 | I50: =E50*H50 -> 0 | J50: 0 | K50: =E50*J50 -> 0 | O50: 2 | AA50: 1 | AB50: 7 | AC50: 7 | AZ50: 2 | BA50: =IF(AZ50=1,G50,0) -> 0 | BB50: =IF(AZ50=2,G50,0) -> 0 | BC50: =IF(AZ50=3,G50,0) -> 0 | BD50: =IF(AZ50=4,G50,0) -> 0 | BE50: =IF(AZ50=5,G50,0) -> 0 | CA50: 1 | CB50: 7
A51: 38 | B51: 722181214RU1 | C51: Izolace návleková tl. stěny 20 mm vnitřní průměr 32 mm | D51: m | E51: 100 | F51: 0 | G51: =E51*F51 -> 0 | H51: 0 | I51: =E51*H51 -> 0 | J51: 0 | K51: =E51*J51 -> 0 | O51: 2 | AA51: 1 | AB51: 7 | AC51: 7 | AZ51: 2 | BA51: =IF(AZ51=1,G51,0) -> 0 | BB51: =IF(AZ51=2,G51,0) -> 0 | BC51: =IF(AZ51=3,G51,0) -> 0 | BD51: =IF(AZ51=4,G51,0) -> 0 | BE51: =IF(AZ51=5,G51,0) -> 0 | CA51: 1 | CB51: 7
A52: 39 | B52: 722181214RW2 | C52: Izolace návleková tl. stěny 20 mm vnitřní průměr 40 mm | D52: m | E52: 50 | F52: 0 | G52: =E52*F52 -> 0 | H52: 0 | I52: =E52*H52 -> 0 | J52: 0 | K52: =E52*J52 -> 0 | O52: 2 | AA52: 1 | AB52: 7 | AC52: 7 | AZ52: 2 | BA52: =IF(AZ52=1,G52,0) -> 0 | BB52: =IF(AZ52=2,G52,0) -> 0 | BC52: =IF(AZ52=3,G52,0) -> 0 | BD52: =IF(AZ52=4,G52,0) -> 0 | BE52: =IF(AZ52=5,G52,0) -> 0 | CA52: 1 | CB52: 7
A53: 40 | B53: 722239103R00 | C53: Montáž vodovodních armatur 2závity, G 1 | D53: kus | E53: 15 | F53: 0 | G53: =E53*F53 -> 0 | H53: 0 | I53: =E53*H53 -> 0 | J53: 0 | K53: =E53*J53 -> 0 | O53: 2 | AA53: 1 | AB53: 7 | AC53: 7 | AZ53: 2 | BA53: =IF(AZ53=1,G53,0) -> 0 | BB53: =IF(AZ53=2,G53,0) -> 0 | BC53: =IF(AZ53=3,G53,0) -> 0 | BD53: =IF(AZ53=4,G53,0) -> 0 | BE53: =IF(AZ53=5,G53,0) -> 0 | CA53: 1 | CB53: 7
A54: 41 | B54: 722269113R00 | C54: Montáž vodoměru závitového G1" | D54: kus | E54: 1 | F54: 0 | G54: =E54*F54 -> 0 | H54: 0 | I54: =E54*H54 -> 0 | J54: 0 | K54: =E54*J54 -> 0 | O54: 2 | AA54: 1 | AB54: 7 | AC54: 7 | AZ54: 2 | BA54: =IF(AZ54=1,G54,0) -> 0 | BB54: =IF(AZ54=2,G54,0) -> 0 | BC54: =IF(AZ54=3,G54,0) -> 0 | BD54: =IF(AZ54=4,G54,0) -> 0 | BE54: =IF(AZ54=5,G54,0) -> 0 | CA54: 1 | CB54: 7
A55: 42 | B55: 722290226R00 | C55: Zkouška tlaku potrubí závitového DN 50 | D55: m | E55: 450 | F55: 0 | G55: =E55*F55 -> 0 | H55: 0 | I55: =E55*H55 -> 0 | J55: 0 | K55: =E55*J55 -> 0 | O55: 2 | AA55: 1 | AB55: 7 | AC55: 7 | AZ55: 2 | BA55: =IF(AZ55=1,G55,0) -> 0 | BB55: =IF(AZ55=2,G55,0) -> 0 | BC55: =IF(AZ55=3,G55,0) -> 0 | BD55: =IF(AZ55=4,G55,0) -> 0 | BE55: =IF(AZ55=5,G55,0) -> 0 | CA55: 1 | CB55: 7
A56: 43 | B56: 734149112R00 | C56: Montáž ventilů redukčních DN 25 | D56: soubor | E56: 1 | F56: 0 | G56: =E56*F56 -> 0 | H56: 0 | I56: =E56*H56 -> 0 | J56: 0 | K56: =E56*J56 -> 0 | O56: 2 | AA56: 1 | AB56: 7 | AC56: 7 | AZ56: 2 | BA56: =IF(AZ56=1,G56,0) -> 0 | BB56: =IF(AZ56=2,G56,0) -> 0 | BC56: =IF(AZ56=3,G56,0) -> 0 | BD56: =IF(AZ56=4,G56,0) -> 0 | BE56: =IF(AZ56=5,G56,0) -> 0 | CA56: 1 | CB56: 7
A57: 44 | B57: 28615133 | C57: Trubka D 20 x 2,8 mm délka 4 m PN 16 PPR | D57: m | E57: 150 | F57: 0 | G57: =E57*F57 -> 0 | H57: 0 | I57: =E57*H57 -> 0 | K57: =E57*J57 -> 0 | O57: 2 | AA57: 3 | AB57: 7 | AC57: 28615133 | AZ57: 2 | BA57: =IF(AZ57=1,G57,0) -> 0 | BB57: =IF(AZ57=2,G57,0) -> 0 | BC57: =IF(AZ57=3,G57,0) -> 0 | BD57: =IF(AZ57=4,G57,0) -> 0 | BE57: =IF(AZ57=5,G57,0) -> 0 | CA57: 3 | CB57: 7
A58: 45 | B58: 28615135 | C58: Trubka D 25 x 3,5 mm délka 4 m PN 16 PPR | D58: m | E58: 150 | F58: 0 | G58: =E58*F58 -> 0 | H58: 0 | I58: =E58*H58 -> 0 | K58: =E58*J58 -> 0 | O58: 2 | AA58: 3 | AB58: 7 | AC58: 28615135 | AZ58: 2 | BA58: =IF(AZ58=1,G58,0) -> 0 | BB58: =IF(AZ58=2,G58,0) -> 0 | BC58: =IF(AZ58=3,G58,0) -> 0 | BD58: =IF(AZ58=4,G58,0) -> 0 | BE58: =IF(AZ58=5,G58,0) -> 0 | CA58: 3 | CB58: 7
A59: 46 | B59: 28615138 | C59: Trubka D 32 x 4,4 mm délka 4 m PN 16 PPR | D59: m | E59: 100 | F59: 0 | G59: =E59*F59 -> 0 | H59: 0 | I59: =E59*H59 -> 0 | K59: =E59*J59 -> 0 | O59: 2 | AA59: 3 | AB59: 7 | AC59: 28615138 | AZ59: 2 | BA59: =IF(AZ59=1,G59,0) -> 0 | BB59: =IF(AZ59=2,G59,0) -> 0 | BC59: =IF(AZ59=3,G59,0) -> 0 | BD59: =IF(AZ59=4,G59,0) -> 0 | BE59: =IF(AZ59=5,G59,0) -> 0 | CA59: 3 | CB59: 7
A60: 47 | B60: 28615140 | C60: Trubka D 40 x 5,5 mm délka 4 m PN 16 PPR | D60: m | E60: 50 | F60: 0 | G60: =E60*F60 -> 0 | H60: 0 | I60: =E60*H60 -> 0 | K60: =E60*J60 -> 0 | O60: 2 | AA60: 3 | AB60: 7 | AC60: 28615140 | AZ60: 2 | BA60: =IF(AZ60=1,G60,0) -> 0 | BB60: =IF(AZ60=2,G60,0) -> 0 | BC60: =IF(AZ60=3,G60,0) -> 0 | BD60: =IF(AZ60=4,G60,0) -> 0 | BE60: =IF(AZ60=5,G60,0) -> 0 | CA60: 3 | CB60: 7
A61: 48 | B61: 28654002 | C61: Fitinka PPR D 20 mm | D61: kus | E61: 300 | F61: 0 | G61: =E61*F61 -> 0 | H61: 0 | I61: =E61*H61 -> 0 | K61: =E61*J61 -> 0 | O61: 2 | AA61: 3 | AB61: 7 | AC61: 28654002 | AZ61: 2 | BA61: =IF(AZ61=1,G61,0) -> 0 | BB61: =IF(AZ61=2,G61,0) -> 0 | BC61: =IF(AZ61=3,G61,0) -> 0 | BD61: =IF(AZ61=4,G61,0) -> 0 | BE61: =IF(AZ61=5,G61,0) -> 0 | CA61: 3 | CB61: 7
A62: 49 | B62: 28654004 | C62: Fitinka PPR D 25 mm | D62: kus | E62: 300 | F62: 0 | G62: =E62*F62 -> 0 | H62: 0 | I62: =E62*H62 -> 0 | K62: =E62*J62 -> 0 | O62: 2 | AA62: 3 | AB62: 7 | AC62: 28654004 | AZ62: 2 | BA62: =IF(AZ62=1,G62,0) -> 0 | BB62: =IF(AZ62=2,G62,0) -> 0 | BC62: =IF(AZ62=3,G62,0) -> 0 | BD62: =IF(AZ62=4,G62,0) -> 0 | BE62: =IF(AZ62=5,G62,0) -> 0 | CA62: 3 | CB62: 7
A63: 50 | B63: 28654006 | C63: Fitinka PPR D 32 mm | D63: kus | E63: 200 | F63: 0 | G63: =E63*F63 -> 0 | H63: 0 | I63: =E63*H63 -> 0 | K63: =E63*J63 -> 0 | O63: 2 | AA63: 3 | AB63: 7 | AC63: 28654006 | AZ63: 2 | BA63: =IF(AZ63=1,G63,0) -> 0 | BB63: =IF(AZ63=2,G63,0) -> 0 | BC63: =IF(AZ63=3,G63,0) -> 0 | BD63: =IF(AZ63=4,G63,0) -> 0 | BE63: =IF(AZ63=5,G63,0) -> 0 | CA63: 3 | CB63: 7
A64: 51 | B64: 28654008 | C64: Fitinka PPR D 40 mm | D64: kus | E64: 100 | F64: 0 | G64: =E64*F64 -> 0 | H64: 0 | I64: =E64*H64 -> 0 | K64: =E64*J64 -> 0 | O64: 2 | AA64: 3 | AB64: 7 | AC64: 28654008 | AZ64: 2 | BA64: =IF(AZ64=1,G64,0) -> 0 | BB64: =IF(AZ64=2,G64,0) -> 0 | BC64: =IF(AZ64=3,G64,0) -> 0 | BD64: =IF(AZ64=4,G64,0) -> 0 | BE64: =IF(AZ64=5,G64,0) -> 0 | CA64: 3 | CB64: 7
A65: 52 | B65: 31179107 | C65: Tyč závitová M12, DIN 975 | D65: m | E65: 50 | F65: 0 | G65: =E65*F65 -> 0 | H65: 0 | I65: =E65*H65 -> 0 | K65: =E65*J65 -> 0 | O65: 2 | AA65: 3 | AB65: 7 | AC65: 31179107 | AZ65: 2 | BA65: =IF(AZ65=1,G65,0) -> 0 | BB65: =IF(AZ65=2,G65,0) -> 0 | BC65: =IF(AZ65=3,G65,0) -> 0 | BD65: =IF(AZ65=4,G65,0) -> 0 | BE65: =IF(AZ65=5,G65,0) -> 0 | CA65: 3 | CB65: 7
A66: 53 | B66: 38821352 | C66: Vodoměr lopatk. na studenou vodu DN25 | D66: kus | E66: 1 | F66: 0 | G66: =E66*F66 -> 0 | H66: 0 | I66: =E66*H66 -> 0 | K66: =E66*J66 -> 0 | O66: 2 | AA66: 3 | AB66: 7 | AC66: 38821352 | AZ66: 2 | BA66: =IF(AZ66=1,G66,0) -> 0 | BB66: =IF(AZ66=2,G66,0) -> 0 | BC66: =IF(AZ66=3,G66,0) -> 0 | BD66: =IF(AZ66=4,G66,0) -> 0 | BE66: =IF(AZ66=5,G66,0) -> 0 | CA66: 3 | CB66: 7
A67: 54 | B67: 42310113 | C67: Objímka dvoušroubová 25-30 mm 3/4" | D67: kus | E67: 75 | F67: 0 | G67: =E67*F67 -> 0 | H67: 0 | I67: =E67*H67 -> 0 | K67: =E67*J67 -> 0 | O67: 2 | AA67: 3 | AB67: 7 | AC67: 42310113 | AZ67: 2 | BA67: =IF(AZ67=1,G67,0) -> 0 | BB67: =IF(AZ67=2,G67,0) -> 0 | BC67: =IF(AZ67=3,G67,0) -> 0 | BD67: =IF(AZ67=4,G67,0) -> 0 | BE67: =IF(AZ67=5,G67,0) -> 0 | CA67: 3 | CB67: 7
A68: 55 | B68: 42310114 | C68: Objímka dvoušroubová 31-38 mm 1" | D68: kus | E68: 50 | F68: 0 | G68: =E68*F68 -> 0 | H68: 0 | I68: =E68*H68 -> 0 | K68: =E68*J68 -> 0 | O68: 2 | AA68: 3 | AB68: 7 | AC68: 42310114 | AZ68: 2 | BA68: =IF(AZ68=1,G68,0) -> 0 | BB68: =IF(AZ68=2,G68,0) -> 0 | BC68: =IF(AZ68=3,G68,0) -> 0 | BD68: =IF(AZ68=4,G68,0) -> 0 | BE68: =IF(AZ68=5,G68,0) -> 0 | CA68: 3 | CB68: 7
A69: 56 | B69: 42310115 | C69: Objímka dvoušroubová 40-46 mm 5/4" | D69: kus | E69: 30 | F69: 0 | G69: =E69*F69 -> 0 | H69: 0 | I69: =E69*H69 -> 0 | K69: =E69*J69 -> 0 | O69: 2 | AA69: 3 | AB69: 7 | AC69: 42310115 | AZ69: 2 | BA69: =IF(AZ69=1,G69,0) -> 0 | BB69: =IF(AZ69=2,G69,0) -> 0 | BC69: =IF(AZ69=3,G69,0) -> 0 | BD69: =IF(AZ69=4,G69,0) -> 0 | BE69: =IF(AZ69=5,G69,0) -> 0 | CA69: 3 | CB69: 7
A70: 57 | B70: 551100124 | C70: Kohout kulový voda 1" | D70: kus | E70: 15 | F70: 0 | G70: =E70*F70 -> 0 | H70: 0 | I70: =E70*H70 -> 0 | J70: 0 | K70: =E70*J70 -> 0 | O70: 2 | AA70: 1 | AB70: 7 | AC70: 7 | AZ70: 2 | BA70: =IF(AZ70=1,G70,0) -> 0 | BB70: =IF(AZ70=2,G70,0) -> 0 | BC70: =IF(AZ70=3,G70,0) -> 0 | BD70: =IF(AZ70=4,G70,0) -> 0 | BE70: =IF(AZ70=5,G70,0) -> 0 | CA70: 1 | CB70: 7
A71: 58 | B71: 551100203 | C71: Klapka zpětná voda 1" | D71: kus | E71: 3 | F71: 0 | G71: =E71*F71 -> 0 | H71: 0 | I71: =E71*H71 -> 0 | J71: 0 | K71: =E71*J71 -> 0 | O71: 2 | AA71: 1 | AB71: 7 | AC71: 7 | AZ71: 2 | BA71: =IF(AZ71=1,G71,0) -> 0 | BB71: =IF(AZ71=2,G71,0) -> 0 | BC71: =IF(AZ71=3,G71,0) -> 0 | BD71: =IF(AZ71=4,G71,0) -> 0 | BE71: =IF(AZ71=5,G71,0) -> 0 | CA71: 1 | CB71: 7
A72: 59 | B72: 551100222 | C72: Ventil tlakový redukční 1" | D72: kus | E72: 1 | F72: 0 | G72: =E72*F72 -> 0 | H72: 0 | I72: =E72*H72 -> 0 | J72: 0 | K72: =E72*J72 -> 0 | O72: 2 | AA72: 1 | AB72: 7 | AC72: 7 | AZ72: 2 | BA72: =IF(AZ72=1,G72,0) -> 0 | BB72: =IF(AZ72=2,G72,0) -> 0 | BC72: =IF(AZ72=3,G72,0) -> 0 | BD72: =IF(AZ72=4,G72,0) -> 0 | BE72: =IF(AZ72=5,G72,0) -> 0 | CA72: 1 | CB72: 7
A73: 60 | B73: 551100304 | C73: Filtr závitový 1" | D73: kus | E73: 3 | F73: 0 | G73: =E73*F73 -> 0 | H73: 0 | I73: =E73*H73 -> 0 | J73: 0 | K73: =E73*J73 -> 0 | O73: 2 | AA73: 1 | AB73: 7 | AC73: 7 | AZ73: 2 | BA73: =IF(AZ73=1,G73,0) -> 0 | BB73: =IF(AZ73=2,G73,0) -> 0 | BC73: =IF(AZ73=3,G73,0) -> 0 | BD73: =IF(AZ73=4,G73,0) -> 0 | BE73: =IF(AZ73=5,G73,0) -> 0 | CA73: 1 | CB73: 7
A74: 61 | B74: 55166501 | C74: Ventil pojistný pro el.tlakové ohřívače T1847 1/2" | D74: kus | E74: 3 | F74: 0 | G74: =E74*F74 -> 0 | H74: 0 | I74: =E74*H74 -> 0 | K74: =E74*J74 -> 0 | O74: 2 | AA74: 3 | AB74: 7 | AC74: 55166501 | AZ74: 2 | BA74: =IF(AZ74=1,G74,0) -> 0 | BB74: =IF(AZ74=2,G74,0) -> 0 | BC74: =IF(AZ74=3,G74,0) -> 0 | BD74: =IF(AZ74=4,G74,0) -> 0 | BE74: =IF(AZ74=5,G74,0) -> 0 | CA74: 3 | CB74: 7
A75: 62 | B75: 721-0020 | C75: Uchycení potrubí | D75: soub | E75: 1 | F75: 0 | G75: =E75*F75 -> 0 | H75: 0 | I75: =E75*H75 -> 0 | K75: =E75*J75 -> 0 | O75: 2 | AA75: 3 | AB75: 7 | AC75: 721-0020 | AZ75: 2 | BA75: =IF(AZ75=1,G75,0) -> 0 | BB75: =IF(AZ75=2,G75,0) -> 0 | BC75: =IF(AZ75=3,G75,0) -> 0 | BD75: =IF(AZ75=4,G75,0) -> 0 | BE75: =IF(AZ75=5,G75,0) -> 0 | CA75: 3 | CB75: 7
A76: 63 | B76: 998722201R00 | C76: Přesun hmot pro vnitřní vodovod, výšky do 6 m | D76: % | E76: 1766.7858 | F76: 0 | G76: =E76*F76 -> 0 | H76: 0 | I76: =E76*H76 -> 0 | J76: 0 | K76: =E76*J76 -> 0 | O76: 2 | AA76: 1 | AB76: 7 | AC76: 7 | AZ76: 2 | BA76: =IF(AZ76=1,G76,0) -> 0 | BB76: =IF(AZ76=2,G76,0) -> 0 | BC76: =IF(AZ76=3,G76,0) -> 0 | BD76: =IF(AZ76=4,G76,0) -> 0 | BE76: =IF(AZ76=5,G76,0) -> 0 | CA76: 1 | CB76: 7
B77: Celkem za | C77: 722 Vnitřní vodovod | G77: =SUM(G44:G76) -> 0 | I77: =SUM(I44:I76) -> 0 | K77: =SUM(K44:K76) -> 0 | O77: 4 | BA77: =SUM(BA44:BA76) -> 0 | BB77: =SUM(BB44:BB76) -> 0 | BC77: =SUM(BC44:BC76) -> 0 | BD77: =SUM(BD44:BD76) -> 0 | BE77: =SUM(BE44:BE76) -> 0
A78: Díl: | B78: 725 | C78: Zařizovací předměty | O78: 1
A79: 64 | B79: 725119306R00 | C79: Montáž klozetu závěsného | D79: soubor | E79: 3 | F79: 0 | G79: =E79*F79 -> 0 | H79: 0 | I79: =E79*H79 -> 0 | J79: 0 | K79: =E79*J79 -> 0 | O79: 2 | AA79: 1 | AB79: 7 | AC79: 7 | AZ79: 2 | BA79: =IF(AZ79=1,G79,0) -> 0 | BB79: =IF(AZ79=2,G79,0) -> 0 | BC79: =IF(AZ79=3,G79,0) -> 0 | BD79: =IF(AZ79=4,G79,0) -> 0 | BE79: =IF(AZ79=5,G79,0) -> 0 | CA79: 1 | CB79: 7
A80: 65 | B80: 725119402R00 | C80: Montáž předstěnových systémů do sádrokartonu | D80: soubor | E80: 3 | F80: 0 | G80: =E80*F80 -> 0 | H80: 0 | I80: =E80*H80 -> 0 | J80: 0 | K80: =E80*J80 -> 0 | O80: 2 | AA80: 1 | AB80: 7 | AC80: 7 | AZ80: 2 | BA80: =IF(AZ80=1,G80,0) -> 0 | BB80: =IF(AZ80=2,G80,0) -> 0 | BC80: =IF(AZ80=3,G80,0) -> 0 | BD80: =IF(AZ80=4,G80,0) -> 0 | BE80: =IF(AZ80=5,G80,0) -> 0 | CA80: 1 | CB80: 7
A81: 66 | B81: 725219401R00 | C81: Montáž umyvadel na šrouby do zdiva | D81: soubor | E81: 4 | F81: 0 | G81: =E81*F81 -> 0 | H81: 0 | I81: =E81*H81 -> 0 | J81: 0 | K81: =E81*J81 -> 0 | O81: 2 | AA81: 1 | AB81: 7 | AC81: 7 | AZ81: 2 | BA81: =IF(AZ81=1,G81,0) -> 0 | BB81: =IF(AZ81=2,G81,0) -> 0 | BC81: =IF(AZ81=3,G81,0) -> 0 | BD81: =IF(AZ81=4,G81,0) -> 0 | BE81: =IF(AZ81=5,G81,0) -> 0 | CA81: 1 | CB81: 7
A82: 67 | B82: 725219503R00 | C82: Montáž krytu sifonu umyvadel | D82: soubor | E82: 3 | F82: 0 | G82: =E82*F82 -> 0 | H82: 0 | I82: =E82*H82 -> 0 | J82: 0 | K82: =E82*J82 -> 0 | O82: 2 | AA82: 1 | AB82: 7 | AC82: 7 | AZ82: 2 | BA82: =IF(AZ82=1,G82,0) -> 0 | BB82: =IF(AZ82=2,G82,0) -> 0 | BC82: =IF(AZ82=3,G82,0) -> 0 | BD82: =IF(AZ82=4,G82,0) -> 0 | BE82: =IF(AZ82=5,G82,0) -> 0 | CA82: 1 | CB82: 7
A83: 68 | B83: 725249102R00 | C83: Montáž sprchových mís a vaniček | D83: soubor | E83: 3 | F83: 0 | G83: =E83*F83 -> 0 | H83: 0 | I83: =E83*H83 -> 0 | J83: 0 | K83: =E83*J83 -> 0 | O83: 2 | AA83: 1 | AB83: 7 | AC83: 7 | AZ83: 2 | BA83: =IF(AZ83=1,G83,0) -> 0 | BB83: =IF(AZ83=2,G83,0) -> 0 | BC83: =IF(AZ83=3,G83,0) -> 0 | BD83: =IF(AZ83=4,G83,0) -> 0 | BE83: =IF(AZ83=5,G83,0) -> 0 | CA83: 1 | CB83: 7
A84: 69 | B84: 725249103R00 | C84: Montáž sprchových koutů | D84: soubor | E84: 3 | F84: 0 | G84: =E84*F84 -> 0 | H84: 0 | I84: =E84*H84 -> 0 | J84: 0 | K84: =E84*J84 -> 0 | O84: 2 | AA84: 1 | AB84: 7 | AC84: 7 | AZ84: 2 | BA84: =IF(AZ84=1,G84,0) -> 0 | BB84: =IF(AZ84=2,G84,0) -> 0 | BC84: =IF(AZ84=3,G84,0) -> 0 | BD84: =IF(AZ84=4,G84,0) -> 0 | BE84: =IF(AZ84=5,G84,0) -> 0 | CA84: 1 | CB84: 7
A85: 70 | B85: 725319101R00 | C85: Montáž dřezů | D85: soubor | E85: 3 | F85: 0 | G85: =E85*F85 -> 0 | H85: 0 | I85: =E85*H85 -> 0 | J85: 0 | K85: =E85*J85 -> 0 | O85: 2 | AA85: 1 | AB85: 7 | AC85: 7 | AZ85: 2 | BA85: =IF(AZ85=1,G85,0) -> 0 | BB85: =IF(AZ85=2,G85,0) -> 0 | BC85: =IF(AZ85=3,G85,0) -> 0 | BD85: =IF(AZ85=4,G85,0) -> 0 | BE85: =IF(AZ85=5,G85,0) -> 0 | CA85: 1 | CB85: 7
A86: 71 | B86: 725539103R00 | C86: Montáž elektr.ohřívačů, ostatní typy 125 l | D86: soubor | E86: 3 | F86: 0 | G86: =E86*F86 -> 0 | H86: 0 | I86: =E86*H86 -> 0 | J86: 0 | K86: =E86*J86 -> 0 | O86: 2 | AA86: 1 | AB86: 7 | AC86: 7 | AZ86: 2 | BA86: =IF(AZ86=1,G86,0) -> 0 | BB86: =IF(AZ86=2,G86,0) -> 0 | BC86: =IF(AZ86=3,G86,0) -> 0 | BD86: =IF(AZ86=4,G86,0) -> 0 | BE86: =IF(AZ86=5,G86,0) -> 0 | CA86: 1 | CB86: 7
A87: 72 | B87: 725829202R00 | C87: Montáž baterie umyv.a dřezové nástěnné | D87: kus | E87: 3 | F87: 0 | G87: =E87*F87 -> 0 | H87: 0 | I87: =E87*H87 -> 0 | J87: 0 | K87: =E87*J87 -> 0 | O87: 2 | AA87: 1 | AB87: 7 | AC87: 7 | AZ87: 2 | BA87: =IF(AZ87=1,G87,0) -> 0 | BB87: =IF(AZ87=2,G87,0) -> 0 | BC87: =IF(AZ87=3,G87,0) -> 0 | BD87: =IF(AZ87=4,G87,0) -> 0 | BE87: =IF(AZ87=5,G87,0) -> 0 | CA87: 1 | CB87: 7
A88: 73 | B88: 725829301R00 | C88: Montáž baterie umyv.a dřezové stojánkové | D88: kus | E88: 4 | F88: 0 | G88: =E88*F88 -> 0 | H88: 0 | I88: =E88*H88 -> 0 | J88: 0 | K88: =E88*J88 -> 0 | O88: 2 | AA88: 1 | AB88: 7 | AC88: 7 | AZ88: 2 | BA88: =IF(AZ88=1,G88,0) -> 0 | BB88: =IF(AZ88=2,G88,0) -> 0 | BC88: =IF(AZ88=3,G88,0) -> 0 | BD88: =IF(AZ88=4,G88,0) -> 0 | BE88: =IF(AZ88=5,G88,0) -> 0 | CA88: 1 | CB88: 7
A89: 74 | B89: 725849200R00 | C89: Montáž baterií sprchových, nastavitelná výška | D89: kus | E89: 3 | F89: 0 | G89: =E89*F89 -> 0 | H89: 0 | I89: =E89*H89 -> 0 | J89: 0 | K89: =E89*J89 -> 0 | O89: 2 | AA89: 1 | AB89: 7 | AC89: 7 | AZ89: 2 | BA89: =IF(AZ89=1,G89,0) -> 0 | BB89: =IF(AZ89=2,G89,0) -> 0 | BC89: =IF(AZ89=3,G89,0) -> 0 | BD89: =IF(AZ89=4,G89,0) -> 0 | BE89: =IF(AZ89=5,G89,0) -> 0 | CA89: 1 | CB89: 7
A90: 75 | B90: 732239101R00 | C90: Montáž bytové měřící stanice k odečtu vody | D90: kus | E90: 3 | F90: 0 | G90: =E90*F90 -> 0 | H90: 0 | I90: =E90*H90 -> 0 | J90: 0 | K90: =E90*J90 -> 0 | O90: 2 | AA90: 1 | AB90: 7 | AC90: 7 | AZ90: 2 | BA90: =IF(AZ90=1,G90,0) -> 0 | BB90: =IF(AZ90=2,G90,0) -> 0 | BC90: =IF(AZ90=3,G90,0) -> 0 | BD90: =IF(AZ90=4,G90,0) -> 0 | BE90: =IF(AZ90=5,G90,0) -> 0 | CA90: 1 | CB90: 7
A91: 76 | B91: 725029 | C91: Rohový ventil 1/2“ x 3/8”, včetne připojovacích flexi hadic 3/8“xM10 | D91: kus | E91: 29 | F91: 0 | G91: =E91*F91 -> 0 | H91: 0 | I91: =E91*H91 -> 0 | K91: =E91*J91 -> 0 | O91: 2 | AA91: 12 | AB91: 0 | AC91: 76 | AZ91: 2 | BA91: =IF(AZ91=1,G91,0) -> 0 | BB91: =IF(AZ91=2,G91,0) -> 0 | BC91: =IF(AZ91=3,G91,0) -> 0 | BD91: =IF(AZ91=4,G91,0) -> 0 | BE91: =IF(AZ91=5,G91,0) -> 0 | CA91: 12 | CB91: 0
A92: 77 | B92: 28656226 | C92: Bytová měřící sada pro odpočet vody | D92: kus | E92: 3 | F92: 0 | G92: =E92*F92 -> 0 | H92: 0 | I92: =E92*H92 -> 0 | K92: =E92*J92 -> 0 | O92: 2 | AA92: 3 | AB92: 7 | AC92: 28656226 | AZ92: 2 | BA92: =IF(AZ92=1,G92,0) -> 0 | BB92: =IF(AZ92=2,G92,0) -> 0 | BC92: =IF(AZ92=3,G92,0) -> 0 | BD92: =IF(AZ92=4,G92,0) -> 0 | BE92: =IF(AZ92=5,G92,0) -> 0 | CA92: 3 | CB92: 7
A93: 78 | B93: 28696751 | C93: Modul-WC s ovládáním zepředu komplet | D93: kus | E93: 3 | F93: 0 | G93: =E93*F93 -> 0 | H93: 0 | I93: =E93*H93 -> 0 | K93: =E93*J93 -> 0 | O93: 2 | AA93: 3 | AB93: 7 | AC93: 28696751 | AZ93: 2 | BA93: =IF(AZ93=1,G93,0) -> 0 | BB93: =IF(AZ93=2,G93,0) -> 0 | BC93: =IF(AZ93=3,G93,0) -> 0 | BD93: =IF(AZ93=4,G93,0) -> 0 | BE93: =IF(AZ93=5,G93,0) -> 0 | CA93: 3 | CB93: 7
A94: 79 | B94: 28696752 | C94: Tlačítko ovládací plastové | D94: kus | E94: 3 | F94: 0 | G94: =E94*F94 -> 0 | H94: 0 | I94: =E94*H94 -> 0 | K94: =E94*J94 -> 0 | O94: 2 | AA94: 3 | AB94: 7 | AC94: 28696752 | AZ94: 2 | BA94: =IF(AZ94=1,G94,0) -> 0 | BB94: =IF(AZ94=2,G94,0) -> 0 | BC94: =IF(AZ94=3,G94,0) -> 0 | BD94: =IF(AZ94=4,G94,0) -> 0 | BE94: =IF(AZ94=5,G94,0) -> 0 | CA94: 3 | CB94: 7
A95: 80 | B95: 541322423 | C95: Ohřívač vody elektrický zásobníkový 125l | D95: kus | E95: 3 | F95: 0 | G95: =E95*F95 -> 0 | H95: 0 | I95: =E95*H95 -> 0 | J95: 0 | K95: =E95*J95 -> 0 | O95: 2 | AA95: 1 | AB95: 7 | AC95: 7 | AZ95: 2 | BA95: =IF(AZ95=1,G95,0) -> 0 | BB95: =IF(AZ95=2,G95,0) -> 0 | BC95: =IF(AZ95=3,G95,0) -> 0 | BD95: =IF(AZ95=4,G95,0) -> 0 | BE95: =IF(AZ95=5,G95,0) -> 0 | CA95: 1 | CB95: 7
A96: 81 | B96: 55145000 | C96: Baterie umyvadlová stojánk s otvíráním odpadu | D96: kus | E96: 4 | F96: 0 | G96: =E96*F96 -> 0 | H96: 0 | I96: =E96*H96 -> 0 | K96: =E96*J96 -> 0 | O96: 2 | AA96: 3 | AB96: 7 | AC96: 55145000 | AZ96: 2 | BA96: =IF(AZ96=1,G96,0) -> 0 | BB96: =IF(AZ96=2,G96,0) -> 0 | BC96: =IF(AZ96=3,G96,0) -> 0 | BD96: =IF(AZ96=4,G96,0) -> 0 | BE96: =IF(AZ96=5,G96,0) -> 0 | CA96: 3 | CB96: 7
A97: 82 | B97: 55145019 | C97: Baterie dřezová nástěnná | D97: kus | E97: 3 | F97: 0 | G97: =E97*F97 -> 0 | H97: 0 | I97: =E97*H97 -> 0 | K97: =E97*J97 -> 0 | O97: 2 | AA97: 3 | AB97: 7 | AC97: 55145019 | AZ97: 2 | BA97: =IF(AZ97=1,G97,0) -> 0 | BB97: =IF(AZ97=2,G97,0) -> 0 | BC97: =IF(AZ97=3,G97,0) -> 0 | BD97: =IF(AZ97=4,G97,0) -> 0 | BE97: =IF(AZ97=5,G97,0) -> 0 | CA97: 3 | CB97: 7
A98: 83 | B98: 551450380 | C98: Baterie sprchová nástěnná | D98: kus | E98: 3 | F98: 0 | G98: =E98*F98 -> 0 | H98: 0 | I98: =E98*H98 -> 0 | J98: 0 | K98: =E98*J98 -> 0 | O98: 2 | AA98: 1 | AB98: 7 | AC98: 7 | AZ98: 2 | BA98: =IF(AZ98=1,G98,0) -> 0 | BB98: =IF(AZ98=2,G98,0) -> 0 | BC98: =IF(AZ98=3,G98,0) -> 0 | BD98: =IF(AZ98=4,G98,0) -> 0 | BE98: =IF(AZ98=5,G98,0) -> 0 | CA98: 1 | CB98: 7
A99: 84 | B99: 55162325 | C99: zápachová uzávěrka DN 50 x 6/4" | D99: kus | E99: 3 | F99: 0 | G99: =E99*F99 -> 0 | H99: 0 | I99: =E99*H99 -> 0 | K99: =E99*J99 -> 0 | O99: 2 | AA99: 3 | AB99: 7 | AC99: 55162325 | AZ99: 2 | BA99: =IF(AZ99=1,G99,0) -> 0 | BB99: =IF(AZ99=2,G99,0) -> 0 | BC99: =IF(AZ99=3,G99,0) -> 0 | BD99: =IF(AZ99=4,G99,0) -> 0 | BE99: =IF(AZ99=5,G99,0) -> 0 | CA99: 3 | CB99: 7
A100: 85 | B100: 55162328.A | C100: uzávěrka zápachová DN 30 5/4"pro umyvadla | D100: kus | E100: 4 | F100: 0 | G100: =E100*F100 -> 0 | H100: 0 | I100: =E100*H100 -> 0 | K100: =E100*J100 -> 0 | O100: 2 | AA100: 3 | AB100: 7 | AC100: 55162328.A | AZ100: 2 | BA100: =IF(AZ100=1,G100,0) -> 0 | BB100: =IF(AZ100=2,G100,0) -> 0 | BC100: =IF(AZ100=3,G100,0) -> 0 | BD100: =IF(AZ100=4,G100,0) -> 0 | BE100: =IF(AZ100=5,G100,0) -> 0 | CA100: 3 | CB100: 7
A101: 86 | B101: 55162358.A | C101: Trubka pro připojení WC DN100 | D101: kus | E101: 3 | F101: 0 | G101: =E101*F101 -> 0 | H101: 0 | I101: =E101*H101 -> 0 | K101: =E101*J101 -> 0 | O101: 2 | AA101: 3 | AB101: 7 | AC101: 55162358.A | AZ101: 2 | BA101: =IF(AZ101=1,G101,0) -> 0 | BB101: =IF(AZ101=2,G101,0) -> 0 | BC101: =IF(AZ101=3,G101,0) -> 0 | BD101: =IF(AZ101=4,G101,0) -> 0 | BE101: =IF(AZ101=5,G101,0) -> 0 | CA101: 3 | CB101: 7
A102: 87 | B102: 55162420.A | C102: Zápachová uzávěrka pro pračky DN 40/50 | D102: kus | E102: 6 | F102: 0 | G102: =E102*F102 -> 0 | H102: 0 | I102: =E102*H102 -> 0 | K102: =E102*J102 -> 0 | O102: 2 | AA102: 3 | AB102: 7 | AC102: 55162420.A | AZ102: 2 | BA102: =IF(AZ102=1,G102,0) -> 0 | BB102: =IF(AZ102=2,G102,0) -> 0 | BC102: =IF(AZ102=3,G102,0) -> 0 | BD102: =IF(AZ102=4,G102,0) -> 0 | BE102: =IF(AZ102=5,G102,0) -> 0 | CA102: 3 | CB102: 7
...

Sheet 1 4 KL
A1: SLEPÝ ROZPOČET
A2: Rozpočet | C2: 4 | D2: UT | F2: JKSO
A4: Objekt | F4: SKP
A5: 1 | C5: RD se sociálními byty Študlov | F5: Měrná jednotka
A6: Stavba | F6: Počet jednotek
A7: 2020/12 | C7: RD se sociálními byty Študlov | F7: Náklady na m.j. | G7: =IF(G6=0,,ROUND((F30+F32)/G6,1)) -> 0
A8: Projektant | F8: Typ rozpočtu
A9: Zpracovatel projektu
A10: Objednatel
A11: Dodavatel | F11: Zakázkové číslo
A12: Rozpočtoval | F12: Počet listů
A13: ROZPOČTOVÉ NÁKLADY
A14: Základní rozpočtové náklady | D14: Ostatní rozpočtové náklady
B15: HSV celkem | C15: ='1 4 Rek'!E16 -> 0 | D15: ='1 4 Rek'!A21 -> Ztížené výrobní podmínky | G15: ='1 4 Rek'!I21 -> 0
A16: Z | B16: PSV celkem | C16: ='1 4 Rek'!F16 -> 0 | D16: ='1 4 Rek'!A22 -> Oborová přirážka | G16: ='1 4 Rek'!I22 -> 0
A17: R | B17: M práce celkem | C17: ='1 4 Rek'!H16 -> 0 | D17: ='1 4 Rek'!A23 -> Přesun stavebních kapacit | G17: ='1 4 Rek'!I23 -> 0
A18: N | B18: M dodávky celkem | C18: ='1 4 Rek'!G16 -> 0 | D18: ='1 4 Rek'!A24 -> Mimostaveništní doprava | G18: ='1 4 Rek'!I24 -> 0
A19: ZRN celkem | C19: =SUM(C15:C18) -> 0 | D19: ='1 4 Rek'!A25 -> Zařízení staveniště | G19: ='1 4 Rek'!I25 -> 0
D20: ='1 4 Rek'!A26 -> Provoz investora | G20: ='1 4 Rek'!I26 -> 0
A21: HZS | C21: ='1 4 Rek'!I16 -> 0 | D21: ='1 4 Rek'!A27 -> Kompletační činnost (IČD) | G21: ='1 4 Rek'!I27 -> 0
A22: ZRN+HZS | C22: =C19+C21 -> 0 | D22: Ostatní náklady neuvedené | G22: =G23-SUM(G15:G21) -> 0
A23: ZRN+ost.náklady+HZS | C23: =C22+G23 -> 0 | D23: Ostatní náklady celkem | G23: ='1 4 Rek'!H29 -> 0
A24: Vypracoval | D24: Za zhotovitele | F24: Za objednatele
A25: Jméno : | D25: Jméno : | F25: Jméno :
A26: Datum : | D26: Datum : | F26: Datum :
A28: Podpis : | D28: Podpis: | F28: Podpis:
A30: Základ pro DPH | C30: 15 | D30: % | F30: =ROUND(C23-F32,0) -> 0
A31: DPH | C31: =C30 -> 15 | D31: % | F31: =ROUND(PRODUCT(F30,C31/100),1) -> 0
A32: Základ pro DPH | C32: 0 | D32: % | F32: 0
A33: DPH | C33: =C32 -> 0 | D33: % | F33: =ROUND(PRODUCT(F32,C33/100),1) -> 0
A34: CENA ZA OBJEKT CELKEM | F34: =CEILING(SUM(F30:F33),IF(SUM(F30:F33)>=0,1,-1)) -> 0
A36: Poznámka :

Sheet 1 4 Rek
A1: Stavba : | C1: 2020/12 RD se sociálními byty Študlov | G1: Rozpočet : | H1: 4
A2: Objekt : | C2: 1 RD se sociálními byty Študlov | G2: UT
A4: REKAPITULACE STAVEBNÍCH DÍLŮ
B6: Stavební díl | E6: HSV | F6: PSV | G6: Dodávka | H6: Montáž | I6: HZS
A7: ='1 4 Pol'!B7 -> 97 | B7: ='1 4 Pol'!C7 -> Prorážení otvorů | E7: ='1 4 Pol'!BA9 -> 0 | F7: ='1 4 Pol'!BB9 -> 0 | G7: ='1 4 Pol'!BC9 -> 0 | H7: ='1 4 Pol'!BD9 -> 0 | I7: ='1 4 Pol'!BE9 -> 0
A8: ='1 4 Pol'!B10 -> 731 | B8: ='1 4 Pol'!C10 -> Kotelny | E8: ='1 4 Pol'!BA17 -> 0 | F8: ='1 4 Pol'!BB17 -> 0 | G8: ='1 4 Pol'!BC17 -> 0 | H8: ='1 4 Pol'!BD17 -> 0 | I8: ='1 4 Pol'!BE17 -> 0
A9: ='1 4 Pol'!B18 -> 732 | B9: ='1 4 Pol'!C18 -> Strojovny | E9: ='1 4 Pol'!BA28 -> 0 | F9: ='1 4 Pol'!BB28 -> 0 | G9: ='1 4 Pol'!BC28 -> 0 | H9: ='1 4 Pol'!BD28 -> 0 | I9: ='1 4 Pol'!BE28 -> 0
A10: ='1 4 Pol'!B29 -> 733 | B10: ='1 4 Pol'!C29 -> Rozvod potrubí | E10: ='1 4 Pol'!BA51 -> 0 | F10: ='1 4 Pol'!BB51 -> 0 | G10: ='1 4 Pol'!BC51 -> 0 | H10: ='1 4 Pol'!BD51 -> 0 | I10: ='1 4 Pol'!BE51 -> 0
A11: ='1 4 Pol'!B52 -> 734 | B11: ='1 4 Pol'!C52 -> Armatury | E11: ='1 4 Pol'!BA69 -> 0 | F11: ='1 4 Pol'!BB69 -> 0 | G11: ='1 4 Pol'!BC69 -> 0 | H11: ='1 4 Pol'!BD69 -> 0 | I11: ='1 4 Pol'!BE69 -> 0
A12: ='1 4 Pol'!B70 -> 735 | B12: ='1 4 Pol'!C70 -> Otopná tělesa | E12: ='1 4 Pol'!BA88 -> 0 | F12: ='1 4 Pol'!BB88 -> 0 | G12: ='1 4 Pol'!BC88 -> 0 | H12: ='1 4 Pol'!BD88 -> 0 | I12: ='1 4 Pol'!BE88 -> 0
A13: ='1 4 Pol'!B89 -> 767 | B13: ='1 4 Pol'!C89 -> Konstrukce zámečnické | E13: ='1 4 Pol'!BA93 -> 0 | F13: ='1 4 Pol'!BB93 -> 0 | G13: ='1 4 Pol'!BC93 -> 0 | H13: ='1 4 Pol'!BD93 -> 0 | I13: ='1 4 Pol'!BE93 -> 0
A14: ='1 4 Pol'!B94 -> M21 | B14: ='1 4 Pol'!C94 -> Elektromontáže | E14: ='1 4 Pol'!BA96 -> 0 | F14: ='1 4 Pol'!BB96 -> 0 | G14: ='1 4 Pol'!BC96 -> 0 | H14: ='1 4 Pol'!BD96 -> 0 | I14: ='1 4 Pol'!BE96 -> 0
A15: ='1 4 Pol'!B97 -> M23 | B15: ='1 4 Pol'!C97 -> Montáže potrubí | E15: ='1 4 Pol'!BA103 -> 0 | F15: ='1 4 Pol'!BB103 -> 0 | G15: ='1 4 Pol'!BC103 -> 0 | H15: ='1 4 Pol'!BD103 -> 0 | I15: ='1 4 Pol'!BE103 -> 0
B16: CELKEM OBJEKT | E16: =SUM(E7:E15) -> 0 | F16: =SUM(F7:F15) -> 0 | G16: =SUM(G7:G15) -> 0 | H16: =SUM(H7:H15) -> 0 | I16: =SUM(I7:I15) -> 0
A18: VEDLEJŠÍ ROZPOČTOVÉ NÁKLADY
A20: Název VRN | E20: Kč | F20: % | G20: Základna | I20: Kč
A21: Ztížené výrobní podmínky | G21: 0 | I21: =E21+F21*G21/100 -> 0 | BA21: 0
A22: Oborová přirážka | G22: 0 | I22: =E22+F22*G22/100 -> 0 | BA22: 0
A23: Přesun stavebních kapacit | G23: 0 | I23: =E23+F23*G23/100 -> 0 | BA23: 0
A24: Mimostaveništní doprava | G24: 0 | I24: =E24+F24*G24/100 -> 0 | BA24: 0
A25: Zařízení staveniště | G25: 0 | I25: =E25+F25*G25/100 -> 0 | BA25: 1
A26: Provoz investora | G26: 0 | I26: =E26+F26*G26/100 -> 0 | BA26: 1
A27: Kompletační činnost (IČD) | G27: 0 | I27: =E27+F27*G27/100 -> 0 | BA27: 2
A28: Rezerva rozpočtu | G28: 0 | I28: =E28+F28*G28/100 -> 0 | BA28: 2
B29: CELKEM VRN | H29: =SUM(I21:I28) -> 0

Sheet 1 4 Pol
A1: Slepý rozpočet
A3: Stavba : | C3: 2020/12 RD se sociálními byty Študlov | E3: Rozpočet: | F3: ='1 4 Rek'!H1 -> 4
A4: Objekt : | C4: 1 RD se sociálními byty Študlov | E4: ='1 4 Rek'!G2 -> UT
A6: P.č. | B6: Číslo položky | C6: Název položky | D6: MJ | E6: množství | F6: cena / MJ | G6: celkem (Kč) | H6: Jednotková hmotnost | I6: Celková hmotnost | J6: Jednotková dem.hmot. | K6: Celková dem.hmot.
A7: Díl: | B7: 97 | C7: Prorážení otvorů | O7: 1
A8: 1 | B8: 909 R00 | C8: Hzs-nezmeritelne stavebni prace bourání otvorů a drážek vč. zapravení | D8: h | E8: 80 | F8: 0 | G8: =E8*F8 -> 0 | H8: 0 | I8: =E8*H8 -> 0 | K8: =E8*J8 -> 0 | O8: 2 | AA8: 10 | AB8: 0 | AC8: 8 | AZ8: 5 | BA8: =IF(AZ8=1,G8,0) -> 0 | BB8: =IF(AZ8=2,G8,0) -> 0 | BC8: =IF(AZ8=3,G8,0) -> 0 | BD8: =IF(AZ8=4,G8,0) -> 0 | BE8: =IF(AZ8=5,G8,0) -> 0 | CA8: 10 | CB8: 0
B9: Celkem za | C9: 97 Prorážení otvorů | G9: =SUM(G7:G8) -> 0 | I9: =SUM(I7:I8) -> 0 | K9: =SUM(K7:K8) -> 0 | O9: 4 | BA9: =SUM(BA7:BA8) -> 0 | BB9: =SUM(BB7:BB8) -> 0 | BC9: =SUM(BC7:BC8) -> 0 | BD9: =SUM(BD7:BD8) -> 0 | BE9: =SUM(BE7:BE8) -> 0
A10: Díl: | B10: 731 | C10: Kotelny | O10: 1
A11: 2 | B11: 731249125R00 | C11: Montáž kotle ocel.teplov.,kapalina/plyn do 35 kW | D11: soubor | E11: 1 | F11: 0 | G11: =E11*F11 -> 0 | H11: 0 | I11: =E11*H11 -> 0 | J11: 0 | K11: =E11*J11 -> 0 | O11: 2 | AA11: 1 | AB11: 7 | AC11: 7 | AZ11: 2 | BA11: =IF(AZ11=1,G11,0) -> 0 | BB11: =IF(AZ11=2,G11,0) -> 0 | BC11: =IF(AZ11=3,G11,0) -> 0 | BD11: =IF(AZ11=4,G11,0) -> 0 | BE11: =IF(AZ11=5,G11,0) -> 0 | CA11: 1 | CB11: 7
A12: 3 | B12: 732339104R00 | C12: Montáž nádoby expanzní tlakové do 50 l | D12: soubor | E12: 1 | F12: 0 | G12: =E12*F12 -> 0 | H12: 0 | I12: =E12*H12 -> 0 | J12: 0 | K12: =E12*J12 -> 0 | O12: 2 | AA12: 1 | AB12: 7 | AC12: 7 | AZ12: 2 | BA12: =IF(AZ12=1,G12,0) -> 0 | BB12: =IF(AZ12=2,G12,0) -> 0 | BC12: =IF(AZ12=3,G12,0) -> 0 | BD12: =IF(AZ12=4,G12,0) -> 0 | BE12: =IF(AZ12=5,G12,0) -> 0 | CA12: 1 | CB12: 7
A13: 4 | B13: 48411802š00 | C13: Kotel plynový závěsný kondenzační 35 kW vč.rozšiřovací sady pro řízení a uchycení | D13: kus | E13: 1 | F13: 0 | G13: =E13*F13 -> 0 | H13: 0 | I13: =E13*H13 -> 0 | K13: =E13*J13 -> 0 | O13: 2 | AA13: 12 | AB13: 0 | AC13: 4 | AZ13: 2 | BA13: =IF(AZ13=1,G13,0) -> 0 | BB13: =IF(AZ13=2,G13,0) -> 0 | BC13: =IF(AZ13=3,G13,0) -> 0 | BD13: =IF(AZ13=4,G13,0) -> 0 | BE13: =IF(AZ13=5,G13,0) -> 0 | CA13: 12 | CB13: 0
A14: 5 | B14: 48411803š00 | C14: Odtah spalin | D14: soub | E14: 1 | F14: 0 | G14: =E14*F14 -> 0 | H14: 0 | I14: =E14*H14 -> 0 | K14: =E14*J14 -> 0 | O14: 2 | AA14: 12 | AB14: 0 | AC14: 5 | AZ14: 2 | BA14: =IF(AZ14=1,G14,0) -> 0 | BB14: =IF(AZ14=2,G14,0) -> 0 | BC14: =IF(AZ14=3,G14,0) -> 0 | BD14: =IF(AZ14=4,G14,0) -> 0 | BE14: =IF(AZ14=5,G14,0) -> 0 | CA14: 12 | CB14: 0
A15: 6 | B15: 48462100š00 | C15: Nádoba tlakový expanzní objem 50 litrů | D15: kus | E15: 1 | F15: 0 | G15: =E15*F15 -> 0 | H15: 0 | I15: =E15*H15 -> 0 | K15: =E15*J15 -> 0 | O15: 2 | AA15: 12 | AB15: 0 | AC15: 6 | AZ15: 2 | BA15: =IF(AZ15=1,G15,0) -> 0 | BB15: =IF(AZ15=2,G15,0) -> 0 | BC15: =IF(AZ15=3,G15,0) -> 0 | BD15: =IF(AZ15=4,G15,0) -> 0 | BE15: =IF(AZ15=5,G15,0) -> 0 | CA15: 12 | CB15: 0
A16: 7 | B16: 998731202R00 | C16: Přesun hmot pro kotelny, výšky do 12 m | D16: % | E16: 736.555 | F16: 0 | G16: =E16*F16 -> 0 | H16: 0 | I16: =E16*H16 -> 0 | J16: 0 | K16: =E16*J16 -> 0 | O16: 2 | AA16: 1 | AB16: 7 | AC16: 7 | AZ16: 2 | BA16: =IF(AZ16=1,G16,0) -> 0 | BB16: =IF(AZ16=2,G16,0) -> 0 | BC16: =IF(AZ16=3,G16,0) -> 0 | BD16: =IF(AZ16=4,G16,0) -> 0 | BE16: =IF(AZ16=5,G16,0) -> 0 | CA16: 1 | CB16: 7
B17: Celkem za | C17: 731 Kotelny | G17: =SUM(G10:G16) -> 0 | I17: =SUM(I10:I16) -> 0 | K17: =SUM(K10:K16) -> 0 | O17: 4 | BA17: =SUM(BA10:BA16) -> 0 | BB17: =SUM(BB10:BB16) -> 0 | BC17: =SUM(BC10:BC16) -> 0 | BD17: =SUM(BD10:BD16) -> 0 | BE17: =SUM(BE10:BE16) -> 0
A18: Díl: | B18: 732 | C18: Strojovny | O18: 1
A19: 8 | B19: 732239101R00 | C19: Montáž bytové měřící stanice k odečtu tepla | D19: kus | E19: 3 | F19: 0 | G19: =E19*F19 -> 0 | H19: 0 | I19: =E19*H19 -> 0 | J19: 0 | K19: =E19*J19 -> 0 | O19: 2 | AA19: 1 | AB19: 7 | AC19: 7 | AZ19: 2 | BA19: =IF(AZ19=1,G19,0) -> 0 | BB19: =IF(AZ19=2,G19,0) -> 0 | BC19: =IF(AZ19=3,G19,0) -> 0 | BD19: =IF(AZ19=4,G19,0) -> 0 | BE19: =IF(AZ19=5,G19,0) -> 0 | CA19: 1 | CB19: 7
A20: 9 | B20: 732349103R00 | C20: Montáž anuloidu | D20: soubor | E20: 1 | F20: 0 | G20: =E20*F20 -> 0 | H20: 0 | I20: =E20*H20 -> 0 | J20: 0 | K20: =E20*J20 -> 0 | O20: 2 | AA20: 1 | AB20: 7 | AC20: 7 | AZ20: 2 | BA20: =IF(AZ20=1,G20,0) -> 0 | BB20: =IF(AZ20=2,G20,0) -> 0 | BC20: =IF(AZ20=3,G20,0) -> 0 | BD20: =IF(AZ20=4,G20,0) -> 0 | BE20: =IF(AZ20=5,G20,0) -> 0 | CA20: 1 | CB20: 7
A21: 10 | B21: 732429112R00 | C21: Montáž čerpadlových skupin do DN 32 | D21: soubor | E21: 1 | F21: 0 | G21: =E21*F21 -> 0 | H21: 0 | I21: =E21*H21 -> 0 | J21: 0 | K21: =E21*J21 -> 0 | O21: 2 | AA21: 1 | AB21: 7 | AC21: 7 | AZ21: 2 | BA21: =IF(AZ21=1,G21,0) -> 0 | BB21: =IF(AZ21=2,G21,0) -> 0 | BC21: =IF(AZ21=3,G21,0) -> 0 | BD21: =IF(AZ21=4,G21,0) -> 0 | BE21: =IF(AZ21=5,G21,0) -> 0 | CA21: 1 | CB21: 7
A22: 11 | B22: 28656317 | C22: Bytová měřící sada pro odpočet tepla | D22: kus | E22: 3 | F22: 0 | G22: =E22*F22 -> 0 | H22: 0 | I22: =E22*H22 -> 0 | K22: =E22*J22 -> 0 | O22: 2 | AA22: 3 | AB22: 7 | AC22: 28656317 | AZ22: 2 | BA22: =IF(AZ22=1,G22,0) -> 0 | BB22: =IF(AZ22=2,G22,0) -> 0 | BC22: =IF(AZ22=3,G22,0) -> 0 | BD22: =IF(AZ22=4,G22,0) -> 0 | BE22: =IF(AZ22=5,G22,0) -> 0 | CA22: 3 | CB22: 7
A23: 12 | B23: 38822152 | C23: Měřič tepla kompakt 3/4"standart | D23: kus | E23: 6 | F23: 0 | G23: =E23*F23 -> 0 | H23: 0 | I23: =E23*H23 -> 0 | K23: =E23*J23 -> 0 | O23: 2 | AA23: 3 | AB23: 7 | AC23: 38822152 | AZ23: 2 | BA23: =IF(AZ23=1,G23,0) -> 0 | BB23: =IF(AZ23=2,G23,0) -> 0 | BC23: =IF(AZ23=3,G23,0) -> 0 | BD23: =IF(AZ23=4,G23,0) -> 0 | BE23: =IF(AZ23=5,G23,0) -> 0 | CA23: 3 | CB23: 7
A24: 13 | B24: 42227107 | C24: Anuloid | D24: kus | E24: 1 | F24: 0 | G24: =E24*F24 -> 0 | H24: 0 | I24: =E24*H24 -> 0 | K24: =E24*J24 -> 0 | O24: 2 | AA24: 3 | AB24: 7 | AC24: 42227107 | AZ24: 2 | BA24: =IF(AZ24=1,G24,0) -> 0 | BB24: =IF(AZ24=2,G24,0) -> 0 | BC24: =IF(AZ24=3,G24,0) -> 0 | BD24: =IF(AZ24=4,G24,0) -> 0 | BE24: =IF(AZ24=5,G24,0) -> 0 | CA24: 3 | CB24: 7
A25: 14 | B25: 42610682 | C25: Čerpadlová sestava s čerpadlem DN 25, h-8m box | D25: kus | E25: 1 | F25: 0 | G25: =E25*F25 -> 0 | H25: 0 | I25: =E25*H25 -> 0 | K25: =E25*J25 -> 0 | O25: 2 | AA25: 3 | AB25: 7 | AC25: 42610682 | AZ25: 2 | BA25: =IF(AZ25=1,G25,0) -> 0 | BB25: =IF(AZ25=2,G25,0) -> 0 | BC25: =IF(AZ25=3,G25,0) -> 0 | BD25: =IF(AZ25=4,G25,0) -> 0 | BE25: =IF(AZ25=5,G25,0) -> 0 | CA25: 3 | CB25: 7
A26: 15 | B26: 5512010024 | C26: Ventil pojistný | D26: kus | E26: 1 | F26: 0 | G26: =E26*F26 -> 0 | H26: 0 | I26: =E26*H26 -> 0 | K26: =E26*J26 -> 0 | O26: 2 | AA26: 12 | AB26: 0 | AC26: 15 | AZ26: 2 | BA26: =IF(AZ26=1,G26,0) -> 0 | BB26: =IF(AZ26=2,G26,0) -> 0 | BC26: =IF(AZ26=3,G26,0) -> 0 | BD26: =IF(AZ26=4,G26,0) -> 0 | BE26: =IF(AZ26=5,G26,0) -> 0 | CA26: 12 | CB26: 0
A27: 16 | B27: 998732202R00 | C27: Přesun hmot pro strojovny, výšky do 12 m | D27: % | E27: 787.545 | F27: 0 | G27: =E27*F27 -> 0 | H27: 0 | I27: =E27*H27 -> 0 | J27: 0 | K27: =E27*J27 -> 0 | O27: 2 | AA27: 1 | AB27: 7 | AC27: 7 | AZ27: 2 | BA27: =IF(AZ27=1,G27,0) -> 0 | BB27: =IF(AZ27=2,G27,0) -> 0 | BC27: =IF(AZ27=3,G27,0) -> 0 | BD27: =IF(AZ27=4,G27,0) -> 0 | BE27: =IF(AZ27=5,G27,0) -> 0 | CA27: 1 | CB27: 7
B28: Celkem za | C28: 732 Strojovny | G28: =SUM(G18:G27) -> 0 | I28: =SUM(I18:I27) -> 0 | K28: =SUM(K18:K27) -> 0 | O28: 4 | BA28: =SUM(BA18:BA27) -> 0 | BB28: =SUM(BB18:BB27) -> 0 | BC28: =SUM(BC18:BC27) -> 0 | BD28: =SUM(BD18:BD27) -> 0 | BE28: =SUM(BE18:BE27) -> 0
A29: Díl: | B29: 733 | C29: Rozvod potrubí | O29: 1
A30: 17 | B30: 723164102RT3 | C30: Montáž potrubí z měděných trubek D 15 mm spoj lisovaný | D30: m | E30: 150 | F30: 0 | G30: =E30*F30 -> 0 | H30: 0 | I30: =E30*H30 -> 0 | J30: 0 | K30: =E30*J30 -> 0 | O30: 2 | AA30: 1 | AB30: 7 | AC30: 7 | AZ30: 2 | BA30: =IF(AZ30=1,G30,0) -> 0 | BB30: =IF(AZ30=2,G30,0) -> 0 | BC30: =IF(AZ30=3,G30,0) -> 0 | BD30: =IF(AZ30=4,G30,0) -> 0 | BE30: =IF(AZ30=5,G30,0) -> 0 | CA30: 1 | CB30: 7
A31: 18 | B31: 723164103RT3 | C31: Montáž potrubí z měděných trubek D 18 mm spoj lisovaný | D31: m | E31: 100 | F31: 0 | G31: =E31*F31 -> 0 | H31: 0 | I31: =E31*H31 -> 0 | J31: 0 | K31: =E31*J31 -> 0 | O31: 2 | AA31: 1 | AB31: 7 | AC31: 7 | AZ31: 2 | BA31: =IF(AZ31=1,G31,0) -> 0 | BB31: =IF(AZ31=2,G31,0) -> 0 | BC31: =IF(AZ31=3,G31,0) -> 0 | BD31: =IF(AZ31=4,G31,0) -> 0 | BE31: =IF(AZ31=5,G31,0) -> 0 | CA31: 1 | CB31: 7
A32: 19 | B32: 723164104RT3 | C32: Montáž potrubí z měděných trubek D 22 mm spoj lisovaný | D32: m | E32: 80 | F32: 0 | G32: =E32*F32 -> 0 | H32: 0 | I32: =E32*H32 -> 0 | J32: 0 | K32: =E32*J32 -> 0 | O32: 2 | AA32: 1 | AB32: 7 | AC32: 7 | AZ32: 2 | BA32: =IF(AZ32=1,G32,0) -> 0 | BB32: =IF(AZ32=2,G32,0) -> 0 | BC32: =IF(AZ32=3,G32,0) -> 0 | BD32: =IF(AZ32=4,G32,0) -> 0 | BE32: =IF(AZ32=5,G32,0) -> 0 | CA32: 1 | CB32: 7
A33: 20 | B33: 723164105RT3 | C33: Montáž potrubí z měděných trubek D 28 mm spoj lisovaný | D33: m | E33: 70 | F33: 0 | G33: =E33*F33 -> 0 | H33: 0 | I33: =E33*H33 -> 0 | J33: 0 | K33: =E33*J33 -> 0 | O33: 2 | AA33: 1 | AB33: 7 | AC33: 7 | AZ33: 2 | BA33: =IF(AZ33=1,G33,0) -> 0 | BB33: =IF(AZ33=2,G33,0) -> 0 | BC33: =IF(AZ33=3,G33,0) -> 0 | BD33: =IF(AZ33=4,G33,0) -> 0 | BE33: =IF(AZ33=5,G33,0) -> 0 | CA33: 1 | CB33: 7
A34: 21 | B34: 723165212R00 | C34: Montáž tvar.Cu lisováním D15-22 mm 2 spoje | D34: kus | E34: 660 | F34: 0 | G34: =E34*F34 -> 0 | H34: 0 | I34: =E34*H34 -> 0 | J34: 0 | K34: =E34*J34 -> 0 | O34: 2 | AA34: 1 | AB34: 7 | AC34: 7 | AZ34: 2 | BA34: =IF(AZ34=1,G34,0) -> 0 | BB34: =IF(AZ34=2,G34,0) -> 0 | BC34: =IF(AZ34=3,G34,0) -> 0 | BD34: =IF(AZ34=4,G34,0) -> 0 | BE34: =IF(AZ34=5,G34,0) -> 0 | CA34: 1 | CB34: 7
A35: 22 | B35: 723165213R00 | C35: Montáž tvar.Cu lisováním D 28 mm 2 spoje | D35: kus | E35: 140 | F35: 0 | G35: =E35*F35 -> 0 | H35: 0 | I35: =E35*H35 -> 0 | J35: 0 | K35: =E35*J35 -> 0 | O35: 2 | AA35: 1 | AB35: 7 | AC35: 7 | AZ35: 2 | BA35: =IF(AZ35=1,G35,0) -> 0 | BB35: =IF(AZ35=2,G35,0) -> 0 | BC35: =IF(AZ35=3,G35,0) -> 0 | BD35: =IF(AZ35=4,G35,0) -> 0 | BE35: =IF(AZ35=5,G35,0) -> 0 | CA35: 1 | CB35: 7
A36: 23 | B36: 723190907R00 | C36: Odvzdušnění a napuštění potrubí | D36: m | E36: 400 | F36: 0 | G36: =E36*F36 -> 0 | H36: 0 | I36: =E36*H36 -> 0 | J36: 0 | K36: =E36*J36 -> 0 | O36: 2 | AA36: 1 | AB36: 7 | AC36: 7 | AZ36: 2 | BA36: =IF(AZ36=1,G36,0) -> 0 | BB36: =IF(AZ36=2,G36,0) -> 0 | BC36: =IF(AZ36=3,G36,0) -> 0 | BD36: =IF(AZ36=4,G36,0) -> 0 | BE36: =IF(AZ36=5,G36,0) -> 0 | CA36: 1 | CB36: 7
A37: 24 | B37: 733190108R00 | C37: Tlaková zkouška potrubí do DN 50 | D37: m | E37: 400 | F37: 0 | G37: =E37*F37 -> 0 | H37: 0 | I37: =E37*H37 -> 0 | J37: 0 | K37: =E37*J37 -> 0 | O37: 2 | AA37: 1 | AB37: 7 | AC37: 7 | AZ37: 2 | BA37: =IF(AZ37=1,G37,0) -> 0 | BB37: =IF(AZ37=2,G37,0) -> 0 | BC37: =IF(AZ37=3,G37,0) -> 0 | BD37: =IF(AZ37=4,G37,0) -> 0 | BE37: =IF(AZ37=5,G37,0) -> 0 | CA37: 1 | CB37: 7
A38: 25 | B38: 19632350 | C38: Trubka měděná Cu polotvr. 15x1 mm | D38: m | E38: 150 | F38: 0 | G38: =E38*F38 -> 0 | H38: 0 | I38: =E38*H38 -> 0 | K38: =E38*J38 -> 0 | O38: 2 | AA38: 3 | AB38: 7 | AC38: 19632350 | AZ38: 2 | BA38: =IF(AZ38=1,G38,0) -> 0 | BB38: =IF(AZ38=2,G38,0) -> 0 | BC38: =IF(AZ38=3,G38,0) -> 0 | BD38: =IF(AZ38=4,G38,0) -> 0 | BE38: =IF(AZ38=5,G38,0) -> 0 | CA38: 3 | CB38: 7
A39: 26 | B39: 19632365 | C39: Trubka měděná Cu polotvr. 18x1 mm | D39: m | E39: 100 | F39: 0 | G39: =E39*F39 -> 0 | H39: 0 | I39: =E39*H39 -> 0 | K39: =E39*J39 -> 0 | O39: 2 | AA39: 3 | AB39: 7 | AC39: 19632365 | AZ39: 2 | BA39: =IF(AZ39=1,G39,0) -> 0 | BB39: =IF(AZ39=2,G39,0) -> 0 | BC39: =IF(AZ39=3,G39,0) -> 0 | BD39: =IF(AZ39=4,G39,0) -> 0 | BE39: =IF(AZ39=5,G39,0) -> 0 | CA39: 3 | CB39: 7
A40: 27 | B40: 19632375 | C40: Trubka měděná Cu polotvr. 22x1 mm | D40: m | E40: 80 | F40: 0 | G40: =E40*F40 -> 0 | H40: 0 | I40: =E40*H40 -> 0 | K40: =E40*J40 -> 0 | O40: 2 | AA40: 3 | AB40: 7 | AC40: 19632375 | AZ40: 2 | BA40: =IF(AZ40=1,G40,0) -> 0 | BB40: =IF(AZ40=2,G40,0) -> 0 | BC40: =IF(AZ40=3,G40,0) -> 0 | BD40: =IF(AZ40=4,G40,0) -> 0 | BE40: =IF(AZ40=5,G40,0) -> 0 | CA40: 3 | CB40: 7
A41: 28 | B41: 19632696 | C41: Trubka měděná Cu tvrdá 28x1,5 mm | D41: m | E41: 70 | F41: 0 | G41: =E41*F41 -> 0 | H41: 0 | I41: =E41*H41 -> 0 | K41: =E41*J41 -> 0 | O41: 2 | AA41: 3 | AB41: 7 | AC41: 19632696 | AZ41: 2 | BA41: =IF(AZ41=1,G41,0) -> 0 | BB41: =IF(AZ41=2,G41,0) -> 0 | BC41: =IF(AZ41=3,G41,0) -> 0 | BD41: =IF(AZ41=4,G41,0) -> 0 | BE41: =IF(AZ41=5,G41,0) -> 0 | CA41: 3 | CB41: 7
A42: 29 | B42: 283771433 | C42: Trubice izolační 15x20 mm | D42: m | E42: 150 | F42: 0 | G42: =E42*F42 -> 0 | H42: 0 | I42: =E42*H42 -> 0 | J42: 0 | K42: =E42*J42 -> 0 | O42: 2 | AA42: 1 | AB42: 7 | AC42: 7 | AZ42: 2 | BA42: =IF(AZ42=1,G42,0) -> 0 | BB42: =IF(AZ42=2,G42,0) -> 0 | BC42: =IF(AZ42=3,G42,0) -> 0 | BD42: =IF(AZ42=4,G42,0) -> 0 | BE42: =IF(AZ42=5,G42,0) -> 0 | CA42: 1 | CB42: 7
A43: 30 | B43: 28377146 | C43: Trubice izolační 18x20 mm | D43: m | E43: 100 | F43: 0 | G43: =E43*F43 -> 0 | H43: 0 | I43: =E43*H43 -> 0 | K43: =E43*J43 -> 0 | O43: 2 | AA43: 3 | AB43: 7 | AC43: 28377146 | AZ43: 2 | BA43: =IF(AZ43=1,G43,0) -> 0 | BB43: =IF(AZ43=2,G43,0) -> 0 | BC43: =IF(AZ43=3,G43,0) -> 0 | BD43: =IF(AZ43=4,G43,0) -> 0 | BE43: =IF(AZ43=5,G43,0) -> 0 | CA43: 3 | CB43: 7
A44: 31 | B44: 283771484 | C44: Trubice izolační 22x20 mm | D44: m | E44: 80 | F44: 0 | G44: =E44*F44 -> 0 | H44: 0 | I44: =E44*H44 -> 0 | J44: 0 | K44: =E44*J44 -> 0 | O44: 2 | AA44: 1 | AB44: 7 | AC44: 7 | AZ44: 2 | BA44: =IF(AZ44=1,G44,0) -> 0 | BB44: =IF(AZ44=2,G44,0) -> 0 | BC44: =IF(AZ44=3,G44,0) -> 0 | BD44: =IF(AZ44=4,G44,0) -> 0 | BE44: =IF(AZ44=5,G44,0) -> 0 | CA44: 1 | CB44: 7
A45: 32 | B45: 283771533 | C45: Trubice izolační 28x20 mm | D45: Sh | E45: 70 | F45: 0 | G45: =E45*F45 -> 0 | H45: 0 | I45: =E45*H45 -> 0 | J45: 0 | K45: =E45*J45 -> 0 | O45: 2 | AA45: 1 | AB45: 7 | AC45: 7 | AZ45: 2 | BA45: =IF(AZ45=1,G45,0) -> 0 | BB45: =IF(AZ45=2,G45,0) -> 0 | BC45: =IF(AZ45=3,G45,0) -> 0 | BD45: =IF(AZ45=4,G45,0) -> 0 | BE45: =IF(AZ45=5,G45,0) -> 0 | CA45: 1 | CB45: 7
A46: 33 | B46: 31945502 | C46: Fitinka d 15 mm měď koleno, T-kus, redukce, a.j. | D46: kus | E46: 300 | F46: 0 | G46: =E46*F46 -> 0 | H46: 0 | I46: =E46*H46 -> 0 | K46: =E46*J46 -> 0 | O46: 2 | AA46: 3 | AB46: 7 | AC46: 31945502 | AZ46: 2 | BA46: =IF(AZ46=1,G46,0) -> 0 | BB46: =IF(AZ46=2,G46,0) -> 0 | BC46: =IF(AZ46=3,G46,0) -> 0 | BD46: =IF(AZ46=4,G46,0) -> 0 | BE46: =IF(AZ46=5,G46,0) -> 0 | CA46: 3 | CB46: 7
A47: 34 | B47: 31945503 | C47: Fitinka d 18 mm měď koleno, T-kus, redukce, a.j. | D47: kus | E47: 200 | F47: 0 | G47: =E47*F47 -> 0 | H47: 0 | I47: =E47*H47 -> 0 | K47: =E47*J47 -> 0 | O47: 2 | AA47: 3 | AB47: 7 | AC47: 31945503 | AZ47: 2 | BA47: =IF(AZ47=1,G47,0) -> 0 | BB47: =IF(AZ47=2,G47,0) -> 0 | BC47: =IF(AZ47=3,G47,0) -> 0 | BD47: =IF(AZ47=4,G47,0) -> 0 | BE47: =IF(AZ47=5,G47,0) -> 0 | CA47: 3 | CB47: 7
A48: 35 | B48: 31945504 | C48: Fitinka d 22 mm měď koleno, T-kus, redukce, a.j. | D48: kus | E48: 160 | F48: 0 | G48: =E48*F48 -> 0 | H48: 0 | I48: =E48*H48 -> 0 | K48: =E48*J48 -> 0 | O48: 2 | AA48: 3 | AB48: 7 | AC48: 31945504 | AZ48: 2 | BA48: =IF(AZ48=1,G48,0) -> 0 | BB48: =IF(AZ48=2,G48,0) -> 0 | BC48: =IF(AZ48=3,G48,0) -> 0 | BD48: =IF(AZ48=4,G48,0) -> 0 | BE48: =IF(AZ48=5,G48,0) -> 0 | CA48: 3 | CB48: 7
A49: 36 | B49: 31945505 | C49: Fitinka d 28 mm měď koleno, T-kus, redukce, a.j. | D49: kus | E49: 140 | F49: 0 | G49: =E49*F49 -> 0 | H49: 0 | I49: =E49*H49 -> 0 | K49: =E49*J49 -> 0 | O49: 2 | AA49: 3 | AB49: 7 | AC49: 31945505 | AZ49: 2 | BA49: =IF(AZ49=1,G49,0) -> 0 | BB49: =IF(AZ49=2,G49,0) -> 0 | BC49: =IF(AZ49=3,G49,0) -> 0 | BD49: =IF(AZ49=4,G49,0) -> 0 | BE49: =IF(AZ49=5,G49,0) -> 0 | CA49: 3 | CB49: 7
A50: 37 | B50: 998733201R00 | C50: Přesun hmot pro rozvody potrubí, výšky do 6 m | D50: % | E50: 3036.08 | F50: 0 | G50: =E50*F50 -> 0 | H50: 0 | I50: =E50*H50 -> 0 | J50: 0 | K50: =E50*J50 -> 0 | O50: 2 | AA50: 1 | AB50: 7 | AC50: 7 | AZ50: 2 | BA50: =IF(AZ50=1,G50,0) -> 0 | BB50: =IF(AZ50=2,G50,0) -> 0 | BC50: =IF(AZ50=3,G50,0) -> 0 | BD50: =IF(AZ50=4,G50,0) -> 0 | BE50: =IF(AZ50=5,G50,0) -> 0 | CA50: 1 | CB50: 7
B51: Celkem za | C51: 733 Rozvod potrubí | G51: =SUM(G29:G50) -> 0 | I51: =SUM(I29:I50) -> 0 | K51: =SUM(K29:K50) -> 0 | O51: 4 | BA51: =SUM(BA29:BA50) -> 0 | BB51: =SUM(BB29:BB50) -> 0 | BC51: =SUM(BC29:BC50) -> 0 | BD51: =SUM(BD29:BD50) -> 0 | BE51: =SUM(BE29:BE50) -> 0
A52: Díl: | B52: 734 | C52: Armatury | O52: 1
A53: 38 | B53: 722229101R00 | C53: Montáž vodovodních armatur,1závit, G 1/2 | D53: kus | E53: 18 | F53: 0 | G53: =E53*F53 -> 0 | H53: 0 | I53: =E53*H53 -> 0 | J53: 0 | K53: =E53*J53 -> 0 | O53: 2 | AA53: 1 | AB53: 7 | AC53: 7 | AZ53: 2 | BA53: =IF(AZ53=1,G53,0) -> 0 | BB53: =IF(AZ53=2,G53,0) -> 0 | BC53: =IF(AZ53=3,G53,0) -> 0 | BD53: =IF(AZ53=4,G53,0) -> 0 | BE53: =IF(AZ53=5,G53,0) -> 0 | CA53: 1 | CB53: 7
A54: 39 | B54: 722239101R00 | C54: Montáž vodovodních armatur 2závity, G 1/2 | D54: kus | E54: 18 | F54: 0 | G54: =E54*F54 -> 0 | H54: 0 | I54: =E54*H54 -> 0 | J54: 0 | K54: =E54*J54 -> 0 | O54: 2 | AA54: 1 | AB54: 7 | AC54: 7 | AZ54: 2 | BA54: =IF(AZ54=1,G54,0) -> 0 | BB54: =IF(AZ54=2,G54,0) -> 0 | BC54: =IF(AZ54=3,G54,0) -> 0 | BD54: =IF(AZ54=4,G54,0) -> 0 | BE54: =IF(AZ54=5,G54,0) -> 0 | CA54: 1 | CB54: 7
A55: 40 | B55: 722239103R00 | C55: Montáž vodovodních armatur 2závity, G 1 | D55: kus | E55: 30 | F55: 0 | G55: =E55*F55 -> 0 | H55: 0 | I55: =E55*H55 -> 0 | J55: 0 | K55: =E55*J55 -> 0 | O55: 2 | AA55: 1 | AB55: 7 | AC55: 7 | AZ55: 2 | BA55: =IF(AZ55=1,G55,0) -> 0 | BB55: =IF(AZ55=2,G55,0) -> 0 | BC55: =IF(AZ55=3,G55,0) -> 0 | BD55: =IF(AZ55=4,G55,0) -> 0 | BE55: =IF(AZ55=5,G55,0) -> 0 | CA55: 1 | CB55: 7
A56: 41 | B56: 734432111R00 | C56: Prostorový termostat | D56: kus | E56: 3 | F56: 0 | G56: =E56*F56 -> 0 | H56: 0 | I56: =E56*H56 -> 0 | J56: 0 | K56: =E56*J56 -> 0 | O56: 2 | AA56: 1 | AB56: 7 | AC56: 7 | AZ56: 2 | BA56: =IF(AZ56=1,G56,0) -> 0 | BB56: =IF(AZ56=2,G56,0) -> 0 | BC56: =IF(AZ56=3,G56,0) -> 0 | BD56: =IF(AZ56=4,G56,0) -> 0 | BE56: =IF(AZ56=5,G56,0) -> 0 | CA56: 1 | CB56: 7
A57: 42 | B57: 001 | C57: Doplňkový drobný instalační materiál spojky, vsuvky, šroubení, přechodky, atp. | D57: soubor | E57: 1 | F57: 0 | G57: =E57*F57 -> 0 | H57: 0 | I57: =E57*H57 -> 0 | K57: =E57*J57 -> 0 | O57: 2 | AA57: 12 | AB57: 0 | AC57: 42 | AZ57: 2 | BA57: =IF(AZ57=1,G57,0) -> 0 | BB57: =IF(AZ57=2,G57,0) -> 0 | BC57: =IF(AZ57=3,G57,0) -> 0 | BD57: =IF(AZ57=4,G57,0) -> 0 | BE57: =IF(AZ57=5,G57,0) -> 0 | CA57: 12 | CB57: 0
A58: 43 | B58: 301010102T | C58: Vypouštěcí kulový uzávěr s páčkou - 1/2 | D58: kus | E58: 10 | F58: 0 | G58: =E58*F58 -> 0 | H58: 0 | I58: =E58*H58 -> 0 | K58: =E58*J58 -> 0 | O58: 2 | AA58: 12 | AB58: 0 | AC58: 43 | AZ58: 2 | BA58: =IF(AZ58=1,G58,0) -> 0 | BB58: =IF(AZ58=2,G58,0) -> 0 | BC58: =IF(AZ58=3,G58,0) -> 0 | BD58: =IF(AZ58=4,G58,0) -> 0 | BE58: =IF(AZ58=5,G58,0) -> 0 | CA58: 12 | CB58: 0
A59: 44 | B59: 500561T | C59: Radiátorový přímý ventil s přednastavením | D59: kus | E59: 6 | F59: 0 | G59: =E59*F59 -> 0 | H59: 0 | I59: =E59*H59 -> 0 | K59: =E59*J59 -> 0 | O59: 2 | AA59: 12 | AB59: 0 | AC59: 44 | AZ59: 2 | BA59: =IF(AZ59=1,G59,0) -> 0 | BB59: =IF(AZ59=2,G59,0) -> 0 | BC59: =IF(AZ59=3,G59,0) -> 0 | BD59: =IF(AZ59=4,G59,0) -> 0 | BE59: =IF(AZ59=5,G59,0) -> 0 | CA59: 12 | CB59: 0
A60: 45 | B60: 500642T | C60: Regulační šroubení - přímé - 1/2" | D60: kus | E60: 6 | F60: 0 | G60: =E60*F60 -> 0 | H60: 0 | I60: =E60*H60 -> 0 | K60: =E60*J60 -> 0 | O60: 2 | AA60: 12 | AB60: 0 | AC60: 45 | AZ60: 2 | BA60: =IF(AZ60=1,G60,0) -> 0 | BB60: =IF(AZ60=2,G60,0) -> 0 | BC60: =IF(AZ60=3,G60,0) -> 0 | BD60: =IF(AZ60=4,G60,0) -> 0 | BE60: =IF(AZ60=5,G60,0) -> 0 | CA60: 12 | CB60: 0
A61: 46 | B61: 551100124 | C61: Kohout kulový 1" | D61: kus | E61: 20 | F61: 0 | G61: =E61*F61 -> 0 | H61: 0 | I61: =E61*H61 -> 0 | J61: 0 | K61: =E61*J61 -> 0 | O61: 2 | AA61: 1 | AB61: 7 | AC61: 7 | AZ61: 2 | BA61: =IF(AZ61=1,G61,0) -> 0 | BB61: =IF(AZ61=2,G61,0) -> 0 | BC61: =IF(AZ61=3,G61,0) -> 0 | BD61: =IF(AZ61=4,G61,0) -> 0 | BE61: =IF(AZ61=5,G61,0) -> 0 | CA61: 1 | CB61: 7
A62: 47 | B62: 551100212 | C62: Klapka zpětná 1" | D62: kus | E62: 7 | F62: 0 | G62: =E62*F62 -> 0 | H62: 0 | I62: =E62*H62 -> 0 | J62: 0 | K62: =E62*J62 -> 0 | O62: 2 | AA62: 1 | AB62: 7 | AC62: 7 | AZ62: 2 | BA62: =IF(AZ62=1,G62,0) -> 0 | BB62: =IF(AZ62=2,G62,0) -> 0 | BC62: =IF(AZ62=3,G62,0) -> 0 | BD62: =IF(AZ62=4,G62,0) -> 0 | BE62: =IF(AZ62=5,G62,0) -> 0 | CA62: 1 | CB62: 7
A63: 48 | B63: 551100304 | C63: Filtr závitovýmosaz PN 20 FF 1" | D63: kus | E63: 4 | F63: 0 | G63: =E63*F63 -> 0 | H63: 0 | I63: =E63*H63 -> 0 | J63: 0 | K63: =E63*J63 -> 0 | O63: 2 | AA63: 1 | AB63: 7 | AC63: 7 | AZ63: 2 | BA63: =IF(AZ63=1,G63,0) -> 0 | BB63: =IF(AZ63=2,G63,0) -> 0 | BC63: =IF(AZ63=3,G63,0) -> 0 | BD63: =IF(AZ63=4,G63,0) -> 0 | BE63: =IF(AZ63=5,G63,0) -> 0 | CA63: 1 | CB63: 7
A64: 49 | B64: 551200010 | C64: Ventil automatický odvzdušňovací 3/8" | D64: kus | E64: 10 | F64: 0 | G64: =E64*F64 -> 0 | H64: 0 | I64: =E64*H64 -> 0 | J64: 0 | K64: =E64*J64 -> 0 | O64: 2 | AA64: 1 | AB64: 7 | AC64: 7 | AZ64: 2 | BA64: =IF(AZ64=1,G64,0) -> 0 | BB64: =IF(AZ64=2,G64,0) -> 0 | BC64: =IF(AZ64=3,G64,0) -> 0 | BD64: =IF(AZ64=4,G64,0) -> 0 | BE64: =IF(AZ64=5,G64,0) -> 0 | CA64: 1 | CB64: 7
A65: 50 | B65: 551200121 | C65: Šroubení regulační rohové 1/2" pro připojení těles VK | D65: kus | E65: 14 | F65: 0 | G65: =E65*F65 -> 0 | H65: 0 | I65: =E65*H65 -> 0 | J65: 0 | K65: =E65*J65 -> 0 | O65: 2 | AA65: 1 | AB65: 7 | AC65: 7 | AZ65: 2 | BA65: =IF(AZ65=1,G65,0) -> 0 | BB65: =IF(AZ65=2,G65,0) -> 0 | BC65: =IF(AZ65=3,G65,0) -> 0 | BD65: =IF(AZ65=4,G65,0) -> 0 | BE65: =IF(AZ65=5,G65,0) -> 0 | CA65: 1 | CB65: 7
A66: 51 | B66: 551200160 | C66: Hlavice termostatická kapalinová | D66: kus | E66: 23 | F66: 0 | G66: =E66*F66 -> 0 | H66: 0 | I66: =E66*H66 -> 0 | J66: 0 | K66: =E66*J66 -> 0 | O66: 2 | AA66: 1 | AB66: 7 | AC66: 7 | AZ66: 2 | BA66: =IF(AZ66=1,G66,0) -> 0 | BB66: =IF(AZ66=2,G66,0) -> 0 | BC66: =IF(AZ66=3,G66,0) -> 0 | BD66: =IF(AZ66=4,G66,0) -> 0 | BE66: =IF(AZ66=5,G66,0) -> 0 | CA66: 1 | CB66: 7
A67: 52 | B67: 5512001849 | C67: Termostatická jednobodová armatura 1/2"xEK; rohová | D67: kus | E67: 3 | F67: 0 | G67: =E67*F67 -> 0 | H67: 0 | I67: =E67*H67 -> 0 | K67: =E67*J67 -> 0 | O67: 2 | AA67: 12 | AB67: 0 | AC67: 52 | AZ67: 2 | BA67: =IF(AZ67=1,G67,0) -> 0 | BB67: =IF(AZ67=2,G67,0) -> 0 | BC67: =IF(AZ67=3,G67,0) -> 0 | BD67: =IF(AZ67=4,G67,0) -> 0 | BE67: =IF(AZ67=5,G67,0) -> 0 | CA67: 12 | CB67: 0
A68: 53 | B68: 998734203R00 | C68: Přesun hmot pro armatury, výšky do 24 m | D68: % | E68: 592.1108 | F68: 0 | G68: =E68*F68 -> 0 | H68: 0 | I68: =E68*H68 -> 0 | J68: 0 | K68: =E68*J68 -> 0 | O68: 2 | AA68: 1 | AB68: 7 | AC68: 7 | AZ68: 2 | BA68: =IF(AZ68=1,G68,0) -> 0 | BB68: =IF(AZ68=2,G68,0) -> 0 | BC68: =IF(AZ68=3,G68,0) -> 0 | BD68: =IF(AZ68=4,G68,0) -> 0 | BE68: =IF(AZ68=5,G68,0) -> 0 | CA68: 1 | CB68: 7
B69: Celkem za | C69: 734 Armatury | G69: =SUM(G52:G68) -> 0 | I69: =SUM(I52:I68) -> 0 | K69: =SUM(K52:K68) -> 0 | O69: 4 | BA69: =SUM(BA52:BA68) -> 0 | BB69: =SUM(BB52:BB68) -> 0 | BC69: =SUM(BC52:BC68) -> 0 | BD69: =SUM(BD52:BD68) -> 0 | BE69: =SUM(BE52:BE68) -> 0
A70: Díl: | B70: 735 | C70: Otopná tělesa | O70: 1
A71: 54 | B71: 735159240R00 | C71: Montáž panelových těles 2řadých do délky 2820 mm | D71: kus | E71: 20 | F71: 0 | G71: =E71*F71 -> 0 | H71: 0 | I71: =E71*H71 -> 0 | J71: 0 | K71: =E71*J71 -> 0 | O71: 2 | AA71: 1 | AB71: 7 | AC71: 7 | AZ71: 2 | BA71: =IF(AZ71=1,G71,0) -> 0 | BB71: =IF(AZ71=2,G71,0) -> 0 | BC71: =IF(AZ71=3,G71,0) -> 0 | BD71: =IF(AZ71=4,G71,0) -> 0 | BE71: =IF(AZ71=5,G71,0) -> 0 | CA71: 1 | CB71: 7
A72: 55 | B72: 735179110R00 | C72: Montáž otopných těles koupelnových (žebříků) | D72: kus | E72: 3 | F72: 0 | G72: =E72*F72 -> 0 | H72: 0 | I72: =E72*H72 -> 0 | J72: 0 | K72: =E72*J72 -> 0 | O72: 2 | AA72: 1 | AB72: 7 | AC72: 7 | AZ72: 2 | BA72: =IF(AZ72=1,G72,0) -> 0 | BB72: =IF(AZ72=2,G72,0) -> 0 | BC72: =IF(AZ72=3,G72,0) -> 0 | BD72: =IF(AZ72=4,G72,0) -> 0 | BE72: =IF(AZ72=5,G72,0) -> 0 | CA72: 1 | CB72: 7
A73: 56 | B73: 4845175014 | C73: Těleso otopné trubkové 1220-600 | D73: kus | E73: 3 | F73: 0 | G73: =E73*F73 -> 0 | H73: 0 | I73: =E73*H73 -> 0 | K73: =E73*J73 -> 0 | O73: 2 | AA73: 12 | AB73: 0 | AC73: 56 | AZ73: 2 | BA73: =IF(AZ73=1,G73,0) -> 0 | BB73: =IF(AZ73=2,G73,0) -> 0 | BC73: =IF(AZ73=3,G73,0) -> 0 | BD73: =IF(AZ73=4,G73,0) -> 0 | BE73: =IF(AZ73=5,G73,0) -> 0 | CA73: 12 | CB73: 0
A74: 57 | B74: 48460258.O | C74: Těleso otopné pravé VK 11-600/400 mm | D74: kus | E74: 2 | F74: 0 | G74: =E74*F74 -> 0 | H74: 0 | I74: =E74*H74 -> 0 | K74: =E74*J74 -> 0 | O74: 2 | AA74: 3 | AB74: 7 | AC74: 48460258.O | AZ74: 2 | BA74: =IF(AZ74=1,G74,0) -> 0 | BB74: =IF(AZ74=2,G74,0) -> 0 | BC74: =IF(AZ74=3,G74,0) -> 0 | BD74: =IF(AZ74=4,G74,0) -> 0 | BE74: =IF(AZ74=5,G74,0) -> 0 | CA74: 3 | CB74: 7
A75: 58 | B75: 48460262.O | C75: Těleso otopné pravé VK 11-600/600 mm | D75: kus | E75: 1 | F75: 0 | G75: =E75*F75 -> 0 | H75: 0 | I75: =E75*H75 -> 0 | K75: =E75*J75 -> 0 | O75: 2 | AA75: 3 | AB75: 7 | AC75: 48460262.O | AZ75: 2 | BA75: =IF(AZ75=1,G75,0) -> 0 | BB75: =IF(AZ75=2,G75,0) -> 0 | BC75: =IF(AZ75=3,G75,0) -> 0 | BD75: =IF(AZ75=4,G75,0) -> 0 | BE75: =IF(AZ75=5,G75,0) -> 0 | CA75: 3 | CB75: 7
A76: 59 | B76: 48460264.O | C76: Těleso otopné levé VK 11-600/600 mm | D76: kus | E76: 1 | F76: 0 | G76: =E76*F76 -> 0 | H76: 0 | I76: =E76*H76 -> 0 | K76: =E76*J76 -> 0 | O76: 2 | AA76: 3 | AB76: 7 | AC76: 48460264.O | AZ76: 2 | BA76: =IF(AZ76=1,G76,0) -> 0 | BB76: =IF(AZ76=2,G76,0) -> 0 | BC76: =IF(AZ76=3,G76,0) -> 0 | BD76: =IF(AZ76=4,G76,0) -> 0 | BE76: =IF(AZ76=5,G76,0) -> 0 | CA76: 3 | CB76: 7
A77: 60 | B77: 48460266.O | C77: Těleso otopné pravé VK 11-600/800 mm | D77: kus | E77: 2 | F77: 0 | G77: =E77*F77 -> 0 | H77: 0 | I77: =E77*H77 -> 0 | K77: =E77*J77 -> 0 | O77: 2 | AA77: 3 | AB77: 7 | AC77: 48460266.O | AZ77: 2 | BA77: =IF(AZ77=1,G77,0) -> 0 | BB77: =IF(AZ77=2,G77,0) -> 0 | BC77: =IF(AZ77=3,G77,0) -> 0 | BD77: =IF(AZ77=4,G77,0) -> 0 | BE77: =IF(AZ77=5,G77,0) -> 0 | CA77: 3 | CB77: 7
A78: 61 | B78: 48460605.O | C78: Těleso otopné pravé klasické 22-600/800 mm | D78: kus | E78: 3 | F78: 0 | G78: =E78*F78 -> 0 | H78: 0 | I78: =E78*H78 -> 0 | K78: =E78*J78 -> 0 | O78: 2 | AA78: 3 | AB78: 7 | AC78: 48460605.O | AZ78: 2 | BA78: =IF(AZ78=1,G78,0) -> 0 | BB78: =IF(AZ78=2,G78,0) -> 0 | BC78: =IF(AZ78=3,G78,0) -> 0 | BD78: =IF(AZ78=4,G78,0) -> 0 | BE78: =IF(AZ78=5,G78,0) -> 0 | CA78: 3 | CB78: 7
A79: 62 | B79: 48460606.O | C79: Těleso otopné levé klasické 22-600/800 mm | D79: kus | E79: 1 | F79: 0 | G79: =E79*F79 -> 0 | H79: 0 | I79: =E79*H79 -> 0 | K79: =E79*J79 -> 0 | O79: 2 | AA79: 3 | AB79: 7 | AC79: 48460606.O | AZ79: 2 | BA79: =IF(AZ79=1,G79,0) -> 0 | BB79: =IF(AZ79=2,G79,0) -> 0 | BC79: =IF(AZ79=3,G79,0) -> 0 | BD79: =IF(AZ79=4,G79,0) -> 0 | BE79: =IF(AZ79=5,G79,0) -> 0 | CA79: 3 | CB79: 7
A80: 63 | B80: 48460611.O | C80: Těleso otopné pravé klasické 22-600/1600 mm | D80: kus | E80: 1 | F80: 0 | G80: =E80*F80 -> 0 | H80: 0 | I80: =E80*H80 -> 0 | K80: =E80*J80 -> 0 | O80: 2 | AA80: 3 | AB80: 7 | AC80: 48460611.O | AZ80: 2 | BA80: =IF(AZ80=1,G80,0) -> 0 | BB80: =IF(AZ80=2,G80,0) -> 0 | BC80: =IF(AZ80=3,G80,0) -> 0 | BD80: =IF(AZ80=4,G80,0) -> 0 | BE80: =IF(AZ80=5,G80,0) -> 0 | CA80: 3 | CB80: 7
A81: 64 | B81: 48460612.O | C81: Těleso otopné levé klasické 22-600/1600 mm | D81: kus | E81: 1 | F81: 0 | G81: =E81*F81 -> 0 | H81: 0 | I81: =E81*H81 -> 0 | K81: =E81*J81 -> 0 | O81: 2 | AA81: 3 | AB81: 7 | AC81: 48460612.O | AZ81: 2 | BA81: =IF(AZ81=1,G81,0) -> 0 | BB81: =IF(AZ81=2,G81,0) -> 0 | BC81: =IF(AZ81=3,G81,0) -> 0 | BD81: =IF(AZ81=4,G81,0) -> 0 | BE81: =IF(AZ81=5,G81,0) -> 0 | CA81: 3 | CB81: 7
A82: 65 | B82: 48460744.O | C82: Těleso otopné pravé VK 22-600/1200mm | D82: kus | E82: 2 | F82: 0 | G82: =E82*F82 -> 0 | H82: 0 | I82: =E82*H82 -> 0 | K82: =E82*J82 -> 0 | O82: 2 | AA82: 3 | AB82: 7 | AC82: 48460744.O | AZ82: 2 | BA82: =IF(AZ82=1,G82,0) -> 0 | BB82: =IF(AZ82=2,G82,0) -> 0 | BC82: =IF(AZ82=3,G82,0) -> 0 | BD82: =IF(AZ82=4,G82,0) -> 0 | BE82: =IF(AZ82=5,G82,0) -> 0 | CA82: 3 | CB82: 7
A83: 66 | B83: 48460745.O | C83: Těleso otopné levé VK 22-600/1200mm | D83: kus | E83: 1 | F83: 0 | G83: =E83*F83 -> 0 | H83: 0 | I83: =E83*H83 -> 0 | K83: =E83*J83 -> 0 | O83: 2 | AA83: 3 | AB83: 7 | AC83: 48460745.O | AZ83: 2 | BA83: =IF(AZ83=1,G83,0) -> 0 | BB83: =IF(AZ83=2,G83,0) -> 0 | BC83: =IF(AZ83=3,G83,0) -> 0 | BD83: =IF(AZ83=4,G83,0) -> 0 | BE83: =IF(AZ83=5,G83,0) -> 0 | CA83: 3 | CB83: 7
A84: 67 | B84: 48460748.O | C84: Těleso otopné pravé VK 22-600/1400mm | D84: kus | E84: 3 | F84: 0 | G84: =E84*F84 -> 0 | H84: 0 | I84: =E84*H84 -> 0 | K84: =E84*J84 -> 0 | O84: 2 | AA84: 3 | AB84: 7 | AC84: 48460748.O | AZ84: 2 | BA84: =IF(AZ84=1,G84,0) -> 0 | BB84: =IF(AZ84=2,G84,0) -> 0 | BC84: =IF(AZ84=3,G84,0) -> 0 | BD84: =IF(AZ84=4,G84,0) -> 0 | BE84: =IF(AZ84=5,G84,0) -> 0 | CA84: 3 | CB84: 7
A85: 68 | B85: 48460750.O | C85: Těleso otopné pravé VK 22-600/1600mm | D85: kus | E85: 1 | F85: 0 | G85: =E85*F85 -> 0 | H85: 0 | I85: =E85*H85 -> 0 | K85: =E85*J85 -> 0 | O85: 2 | AA85: 3 | AB85: 7 | AC85: 48460750.O | AZ85: 2 | BA85: =IF(AZ85=1,G85,0) -> 0 | BB85: =IF(AZ85=2,G85,0) -> 0 | BC85: =IF(AZ85=3,G85,0) -> 0 | BD85: =IF(AZ85=4,G85,0) -> 0 | BE85: =IF(AZ85=5,G85,0) -> 0 | CA85: 3 | CB85: 7
A86: 69 | B86: 48460751.O | C86: Těleso otopné levé VK 22-600/1600mm | D86: kus | E86: 1 | F86: 0 | G86: =E86*F86 -> 0 | H86: 0 | I86: =E86*H86 -> 0 | K86: =E86*J86 -> 0 | O86: 2 | AA86: 3 | AB86: 7 | AC86: 48460751.O | AZ86: 2 | BA86: =IF(AZ86=1,G86,0) -> 0 | BB86: =IF(AZ86=2,G86,0) -> 0 | BC86: =IF(AZ86=3,G86,0) -> 0 | BD86: =IF(AZ86=4,G86,0) -> 0 | BE86: =IF(AZ86=5,G86,0) -> 0 | CA86: 3 | CB86: 7
A87: 70 | B87: 998735202R00 | C87: Přesun hmot pro otopná tělesa, výšky do 12 m | D87: % | E87: 1252.839 | F87: 0 | G87: =E87*F87 -> 0 | H87: 0 | I87: =E87*H87 -> 0 | J87: 0 | K87: =E87*J87 -> 0 | O87: 2 | AA87: 1 | AB87: 7 | AC87: 7 | AZ87: 2 | BA87: =IF(AZ87=1,G87,0) -> 0 | BB87: =IF(AZ87=2,G87,0) -> 0 | BC87: =IF(AZ87=3,G87,0) -> 0 | BD87: =IF(AZ87=4,G87,0) -> 0 | BE87: =IF(AZ87=5,G87,0) -> 0 | CA87: 1 | CB87: 7
B88: Celkem za | C88: 735 Otopná tělesa | G88: =SUM(G70:G87) -> 0 | I88: =SUM(I70:I87) -> 0 | K88: =SUM(K70:K87) -> 0 | O88: 4 | BA88: =SUM(BA70:BA87) -> 0 | BB88: =SUM(BB70:BB87) -> 0 | BC88: =SUM(BC70:BC87) -> 0 | BD88: =SUM(BD70:BD87) -> 0 | BE88: =SUM(BE70:BE87) -> 0
A89: Díl: | B89: 767 | C89: Konstrukce zámečnické | O89: 1
A90: 71 | B90: 767995103R00 | C90: Montáž kovových atypických konstrukcí do 20 kg | D90: kg | E90: 80 | F90: 0 | G90: =E90*F90 -> 0 | H90: 0 | I90: =E90*H90 -> 0 | J90: 0 | K90: =E90*J90 -> 0 | O90: 2 | AA90: 1 | AB90: 7 | AC90: 7 | AZ90: 2 | BA90: =IF(AZ90=1,G90,0) -> 0 | BB90: =IF(AZ90=2,G90,0) -> 0 | BC90: =IF(AZ90=3,G90,0) -> 0 | BD90: =IF(AZ90=4,G90,0) -> 0 | BE90: =IF(AZ90=5,G90,0) -> 0 | CA90: 1 | CB90: 7
A91: 72 | B91: 354000222 | C91: Doplňkový závěsný materiál | D91: kg | E91: 80 | F91: 0 | G91: =E91*F91 -> 0 | H91: 0 | I91: =E91*H91 -> 0 | J91: 0 | K91: =E91*J91 -> 0 | O91: 2 | AA91: 1 | AB91: 7 | AC91: 7 | AZ91: 2 | BA91: =IF(AZ91=1,G91,0) -> 0 | BB91: =IF(AZ91=2,G91,0) -> 0 | BC91: =IF(AZ91=3,G91,0) -> 0 | BD91: =IF(AZ91=4,G91,0) -> 0 | BE91: =IF(AZ91=5,G91,0) -> 0 | CA91: 1 | CB91: 7
A92: 73 | B92: 998767202R00 | C92: Přesun hmot pro zámečnické konstr., výšky do 12 m | D92: % | E92: 118.4 | F92: 0 | G92: =E92*F92 -> 0 | H92: 0 | I92: =E92*H92 -> 0 | J92: 0 | K92: =E92*J92 -> 0 | O92: 2 | AA92: 1 | AB92: 7 | AC92: 7 | AZ92: 2 | BA92: =IF(AZ92=1,G92,0) -> 0 | BB92: =IF(AZ92=2,G92,0) -> 0 | BC92: =IF(AZ92=3,G92,0) -> 0 | BD92: =IF(AZ92=4,G92,0) -> 0 | BE92: =IF(AZ92=5,G92,0) -> 0 | CA92: 1 | CB92: 7
B93: Celkem za | C93: 767 Konstrukce zámečnické | G93: =SUM(G89:G92) -> 0 | I93: =SUM(I89:I92) -> 0 | K93: =SUM(K89:K92) -> 0 | O93: 4 | BA93: =SUM(BA89:BA92) -> 0 | BB93: =SUM(BB89:BB92) -> 0 | BC93: =SUM(BC89:BC92) -> 0 | BD93: =SUM(BD89:BD92) -> 0 | BE93: =SUM(BE89:BE92) -> 0
A94: Díl: | B94: M21 | C94: Elektromontáže | O94: 1
A95: 74 | B95: M21 | C95: Elektropráce, MaR, spuštění kotelny jiné související | D95: komple | E95: 1 | F95: 0 | G95: =E95*F95 -> 0 | H95: 0 | I95: =E95*H95 -> 0 | K95: =E95*J95 -> 0 | O95: 2 | AA95: 12 | AB95: 0 | AC95: 74 | AZ95: 4 | BA95: =IF(AZ95=1,G95,0) -> 0 | BB95: =IF(AZ95=2,G95,0) -> 0 | BC95: =IF(AZ95=3,G95,0) -> 0 | BD95: =IF(AZ95=4,G95,0) -> 0 | BE95: =IF(AZ95=5,G95,0) -> 0 | CA95: 12 | CB95: 0
B96: Celkem za | C96: M21 Elektromontáže | G96: =SUM(G94:G95) -> 0 | I96: =SUM(I94:I95) -> 0 | K96: =SUM(K94:K95) -> 0 | O96: 4 | BA96: =SUM(BA94:BA95) -> 0 | BB96: =SUM(BB94:BB95) -> 0 | BC96: =SUM(BC94:BC95) -> 0 | BD96: =SUM(BD94:BD95) -> 0 | BE96: =SUM(BE94:BE95) -> 0
A97: Díl: | B97: M23 | C97: Montáže potrubí | O97: 1
A98: 75 | B98: PC | C98: Zkouška těsnosti otopné soustavy | D98: kpl | E98: 1 | F98: 0 | G98: =E98*F98 -> 0 | H98: 0 | I98: =E98*H98 -> 0 | K98: =E98*J98 -> 0 | O98: 2 | AA98: 12 | AB98: 0 | AC98: 75 | AZ98: 4 | BA98: =IF(AZ98=1,G98,0) -> 0 | BB98: =IF(AZ98=2,G98,0) -> 0 | BC98: =IF(AZ98=3,G98,0) -> 0 | BD98: =IF(AZ98=4,G98,0) -> 0 | BE98: =IF(AZ98=5,G98,0) -> 0 | CA98: 12 | CB98: 0
A99: 76 | B99: PC | C99: Napuštění, proplach a ovzdušnění otopné soustavy | D99: kpl | E99: 1 | F99: 0 | G99: =E99*F99 -> 0 | H99: 0 | I99: =E99*H99 -> 0 | K99: =E99*J99 -> 0 | O99: 2 | AA99: 12 | AB99: 0 | AC99: 76 | AZ99: 4 | BA99: =IF(AZ99=1,G99,0) -> 0 | BB99: =IF(AZ99=2,G99,0) -> 0 | BC99: =IF(AZ99=3,G99,0) -> 0 | BD99: =IF(AZ99=4,G99,0) -> 0 | BE99: =IF(AZ99=5,G99,0) -> 0 | CA99: 12 | CB99: 0
A100: 77 | B100: 904 R02 | C100: Hzs-zkousky v ramci montaz.praci Topná zkouška | D100: h | E100: 72 | F100: 0 | G100: =E100*F100 -> 0 | H100: 0 | I100: =E100*H100 -> 0 | K100: =E100*J100 -> 0 | O100: 2 | AA100: 10 | AB100: 0 | AC100: 8 | AZ100: 5 | BA100: =IF(AZ100=1,G100,0) -> 0 | BB100: =IF(AZ100=2,G100,0) -> 0 | BC100: =IF(AZ100=3,G100,0) -> 0 | BD100: =IF(AZ100=4,G100,0) -> 0 | BE100: =IF(AZ100=5,G100,0) -> 0 | CA100: 10 | CB100: 0
A101: 78 | B101: 905 R01 | C101: Hzs-revize provoz.souboru a st.obj. Revize | D101: h | E101: 40 | F101: 0 | G101: =E101*F101 -> 0 | H101: 0 | I101: =E101*H101 -> 0 | K101: =E101*J101 -> 0 | O101: 2 | AA101: 10 | AB101: 0 | AC101: 8 | AZ101: 5 | BA101: =IF(AZ101=1,G101,0) -> 0 | BB101: =IF(AZ101=2,G101,0) -> 0 | BC101: =IF(AZ101=3,G101,0) -> 0 | BD101: =IF(AZ101=4,G101,0) -> 0 | BE101: =IF(AZ101=5,G101,0) -> 0 | CA101: 10 | CB101: 0
A102: 79 | B102: 910 R00 | C102: Hzs - predbezne obhlidky a revize | D102: h | E102: 20 | F102: 0 | G102: =E102*F102 -> 0 | H102: 0 | I102: =E102*H102 -> 0 | K102: =E102*J102 -> 0 | O102: 2 | AA102: 10 | AB102: 0 | AC102: 8 | AZ102: 5 | BA102: =IF(AZ102=1,G102,0) -> 0 | BB102: =IF(AZ102=2,G102,0) -> 0 | BC102: =IF(AZ102=3,G102,0) -> 0 | BD102: =IF(AZ102=4,G102,0) -> 0 | BE102: =IF(AZ102=5,G102,0) -> 0 | CA102: 10 | CB102: 0
...

Sheet 1 5 KL
A1: SLEPÝ ROZPOČET
A2: Rozpočet | C2: 5 | D2: elektroinstalace | F2: JKSO
A4: Objekt | F4: SKP
A5: 1 | C5: RD se sociálními byty Študlov | F5: Měrná jednotka
A6: Stavba | F6: Počet jednotek
A7: 2020/12 | C7: RD se sociálními byty Študlov | F7: Náklady na m.j. | G7: =IF(G6=0,,ROUND((F30+F32)/G6,1)) -> 0
A8: Projektant | F8: Typ rozpočtu
A9: Zpracovatel projektu
A10: Objednatel
A11: Dodavatel | F11: Zakázkové číslo
A12: Rozpočtoval | F12: Počet listů
A13: ROZPOČTOVÉ NÁKLADY
A14: Základní rozpočtové náklady | D14: Ostatní rozpočtové náklady
B15: HSV celkem | C15: ='1 5 Rek'!E50 -> 0 | D15: ='1 5 Rek'!A58 -> 0 | G15: ='1 5 Rek'!I58 -> 0
A16: Z | B16: PSV celkem | C16: ='1 5 Rek'!F50 -> 0
A17: R | B17: M práce celkem | C17: ='1 5 Rek'!H50 -> 0
A18: N | B18: M dodávky celkem | C18: ='1 5 Rek'!G50 -> 0
A19: ZRN celkem | C19: =SUM(C15:C18) -> 0
A21: HZS | C21: ='1 5 Rek'!I50 -> 0
A22: ZRN+HZS | C22: =C19+C21 -> 0 | D22: Ostatní náklady neuvedené | G22: =G23-SUM(G15:G21) -> 0
A23: ZRN+ost.náklady+HZS | C23: =C22+G23 -> 0 | D23: Ostatní náklady celkem | G23: ='1 5 Rek'!H56 -> 0
A24: Vypracoval | D24: Za zhotovitele | F24: Za objednatele
A25: Jméno : | D25: Jméno : | F25: Jméno :
A26: Datum : | D26: Datum : | F26: Datum :
A28: Podpis : | D28: Podpis: | F28: Podpis:
A30: Základ pro DPH | C30: 15 | D30: % | F30: =ROUND(C23-F32,0) -> 0
A31: DPH | C31: =C30 -> 15 | D31: % | F31: =ROUND(PRODUCT(F30,C31/100),1) -> 0
A32: Základ pro DPH | C32: 0 | D32: % | F32: 0
A33: DPH | C33: =C32 -> 0 | D33: % | F33: =ROUND(PRODUCT(F32,C33/100),1) -> 0
A34: CENA ZA OBJEKT CELKEM | F34: =CEILING(SUM(F30:F33),IF(SUM(F30:F33)>=0,1,-1)) -> 0
A36: Poznámka :

Sheet 1 5 Rek
A1: Stavba : | C1: 2020/12 RD se sociálními byty Študlov | G1: Rozpočet : | H1: 5
A2: Objekt : | C2: 1 RD se sociálními byty Študlov | G2: elektroinstalace
A4: REKAPITULACE STAVEBNÍCH DÍLŮ
B6: Stavební díl | E6: HSV | F6: PSV | G6: Dodávka | H6: Montáž | I6: HZS
A7: ='1 5 Pol'!B7 -> 112 | B7: ='1 5 Pol'!C7 -> Dodávky - Rozvaděče | E7: ='1 5 Pol'!BA14 -> 0 | F7: ='1 5 Pol'!BB14 -> 0 | G7: ='1 5 Pol'!BC14 -> 0 | H7: ='1 5 Pol'!BD14 -> 0 | I7: ='1 5 Pol'!BE14 -> 0
A8: ='1 5 Pol'!B15 -> 113 | B8: ='1 5 Pol'!C15 -> Nosný systém, trubkování | E8: ='1 5 Pol'!BA21 -> 0 | F8: ='1 5 Pol'!BB21 -> 0 | G8: ='1 5 Pol'!BC21 -> 0 | H8: ='1 5 Pol'!BD21 -> 0 | I8: ='1 5 Pol'!BE21 -> 0
A9: ='1 5 Pol'!B22 -> 12 | B9: ='1 5 Pol'!C22 -> SVORKOVNICE KRABICOVÁ | E9: ='1 5 Pol'!BA33 -> 0 | F9: ='1 5 Pol'!BB33 -> 0 | G9: ='1 5 Pol'!BC33 -> 0 | H9: ='1 5 Pol'!BD33 -> 0 | I9: ='1 5 Pol'!BE33 -> 0
A10: ='1 5 Pol'!B34 -> 23 | B10: ='1 5 Pol'!C34 -> KABEL SILOVÝ,IZOLACE PVC | E10: ='1 5 Pol'!BA36 -> 0 | F10: ='1 5 Pol'!BB36 -> 0 | G10: ='1 5 Pol'!BC36 -> 0 | H10: ='1 5 Pol'!BD36 -> 0 | I10: ='1 5 Pol'!BE36 -> 0
A11: ='1 5 Pol'!B37 -> 25 | B11: ='1 5 Pol'!C37 -> KABEL SILOVÝ,IZOLACE PVC | E11: ='1 5 Pol'!BA44 -> 0 | F11: ='1 5 Pol'!BB44 -> 0 | G11: ='1 5 Pol'!BC44 -> 0 | H11: ='1 5 Pol'!BD44 -> 0 | I11: ='1 5 Pol'!BE44 -> 0
A12: ='1 5 Pol'!B45 -> 32 | B12: ='1 5 Pol'!C45 -> VODIČ JEDNOŽILOVÝ (CY) | E12: ='1 5 Pol'!BA52 -> 0 | F12: ='1 5 Pol'!BB52 -> 0 | G12: ='1 5 Pol'!BC52 -> 0 | H12: ='1 5 Pol'!BD52 -> 0 | I12: ='1 5 Pol'!BE52 -> 0
A13: ='1 5 Pol'!B53 -> 115 | B13: ='1 5 Pol'!C53 -> Spínače a zásuvky - standart ABB Tango | E13: ='1 5 Pol'!BA57 -> 0 | F13: ='1 5 Pol'!BB57 -> 0 | G13: ='1 5 Pol'!BC57 -> 0 | H13: ='1 5 Pol'!BD57 -> 0 | I13: ='1 5 Pol'!BE57 -> 0
A14: ='1 5 Pol'!B58 -> 42 | B14: ='1 5 Pol'!C58 -> PŘÍSTROJ OVLÁDAČE (s bezšroubovými svorkami), pro | E14: ='1 5 Pol'!BA60 -> 0 | F14: ='1 5 Pol'!BB60 -> 0 | G14: ='1 5 Pol'!BC60 -> 0 | H14: ='1 5 Pol'!BD60 -> 0 | I14: ='1 5 Pol'!BE60 -> 0
A15: ='1 5 Pol'!B61 -> 44 | B15: ='1 5 Pol'!C61 -> PŘÍSTROJ SPÍNAČE TROJPÓLOVÉHO (se šroubovými svork | E15: ='1 5 Pol'!BA63 -> 0 | F15: ='1 5 Pol'!BB63 -> 0 | G15: ='1 5 Pol'!BC63 -> 0 | H15: ='1 5 Pol'!BD63 -> 0 | I15: ='1 5 Pol'!BE63 -> 0
A16: ='1 5 Pol'!B64 -> 46 | B16: ='1 5 Pol'!C64 -> KRYT SPÍNAČE, TANGO | E16: ='1 5 Pol'!BA68 -> 0 | F16: ='1 5 Pol'!BB68 -> 0 | G16: ='1 5 Pol'!BC68 -> 0 | H16: ='1 5 Pol'!BD68 -> 0 | I16: ='1 5 Pol'!BE68 -> 0
A17: ='1 5 Pol'!B69 -> 50 | B17: ='1 5 Pol'!C69 -> SPÍNAČ, PŘEPÍNAČ KOMPLETNÍ, TANGO IP 44 | E17: ='1 5 Pol'!BA72 -> 0 | F17: ='1 5 Pol'!BB72 -> 0 | G17: ='1 5 Pol'!BC72 -> 0 | H17: ='1 5 Pol'!BD72 -> 0 | I17: ='1 5 Pol'!BE72 -> 0
A18: ='1 5 Pol'!B73 -> 53 | B18: ='1 5 Pol'!C73 -> POHYBOVÝ SPÍNAČ AUTOMATICKÝ, KOMPLETNÍ, BÍLÝ, IP4 | E18: ='1 5 Pol'!BA76 -> 0 | F18: ='1 5 Pol'!BB76 -> 0 | G18: ='1 5 Pol'!BC76 -> 0 | H18: ='1 5 Pol'!BD76 -> 0 | I18: ='1 5 Pol'!BE76 -> 0
A19: ='1 5 Pol'!B77 -> 56 | B19: ='1 5 Pol'!C77 -> ZÁSUVKA NN, TANGO | E19: ='1 5 Pol'!BA80 -> 0 | F19: ='1 5 Pol'!BB80 -> 0 | G19: ='1 5 Pol'!BC80 -> 0 | H19: ='1 5 Pol'!BD80 -> 0 | I19: ='1 5 Pol'!BE80 -> 0
A20: ='1 5 Pol'!B81 -> 59 | B20: ='1 5 Pol'!C81 -> ZÁSUVKA NN, S OCHRANOU PŘED PŘEPĚTÍM, TANGO | E20: ='1 5 Pol'!BA83 -> 0 | F20: ='1 5 Pol'!BB83 -> 0 | G20: ='1 5 Pol'!BC83 -> 0 | H20: ='1 5 Pol'!BD83 -> 0 | I20: ='1 5 Pol'!BE83 -> 0
A21: ='1 5 Pol'!B84 -> 61 | B21: ='1 5 Pol'!C84 -> ZÁSUVKA NN KOMPLETNÍ, TANGO IP 44 | E21: ='1 5 Pol'!BA86 -> 0 | F21: ='1 5 Pol'!BB86 -> 0 | G21: ='1 5 Pol'!BC86 -> 0 | H21: ='1 5 Pol'!BD86 -> 0 | I21: ='1 5 Pol'!BE86 -> 0
A22: ='1 5 Pol'!B87 -> 63 | B22: ='1 5 Pol'!C87 -> RÁMEČEK, TANGO | E22: ='1 5 Pol'!BA93 -> 0 | F22: ='1 5 Pol'!BB93 -> 0 | G22: ='1 5 Pol'!BC93 -> 0 | H22: ='1 5 Pol'!BD93 -> 0 | I22: ='1 5 Pol'!BE93 -> 0
A23: ='1 5 Pol'!B94 -> 116 | B23: ='1 5 Pol'!C94 -> Svítidla komplet vč. zdrojů, závěsů, upevnění ... | E23: ='1 5 Pol'!BA99 -> 0 | F23: ='1 5 Pol'!BB99 -> 0 | G23: ='1 5 Pol'!BC99 -> 0 | H23: ='1 5 Pol'!BD99 -> 0 | I23: ='1 5 Pol'!BE99 -> 0
A24: ='1 5 Pol'!B100 -> 74 | B24: ='1 5 Pol'!C100 -> OCELOVÝ DRÁT POZINKOVANÝ | E24: ='1 5 Pol'!BA102 -> 0 | F24: ='1 5 Pol'!BB102 -> 0 | G24: ='1 5 Pol'!BC102 -> 0 | H24: ='1 5 Pol'!BD102 -> 0 | I24: ='1 5 Pol'!BE102 -> 0
A25: ='1 5 Pol'!B103 -> 76 | B25: ='1 5 Pol'!C103 -> ZEMNIČE | E25: ='1 5 Pol'!BA105 -> 0 | F25: ='1 5 Pol'!BB105 -> 0 | G25: ='1 5 Pol'!BC105 -> 0 | H25: ='1 5 Pol'!BD105 -> 0 | I25: ='1 5 Pol'!BE105 -> 0
A26: ='1 5 Pol'!B106 -> 79 | B26: ='1 5 Pol'!C106 -> DRÁT | E26: ='1 5 Pol'!BA108 -> 0 | F26: ='1 5 Pol'!BB108 -> 0 | G26: ='1 5 Pol'!BC108 -> 0 | H26: ='1 5 Pol'!BD108 -> 0 | I26: ='1 5 Pol'!BE108 -> 0
A27: ='1 5 Pol'!B109 -> 81 | B27: ='1 5 Pol'!C109 -> JÍMACÍ TYČ A OCHRANNÁ TRUBKA | E27: ='1 5 Pol'!BA111 -> 0 | F27: ='1 5 Pol'!BB111 -> 0 | G27: ='1 5 Pol'!BC111 -> 0 | H27: ='1 5 Pol'!BD111 -> 0 | I27: ='1 5 Pol'!BE111 -> 0
A28: ='1 5 Pol'!B112 -> 83 | B28: ='1 5 Pol'!C112 -> ODDÁLENÝ HROMOSVOD | E28: ='1 5 Pol'!BA115 -> 0 | F28: ='1 5 Pol'!BB115 -> 0 | G28: ='1 5 Pol'!BC115 -> 0 | H28: ='1 5 Pol'!BD115 -> 0 | I28: ='1 5 Pol'!BE115 -> 0
A29: ='1 5 Pol'!B116 -> 86 | B29: ='1 5 Pol'!C116 -> OCHRANNÝ ÚHELNÍK A DRŽÁKY | E29: ='1 5 Pol'!BA119 -> 0 | F29: ='1 5 Pol'!BB119 -> 0 | G29: ='1 5 Pol'!BC119 -> 0 | H29: ='1 5 Pol'!BD119 -> 0 | I29: ='1 5 Pol'!BE119 -> 0
A30: ='1 5 Pol'!B120 -> 89 | B30: ='1 5 Pol'!C120 -> SVORKA HROMOSVODNÍ,UZEMŇOVACÍ | E30: ='1 5 Pol'!BA127 -> 0 | F30: ='1 5 Pol'!BB127 -> 0 | G30: ='1 5 Pol'!BC127 -> 0 | H30: ='1 5 Pol'!BD127 -> 0 | I30: ='1 5 Pol'!BE127 -> 0
A31: ='1 5 Pol'!B128 -> 96 | B31: ='1 5 Pol'!C128 -> PODPĚRA VEDENÍ | E31: ='1 5 Pol'!BA130 -> 0 | F31: ='1 5 Pol'!BB130 -> 0 | G31: ='1 5 Pol'!BC130 -> 0 | H31: ='1 5 Pol'!BD130 -> 0 | I31: ='1 5 Pol'!BE130 -> 0
A32: ='1 5 Pol'!B131 -> 98 | B32: ='1 5 Pol'!C131 -> ZEMNIČE | E32: ='1 5 Pol'!BA133 -> 0 | F32: ='1 5 Pol'!BB133 -> 0 | G32: ='1 5 Pol'!BC133 -> 0 | H32: ='1 5 Pol'!BD133 -> 0 | I32: ='1 5 Pol'!BE133 -> 0
A33: ='1 5 Pol'!B134 -> 100 | B33: ='1 5 Pol'!C134 -> MONTÁŽNÍ PRÁCE | E33: ='1 5 Pol'!BA136 -> 0 | F33: ='1 5 Pol'!BB136 -> 0 | G33: ='1 5 Pol'!BC136 -> 0 | H33: ='1 5 Pol'!BD136 -> 0 | I33: ='1 5 Pol'!BE136 -> 0
A34: ='1 5 Pol'!B137 -> 102 | B34: ='1 5 Pol'!C137 -> PRŮRAZ CIHLOVÝM ZDIVEM | E34: ='1 5 Pol'!BA140 -> 0 | F34: ='1 5 Pol'!BB140 -> 0 | G34: ='1 5 Pol'!BC140 -> 0 | H34: ='1 5 Pol'!BD140 -> 0 | I34: ='1 5 Pol'!BE140 -> 0
A35: ='1 5 Pol'!B141 -> 105 | B35: ='1 5 Pol'!C141 -> PRŮRAZ BETONOVOU ZDÍ | E35: ='1 5 Pol'!BA143 -> 0 | F35: ='1 5 Pol'!BB143 -> 0 | G35: ='1 5 Pol'!BC143 -> 0 | H35: ='1 5 Pol'!BD143 -> 0 | I35: ='1 5 Pol'!BE143 -> 0
A36: ='1 5 Pol'!B144 -> 108 | B36: ='1 5 Pol'!C144 -> CIHELNEM DO PLOCHY 25 dm2 | E36: ='1 5 Pol'!BA146 -> 0 | F36: ='1 5 Pol'!BB146 -> 0 | G36: ='1 5 Pol'!BC146 -> 0 | H36: ='1 5 Pol'!BD146 -> 0 | I36: ='1 5 Pol'!BE146 -> 0
A37: ='1 5 Pol'!B147 -> 111 | B37: ='1 5 Pol'!C147 -> CIHELNEM PRO KRABICE | E37: ='1 5 Pol'!BA150 -> 0 | F37: ='1 5 Pol'!BB150 -> 0 | G37: ='1 5 Pol'!BC150 -> 0 | H37: ='1 5 Pol'!BD150 -> 0 | I37: ='1 5 Pol'!BE150 -> 0
A38: ='1 5 Pol'!B151 -> 115 | B38: ='1 5 Pol'!C151 -> Spínače a zásuvky - standart ABB Tango | E38: ='1 5 Pol'!BA153 -> 0 | F38: ='1 5 Pol'!BB153 -> 0 | G38: ='1 5 Pol'!BC153 -> 0 | H38: ='1 5 Pol'!BD153 -> 0 | I38: ='1 5 Pol'!BE153 -> 0
A39: ='1 5 Pol'!B154 -> 118 | B39: ='1 5 Pol'!C154 -> CIHELNEM - HLOUBKA 50mm | E39: ='1 5 Pol'!BA157 -> 0 | F39: ='1 5 Pol'!BB157 -> 0 | G39: ='1 5 Pol'!BC157 -> 0 | H39: ='1 5 Pol'!BD157 -> 0 | I39: ='1 5 Pol'!BE157 -> 0
A40: ='1 5 Pol'!B158 -> 122 | B40: ='1 5 Pol'!C158 -> Z TVARNIC - HLOUBKA 30mm | E40: ='1 5 Pol'!BA160 -> 0 | F40: ='1 5 Pol'!BB160 -> 0 | G40: ='1 5 Pol'!BC160 -> 0 | H40: ='1 5 Pol'!BD160 -> 0 | I40: ='1 5 Pol'!BE160 -> 0
A41: ='1 5 Pol'!B161 -> 124 | B41: ='1 5 Pol'!C161 -> HODINOVE ZUCTOVACI SAZBY | E41: ='1 5 Pol'!BA169 -> 0 | F41: ='1 5 Pol'!BB169 -> 0 | G41: ='1 5 Pol'!BC169 -> 0 | H41: ='1 5 Pol'!BD169 -> 0 | I41: ='1 5 Pol'!BE169 -> 0
A42: ='1 5 Pol'!B170 -> 132 | B42: ='1 5 Pol'!C170 -> SPOLUPRACE S DODAVATELEM PRI | E42: ='1 5 Pol'!BA172 -> 0 | F42: ='1 5 Pol'!BB172 -> 0 | G42: ='1 5 Pol'!BC172 -> 0 | H42: ='1 5 Pol'!BD172 -> 0 | I42: ='1 5 Pol'!BE172 -> 0
A43: ='1 5 Pol'!B173 -> 134 | B43: ='1 5 Pol'!C173 -> KOORDINACE POSTUPU PRACI | E43: ='1 5 Pol'!BA175 -> 0 | F43: ='1 5 Pol'!BB175 -> 0 | G43: ='1 5 Pol'!BC175 -> 0 | H43: ='1 5 Pol'!BD175 -> 0 | I43: ='1 5 Pol'!BE175 -> 0
A44: ='1 5 Pol'!B176 -> 137 | B44: ='1 5 Pol'!C176 -> DLE CSN 331500 | E44: ='1 5 Pol'!BA179 -> 0 | F44: ='1 5 Pol'!BB179 -> 0 | G44: ='1 5 Pol'!BC179 -> 0 | H44: ='1 5 Pol'!BD179 -> 0 | I44: ='1 5 Pol'!BE179 -> 0
A45: ='1 5 Pol'!B180 -> 140 | B45: ='1 5 Pol'!C180 -> VYTÝČENÍ TRATI | E45: ='1 5 Pol'!BA182 -> 0 | F45: ='1 5 Pol'!BB182 -> 0 | G45: ='1 5 Pol'!BC182 -> 0 | H45: ='1 5 Pol'!BD182 -> 0 | I45: ='1 5 Pol'!BE182 -> 0
A46: ='1 5 Pol'!B183 -> 142 | B46: ='1 5 Pol'!C183 -> HLOUBENÍ KABELOVÉ RÝHY | E46: ='1 5 Pol'!BA185 -> 0 | F46: ='1 5 Pol'!BB185 -> 0 | G46: ='1 5 Pol'!BC185 -> 0 | H46: ='1 5 Pol'!BD185 -> 0 | I46: ='1 5 Pol'!BE185 -> 0
A47: ='1 5 Pol'!B186 -> 144 | B47: ='1 5 Pol'!C186 -> ZÁHOZ KABELOVÉ RÝHY | E47: ='1 5 Pol'!BA188 -> 0 | F47: ='1 5 Pol'!BB188 -> 0 | G47: ='1 5 Pol'!BC188 -> 0 | H47: ='1 5 Pol'!BD188 -> 0 | I47: ='1 5 Pol'!BE188 -> 0
A48: ='1 5 Pol'!B189 -> 146 | B48: ='1 5 Pol'!C189 -> ZŘÍZENÍ KABELOVÉHO LOŽE | E48: ='1 5 Pol'!BA191 -> 0 | F48: ='1 5 Pol'!BB191 -> 0 | G48: ='1 5 Pol'!BC191 -> 0 | H48: ='1 5 Pol'!BD191 -> 0 | I48: ='1 5 Pol'!BE191 -> 0
A49: ='1 5 Pol'!B192 -> 148 | B49: ='1 5 Pol'!C192 -> ÚPRAVA POVRCHU | E49: ='1 5 Pol'!BA197 -> 0 | F49: ='1 5 Pol'!BB197 -> 0 | G49: ='1 5 Pol'!BC197 -> 0 | H49: ='1 5 Pol'!BD197 -> 0 | I49: ='1 5 Pol'!BE197 -> 0
B50: CELKEM OBJEKT | E50: =SUM(E7:E49) -> 0 | F50: =SUM(F7:F49) -> 0 | G50: =SUM(G7:G49) -> 0 | H50: =SUM(H7:H49) -> 0 | I50: =SUM(I7:I49) -> 0
A52: VEDLEJŠÍ ROZPOČTOVÉ NÁKLADY
A54: Název VRN | E54: Kč | F54: % | G54: Základna | I54: Kč
G55: =CHOOSE(BA55+1,E50+F50,E50+F50+H50,E50+F50+G50+H50,E50,F50,H50,G50,H50+G50,0) -> 0 | I55: =E55+F55*G55/100 -> 0 | BA55: 8
B56: CELKEM VRN | H56: =SUM(I55:I55) -> 0

Sheet 1 5 Pol
A1: Slepý rozpočet
A3: Stavba : | C3: 2020/12 RD se sociálními byty Študlov | E3: Rozpočet: | F3: ='1 5 Rek'!H1 -> 5
A4: Objekt : | C4: 1 RD se sociálními byty Študlov | E4: ='1 5 Rek'!G2 -> elektroinstalace
A6: P.č. | B6: Číslo položky | C6: Název položky | D6: MJ | E6: množství | F6: cena / MJ | G6: celkem (Kč) | H6: Jednotková hmotnost | I6: Celková hmotnost | J6: Jednotková dem.hmot. | K6: Celková dem.hmot.
A7: Díl: | B7: 112 | C7: Dodávky - Rozvaděče | O7: 1
A8: 1 | B8: 1 | C8: RE-1 úprava. přezbrojení | D8: ks | E8: 1 | F8: 0 | G8: =E8*F8 -> 0 | H8: 0 | I8: =E8*H8 -> 0 | K8: =E8*J8 -> 0 | O8: 2 | AA8: 12 | AB8: 0 | AC8: 1 | AZ8: 1 | BA8: =IF(AZ8=1,G8,0) -> 0 | BB8: =IF(AZ8=2,G8,0) -> 0 | BC8: =IF(AZ8=3,G8,0) -> 0 | BD8: =IF(AZ8=4,G8,0) -> 0 | BE8: =IF(AZ8=5,G8,0) -> 0 | CA8: 12 | CB8: 0
A9: 2 | B9: 2 | C9: RH | D9: ks | E9: 1 | F9: 0 | G9: =E9*F9 -> 0 | H9: 0 | I9: =E9*H9 -> 0 | K9: =E9*J9 -> 0 | O9: 2 | AA9: 12 | AB9: 0 | AC9: 2 | AZ9: 1 | BA9: =IF(AZ9=1,G9,0) -> 0 | BB9: =IF(AZ9=2,G9,0) -> 0 | BC9: =IF(AZ9=3,G9,0) -> 0 | BD9: =IF(AZ9=4,G9,0) -> 0 | BE9: =IF(AZ9=5,G9,0) -> 0 | CA9: 12 | CB9: 0
A10: 3 | B10: 3 | C10: RB 1 | D10: ks | E10: 1 | F10: 0 | G10: =E10*F10 -> 0 | H10: 0 | I10: =E10*H10 -> 0 | K10: =E10*J10 -> 0 | O10: 2 | AA10: 12 | AB10: 0 | AC10: 3 | AZ10: 1 | BA10: =IF(AZ10=1,G10,0) -> 0 | BB10: =IF(AZ10=2,G10,0) -> 0 | BC10: =IF(AZ10=3,G10,0) -> 0 | BD10: =IF(AZ10=4,G10,0) -> 0 | BE10: =IF(AZ10=5,G10,0) -> 0 | CA10: 12 | CB10: 0
A11: 4 | B11: 4 | C11: RB 2 | D11: ks | E11: 1 | F11: 0 | G11: =E11*F11 -> 0 | H11: 0 | I11: =E11*H11 -> 0 | K11: =E11*J11 -> 0 | O11: 2 | AA11: 12 | AB11: 0 | AC11: 4 | AZ11: 1 | BA11: =IF(AZ11=1,G11,0) -> 0 | BB11: =IF(AZ11=2,G11,0) -> 0 | BC11: =IF(AZ11=3,G11,0) -> 0 | BD11: =IF(AZ11=4,G11,0) -> 0 | BE11: =IF(AZ11=5,G11,0) -> 0 | CA11: 12 | CB11: 0
A12: 5 | B12: 5 | C12: RB 3 | D12: ks | E12: 1 | F12: 0 | G12: =E12*F12 -> 0 | H12: 0 | I12: =E12*H12 -> 0 | K12: =E12*J12 -> 0 | O12: 2 | AA12: 12 | AB12: 0 | AC12: 5 | AZ12: 1 | BA12: =IF(AZ12=1,G12,0) -> 0 | BB12: =IF(AZ12=2,G12,0) -> 0 | BC12: =IF(AZ12=3,G12,0) -> 0 | BD12: =IF(AZ12=4,G12,0) -> 0 | BE12: =IF(AZ12=5,G12,0) -> 0 | CA12: 12 | CB12: 0
A13: 6 | B13: 6 | C13: skříň přípojková SP100/NVP1P | D13: ks | E13: 1 | F13: 0 | G13: =E13*F13 -> 0 | H13: 0 | I13: =E13*H13 -> 0 | K13: =E13*J13 -> 0 | O13: 2 | AA13: 12 | AB13: 0 | AC13: 6 | AZ13: 1 | BA13: =IF(AZ13=1,G13,0) -> 0 | BB13: =IF(AZ13=2,G13,0) -> 0 | BC13: =IF(AZ13=3,G13,0) -> 0 | BD13: =IF(AZ13=4,G13,0) -> 0 | BE13: =IF(AZ13=5,G13,0) -> 0 | CA13: 12 | CB13: 0
B14: Celkem za | C14: 112 Dodávky - Rozvaděče | G14: =SUM(G7:G13) -> 0 | I14: =SUM(I7:I13) -> 0 | K14: =SUM(K7:K13) -> 0 | O14: 4 | BA14: =SUM(BA7:BA13) -> 0 | BB14: =SUM(BB7:BB13) -> 0 | BC14: =SUM(BC7:BC13) -> 0 | BD14: =SUM(BD7:BD13) -> 0 | BE14: =SUM(BE7:BE13) -> 0
A15: Díl: | B15: 113 | C15: Nosný systém, trubkování | O15: 1
A16: 7 | B16: 7 | C16: KU 68-1901 KRABICE UNIVERZÁLNÍ | D16: ks | E16: 155 | F16: 0 | G16: =E16*F16 -> 0 | H16: 0 | I16: =E16*H16 -> 0 | K16: =E16*J16 -> 0 | O16: 2 | AA16: 12 | AB16: 0 | AC16: 7 | AZ16: 1 | BA16: =IF(AZ16=1,G16,0) -> 0 | BB16: =IF(AZ16=2,G16,0) -> 0 | BC16: =IF(AZ16=3,G16,0) -> 0 | BD16: =IF(AZ16=4,G16,0) -> 0 | BE16: =IF(AZ16=5,G16,0) -> 0 | CA16: 12 | CB16: 0
A17: 8 | B17: 8 | C17: KU 68-1902 KRABICE ODBOČNÁ | D17: ks | E17: 58 | F17: 0 | G17: =E17*F17 -> 0 | H17: 0 | I17: =E17*H17 -> 0 | K17: =E17*J17 -> 0 | O17: 2 | AA17: 12 | AB17: 0 | AC17: 8 | AZ17: 1 | BA17: =IF(AZ17=1,G17,0) -> 0 | BB17: =IF(AZ17=2,G17,0) -> 0 | BC17: =IF(AZ17=3,G17,0) -> 0 | BD17: =IF(AZ17=4,G17,0) -> 0 | BE17: =IF(AZ17=5,G17,0) -> 0 | CA17: 12 | CB17: 0
A18: 9 | B18: 9 | C18: KO 125 E KRABICE ODBOČNÁ | D18: ks | E18: 10 | F18: 0 | G18: =E18*F18 -> 0 | H18: 0 | I18: =E18*H18 -> 0 | K18: =E18*J18 -> 0 | O18: 2 | AA18: 12 | AB18: 0 | AC18: 9 | AZ18: 1 | BA18: =IF(AZ18=1,G18,0) -> 0 | BB18: =IF(AZ18=2,G18,0) -> 0 | BC18: =IF(AZ18=3,G18,0) -> 0 | BD18: =IF(AZ18=4,G18,0) -> 0 | BE18: =IF(AZ18=5,G18,0) -> 0 | CA18: 12 | CB18: 0
A19: 10 | B19: 10 | C19: A11/5 Krabice odbočná plastová, 5-ti pólová svork. IP 54,12 otv. | D19: ks | E19: 25 | F19: 0 | G19: =E19*F19 -> 0 | H19: 0 | I19: =E19*H19 -> 0 | K19: =E19*J19 -> 0 | O19: 2 | AA19: 12 | AB19: 0 | AC19: 10 | AZ19: 1 | BA19: =IF(AZ19=1,G19,0) -> 0 | BB19: =IF(AZ19=2,G19,0) -> 0 | BC19: =IF(AZ19=3,G19,0) -> 0 | BD19: =IF(AZ19=4,G19,0) -> 0 | BE19: =IF(AZ19=5,G19,0) -> 0 | CA19: 12 | CB19: 0
A20: 11 | B20: 11 | C20: KO 97/5 KRABICE ODBOČNÁ | D20: ks | E20: 15 | F20: 0 | G20: =E20*F20 -> 0 | H20: 0 | I20: =E20*H20 -> 0 | K20: =E20*J20 -> 0 | O20: 2 | AA20: 12 | AB20: 0 | AC20: 11 | AZ20: 1 | BA20: =IF(AZ20=1,G20,0) -> 0 | BB20: =IF(AZ20=2,G20,0) -> 0 | BC20: =IF(AZ20=3,G20,0) -> 0 | BD20: =IF(AZ20=4,G20,0) -> 0 | BE20: =IF(AZ20=5,G20,0) -> 0 | CA20: 12 | CB20: 0
B21: Celkem za | C21: 113 Nosný systém, trubkování | G21: =SUM(G15:G20) -> 0 | I21: =SUM(I15:I20) -> 0 | K21: =SUM(K15:K20) -> 0 | O21: 4 | BA21: =SUM(BA15:BA20) -> 0 | BB21: =SUM(BB15:BB20) -> 0 | BC21: =SUM(BC15:BC20) -> 0 | BD21: =SUM(BD15:BD20) -> 0 | BE21: =SUM(BE15:BE20) -> 0
A22: Díl: | B22: 12 | C22: SVORKOVNICE KRABICOVÁ | O22: 1
A23: 12 | B23: 13 | C23: 273-112 2x1-2,5mm2 | D23: ks | E23: 250 | F23: 0 | G23: =E23*F23 -> 0 | H23: 0 | I23: =E23*H23 -> 0 | K23: =E23*J23 -> 0 | O23: 2 | AA23: 12 | AB23: 0 | AC23: 12 | AZ23: 1 | BA23: =IF(AZ23=1,G23,0) -> 0 | BB23: =IF(AZ23=2,G23,0) -> 0 | BC23: =IF(AZ23=3,G23,0) -> 0 | BD23: =IF(AZ23=4,G23,0) -> 0 | BE23: =IF(AZ23=5,G23,0) -> 0 | CA23: 12 | CB23: 0
A24: 13 | B24: 14 | C24: 273-104 3x1-2,5mm2 | D24: ks | E24: 250 | F24: 0 | G24: =E24*F24 -> 0 | H24: 0 | I24: =E24*H24 -> 0 | K24: =E24*J24 -> 0 | O24: 2 | AA24: 12 | AB24: 0 | AC24: 13 | AZ24: 1 | BA24: =IF(AZ24=1,G24,0) -> 0 | BB24: =IF(AZ24=2,G24,0) -> 0 | BC24: =IF(AZ24=3,G24,0) -> 0 | BD24: =IF(AZ24=4,G24,0) -> 0 | BE24: =IF(AZ24=5,G24,0) -> 0 | CA24: 12 | CB24: 0
A25: 14 | B25: 15 | C25: 273-102 4x1-2,5mm2 | D25: ks | E25: 200 | F25: 0 | G25: =E25*F25 -> 0 | H25: 0 | I25: =E25*H25 -> 0 | K25: =E25*J25 -> 0 | O25: 2 | AA25: 12 | AB25: 0 | AC25: 14 | AZ25: 1 | BA25: =IF(AZ25=1,G25,0) -> 0 | BB25: =IF(AZ25=2,G25,0) -> 0 | BC25: =IF(AZ25=3,G25,0) -> 0 | BD25: =IF(AZ25=4,G25,0) -> 0 | BE25: =IF(AZ25=5,G25,0) -> 0 | CA25: 12 | CB25: 0
A26: 15 | B26: 16 | C26: 273-105 5x1-2,5mm2 | D26: ks | E26: 200 | F26: 0 | G26: =E26*F26 -> 0 | H26: 0 | I26: =E26*H26 -> 0 | K26: =E26*J26 -> 0 | O26: 2 | AA26: 12 | AB26: 0 | AC26: 15 | AZ26: 1 | BA26: =IF(AZ26=1,G26,0) -> 0 | BB26: =IF(AZ26=2,G26,0) -> 0 | BC26: =IF(AZ26=3,G26,0) -> 0 | BD26: =IF(AZ26=4,G26,0) -> 0 | BE26: =IF(AZ26=5,G26,0) -> 0 | CA26: 12 | CB26: 0
A27: 16 | B27: 17 | C27: 224-101 svorka lustrová | D27: ks | E27: 42 | F27: 0 | G27: =E27*F27 -> 0 | H27: 0 | I27: =E27*H27 -> 0 | K27: =E27*J27 -> 0 | O27: 2 | AA27: 12 | AB27: 0 | AC27: 16 | AZ27: 1 | BA27: =IF(AZ27=1,G27,0) -> 0 | BB27: =IF(AZ27=2,G27,0) -> 0 | BC27: =IF(AZ27=3,G27,0) -> 0 | BD27: =IF(AZ27=4,G27,0) -> 0 | BE27: =IF(AZ27=5,G27,0) -> 0 | CA27: 12 | CB27: 0
A28: 17 | B28: 18 | C28: 1220 TRUBKA OHEBNÁ - 20 750N | D28: m | E28: 160 | F28: 0 | G28: =E28*F28 -> 0 | H28: 0 | I28: =E28*H28 -> 0 | K28: =E28*J28 -> 0 | O28: 2 | AA28: 12 | AB28: 0 | AC28: 17 | AZ28: 1 | BA28: =IF(AZ28=1,G28,0) -> 0 | BB28: =IF(AZ28=2,G28,0) -> 0 | BC28: =IF(AZ28=3,G28,0) -> 0 | BD28: =IF(AZ28=4,G28,0) -> 0 | BE28: =IF(AZ28=5,G28,0) -> 0 | CA28: 12 | CB28: 0
A29: 18 | B29: 19 | C29: 1225 TRUBKA OHEBNÁ - 25 750N | D29: m | E29: 100 | F29: 0 | G29: =E29*F29 -> 0 | H29: 0 | I29: =E29*H29 -> 0 | K29: =E29*J29 -> 0 | O29: 2 | AA29: 12 | AB29: 0 | AC29: 18 | AZ29: 1 | BA29: =IF(AZ29=1,G29,0) -> 0 | BB29: =IF(AZ29=2,G29,0) -> 0 | BC29: =IF(AZ29=3,G29,0) -> 0 | BD29: =IF(AZ29=4,G29,0) -> 0 | BE29: =IF(AZ29=5,G29,0) -> 0 | CA29: 12 | CB29: 0
A30: 19 | B30: 20 | C30: 1250 TRUBKA OHEBNÁ - 50 750N | D30: m | E30: 50 | F30: 0 | G30: =E30*F30 -> 0 | H30: 0 | I30: =E30*H30 -> 0 | K30: =E30*J30 -> 0 | O30: 2 | AA30: 12 | AB30: 0 | AC30: 19 | AZ30: 1 | BA30: =IF(AZ30=1,G30,0) -> 0 | BB30: =IF(AZ30=2,G30,0) -> 0 | BC30: =IF(AZ30=3,G30,0) -> 0 | BD30: =IF(AZ30=4,G30,0) -> 0 | BE30: =IF(AZ30=5,G30,0) -> 0 | CA30: 12 | CB30: 0
A31: 20 | B31: 21 | C31: KF 09050 TRUBKA 50 | D31: m | E31: 18 | F31: 0 | G31: =E31*F31 -> 0 | H31: 0 | I31: =E31*H31 -> 0 | K31: =E31*J31 -> 0 | O31: 2 | AA31: 12 | AB31: 0 | AC31: 20 | AZ31: 1 | BA31: =IF(AZ31=1,G31,0) -> 0 | BB31: =IF(AZ31=2,G31,0) -> 0 | BC31: =IF(AZ31=3,G31,0) -> 0 | BD31: =IF(AZ31=4,G31,0) -> 0 | BE31: =IF(AZ31=5,G31,0) -> 0 | CA31: 12 | CB31: 0
A32: 21 | B32: 22 | C32: Sádra stavební, balení 30kg | D32: kg | E32: 300 | F32: 0 | G32: =E32*F32 -> 0 | H32: 0 | I32: =E32*H32 -> 0 | K32: =E32*J32 -> 0 | O32: 2 | AA32: 12 | AB32: 0 | AC32: 21 | AZ32: 1 | BA32: =IF(AZ32=1,G32,0) -> 0 | BB32: =IF(AZ32=2,G32,0) -> 0 | BC32: =IF(AZ32=3,G32,0) -> 0 | BD32: =IF(AZ32=4,G32,0) -> 0 | BE32: =IF(AZ32=5,G32,0) -> 0 | CA32: 12 | CB32: 0
B33: Celkem za | C33: 12 SVORKOVNICE KRABICOVÁ | G33: =SUM(G22:G32) -> 0 | I33: =SUM(I22:I32) -> 0 | K33: =SUM(K22:K32) -> 0 | O33: 4 | BA33: =SUM(BA22:BA32) -> 0 | BB33: =SUM(BB22:BB32) -> 0 | BC33: =SUM(BC22:BC32) -> 0 | BD33: =SUM(BD22:BD32) -> 0 | BE33: =SUM(BE22:BE32) -> 0
A34: Díl: | B34: 23 | C34: KABEL SILOVÝ,IZOLACE PVC | O34: 1
A35: 22 | B35: 24 | C35: CYKY-O 3x1.5 , pevně | D35: m | E35: 250 | F35: 0 | G35: =E35*F35 -> 0 | H35: 0 | I35: =E35*H35 -> 0 | K35: =E35*J35 -> 0 | O35: 2 | AA35: 12 | AB35: 0 | AC35: 22 | AZ35: 1 | BA35: =IF(AZ35=1,G35,0) -> 0 | BB35: =IF(AZ35=2,G35,0) -> 0 | BC35: =IF(AZ35=3,G35,0) -> 0 | BD35: =IF(AZ35=4,G35,0) -> 0 | BE35: =IF(AZ35=5,G35,0) -> 0 | CA35: 12 | CB35: 0
B36: Celkem za | C36: 23 KABEL SILOVÝ,IZOLACE PVC | G36: =SUM(G34:G35) -> 0 | I36: =SUM(I34:I35) -> 0 | K36: =SUM(K34:K35) -> 0 | O36: 4 | BA36: =SUM(BA34:BA35) -> 0 | BB36: =SUM(BB34:BB35) -> 0 | BC36: =SUM(BC34:BC35) -> 0 | BD36: =SUM(BD34:BD35) -> 0 | BE36: =SUM(BE34:BE35) -> 0
A37: Díl: | B37: 25 | C37: KABEL SILOVÝ,IZOLACE PVC | O37: 1
A38: 23 | B38: 26 | C38: CYKY-J 3x1.5 , pevně | D38: m | E38: 765 | F38: 0 | G38: =E38*F38 -> 0 | H38: 0 | I38: =E38*H38 -> 0 | K38: =E38*J38 -> 0 | O38: 2 | AA38: 12 | AB38: 0 | AC38: 23 | AZ38: 1 | BA38: =IF(AZ38=1,G38,0) -> 0 | BB38: =IF(AZ38=2,G38,0) -> 0 | BC38: =IF(AZ38=3,G38,0) -> 0 | BD38: =IF(AZ38=4,G38,0) -> 0 | BE38: =IF(AZ38=5,G38,0) -> 0 | CA38: 12 | CB38: 0
A39: 24 | B39: 27 | C39: CYKY-J 3x2.5 , pevně | D39: m | E39: 1125 | F39: 0 | G39: =E39*F39 -> 0 | H39: 0 | I39: =E39*H39 -> 0 | K39: =E39*J39 -> 0 | O39: 2 | AA39: 12 | AB39: 0 | AC39: 24 | AZ39: 1 | BA39: =IF(AZ39=1,G39,0) -> 0 | BB39: =IF(AZ39=2,G39,0) -> 0 | BC39: =IF(AZ39=3,G39,0) -> 0 | BD39: =IF(AZ39=4,G39,0) -> 0 | BE39: =IF(AZ39=5,G39,0) -> 0 | CA39: 12 | CB39: 0
A40: 25 | B40: 28 | C40: CYKY-J 5x1.5 , pevně | D40: m | E40: 100 | F40: 0 | G40: =E40*F40 -> 0 | H40: 0 | I40: =E40*H40 -> 0 | K40: =E40*J40 -> 0 | O40: 2 | AA40: 12 | AB40: 0 | AC40: 25 | AZ40: 1 | BA40: =IF(AZ40=1,G40,0) -> 0 | BB40: =IF(AZ40=2,G40,0) -> 0 | BC40: =IF(AZ40=3,G40,0) -> 0 | BD40: =IF(AZ40=4,G40,0) -> 0 | BE40: =IF(AZ40=5,G40,0) -> 0 | CA40: 12 | CB40: 0
A41: 26 | B41: 29 | C41: CYKY-J 5x2.5 , pevně | D41: m | E41: 95 | F41: 0 | G41: =E41*F41 -> 0 | H41: 0 | I41: =E41*H41 -> 0 | K41: =E41*J41 -> 0 | O41: 2 | AA41: 12 | AB41: 0 | AC41: 26 | AZ41: 1 | BA41: =IF(AZ41=1,G41,0) -> 0 | BB41: =IF(AZ41=2,G41,0) -> 0 | BC41: =IF(AZ41=3,G41,0) -> 0 | BD41: =IF(AZ41=4,G41,0) -> 0 | BE41: =IF(AZ41=5,G41,0) -> 0 | CA41: 12 | CB41: 0
A42: 27 | B42: 30 | C42: CYKY-J 5x10 , pevně | D42: m | E42: 60 | F42: 0 | G42: =E42*F42 -> 0 | H42: 0 | I42: =E42*H42 -> 0 | K42: =E42*J42 -> 0 | O42: 2 | AA42: 12 | AB42: 0 | AC42: 27 | AZ42: 1 | BA42: =IF(AZ42=1,G42,0) -> 0 | BB42: =IF(AZ42=2,G42,0) -> 0 | BC42: =IF(AZ42=3,G42,0) -> 0 | BD42: =IF(AZ42=4,G42,0) -> 0 | BE42: =IF(AZ42=5,G42,0) -> 0 | CA42: 12 | CB42: 0
A43: 28 | B43: 31 | C43: CYKY-J 5x16 , pevně | D43: m | E43: 20 | F43: 0 | G43: =E43*F43 -> 0 | H43: 0 | I43: =E43*H43 -> 0 | K43: =E43*J43 -> 0 | O43: 2 | AA43: 12 | AB43: 0 | AC43: 28 | AZ43: 1 | BA43: =IF(AZ43=1,G43,0) -> 0 | BB43: =IF(AZ43=2,G43,0) -> 0 | BC43: =IF(AZ43=3,G43,0) -> 0 | BD43: =IF(AZ43=4,G43,0) -> 0 | BE43: =IF(AZ43=5,G43,0) -> 0 | CA43: 12 | CB43: 0
B44: Celkem za | C44: 25 KABEL SILOVÝ,IZOLACE PVC | G44: =SUM(G37:G43) -> 0 | I44: =SUM(I37:I43) -> 0 | K44: =SUM(K37:K43) -> 0 | O44: 4 | BA44: =SUM(BA37:BA43) -> 0 | BB44: =SUM(BB37:BB43) -> 0 | BC44: =SUM(BC37:BC43) -> 0 | BD44: =SUM(BD37:BD43) -> 0 | BE44: =SUM(BE37:BE43) -> 0
A45: Díl: | B45: 32 | C45: VODIČ JEDNOŽILOVÝ (CY) | O45: 1
A46: 29 | B46: 33 | C46: H07V-U 4 mm2 , pevně, žz | D46: m | E46: 85 | F46: 0 | G46: =E46*F46 -> 0 | H46: 0 | I46: =E46*H46 -> 0 | K46: =E46*J46 -> 0 | O46: 2 | AA46: 12 | AB46: 0 | AC46: 29 | AZ46: 1 | BA46: =IF(AZ46=1,G46,0) -> 0 | BB46: =IF(AZ46=2,G46,0) -> 0 | BC46: =IF(AZ46=3,G46,0) -> 0 | BD46: =IF(AZ46=4,G46,0) -> 0 | BE46: =IF(AZ46=5,G46,0) -> 0 | CA46: 12 | CB46: 0
A47: 30 | B47: 34 | C47: H07V-U 6 mm2 , pevně,žz | D47: m | E47: 55 | F47: 0 | G47: =E47*F47 -> 0 | H47: 0 | I47: =E47*H47 -> 0 | K47: =E47*J47 -> 0 | O47: 2 | AA47: 12 | AB47: 0 | AC47: 30 | AZ47: 1 | BA47: =IF(AZ47=1,G47,0) -> 0 | BB47: =IF(AZ47=2,G47,0) -> 0 | BC47: =IF(AZ47=3,G47,0) -> 0 | BD47: =IF(AZ47=4,G47,0) -> 0 | BE47: =IF(AZ47=5,G47,0) -> 0 | CA47: 12 | CB47: 0
A48: 31 | B48: 35 | C48: H07V-R 10 mm2 , pevně, žz | D48: m | E48: 75 | F48: 0 | G48: =E48*F48 -> 0 | H48: 0 | I48: =E48*H48 -> 0 | K48: =E48*J48 -> 0 | O48: 2 | AA48: 12 | AB48: 0 | AC48: 31 | AZ48: 1 | BA48: =IF(AZ48=1,G48,0) -> 0 | BB48: =IF(AZ48=2,G48,0) -> 0 | BC48: =IF(AZ48=3,G48,0) -> 0 | BD48: =IF(AZ48=4,G48,0) -> 0 | BE48: =IF(AZ48=5,G48,0) -> 0 | CA48: 12 | CB48: 0
A49: 32 | B49: 36 | C49: Ukončení vodičů v rozváděči nebo na přístroji do 2 ,5 mm2 | D49: kus | E49: 345 | F49: 0 | G49: =E49*F49 -> 0 | H49: 0 | I49: =E49*H49 -> 0 | K49: =E49*J49 -> 0 | O49: 2 | AA49: 12 | AB49: 0 | AC49: 32 | AZ49: 1 | BA49: =IF(AZ49=1,G49,0) -> 0 | BB49: =IF(AZ49=2,G49,0) -> 0 | BC49: =IF(AZ49=3,G49,0) -> 0 | BD49: =IF(AZ49=4,G49,0) -> 0 | BE49: =IF(AZ49=5,G49,0) -> 0 | CA49: 12 | CB49: 0
A50: 33 | B50: 37 | C50: Ukončení vodičů v rozváděči nebo na přístroji do 10 mm2 | D50: kus | E50: 30 | F50: 0 | G50: =E50*F50 -> 0 | H50: 0 | I50: =E50*H50 -> 0 | K50: =E50*J50 -> 0 | O50: 2 | AA50: 12 | AB50: 0 | AC50: 33 | AZ50: 1 | BA50: =IF(AZ50=1,G50,0) -> 0 | BB50: =IF(AZ50=2,G50,0) -> 0 | BC50: =IF(AZ50=3,G50,0) -> 0 | BD50: =IF(AZ50=4,G50,0) -> 0 | BE50: =IF(AZ50=5,G50,0) -> 0 | CA50: 12 | CB50: 0
A51: 34 | B51: 38 | C51: Ukončení vodičů v rozváděči nebo na přístroji do 16 mm2 | D51: kus | E51: 8 | F51: 0 | G51: =E51*F51 -> 0 | H51: 0 | I51: =E51*H51 -> 0 | K51: =E51*J51 -> 0 | O51: 2 | AA51: 12 | AB51: 0 | AC51: 34 | AZ51: 1 | BA51: =IF(AZ51=1,G51,0) -> 0 | BB51: =IF(AZ51=2,G51,0) -> 0 | BC51: =IF(AZ51=3,G51,0) -> 0 | BD51: =IF(AZ51=4,G51,0) -> 0 | BE51: =IF(AZ51=5,G51,0) -> 0 | CA51: 12 | CB51: 0
B52: Celkem za | C52: 32 VODIČ JEDNOŽILOVÝ (CY) | G52: =SUM(G45:G51) -> 0 | I52: =SUM(I45:I51) -> 0 | K52: =SUM(K45:K51) -> 0 | O52: 4 | BA52: =SUM(BA45:BA51) -> 0 | BB52: =SUM(BB45:BB51) -> 0 | BC52: =SUM(BC45:BC51) -> 0 | BD52: =SUM(BD45:BD51) -> 0 | BE52: =SUM(BE45:BE51) -> 0
A53: Díl: | B53: 115 | C53: Spínače a zásuvky - standart ABB Tango | O53: 1
A54: 35 | B54: 39 | C54: 3559-A01345 Přístroj spínače jednopólového (bezšroubové svorky), řazení 1, 1So (do hořlavých | D54: ks | E54: 10 | F54: 0 | G54: =E54*F54 -> 0 | H54: 0 | I54: =E54*H54 -> 0 | K54: =E54*J54 -> 0 | O54: 2 | AA54: 12 | AB54: 0 | AC54: 35 | AZ54: 1 | BA54: =IF(AZ54=1,G54,0) -> 0 | BB54: =IF(AZ54=2,G54,0) -> 0 | BC54: =IF(AZ54=3,G54,0) -> 0 | BD54: =IF(AZ54=4,G54,0) -> 0 | BE54: =IF(AZ54=5,G54,0) -> 0 | CA54: 12 | CB54: 0
A55: 36 | B55: 40 | C55: 3559-A05345 Přístroj přepínače sériového (bezšroubové svorky), řazení 5 (do hořlavých podkl | D55: ks | E55: 1 | F55: 0 | G55: =E55*F55 -> 0 | H55: 0 | I55: =E55*H55 -> 0 | K55: =E55*J55 -> 0 | O55: 2 | AA55: 12 | AB55: 0 | AC55: 36 | AZ55: 1 | BA55: =IF(AZ55=1,G55,0) -> 0 | BB55: =IF(AZ55=2,G55,0) -> 0 | BC55: =IF(AZ55=3,G55,0) -> 0 | BD55: =IF(AZ55=4,G55,0) -> 0 | BE55: =IF(AZ55=5,G55,0) -> 0 | CA55: 12 | CB55: 0
A56: 37 | B56: 41 | C56: 3559-A06345 Přístroj přepínače střídavého (bezšroubové svorky), řazení 6, 6So (do hořlavých | D56: ks | E56: 8 | F56: 0 | G56: =E56*F56 -> 0 | H56: 0 | I56: =E56*H56 -> 0 | K56: =E56*J56 -> 0 | O56: 2 | AA56: 12 | AB56: 0 | AC56: 37 | AZ56: 1 | BA56: =IF(AZ56=1,G56,0) -> 0 | BB56: =IF(AZ56=2,G56,0) -> 0 | BC56: =IF(AZ56=3,G56,0) -> 0 | BD56: =IF(AZ56=4,G56,0) -> 0 | BE56: =IF(AZ56=5,G56,0) -> 0 | CA56: 12 | CB56: 0
B57: Celkem za | C57: 115 Spínače a zásuvky - standart ABB Tango | G57: =SUM(G53:G56) -> 0 | I57: =SUM(I53:I56) -> 0 | K57: =SUM(K53:K56) -> 0 | O57: 4 | BA57: =SUM(BA53:BA56) -> 0 | BB57: =SUM(BB53:BB56) -> 0 | BC57: =SUM(BC53:BC56) -> 0 | BD57: =SUM(BD53:BD56) -> 0 | BE57: =SUM(BE53:BE56) -> 0
A58: Díl: | B58: 42 | C58: PŘÍSTROJ OVLÁDAČE (s bezšroubovými svorkami), pro | O58: 1
A59: 38 | B59: 43 | C59: 3559-A91345 Přístroj ovládače zapínacího se svorkou N (bezšroubové svorky), řazení 1/0, 1/0So, | D59: ks | E59: 8 | F59: 0 | G59: =E59*F59 -> 0 | H59: 0 | I59: =E59*H59 -> 0 | K59: =E59*J59 -> 0 | O59: 2 | AA59: 12 | AB59: 0 | AC59: 38 | AZ59: 1 | BA59: =IF(AZ59=1,G59,0) -> 0 | BB59: =IF(AZ59=2,G59,0) -> 0 | BC59: =IF(AZ59=3,G59,0) -> 0 | BD59: =IF(AZ59=4,G59,0) -> 0 | BE59: =IF(AZ59=5,G59,0) -> 0 | CA59: 12 | CB59: 0
B60: Celkem za | C60: 42 PŘÍSTROJ OVLÁDAČE (s bezšroubovými svorkami), pro | G60: =SUM(G58:G59) -> 0 | I60: =SUM(I58:I59) -> 0 | K60: =SUM(K58:K59) -> 0 | O60: 4 | BA60: =SUM(BA58:BA59) -> 0 | BB60: =SUM(BB58:BB59) -> 0 | BC60: =SUM(BC58:BC59) -> 0 | BD60: =SUM(BD58:BD59) -> 0 | BE60: =SUM(BE58:BE59) -> 0
A61: Díl: | B61: 44 | C61: PŘÍSTROJ SPÍNAČE TROJPÓLOVÉHO (se šroubovými svork | O61: 1
A62: 39 | B62: 45 | C62: 2000/3 US Přístroj spínače trojpólového, řazení 3, 3S | D62: ks | E62: 3 | F62: 0 | G62: =E62*F62 -> 0 | H62: 0 | I62: =E62*H62 -> 0 | K62: =E62*J62 -> 0 | O62: 2 | AA62: 12 | AB62: 0 | AC62: 39 | AZ62: 1 | BA62: =IF(AZ62=1,G62,0) -> 0 | BB62: =IF(AZ62=2,G62,0) -> 0 | BC62: =IF(AZ62=3,G62,0) -> 0 | BD62: =IF(AZ62=4,G62,0) -> 0 | BE62: =IF(AZ62=5,G62,0) -> 0 | CA62: 12 | CB62: 0
B63: Celkem za | C63: 44 PŘÍSTROJ SPÍNAČE TROJPÓLOVÉHO (se šroubovými svork | G63: =SUM(G61:G62) -> 0 | I63: =SUM(I61:I62) -> 0 | K63: =SUM(K61:K62) -> 0 | O63: 4 | BA63: =SUM(BA61:BA62) -> 0 | BB63: =SUM(BB61:BB62) -> 0 | BC63: =SUM(BC61:BC62) -> 0 | BD63: =SUM(BD61:BD62) -> 0 | BE63: =SUM(BE61:BE62) -> 0
A64: Díl: | B64: 46 | C64: KRYT SPÍNAČE, TANGO | O64: 1
A65: 40 | B65: 47 | C65: 3558A-A651 B Kryt spínače kolébkového, d. Tango, b. bílá | D65: ks | E65: 19 | F65: 0 | G65: =E65*F65 -> 0 | H65: 0 | I65: =E65*H65 -> 0 | K65: =E65*J65 -> 0 | O65: 2 | AA65: 12 | AB65: 0 | AC65: 40 | AZ65: 1 | BA65: =IF(AZ65=1,G65,0) -> 0 | BB65: =IF(AZ65=2,G65,0) -> 0 | BC65: =IF(AZ65=3,G65,0) -> 0 | BD65: =IF(AZ65=4,G65,0) -> 0 | BE65: =IF(AZ65=5,G65,0) -> 0 | CA65: 12 | CB65: 0
A66: 41 | B66: 48 | C66: 3558A-A652 B Kryt spínače kolébkového, dělený, d. Tango, b. bílá | D66: ks | E66: 5 | F66: 0 | G66: =E66*F66 -> 0 | H66: 0 | I66: =E66*H66 -> 0 | K66: =E66*J66 -> 0 | O66: 2 | AA66: 12 | AB66: 0 | AC66: 41 | AZ66: 1 | BA66: =IF(AZ66=1,G66,0) -> 0 | BB66: =IF(AZ66=2,G66,0) -> 0 | BC66: =IF(AZ66=3,G66,0) -> 0 | BD66: =IF(AZ66=4,G66,0) -> 0 | BE66: =IF(AZ66=5,G66,0) -> 0 | CA66: 12 | CB66: 0
A67: 42 | B67: 49 | C67: 3558A-A00933 B Kryt spínače kolébkového, s potiskem, s čirým průzorem (pro řazení 3S), d. Tan | D67: ks | E67: 3 | F67: 0 | G67: =E67*F67 -> 0 | H67: 0 | I67: =E67*H67 -> 0 | K67: =E67*J67 -> 0 | O67: 2 | AA67: 12 | AB67: 0 | AC67: 42 | AZ67: 1 | BA67: =IF(AZ67=1,G67,0) -> 0 | BB67: =IF(AZ67=2,G67,0) -> 0 | BC67: =IF(AZ67=3,G67,0) -> 0 | BD67: =IF(AZ67=4,G67,0) -> 0 | BE67: =IF(AZ67=5,G67,0) -> 0 | CA67: 12 | CB67: 0
B68: Celkem za | C68: 46 KRYT SPÍNAČE, TANGO | G68: =SUM(G64:G67) -> 0 | I68: =SUM(I64:I67) -> 0 | K68: =SUM(K64:K67) -> 0 | O68: 4 | BA68: =SUM(BA64:BA67) -> 0 | BB68: =SUM(BB64:BB67) -> 0 | BC68: =SUM(BC64:BC67) -> 0 | BD68: =SUM(BD64:BD67) -> 0 | BE68: =SUM(BE64:BE67) -> 0
A69: Díl: | B69: 50 | C69: SPÍNAČ, PŘEPÍNAČ KOMPLETNÍ, TANGO IP 44 | O69: 1
A70: 43 | B70: 51 | C70: 3558A-06940 B Přepínač střídavý IP 44, zapuštěná montáž, řazení 6 (1), d. Tango, b. bílá | D70: ks | E70: 8 | F70: 0 | G70: =E70*F70 -> 0 | H70: 0 | I70: =E70*H70 -> 0 | K70: =E70*J70 -> 0 | O70: 2 | AA70: 12 | AB70: 0 | AC70: 43 | AZ70: 1 | BA70: =IF(AZ70=1,G70,0) -> 0 | BB70: =IF(AZ70=2,G70,0) -> 0 | BC70: =IF(AZ70=3,G70,0) -> 0 | BD70: =IF(AZ70=4,G70,0) -> 0 | BE70: =IF(AZ70=5,G70,0) -> 0 | CA70: 12 | CB70: 0
A71: 44 | B71: 52 | C71: 3558A-52940 B Přepínač střídavý dvojitý IP 44, zapuštěná montáž, řazení 6+6 (6+1, 5B), d. Tango, | D71: ks | E71: 2 | F71: 0 | G71: =E71*F71 -> 0 | H71: 0 | I71: =E71*H71 -> 0 | K71: =E71*J71 -> 0 | O71: 2 | AA71: 12 | AB71: 0 | AC71: 44 | AZ71: 1 | BA71: =IF(AZ71=1,G71,0) -> 0 | BB71: =IF(AZ71=2,G71,0) -> 0 | BC71: =IF(AZ71=3,G71,0) -> 0 | BD71: =IF(AZ71=4,G71,0) -> 0 | BE71: =IF(AZ71=5,G71,0) -> 0 | CA71: 12 | CB71: 0
B72: Celkem za | C72: 50 SPÍNAČ, PŘEPÍNAČ KOMPLETNÍ, TANGO IP 44 | G72: =SUM(G69:G71) -> 0 | I72: =SUM(I69:I71) -> 0 | K72: =SUM(K69:K71) -> 0 | O72: 4 | BA72: =SUM(BA69:BA71) -> 0 | BB72: =SUM(BB69:BB71) -> 0 | BC72: =SUM(BC69:BC71) -> 0 | BD72: =SUM(BD69:BD71) -> 0 | BE72: =SUM(BE69:BE71) -> 0
A73: Díl: | B73: 53 | C73: POHYBOVÝ SPÍNAČ AUTOMATICKÝ, KOMPLETNÍ, BÍLÝ, IP4 | O73: 1
A74: 45 | B74: 54 | C74: STROPNÍ, 360°, spínací prvek relé | D74: ks | E74: 8 | F74: 0 | G74: =E74*F74 -> 0 | H74: 0 | I74: =E74*H74 -> 0 | K74: =E74*J74 -> 0 | O74: 2 | AA74: 12 | AB74: 0 | AC74: 45 | AZ74: 1 | BA74: =IF(AZ74=1,G74,0) -> 0 | BB74: =IF(AZ74=2,G74,0) -> 0 | BC74: =IF(AZ74=3,G74,0) -> 0 | BD74: =IF(AZ74=4,G74,0) -> 0 | BE74: =IF(AZ74=5,G74,0) -> 0 | CA74: 12 | CB74: 0
A75: 46 | B75: 55 | C75: zapuštěná montáž, 120°, spínací prvek relé | D75: ks | E75: 6 | F75: 0 | G75: =E75*F75 -> 0 | H75: 0 | I75: =E75*H75 -> 0 | K75: =E75*J75 -> 0 | O75: 2 | AA75: 12 | AB75: 0 | AC75: 46 | AZ75: 1 | BA75: =IF(AZ75=1,G75,0) -> 0 | BB75: =IF(AZ75=2,G75,0) -> 0 | BC75: =IF(AZ75=3,G75,0) -> 0 | BD75: =IF(AZ75=4,G75,0) -> 0 | BE75: =IF(AZ75=5,G75,0) -> 0 | CA75: 12 | CB75: 0
B76: Celkem za | C76: 53 POHYBOVÝ SPÍNAČ AUTOMATICKÝ, KOMPLETNÍ, BÍLÝ, IP4 | G76: =SUM(G73:G75) -> 0 | I76: =SUM(I73:I75) -> 0 | K76: =SUM(K73:K75) -> 0 | O76: 4 | BA76: =SUM(BA73:BA75) -> 0 | BB76: =SUM(BB73:BB75) -> 0 | BC76: =SUM(BC73:BC75) -> 0 | BD76: =SUM(BD73:BD75) -> 0 | BE76: =SUM(BE73:BE75) -> 0
A77: Díl: | B77: 56 | C77: ZÁSUVKA NN, TANGO | O77: 1
A78: 47 | B78: 57 | C78: 5519A-A02357 B Zásuvka jednonásobná (bezšroubové svorky), s ochranným kolíkem, s clonkami, řazení 2 | D78: ks | E78: 15 | F78: 0 | G78: =E78*F78 -> 0 | H78: 0 | I78: =E78*H78 -> 0 | K78: =E78*J78 -> 0 | O78: 2 | AA78: 12 | AB78: 0 | AC78: 47 | AZ78: 1 | BA78: =IF(AZ78=1,G78,0) -> 0 | BB78: =IF(AZ78=2,G78,0) -> 0 | BC78: =IF(AZ78=3,G78,0) -> 0 | BD78: =IF(AZ78=4,G78,0) -> 0 | BE78: =IF(AZ78=5,G78,0) -> 0 | CA78: 12 | CB78: 0
A79: 48 | B79: 58 | C79: 5513A-C02357 B Zásuvka dvojnásobná (bezšroubové svorky), s ochrannými kolíky, s natočenou dutinou, | D79: ks | E79: 37 | F79: 0 | G79: =E79*F79 -> 0 | H79: 0 | I79: =E79*H79 -> 0 | K79: =E79*J79 -> 0 | O79: 2 | AA79: 12 | AB79: 0 | AC79: 48 | AZ79: 1 | BA79: =IF(AZ79=1,G79,0) -> 0 | BB79: =IF(AZ79=2,G79,0) -> 0 | BC79: =IF(AZ79=3,G79,0) -> 0 | BD79: =IF(AZ79=4,G79,0) -> 0 | BE79: =IF(AZ79=5,G79,0) -> 0 | CA79: 12 | CB79: 0
B80: Celkem za | C80: 56 ZÁSUVKA NN, TANGO | G80: =SUM(G77:G79) -> 0 | I80: =SUM(I77:I79) -> 0 | K80: =SUM(K77:K79) -> 0 | O80: 4 | BA80: =SUM(BA77:BA79) -> 0 | BB80: =SUM(BB77:BB79) -> 0 | BC80: =SUM(BC77:BC79) -> 0 | BD80: =SUM(BD77:BD79) -> 0 | BE80: =SUM(BE77:BE79) -> 0
A81: Díl: | B81: 59 | C81: ZÁSUVKA NN, S OCHRANOU PŘED PŘEPĚTÍM, TANGO | O81: 1
A82: 49 | B82: 60 | C82: 5599A-A02357 B Zásuvka jednonásobná (bezšroubové svorky), s ochranným kolíkem, s clonkami, s ochran | D82: ks | E82: 4 | F82: 0 | G82: =E82*F82 -> 0 | H82: 0 | I82: =E82*H82 -> 0 | K82: =E82*J82 -> 0 | O82: 2 | AA82: 12 | AB82: 0 | AC82: 49 | AZ82: 1 | BA82: =IF(AZ82=1,G82,0) -> 0 | BB82: =IF(AZ82=2,G82,0) -> 0 | BC82: =IF(AZ82=3,G82,0) -> 0 | BD82: =IF(AZ82=4,G82,0) -> 0 | BE82: =IF(AZ82=5,G82,0) -> 0 | CA82: 12 | CB82: 0
B83: Celkem za | C83: 59 ZÁSUVKA NN, S OCHRANOU PŘED PŘEPĚTÍM, TANGO | G83: =SUM(G81:G82) -> 0 | I83: =SUM(I81:I82) -> 0 | K83: =SUM(K81:K82) -> 0 | O83: 4 | BA83: =SUM(BA81:BA82) -> 0 | BB83: =SUM(BB81:BB82) -> 0 | BC83: =SUM(BC81:BC82) -> 0 | BD83: =SUM(BD81:BD82) -> 0 | BE83: =SUM(BE81:BE82) -> 0
A84: Díl: | B84: 61 | C84: ZÁSUVKA NN KOMPLETNÍ, TANGO IP 44 | O84: 1
A85: 50 | B85: 62 | C85: 5518A-2999 B Zásuvka jednonásobná IP 44, s ochranným kolíkem, s clonkami, s víčkem, řazení 2P | D85: ks | E85: 29 | F85: 0 | G85: =E85*F85 -> 0 | H85: 0 | I85: =E85*H85 -> 0 | K85: =E85*J85 -> 0 | O85: 2 | AA85: 12 | AB85: 0 | AC85: 50 | AZ85: 1 | BA85: =IF(AZ85=1,G85,0) -> 0 | BB85: =IF(AZ85=2,G85,0) -> 0 | BC85: =IF(AZ85=3,G85,0) -> 0 | BD85: =IF(AZ85=4,G85,0) -> 0 | BE85: =IF(AZ85=5,G85,0) -> 0 | CA85: 12 | CB85: 0
B86: Celkem za | C86: 61 ZÁSUVKA NN KOMPLETNÍ, TANGO IP 44 | G86: =SUM(G84:G85) -> 0 | I86: =SUM(I84:I85) -> 0 | K86: =SUM(K84:K85) -> 0 | O86: 4 | BA86: =SUM(BA84:BA85) -> 0 | BB86: =SUM(BB84:BB85) -> 0 | BC86: =SUM(BC84:BC85) -> 0 | BD86: =SUM(BD84:BD85) -> 0 | BE86: =SUM(BE84:BE85) -> 0
A87: Díl: | B87: 63 | C87: RÁMEČEK, TANGO | O87: 1
A88: 51 | B88: 64 | C88: 3901A-B10 B Rámeček pro elektroinstalační přístroje, jednonásobný, d. Tango, b. bílá | D88: ks | E88: 54 | F88: 0 | G88: =E88*F88 -> 0 | H88: 0 | I88: =E88*H88 -> 0 | K88: =E88*J88 -> 0 | O88: 2 | AA88: 12 | AB88: 0 | AC88: 51 | AZ88: 1 | BA88: =IF(AZ88=1,G88,0) -> 0 | BB88: =IF(AZ88=2,G88,0) -> 0 | BC88: =IF(AZ88=3,G88,0) -> 0 | BD88: =IF(AZ88=4,G88,0) -> 0 | BE88: =IF(AZ88=5,G88,0) -> 0 | CA88: 12 | CB88: 0
A89: 52 | B89: 65 | C89: 3901A-B20 B Rámeček pro elektroinstalační přístroje, dvojnásobný vodorovný, d. Tango, b. bíl | D89: ks | E89: 3 | F89: 0 | G89: =E89*F89 -> 0 | H89: 0 | I89: =E89*H89 -> 0 | K89: =E89*J89 -> 0 | O89: 2 | AA89: 12 | AB89: 0 | AC89: 52 | AZ89: 1 | BA89: =IF(AZ89=1,G89,0) -> 0 | BB89: =IF(AZ89=2,G89,0) -> 0 | BC89: =IF(AZ89=3,G89,0) -> 0 | BD89: =IF(AZ89=4,G89,0) -> 0 | BE89: =IF(AZ89=5,G89,0) -> 0 | CA89: 12 | CB89: 0
A90: 53 | B90: 66 | C90: 3901A-B30 B Rámeček pro elektroinstalační přístroje, trojnásobný vodorovný, d. Tango, b. bíl | D90: ks | E90: 4 | F90: 0 | G90: =E90*F90 -> 0 | H90: 0 | I90: =E90*H90 -> 0 | K90: =E90*J90 -> 0 | O90: 2 | AA90: 12 | AB90: 0 | AC90: 53 | AZ90: 1 | BA90: =IF(AZ90=1,G90,0) -> 0 | BB90: =IF(AZ90=2,G90,0) -> 0 | BC90: =IF(AZ90=3,G90,0) -> 0 | BD90: =IF(AZ90=4,G90,0) -> 0 | BE90: =IF(AZ90=5,G90,0) -> 0 | CA90: 12 | CB90: 0
A91: 54 | B91: 67 | C91: Zásuvka průmyslová 3P+N+PE vestavná 16 A, IP44 | D91: ks | E91: 2 | F91: 0 | G91: =E91*F91 -> 0 | H91: 0 | I91: =E91*H91 -> 0 | K91: =E91*J91 -> 0 | O91: 2 | AA91: 12 | AB91: 0 | AC91: 54 | AZ91: 1 | BA91: =IF(AZ91=1,G91,0) -> 0 | BB91: =IF(AZ91=2,G91,0) -> 0 | BC91: =IF(AZ91=3,G91,0) -> 0 | BD91: =IF(AZ91=4,G91,0) -> 0 | BE91: =IF(AZ91=5,G91,0) -> 0 | CA91: 12 | CB91: 0
A92: 55 | B92: 68 | C92: Ventilátor do koupelny s automatickou žaluzií a časovým spínačem O 100 mm, úsporný a tichý | D92: ks | E92: 3 | F92: 0 | G92: =E92*F92 -> 0 | H92: 0 | I92: =E92*H92 -> 0 | K92: =E92*J92 -> 0 | O92: 2 | AA92: 12 | AB92: 0 | AC92: 55 | AZ92: 1 | BA92: =IF(AZ92=1,G92,0) -> 0 | BB92: =IF(AZ92=2,G92,0) -> 0 | BC92: =IF(AZ92=3,G92,0) -> 0 | BD92: =IF(AZ92=4,G92,0) -> 0 | BE92: =IF(AZ92=5,G92,0) -> 0 | CA92: 12 | CB92: 0
B93: Celkem za | C93: 63 RÁMEČEK, TANGO | G93: =SUM(G87:G92) -> 0 | I93: =SUM(I87:I92) -> 0 | K93: =SUM(K87:K92) -> 0 | O93: 4 | BA93: =SUM(BA87:BA92) -> 0 | BB93: =SUM(BB87:BB92) -> 0 | BC93: =SUM(BC87:BC92) -> 0 | BD93: =SUM(BD87:BD92) -> 0 | BE93: =SUM(BE87:BE92) -> 0
A94: Díl: | B94: 116 | C94: Svítidla komplet vč. zdrojů, závěsů, upevnění ... | O94: 1
A95: 56 | B95: 69 | C95: A - svítidlo LED, stropní, 230-240V, 24W/830, IP44 | D95: ks | E95: 8 | F95: 0 | G95: =E95*F95 -> 0 | H95: 0 | I95: =E95*H95 -> 0 | K95: =E95*J95 -> 0 | O95: 2 | AA95: 12 | AB95: 0 | AC95: 56 | AZ95: 1 | BA95: =IF(AZ95=1,G95,0) -> 0 | BB95: =IF(AZ95=2,G95,0) -> 0 | BC95: =IF(AZ95=3,G95,0) -> 0 | BD95: =IF(AZ95=4,G95,0) -> 0 | BE95: =IF(AZ95=5,G95,0) -> 0 | CA95: 12 | CB95: 0
A96: 57 | B96: 70 | C96: B - svítidlo LED, stropní/nástěnné, 230-240V, 12W/830, IP44 | D96: ks | E96: 24 | F96: 0 | G96: =E96*F96 -> 0 | H96: 0 | I96: =E96*H96 -> 0 | K96: =E96*J96 -> 0 | O96: 2 | AA96: 12 | AB96: 0 | AC96: 57 | AZ96: 1 | BA96: =IF(AZ96=1,G96,0) -> 0 | BB96: =IF(AZ96=2,G96,0) -> 0 | BC96: =IF(AZ96=3,G96,0) -> 0 | BD96: =IF(AZ96=4,G96,0) -> 0 | BE96: =IF(AZ96=5,G96,0) -> 0 | CA96: 12 | CB96: 0
A97: 58 | B97: 71 | C97: C - LED panel225x225x40, 230-240V, 12W/830 | D97: ks | E97: 8 | F97: 0 | G97: =E97*F97 -> 0 | H97: 0 | I97: =E97*H97 -> 0 | K97: =E97*J97 -> 0 | O97: 2 | AA97: 12 | AB97: 0 | AC97: 58 | AZ97: 1 | BA97: =IF(AZ97=1,G97,0) -> 0 | BB97: =IF(AZ97=2,G97,0) -> 0 | BC97: =IF(AZ97=3,G97,0) -> 0 | BD97: =IF(AZ97=4,G97,0) -> 0 | BE97: =IF(AZ97=5,G97,0) -> 0 | CA97: 12 | CB97: 0
A98: 59 | B98: 72 | C98: D- LED 52W/830 OPAL 2L,LEDline 120cm, IP65 | D98: ks | E98: 4 | F98: 0 | G98: =E98*F98 -> 0 | H98: 0 | I98: =E98*H98 -> 0 | K98: =E98*J98 -> 0 | O98: 2 | AA98: 12 | AB98: 0 | AC98: 59 | AZ98: 1 | BA98: =IF(AZ98=1,G98,0) -> 0 | BB98: =IF(AZ98=2,G98,0) -> 0 | BC98: =IF(AZ98=3,G98,0) -> 0 | BD98: =IF(AZ98=4,G98,0) -> 0 | BE98: =IF(AZ98=5,G98,0) -> 0 | CA98: 12 | CB98: 0
B99: Celkem za | C99: 116 Svítidla komplet vč. zdrojů, závěsů, upevnění ... | G99: =SUM(G94:G98) -> 0 | I99: =SUM(I94:I98) -> 0 | K99: =SUM(K94:K98) -> 0 | O99: 4 | BA99: =SUM(BA94:BA98) -> 0 | BB99: =SUM(BB94:BB98) -> 0 | BC99: =SUM(BC94:BC98) -> 0 | BD99: =SUM(BD94:BD98) -> 0 | BE99: =SUM(BE94:BE98) -> 0
A100: Díl: | B100: 74 | C100: OCELOVÝ DRÁT POZINKOVANÝ | O100: 1
A101: 60 | B101: 75 | C101: Drát 10 drát o 10mm(0,62kg/m), pevně | D101: m | E101: 50 | F101: 0 | G101: =E101*F101 -> 0 | H101: 0 | I101: =E101*H101 -> 0 | K101: =E101*J101 -> 0 | O101: 2 | AA101: 12 | AB101: 0 | AC101: 60 | AZ101: 2 | BA101: =IF(AZ101=1,G101,0) -> 0 | BB101: =IF(AZ101=2,G101,0) -> 0 | BC101: =IF(AZ101=3,G101,0) -> 0 | BD101: =IF(AZ101=4,G101,0) -> 0 | BE101: =IF(AZ101=5,G101,0) -> 0 | CA101: 12 | CB101: 0
B102: Celkem za | C102: 74 OCELOVÝ DRÁT POZINKOVANÝ | G102: =SUM(G100:G101) -> 0 | I102: =SUM(I100:I101) -> 0 | K102: =SUM(K100:K101) -> 0 | O102: 4 | BA102: =SUM(BA100:BA101) -> 0 | BB102: =SUM(BB100:BB101) -> 0 | BC102: =SUM(BC100:BC101) -> 0 | BD102: =SUM(BD100:BD101) -> 0 | BE102: =SUM(BE100:BE101) -> 0
...

Sheet 1 6 KL
A1: SLEPÝ ROZPOČET
A2: Rozpočet | C2: 6 | D2: Přípojka plynu | F2: JKSO
A4: Objekt | F4: SKP
A5: 1 | C5: RD se sociálními byty Študlov | F5: Měrná jednotka
A6: Stavba | F6: Počet jednotek
A7: 2020/12 | C7: RD se sociálními byty Študlov | F7: Náklady na m.j. | G7: =IF(G6=0,,ROUND((F30+F32)/G6,1)) -> 0
A8: Projektant | F8: Typ rozpočtu
A9: Zpracovatel projektu
A10: Objednatel
A11: Dodavatel | F11: Zakázkové číslo
A12: Rozpočtoval | F12: Počet listů
A13: ROZPOČTOVÉ NÁKLADY
A14: Základní rozpočtové náklady | D14: Ostatní rozpočtové náklady
B15: HSV celkem | C15: ='1 6 Rek'!E15 -> 0 | D15: ='1 6 Rek'!A20 -> Ztížené výrobní podmínky | G15: ='1 6 Rek'!I20 -> 0
A16: Z | B16: PSV celkem | C16: ='1 6 Rek'!F15 -> 0 | D16: ='1 6 Rek'!A21 -> Oborová přirážka | G16: ='1 6 Rek'!I21 -> 0
A17: R | B17: M práce celkem | C17: ='1 6 Rek'!H15 -> 0 | D17: ='1 6 Rek'!A22 -> Přesun stavebních kapacit | G17: ='1 6 Rek'!I22 -> 0
A18: N | B18: M dodávky celkem | C18: ='1 6 Rek'!G15 -> 0 | D18: ='1 6 Rek'!A23 -> Mimostaveništní doprava | G18: ='1 6 Rek'!I23 -> 0
A19: ZRN celkem | C19: =SUM(C15:C18) -> 0 | D19: ='1 6 Rek'!A24 -> Zařízení staveniště | G19: ='1 6 Rek'!I24 -> 0
D20: ='1 6 Rek'!A25 -> Provoz investora | G20: ='1 6 Rek'!I25 -> 0
A21: HZS | C21: ='1 6 Rek'!I15 -> 0 | D21: ='1 6 Rek'!A26 -> Kompletační činnost (IČD) | G21: ='1 6 Rek'!I26 -> 0
A22: ZRN+HZS | C22: =C19+C21 -> 0 | D22: Ostatní náklady neuvedené | G22: =G23-SUM(G15:G21) -> 0
A23: ZRN+ost.náklady+HZS | C23: =C22+G23 -> 0 | D23: Ostatní náklady celkem | G23: ='1 6 Rek'!H28 -> 0
A24: Vypracoval | D24: Za zhotovitele | F24: Za objednatele
A25: Jméno : | D25: Jméno : | F25: Jméno :
A26: Datum : | D26: Datum : | F26: Datum :
