Workbook

Sheet Rekapitulace úseku
B2: REKAPITULACE NÁKLADŮ objektu v tisících Kč | C2: verze 41.00
B4: Označení (název) stavby dle zadávacího návrhu | C4: R.Horálek
B5: Číslo definice projektu dle zadávacího návrhu | C5: 10111213
B6: Kód a název objektu
B7: IE-12-2003587 - Návrh opravy VO ul. Lidická, Broumov - souběh s opravou komunikace III / 30324
B9: Délka výkopu kabelových rýh dle PD v km | C9: 0.41
B10: Počet dní záboru | C10: 30
B11: Plocha záboru v m2 | C11: 461
B12: Sazba pro zábor dle vyhlášek měst v Kč/m2/den | C12: 2
B14: II.+III. Provozní soubory a stavební objekty | C14: =C16+C17+C18+C19+C20 -> 0
B16: Materiál zhotovitel | C16: ='Materiál zhotovitel'!H39/1000 -> 0
B17: Dodávky zhotovitel | C17: ='Dodávky zhotovitel'!G20 -> 0
B18: Materiály zhotovitelem | C18: ='Materiál zhotovitel'!H39 -> 0
B19: Materiál - dodávky | C19: ='Materiál dodávky'!H15/1000 -> 0
B20: Oceněné práce | C20: ='Oceněné práce'!I66 -> 0
C22: Aut.výpočet
B23: VII. Ostatní náklady | C23: =C25+C26+C27+C28+C29+C30+C31+C32 -> 0
B25: Vytýčení podzemních zařízení | C25: 0
B26: Doprava výkonového materiálu,odvoz zeminy | C26: 0
B27: Revize | C27: 0
B28: Zábory veřejného prostranství, pronájmy ploch | C28: 0
B29: Skládkovné | C29: 0
B30: Koordinační činnost zhotovitele | C30: 0
B31: Archeologický dohled | C31: 0
B32: Dopravní značení | C32: 0
B35: IX. Jiné investice | C35: =C37+C38+C39 -> 0
B37: Manipulace,vypínání,diagnostika a činnost ČDS | C37: 0
B38: Geodetické zaměření skutečného stavu | C38: 0
B39: Dokumentace skutečného provedeni stavby (DSPS) | C39: 0
B41: Celkové náklady objektu | C41: =C35+C23+C14 -> 0

Sheet Materiál zhotovitel
A2: MATERIÁL ZHOTOVITEL
A3: Oblast ocenění: | B3: Východ | E3: Projekt. firma: | F3: VČE - montáže, a.s.
A5: Kód materiálu | B5: Typ materiálu | C5: Popis | D5: Rozšířený popis | E5: Množství celkové | F5: MJ | G5: Cena jednotková | H5: Cena celková
B6: IE-12-2003587 | C6: Návrh opravy VO ul. Lidická, Broumov - souběh s opravou komunikace III / 30324
A8: 1003499270 | B8: vedl. | C8: TRUBKA PANCÉŘOVÁ36 mm | E8: 90 | F8: M | G8: 0 | H8: =G8*E8 -> 0
A9: 1003301650 | B9: vedl. | C9: TRUBICE SMRST SR1F 25,4-12,7/1200 ZZ. | E9: 0.63 | F9: KS | G9: 0 | H9: =G9*E9 -> 0
A10: 9880010100 | B10: vedl. | C10: OPT>PASKA UPINACI NEREZ. LEHKA 9,5/0,4MM | D10: KLAHOS, B833/50 (B133) | E10: 45 | F10: M | G10: 0 | H10: =G10*E10 -> 0
A11: 9880010600 | B11: vedl. | C11: OPT>SPONA UPINACI NEREZ. LEHKA 9,5MM | D11: KLAHOS, S 153 | E11: 37.5 | F11: KS | G11: 0 | H11: =G11*E11 -> 0
A12: 1003632540 | B12: vedl. | C12: PASKA ZEMNICI FEZN 30X4/48AM (BAL.25KG) | E12: 497.5 | F12: KG | G12: 0 | H12: =G12*E12 -> 0
A13: 1003634130 | B13: vedl. | C13: SVORKA SR 2B SPOJ. PASEK 30X4 | E13: 40 | F13: KS | G13: 0 | H13: =G13*E13 -> 0
A14: 1003634120 | B14: vedl. | C14: SVORKA SP1 VY - PRIPOJ. NA KONSTR. | E14: 15 | F14: KS | G14: 0 | H14: =G14*E14 -> 0
A15: 1000039080 | B15: vedl. | C15: TRUBKA SMRST.RPK 40/16/1000 CERNA | E15: 7.5 | F15: KS | G15: 0 | H15: =G15*E15 -> 0
A16: 1003636410 | B16: vedl. | C16: KABEL 1-CYKY-J 4X16 1000V | E16: 439.95 | F16: M | G16: 0 | H16: =G16*E16 -> 0
A17: 1000327780 | B17: vedl. | C17: FOLIE VYSTR. BLESK 330/0,4 CERVENA 125M | D17: FÓLIE VÝSTR.S BLESKEM 330X0,4 ČERV. | E17: 3.688 | F17: KS | G17: 0 | H17: =G17*E17 -> 0
A18: 1000173990 | B18: vedl. | C18: TRUBKA KORUG.OHEBNA KORUFL. 75 CERNA 50M | E18: 461 | F18: M | G18: 0 | H18: =G18*E18 -> 0
A19: 1000174000 | B19: vedl. | C19: TRUBKA KORUG.OHEBNA KORUFL.110 CERNA 50M | E19: 10 | F19: M | G19: 0 | H19: =G19*E19 -> 0
A20: 1000013270 | B20: vedl. | C20: KABEL CYKY-J 3X1,5 750V | E20: 141.75 | F20: M | G20: 0 | H20: =G20*E20 -> 0
A21: 1000269230 | B21: vedl. | C21: OMEZOVAC LVA-440B-BLK PRICH.ALFE 16-70 | E21: 2 | F21: KS | G21: 0 | H21: =G21*E21 -> 0
A22: 1003198510 | B22: vedl. | C22: SVORKA ODB NN 16-70MM2 SM 2.11 | E22: 2 | F22: KS | G22: 0 | H22: =G22*E22 -> 0
A23: 1003206750 | B23: vedl. | C23: SVORKA PROUDOVA ODBOCNA ELBA 669 202 | D23: ALST 2,7-9,4/6,6-9,4 | E23: 5 | F23: KS | G23: 0 | H23: =G23*E23 -> 0
A24: 1003605250 | B24: vedl. | C24: PRAMENEC OCELOVY 50 FE 540MPA, 25,4KN | E24: 9.744 | F24: KG | G24: 0 | H24: =G24*E24 -> 0
A25: 1003105940 | B25: vedl. | C25: SKRIN PRIPOJKOVA SP100/NSP1P DCK | E25: 13 | F25: KS | G25: 0 | H25: =G25*E25 -> 0
A26: 1003105950 | B26: vedl. | C26: SKRIN PRIPOJKOVA SP200/NSP1P DCK | E26: 2 | F26: KS | G26: 0 | H26: =G26*E26 -> 0
A27: 1003385580 | B27: vedl. | C27: POJISTKA NOZOVA PNA000 16A GG | E27: 51 | F27: KS | G27: 0 | H27: =G27*E27 -> 0
A28: NEO11 | B28: hlav. | C28: Svítidlo dle specifikace | E28: 15 | F28: KS | G28: 0 | H28: =G28*E28 -> 0
A29: NE13 | B29: hlav. | C29: Vývodky cyky 3*1,5, práce - materiál | E29: 15 | F29: KS | G29: 0 | H29: =G29*E29 -> 0
A30: NE15 | B30: hlav. | C30: Přístrojová pojistka 6 A | E30: 15 | F30: KS | G30: 0 | H30: =G30*E30 -> 0
A31: NE18 | B31: hlav. | C31: Výložník rovný UNI 1 - 1000 UNI bandimex | E31: 15 | F31: KS | G31: 0 | H31: =G31*E31 -> 0
A32: NE12 | B32: hlav. | C32: Držák svítidla na JB - bandimex | E32: 15 | F32: KS | G32: 0 | H32: =G32*E32 -> 0
A33: 1000076440 | B33: vedl. | C33: STITEK KABELOVY 55X115MM S 1 BAR.TISKEM | E33: 47 | F33: KS | G33: 0 | H33: =G33*E33 -> 0
A34: 1000013240 | B34: vedl. | C34: KABEL CYKY-J 4X16 750V | E34: 146.475 | F34: M | G34: 0 | H34: =G34*E34 -> 0
A35: 9880010400 | B35: vedl. | C35: OPT>PASKA UPINACI NEREZ.STREDNI16/0,75MM | D35: KLAHOS, B805/50 (B205) | E35: 149.25 | F35: M | G35: 0 | H35: =G35*E35 -> 0
A36: 9880010900 | B36: vedl. | C36: OPT>SPONA UPINACI NEREZ. STREDNI 16MM | D36: KLAHOS, S 255 | E36: 140 | F36: KS | G36: 0 | H36: =G36*E36 -> 0
A37: 1003634140 | B37: vedl. | C37: SVORKA ZEMNICI SR 3A, SPOJ. PASEK-LANO | E37: 29 | F37: KS | G37: 0 | H37: =G37*E37 -> 0
C39: Ostatní dodávky I-DOD celkem: | H39: =SUM(H8:H38) -> 0

Sheet Dodávky zhotovitel
A2: DODÁVKY ZHOTOVITELE
A3: Oblast ocenění: | B3: Východ | E3: Projekt. firma: | F3: VČE - montáže, a.s.
A5: Kód materiálu | B5: Typ materiálu | C5: Popis | D5: Rozšířený popis | E5: Množství celkové | F5: MJ | G5: Cena jednotková
B6: IE-12-2003587 | C6: Návrh opravy VO ul. Lidická, Broumov - souběh s opravou komunikace III / 30324
A8: 9876002600 | B8: výk. | C8: VYK> SROUB M10X45, 6-HR.HLAVA, POZ. | D8: DIN933-8.8-A2K | E8: 15 | F8: KS | G8: 0
A9: 9876008300 | B9: výk. | C9: VYK> MATICE M10, 6-HRANNA, POZ. | D9: DIN934-8-A2K | E9: 15 | F9: KS | G9: 0
A10: 9876010400 | B10: výk. | C10: VYK> PODLOZKA PRUZNA 12, POZ. | D10: DIN7980-230HV-A2K | E10: 15 | F10: KS | G10: 0
A11: 9870011550 | B11: výk. | C11: VYK> GUMOASFALT SA 12 | E11: 15 | F11: KG | G11: 0
A12: 9870020290 | B12: výk. | C12: VYK> PISEK ZASYPOVY FR.0-4 | E12: 59008 | F12: KG | G12: 0
A13: 9870011600 | B13: výk. | C13: VYK> REZIVO HRANOL JEHLICNATE DO120CM2 | E13: 3.266 | F13: M3 | G13: 0
A14: 9870011760 | B14: výk. | C14: VYK> DRAT OCEL.PR.2.0 MEKKY | E14: 74.064 | F14: KG | G14: 0
A15: 9870011610 | B15: výk. | C15: VYK> REZIVO DESKOVE JEHLICNATE NEOPRAC | E15: 1.221 | F15: M3 | G15: 0
A16: 9876012000 | B16: výk. | C16: VYK> HREBIK STAV. 3,1X70, ZAP.MRIZ.HL. | D16: DIN1151-ST | E16: 1.06 | F16: KG | G16: 0
A17: 9870039000 | B17: výk. | C17: VYK> MATERIAL PRO ZABEZPECENI VYKOPU | E17: 461 | F17: SADA | G17: 0
A18: 9870039100 | B18: výk. | C18: VYK> MATERIAL ZAJISTENI STEN KABEL. RYH | E18: 137.378 | F18: SADA | G18: 0
C20: Dodávky zhotovitele celkem: | G20: =SUM(G8:G19) -> 0

Sheet Materiál  dodávky
A2: MATERIÁL DODÁVKY
A3: Oblast ocenění: | B3: Východ | E3: Projekt. firma: | F3: VČE - montáže, a.s.
A5: Číslo materiálu | B5: Typ materiálu | C5: Popis | D5: Rozšířený popis | E5: Množství celkové | F5: MJ | G5: Cena jednotková | H5: Cena celková
B6: IE-12-2003587 | C6: Návrh opravy VO ul. Lidická, Broumov - souběh s opravou komunikace III / 30324
A8: NEO11 | B8: hlav. | C8: Svítidlo dle specifikace | E8: 15 | F8: KS | G8: 0 | H8: =G8*E8 -> 0
A9: NE13 | B9: hlav. | C9: Vývodky cyky 3*1,5, práce - materiál | E9: 15 | F9: KS | G9: 0 | H9: =G9*E9 -> 0
A10: NE15 | B10: hlav. | C10: Přístrojová pojistka 6 A | E10: 15 | F10: KS | G10: 0 | H10: =G10*E10 -> 0
A11: NE18 | B11: hlav. | C11: Výložník rovný UNI 1 - 1000 UNI bandimex | E11: 15 | F11: KS | G11: 0 | H11: =G11*E11 -> 0
A12: NE12 | B12: hlav. | C12: Držák svítidla na JB - bandimex | E12: 15 | F12: KS | G12: 0 | H12: =G12*E12 -> 0
A13: 1000076440 | B13: vedl. | C13: STITEK KABELOVY 55X115MM S 1 BAR.TISKEM | E13: 47 | F13: KS | G13: 0 | H13: =G13*E13 -> 0
C15: Materiály mimo platné ZMP / SMP celkem: | H15: =SUM(H8:H14) -> 0

Sheet Oceněné práce
A2: OCENĚNÉ PRÁCE
A3: Oblast ocenění: | B3: Východ | E3: Projekt. firma: | F3: VČE - montáže, a.s.
A4: Kód práce | B4: Typ práce | C4: Zatřízení nákladů | D4: Popis | E4: Množství celkové | F4: MJ | G4: Elektromontážní a Stavební (zemní) práce
G5: NH celk. | H5: Sazba | I5: Cena celk.
C6: IE-12-2003587 | D6: Návrh opravy VO ul. Lidická, Broumov - souběh s opravou komunikace III / 30324
A7: PBAB36A | B7: M | C7: 315 | D7: TRUBKA PANCÉŘOVÁ 36 MM | E7: 90 | F7: M | G7: 2.91 | H7: 0 | I7: =H7*G7 -> 0
A8: PDQB10A | B8: M | C8: 335 | D8: ZNACENI UZEMNENI FEZN 30/4 SMRST.TRUBICI | E8: 15 | F8: KS | G8: 1.8 | H8: 0 | I8: =H8*G8 -> 0
A9: PDQB01A | B9: M | C9: 335 | D9: UZEMNENI PO SLOUPU PASKOU FEZN 30X4 BAND | E9: 37.5 | F9: M | G9: 8.1 | H9: 0 | I9: =H9*G9 -> 0
A10: PDQB09A | B10: M | C10: 335 | D10: VYRAZENI HODNOTY UZEMNENI DO PASKY 30/4 | E10: 15 | F10: KS | G10: 1.26 | H10: 0 | I10: =H10*G10 -> 0
A11: PDQB18A | B11: M | C11: 315 | D11: MERENI ZEMNIHO ODPORU VC.VYSTAV.PROTOKOL | E11: 15 | F11: KS | G11: 11.1 | H11: 0 | I11: =H11*G11 -> 0
A12: PDQB11A | B12: M | C12: 336 | D12: UZEM.V ZEMI-FEZN 30X4 V PODM.MEST.ZAST. | E12: 460 | F12: M | G12: 57.04 | H12: 0 | I12: =H12*G12 -> 0
A13: PDQB64A | B13: M | C13: 336 | D13: OCHRANA PRECHODU ZEM-VZDUCH UZEM.PAS30/4 | E13: 15 | F13: KS | G13: 2.55 | H13: 0 | I13: =H13*G13 -> 0
A14: PCCA27A | B14: M | C14: 315 | D14: KABEL 1-CYKY-J 4X16 1KV VOLNE ULOZENY | E14: 419 | F14: M | G14: 18.855 | H14: 0 | I14: =H14*G14 -> 0
A15: PEJA01A | B15: M | C15: 215 | D15: KAB.LOZE PISKOVE SIRE 35 CM,BEZ ZAKRYTI | E15: 461 | F15: M | G15: 39.185 | H15: 0 | I15: =H15*G15 -> 0
A16: PEJA41A | B16: M | C16: 215 | D16: FOLIE VYSTRAZNA Z PE ,SIRKA 33 CM | E16: 461 | F16: M | G16: 13.83 | H16: 0 | I16: =H16*G16 -> 0
A17: PELB41A | B17: M | C17: 215 | D17: TRUBKA KORUG. PE KORUFLEX 75/61 OHEBNA | E17: 461 | F17: M | G17: 34.575 | H17: 0 | I17: =H17*G17 -> 0
A18: PELB43A | B18: M | C18: 215 | D18: TRUBKA KORUG. PE KORUFLEX 110/91 OHEBNA | E18: 10 | F18: M | G18: 0.94 | H18: 0 | I18: =H18*G18 -> 0
... A36: PDKA77A | B36: M | C36: 315 | D36: MONTAZ OZNAC.STITKU V ROZVADECI - SROUB. | E36: 47 | F36: KS | G36: 2.209 | H36: 0 | I36: =H36*G36 -> 0
A37: NE14 | B37: M | D37: Montáž svítidel - komplet | E37: 60 | F37: HOD | G37: 60 | H37: 0 | I37: =H37*G37 -> 0
A38: NE11 | B38: M | D38: HZS v normální pracovní době | E38: 30 | F38: HOD | G38: 30 | H38: 0 | I38: =H38*G38 -> 0
A39: NE12 | B39: M | D39: Mechanizace | E39: 30 | F39: HOD | G39: 30 | H39: 0 | I39: =H39*G39 -> 0
A40: PLZB01A | B40: M | C40: 315 | D40: POPIS POJ.KAB.SKRINI SJZ LAK.POPISOVACEM | E40: 47 | F40: KS | G40: 6.58 | H40: 0 | I40: =H40*G40 -> 0
A41: PCCA70A | B41: M | C41: 315 | D41: KABEL CYKY-J 4X16 750V PEVNE ULOZENY | E41: 139.5 | F41: M | G41: 10.044 | H41: 0 | I41: =H41*G41 -> 0
A42: PDTB38A | B42: M | C42: 315 | D42: ZAPOJ.4ZIL V JISTICI DOM.SKRINI DO 16MM2 | E42: 32 | F42: KS | G42: 8.736 | H42: 0 | I42: =H42*G42 -> 0
A43: PCIB01A | B43: M | C43: 315 | D43: UKONC.-ZAP.VOD.DO 2,5MM2 SVORK.V ROZVAD. | E43: 90 | F43: KS | G43: 3.24 | H43: 0 | I43: =H43*G43 -> 0
A44: PBIB13A | B44: D | C44: 315 | D44: KUZEL.ROUBIK M20X360,VZK-1,BILY VO | E44: 15 | F44: KS | G44: 0.615 | H44: 0 | I44: =H44*G44 -> 0
A45: PBIB79A | B45: D | C45: 315 | D45: VAZ NN DVOJITY KRIZOVY ALFE 25/4 | E45: 13 | F45: KS | G45: 0.429 | H45: 0 | I45: =H45*G45 -> 0
A46: PBIB73A | B46: D | C46: 315 | D46: UKONC.VOD. ALFE 25/4 SVORKOU | E46: 4 | F46: KS | G46: 0.396 | H46: 0 | I46: =H46*G46 -> 0
A47: PBIB90A | B47: D | C47: 315 | D47: PRIPOJ.VOD.25MM2 NA ALFE 25/4 SR.SVOR. | E47: 24 | F47: KS | G47: 3.264 | H47: 0 | I47: =H47*G47 -> 0
A48: PCTA94A | B48: D | C48: 315 | D48: OMEZOV.PREP.1KV+SVORKY PRIPOJ. ALFE16-70 | E48: 2 | F48: KS | G48: 1.449 | H48: 0 | I48: =H48*G48 -> 0
A49: PCUA25A | B49: D | C49: 315 | D49: SVORKY NA PROPOJ.FEZN LANA A UZEM.OMEZOV | E49: 2 | F49: KS | G49: 0.837 | H49: 0 | I49: =H49*G49 -> 0
A50: PCUA42A | B50: D | C50: 315 | D50: MONTAZ OMEZOVACE VN VCETNE ZAPOJENI | E50: 3 | F50: KS | G50: 0.849 | H50: 0 | I50: =H50*G50 -> 0
A51: PCUA55A | B51: D | C51: 315 | D51: LANO FEZN 50MM2 K PROPOJENI BLESKOJISTEK | E51: 6 | F51: M | G51: 0.672 | H51: 0 | I51: =H51*G51 -> 0
... A62: PXDA02A | B62: D | C62: 315 | D62: LANO ALFE NN 24-AL1/4ST1A (25/4)NEMAZ | E62: 452 | F62: M | G62: 3.616 | H62: 0 | I62: =H62*G62 -> 0
A63: NE 15 | B63: D | D63: Demontáž svítidla,držáku a výložníku | E63: 21 | F63: HOD | G63: 21 | H63: 0 | I63: =H63*G63 -> 0
A64: NE 16 | B64: D | D64: Mechanizace - demontáž | E64: 21 | F64: HOD | G64: 21 | H64: 0 | I64: =H64*G64 -> 0
D66: Oceněné práce celkem: | I66: =SUM(I7:I65) -> 0
