Workbook

Sheet Rekapitulace stavby
A1: Export Komplet | AZ1: VZ | BA1: 2.0 | BB1: ZAMOK | BT1: False | BU1: False | BV1: {9b10c297-420c-4a31-b07c-f2050c41d173}
BS2: 0,01 | BT2: 21
BS3: 0,01 | BT3: 15
D4: REKAPITULACE STAVBY | AS4: v --- níže se nacházejí doplnkové a pomocné údaje k sestavám --- v | BE4: Návod na vyplnění | BS4: 0,001
D5: Kód: | K5: Broumov | BE5: Měnit lze pouze buňky se žlutým podbarvením!_x000D_ _x000D_ 1) v Rekapitulaci stavby vyplňte údaje o Uchazeči (přenesou se do ostatních sestav i v jiných listech)_x000D_ _x000D_ 2) na vybraných listech vyplňte v sestavě Soupis prací ceny u položek | BS5: 0,01
D6: Stavba: | K6: Souvislá údržba ulice Luční | BS6: 0,01
D7: KSO: | AK7: CC-CZ: | BS7: 0,01
D8: Místo: | AK8: Datum: | AN8: 3. 5. 2021 | BS8: 0,01
BS9: 0,01
D10: Zadavatel: | AK10: IČ: | AN10: 00272523 | BS10: 0,01
E11: Město Broumov | AK11: DIČ: | AN11: CZ00272523 | BS11: 0,01
BS12: 0,01
D13: Uchazeč: | AK13: IČ: | AN13: Vyplň údaj | BS13: 0,01
E14: Vyplň údaj | AK14: DIČ: | AN14: Vyplň údaj | BS14: 0,01
BS15: False
D16: Projektant: | AK16: IČ: | BS16: False
AK17: DIČ: | BS17: True
BS18: 0,01
D19: Zpracovatel: | AK19: IČ: | BS19: 0,01
AK20: DIČ: | BS20: False
D22: Poznámka:
E23: Soupis prací je sestaven s využitím Cenové soustavy ÚRS. Položky, které pochází z této cenové soustavy, jsou ve sloupci 'Cenová soustava' označeny popisem 'CS ÚRS' a úrovní příslušného kalendářního pololetí. Veškeré další informace vymezující popis a podmínky použití těchto položek z Cenové soustavy, které nejsou uvedeny přímo v soupisu prací, jsou neomezeně dálkově k dispozici na www.cs-urs.cz, sekce Cenové a technické podmínky.
D26: Cena bez DPH | AK26: =ROUND(AG54,2) -> 0
L28: Sazba daně | W28: Základ daně | AK28: Výše daně
D29: DPH | F29: základní | L29: 0.21 | W29: =ROUND(AZ54, 2) -> 0 | AK29: =ROUND(AV54, 2) -> 0
F30: snížená | L30: 0.15 | W30: =ROUND(BA54, 2) -> 0 | AK30: =ROUND(AW54, 2) -> 0
F31: zákl. přenesená | L31: 0.21 | W31: =ROUND(BB54, 2) -> 0 | AK31: 0
F32: sníž. přenesená | L32: 0.15 | W32: =ROUND(BC54, 2) -> 0 | AK32: 0
F33: nulová | L33: 0 | W33: =ROUND(BD54, 2) -> 0 | AK33: 0
D35: Cena s DPH | T35: v | X35: CZK | AK35: =SUM(AK26:AK33) -> 0
C42: REKAPITULACE OBJEKTŮ STAVBY A SOUPISŮ PRACÍ
C44: Kód: | L44: =K5 -> Broumov
C45: Stavba: | L45: =K6 -> Souvislá údržba ulice Luční
C47: Místo: | L47: =IF(K8="","",K8) | AI47: Datum: | AM47: =IF(AN8= "","",AN8) -> 3. 5. 2021
C49: Zadavatel: | L49: =IF(E11= "","",E11) -> Město Broumov | AI49: Projektant: | AM49: =IF(E17="","",E17) | AS49: Informatívní údaje z listů zakázek
C50: Uchazeč: | L50: =IF(E14= "Vyplň údaj","",E14) | AI50: Zpracovatel: | AM50: =IF(E20="","",E20)
C52: Kód | I52: Popis | AG52: Cena bez DPH [CZK] | AN52: Cena s DPH [CZK] | AQ52: Typ | AS52: z toho Ostat._x000D_ náklady [CZK] | AT52: DPH [CZK] | AU52: Normohodiny [h] | AV52: DPH základní [CZK] | AW52: DPH snížená [CZK] | AX52: DPH základní přenesená_x000D_ [CZK] | AY52: DPH snížená přenesená_x000D_ [CZK] | AZ52: Základna_x000D_ DPH základní | BA52: Základna_x000D_ DPH snížená | BB52: Základna_x000D_ DPH zákl. přenesená | BC52: Základna_x000D_ DPH sníž. přenesená | BD52: Základna_x000D_ DPH nulová
C54: Náklady stavby celkem | AG54: =ROUND(SUM(AG55:AG57),2) -> 0 | AN54: =SUM(AG54,AT54) -> 0 | AS54: =ROUND(SUM(AS55:AS57),2) -> 0 | AT54: =ROUND(SUM(AV54:AW54),2) -> 0 | AU54: =ROUND(SUM(AU55:AU57),5) -> 0 | AV54: =ROUND(AZ54*L29,2) -> 0 | AW54: =ROUND(BA54*L30,2) -> 0 | AX54: =ROUND(BB54*L29,2) -> 0 | AY54: =ROUND(BC54*L30,2) -> 0 | AZ54: =ROUND(SUM(AZ55:AZ57),2) -> 0 | BA54: =ROUND(SUM(BA55:BA57),2) -> 0 | BB54: =ROUND(SUM(BB55:BB57),2) -> 0 | BC54: =ROUND(SUM(BC55:BC57),2) -> 0 | BD54: =ROUND(SUM(BD55:BD57),2) -> 0 | BS54: D | BT54: 0 | BU54: ###NOIMPORT### | BV54: IMPORT | BW54: {9b10c297-420c-4a31-b07c-f2050c41d173} | BX54: {00000000-0000-0000-0000-000000000000}
A55: / | D55: SO 01 | J55: Komunikace | AG55: ='SO 01 - Komunikace'!J30 -> 0 | AN55: =SUM(AG55,AT55) -> 0 | AQ55: STA | AS55: 0 | AT55: =ROUND(SUM(AV55:AW55),2) -> 0 | AU55: ='SO 01 - Komunikace'!P84 -> 0 | AV55: ='SO 01 - Komunikace'!J33 -> 0 | AW55: ='SO 01 - Komunikace'!J34 -> 0 | AX55: ='SO 01 - Komunikace'!J35 -> 0 | AY55: ='SO 01 - Komunikace'!J36 -> 0 | AZ55: ='SO 01 - Komunikace'!F33 -> 0 | BA55: ='SO 01 - Komunikace'!F34 -> 0 | BB55: ='SO 01 - Komunikace'!F35 -> 0 | BC55: ='SO 01 - Komunikace'!F36 -> 0 | BD55: ='SO 01 - Komunikace'!F37 -> 0 | BT55: 1 | BV55: IMPORT | BW55: {2b12e66c-442a-4e79-a3e5-d96701a94787} | BX55: {9b10c297-420c-4a31-b07c-f2050c41d173} | CM55: 2
A56: / | D56: SO 02 | J56: Dešťová kanalizace | AG56: ='SO 02 - Dešťová kanalizace'!J30 -> 0 | AN56: =SUM(AG56,AT56) -> 0 | AQ56: STA | AS56: 0 | AT56: =ROUND(SUM(AV56:AW56),2) -> 0 | AU56: ='SO 02 - Dešťová kanalizace'!P86 -> 0 | AV56: ='SO 02 - Dešťová kanalizace'!J33 -> 0 | AW56: ='SO 02 - Dešťová kanalizace'!J34 -> 0 | AX56: ='SO 02 - Dešťová kanalizace'!J35 -> 0 | AY56: ='SO 02 - Dešťová kanalizace'!J36 -> 0 | AZ56: ='SO 02 - Dešťová kanalizace'!F33 -> 0 | BA56: ='SO 02 - Dešťová kanalizace'!F34 -> 0 | BB56: ='SO 02 - Dešťová kanalizace'!F35 -> 0 | BC56: ='SO 02 - Dešťová kanalizace'!F36 -> 0 | BD56: ='SO 02 - Dešťová kanalizace'!F37 -> 0 | BT56: 1 | BV56: IMPORT | BW56: {d6b50b70-07c1-4b1b-b592-de1fee05dd40} | BX56: {9b10c297-420c-4a31-b07c-f2050c41d173} | CM56: 2
A57: / | D57: VRN | J57: Vedlejší rozpočtové náklady | AG57: ='VRN - Vedlejší rozpočtové...'!J30 -> 0 | AN57: =SUM(AG57,AT57) -> 0 | AQ57: STA | AS57: 0 | AT57: =ROUND(SUM(AV57:AW57),2) -> 0 | AU57: ='VRN - Vedlejší rozpočtové...'!P85 -> 0 | AV57: ='VRN - Vedlejší rozpočtové...'!J33 -> 0 | AW57: ='VRN - Vedlejší rozpočtové...'!J34 -> 0 | AX57: ='VRN - Vedlejší rozpočtové...'!J35 -> 0 | AY57: ='VRN - Vedlejší rozpočtové...'!J36 -> 0 | AZ57: ='VRN - Vedlejší rozpočtové...'!F33 -> 0 | BA57: ='VRN - Vedlejší rozpočtové...'!F34 -> 0 | BB57: ='VRN - Vedlejší rozpočtové...'!F35 -> 0 | BC57: ='VRN - Vedlejší rozpočtové...'!F36 -> 0 | BD57: ='VRN - Vedlejší rozpočtové...'!F37 -> 0 | BT57: 1 | BV57: IMPORT | BW57: {266ef2bf-1ee0-4ffe-9809-e725ac78f14f} | BX57: {9b10c297-420c-4a31-b07c-f2050c41d173} | CM57: 2

Sheet SO 01 - Komunikace
AT2: {2b12e66c-442a-4e79-a3e5-d96701a94787} | AZ2: Vozovka | BA2: Vozovka - živičná | BB2: m2 | BC2: 1145 | BD2: 2
AT3: 2 | AZ3: Suť_živice | BA3: Suť živice | BB3: t | BC3: 293,12 | BD3: 2
D4: KRYCÍ LIST SOUPISU PRACÍ | M4: v --- níže se nacházejí doplnkové a pomocné údaje k sestavám --- v | AT4: False | AZ4: Odkopávky | BA4: Odkopávky | BB4: m3 | BC4: 34,35 | BD4: 2
AZ5: Skládka_1_4 | BA5: Výkopek na skládku třída těžitelnosti 1-4 | BB5: m3 | BC5: 55,62 | BD5: 2
D6: Stavba: | AZ6: Řezání_živice | BA6: Řezání živičného krytu | BB6: m | BC6: 25 | BD6: 2
E7: ='Rekapitulace stavby'!K6 -> Souvislá údržba ulice Luční
D8: Objekt:
E9: SO 01 - Komunikace
D11: KSO: | I11: CC-CZ:
D12: Místo: | F12: ulice Luční | I12: Datum: | J12: ='Rekapitulace stavby'!AN8 -> 3. 5. 2021
D14: Zadavatel: | I14: IČ: | J14: 00272523
E15: Město Broumov | I15: DIČ: | J15: CZ00272523
D17: Uchazeč: | I17: IČ: | J17: ='Rekapitulace stavby'!AN13 -> Vyplň údaj
E18: ='Rekapitulace stavby'!E14 -> Vyplň údaj | I18: DIČ: | J18: ='Rekapitulace stavby'!AN14 -> Vyplň údaj
D20: Projektant: | I20: IČ: | J20: 04803302
E21: Ing. Adam Beneš | I21: DIČ: | J21: CZ8802063600
D23: Zpracovatel: | I23: IČ: | J23: 05733171
E24: TMI Building s.r.o. | I24: DIČ: | J24: CZ05733171
D26: Poznámka:
D30: Cena bez DPH | J30: =ROUND(J84, 2) -> 0
F32: Základ daně | I32: Sazba daně | J32: Výše daně
D33: DPH | E33: základní | F33: =ROUND((SUM(BE84:BE183)), 2) -> 0 | I33: 0.21 | J33: =ROUND(((SUM(BE84:BE183))*I33), 2) -> 0
E34: snížená | F34: =ROUND((SUM(BF84:BF183)), 2) -> 0 | I34: 0.15 | J34: =ROUND(((SUM(BF84:BF183))*I34), 2) -> 0
E35: zákl. přenesená | F35: =ROUND((SUM(BG84:BG183)), 2) -> 0 | I35: 0.21 | J35: =0 -> 0
E36: sníž. přenesená | F36: =ROUND((SUM(BH84:BH183)), 2) -> 0 | I36: 0.15 | J36: =0 -> 0
E37: nulová | F37: =ROUND((SUM(BI84:BI183)), 2) -> 0 | I37: 0 | J37: =0 -> 0
D39: Cena s DPH | G39: v | H39: CZK | J39: =SUM(J30:J37) -> 0
C45: REKAPITULACE ČLENĚNÍ SOUPISU PRACÍ
C47: Stavba:
E48: =E7 -> Souvislá údržba ulice Luční
C49: Objekt:
E50: =E9 -> SO 01 - Komunikace
C52: Místo: | F52: =F12 -> ulice Luční | I52: Datum: | J52: =IF(J12="","",J12) -> 3. 5. 2021
C54: Zadavatel: | F54: =E15 -> Město Broumov | I54: Projektant: | J54: =E21 -> Ing. Adam Beneš
C55: Uchazeč: | F55: =IF(E18="","",E18) -> Vyplň údaj | I55: Zpracovatel: | J55: =E24 -> TMI Building s.r.o.
C57: Kód dílu - Popis | J57: Cena celkem [CZK]
C59: Náklady stavby celkem | J59: =J84 -> 0 | AU59: -1
D60: 1 - Zemní práce | J60: =J85 -> 0
D61: 5 - Komunikace pozemní | J61: =J117 -> 0
D62: 9 - Ostatní konstrukce a práce, bourání | J62: =J135 -> 0
D63: 997 - Přesun sutě | J63: =J164 -> 0
D64: 998 - Přesun hmot | J64: =J181 -> 0
C71: SOUPIS PRACÍ
C73: Stavba:
E74: =E7 -> Souvislá údržba ulice Luční
C75: Objekt:
E76: =E9 -> SO 01 - Komunikace
C78: Místo: | F78: =F12 -> ulice Luční | I78: Datum: | J78: =IF(J12="","",J12) -> 3. 5. 2021
C80: Zadavatel: | F80: =E15 -> Město Broumov | I80: Projektant: | J80: =E21 -> Ing. Adam Beneš
C81: Uchazeč: | F81: =IF(E18="","",E18) -> Vyplň údaj | I81: Zpracovatel: | J81: =E24 -> TMI Building s.r.o.
C83: PČ | D83: Typ | E83: Kód | F83: Popis | G83: MJ | H83: Množství | I83: J.cena [CZK] | J83: Cena celkem [CZK] | K83: Cenová soustava | N83: DPH | O83: J. Nh [h] | P83: Nh celkem [h] | Q83: J. hmotnost [t] | R83: Hmotnost celkem [t] | S83: J. suť [t] | T83: Suť Celkem [t]
C84: Náklady soupisu celkem | J84: =BK84 -> 0 | P84: =P85+P117+P135+P164+P181 -> 0 | R84: =R85+R117+R135+R164+R181 -> 72.574242 | T84: =T85+T117+T135+T164+T181 -> 321 | AT84: D | AU84: -1 | BK84: =BK85+BK117+BK135+BK164+BK181 -> 0
D85: D | E85: 1 | F85: Zemní práce | J85: =BK85 -> 0 | P85: =SUM(P86:P116) -> 0 | R85: =SUM(R86:R116) -> 0.1689255 | T85: =SUM(T86:T116) -> 275.2 | AR85: 1 | AT85: D | AU85: 0 | AY85: ROZPOCET | BK85: =SUM(BK86:BK116) -> 0
C86: 1 | D86: K | E86: 113154364 | F86: Frézování živičného podkladu nebo krytu s naložením na dopravní prostředek plochy přes 1 000 do 10 000 m2 s překážkami v trase pruhu šířky přes 1 m do 2 m, tloušťky vrstvy 100 mm | G86: m2 | H86: 1075 | J86: =ROUND(I86*H86,2) -> 0 | N86: základní | P86: =O86*H86 -> 0 | Q86: 0.00015714 | R86: =Q86*H86 -> 0.1689255 | S86: 0.256 | T86: =S86*H86 -> 275.2 | AR86: 4 | AT86: K | AU86: 1 | AY86: ROZPOCET | BE86: =IF(N86="základní",J86,0) -> 0 | BF86: =IF(N86="snížená",J86,0) -> 0 | BG86: =IF(N86="zákl. přenesená",J86,0) -> 0 | BH86: =IF(N86="sníž. přenesená",J86,0) -> 0 | BI86: =IF(N86="nulová",J86,0) -> 0 | BJ86: 1 | BK86: =ROUND(I86*H86,2) -> 0 | BL86: 4 | BM86: 1337726672
D87: PSC | F87: Poznámka k souboru cen:_x000D_ 1. V cenách jsou započteny i náklady na: a) vodu pro chlazení zubů frézy, b) opotřebování frézovacích nástrojů, c) naložení odfrézovaného materiálu na dopravní prostředek. 2. V cenách nejsou započteny náklady na: a) nutné ruční odstranění (vybourání) živičného krytu kolem překážek, které se oceňují cenami souboru cen 113 10-7 Odstranění podkladů nebo krytů této části katalogu, b) očištění povrchu odfrézované plochy, které se oceňují cenami souboru cen 938 90-9 Odstranění bláta, prachu z povrchu podkladu nebo krytu části C01 tohoto katalogu. 3. Množství měrných jednotek pro rozpočet určí projekt. Drobné překážky, např. vpusti, uzávěry, sloupy (plochy do 2 m2) se z celkové frézované plochy neodečítají. 4. Tloušťku frézované vrstvy určí projekt a měří se tloušťka jednotlivých záběrů v mm. 5. Cena s překážkami je určena v případech, kdy: a) na 200 m2 frézované plochy se vyskytne v průměru více než jedna vpusť nebo vstup inženýrských sítí, popř. stožár, vstupní ostrůvek apod., b) jsou-li podél frézované plochy osazeny obrubníky s výškovým rozdílem horní plochy obrubníku od frézované plochy větší než 250 mm. 6. Překážkami se rozumějí obrubníky nebo krajníky, pokud výškový rozdíl horní plochy obrubníku od frézované plochy je větší než 250 mm, vpusti nebo vstupy inženýrských sítí, stožáry, nástupní a ochranné ostrůvky apod. | AT87: PSC | AU87: 1
D88: VV | E88: Vozovka | F88: "Živičný kryt - odměřeno v AutoCadu" 1145 | H88: 1145 | AT88: VV | AU88: 1 | AV88: 2 | AW88: True | AX88: 0 | AY88: ROZPOCET
D89: VV | F89: "v kanalizaci" -70 | H89: -70 | AT89: VV | AU89: 1 | AV89: 2 | AW89: True | AX89: 0 | AY89: ROZPOCET
D90: VV | F90: Součet | H90: 1075 | AT90: VV | AU90: 1 | AV90: 4 | AW90: True | AX90: 1 | AY90: ROZPOCET
C91: 2 | D91: K | E91: 122301101 | F91: Odkopávky a prokopávky nezapažené s přehozením výkopku na vzdálenost do 3 m nebo s naložením na dopravní prostředek v hornině tř. 4 do 100 m3 | G91: m3 | H91: 34.35 | J91: =ROUND(I91*H91,2) -> 0 | N91: základní | P91: =O91*H91 -> 0 | Q91: 0 | R91: =Q91*H91 -> 0 | S91: 0 | T91: =S91*H91 -> 0 | AR91: 4 | AT91: K | AU91: 1 | AY91: ROZPOCET | BE91: =IF(N91="základní",J91,0) -> 0 | BF91: =IF(N91="snížená",J91,0) -> 0 | BG91: =IF(N91="zákl. přenesená",J91,0) -> 0 | BH91: =IF(N91="sníž. přenesená",J91,0) -> 0 | BI91: =IF(N91="nulová",J91,0) -> 0 | BJ91: 1 | BK91: =ROUND(I91*H91,2) -> 0 | BL91: 4 | BM91: -1475013530
D92: PSC | F92: Poznámka k souboru cen:_x000D_ 1. Odkopávky a prokopávky v roubených prostorech se oceňují podle čl. 3116 Všeobecných podmínek tohoto katalogu. 2. Odkopávky a prokopávky ve stržích při lesnicko-technických melioracích (LTM) se oceňují cenami do 100 m3 pro jakýkoliv skutečný objem výkopu; ostatní odkopávky a prokopávky při LTM se oceňují při jakémkoliv objemu výkopu přes 100 m3 cenami přes 100 do 1 000 m3. 3. Ceny lze použít i pro vykopávky odpadových jam. 4. Ceny lze použít i pro sejmutí podorničí. Přitom se přihlíží k ustanovení čl. 3112 Všeobecných podmínek tohoto katalogu. | AT92: PSC | AU92: 1
D93: VV | F93: "Sanace vozovky - předpoklad 15% plochy" Vozovka*0,15*0,20 | H93: 34.35 | AT93: VV | AU93: 1 | AV93: 2 | AW93: True | AX93: 0 | AY93: ROZPOCET
D94: VV | E94: Odkopávky | F94: Součet | H94: 34.35 | AT94: VV | AU94: 1 | AV94: 4 | AW94: True | AX94: 1 | AY94: ROZPOCET
C95: 3 | D95: K | E95: 122301109 | F95: Odkopávky a prokopávky nezapažené s přehozením výkopku na vzdálenost do 3 m nebo s naložením na dopravní prostředek v hornině tř. 4 Příplatek k cenám za lepivost horniny tř. 4 | G95: m3 | H95: 34.35 | J95: =ROUND(I95*H95,2) -> 0 | N95: základní | P95: =O95*H95 -> 0 | Q95: 0 | R95: =Q95*H95 -> 0 | S95: 0 | T95: =S95*H95 -> 0 | AR95: 4 | AT95: K | AU95: 1 | AY95: ROZPOCET | BE95: =IF(N95="základní",J95,0) -> 0 | BF95: =IF(N95="snížená",J95,0) -> 0 | BG95: =IF(N95="zákl. přenesená",J95,0) -> 0 | BH95: =IF(N95="sníž. přenesená",J95,0) -> 0 | BI95: =IF(N95="nulová",J95,0) -> 0 | BJ95: 1 | BK95: =ROUND(I95*H95,2) -> 0 | BL95: 4 | BM95: -1176510680
D96: PSC | F96: Poznámka k souboru cen:_x000D_ 1. Odkopávky a prokopávky v roubených prostorech se oceňují podle čl. 3116 Všeobecných podmínek tohoto katalogu. 2. Odkopávky a prokopávky ve stržích při lesnicko-technických melioracích (LTM) se oceňují cenami do 100 m3 pro jakýkoliv skutečný objem výkopu; ostatní odkopávky a prokopávky při LTM se oceňují při jakémkoliv objemu výkopu přes 100 m3 cenami přes 100 do 1 000 m3. 3. Ceny lze použít i pro vykopávky odpadových jam. 4. Ceny lze použít i pro sejmutí podorničí. Přitom se přihlíží k ustanovení čl. 3112 Všeobecných podmínek tohoto katalogu. | AT96: PSC | AU96: 1
D97: VV | F97: Odkopávky | H97: 34.35 | AT97: VV | AU97: 1 | AV97: 2 | AW97: True | AX97: 0 | AY97: ROZPOCET
D98: VV | F98: Součet | H98: 34.35 | AT98: VV | AU98: 1 | AV98: 4 | AW98: True | AX98: 1 | AY98: ROZPOCET
C99: 4 | D99: K | E99: 162701105 | F99: Vodorovné přemístění výkopku nebo sypaniny po suchu na obvyklém dopravním prostředku, bez naložení výkopku, avšak se složením bez rozhrnutí z horniny tř. 1 až 4 na vzdálenost přes 9 000 do 10 000 m | G99: m3 | H99: 43.62 | J99: =ROUND(I99*H99,2) -> 0 | N99: základní | P99: =O99*H99 -> 0 | Q99: 0 | R99: =Q99*H99 -> 0 | S99: 0 | T99: =S99*H99 -> 0 | AR99: 4 | AT99: K | AU99: 1 | AY99: ROZPOCET | BE99: =IF(N99="základní",J99,0) -> 0 | BF99: =IF(N99="snížená",J99,0) -> 0 | BG99: =IF(N99="zákl. přenesená",J99,0) -> 0 | BH99: =IF(N99="sníž. přenesená",J99,0) -> 0 | BI99: =IF(N99="nulová",J99,0) -> 0 | BJ99: 1 | BK99: =ROUND(I99*H99,2) -> 0 | BL99: 4 | BM99: -2114384432
D100: PSC | F100: Poznámka k souboru cen:_x000D_ 1. Ceny nelze použít, předepisuje-li projekt přemístit výkopek na místo nepřístupné obvyklým dopravním prostředkům; toto přemístění se oceňuje individuálně. 2. V cenách jsou započteny i náhrady za jízdu loženého vozidla v terénu ve výkopišti nebo na násypišti. 3. V cenách nejsou započteny náklady na rozhrnutí výkopku na násypišti; toto rozhrnutí se oceňuje cenami souboru cen 171 . 0- . . Uložení sypaniny do násypů a 171 20-1201 Uložení sypaniny na skládky. 4. Je-li na dopravní dráze pro vodorovné přemístění nějaká překážka, pro kterou je nutno překládat výkopek z jednoho obvyklého dopravního prostředku na jiný obvyklý dopravní prostředek, oceňuje se toto lomené vodorovné přemístění výkopku v každém úseku samostatně příslušnou cenou tohoto souboru cen a překládání výkopku cenami souboru cen 167 10-3 . Nakládání neulehlého výkopku z hromad s ohledem na ustanovení pozn. číslo 5. 5. Přemísťuje-li se výkopek z dočasných skládek vzdálených do 50 m, neoceňuje se nakládání výkopku, i když se provádí. Toto ustanovení neplatí, vylučuje-li projekt použití dozeru. 6. V cenách vodorovného přemístění sypaniny nejsou započteny náklady na dodávku materiálu, tyto se oceňují ve specifikaci. | AT100: PSC | AU100: 1
D101: VV | F101: Skládka_1_4 | H101: 55.62 | AT101: VV | AU101: 1 | AV101: 2 | AW101: True | AX101: 0 | AY101: ROZPOCET
D102: VV | F102: "v kanalizaci"-12 | H102: -12 | AT102: VV | AU102: 1 | AV102: 2 | AW102: True | AX102: 0 | AY102: ROZPOCET
D103: VV | F103: Součet | H103: 43.62 | AT103: VV | AU103: 1 | AV103: 4 | AW103: True | AX103: 1 | AY103: ROZPOCET
C104: 5 | D104: K | E104: 171201201 | F104: Uložení sypaniny na skládky | G104: m3 | H104: 43.62 | J104: =ROUND(I104*H104,2) -> 0 | N104: základní | P104: =O104*H104 -> 0 | Q104: 0 | R104: =Q104*H104 -> 0 | S104: 0 | T104: =S104*H104 -> 0 | AR104: 4 | AT104: K | AU104: 1 | AY104: ROZPOCET | BE104: =IF(N104="základní",J104,0) -> 0 | BF104: =IF(N104="snížená",J104,0) -> 0 | BG104: =IF(N104="zákl. přenesená",J104,0) -> 0 | BH104: =IF(N104="sníž. přenesená",J104,0) -> 0 | BI104: =IF(N104="nulová",J104,0) -> 0 | BJ104: 1 | BK104: =ROUND(I104*H104,2) -> 0 | BL104: 4 | BM104: 1471973892
D105: PSC | F105: Poznámka k souboru cen:_x000D_ 1. Cena -1201 je určena i pro: a) uložení výkopku nebo ornice na dočasné skládky předepsané projektem tak, že na 1 m2 projektem určené plochy této skládky připadá přes 2 m3 výkopku nebo ornice; v opačném případě se uložení neoceňuje. Množství výkopku nebo ornice připadající na 1 m2 skládky se určí jako podíl množství výkopku nebo ornice, měřeného v rostlém stavu a projektem určené plochy dočasné skládky; b) zasypání koryt vodotečí a prohlubní v terénu bez předepsaného zhutnění sypaniny; c) uložení výkopku pod vodou do prohlubní ve dně vodotečí nebo nádrží. 2. Cenu -1201 nelze použít pro uložení výkopku nebo ornice: a) při vykopávkách pro podzemní vedení podél hrany výkopu, z něhož byl výkopek získán, a to ani tehdy, jestliže se výkopek po vyhození z výkopu na povrch území ještě dále přemisťuje na hromady podél výkopu; b) na dočasné skládky, které nejsou předepsány projektem; c) na dočasné skládky předepsané projektem tak, že na 1 m2 projektem určené plochy této skládky připadají nejvýše 2 m3 výkopku nebo ornice (viz. též poznámku č. 1 a); d) na dočasné skládky, oceňuje-li se cenou 121 10-1101 Sejmutí ornice nebo lesní půdy do 50 m, nebo oceňuje-li se vodorovné přemístění výkopku do 20 m a 50 m cenami 162 20-1101, 162 20-1102, 162 20-1151 a 162 20-1152. V těchto případech se uložení výkopku nebo ornice na dočasnou skládku neoceňuje. e) na trvalé skládky s předepsaným zhutněním; toto uložení výkopku se oceňuje cenami souboru cen 171 . 0- . . Uložení sypaniny do násypů. 3. V ceně -1201 jsou započteny i náklady na rozprostření sypaniny ve vrstvách s hrubým urovnáním na skládce. 4. V ceně -1201 nejsou započteny náklady na získání skládek ani na poplatky za skládku. 5. Množství jednotek uložení výkopku (sypaniny) se určí v m3 uloženého výkopku (sypaniny),v rostlém stavu zpravidla ve výkopišti. | AT105: PSC | AU105: 1
D106: VV | F106: Skládka_1_4 | H106: 55.62 | AT106: VV | AU106: 1 | AV106: 2 | AW106: True | AX106: 0 | AY106: ROZPOCET
D107: VV | F107: "v kanalizaci"-12 | H107: -12 | AT107: VV | AU107: 1 | AV107: 2 | AW107: True | AX107: 0 | AY107: ROZPOCET
D108: VV | F108: Součet | H108: 43.62 | AT108: VV | AU108: 1 | AV108: 4 | AW108: True | AX108: 1 | AY108: ROZPOCET
C109: 6 | D109: K | E109: 171201211 | F109: Poplatek za uložení stavebního odpadu na skládce (skládkovné) zeminy a kameniva zatříděného do Katalogu odpadů pod kódem 170 504 | G109: t | H109: 80.697 | J109: =ROUND(I109*H109,2) -> 0 | N109: základní | P109: =O109*H109 -> 0 | Q109: 0 | R109: =Q109*H109 -> 0 | S109: 0 | T109: =S109*H109 -> 0 | AR109: 4 | AT109: K | AU109: 1 | AY109: ROZPOCET | BE109: =IF(N109="základní",J109,0) -> 0 | BF109: =IF(N109="snížená",J109,0) -> 0 | BG109: =IF(N109="zákl. přenesená",J109,0) -> 0 | BH109: =IF(N109="sníž. přenesená",J109,0) -> 0 | BI109: =IF(N109="nulová",J109,0) -> 0 | BJ109: 1 | BK109: =ROUND(I109*H109,2) -> 0 | BL109: 4 | BM109: -135430019
D110: PSC | F110: Poznámka k souboru cen:_x000D_ 1. Ceny uvedené v souboru cen lze po dohodě upravit podle místních podmínek. | AT110: PSC | AU110: 1
D111: VV | F111: 43,62*1,85 | H111: 80.697 | AT111: VV | AU111: 1 | AV111: 2 | AW111: True | AX111: 0 | AY111: ROZPOCET
D112: VV | F112: Součet | H112: 80.697 | AT112: VV | AU112: 1 | AV112: 4 | AW112: True | AX112: 1 | AY112: ROZPOCET
C113: 7 | D113: K | E113: 181951102 | F113: Úprava pláně vyrovnáním výškových rozdílů v hornině tř. 1 až 4 se zhutněním | G113: m2 | H113: 171.75 | J113: =ROUND(I113*H113,2) -> 0 | N113: základní | P113: =O113*H113 -> 0 | Q113: 0 | R113: =Q113*H113 -> 0 | S113: 0 | T113: =S113*H113 -> 0 | AR113: 4 | AT113: K | AU113: 1 | AY113: ROZPOCET | BE113: =IF(N113="základní",J113,0) -> 0 | BF113: =IF(N113="snížená",J113,0) -> 0 | BG113: =IF(N113="zákl. přenesená",J113,0) -> 0 | BH113: =IF(N113="sníž. přenesená",J113,0) -> 0 | BI113: =IF(N113="nulová",J113,0) -> 0 | BJ113: 1 | BK113: =ROUND(I113*H113,2) -> 0 | BL113: 4 | BM113: 567416319
D114: PSC | F114: Poznámka k souboru cen:_x000D_ 1. Ceny jsou určeny pro urovnání všech nově zřizovaných ploch (v zářezech i na násypech) vodorovných nebo ve sklonu do 1:5 pod zpevnění ploch jakéhokoliv druhu, pod humusování, (ne však pro plochy zásypu rýh pro podzemní vedení), drnování apod. a dále, předepíše-li projekt urovnání pláně z jiného důvodu. 2. Ceny nelze použít pro urovnání lavic (berem) šířky do 3 m přerušujících svahy, pro urovnání dna silničních a železničních příkopů pro jakoukoliv šířku dna; toto urovnání se oceňuje cenami souboru cen 182 .0-1 Svahování. 3. Urovnání ploch ve sklonu přes 1 : 5 se oceňuje cenami souboru cen 182 . 0-11 Svahování trvalých svahů do projektovaných profilů. 4. Náklady na urovnání dna a stěn při čištění příkopů pozemních komunikací jsou započteny v cenách souborů cen 938 90-2 . Čištění příkopů komunikací v suchu nebo ve vodě části A02 Zemní práce pro objekty oborů 821 až 828. 5. Míru zhutnění určuje projekt. Ceny se zhutněním jsou určeny pro jakoukoliv míru zhutnění. | AT114: PSC | AU114: 1
D115: VV | F115: "Sanace pláně 15%" Vozovka*0,15 | H115: 171.75 | AT115: VV | AU115: 1 | AV115: 2 | AW115: True | AX115: 0 | AY115: ROZPOCET
D116: VV | F116: Součet | H116: 171.75 | AT116: VV | AU116: 1 | AV116: 4 | AW116: True | AX116: 1 | AY116: ROZPOCET
D117: D | E117: 5 | F117: Komunikace pozemní | J117: =BK117 -> 0 | P117: =SUM(P118:P134) -> 0 | R117: =SUM(R118:R134) -> 72.3869 | T117: =SUM(T118:T134) -> 0 | AR117: 1 | AT117: D | AU117: 0 | AY117: ROZPOCET | BK117: =SUM(BK118:BK134) -> 0
C118: 8 | D118: K | E118: 564861111 | F118: Podklad ze štěrkodrti ŠD s rozprostřením a zhutněním, po zhutnění tl. 200 mm | G118: m2 | H118: 171.75 | J118: =ROUND(I118*H118,2) -> 0 | N118: základní | P118: =O118*H118 -> 0 | Q118: 0.378 | R118: =Q118*H118 -> 64.9215 | S118: 0 | T118: =S118*H118 -> 0 | AR118: 4 | AT118: K | AU118: 1 | AY118: ROZPOCET | BE118: =IF(N118="základní",J118,0) -> 0 | BF118: =IF(N118="snížená",J118,0) -> 0 | BG118: =IF(N118="zákl. přenesená",J118,0) -> 0 | BH118: =IF(N118="sníž. přenesená",J118,0) -> 0 | BI118: =IF(N118="nulová",J118,0) -> 0 | BJ118: 1 | BK118: =ROUND(I118*H118,2) -> 0 | BL118: 4 | BM118: -175901486
D119: VV | F119: "Sanace pláně 15%" Vozovka*0,15 | H119: 171.75 | AT119: VV | AU119: 1 | AV119: 2 | AW119: True | AX119: 0 | AY119: ROZPOCET
D120: VV | F120: Součet | H120: 171.75 | AT120: VV | AU120: 1 | AV120: 4 | AW120: True | AX120: 1 | AY120: ROZPOCET
C121: 9 | D121: K | E121: 573111112 | F121: Postřik infiltrační PI z asfaltu silničního s posypem kamenivem, v množství 1,00 kg/m2 | G121: m2 | H121: 1145 | J121: =ROUND(I121*H121,2) -> 0 | N121: základní | P121: =O121*H121 -> 0 | Q121: 0.00601 | R121: =Q121*H121 -> 6.88145 | S121: 0 | T121: =S121*H121 -> 0 | AR121: 4 | AT121: K | AU121: 1 | AY121: ROZPOCET | BE121: =IF(N121="základní",J121,0) -> 0 | BF121: =IF(N121="snížená",J121,0) -> 0 | BG121: =IF(N121="zákl. přenesená",J121,0) -> 0 | BH121: =IF(N121="sníž. přenesená",J121,0) -> 0 | BI121: =IF(N121="nulová",J121,0) -> 0 | BJ121: 1 | BK121: =ROUND(I121*H121,2) -> 0 | BL121: 4 | BM121: 1832467173
D122: VV | F122: Vozovka | H122: 1145 | AT122: VV | AU122: 1 | AV122: 2 | AW122: True | AX122: 0 | AY122: ROZPOCET
D123: VV | F123: Součet | H123: 1145 | AT123: VV | AU123: 1 | AV123: 4 | AW123: True | AX123: 1 | AY123: ROZPOCET
C124: 10 | D124: K | E124: 573231108 | F124: Postřik spojovací PS bez posypu kamenivem ze silniční emulze, v množství 0,50 kg/m2 | G124: m2 | H124: 1145 | J124: =ROUND(I124*H124,2) -> 0 | N124: základní | P124: =O124*H124 -> 0 | Q124: 0.00051 | R124: =Q124*H124 -> 0.58395 | S124: 0 | T124: =S124*H124 -> 0 | AR124: 4 | AT124: K | AU124: 1 | AY124: ROZPOCET | BE124: =IF(N124="základní",J124,0) -> 0 | BF124: =IF(N124="snížená",J124,0) -> 0 | BG124: =IF(N124="zákl. přenesená",J124,0) -> 0 | BH124: =IF(N124="sníž. přenesená",J124,0) -> 0 | BI124: =IF(N124="nulová",J124,0) -> 0 | BJ124: 1 | BK124: =ROUND(I124*H124,2) -> 0 | BL124: 4 | BM124: 1151979309
D125: VV | F125: Vozovka | H125: 1145 | AT125: VV | AU125: 1 | AV125: 2 | AW125: True | AX125: 0 | AY125: ROZPOCET
D126: VV | F126: Součet | H126: 1145 | AT126: VV | AU126: 1 | AV126: 4 | AW126: True | AX126: 1 | AY126: ROZPOCET
C127: 11 | D127: K | E127: 577144111R | F127: Asfaltový beton vrstva obrusná ACO 11+ 50/70 s rozprostřením a se zhutněním z nemodifikovaného asfaltu v pruhu šířky do 3 m tř. I, po zhutnění tl. 50 mm | G127: m2 | H127: 1145 | J127: =ROUND(I127*H127,2) -> 0 | N127: základní | P127: =O127*H127 -> 0 | Q127: 0 | R127: =Q127*H127 -> 0 | S127: 0 | T127: =S127*H127 -> 0 | AR127: 4 | AT127: K | AU127: 1 | AY127: ROZPOCET | BE127: =IF(N127="základní",J127,0) -> 0 | BF127: =IF(N127="snížená",J127,0) -> 0 | BG127: =IF(N127="zákl. přenesená",J127,0) -> 0 | BH127: =IF(N127="sníž. přenesená",J127,0) -> 0 | BI127: =IF(N127="nulová",J127,0) -> 0 | BJ127: 1 | BK127: =ROUND(I127*H127,2) -> 0 | BL127: 4 | BM127: 1405039312
D128: PSC | F128: Poznámka k souboru cen:_x000D_ 1. ČSN EN 13108-1 připouští pro ACO 11 pouze tl. 35 až 50 mm. | AT128: PSC | AU128: 1
D129: VV | F129: Vozovka | H129: 1145 | AT129: VV | AU129: 1 | AV129: 2 | AW129: True | AX129: 0 | AY129: ROZPOCET
D130: VV | F130: Součet | H130: 1145 | AT130: VV | AU130: 1 | AV130: 4 | AW130: True | AX130: 1 | AY130: ROZPOCET
C131: 12 | D131: K | E131: 577145112R | F131: Asfaltový beton vrstva ložní ACL 16+ 50/70 s rozprostřením a zhutněním z nemodifikovaného asfaltu v pruhu šířky do 3 m, po zhutnění tl. 50 mm | G131: m2 | H131: 1145 | J131: =ROUND(I131*H131,2) -> 0 | N131: základní | P131: =O131*H131 -> 0 | Q131: 0 | R131: =Q131*H131 -> 0 | S131: 0 | T131: =S131*H131 -> 0 | AR131: 4 | AT131: K | AU131: 1 | AY131: ROZPOCET | BE131: =IF(N131="základní",J131,0) -> 0 | BF131: =IF(N131="snížená",J131,0) -> 0 | BG131: =IF(N131="zákl. přenesená",J131,0) -> 0 | BH131: =IF(N131="sníž. přenesená",J131,0) -> 0 | BI131: =IF(N131="nulová",J131,0) -> 0 | BJ131: 1 | BK131: =ROUND(I131*H131,2) -> 0 | BL131: 4 | BM131: 947161935
D132: PSC | F132: Poznámka k souboru cen:_x000D_ 1. ČSN EN 13108-1 připouští pro ACL 16 pouze tl. 50 až 70 mm. | AT132: PSC | AU132: 1
...

Sheet SO 02 - Dešťová kanalizace
AT2: {d6b50b70-07c1-4b1b-b592-de1fee05dd40}
AT3: 2
D4: KRYCÍ LIST SOUPISU PRACÍ | M4: v --- níže se nacházejí doplnkové a pomocné údaje k sestavám --- v | AT4: False
D6: Stavba:
E7: ='Rekapitulace stavby'!K6 -> Souvislá údržba ulice Luční
D8: Objekt:
E9: SO 02 - Dešťová kanalizace
D11: KSO: | I11: CC-CZ:
D12: Místo: | I12: Datum: | J12: ='Rekapitulace stavby'!AN8 -> 3. 5. 2021
D14: Zadavatel: | I14: IČ: | J14: 00272523
E15: Město Broumov | I15: DIČ: | J15: CZ00272523
D17: Uchazeč: | I17: IČ: | J17: ='Rekapitulace stavby'!AN13 -> Vyplň údaj
E18: ='Rekapitulace stavby'!E14 -> Vyplň údaj | I18: DIČ: | J18: ='Rekapitulace stavby'!AN14 -> Vyplň údaj
D20: Projektant: | I20: IČ: | J20: =IF('Rekapitulace stavby'!AN16="","",'Rekapitulace stavby'!AN16)
E21: =IF('Rekapitulace stavby'!E17="","",'Rekapitulace stavby'!E17) | I21: DIČ: | J21: =IF('Rekapitulace stavby'!AN17="","",'Rekapitulace stavby'!AN17)
D23: Zpracovatel: | I23: IČ: | J23: =IF('Rekapitulace stavby'!AN19="","",'Rekapitulace stavby'!AN19)
E24: =IF('Rekapitulace stavby'!E20="","",'Rekapitulace stavby'!E20) | I24: DIČ: | J24: =IF('Rekapitulace stavby'!AN20="","",'Rekapitulace stavby'!AN20)
D26: Poznámka:
D30: Cena bez DPH | J30: =ROUND(J86, 2) -> 0
F32: Základ daně | I32: Sazba daně | J32: Výše daně
D33: DPH | E33: základní | F33: =ROUND((SUM(BE86:BE179)), 2) -> 0 | I33: 0.21 | J33: =ROUND(((SUM(BE86:BE179))*I33), 2) -> 0
E34: snížená | F34: =ROUND((SUM(BF86:BF179)), 2) -> 0 | I34: 0.15 | J34: =ROUND(((SUM(BF86:BF179))*I34), 2) -> 0
E35: zákl. přenesená | F35: =ROUND((SUM(BG86:BG179)), 2) -> 0 | I35: 0.21 | J35: =0 -> 0
E36: sníž. přenesená | F36: =ROUND((SUM(BH86:BH179)), 2) -> 0 | I36: 0.15 | J36: =0 -> 0
E37: nulová | F37: =ROUND((SUM(BI86:BI179)), 2) -> 0 | I37: 0 | J37: =0 -> 0
D39: Cena s DPH | G39: v | H39: CZK | J39: =SUM(J30:J37) -> 0
C45: REKAPITULACE ČLENĚNÍ SOUPISU PRACÍ
C47: Stavba:
E48: =E7 -> Souvislá údržba ulice Luční
C49: Objekt:
E50: =E9 -> SO 02 - Dešťová kanalizace
C52: Místo: | F52: =F12 | I52: Datum: | J52: =IF(J12="","",J12) -> 3. 5. 2021
C54: Zadavatel: | F54: =E15 -> Město Broumov | I54: Projektant: | J54: =E21
C55: Uchazeč: | F55: =IF(E18="","",E18) -> Vyplň údaj | I55: Zpracovatel: | J55: =E24
C57: Kód dílu - Popis | J57: Cena celkem [CZK]
C59: Náklady stavby celkem | J59: =J86 -> 0 | AU59: -1
D60: HSV - Práce a dodávky HSV | J60: =J87 -> 0
D61: 1 - Zemní práce | J61: =J88 -> 0
D62: 4 - Vodorovné konstrukce | J62: =J127 -> 0
D63: 8 - Trubní vedení | J63: =J133 -> 0
D64: 9 - Ostatní konstrukce a práce, bourání | J64: =J161 -> 0
D65: 997 - Přesun sutě | J65: =J170 -> 0
D66: 998 - Přesun hmot | J66: =J177 -> 0
C73: SOUPIS PRACÍ
C75: Stavba:
E76: =E7 -> Souvislá údržba ulice Luční
C77: Objekt:
E78: =E9 -> SO 02 - Dešťová kanalizace
C80: Místo: | F80: =F12 | I80: Datum: | J80: =IF(J12="","",J12) -> 3. 5. 2021
C82: Zadavatel: | F82: =E15 -> Město Broumov | I82: Projektant: | J82: =E21
C83: Uchazeč: | F83: =IF(E18="","",E18) -> Vyplň údaj | I83: Zpracovatel: | J83: =E24
C85: PČ | D85: Typ | E85: Kód | F85: Popis | G85: MJ | H85: Množství | I85: J.cena [CZK] | J85: Cena celkem [CZK] | K85: Cenová soustava | N85: DPH | O85: J. Nh [h] | P85: Nh celkem [h] | Q85: J. hmotnost [t] | R85: Hmotnost celkem [t] | S85: J. suť [t] | T85: Suť Celkem [t]
C86: Náklady soupisu celkem | J86: =BK86 -> 0 | P86: =P87 -> 0 | R86: =R87 -> 103.81676 | T86: =T87 -> 55.72 | AT86: D | AU86: -1 | BK86: =BK87 -> 0
D87: D | E87: HSV | F87: Práce a dodávky HSV | J87: =BK87 -> 0 | P87: =P88+P127+P133+P161+P170+P177 -> 0 | R87: =R88+R127+R133+R161+R170+R177 -> 103.81676 | T87: =T88+T127+T133+T161+T170+T177 -> 55.72 | AR87: 1 | AT87: D | AU87: 0 | AY87: ROZPOCET | BK87: =BK88+BK127+BK133+BK161+BK170+BK177 -> 0
D88: D | E88: 1 | F88: Zemní práce | J88: =BK88 -> 0 | P88: =SUM(P89:P126) -> 0 | R88: =SUM(R89:R126) -> 33.6063 | T88: =SUM(T89:T126) -> 55.72 | AR88: 1 | AT88: D | AU88: 1 | AY88: ROZPOCET | BK88: =SUM(BK89:BK126) -> 0
C89: 1 | D89: K | E89: 113106023 | F89: Rozebrání dlažeb a dílců při překopech inženýrských sítí s přemístěním hmot na skládku na vzdálenost do 3 m nebo s naložením na dopravní prostředek ručně komunikací pro pěší s ložem z kameniva nebo živice a s výplní spár ze zámkové dlažby | G89: m2 | H89: 35 | J89: =ROUND(I89*H89,2) -> 0 | N89: základní | P89: =O89*H89 -> 0 | Q89: 0 | R89: =Q89*H89 -> 0 | S89: 0.26 | T89: =S89*H89 -> 9.1 | AR89: 4 | AT89: K | AU89: 2 | AY89: ROZPOCET | BE89: =IF(N89="základní",J89,0) -> 0 | BF89: =IF(N89="snížená",J89,0) -> 0 | BG89: =IF(N89="zákl. přenesená",J89,0) -> 0 | BH89: =IF(N89="sníž. přenesená",J89,0) -> 0 | BI89: =IF(N89="nulová",J89,0) -> 0 | BJ89: 1 | BK89: =ROUND(I89*H89,2) -> 0 | BL89: 4 | BM89: -383338496
D90: PSC | F90: Poznámka k souboru cen:_x000D_ 1. Ceny jsou určeny pouze pro rozebrání dlažeb včetně odstranění lože po překopech inženýrských sítí z důvodu oprav havárií a přeložek._x000D_ 2. Ceny nelze použít pro rozebrání dlažeb při zřízení nových inženýrských sítí._x000D_ 3. Ceny nelze použít pro rozebrání dlažeb uložených do betonového lože nebo do cementové malty, které se oceňují cenami 113 10-7030 až -7034, -7430 až -7434 a -7530 až -7534 Odstranění podkladů nebo krytů po překopech z betonu prostého._x000D_ 4. V cenách nejsou započteny náklady na popř. nutné očištění:_x000D_ a) dlažebních nebo mozaikových kostek, které se oceňuje cenami souboru cen 979 07-11 Očištění vybouraných dlažebních kostek části C 01 tohoto katalogu,_x000D_ b) betonových, kameninových nebo kamenných desek nebo dlaždic, které se oceňuje cenami souboru cen 979 0 . - . . Očištění vybouraných obrubníků, krajníků, desek nebo dílců části C 01 tohoto katalogu._x000D_ 5. Přemístění vybourané dlažby včetně materiálu z lože a spár na vzdálenost přes 3 m se oceňuje cenami souborů cen 997 22-1 Vodorovná doprava suti a vybouraných hmot._x000D_ | AT90: PSC | AU90: 2
D91: VV | F91: 70*0,5 | H91: 35 | AT91: VV | AU91: 2 | AV91: 2 | AW91: True | AX91: 1 | AY91: ROZPOCET
C92: 2 | D92: K | E92: 113154224 | F92: Frézování živičného podkladu nebo krytu s naložením na dopravní prostředek plochy přes 500 do 1 000 m2 bez překážek v trase pruhu šířky do 1 m, tloušťky vrstvy 100 mm | G92: m2 | H92: 70 | J92: =ROUND(I92*H92,2) -> 0 | N92: základní | P92: =O92*H92 -> 0 | Q92: 9e-05 | R92: =Q92*H92 -> 0.0063 | S92: 0.256 | T92: =S92*H92 -> 17.92 | AR92: 4 | AT92: K | AU92: 2 | AY92: ROZPOCET | BE92: =IF(N92="základní",J92,0) -> 0 | BF92: =IF(N92="snížená",J92,0) -> 0 | BG92: =IF(N92="zákl. přenesená",J92,0) -> 0 | BH92: =IF(N92="sníž. přenesená",J92,0) -> 0 | BI92: =IF(N92="nulová",J92,0) -> 0 | BJ92: 1 | BK92: =ROUND(I92*H92,2) -> 0 | BL92: 4 | BM92: 1079765476
D93: PSC | F93: Poznámka k souboru cen:_x000D_ 1. V cenách jsou započteny i náklady na:_x000D_ a) vodu pro chlazení zubů frézy,_x000D_ b) opotřebování frézovacích nástrojů,_x000D_ c) naložení odfrézovaného materiálu na dopravní prostředek._x000D_ 2. V cenách nejsou započteny náklady na:_x000D_ a) nutné ruční odstranění (vybourání) živičného krytu kolem překážek, které se oceňují cenami souboru cen 113 10-7 Odstranění podkladů nebo krytů této části katalogu,_x000D_ b) očištění povrchu odfrézované plochy, které se oceňují cenami souboru cen 938 90-9 Odstranění bláta, prachu z povrchu podkladu nebo krytu části C01 tohoto katalogu._x000D_ 3. Množství měrných jednotek pro rozpočet určí projekt. Drobné překážky, např. vpusti, uzávěry, sloupy (plochy do 2 m2) se z celkové frézované plochy neodečítají._x000D_ 4. Tloušťku frézované vrstvy určí projekt a měří se tloušťka jednotlivých záběrů v mm._x000D_ 5. Cena s překážkami je určena v případech, kdy:_x000D_ a) na 200 m2 frézované plochy se vyskytne v průměru více než jedna vpusť nebo vstup inženýrských sítí, popř. stožár, vstupní ostrůvek apod.,_x000D_ b) jsou-li podél frézované plochy osazeny obrubníky s výškovým rozdílem horní plochy obrubníku od frézované plochy větší než 250 mm._x000D_ 6. Překážkami se rozumějí obrubníky nebo krajníky, pokud výškový rozdíl horní plochy obrubníku od frézované plochy je větší než 250 mm, vpusti nebo vstupy inženýrských sítí, stožáry, nástupní a ochranné ostrůvky apod._x000D_ | AT93: PSC | AU93: 2
D94: VV | F94: 70*1 | H94: 70 | AT94: VV | AU94: 2 | AV94: 2 | AW94: True | AX94: 0 | AY94: ROZPOCET
D95: VV | F95: Součet | H95: 70 | AT95: VV | AU95: 2 | AV95: 4 | AW95: True | AX95: 1 | AY95: ROZPOCET
C96: 3 | D96: K | E96: 113202111 | F96: Vytrhání obrub s vybouráním lože, s přemístěním hmot na skládku na vzdálenost do 3 m nebo s naložením na dopravní prostředek z krajníků nebo obrubníků stojatých | G96: m | H96: 140 | J96: =ROUND(I96*H96,2) -> 0 | N96: základní | P96: =O96*H96 -> 0 | Q96: 0 | R96: =Q96*H96 -> 0 | S96: 0.205 | T96: =S96*H96 -> 28.7 | AR96: 4 | AT96: K | AU96: 2 | AY96: ROZPOCET | BE96: =IF(N96="základní",J96,0) -> 0 | BF96: =IF(N96="snížená",J96,0) -> 0 | BG96: =IF(N96="zákl. přenesená",J96,0) -> 0 | BH96: =IF(N96="sníž. přenesená",J96,0) -> 0 | BI96: =IF(N96="nulová",J96,0) -> 0 | BJ96: 1 | BK96: =ROUND(I96*H96,2) -> 0 | BL96: 4 | BM96: -287115035
D97: PSC | F97: Poznámka k souboru cen:_x000D_ 1. Ceny jsou určeny:_x000D_ a) pro vytrhání obrub, obrubníků nebo krajníků jakéhokoliv druhu a velikosti uložených v jakémkoliv loži popř. i s opěrami a vyspárovaných jakýmkoliv materiálem,_x000D_ b) pro obruby z dlažebních kostek uložených v jedné řadě._x000D_ 2. V cenách nejsou započteny náklady na popř. nutné očištění:_x000D_ a) vytrhaných obrubníků nebo krajníků, které se oceňuje cenami souboru cen 979 0 . - . . Očištění vybouraných obrubníků, krajníků, desek nebo dílců části C 01 tohoto ceníku,_x000D_ b) vytrhaných dlažebních kostek, které se oceňují cenami souboru cen 979 07-11 Očištění vybouraných dlažebních kostek části C 01 tohoto ceníku._x000D_ 3. Vytrhání obrub ze dvou řad kostek se oceňuje jako dvojnásobné množství vytrhání obrub z jedné řady kostek._x000D_ 4. Přemístění vybouraných obrub, krajníků nebo dlažebních kostek včetně materiálu z lože a spár na vzdálenost přes 3 m se oceňuje cenami souborů cen 997 22-1 Vodorovná doprava suti a vybouraných hmot._x000D_ | AT97: PSC | AU97: 2
C98: 4 | D98: K | E98: 130001101 | F98: Příplatek k cenám hloubených vykopávek za ztížení vykopávky v blízkosti podzemního vedení nebo výbušnin pro jakoukoliv třídu horniny | G98: m3 | H98: 28.8 | J98: =ROUND(I98*H98,2) -> 0 | N98: základní | P98: =O98*H98 -> 0 | Q98: 0 | R98: =Q98*H98 -> 0 | S98: 0 | T98: =S98*H98 -> 0 | AR98: 4 | AT98: K | AU98: 2 | AY98: ROZPOCET | BE98: =IF(N98="základní",J98,0) -> 0 | BF98: =IF(N98="snížená",J98,0) -> 0 | BG98: =IF(N98="zákl. přenesená",J98,0) -> 0 | BH98: =IF(N98="sníž. přenesená",J98,0) -> 0 | BI98: =IF(N98="nulová",J98,0) -> 0 | BJ98: 1 | BK98: =ROUND(I98*H98,2) -> 0 | BL98: 4 | BM98: 1064962373
D99: PSC | F99: Poznámka k souboru cen:_x000D_ 1. Cena je určena:_x000D_ a) i pro soubor cen 123 . 0-21 Vykopávky zářezů se šikmými stěnami pro podzemní vedení části A 02,_x000D_ b) pro podzemní vedení procházející hloubenou vykopávkou nebo uložené ve stěně výkopu při jakékoliv hloubce vedení pod původním terénem nebo jeho výšce nade dnem výkopu a jakémkoliv směru vedení ke stranám výkopu;_x000D_ c) pro výbušniny nezaložené dodavatelem._x000D_ 2. Cenu lze použít i tehdy, narazí-li se na vedení nebo výbušninu až při vykopávce a to pro zbývající objem výkopu, který je projektantem nebo investorem označen, v němž by toto nebo jiné nepředvídané vedení nebo výbušnina mohlo být uloženo. Toto ustanovení neplatí pro objem hornin tř. 6 a 7._x000D_ 3. Cenu nelze použít pro ztížení vykopávky v blízkosti podzemních vedení nebo výbušnin, u nichž je projektem zakázáno použít při vykopávce kovové nástroje nebo nářadí._x000D_ 4. Množství ztížení vykopávky v blízkosti_x000D_ a) podzemního vedení, jehož půdorysná a výšková poloha_x000D_ - je v projektu uvedena, se určí jako objem myšleného hranolu, jehož průřez je pravidelný čtyřúhelník jehož horní vodorovná a obě svislé strany jsou ve vzdálenosti 0,5 m a dolní vodorovná hrana ve vzdálenosti 1 m od přilehlého vnějšího líce vedení, příp. jeho obalu a délka se rovná osové délce vedení ve výkopišti nebo délce vedení ve stěně výkopu. Vymezí-li projekt větší prostor, v němž je nutno při vykopávce postupovat opatrně, lze použít cena pro celý objem výkopu v tomto prostoru. Od takto zjištěného množství se odečítá objem vedení i s příp. se vyskytujícím obalem;_x000D_ - není v projektu uvedena, avšak která podle projektu nebo sdělení investora jsou pravděpodobně ve výkopišti uložena, se rovná objemu výkopu, který je projektantem nebo investorem označen._x000D_ b) výbušniny, určí vždy projektant nebo investor, ať je v projektu uvedeno či neuvedeno._x000D_ 5. Je-li vedení uloženo ve výkopišti tak, že se vykopávka v celém výše popsaném objemu nevykopává, např. blízko stěn nebo dna výkopu, oceňuje se ztížení vykopávky jen pro tu část objemu, v níž se ztížená vykopávka provádí._x000D_ 6. Jsou-li ve výkopišti dvě vedení položena tak blízko sebe, že se výše uvedené objemy pro obě vedení pronikají, určí se množství ztížení vykopávky tak, aby se pronik započetl jen jednou._x000D_ 7. Objem ztížení vykopávky se od celkového objemu výkopu neodečítá._x000D_ 8. Dočasné zajištění různých podzemních vedení ve výkopišti se oceňuje cenami souboru cen 119 00-14 Dočasné zajištění podzemního potrubí nebo vedení ve výkopišti._x000D_ | AT99: PSC | AU99: 2
C100: 5 | D100: K | E100: 132301201 | F100: Hloubení zapažených i nezapažených rýh šířky přes 600 do 2 000 mm s urovnáním dna do předepsaného profilu a spádu v hornině tř. 4 do 100 m3 | G100: m3 | H100: 50.4 | J100: =ROUND(I100*H100,2) -> 0 | N100: základní | P100: =O100*H100 -> 0 | Q100: 0 | R100: =Q100*H100 -> 0 | S100: 0 | T100: =S100*H100 -> 0 | AR100: 4 | AT100: K | AU100: 2 | AY100: ROZPOCET | BE100: =IF(N100="základní",J100,0) -> 0 | BF100: =IF(N100="snížená",J100,0) -> 0 | BG100: =IF(N100="zákl. přenesená",J100,0) -> 0 | BH100: =IF(N100="sníž. přenesená",J100,0) -> 0 | BI100: =IF(N100="nulová",J100,0) -> 0 | BJ100: 1 | BK100: =ROUND(I100*H100,2) -> 0 | BL100: 4 | BM100: -655986627
D101: PSC | F101: Poznámka k souboru cen:_x000D_ 1. V cenách jsou započteny i náklady na případné nutné přemístění výkopku ve výkopišti na vzdálenost do 3 m a na přehození výkopku na přilehlém terénu na vzdálenost do 5 m od okraje jámy nebo naložení na dopravní prostředek. 2. Hloubení rýh při lesnicko-technických melioracích se oceňuje: a) ve stržích cenami platnými pro objem výkopu do 100 m3, i když skutečný objem výkopu je větší, b) mimo strže pro příčná a podélná zpevnění dna a břehů pod obrysem výkopu pro koryta vodotečí, zejména pro konstrukce těles, stupňů, boků, předprahů, prahů, odháněk, výhonů a pro základy zdí, dlažeb, rovnanin, plůtků a hatí, pro jakoukoliv šířku rýhy, při objemu do 100 m3 cenami příslušnými pro objem výkopu do 100 m3 a při jakémkoliv objemu výkopu přes 100 m3 cenami příslušnými pro objem výkopu přes 100 do 1 000 m3. 3. Náklady na svislé přemístění výkopku nad 1 m hloubky se určí dle ustanovení článku č. 3161 všeobecných podmínek katalogu. 4. Předepisuje-li projekt hloubit rýhy 5 až 7 bez použití trhavin, oceňuje se toto hloubení: a) v suchu nebo mokru cenami 138 40-1201, 138 50-1201 a 138 60-1201 Dolamování hloubených vykopávek, b) v tekoucí vodě při jakékoliv její rychlosti individuálně. 5. Ceny nelze použít pro hloubení rýh a hloubky přes 16 m. Tyto práce se oceňují individuálně. | AT101: PSC | AU101: 2
D102: VV | F102: "Výkop pro přípojení vpustí" 3*3,6*1*1,5 | H102: 16.2 | AT102: VV | AU102: 2 | AV102: 2 | AW102: True | AX102: 0 | AY102: ROZPOCET
D103: VV | F103: "pro žlaby a obruby" 140*0,3*0,6 | H103: 25.2 | AT103: VV | AU103: 2 | AV103: 2 | AW103: True | AX103: 0 | AY103: ROZPOCET
D104: VV | F104: "pro žlabové vpusti" 3*2*1*1,5 | H104: 9 | AT104: VV | AU104: 2 | AV104: 2 | AW104: True | AX104: 0 | AY104: ROZPOCET
D105: VV | E105: Hloubení_rýh | F105: Součet | H105: 50.4 | AT105: VV | AU105: 2 | AV105: 4 | AW105: True | AX105: 1 | AY105: ROZPOCET
C106: 6 | D106: K | E106: 132301209 | F106: Hloubení zapažených i nezapažených rýh šířky přes 600 do 2 000 mm s urovnáním dna do předepsaného profilu a spádu v hornině tř. 4 Příplatek k cenám za lepivost horniny tř. 4 | G106: m3 | H106: 50.4 | J106: =ROUND(I106*H106,2) -> 0 | N106: základní | P106: =O106*H106 -> 0 | Q106: 0 | R106: =Q106*H106 -> 0 | S106: 0 | T106: =S106*H106 -> 0 | AR106: 4 | AT106: K | AU106: 2 | AY106: ROZPOCET | BE106: =IF(N106="základní",J106,0) -> 0 | BF106: =IF(N106="snížená",J106,0) -> 0 | BG106: =IF(N106="zákl. přenesená",J106,0) -> 0 | BH106: =IF(N106="sníž. přenesená",J106,0) -> 0 | BI106: =IF(N106="nulová",J106,0) -> 0 | BJ106: 1 | BK106: =ROUND(I106*H106,2) -> 0 | BL106: 4 | BM106: 811897052
D107: PSC | F107: Poznámka k souboru cen:_x000D_ 1. V cenách jsou započteny i náklady na případné nutné přemístění výkopku ve výkopišti na vzdálenost do 3 m a na přehození výkopku na přilehlém terénu na vzdálenost do 5 m od okraje jámy nebo naložení na dopravní prostředek. 2. Hloubení rýh při lesnicko-technických melioracích se oceňuje: a) ve stržích cenami platnými pro objem výkopu do 100 m3, i když skutečný objem výkopu je větší, b) mimo strže pro příčná a podélná zpevnění dna a břehů pod obrysem výkopu pro koryta vodotečí, zejména pro konstrukce těles, stupňů, boků, předprahů, prahů, odháněk, výhonů a pro základy zdí, dlažeb, rovnanin, plůtků a hatí, pro jakoukoliv šířku rýhy, při objemu do 100 m3 cenami příslušnými pro objem výkopu do 100 m3 a při jakémkoliv objemu výkopu přes 100 m3 cenami příslušnými pro objem výkopu přes 100 do 1 000 m3. 3. Náklady na svislé přemístění výkopku nad 1 m hloubky se určí dle ustanovení článku č. 3161 všeobecných podmínek katalogu. 4. Předepisuje-li projekt hloubit rýhy 5 až 7 bez použití trhavin, oceňuje se toto hloubení: a) v suchu nebo mokru cenami 138 40-1201, 138 50-1201 a 138 60-1201 Dolamování hloubených vykopávek, b) v tekoucí vodě při jakékoliv její rychlosti individuálně. 5. Ceny nelze použít pro hloubení rýh a hloubky přes 16 m. Tyto práce se oceňují individuálně. | AT107: PSC | AU107: 2
C108: 7 | D108: K | E108: 162701105 | F108: Vodorovné přemístění výkopku nebo sypaniny po suchu na obvyklém dopravním prostředku, bez naložení výkopku, avšak se složením bez rozhrnutí z horniny tř. 1 až 4 na vzdálenost přes 9 000 do 10 000 m | G108: m3 | H108: 50.4 | J108: =ROUND(I108*H108,2) -> 0 | N108: základní | P108: =O108*H108 -> 0 | Q108: 0 | R108: =Q108*H108 -> 0 | S108: 0 | T108: =S108*H108 -> 0 | AR108: 4 | AT108: K | AU108: 2 | AY108: ROZPOCET | BE108: =IF(N108="základní",J108,0) -> 0 | BF108: =IF(N108="snížená",J108,0) -> 0 | BG108: =IF(N108="zákl. přenesená",J108,0) -> 0 | BH108: =IF(N108="sníž. přenesená",J108,0) -> 0 | BI108: =IF(N108="nulová",J108,0) -> 0 | BJ108: 1 | BK108: =ROUND(I108*H108,2) -> 0 | BL108: 4 | BM108: 923299147
D109: PSC | F109: Poznámka k souboru cen:_x000D_ 1. Ceny nelze použít, předepisuje-li projekt přemístit výkopek na místo nepřístupné obvyklým dopravním prostředkům; toto přemístění se oceňuje individuálně. 2. V cenách jsou započteny i náhrady za jízdu loženého vozidla v terénu ve výkopišti nebo na násypišti. 3. V cenách nejsou započteny náklady na rozhrnutí výkopku na násypišti; toto rozhrnutí se oceňuje cenami souboru cen 171 . 0- . . Uložení sypaniny do násypů a 171 20-1201 Uložení sypaniny na skládky. 4. Je-li na dopravní dráze pro vodorovné přemístění nějaká překážka, pro kterou je nutno překládat výkopek z jednoho obvyklého dopravního prostředku na jiný obvyklý dopravní prostředek, oceňuje se toto lomené vodorovné přemístění výkopku v každém úseku samostatně příslušnou cenou tohoto souboru cen a překládání výkopku cenami souboru cen 167 10-3 . Nakládání neulehlého výkopku z hromad s ohledem na ustanovení pozn. číslo 5. 5. Přemísťuje-li se výkopek z dočasných skládek vzdálených do 50 m, neoceňuje se nakládání výkopku, i když se provádí. Toto ustanovení neplatí, vylučuje-li projekt použití dozeru. 6. V cenách vodorovného přemístění sypaniny nejsou započteny náklady na dodávku materiálu, tyto se oceňují ve specifikaci. | AT109: PSC | AU109: 2
C110: 8 | D110: K | E110: 171201211 | F110: Poplatek za uložení stavebního odpadu na skládce (skládkovné) zeminy a kameniva zatříděného do Katalogu odpadů pod kódem 170 504 | G110: t | H110: 100.8 | J110: =ROUND(I110*H110,2) -> 0 | N110: základní | P110: =O110*H110 -> 0 | Q110: 0 | R110: =Q110*H110 -> 0 | S110: 0 | T110: =S110*H110 -> 0 | AR110: 4 | AT110: K | AU110: 2 | AY110: ROZPOCET | BE110: =IF(N110="základní",J110,0) -> 0 | BF110: =IF(N110="snížená",J110,0) -> 0 | BG110: =IF(N110="zákl. přenesená",J110,0) -> 0 | BH110: =IF(N110="sníž. přenesená",J110,0) -> 0 | BI110: =IF(N110="nulová",J110,0) -> 0 | BJ110: 1 | BK110: =ROUND(I110*H110,2) -> 0 | BL110: 4 | BM110: -790493998
D111: PSC | F111: Poznámka k souboru cen:_x000D_ 1. Ceny uvedené v souboru cen lze po dohodě upravit podle místních podmínek. | AT111: PSC | AU111: 2
D112: VV | F112: 50,4*2 'Přepočtené koeficientem množství | H112: 100.8 | AT112: VV | AU112: 2 | AV112: 2 | AW112: False | AX112: 1 | AY112: ROZPOCET
C113: 9 | D113: K | E113: 174101101 | F113: Zásyp sypaninou z jakékoliv horniny s uložením výkopku ve vrstvách se zhutněním jam, šachet, rýh nebo kolem objektů v těchto vykopávkách | G113: m3 | H113: 16.8 | J113: =ROUND(I113*H113,2) -> 0 | N113: základní | P113: =O113*H113 -> 0 | Q113: 0 | R113: =Q113*H113 -> 0 | S113: 0 | T113: =S113*H113 -> 0 | AR113: 4 | AT113: K | AU113: 2 | AY113: ROZPOCET | BE113: =IF(N113="základní",J113,0) -> 0 | BF113: =IF(N113="snížená",J113,0) -> 0 | BG113: =IF(N113="zákl. přenesená",J113,0) -> 0 | BH113: =IF(N113="sníž. přenesená",J113,0) -> 0 | BI113: =IF(N113="nulová",J113,0) -> 0 | BJ113: 1 | BK113: =ROUND(I113*H113,2) -> 0 | BL113: 4 | BM113: 5085598
D114: PSC | F114: Poznámka k souboru cen:_x000D_ 1. Ceny 174 10- . . jsou určeny pro zhutněné zásypy s mírou zhutnění: a) z hornin soudržných do 100 % PS, b) z hornin nesoudržných do I(d) 0,9, c) z hornin kamenitých pro jakoukoliv míru zhutnění. 2. Je-li projektem předepsáno vyšší zhutnění, podle bodu a) a b) poznámky č 1., ocení se zásyp individuálně. 3. Ceny nelze použít pro zásyp rýh pro drenážní trativody pro lesnicko-technické meliorace a zemědělské. Zásyp těchto rýh se oceňuje cenami souboru cen 174 20-3 . části A 03 Zemní práce pro objekty oborů 831 až 833. Nezhutněný zásyp odvodňovacích kanálů z betonových a železobetonových trub v polních a lučních tratích se oceňuje cenou -1101 Zásyp sypaninou rýh bez ohledu na šířku kanálu; cena obsahuje i náklady na ruční nezhutněný zásyp výšky do 200 mm nad vrchol potrubí. 4. V cenách 10-1101, 10-1103, 20-1101 a 20-1103 je započteno přemístění sypaniny ze vzdálenosti 10 m od kraje výkopu nebo zasypávaného prostoru, měřeno k těžišti skládky. 5. V ceně 10-1102 je započteno přemístění sypaniny ze vzdálenosti 15 m od hrany zasypávaného prostoru, měřeno k těžišti skládky. 6. Objem zásypu je rozdíl objemu výkopu a objemu do něho vestavěných konstrukcí nebo uložených vedení i s jejich obklady a podklady (tento objem se nazývá objemem horniny vytlačené konstrukcí). Objem potrubí do DN 180, příp. i s obalem, se od objemu zásypu neodečítá. Pro stanovení objemu zásypu se od objemu výkopu odečítá i objem obsypu potrubí oceňovaný cenami souboru cen 175 10-11 Obsyp potrubí, přichází-li v úvahu . 7. Odklizení zbylého výkopku po provedení zásypu zářezů se šikmými stěnami pro podzemní vedení nebo zásypu jam a rýh pro podzemní vedení se oceňuje, je-li objem zbylého výkopku: a) do 1 m3 na 1 m vedení a jedná se o výkopek neulehlý - cenami souboru cen 167 10-110 Nakládání výkopku nebo sypaniny a 162 . 0-1 . Vodorovné přemístění výkopku. V případě, že se jedná o výkopek ulehlý - rozpojení a naložení výkopku cenami souboru cen 122 . 0-1 . souboru cen 162 . 0-1 . Vodorovné přemístění výkopku; b) přes 1 m3 na 1 m vedení, jestliže projekt předepíše, že se zbylý výkopek bude odklízet zároveň s prováděním vykopávky, pouze přemístění výkopku cenami souboru cen 162 . 0-1 . Vodorovné přemístění výkopku. Při zmíněném objemu zbylého výkopku se neoceňuje ani naložení ani rozpojení výkopku. Jestliže se zbylý výkopek neodklízí, nýbrž rozprostírá podél výkopu a nad výkopem, platí poznámka č. 8. 8. Rozprostření zbylého výkopku podél výkopu a nad výkopem po provedení zásypů zářezů se šikmými stěnami pro podzemní vedení nebo zásypu jam a rýh pro podzemní vedení se oceňuje: a) cenou 171 20-1101 Uložení sypaniny do nezhutněných násypů, není-li projektem předepsáno zhutnění rozprostřeného zbylého výkopku, b) cenou 171 10-1111 Uložení sypaniny do násypů z hornin sypkých, je-li předepsáno zhutnění rozprostřeného zbylého výkopku, a to v objemu vypočteném podle poznámky č.6, příp. zmenšeném o objem výkopku, který byl již odklizen. 9. Míru zhutnění předepisuje projekt. | AT114: PSC | AU114: 2
D115: VV | F115: 3*3,6*1*1 | H115: 10.8 | AT115: VV | AU115: 2 | AV115: 2 | AW115: True | AX115: 0 | AY115: ROZPOCET
D116: VV | F116: 3*2*1*1 | H116: 6 | AT116: VV | AU116: 2 | AV116: 2 | AW116: True | AX116: 0 | AY116: ROZPOCET
D117: VV | E117: Zásyp | F117: Součet | H117: 16.8 | AT117: VV | AU117: 2 | AV117: 4 | AW117: True | AX117: 1 | AY117: ROZPOCET
C118: 10 | D118: M | E118: 58344171 | F118: štěrkodrť frakce 0/32 | G118: t | H118: 33.6 | J118: =ROUND(I118*H118,2) -> 0 | N118: základní | P118: =O118*H118 -> 0 | Q118: 1 | R118: =Q118*H118 -> 33.6 | S118: 0 | T118: =S118*H118 -> 0 | AR118: 8 | AT118: M | AU118: 2 | AY118: ROZPOCET | BE118: =IF(N118="základní",J118,0) -> 0 | BF118: =IF(N118="snížená",J118,0) -> 0 | BG118: =IF(N118="zákl. přenesená",J118,0) -> 0 | BH118: =IF(N118="sníž. přenesená",J118,0) -> 0 | BI118: =IF(N118="nulová",J118,0) -> 0 | BJ118: 1 | BK118: =ROUND(I118*H118,2) -> 0 | BL118: 4 | BM118: -1382983714
D119: VV | F119: 16,8*2 'Přepočtené koeficientem množství | H119: 33.6 | AT119: VV | AU119: 2 | AV119: 2 | AW119: False | AX119: 1 | AY119: ROZPOCET
C120: 11 | D120: K | E120: 175151101 | F120: Obsypání potrubí strojně sypaninou z vhodných hornin tř. 1 až 4 nebo materiálem připraveným podél výkopu ve vzdálenosti do 3 m od jeho kraje, pro jakoukoliv hloubku výkopu a míru zhutnění bez prohození sypaniny | G120: m3 | H120: 4.362 | J120: =ROUND(I120*H120,2) -> 0 | N120: základní | P120: =O120*H120 -> 0 | Q120: 0 | R120: =Q120*H120 -> 0 | S120: 0 | T120: =S120*H120 -> 0 | AR120: 4 | AT120: K | AU120: 2 | AY120: ROZPOCET | BE120: =IF(N120="základní",J120,0) -> 0 | BF120: =IF(N120="snížená",J120,0) -> 0 | BG120: =IF(N120="zákl. přenesená",J120,0) -> 0 | BH120: =IF(N120="sníž. přenesená",J120,0) -> 0 | BI120: =IF(N120="nulová",J120,0) -> 0 | BJ120: 1 | BK120: =ROUND(I120*H120,2) -> 0 | BL120: 4 | BM120: 626187955
D121: PSC | F121: Poznámka k souboru cen:_x000D_ 1. Objem obsypu na 1 m délky potrubí se rovná šířce dna výkopu násobené součtem vnějšího průměru potrubí příp. i s obalem a projektované tloušťky obsypu nad, případně i pod potrubím. Pro odečítání objemu potrubí se započítávají všechny vestavěné konstrukce nebo uložené vedení i s jejich obklady a podklady (tento objem se nazývá objemem horniny vytlačené konstrukcí). 2. Míru zhutnění předepisuje projekt. 3. V cenách nejsou zahrnuty náklady na nakupovanou sypaninu. Tato se oceňuje ve specifikaci. 4. V cenách nejsou zahrnuty náklady na prohození sypaniny, tyto náklady se oceňují položkou 17511-1109 Příplatek za prohození sypaniny. | AT121: PSC | AU121: 2
D122: VV | F122: 3*3,6*1*0,3-3*3,6*0,1*0,1*3,14 | H122: 2.901 | AT122: VV | AU122: 2 | AV122: 2 | AW122: True | AX122: 0 | AY122: ROZPOCET
D123: VV | F123: 3*2*1*0,3-3*3,6*0,1*0,1*3,14 | H123: 1.461 | AT123: VV | AU123: 2 | AV123: 2 | AW123: True | AX123: 0 | AY123: ROZPOCET
D124: VV | E124: Obsyp | F124: Součet | H124: 4.362 | AT124: VV | AU124: 2 | AV124: 4 | AW124: True | AX124: 1 | AY124: ROZPOCET
C125: 12 | D125: M | E125: 58337302 | F125: štěrkopísek frakce 0/16 | G125: t | H125: 8.724 | J125: =ROUND(I125*H125,2) -> 0 | N125: základní | P125: =O125*H125 -> 0 | Q125: 0 | R125: =Q125*H125 -> 0 | S125: 0 | T125: =S125*H125 -> 0 | AR125: 8 | AT125: M | AU125: 2 | AY125: ROZPOCET | BE125: =IF(N125="základní",J125,0) -> 0 | BF125: =IF(N125="snížená",J125,0) -> 0 | BG125: =IF(N125="zákl. přenesená",J125,0) -> 0 | BH125: =IF(N125="sníž. přenesená",J125,0) -> 0 | BI125: =IF(N125="nulová",J125,0) -> 0 | BJ125: 1 | BK125: =ROUND(I125*H125,2) -> 0 | BL125: 4 | BM125: -1946838140
D126: VV | F126: 4,362*2 'Přepočtené koeficientem množství | H126: 8.724 | AT126: VV | AU126: 2 | AV126: 2 | AW126: False | AX126: 1 | AY126: ROZPOCET
D127: D | E127: 4 | F127: Vodorovné konstrukce | J127: =BK127 -> 0 | P127: =SUM(P128:P132) -> 0 | R127: =SUM(R128:R132) -> 3.1764936 | T127: =SUM(T128:T132) -> 0 | AR127: 1 | AT127: D | AU127: 1 | AY127: ROZPOCET | BK127: =SUM(BK128:BK132) -> 0
C128: 13 | D128: K | E128: 451573111 | F128: Lože pod potrubí, stoky a drobné objekty v otevřeném výkopu z písku a štěrkopísku do 63 mm | G128: m3 | H128: 1.68 | J128: =ROUND(I128*H128,2) -> 0 | N128: základní | P128: =O128*H128 -> 0 | Q128: 1.89077 | R128: =Q128*H128 -> 3.1764936 | S128: 0 | T128: =S128*H128 -> 0 | AR128: 4 | AT128: K | AU128: 2 | AY128: ROZPOCET | BE128: =IF(N128="základní",J128,0) -> 0 | BF128: =IF(N128="snížená",J128,0) -> 0 | BG128: =IF(N128="zákl. přenesená",J128,0) -> 0 | BH128: =IF(N128="sníž. přenesená",J128,0) -> 0 | BI128: =IF(N128="nulová",J128,0) -> 0 | BJ128: 1 | BK128: =ROUND(I128*H128,2) -> 0 | BL128: 4 | BM128: 1175487712
D129: PSC | F129: Poznámka k souboru cen:_x000D_ 1. Ceny -1111 a -1192 lze použít i pro zřízení sběrných vrstev nad drenážními trubkami. 2. V cenách -5111 a -1192 jsou započteny i náklady na prohození výkopku získaného při zemních pracích. | AT129: PSC | AU129: 2
D130: VV | F130: "Připojení nových vpustí" 3*3,6*1*0,1 | H130: 1.08 | AT130: VV | AU130: 2 | AV130: 2 | AW130: True | AX130: 0 | AY130: ROZPOCET
D131: VV | F131: "Připojení nových vpustí žlabových" 3*2*1*0,1 | H131: 0.6 | AT131: VV | AU131: 2 | AV131: 2 | AW131: True | AX131: 0 | AY131: ROZPOCET
D132: VV | E132: Lože | F132: Součet | H132: 1.68 | AT132: VV | AU132: 2 | AV132: 4 | AW132: True | AX132: 1 | AY132: ROZPOCET
D133: D | E133: 8 | F133: Trubní vedení | J133: =BK133 -> 0 | P133: =SUM(P134:P160) -> 0 | R133: =SUM(R134:R160) -> 7.139314 | T133: =SUM(T134:T160) -> 0 | AR133: 1 | AT133: D | AU133: 1 | AY133: ROZPOCET | BK133: =SUM(BK134:BK160) -> 0
...

Sheet VRN - Vedlejší rozpočtové...
AT2: {266ef2bf-1ee0-4ffe-9809-e725ac78f14f}
AT3: 2
D4: KRYCÍ LIST SOUPISU PRACÍ | M4: v --- níže se nacházejí doplnkové a pomocné údaje k sestavám --- v | AT4: False
D6: Stavba:
E7: ='Rekapitulace stavby'!K6 -> Souvislá údržba ulice Luční
D8: Objekt:
E9: VRN - Vedlejší rozpočtové náklady
D11: KSO: | I11: CC-CZ:
D12: Místo: | F12: ulice Luční | I12: Datum: | J12: ='Rekapitulace stavby'!AN8 -> 3. 5. 2021
D14: Zadavatel: | I14: IČ: | J14: 00272523
E15: Město Broumov | I15: DIČ: | J15: CZ00272523
D17: Uchazeč: | I17: IČ: | J17: ='Rekapitulace stavby'!AN13 -> Vyplň údaj
E18: ='Rekapitulace stavby'!E14 -> Vyplň údaj | I18: DIČ: | J18: ='Rekapitulace stavby'!AN14 -> Vyplň údaj
D20: Projektant: | I20: IČ: | J20: 04803302
E21: Ing. Adam Beneš | I21: DIČ: | J21: CZ8802063600
D23: Zpracovatel: | I23: IČ: | J23: 05733171
E24: TMI Building s.r.o. | I24: DIČ: | J24: CZ05733171
D26: Poznámka:
D30: Cena bez DPH | J30: =ROUND(J85, 2) -> 0
F32: Základ daně | I32: Sazba daně | J32: Výše daně
D33: DPH | E33: základní | F33: =ROUND((SUM(BE85:BE99)), 2) -> 0 | I33: 0.21 | J33: =ROUND(((SUM(BE85:BE99))*I33), 2) -> 0
E34: snížená | F34: =ROUND((SUM(BF85:BF99)), 2) -> 0 | I34: 0.15 | J34: =ROUND(((SUM(BF85:BF99))*I34), 2) -> 0
E35: zákl. přenesená | F35: =ROUND((SUM(BG85:BG99)), 2) -> 0 | I35: 0.21 | J35: =0 -> 0
E36: sníž. přenesená | F36: =ROUND((SUM(BH85:BH99)), 2) -> 0 | I36: 0.15 | J36: =0 -> 0
E37: nulová | F37: =ROUND((SUM(BI85:BI99)), 2) -> 0 | I37: 0 | J37: =0 -> 0
D39: Cena s DPH | G39: v | H39: CZK | J39: =SUM(J30:J37) -> 0
C45: REKAPITULACE ČLENĚNÍ SOUPISU PRACÍ
C47: Stavba:
E48: =E7 -> Souvislá údržba ulice Luční
C49: Objekt:
E50: =E9 -> VRN - Vedlejší rozpočtové náklady
C52: Místo: | F52: =F12 -> ulice Luční | I52: Datum: | J52: =IF(J12="","",J12) -> 3. 5. 2021
C54: Zadavatel: | F54: =E15 -> Město Broumov | I54: Projektant: | J54: =E21 -> Ing. Adam Beneš
C55: Uchazeč: | F55: =IF(E18="","",E18) -> Vyplň údaj | I55: Zpracovatel: | J55: =E24 -> TMI Building s.r.o.
C57: Kód dílu - Popis | J57: Cena celkem [CZK]
C59: Náklady stavby celkem | J59: =J85 -> 0 | AU59: -1
D60: VRN - Vedlejší rozpočtové náklady | J60: =J86 -> 0
D61: VRN1 - Průzkumné, geodetické a projektové práce | J61: =J87 -> 0
D62: VRN3 - Zařízení staveniště | J62: =J90 -> 0
D63: VRN4 - Inženýrská činnost | J63: =J93 -> 0
D64: VRN6 - Územní vlivy | J64: =J96 -> 0
D65: VRN7 - Provozní vlivy | J65: =J98 -> 0
C72: SOUPIS PRACÍ
C74: Stavba:
E75: =E7 -> Souvislá údržba ulice Luční
C76: Objekt:
E77: =E9 -> VRN - Vedlejší rozpočtové náklady
C79: Místo: | F79: =F12 -> ulice Luční | I79: Datum: | J79: =IF(J12="","",J12) -> 3. 5. 2021
C81: Zadavatel: | F81: =E15 -> Město Broumov | I81: Projektant: | J81: =E21 -> Ing. Adam Beneš
C82: Uchazeč: | F82: =IF(E18="","",E18) -> Vyplň údaj | I82: Zpracovatel: | J82: =E24 -> TMI Building s.r.o.
C84: PČ | D84: Typ | E84: Kód | F84: Popis | G84: MJ | H84: Množství | I84: J.cena [CZK] | J84: Cena celkem [CZK] | K84: Cenová soustava | N84: DPH | O84: J. Nh [h] | P84: Nh celkem [h] | Q84: J. hmotnost [t] | R84: Hmotnost celkem [t] | S84: J. suť [t] | T84: Suť Celkem [t]
C85: Náklady soupisu celkem | J85: =BK85 -> 0 | P85: =P86 -> 0 | R85: =R86 -> 0 | T85: =T86 -> 0 | AT85: D | AU85: -1 | BK85: =BK86 -> 0
D86: D | E86: VRN | F86: Vedlejší rozpočtové náklady | J86: =BK86 -> 0 | P86: =P87+P90+P93+P96+P98 -> 0 | R86: =R87+R90+R93+R96+R98 -> 0 | T86: =T87+T90+T93+T96+T98 -> 0 | AR86: 5 | AT86: D | AU86: 0 | AY86: ROZPOCET | BK86: =BK87+BK90+BK93+BK96+BK98 -> 0
D87: D | E87: VRN1 | F87: Průzkumné, geodetické a projektové práce | J87: =BK87 -> 0 | P87: =SUM(P88:P89) -> 0 | R87: =SUM(R88:R89) -> 0 | T87: =SUM(T88:T89) -> 0 | AR87: 5 | AT87: D | AU87: 1 | AY87: ROZPOCET | BK87: =SUM(BK88:BK89) -> 0
C88: 1 | D88: K | E88: 012203000R | F88: Geodetické práce při provádění stavby | G88: kpl | H88: 1 | J88: =ROUND(I88*H88,2) -> 0 | N88: základní | P88: =O88*H88 -> 0 | Q88: 0 | R88: =Q88*H88 -> 0 | S88: 0 | T88: =S88*H88 -> 0 | AR88: 1024 | AT88: K | AU88: 2 | AY88: ROZPOCET | BE88: =IF(N88="základní",J88,0) -> 0 | BF88: =IF(N88="snížená",J88,0) -> 0 | BG88: =IF(N88="zákl. přenesená",J88,0) -> 0 | BH88: =IF(N88="sníž. přenesená",J88,0) -> 0 | BI88: =IF(N88="nulová",J88,0) -> 0 | BJ88: 1 | BK88: =ROUND(I88*H88,2) -> 0 | BL88: 1024 | BM88: -1521612536
C89: 2 | D89: K | E89: 013254000 | F89: Dokumentace skutečného provedení stavby | G89: kpl | H89: 1 | J89: =ROUND(I89*H89,2) -> 0 | N89: základní | P89: =O89*H89 -> 0 | Q89: 0 | R89: =Q89*H89 -> 0 | S89: 0 | T89: =S89*H89 -> 0 | AR89: 1024 | AT89: K | AU89: 2 | AY89: ROZPOCET | BE89: =IF(N89="základní",J89,0) -> 0 | BF89: =IF(N89="snížená",J89,0) -> 0 | BG89: =IF(N89="zákl. přenesená",J89,0) -> 0 | BH89: =IF(N89="sníž. přenesená",J89,0) -> 0 | BI89: =IF(N89="nulová",J89,0) -> 0 | BJ89: 1 | BK89: =ROUND(I89*H89,2) -> 0 | BL89: 1024 | BM89: 1761899764
D90: D | E90: VRN3 | F90: Zařízení staveniště | J90: =BK90 -> 0 | P90: =SUM(P91:P92) -> 0 | R90: =SUM(R91:R92) -> 0 | T90: =SUM(T91:T92) -> 0 | AR90: 5 | AT90: D | AU90: 1 | AY90: ROZPOCET | BK90: =SUM(BK91:BK92) -> 0
C91: 3 | D91: K | E91: 030001000 | F91: Zařízení staveniště | G91: kpl | H91: 1 | J91: =ROUND(I91*H91,2) -> 0 | N91: základní | P91: =O91*H91 -> 0 | Q91: 0 | R91: =Q91*H91 -> 0 | S91: 0 | T91: =S91*H91 -> 0 | AR91: 1024 | AT91: K | AU91: 2 | AY91: ROZPOCET | BE91: =IF(N91="základní",J91,0) -> 0 | BF91: =IF(N91="snížená",J91,0) -> 0 | BG91: =IF(N91="zákl. přenesená",J91,0) -> 0 | BH91: =IF(N91="sníž. přenesená",J91,0) -> 0 | BI91: =IF(N91="nulová",J91,0) -> 0 | BJ91: 1 | BK91: =ROUND(I91*H91,2) -> 0 | BL91: 1024 | BM91: 312010077
C92: 4 | D92: K | E92: 034303000 | F92: Dopravní značení na staveništi | G92: kpl | H92: 1 | J92: =ROUND(I92*H92,2) -> 0 | N92: základní | P92: =O92*H92 -> 0 | Q92: 0 | R92: =Q92*H92 -> 0 | S92: 0 | T92: =S92*H92 -> 0 | AR92: 1024 | AT92: K | AU92: 2 | AY92: ROZPOCET | BE92: =IF(N92="základní",J92,0) -> 0 | BF92: =IF(N92="snížená",J92,0) -> 0 | BG92: =IF(N92="zákl. přenesená",J92,0) -> 0 | BH92: =IF(N92="sníž. přenesená",J92,0) -> 0 | BI92: =IF(N92="nulová",J92,0) -> 0 | BJ92: 1 | BK92: =ROUND(I92*H92,2) -> 0 | BL92: 1024 | BM92: -24473508
D93: D | E93: VRN4 | F93: Inženýrská činnost | J93: =BK93 -> 0 | P93: =SUM(P94:P95) -> 0 | R93: =SUM(R94:R95) -> 0 | T93: =SUM(T94:T95) -> 0 | AR93: 5 | AT93: D | AU93: 1 | AY93: ROZPOCET | BK93: =SUM(BK94:BK95) -> 0
C94: 5 | D94: K | E94: 043002000 | F94: Zkoušky a ostatní měření | G94: kpl | H94: 1 | J94: =ROUND(I94*H94,2) -> 0 | N94: základní | P94: =O94*H94 -> 0 | Q94: 0 | R94: =Q94*H94 -> 0 | S94: 0 | T94: =S94*H94 -> 0 | AR94: 1024 | AT94: K | AU94: 2 | AY94: ROZPOCET | BE94: =IF(N94="základní",J94,0) -> 0 | BF94: =IF(N94="snížená",J94,0) -> 0 | BG94: =IF(N94="zákl. přenesená",J94,0) -> 0 | BH94: =IF(N94="sníž. přenesená",J94,0) -> 0 | BI94: =IF(N94="nulová",J94,0) -> 0 | BJ94: 1 | BK94: =ROUND(I94*H94,2) -> 0 | BL94: 1024 | BM94: 1932135832
D95: P | F95: Poznámka k položce:_x000D_ Včetně Statické zatěžovací zkoušky pláně. | AT95: P | AU95: 2
D96: D | E96: VRN6 | F96: Územní vlivy | J96: =BK96 -> 0 | P96: =P97 -> 0 | R96: =R97 -> 0 | T96: =T97 -> 0 | AR96: 5 | AT96: D | AU96: 1 | AY96: ROZPOCET | BK96: =BK97 -> 0
C97: 6 | D97: K | E97: 060001000 | F97: Územní vlivy | G97: kpl | H97: 1 | J97: =ROUND(I97*H97,2) -> 0 | N97: základní | P97: =O97*H97 -> 0 | Q97: 0 | R97: =Q97*H97 -> 0 | S97: 0 | T97: =S97*H97 -> 0 | AR97: 1024 | AT97: K | AU97: 2 | AY97: ROZPOCET | BE97: =IF(N97="základní",J97,0) -> 0 | BF97: =IF(N97="snížená",J97,0) -> 0 | BG97: =IF(N97="zákl. přenesená",J97,0) -> 0 | BH97: =IF(N97="sníž. přenesená",J97,0) -> 0 | BI97: =IF(N97="nulová",J97,0) -> 0 | BJ97: 1 | BK97: =ROUND(I97*H97,2) -> 0 | BL97: 1024 | BM97: -746778661
D98: D | E98: VRN7 | F98: Provozní vlivy | J98: =BK98 -> 0 | P98: =P99 -> 0 | R98: =R99 -> 0 | T98: =T99 -> 0 | AR98: 5 | AT98: D | AU98: 1 | AY98: ROZPOCET | BK98: =BK99 -> 0
C99: 7 | D99: K | E99: 070001000 | F99: Provozní vlivy | G99: kpl | H99: 1 | J99: =ROUND(I99*H99,2) -> 0 | N99: základní | P99: =O99*H99 -> 0 | Q99: 0 | R99: =Q99*H99 -> 0 | S99: 0 | T99: =S99*H99 -> 0 | AR99: 1024 | AT99: K | AU99: 2 | AY99: ROZPOCET | BE99: =IF(N99="základní",J99,0) -> 0 | BF99: =IF(N99="snížená",J99,0) -> 0 | BG99: =IF(N99="zákl. přenesená",J99,0) -> 0 | BH99: =IF(N99="sníž. přenesená",J99,0) -> 0 | BI99: =IF(N99="nulová",J99,0) -> 0 | BJ99: 1 | BK99: =ROUND(I99*H99,2) -> 0 | BL99: 1024 | BM99: 1181038291
