Workbook

Sheet Rekapitulace stavby
A1: Export Komplet | AZ1: VZ | BA1: 2.0 | BB1: ZAMOK | BT1: False | BU1: False | BV1: {9b10c297-420c-4a31-b07c-f2050c41d173}
BS2: 0,01 | BT2: 21
BS3: 0,01 | BT3: 15
D4: REKAPITULACE STAVBY | AS4: v --- níže se nacházejí doplnkové a pomocné údaje k sestavám --- v | BE4: Návod na vyplnění | BS4: 0,001
D5: Kód: | K5: Broumov | BE5: Měnit lze pouze buňky se žlutým podbarvením!_x000D_ _x000D_ 1) v Rekapitulaci stavby vyplňte údaje o Uchazeči (přenesou se do ostatních sestav i v jiných listech)_x000D_ _x000D_ 2) na vybraných listech vyplňte v sestavě Soupis prací ceny u položek | BS5: 0,01
D6: Stavba: | K6: Souvislá údržba ulice Luční | BS6: 0,01
D7: KSO: | AK7: CC-CZ: | BS7: 0,01
D8: Místo: | AK8: Datum: | AN8: 3. 5. 2021 | BS8: 0,01
BS9: 0,01
D10: Zadavatel: | AK10: IČ: | AN10: 00272523 | BS10: 0,01
E11: Město Broumov | AK11: DIČ: | AN11: CZ00272523 | BS11: 0,01
BS12: 0,01
D13: Uchazeč: | AK13: IČ: | AN13: Vyplň údaj | BS13: 0,01
E14: Vyplň údaj | AK14: DIČ: | AN14: Vyplň údaj | BS14: 0,01
BS15: False
D16: Projektant: | AK16: IČ: | BS16: False
AK17: DIČ: | BS17: True
BS18: 0,01
D19: Zpracovatel: | AK19: IČ: | BS19: 0,01
AK20: DIČ: | BS20: False
D22: Poznámka:
E23: Soupis prací je sestaven s využitím Cenové soustavy ÚRS. Položky, které pochází z této cenové soustavy, jsou ve sloupci 'Cenová soustava' označeny popisem 'CS ÚRS' a úrovní příslušného kalendářního pololetí. Veškeré další informace vymezující popis a podmínky použití těchto položek z Cenové soustavy, které nejsou uvedeny přímo v soupisu prací, jsou neomezeně dálkově k dispozici na www.cs-urs.cz, sekce Cenové a technické podmínky.
D26: Cena bez DPH | AK26: =ROUND(AG54,2) -> 0
L28: Sazba daně | W28: Základ daně | AK28: Výše daně
D29: DPH | F29: základní | L29: 0.21 | W29: =ROUND(AZ54, 2) -> 0 | AK29: =ROUND(AV54, 2) -> 0
F30: snížená | L30: 0.15 | W30: =ROUND(BA54, 2) -> 0 | AK30: =ROUND(AW54, 2) -> 0
F31: zákl. přenesená | L31: 0.21 | W31: =ROUND(BB54, 2) -> 0 | AK31: 0
F32: sníž. přenesená | L32: 0.15 | W32: =ROUND(BC54, 2) -> 0 | AK32: 0
F33: nulová | L33: 0 | W33: =ROUND(BD54, 2) -> 0 | AK33: 0
D35: Cena s DPH | T35: v | X35: CZK | AK35: =SUM(AK26:AK33) -> 0
C42: REKAPITULACE OBJEKTŮ STAVBY A SOUPISŮ PRACÍ
C44: Kód: | L44: =K5 -> Broumov
C45: Stavba: | L45: =K6 -> Souvislá údržba ulice Luční
C47: Místo: | L47: =IF(K8="","",K8) | AI47: Datum: | AM47: =IF(AN8= "","",AN8) -> 3. 5. 2021
C49: Zadavatel: | L49: =IF(E11= "","",E11) -> Město Broumov | AI49: Projektant: | AM49: =IF(E17="","",E17) | AS49: Informatívní údaje z listů zakázek
C50: Uchazeč: | L50: =IF(E14= "Vyplň údaj","",E14) | AI50: Zpracovatel: | AM50: =IF(E20="","",E20)
C52: Kód | I52: Popis | AG52: Cena bez DPH [CZK] | AN52: Cena s DPH [CZK] | AQ52: Typ | AS52: z toho Ostat._x000D_ náklady [CZK] | AT52: DPH [CZK] | AU52: Normohodiny [h] | AV52: DPH základní [CZK] | AW52: DPH snížená [CZK] | AX52: DPH základní přenesená_x000D_ [CZK] | AY52: DPH snížená přenesená_x000D_ [CZK] | AZ52: Základna_x000D_ DPH základní | BA52: Základna_x000D_ DPH snížená | BB52: Základna_x000D_ DPH zákl. přenesená | BC52: Základna_x000D_ DPH sníž. přenesená | BD52: Základna_x000D_ DPH nulová
C54: Náklady stavby celkem | AG54: =ROUND(SUM(AG55:AG57),2) -> 0 | AN54: =SUM(AG54,AT54) -> 0 | AS54: =ROUND(SUM(AS55:AS57),2) -> 0 | AT54: =ROUND(SUM(AV54:AW54),2) -> 0 | AU54: =ROUND(SUM(AU55:AU57),5) -> 0 | AV54: =ROUND(AZ54*L29,2) -> 0 | AW54: =ROUND(BA54*L30,2) -> 0 | AX54: =ROUND(BB54*L29,2) -> 0 | AY54: =ROUND(BC54*L30,2) -> 0 | AZ54: =ROUND(SUM(AZ55:AZ57),2) -> 0 | BA54: =ROUND(SUM(BA55:BA57),2) -> 0 | BB54: =ROUND(SUM(BB55:BB57),2) -> 0 | BC54: =ROUND(SUM(BC55:BC57),2) -> 0 | BD54: =ROUND(SUM(BD55:BD57),2) -> 0 | BS54: D | BT54: 0 | BU54: ###NOIMPORT### | BV54: IMPORT | BW54: {9b10c297-420c-4a31-b07c-f2050c41d173} | BX54: {00000000-0000-0000-0000-000000000000}
A55: / | D55: SO 01 | J55: Komunikace | AG55: ='SO 01 - Komunikace'!J30 -> 0 | AN55: =SUM(AG55,AT55) -> 0 | AQ55: STA | AS55: 0 | AT55: =ROUND(SUM(AV55:AW55),2) -> 0 | AU55: ='SO 01 - Komunikace'!P84 -> 0 | AV55: ='SO 01 - Komunikace'!J33 -> 0 | AW55: ='SO 01 - Komunikace'!J34 -> 0 | AX55: ='SO 01 - Komunikace'!J35 -> 0 | AY55: ='SO 01 - Komunikace'!J36 -> 0 | AZ55: ='SO 01 - Komunikace'!F33 -> 0 | BA55: ='SO 01 - Komunikace'!F34 -> 0 | BB55: ='SO 01 - Komunikace'!F35 -> 0 | BC55: ='SO 01 - Komunikace'!F36 -> 0 | BD55: ='SO 01 - Komunikace'!F37 -> 0 | BT55: 1 | BV55: IMPORT | BW55: {2b12e66c-442a-4e79-a3e5-d96701a94787} | BX55: {9b10c297-420c-4a31-b07c-f2050c41d173} | CM55: 2
A56: / | D56: SO 02 | J56: Dešťová kanalizace | AG56: ='SO 02 - Dešťová kanalizace'!J30 -> 0 | AN56: =SUM(AG56,AT56) -> 0 | AQ56: STA | AS56: 0 | AT56: =ROUND(SUM(AV56:AW56),2) -> 0 | AU56: ='SO 02 - Dešťová kanalizace'!P86 -> 0 | AV56: ='SO 02 - Dešťová kanalizace'!J33 -> 0 | AW56: ='SO 02 - Dešťová kanalizace'!J34 -> 0 | AX56: ='SO 02 - Dešťová kanalizace'!J35 -> 0 | AY56: ='SO 02 - Dešťová kanalizace'!J36 -> 0 | AZ56: ='SO 02 - Dešťová kanalizace'!F33 -> 0 | BA56: ='SO 02 - Dešťová kanalizace'!F34 -> 0 | BB56: ='SO 02 - Dešťová kanalizace'!F35 -> 0 | BC56: ='SO 02 - Dešťová kanalizace'!F36 -> 0 | BD56: ='SO 02 - Dešťová kanalizace'!F37 -> 0 | BT56: 1 | BV56: IMPORT | BW56: {d6b50b70-07c1-4b1b-b592-de1fee05dd40} | BX56: {9b10c297-420c-4a31-b07c-f2050c41d173} | CM56: 2
...

Sheet SO 01 - Komunikace
AT2: {2b12e66c-442a-4e79-a3e5-d96701a94787} | AZ2: Vozovka | BA2: Vozovka - živičná | BB2: m2 | BC2: 1145 | BD2: 2
AT3: 2 | AZ3: Suť_živice | BA3: Suť živice | BB3: t | BC3: 293,12 | BD3: 2
D4: KRYCÍ LIST SOUPISU PRACÍ | M4: v --- níže se nacházejí doplnkové a pomocné údaje k sestavám --- v | AT4: False | AZ4: Odkopávky | BA4: Odkopávky | BB4: m3 | BC4: 34,35 | BD4: 2
AZ5: Skládka_1_4 | BA5: Výkopek na skládku třída těžitelnosti 1-4 | BB5: m3 | BC5: 55,62 | BD5: 2
D6: Stavba: | AZ6: Řezání_živice | BA6: Řezání živičného krytu | BB6: m | BC6: 25 | BD6: 2
E7: ='Rekapitulace stavby'!K6 -> Souvislá údržba ulice Luční
D8: Objekt:
E9: SO 01 - Komunikace
D11: KSO: | I11: CC-CZ:
D12: Místo: | F12: ulice Luční | I12: Datum: | J12: ='Rekapitulace stavby'!AN8 -> 3. 5. 2021
D14: Zadavatel: | I14: IČ: | J14: 00272523
E15: Město Broumov | I15: DIČ: | J15: CZ00272523
D17: Uchazeč: | I17: IČ: | J17: ='Rekapitulace stavby'!AN13 -> Vyplň údaj
E18: ='Rekapitulace stavby'!E14 -> Vyplň údaj | I18: DIČ: | J18: ='Rekapitulace stavby'!AN14 -> Vyplň údaj
D20: Projektant: | I20: IČ: | J20: 04803302
E21: Ing. Adam Beneš | I21: DIČ: | J21: CZ8802063600
D23: Zpracovatel: | I23: IČ: | J23: 05733171
E24: TMI Building s.r.o. | I24: DIČ: | J24: CZ05733171
D26: Poznámka:
D30: Cena bez DPH | J30: =ROUND(J84, 2) -> 0
F32: Základ daně | I32: Sazba daně | J32: Výše daně
D33: DPH | E33: základní | F33: =ROUND((SUM(BE84:BE183)), 2) -> 0 | I33: 0.21 | J33: =ROUND(((SUM(BE84:BE183))*I33), 2) -> 0
E34: snížená | F34: =ROUND((SUM(BF84:BF183)), 2) -> 0 | I34: 0.15 | J34: =ROUND(((SUM(BF84:BF183))*I34), 2) -> 0
E35: zákl. přenesená | F35: =ROUND((SUM(BG84:BG183)), 2) -> 0 | I35: 0.21 | J35: =0 -> 0
E36: sníž. přenesená | F36: =ROUND((SUM(BH84:BH183)), 2) -> 0 | I36: 0.15 | J36: =0 -> 0
E37: nulová | F37: =ROUND((SUM(BI84:BI183)), 2) -> 0 | I37: 0 | J37: =0 -> 0
D39: Cena s DPH | G39: v | H39: CZK | J39: =SUM(J30:J37) -> 0
C45: REKAPITULACE ČLENĚNÍ SOUPISU PRACÍ
C47: Stavba:
E48: =E7 -> Souvislá údržba ulice Luční
C49: Objekt:
E50: =E9 -> SO 01 - Komunikace
C52: Místo: | F52: =F12 -> ulice Luční | I52: Datum: | J52: =IF(J12="","",J12) -> 3. 5. 2021
C54: Zadavatel: | F54: =E15 -> Město Broumov | I54: Projektant: | J54: =E21 -> Ing. Adam Beneš
C55: Uchazeč: | F55: =IF(E18="","",E18) -> Vyplň údaj | I55: Zpracovatel: | J55: =E24 -> TMI Building s.r.o.
C57: Kód dílu - Popis | J57: Cena celkem [CZK]
C59: Náklady stavby celkem | J59: =J84 -> 0 | AU59: -1
D60: 1 - Zemní práce | J60: =J85 -> 0
D61: 5 - Komunikace pozemní | J61: =J117 -> 0
D62: 9 - Ostatní konstrukce a práce, bourání | J62: =J135 -> 0
...

Sheet SO 02 - Dešťová kanalizace
AT2: {d6b50b70-07c1-4b1b-b592-de1fee05dd40}
AT3: 2
D4: KRYCÍ LIST SOUPISU PRACÍ | M4: v --- níže se nacházejí doplnkové a pomocné údaje k sestavám --- v | AT4: False
D6: Stavba:
E7: ='Rekapitulace stavby'!K6 -> Souvislá údržba ulice Luční
D8: Objekt:
E9: SO 02 - Dešťová kanalizace
D11: KSO: | I11: CC-CZ:
D12: Místo: | I12: Datum: | J12: ='Rekapitulace stavby'!AN8 -> 3. 5. 2021
D14: Zadavatel: | I14: IČ: | J14: 00272523
E15: Město Broumov | I15: DIČ: | J15: CZ00272523
D17: Uchazeč: | I17: IČ: | J17: ='Rekapitulace stavby'!AN13 -> Vyplň údaj
E18: ='Rekapitulace stavby'!E14 -> Vyplň údaj | I18: DIČ: | J18: ='Rekapitulace stavby'!AN14 -> Vyplň údaj
D20: Projektant: | I20: IČ: | J20: =IF('Rekapitulace stavby'!AN16="","",'Rekapitulace stavby'!AN16)
E21: =IF('Rekapitulace stavby'!E17="","",'Rekapitulace stavby'!E17) | I21: DIČ: | J21: =IF('Rekapitulace stavby'!AN17="","",'Rekapitulace stavby'!AN17)
D23: Zpracovatel: | I23: IČ: | J23: =IF('Rekapitulace stavby'!AN19="","",'Rekapitulace stavby'!AN19)
E24: =IF('Rekapitulace stavby'!E20="","",'Rekapitulace stavby'!E20) | I24: DIČ: | J24: =IF('Rekapitulace stavby'!AN20="","",'Rekapitulace stavby'!AN20)
D26: Poznámka:
D30: Cena bez DPH | J30: =ROUND(J86, 2) -> 0
F32: Základ daně | I32: Sazba daně | J32: Výše daně
D33: DPH | E33: základní | F33: =ROUND((SUM(BE86:BE179)), 2) -> 0 | I33: 0.21 | J33: =ROUND(((SUM(BE86:BE179))*I33), 2) -> 0
E34: snížená | F34: =ROUND((SUM(BF86:BF179)), 2) -> 0 | I34: 0.15 | J34: =ROUND(((SUM(BF86:BF179))*I34), 2) -> 0
E35: zákl. přenesená | F35: =ROUND((SUM(BG86:BG179)), 2) -> 0 | I35: 0.21 | J35: =0 -> 0
E36: sníž. přenesená | F36: =ROUND((SUM(BH86:BH179)), 2) -> 0 | I36: 0.15 | J36: =0 -> 0
E37: nulová | F37: =ROUND((SUM(BI86:BI179)), 2) -> 0 | I37: 0 | J37: =0 -> 0
D39: Cena s DPH | G39: v | H39: CZK | J39: =SUM(J30:J37) -> 0
C45: REKAPITULACE ČLENĚNÍ SOUPISU PRACÍ
C47: Stavba:
E48: =E7 -> Souvislá údržba ulice Luční
C49: Objekt:
E50: =E9 -> SO 02 - Dešťová kanalizace
C52: Místo: | F52: =F12 | I52: Datum: | J52: =IF(J12="","",J12) -> 3. 5. 2021
C54: Zadavatel: | F54: =E15 -> Město Broumov | I54: Projektant: | J54: =E21
C55: Uchazeč: | F55: =IF(E18="","",E18) -> Vyplň údaj | I55: Zpracovatel: | J55: =E24
C57: Kód dílu - Popis | J57: Cena celkem [CZK]
C59: Náklady stavby celkem | J59: =J86 -> 0 | AU59: -1
D60: HSV - Práce a dodávky HSV | J60: =J87 -> 0
D61: 1 - Zemní práce | J61: =J88 -> 0
D62: 4 - Vodorovné konstrukce | J62: =J127 -> 0
D63: 8 - Trubní vedení | J63: =J133 -> 0
...

Sheet VRN - Vedlejší rozpočtové...
AT2: {266ef2bf-1ee0-4ffe-9809-e725ac78f14f}
AT3: 2
D4: KRYCÍ LIST SOUPISU PRACÍ | M4: v --- níže se nacházejí doplnkové a pomocné údaje k sestavám --- v | AT4: False
D6: Stavba:
E7: ='Rekapitulace stavby'!K6 -> Souvislá údržba ulice Luční
D8: Objekt:
E9: VRN - Vedlejší rozpočtové náklady
D11: KSO: | I11: CC-CZ:
D12: Místo: | F12: ulice Luční | I12: Datum: | J12: ='Rekapitulace stavby'!AN8 -> 3. 5. 2021
D14: Zadavatel: | I14: IČ: | J14: 00272523
E15: Město Broumov | I15: DIČ: | J15: CZ00272523
D17: Uchazeč: | I17: IČ: | J17: ='Rekapitulace stavby'!AN13 -> Vyplň údaj
E18: ='Rekapitulace stavby'!E14 -> Vyplň údaj | I18: DIČ: | J18: ='Rekapitulace stavby'!AN14 -> Vyplň údaj
D20: Projektant: | I20: IČ: | J20: 04803302
E21: Ing. Adam Beneš | I21: DIČ: | J21: CZ8802063600
D23: Zpracovatel: | I23: IČ: | J23: 05733171
E24: TMI Building s.r.o. | I24: DIČ: | J24: CZ05733171
D26: Poznámka:
D30: Cena bez DPH | J30: =ROUND(J85, 2) -> 0
F32: Základ daně | I32: Sazba daně | J32: Výše daně
D33: DPH | E33: základní | F33: =ROUND((SUM(BE85:BE99)), 2) -> 0 | I33: 0.21 | J33: =ROUND(((SUM(BE85:BE99))*I33), 2) -> 0
E34: snížená | F34: =ROUND((SUM(BF85:BF99)), 2) -> 0 | I34: 0.15 | J34: =ROUND(((SUM(BF85:BF99))*I34), 2) -> 0
E35: zákl. přenesená | F35: =ROUND((SUM(BG85:BG99)), 2) -> 0 | I35: 0.21 | J35: =0 -> 0
E36: sníž. přenesená | F36: =ROUND((SUM(BH85:BH99)), 2) -> 0 | I36: 0.15 | J36: =0 -> 0
E37: nulová | F37: =ROUND((SUM(BI85:BI99)), 2) -> 0 | I37: 0 | J37: =0 -> 0
D39: Cena s DPH | G39: v | H39: CZK | J39: =SUM(J30:J37) -> 0
C45: REKAPITULACE ČLENĚNÍ SOUPISU PRACÍ
C47: Stavba:
E48: =E7 -> Souvislá údržba ulice Luční
C49: Objekt:
E50: =E9 -> VRN - Vedlejší rozpočtové náklady
C52: Místo: | F52: =F12 -> ulice Luční | I52: Datum: | J52: =IF(J12="","",J12) -> 3. 5. 2021
C54: Zadavatel: | F54: =E15 -> Město Broumov | I54: Projektant: | J54: =E21 -> Ing. Adam Beneš
C55: Uchazeč: | F55: =IF(E18="","",E18) -> Vyplň údaj | I55: Zpracovatel: | J55: =E24 -> TMI Building s.r.o.
C57: Kód dílu - Popis | J57: Cena celkem [CZK]
C59: Náklady stavby celkem | J59: =J85 -> 0 | AU59: -1
D60: VRN - Vedlejší rozpočtové náklady | J60: =J86 -> 0
D61: VRN1 - Průzkumné, geodetické a projektové práce | J61: =J87 -> 0
D62: VRN3 - Zařízení staveniště | J62: =J90 -> 0
D63: VRN4 - Inženýrská činnost | J63: =J93 -> 0
...
