Workbook

Sheet Rekapitulace stavby
A1: Export Komplet | AZ1: VZ | BA1: 2.0 | BB1: ZAMOK | BT1: False | BU1: False | BV1: {7b8b7f61-7240-4149-a61d-5548362ddd2d}
BS2: 0,01 | BT2: 21
BS3: 0,01 | BT3: 15
D4: REKAPITULACE STAVBY | AS4: v --- níže se nacházejí doplnkové a pomocné údaje k sestavám --- v | BE4: Návod na vyplnění | BS4: 0,001
D5: Kód: | K5: HRD | BE5: Měnit lze pouze buňky se žlutým podbarvením!_x000D_ _x000D_ 1) v Rekapitulaci stavby vyplňte údaje o Uchazeči (přenesou se do ostatních sestav i v jiných listech)_x000D_ _x000D_ 2) na vybraných listech vyplňte v sestavě Soupis prací ceny u položek | BS5: 0,01
D6: Stavba: | K6: Kanalizace Spořilov, dešťová zdrž | BS6: 0,01
D7: KSO: | AK7: CC-CZ: | BS7: 0,01
D8: Místo: | AK8: Datum: | AN8: 11. 8. 2021 | BS8: 0,01
BS9: 0,01
D10: Zadavatel: | AK10: IČ: | BS10: 0,01
E11: Město Broumov | AK11: DIČ: | BS11: 0,01
BS12: 0,01
D13: Uchazeč: | AK13: IČ: | AN13: Vyplň údaj | BS13: 0,01
E14: Vyplň údaj | AK14: DIČ: | AN14: Vyplň údaj | BS14: 0,01
BS15: False
D16: Projektant: | AK16: IČ: | BS16: False
E17: Agroprojekce Litomyšl, s.r.o. | AK17: DIČ: | BS17: True
BS18: 0,01
D19: Zpracovatel: | AK19: IČ: | BS19: 0,01
AK20: DIČ: | BS20: True
D22: Poznámka:
E23: Soupis prací je sestaven s využitím Cenové soustavy ÚRS. Položky, které pochází z této cenové soustavy, jsou ve sloupci 'Cenová soustava' označeny popisem 'CS ÚRS' a úrovní příslušného kalendářního pololetí. Veškeré další informace vymezující popis a podmínky použití těchto položek z Cenové soustavy, které nejsou uvedeny přímo v soupisu prací, jsou neomezeně dálkově k dispozici na webu podminky.urs.cz.
D26: Cena bez DPH | AK26: =ROUND(AG54,2) -> 0
L28: Sazba daně | W28: Základ daně | AK28: Výše daně
D29: DPH | F29: základní | L29: 0.21 | W29: =ROUND(AZ54, 2) -> 0 | AK29: =ROUND(AV54, 2) -> 0
F30: snížená | L30: 0.15 | W30: =ROUND(BA54, 2) -> 0 | AK30: =ROUND(AW54, 2) -> 0
F31: zákl. přenesená | L31: 0.21 | W31: =ROUND(BB54, 2) -> 0 | AK31: 0
F32: sníž. přenesená | L32: 0.15 | W32: =ROUND(BC54, 2) -> 0 | AK32: 0
F33: nulová | L33: 0 | W33: =ROUND(BD54, 2) -> 0 | AK33: 0
D35: Cena s DPH | T35: v | X35: CZK | AK35: =SUM(AK26:AK33) -> 0
C42: REKAPITULACE OBJEKTŮ STAVBY A SOUPISŮ PRACÍ
C44: Kód: | L44: =K5 -> HRD
C45: Stavba: | L45: =K6 -> Kanalizace Spořilov, dešťová zdrž
C47: Místo: | L47: =IF(K8="","",K8) | AI47: Datum: | AM47: =IF(AN8= "","",AN8) -> 11. 8. 2021
C49: Zadavatel: | L49: =IF(E11= "","",E11) -> Město Broumov | AI49: Projektant: | AM49: =IF(E17="","",E17) -> Agroprojekce Litomyšl, s.r.o. | AS49: Informatívní údaje z listů zakázek
C50: Uchazeč: | L50: =IF(E14= "Vyplň údaj","",E14) | AI50: Zpracovatel: | AM50: =IF(E20="","",E20)
C52: Kód | I52: Popis | AG52: Cena bez DPH [CZK] | AN52: Cena s DPH [CZK] | AQ52: Typ | AS52: z toho Ostat._x000D_ náklady [CZK] | AT52: DPH [CZK] | AU52: Normohodiny [h] | AV52: DPH základní [CZK] | AW52: DPH snížená [CZK] | AX52: DPH základní přenesená_x000D_ [CZK] | AY52: DPH snížená přenesená_x000D_ [CZK] | AZ52: Základna_x000D_ DPH základní | BA52: Základna_x000D_ DPH snížená | BB52: Základna_x000D_ DPH zákl. přenesená | BC52: Základna_x000D_ DPH sníž. přenesená | BD52: Základna_x000D_ DPH nulová
C54: Náklady stavby celkem | AG54: =ROUND(SUM(AG55:AG58),2) -> 0 | AN54: =SUM(AG54,AT54) -> 0 | AS54: =ROUND(SUM(AS55:AS58),2) -> 0 | AT54: =ROUND(SUM(AV54:AW54),2) -> 0 | AU54: =ROUND(SUM(AU55:AU58),5) -> 0 | AV54: =ROUND(AZ54*L29,2) -> 0 | AW54: =ROUND(BA54*L30,2) -> 0 | AX54: =ROUND(BB54*L29,2) -> 0 | AY54: =ROUND(BC54*L30,2) -> 0 | AZ54: =ROUND(SUM(AZ55:AZ58),2) -> 0 | BA54: =ROUND(SUM(BA55:BA58),2) -> 0 | BB54: =ROUND(SUM(BB55:BB58),2) -> 0 | BC54: =ROUND(SUM(BC55:BC58),2) -> 0 | BD54: =ROUND(SUM(BD55:BD58),2) -> 0 | BS54: D | BT54: 0 | BU54: ###NOIMPORT### | BV54: IMPORT | BW54: {7b8b7f61-7240-4149-a61d-5548362ddd2d} | BX54: {00000000-0000-0000-0000-000000000000}
A55: / | D55: SO-101 | J55: Hráz | AG55: ='SO-101 - Hráz'!J30 -> 0 | AN55: =SUM(AG55,AT55) -> 0 | AQ55: STA | AS55: 0 | AT55: =ROUND(SUM(AV55:AW55),2) -> 0 | AU55: ='SO-101 - Hráz'!P81 -> 0 | AV55: ='SO-101 - Hráz'!J33 -> 0 | AW55: ='SO-101 - Hráz'!J34 -> 0 | AX55: ='SO-101 - Hráz'!J35 -> 0 | AY55: ='SO-101 - Hráz'!J36 -> 0 | AZ55: ='SO-101 - Hráz'!F33 -> 0 | BA55: ='SO-101 - Hráz'!F34 -> 0 | BB55: ='SO-101 - Hráz'!F35 -> 0 | BC55: ='SO-101 - Hráz'!F36 -> 0 | BD55: ='SO-101 - Hráz'!F37 -> 0 | BT55: 1 | BV55: IMPORT | BW55: {a41f6884-ad29-40f1-8417-6a23d2c33d41} | BX55: {7b8b7f61-7240-4149-a61d-5548362ddd2d} | CL55: 832 15 | CM55: 2
A56: / | D56: SO-102 | J56: Zdrž | AG56: ='SO-102 - Zdrž'!J30 -> 0 | AN56: =SUM(AG56,AT56) -> 0 | AQ56: STA | AS56: 0 | AT56: =ROUND(SUM(AV56:AW56),2) -> 0 | AU56: ='SO-102 - Zdrž'!P81 -> 0 | AV56: ='SO-102 - Zdrž'!J33 -> 0 | AW56: ='SO-102 - Zdrž'!J34 -> 0 | AX56: ='SO-102 - Zdrž'!J35 -> 0 | AY56: ='SO-102 - Zdrž'!J36 -> 0 | AZ56: ='SO-102 - Zdrž'!F33 -> 0 | BA56: ='SO-102 - Zdrž'!F34 -> 0 | BB56: ='SO-102 - Zdrž'!F35 -> 0 | BC56: ='SO-102 - Zdrž'!F36 -> 0 | BD56: ='SO-102 - Zdrž'!F37 -> 0 | BT56: 1 | BV56: IMPORT | BW56: {84ba6995-102b-4a6c-9d80-f1d940d09c36} | BX56: {7b8b7f61-7240-4149-a61d-5548362ddd2d} | CL56: 833 11 | CM56: 2
...

Sheet SO-101 - Hráz
AT2: {a41f6884-ad29-40f1-8417-6a23d2c33d41}
AT3: 2
D4: KRYCÍ LIST SOUPISU PRACÍ | M4: v --- níže se nacházejí doplnkové a pomocné údaje k sestavám --- v | AT4: False
D6: Stavba:
E7: ='Rekapitulace stavby'!K6 -> Kanalizace Spořilov, dešťová zdrž
D8: Objekt:
E9: SO-101 - Hráz
D11: KSO: | F11: 832 15 | I11: CC-CZ:
D12: Místo: | I12: Datum: | J12: ='Rekapitulace stavby'!AN8 -> 11. 8. 2021
D14: Zadavatel: | I14: IČ:
E15: Město Broumov | I15: DIČ:
D17: Uchazeč: | I17: IČ: | J17: ='Rekapitulace stavby'!AN13 -> Vyplň údaj
E18: ='Rekapitulace stavby'!E14 -> Vyplň údaj | I18: DIČ: | J18: ='Rekapitulace stavby'!AN14 -> Vyplň údaj
D20: Projektant: | I20: IČ:
E21: Agroprojekce Litomyšl, s.r.o. | I21: DIČ:
D23: Zpracovatel: | I23: IČ: | J23: =IF('Rekapitulace stavby'!AN19="","",'Rekapitulace stavby'!AN19)
E24: =IF('Rekapitulace stavby'!E20="","",'Rekapitulace stavby'!E20) | I24: DIČ: | J24: =IF('Rekapitulace stavby'!AN20="","",'Rekapitulace stavby'!AN20)
D26: Poznámka:
D30: Cena bez DPH | J30: =ROUND(J81, 2) -> 0
F32: Základ daně | I32: Sazba daně | J32: Výše daně
D33: DPH | E33: základní | F33: =ROUND((SUM(BE81:BE137)), 2) -> 0 | I33: 0.21 | J33: =ROUND(((SUM(BE81:BE137))*I33), 2) -> 0
E34: snížená | F34: =ROUND((SUM(BF81:BF137)), 2) -> 0 | I34: 0.15 | J34: =ROUND(((SUM(BF81:BF137))*I34), 2) -> 0
E35: zákl. přenesená | F35: =ROUND((SUM(BG81:BG137)), 2) -> 0 | I35: 0.21 | J35: =0 -> 0
E36: sníž. přenesená | F36: =ROUND((SUM(BH81:BH137)), 2) -> 0 | I36: 0.15 | J36: =0 -> 0
E37: nulová | F37: =ROUND((SUM(BI81:BI137)), 2) -> 0 | I37: 0 | J37: =0 -> 0
D39: Cena s DPH | G39: v | H39: CZK | J39: =SUM(J30:J37) -> 0
C45: REKAPITULACE ČLENĚNÍ SOUPISU PRACÍ
C47: Stavba:
E48: =E7 -> Kanalizace Spořilov, dešťová zdrž
C49: Objekt:
E50: =E9 -> SO-101 - Hráz
C52: Místo: | F52: =F12 | I52: Datum: | J52: =IF(J12="","",J12) -> 11. 8. 2021
C54: Zadavatel: | F54: =E15 -> Město Broumov | I54: Projektant: | J54: =E21 -> Agroprojekce Litomyšl, s.r.o.
C55: Uchazeč: | F55: =IF(E18="","",E18) -> Vyplň údaj | I55: Zpracovatel: | J55: =E24
C57: Kód dílu - Popis | J57: Cena celkem [CZK]
C59: Náklady stavby celkem | J59: =J81 -> 0 | AU59: -1
D60: HSV - Práce a dodávky HSV | J60: =J82 -> 0
D61: 1 - Zemní práce | J61: =J83 -> 0
C68: SOUPIS PRACÍ
C70: Stavba:
...

Sheet SO-102 - Zdrž
AT2: {84ba6995-102b-4a6c-9d80-f1d940d09c36}
AT3: 2
D4: KRYCÍ LIST SOUPISU PRACÍ | M4: v --- níže se nacházejí doplnkové a pomocné údaje k sestavám --- v | AT4: False
D6: Stavba:
E7: ='Rekapitulace stavby'!K6 -> Kanalizace Spořilov, dešťová zdrž
D8: Objekt:
E9: SO-102 - Zdrž
D11: KSO: | F11: 833 11 | I11: CC-CZ:
D12: Místo: | I12: Datum: | J12: ='Rekapitulace stavby'!AN8 -> 11. 8. 2021
D14: Zadavatel: | I14: IČ:
E15: Město Broumov | I15: DIČ:
D17: Uchazeč: | I17: IČ: | J17: ='Rekapitulace stavby'!AN13 -> Vyplň údaj
E18: ='Rekapitulace stavby'!E14 -> Vyplň údaj | I18: DIČ: | J18: ='Rekapitulace stavby'!AN14 -> Vyplň údaj
D20: Projektant: | I20: IČ:
E21: Agroprojekce Litomyšl, s.r.o. | I21: DIČ:
D23: Zpracovatel: | I23: IČ: | J23: =IF('Rekapitulace stavby'!AN19="","",'Rekapitulace stavby'!AN19)
E24: =IF('Rekapitulace stavby'!E20="","",'Rekapitulace stavby'!E20) | I24: DIČ: | J24: =IF('Rekapitulace stavby'!AN20="","",'Rekapitulace stavby'!AN20)
D26: Poznámka:
D30: Cena bez DPH | J30: =ROUND(J81, 2) -> 0
F32: Základ daně | I32: Sazba daně | J32: Výše daně
D33: DPH | E33: základní | F33: =ROUND((SUM(BE81:BE144)), 2) -> 0 | I33: 0.21 | J33: =ROUND(((SUM(BE81:BE144))*I33), 2) -> 0
E34: snížená | F34: =ROUND((SUM(BF81:BF144)), 2) -> 0 | I34: 0.15 | J34: =ROUND(((SUM(BF81:BF144))*I34), 2) -> 0
E35: zákl. přenesená | F35: =ROUND((SUM(BG81:BG144)), 2) -> 0 | I35: 0.21 | J35: =0 -> 0
E36: sníž. přenesená | F36: =ROUND((SUM(BH81:BH144)), 2) -> 0 | I36: 0.15 | J36: =0 -> 0
E37: nulová | F37: =ROUND((SUM(BI81:BI144)), 2) -> 0 | I37: 0 | J37: =0 -> 0
D39: Cena s DPH | G39: v | H39: CZK | J39: =SUM(J30:J37) -> 0
C45: REKAPITULACE ČLENĚNÍ SOUPISU PRACÍ
C47: Stavba:
E48: =E7 -> Kanalizace Spořilov, dešťová zdrž
C49: Objekt:
E50: =E9 -> SO-102 - Zdrž
C52: Místo: | F52: =F12 | I52: Datum: | J52: =IF(J12="","",J12) -> 11. 8. 2021
C54: Zadavatel: | F54: =E15 -> Město Broumov | I54: Projektant: | J54: =E21 -> Agroprojekce Litomyšl, s.r.o.
C55: Uchazeč: | F55: =IF(E18="","",E18) -> Vyplň údaj | I55: Zpracovatel: | J55: =E24
C57: Kód dílu - Popis | J57: Cena celkem [CZK]
C59: Náklady stavby celkem | J59: =J81 -> 0 | AU59: -1
D60: HSV - Práce a dodávky HSV | J60: =J82 -> 0
D61: 1 - Zemní práce | J61: =J83 -> 0
C68: SOUPIS PRACÍ
C70: Stavba:
...

Sheet SO-103 - Sdružený objekt
AT2: {4ac8dfd1-3f32-4be1-a386-b5e70f723d62}
AT3: 2
D4: KRYCÍ LIST SOUPISU PRACÍ | M4: v --- níže se nacházejí doplnkové a pomocné údaje k sestavám --- v | AT4: False
D6: Stavba:
E7: ='Rekapitulace stavby'!K6 -> Kanalizace Spořilov, dešťová zdrž
D8: Objekt:
E9: SO-103 - Sdružený objekt
D11: KSO: | F11: 827 2 | I11: CC-CZ:
D12: Místo: | I12: Datum: | J12: ='Rekapitulace stavby'!AN8 -> 11. 8. 2021
D14: Zadavatel: | I14: IČ:
E15: Město Broumov | I15: DIČ:
D17: Uchazeč: | I17: IČ: | J17: ='Rekapitulace stavby'!AN13 -> Vyplň údaj
E18: ='Rekapitulace stavby'!E14 -> Vyplň údaj | I18: DIČ: | J18: ='Rekapitulace stavby'!AN14 -> Vyplň údaj
D20: Projektant: | I20: IČ:
E21: Agroprojekce Litomyšl, s.r.o. | I21: DIČ:
D23: Zpracovatel: | I23: IČ: | J23: =IF('Rekapitulace stavby'!AN19="","",'Rekapitulace stavby'!AN19)
E24: =IF('Rekapitulace stavby'!E20="","",'Rekapitulace stavby'!E20) | I24: DIČ: | J24: =IF('Rekapitulace stavby'!AN20="","",'Rekapitulace stavby'!AN20)
D26: Poznámka:
D30: Cena bez DPH | J30: =ROUND(J91, 2) -> 0
F32: Základ daně | I32: Sazba daně | J32: Výše daně
D33: DPH | E33: základní | F33: =ROUND((SUM(BE91:BE472)), 2) -> 0 | I33: 0.21 | J33: =ROUND(((SUM(BE91:BE472))*I33), 2) -> 0
E34: snížená | F34: =ROUND((SUM(BF91:BF472)), 2) -> 0 | I34: 0.15 | J34: =ROUND(((SUM(BF91:BF472))*I34), 2) -> 0
E35: zákl. přenesená | F35: =ROUND((SUM(BG91:BG472)), 2) -> 0 | I35: 0.21 | J35: =0 -> 0
E36: sníž. přenesená | F36: =ROUND((SUM(BH91:BH472)), 2) -> 0 | I36: 0.15 | J36: =0 -> 0
E37: nulová | F37: =ROUND((SUM(BI91:BI472)), 2) -> 0 | I37: 0 | J37: =0 -> 0
D39: Cena s DPH | G39: v | H39: CZK | J39: =SUM(J30:J37) -> 0
C45: REKAPITULACE ČLENĚNÍ SOUPISU PRACÍ
C47: Stavba:
E48: =E7 -> Kanalizace Spořilov, dešťová zdrž
C49: Objekt:
E50: =E9 -> SO-103 - Sdružený objekt
C52: Místo: | F52: =F12 | I52: Datum: | J52: =IF(J12="","",J12) -> 11. 8. 2021
C54: Zadavatel: | F54: =E15 -> Město Broumov | I54: Projektant: | J54: =E21 -> Agroprojekce Litomyšl, s.r.o.
C55: Uchazeč: | F55: =IF(E18="","",E18) -> Vyplň údaj | I55: Zpracovatel: | J55: =E24
C57: Kód dílu - Popis | J57: Cena celkem [CZK]
C59: Náklady stavby celkem | J59: =J91 -> 0 | AU59: -1
D60: HSV - Práce a dodávky HSV | J60: =J92 -> 0
D61: 1 - Zemní práce | J61: =J93 -> 0
D62: 4 - Vodorovné konstrukce | J62: =J214 -> 0
D63: 5 - Komunikace pozemní | J63: =J247 -> 0
...

Sheet VON - Vedlejší a ostatní ...
AT2: {0c4bbaa7-7837-4f52-a81b-adb7ae7e50d2}
AT3: 2
D4: KRYCÍ LIST SOUPISU PRACÍ | M4: v --- níže se nacházejí doplnkové a pomocné údaje k sestavám --- v | AT4: False
D6: Stavba:
E7: ='Rekapitulace stavby'!K6 -> Kanalizace Spořilov, dešťová zdrž
D8: Objekt:
E9: VON - Vedlejší a ostatní náklady
D11: KSO: | I11: CC-CZ:
D12: Místo: | I12: Datum: | J12: ='Rekapitulace stavby'!AN8 -> 11. 8. 2021
D14: Zadavatel: | I14: IČ:
E15: Město Broumov | I15: DIČ:
D17: Uchazeč: | I17: IČ: | J17: ='Rekapitulace stavby'!AN13 -> Vyplň údaj
E18: ='Rekapitulace stavby'!E14 -> Vyplň údaj | I18: DIČ: | J18: ='Rekapitulace stavby'!AN14 -> Vyplň údaj
D20: Projektant: | I20: IČ:
E21: Agroprojekce Litomyšl, s.r.o. | I21: DIČ:
D23: Zpracovatel: | I23: IČ: | J23: =IF('Rekapitulace stavby'!AN19="","",'Rekapitulace stavby'!AN19)
E24: =IF('Rekapitulace stavby'!E20="","",'Rekapitulace stavby'!E20) | I24: DIČ: | J24: =IF('Rekapitulace stavby'!AN20="","",'Rekapitulace stavby'!AN20)
D26: Poznámka:
D30: Cena bez DPH | J30: =ROUND(J82, 2) -> 0
F32: Základ daně | I32: Sazba daně | J32: Výše daně
D33: DPH | E33: základní | F33: =ROUND((SUM(BE82:BE112)), 2) -> 0 | I33: 0.21 | J33: =ROUND(((SUM(BE82:BE112))*I33), 2) -> 0
E34: snížená | F34: =ROUND((SUM(BF82:BF112)), 2) -> 0 | I34: 0.15 | J34: =ROUND(((SUM(BF82:BF112))*I34), 2) -> 0
E35: zákl. přenesená | F35: =ROUND((SUM(BG82:BG112)), 2) -> 0 | I35: 0.21 | J35: =0 -> 0
E36: sníž. přenesená | F36: =ROUND((SUM(BH82:BH112)), 2) -> 0 | I36: 0.15 | J36: =0 -> 0
E37: nulová | F37: =ROUND((SUM(BI82:BI112)), 2) -> 0 | I37: 0 | J37: =0 -> 0
D39: Cena s DPH | G39: v | H39: CZK | J39: =SUM(J30:J37) -> 0
C45: REKAPITULACE ČLENĚNÍ SOUPISU PRACÍ
C47: Stavba:
E48: =E7 -> Kanalizace Spořilov, dešťová zdrž
C49: Objekt:
E50: =E9 -> VON - Vedlejší a ostatní náklady
C52: Místo: | F52: =F12 | I52: Datum: | J52: =IF(J12="","",J12) -> 11. 8. 2021
C54: Zadavatel: | F54: =E15 -> Město Broumov | I54: Projektant: | J54: =E21 -> Agroprojekce Litomyšl, s.r.o.
C55: Uchazeč: | F55: =IF(E18="","",E18) -> Vyplň údaj | I55: Zpracovatel: | J55: =E24
C57: Kód dílu - Popis | J57: Cena celkem [CZK]
C59: Náklady stavby celkem | J59: =J82 -> 0 | AU59: -1
D60: VRN - Vedlejší rozpočtové náklady | J60: =J83 -> 0
D61: VRN2 - Vedlejší náklady | J61: =J84 -> 0
D62: VRN9 - Ostatní náklady | J62: =J94 -> 0
C69: SOUPIS PRACÍ
...

Sheet Pokyny pro vyplnění
C3: Struktura údajů, formát souboru a metodika pro zpracování
C4: Struktura
C6: Soubor je složen ze záložky Rekapitulace stavby a záložek s názvem soupisu prací pro jednotlivé objekty ve formátu XLSX. Každá ze záložek přitom obsahuje
C7: ještě samostatné sestavy vymezené orámovaním a nadpisem sestavy.
C9: Rekapitulace stavby obsahuje sestavu Rekapitulace stavby a Rekapitulace objektů stavby a soupisů prací.
D10: V sestavě Rekapitulace stavby jsou uvedeny informace identifikující předmět veřejné zakázky na stavební práce, KSO, CC-CZ, CZ-CPV, CZ-CPA a rekapitulaci
D11: celkové nabídkové ceny uchazeče.
D13: Termínem "uchazeč" (resp. zhotovitel) se myslí "účastník zadávacího řízení" ve smyslu zákona o zadávání veřejných zakázek.
D15: V sestavě Rekapitulace objektů stavby a soupisů prací je uvedena rekapitulace stavebních objektů, inženýrských objektů, provozních souborů,
D16: vedlejších a ostatních nákladů a ostatních nákladů s rekapitulací nabídkové ceny za jednotlivé soupisy prací. Na základě údaje Typ je možné
D17: identifikovat, zda se jedná o objekt nebo soupis prací pro daný objekt:
E18: STA | F18: Stavební objekt pozemní
E19: ING | F19: Stavební objekt inženýrský
E20: PRO | F20: Provozní soubor
E21: VON | F21: Vedlejší a ostatní náklady
E22: OST | F22: Ostatní
E23: Soupis | F23: Soupis prací pro daný typ objektu
C25: Soupis prací pro jednotlivé objekty obsahuje sestavy Krycí list soupisu prací, Rekapitulace členění soupisu prací, Soupis prací. Za soupis prací může být považován
C26: i objekt stavby v případě, že neobsahuje podřízenou zakázku.
D27: Krycí list soupisu obsahuje rekapitulaci informací o předmětu veřejné zakázky ze sestavy Rekapitulace stavby, informaci o zařazení objektu do KSO,
D28: CC-CZ, CZ-CPV, CZ-CPA a rekapitulaci celkové nabídkové ceny uchazeče za aktuální soupis prací.
D30: Rekapitulace členění soupisu prací obsahuje rekapitulaci soupisu prací ve všech úrovních členění soupisu tak, jak byla tato členění použita (např.
D31: stavební díly, funkční díly, případně jiné členění) s rekapitulací nabídkové ceny.
D33: Soupis prací obsahuje položky veškerých stavebních nebo montážních prací, dodávek materiálů a služeb nezbytných pro zhotovení stavebního objektu,
D34: inženýrského objektu, provozního souboru, vedlejších a ostatních nákladů.
D35: Pro položky soupisu prací se zobrazují následující informace:
E36: PČ | G36: Pořadové číslo položky v aktuálním soupisu
E37: TYP | G37: Typ položky: K - konstrukce, M - materiál, PP - plný popis, PSC - poznámka k souboru cen, P - poznámka k položce, VV - výkaz výměr
E38: Kód | G38: Kód položky
E39: Popis | G39: Zkrácený popis položky
E40: MJ | G40: Měrná jednotka položky
E41: Množství | G41: Množství v měrné jednotce
E42: J.cena | G42: Jednotková cena položky. Zadaní může obsahovat namísto J.ceny sloupce J.materiál a J.montáž, jejichž součet definuje
G43: J.cenu položky.
E44: Cena celkem | G44: Celková cena položky daná jako součin množství a j.ceny
E45: Cenová soustava | G45: Příslušnost položky do cenové soustavy
D47: Ke každé položce soupisu prací se na samostatných řádcích může zobrazovat:
E48: Plný popis položky
E49: Poznámka k souboru cen a poznámka zadavatele
E50: Výkaz výměr
...
