Workbook

Sheet Rekapitulace stavby
A1: Export Komplet | AZ1: VZ | BA1: 2.0 | BB1: ZAMOK | BT1: False | BU1: False | BV1: {7b8b7f61-7240-4149-a61d-5548362ddd2d}
BS2: 0,01 | BT2: 21
BS3: 0,01 | BT3: 15
D4: REKAPITULACE STAVBY | AS4: v --- níže se nacházejí doplnkové a pomocné údaje k sestavám --- v | BE4: Návod na vyplnění | BS4: 0,001
D5: Kód: | K5: HRD | BE5: Měnit lze pouze buňky se žlutým podbarvením!_x000D_ _x000D_ 1) v Rekapitulaci stavby vyplňte údaje o Uchazeči (přenesou se do ostatních sestav i v jiných listech)_x000D_ _x000D_ 2) na vybraných listech vyplňte v sestavě Soupis prací ceny u položek | BS5: 0,01
D6: Stavba: | K6: Kanalizace Spořilov, dešťová zdrž | BS6: 0,01
D7: KSO: | AK7: CC-CZ: | BS7: 0,01
D8: Místo: | AK8: Datum: | AN8: 11. 8. 2021 | BS8: 0,01
BS9: 0,01
D10: Zadavatel: | AK10: IČ: | BS10: 0,01
E11: Město Broumov | AK11: DIČ: | BS11: 0,01
BS12: 0,01
D13: Uchazeč: | AK13: IČ: | AN13: Vyplň údaj | BS13: 0,01
E14: Vyplň údaj | AK14: DIČ: | AN14: Vyplň údaj | BS14: 0,01
BS15: False
D16: Projektant: | AK16: IČ: | BS16: False
E17: Agroprojekce Litomyšl, s.r.o. | AK17: DIČ: | BS17: True
BS18: 0,01
D19: Zpracovatel: | AK19: IČ: | BS19: 0,01
AK20: DIČ: | BS20: True
D22: Poznámka:
E23: Soupis prací je sestaven s využitím Cenové soustavy ÚRS. Položky, které pochází z této cenové soustavy, jsou ve sloupci 'Cenová soustava' označeny popisem 'CS ÚRS' a úrovní příslušného kalendářního pololetí. Veškeré další informace vymezující popis a podmínky použití těchto položek z Cenové soustavy, které nejsou uvedeny přímo v soupisu prací, jsou neomezeně dálkově k dispozici na webu podminky.urs.cz.
D26: Cena bez DPH | AK26: =ROUND(AG54,2) -> 0
L28: Sazba daně | W28: Základ daně | AK28: Výše daně
D29: DPH | F29: základní | L29: 0.21 | W29: =ROUND(AZ54, 2) -> 0 | AK29: =ROUND(AV54, 2) -> 0
F30: snížená | L30: 0.15 | W30: =ROUND(BA54, 2) -> 0 | AK30: =ROUND(AW54, 2) -> 0
F31: zákl. přenesená | L31: 0.21 | W31: =ROUND(BB54, 2) -> 0 | AK31: 0
F32: sníž. přenesená | L32: 0.15 | W32: =ROUND(BC54, 2) -> 0 | AK32: 0
F33: nulová | L33: 0 | W33: =ROUND(BD54, 2) -> 0 | AK33: 0
D35: Cena s DPH | T35: v | X35: CZK | AK35: =SUM(AK26:AK33) -> 0
C42: REKAPITULACE OBJEKTŮ STAVBY A SOUPISŮ PRACÍ
C44: Kód: | L44: =K5 -> HRD
C45: Stavba: | L45: =K6 -> Kanalizace Spořilov, dešťová zdrž
C47: Místo: | L47: =IF(K8="","",K8) | AI47: Datum: | AM47: =IF(AN8= "","",AN8) -> 11. 8. 2021
C49: Zadavatel: | L49: =IF(E11= "","",E11) -> Město Broumov | AI49: Projektant: | AM49: =IF(E17="","",E17) -> Agroprojekce Litomyšl, s.r.o. | AS49: Informatívní údaje z listů zakázek
C50: Uchazeč: | L50: =IF(E14= "Vyplň údaj","",E14) | AI50: Zpracovatel: | AM50: =IF(E20="","",E20)
C52: Kód | I52: Popis | AG52: Cena bez DPH [CZK] | AN52: Cena s DPH [CZK] | AQ52: Typ | AS52: z toho Ostat._x000D_ náklady [CZK] | AT52: DPH [CZK] | AU52: Normohodiny [h] | AV52: DPH základní [CZK] | AW52: DPH snížená [CZK] | AX52: DPH základní přenesená_x000D_ [CZK] | AY52: DPH snížená přenesená_x000D_ [CZK] | AZ52: Základna_x000D_ DPH základní | BA52: Základna_x000D_ DPH snížená | BB52: Základna_x000D_ DPH zákl. přenesená | BC52: Základna_x000D_ DPH sníž. přenesená | BD52: Základna_x000D_ DPH nulová
C54: Náklady stavby celkem | AG54: =ROUND(SUM(AG55:AG58),2) -> 0 | AN54: =SUM(AG54,AT54) -> 0 | AS54: =ROUND(SUM(AS55:AS58),2) -> 0 | AT54: =ROUND(SUM(AV54:AW54),2) -> 0 | AU54: =ROUND(SUM(AU55:AU58),5) -> 0 | AV54: =ROUND(AZ54*L29,2) -> 0 | AW54: =ROUND(BA54*L30,2) -> 0 | AX54: =ROUND(BB54*L29,2) -> 0 | AY54: =ROUND(BC54*L30,2) -> 0 | AZ54: =ROUND(SUM(AZ55:AZ58),2) -> 0 | BA54: =ROUND(SUM(BA55:BA58),2) -> 0 | BB54: =ROUND(SUM(BB55:BB58),2) -> 0 | BC54: =ROUND(SUM(BC55:BC58),2) -> 0 | BD54: =ROUND(SUM(BD55:BD58),2) -> 0 | BS54: D | BT54: 0 | BU54: ###NOIMPORT### | BV54: IMPORT | BW54: {7b8b7f61-7240-4149-a61d-5548362ddd2d} | BX54: {00000000-0000-0000-0000-000000000000}
A55: / | D55: SO-101 | J55: Hráz | AG55: ='SO-101 - Hráz'!J30 -> 0 | AN55: =SUM(AG55,AT55) -> 0 | AQ55: STA | AS55: 0 | AT55: =ROUND(SUM(AV55:AW55),2) -> 0 | AU55: ='SO-101 - Hráz'!P81 -> 0 | AV55: ='SO-101 - Hráz'!J33 -> 0 | AW55: ='SO-101 - Hráz'!J34 -> 0 | AX55: ='SO-101 - Hráz'!J35 -> 0 | AY55: ='SO-101 - Hráz'!J36 -> 0 | AZ55: ='SO-101 - Hráz'!F33 -> 0 | BA55: ='SO-101 - Hráz'!F34 -> 0 | BB55: ='SO-101 - Hráz'!F35 -> 0 | BC55: ='SO-101 - Hráz'!F36 -> 0 | BD55: ='SO-101 - Hráz'!F37 -> 0 | BT55: 1 | BV55: IMPORT | BW55: {a41f6884-ad29-40f1-8417-6a23d2c33d41} | BX55: {7b8b7f61-7240-4149-a61d-5548362ddd2d} | CL55: 832 15 | CM55: 2
A56: / | D56: SO-102 | J56: Zdrž | AG56: ='SO-102 - Zdrž'!J30 -> 0 | AN56: =SUM(AG56,AT56) -> 0 | AQ56: STA | AS56: 0 | AT56: =ROUND(SUM(AV56:AW56),2) -> 0 | AU56: ='SO-102 - Zdrž'!P81 -> 0 | AV56: ='SO-102 - Zdrž'!J33 -> 0 | AW56: ='SO-102 - Zdrž'!J34 -> 0 | AX56: ='SO-102 - Zdrž'!J35 -> 0 | AY56: ='SO-102 - Zdrž'!J36 -> 0 | AZ56: ='SO-102 - Zdrž'!F33 -> 0 | BA56: ='SO-102 - Zdrž'!F34 -> 0 | BB56: ='SO-102 - Zdrž'!F35 -> 0 | BC56: ='SO-102 - Zdrž'!F36 -> 0 | BD56: ='SO-102 - Zdrž'!F37 -> 0 | BT56: 1 | BV56: IMPORT | BW56: {84ba6995-102b-4a6c-9d80-f1d940d09c36} | BX56: {7b8b7f61-7240-4149-a61d-5548362ddd2d} | CL56: 833 11 | CM56: 2
A57: / | D57: SO-103 | J57: Sdružený objekt | AG57: ='SO-103 - Sdružený objekt'!J30 -> 0 | AN57: =SUM(AG57,AT57) -> 0 | AQ57: STA | AS57: 0 | AT57: =ROUND(SUM(AV57:AW57),2) -> 0 | AU57: ='SO-103 - Sdružený objekt'!P91 -> 0 | AV57: ='SO-103 - Sdružený objekt'!J33 -> 0 | AW57: ='SO-103 - Sdružený objekt'!J34 -> 0 | AX57: ='SO-103 - Sdružený objekt'!J35 -> 0 | AY57: ='SO-103 - Sdružený objekt'!J36 -> 0 | AZ57: ='SO-103 - Sdružený objekt'!F33 -> 0 | BA57: ='SO-103 - Sdružený objekt'!F34 -> 0 | BB57: ='SO-103 - Sdružený objekt'!F35 -> 0 | BC57: ='SO-103 - Sdružený objekt'!F36 -> 0 | BD57: ='SO-103 - Sdružený objekt'!F37 -> 0 | BT57: 1 | BV57: IMPORT | BW57: {4ac8dfd1-3f32-4be1-a386-b5e70f723d62} | BX57: {7b8b7f61-7240-4149-a61d-5548362ddd2d} | CL57: 827 2 | CM57: 2
A58: / | D58: VON | J58: Vedlejší a ostatní náklady | AG58: ='VON - Vedlejší a ostatní ...'!J30 -> 0 | AN58: =SUM(AG58,AT58) -> 0 | AQ58: VON | AS58: 0 | AT58: =ROUND(SUM(AV58:AW58),2) -> 0 | AU58: ='VON - Vedlejší a ostatní ...'!P82 -> 0 | AV58: ='VON - Vedlejší a ostatní ...'!J33 -> 0 | AW58: ='VON - Vedlejší a ostatní ...'!J34 -> 0 | AX58: ='VON - Vedlejší a ostatní ...'!J35 -> 0 | AY58: ='VON - Vedlejší a ostatní ...'!J36 -> 0 | AZ58: ='VON - Vedlejší a ostatní ...'!F33 -> 0 | BA58: ='VON - Vedlejší a ostatní ...'!F34 -> 0 | BB58: ='VON - Vedlejší a ostatní ...'!F35 -> 0 | BC58: ='VON - Vedlejší a ostatní ...'!F36 -> 0 | BD58: ='VON - Vedlejší a ostatní ...'!F37 -> 0 | BT58: 1 | BV58: IMPORT | BW58: {0c4bbaa7-7837-4f52-a81b-adb7ae7e50d2} | BX58: {7b8b7f61-7240-4149-a61d-5548362ddd2d} | CM58: 2

Sheet SO-101 - Hráz
AT2: {a41f6884-ad29-40f1-8417-6a23d2c33d41}
AT3: 2
D4: KRYCÍ LIST SOUPISU PRACÍ | M4: v --- níže se nacházejí doplnkové a pomocné údaje k sestavám --- v | AT4: False
D6: Stavba:
E7: ='Rekapitulace stavby'!K6 -> Kanalizace Spořilov, dešťová zdrž
D8: Objekt:
E9: SO-101 - Hráz
D11: KSO: | F11: 832 15 | I11: CC-CZ:
D12: Místo: | I12: Datum: | J12: ='Rekapitulace stavby'!AN8 -> 11. 8. 2021
D14: Zadavatel: | I14: IČ:
E15: Město Broumov | I15: DIČ:
D17: Uchazeč: | I17: IČ: | J17: ='Rekapitulace stavby'!AN13 -> Vyplň údaj
E18: ='Rekapitulace stavby'!E14 -> Vyplň údaj | I18: DIČ: | J18: ='Rekapitulace stavby'!AN14 -> Vyplň údaj
D20: Projektant: | I20: IČ:
E21: Agroprojekce Litomyšl, s.r.o. | I21: DIČ:
D23: Zpracovatel: | I23: IČ: | J23: =IF('Rekapitulace stavby'!AN19="","",'Rekapitulace stavby'!AN19)
E24: =IF('Rekapitulace stavby'!E20="","",'Rekapitulace stavby'!E20) | I24: DIČ: | J24: =IF('Rekapitulace stavby'!AN20="","",'Rekapitulace stavby'!AN20)
D26: Poznámka:
D30: Cena bez DPH | J30: =ROUND(J81, 2) -> 0
F32: Základ daně | I32: Sazba daně | J32: Výše daně
D33: DPH | E33: základní | F33: =ROUND((SUM(BE81:BE137)), 2) -> 0 | I33: 0.21 | J33: =ROUND(((SUM(BE81:BE137))*I33), 2) -> 0
E34: snížená | F34: =ROUND((SUM(BF81:BF137)), 2) -> 0 | I34: 0.15 | J34: =ROUND(((SUM(BF81:BF137))*I34), 2) -> 0
E35: zákl. přenesená | F35: =ROUND((SUM(BG81:BG137)), 2) -> 0 | I35: 0.21 | J35: =0 -> 0
E36: sníž. přenesená | F36: =ROUND((SUM(BH81:BH137)), 2) -> 0 | I36: 0.15 | J36: =0 -> 0
E37: nulová | F37: =ROUND((SUM(BI81:BI137)), 2) -> 0 | I37: 0 | J37: =0 -> 0
D39: Cena s DPH | G39: v | H39: CZK | J39: =SUM(J30:J37) -> 0
C45: REKAPITULACE ČLENĚNÍ SOUPISU PRACÍ
C47: Stavba:
E48: =E7 -> Kanalizace Spořilov, dešťová zdrž
C49: Objekt:
E50: =E9 -> SO-101 - Hráz
C52: Místo: | F52: =F12 | I52: Datum: | J52: =IF(J12="","",J12) -> 11. 8. 2021
C54: Zadavatel: | F54: =E15 -> Město Broumov | I54: Projektant: | J54: =E21 -> Agroprojekce Litomyšl, s.r.o.
C55: Uchazeč: | F55: =IF(E18="","",E18) -> Vyplň údaj | I55: Zpracovatel: | J55: =E24
C57: Kód dílu - Popis | J57: Cena celkem [CZK]
C59: Náklady stavby celkem | J59: =J81 -> 0 | AU59: -1
D60: HSV - Práce a dodávky HSV | J60: =J82 -> 0
D61: 1 - Zemní práce | J61: =J83 -> 0
C68: SOUPIS PRACÍ
C70: Stavba:
E71: =E7 -> Kanalizace Spořilov, dešťová zdrž
C72: Objekt:
E73: =E9 -> SO-101 - Hráz
C75: Místo: | F75: =F12 | I75: Datum: | J75: =IF(J12="","",J12) -> 11. 8. 2021
C77: Zadavatel: | F77: =E15 -> Město Broumov | I77: Projektant: | J77: =E21 -> Agroprojekce Litomyšl, s.r.o.
C78: Uchazeč: | F78: =IF(E18="","",E18) -> Vyplň údaj | I78: Zpracovatel: | J78: =E24
C80: PČ | D80: Typ | E80: Kód | F80: Popis | G80: MJ | H80: Množství | I80: J.cena [CZK] | J80: Cena celkem [CZK] | K80: Cenová soustava | N80: DPH | O80: J. Nh [h] | P80: Nh celkem [h] | Q80: J. hmotnost [t] | R80: Hmotnost celkem [t] | S80: J. suť [t] | T80: Suť Celkem [t]
C81: Náklady soupisu celkem | J81: =BK81 -> 0 | P81: =P82 -> 0 | R81: =R82 -> 0.008693 | T81: =T82 -> 0 | AT81: D | AU81: -1 | BK81: =BK82 -> 0
D82: D | E82: HSV | F82: Práce a dodávky HSV | J82: =BK82 -> 0 | P82: =P83 -> 0 | R82: =R83 -> 0.008693 | T82: =T83 -> 0 | AR82: 1 | AT82: D | AU82: 0 | AY82: ROZPOCET | BK82: =BK83 -> 0
D83: D | E83: 1 | F83: Zemní práce | J83: =BK83 -> 0 | P83: =SUM(P84:P137) -> 0 | R83: =SUM(R84:R137) -> 0.008693 | T83: =SUM(T84:T137) -> 0 | AR83: 1 | AT83: D | AU83: 1 | AY83: ROZPOCET | BK83: =SUM(BK84:BK137) -> 0
C84: 1 | D84: K | E84: 121151115 | F84: Sejmutí ornice plochy do 500 m2 tl vrstvy přes 250 do 300 mm strojně | G84: m2 | H84: 270 | J84: =ROUND(I84*H84,2) -> 0 | K84: CS ÚRS 2021 02 | N84: základní | P84: =O84*H84 -> 0 | Q84: 0 | R84: =Q84*H84 -> 0 | S84: 0 | T84: =S84*H84 -> 0 | AR84: 4 | AT84: K | AU84: 2 | AY84: ROZPOCET | BE84: =IF(N84="základní",J84,0) -> 0 | BF84: =IF(N84="snížená",J84,0) -> 0 | BG84: =IF(N84="zákl. přenesená",J84,0) -> 0 | BH84: =IF(N84="sníž. přenesená",J84,0) -> 0 | BI84: =IF(N84="nulová",J84,0) -> 0 | BJ84: 1 | BK84: =ROUND(I84*H84,2) -> 0 | BL84: 4 | BM84: 638607245
D85: PP | F85: Sejmutí ornice strojně při souvislé ploše přes 100 do 500 m2, tl. vrstvy přes 250 do 300 mm | AT85: PP | AU85: 2
D86: Online PSC | F86: https://podminky.urs.cz/item/CS_URS_2021_02/121151115 | AT86: Online PSC | AU86: 2
D87: VV | F87: "viz. Tabulka kubatur D.1.2.6." 81,0/0,3 | H87: 270 | AT87: VV | AU87: 2 | AV87: 2 | AW87: True | AX87: 0 | AY87: ROZPOCET
C88: 2 | D88: K | E88: 131251104 | F88: Hloubení jam nezapažených v hornině třídy těžitelnosti I skupiny 3 objem do 500 m3 strojně | G88: m3 | H88: 262 | J88: =ROUND(I88*H88,2) -> 0 | K88: CS ÚRS 2021 02 | N88: základní | P88: =O88*H88 -> 0 | Q88: 0 | R88: =Q88*H88 -> 0 | S88: 0 | T88: =S88*H88 -> 0 | AR88: 4 | AT88: K | AU88: 2 | AY88: ROZPOCET | BE88: =IF(N88="základní",J88,0) -> 0 | BF88: =IF(N88="snížená",J88,0) -> 0 | BG88: =IF(N88="zákl. přenesená",J88,0) -> 0 | BH88: =IF(N88="sníž. přenesená",J88,0) -> 0 | BI88: =IF(N88="nulová",J88,0) -> 0 | BJ88: 1 | BK88: =ROUND(I88*H88,2) -> 0 | BL88: 4 | BM88: -1930507290
D89: PP | F89: Hloubení nezapažených jam a zářezů strojně s urovnáním dna do předepsaného profilu a spádu v hornině třídy těžitelnosti I skupiny 3 přes 100 do 500 m3 | AT89: PP | AU89: 2
D90: Online PSC | F90: https://podminky.urs.cz/item/CS_URS_2021_02/131251104 | AT90: Online PSC | AU90: 2
D91: VV | F91: "viz. Tabulka kubatur D.1.2.6." 262,0 | H91: 262 | AT91: VV | AU91: 2 | AV91: 2 | AW91: True | AX91: 0 | AY91: ROZPOCET
C92: 3 | D92: K | E92: 139001101 | F92: Příplatek za ztížení vykopávky v blízkosti podzemního vedení | G92: m3 | H92: 7.5 | J92: =ROUND(I92*H92,2) -> 0 | K92: CS ÚRS 2021 02 | N92: základní | P92: =O92*H92 -> 0 | Q92: 0 | R92: =Q92*H92 -> 0 | S92: 0 | T92: =S92*H92 -> 0 | AR92: 4 | AT92: K | AU92: 2 | AY92: ROZPOCET | BE92: =IF(N92="základní",J92,0) -> 0 | BF92: =IF(N92="snížená",J92,0) -> 0 | BG92: =IF(N92="zákl. přenesená",J92,0) -> 0 | BH92: =IF(N92="sníž. přenesená",J92,0) -> 0 | BI92: =IF(N92="nulová",J92,0) -> 0 | BJ92: 1 | BK92: =ROUND(I92*H92,2) -> 0 | BL92: 4 | BM92: -493582205
D93: PP | F93: Příplatek k cenám hloubených vykopávek za ztížení vykopávky v blízkosti podzemního vedení nebo výbušnin pro jakoukoliv třídu horniny | AT93: PP | AU93: 2
D94: Online PSC | F94: https://podminky.urs.cz/item/CS_URS_2021_02/139001101 | AT94: Online PSC | AU94: 2
D95: VV | F95: "souběh s kabelem Cetin - viz. D.1.2.2." 15,0*1,0*0,5 | H95: 7.5 | AT95: VV | AU95: 2 | AV95: 2 | AW95: True | AX95: 0 | AY95: ROZPOCET
C96: 4 | D96: K | E96: 162651112 | F96: Vodorovné přemístění přes 4 000 do 5000 m výkopku/sypaniny z horniny třídy těžitelnosti I skupiny 1 až 3 | G96: m3 | H96: 262 | J96: =ROUND(I96*H96,2) -> 0 | K96: CS ÚRS 2021 02 | N96: základní | P96: =O96*H96 -> 0 | Q96: 0 | R96: =Q96*H96 -> 0 | S96: 0 | T96: =S96*H96 -> 0 | AR96: 4 | AT96: K | AU96: 2 | AY96: ROZPOCET | BE96: =IF(N96="základní",J96,0) -> 0 | BF96: =IF(N96="snížená",J96,0) -> 0 | BG96: =IF(N96="zákl. přenesená",J96,0) -> 0 | BH96: =IF(N96="sníž. přenesená",J96,0) -> 0 | BI96: =IF(N96="nulová",J96,0) -> 0 | BJ96: 1 | BK96: =ROUND(I96*H96,2) -> 0 | BL96: 4 | BM96: 1039784325
D97: PP | F97: Vodorovné přemístění výkopku nebo sypaniny po suchu na obvyklém dopravním prostředku, bez naložení výkopku, avšak se složením bez rozhrnutí z horniny třídy těžitelnosti I skupiny 1 až 3 na vzdálenost přes 4 000 do 5 000 m | AT97: PP | AU97: 2
D98: Online PSC | F98: https://podminky.urs.cz/item/CS_URS_2021_02/162651112 | AT98: Online PSC | AU98: 2
D99: VV | F99: "přebytečná zemina" 262,0 | H99: 262 | AT99: VV | AU99: 2 | AV99: 2 | AW99: True | AX99: 0 | AY99: ROZPOCET
C100: 5 | D100: K | E100: 171103202 | F100: Uložení sypanin z horniny třídy těžitelnosti I a II skupiny 1 až 4 do hrází nádrží se zhutněním 100 % PS C s příměsí jílu přes 20 do 50 % | G100: m3 | H100: 357 | J100: =ROUND(I100*H100,2) -> 0 | K100: CS ÚRS 2021 02 | N100: základní | P100: =O100*H100 -> 0 | Q100: 0 | R100: =Q100*H100 -> 0 | S100: 0 | T100: =S100*H100 -> 0 | AR100: 4 | AT100: K | AU100: 2 | AY100: ROZPOCET | BE100: =IF(N100="základní",J100,0) -> 0 | BF100: =IF(N100="snížená",J100,0) -> 0 | BG100: =IF(N100="zákl. přenesená",J100,0) -> 0 | BH100: =IF(N100="sníž. přenesená",J100,0) -> 0 | BI100: =IF(N100="nulová",J100,0) -> 0 | BJ100: 1 | BK100: =ROUND(I100*H100,2) -> 0 | BL100: 4 | BM100: -1284534443
D101: PP | F101: Uložení netříděných sypanin do zemních hrází z hornin třídy těžitelnosti I a II, skupiny 1 až 4 pro jakoukoliv šířku koruny přehradních a jiných vodních nádrží se zhutněním do 100 % PS - koef. C s příměsí jílové hlíny přes 20 do 50 % objemu | AT101: PP | AU101: 2
D102: Online PSC | F102: https://podminky.urs.cz/item/CS_URS_2021_02/171103202 | AT102: Online PSC | AU102: 2
D103: P | F103: Poznámka k položce:_x000D_ Zemina na hráz se doveze ze zdrže SO-02. | AT103: P | AU103: 2
D104: VV | F104: "viz. Tabulka kubatur D.1.2.6." 357,0 | H104: 357 | AT104: VV | AU104: 2 | AV104: 2 | AW104: True | AX104: 1 | AY104: ROZPOCET
C105: 6 | D105: K | E105: 171251201 | F105: Uložení sypaniny na skládky nebo meziskládky | G105: m3 | H105: 262 | J105: =ROUND(I105*H105,2) -> 0 | K105: CS ÚRS 2021 02 | N105: základní | P105: =O105*H105 -> 0 | Q105: 0 | R105: =Q105*H105 -> 0 | S105: 0 | T105: =S105*H105 -> 0 | AR105: 4 | AT105: K | AU105: 2 | AY105: ROZPOCET | BE105: =IF(N105="základní",J105,0) -> 0 | BF105: =IF(N105="snížená",J105,0) -> 0 | BG105: =IF(N105="zákl. přenesená",J105,0) -> 0 | BH105: =IF(N105="sníž. přenesená",J105,0) -> 0 | BI105: =IF(N105="nulová",J105,0) -> 0 | BJ105: 1 | BK105: =ROUND(I105*H105,2) -> 0 | BL105: 4 | BM105: -1597397303
D106: PP | F106: Uložení sypaniny na skládky nebo meziskládky bez hutnění s upravením uložené sypaniny do předepsaného tvaru | AT106: PP | AU106: 2
D107: Online PSC | F107: https://podminky.urs.cz/item/CS_URS_2021_02/171251201 | AT107: Online PSC | AU107: 2
D108: VV | F108: "přebytečná zemina na hromady" 262,0 | H108: 262 | AT108: VV | AU108: 2 | AV108: 2 | AW108: True | AX108: 0 | AY108: ROZPOCET
C109: 7 | D109: K | E109: 181351105 | F109: Rozprostření ornice tl vrstvy přes 250 do 300 mm pl přes 100 do 500 m2 v rovině nebo ve svahu do 1:5 strojně | G109: m2 | H109: 138 | J109: =ROUND(I109*H109,2) -> 0 | K109: CS ÚRS 2021 02 | N109: základní | P109: =O109*H109 -> 0 | Q109: 0 | R109: =Q109*H109 -> 0 | S109: 0 | T109: =S109*H109 -> 0 | AR109: 4 | AT109: K | AU109: 2 | AY109: ROZPOCET | BE109: =IF(N109="základní",J109,0) -> 0 | BF109: =IF(N109="snížená",J109,0) -> 0 | BG109: =IF(N109="zákl. přenesená",J109,0) -> 0 | BH109: =IF(N109="sníž. přenesená",J109,0) -> 0 | BI109: =IF(N109="nulová",J109,0) -> 0 | BJ109: 1 | BK109: =ROUND(I109*H109,2) -> 0 | BL109: 4 | BM109: 926506098
D110: PP | F110: Rozprostření a urovnání ornice v rovině nebo ve svahu sklonu do 1:5 strojně při souvislé ploše přes 100 do 500 m2, tl. vrstvy přes 250 do 300 mm | AT110: PP | AU110: 2
D111: Online PSC | F111: https://podminky.urs.cz/item/CS_URS_2021_02/181351105 | AT111: Online PSC | AU111: 2
D112: VV | F112: "viz. Tabulka kubatur D.1.2.6. = ÚP" 138,0 | H112: 138 | AT112: VV | AU112: 2 | AV112: 2 | AW112: True | AX112: 0 | AY112: ROZPOCET
C113: 8 | D113: K | E113: 181411121 | F113: Založení lučního trávníku výsevem pl do 1000 m2 v rovině a ve svahu do 1:5 | G113: m2 | H113: 138 | J113: =ROUND(I113*H113,2) -> 0 | K113: CS ÚRS 2021 02 | N113: základní | P113: =O113*H113 -> 0 | Q113: 0 | R113: =Q113*H113 -> 0 | S113: 0 | T113: =S113*H113 -> 0 | AR113: 4 | AT113: K | AU113: 2 | AY113: ROZPOCET | BE113: =IF(N113="základní",J113,0) -> 0 | BF113: =IF(N113="snížená",J113,0) -> 0 | BG113: =IF(N113="zákl. přenesená",J113,0) -> 0 | BH113: =IF(N113="sníž. přenesená",J113,0) -> 0 | BI113: =IF(N113="nulová",J113,0) -> 0 | BJ113: 1 | BK113: =ROUND(I113*H113,2) -> 0 | BL113: 4 | BM113: -1411929489
D114: PP | F114: Založení trávníku na půdě předem připravené plochy do 1000 m2 výsevem včetně utažení lučního v rovině nebo na svahu do 1:5 | AT114: PP | AU114: 2
D115: Online PSC | F115: https://podminky.urs.cz/item/CS_URS_2021_02/181411121 | AT115: Online PSC | AU115: 2
D116: VV | F116: "viz. Tabulka kubatur D.1.2.6. = ÚP" 138,0 | H116: 138 | AT116: VV | AU116: 2 | AV116: 2 | AW116: True | AX116: 1 | AY116: ROZPOCET
C117: 9 | D117: K | E117: 181411122 | F117: Založení lučního trávníku výsevem pl do 1000 m2 ve svahu přes 1:5 do 1:2 | G117: m2 | H117: 284 | J117: =ROUND(I117*H117,2) -> 0 | K117: CS ÚRS 2021 02 | N117: základní | P117: =O117*H117 -> 0 | Q117: 0 | R117: =Q117*H117 -> 0 | S117: 0 | T117: =S117*H117 -> 0 | AR117: 4 | AT117: K | AU117: 2 | AY117: ROZPOCET | BE117: =IF(N117="základní",J117,0) -> 0 | BF117: =IF(N117="snížená",J117,0) -> 0 | BG117: =IF(N117="zákl. přenesená",J117,0) -> 0 | BH117: =IF(N117="sníž. přenesená",J117,0) -> 0 | BI117: =IF(N117="nulová",J117,0) -> 0 | BJ117: 1 | BK117: =ROUND(I117*H117,2) -> 0 | BL117: 4 | BM117: -2033107204
D118: PP | F118: Založení trávníku na půdě předem připravené plochy do 1000 m2 výsevem včetně utažení lučního na svahu přes 1:5 do 1:2 | AT118: PP | AU118: 2
D119: Online PSC | F119: https://podminky.urs.cz/item/CS_URS_2021_02/181411122 | AT119: Online PSC | AU119: 2
D120: VV | F120: "viz. Tabulka kubatur D.1.2.6. = SN" 284,0 | H120: 284 | AT120: VV | AU120: 2 | AV120: 2 | AW120: True | AX120: 1 | AY120: ROZPOCET
C121: 10 | D121: M | E121: 00572470 | F121: osivo směs travní univerzál | G121: kg | H121: 8.693 | J121: =ROUND(I121*H121,2) -> 0 | K121: CS ÚRS 2021 02 | N121: základní | P121: =O121*H121 -> 0 | Q121: 0.001 | R121: =Q121*H121 -> 0.008693 | S121: 0 | T121: =S121*H121 -> 0 | AR121: 8 | AT121: M | AU121: 2 | AY121: ROZPOCET | BE121: =IF(N121="základní",J121,0) -> 0 | BF121: =IF(N121="snížená",J121,0) -> 0 | BG121: =IF(N121="zákl. přenesená",J121,0) -> 0 | BH121: =IF(N121="sníž. přenesená",J121,0) -> 0 | BI121: =IF(N121="nulová",J121,0) -> 0 | BJ121: 1 | BK121: =ROUND(I121*H121,2) -> 0 | BL121: 4 | BM121: -512748164
D122: PP | F122: osivo směs travní univerzál | AT122: PP | AU122: 2
D123: Online PSC | F123: https://podminky.urs.cz/item/CS_URS_2021_02/00572470 | AT123: Online PSC | AU123: 2
D124: P | F124: Poznámka k položce:_x000D_ 20 g/m2 | AT124: P | AU124: 2
D125: VV | F125: (138+284)*0,02*1,03 | H125: 8.693 | AT125: VV | AU125: 2 | AV125: 2 | AW125: True | AX125: 1 | AY125: ROZPOCET
C126: 11 | D126: K | E126: 181951112 | F126: Úprava pláně v hornině třídy těžitelnosti I skupiny 1 až 3 se zhutněním strojně | G126: m2 | H126: 138 | J126: =ROUND(I126*H126,2) -> 0 | K126: CS ÚRS 2021 02 | N126: základní | P126: =O126*H126 -> 0 | Q126: 0 | R126: =Q126*H126 -> 0 | S126: 0 | T126: =S126*H126 -> 0 | AR126: 4 | AT126: K | AU126: 2 | AY126: ROZPOCET | BE126: =IF(N126="základní",J126,0) -> 0 | BF126: =IF(N126="snížená",J126,0) -> 0 | BG126: =IF(N126="zákl. přenesená",J126,0) -> 0 | BH126: =IF(N126="sníž. přenesená",J126,0) -> 0 | BI126: =IF(N126="nulová",J126,0) -> 0 | BJ126: 1 | BK126: =ROUND(I126*H126,2) -> 0 | BL126: 4 | BM126: -1769120703
D127: PP | F127: Úprava pláně vyrovnáním výškových rozdílů strojně v hornině třídy těžitelnosti I, skupiny 1 až 3 se zhutněním | AT127: PP | AU127: 2
D128: Online PSC | F128: https://podminky.urs.cz/item/CS_URS_2021_02/181951112 | AT128: Online PSC | AU128: 2
D129: VV | F129: "viz. Tabulka kubatur D.1.2.6." 138,0 | H129: 138 | AT129: VV | AU129: 2 | AV129: 2 | AW129: True | AX129: 0 | AY129: ROZPOCET
C130: 12 | D130: K | E130: 182251101 | F130: Svahování násypů strojně | G130: m2 | H130: 284 | J130: =ROUND(I130*H130,2) -> 0 | K130: CS ÚRS 2021 02 | N130: základní | P130: =O130*H130 -> 0 | Q130: 0 | R130: =Q130*H130 -> 0 | S130: 0 | T130: =S130*H130 -> 0 | AR130: 4 | AT130: K | AU130: 2 | AY130: ROZPOCET | BE130: =IF(N130="základní",J130,0) -> 0 | BF130: =IF(N130="snížená",J130,0) -> 0 | BG130: =IF(N130="zákl. přenesená",J130,0) -> 0 | BH130: =IF(N130="sníž. přenesená",J130,0) -> 0 | BI130: =IF(N130="nulová",J130,0) -> 0 | BJ130: 1 | BK130: =ROUND(I130*H130,2) -> 0 | BL130: 4 | BM130: -1237517535
D131: PP | F131: Svahování trvalých svahů do projektovaných profilů strojně s potřebným přemístěním výkopku při svahování násypů v jakékoliv hornině | AT131: PP | AU131: 2
D132: Online PSC | F132: https://podminky.urs.cz/item/CS_URS_2021_02/182251101 | AT132: Online PSC | AU132: 2
D133: VV | F133: "viz. Tabulka kubatur D.1.2.6." 284,0 | H133: 284 | AT133: VV | AU133: 2 | AV133: 2 | AW133: True | AX133: 0 | AY133: ROZPOCET
...

Sheet SO-102 - Zdrž
AT2: {84ba6995-102b-4a6c-9d80-f1d940d09c36}
AT3: 2
D4: KRYCÍ LIST SOUPISU PRACÍ | M4: v --- níže se nacházejí doplnkové a pomocné údaje k sestavám --- v | AT4: False
D6: Stavba:
E7: ='Rekapitulace stavby'!K6 -> Kanalizace Spořilov, dešťová zdrž
D8: Objekt:
E9: SO-102 - Zdrž
D11: KSO: | F11: 833 11 | I11: CC-CZ:
D12: Místo: | I12: Datum: | J12: ='Rekapitulace stavby'!AN8 -> 11. 8. 2021
D14: Zadavatel: | I14: IČ:
E15: Město Broumov | I15: DIČ:
D17: Uchazeč: | I17: IČ: | J17: ='Rekapitulace stavby'!AN13 -> Vyplň údaj
E18: ='Rekapitulace stavby'!E14 -> Vyplň údaj | I18: DIČ: | J18: ='Rekapitulace stavby'!AN14 -> Vyplň údaj
D20: Projektant: | I20: IČ:
E21: Agroprojekce Litomyšl, s.r.o. | I21: DIČ:
D23: Zpracovatel: | I23: IČ: | J23: =IF('Rekapitulace stavby'!AN19="","",'Rekapitulace stavby'!AN19)
E24: =IF('Rekapitulace stavby'!E20="","",'Rekapitulace stavby'!E20) | I24: DIČ: | J24: =IF('Rekapitulace stavby'!AN20="","",'Rekapitulace stavby'!AN20)
D26: Poznámka:
D30: Cena bez DPH | J30: =ROUND(J81, 2) -> 0
F32: Základ daně | I32: Sazba daně | J32: Výše daně
D33: DPH | E33: základní | F33: =ROUND((SUM(BE81:BE144)), 2) -> 0 | I33: 0.21 | J33: =ROUND(((SUM(BE81:BE144))*I33), 2) -> 0
E34: snížená | F34: =ROUND((SUM(BF81:BF144)), 2) -> 0 | I34: 0.15 | J34: =ROUND(((SUM(BF81:BF144))*I34), 2) -> 0
E35: zákl. přenesená | F35: =ROUND((SUM(BG81:BG144)), 2) -> 0 | I35: 0.21 | J35: =0 -> 0
E36: sníž. přenesená | F36: =ROUND((SUM(BH81:BH144)), 2) -> 0 | I36: 0.15 | J36: =0 -> 0
E37: nulová | F37: =ROUND((SUM(BI81:BI144)), 2) -> 0 | I37: 0 | J37: =0 -> 0
D39: Cena s DPH | G39: v | H39: CZK | J39: =SUM(J30:J37) -> 0
C45: REKAPITULACE ČLENĚNÍ SOUPISU PRACÍ
C47: Stavba:
E48: =E7 -> Kanalizace Spořilov, dešťová zdrž
C49: Objekt:
E50: =E9 -> SO-102 - Zdrž
C52: Místo: | F52: =F12 | I52: Datum: | J52: =IF(J12="","",J12) -> 11. 8. 2021
C54: Zadavatel: | F54: =E15 -> Město Broumov | I54: Projektant: | J54: =E21 -> Agroprojekce Litomyšl, s.r.o.
C55: Uchazeč: | F55: =IF(E18="","",E18) -> Vyplň údaj | I55: Zpracovatel: | J55: =E24
C57: Kód dílu - Popis | J57: Cena celkem [CZK]
C59: Náklady stavby celkem | J59: =J81 -> 0 | AU59: -1
D60: HSV - Práce a dodávky HSV | J60: =J82 -> 0
D61: 1 - Zemní práce | J61: =J83 -> 0
C68: SOUPIS PRACÍ
C70: Stavba:
E71: =E7 -> Kanalizace Spořilov, dešťová zdrž
C72: Objekt:
E73: =E9 -> SO-102 - Zdrž
C75: Místo: | F75: =F12 | I75: Datum: | J75: =IF(J12="","",J12) -> 11. 8. 2021
C77: Zadavatel: | F77: =E15 -> Město Broumov | I77: Projektant: | J77: =E21 -> Agroprojekce Litomyšl, s.r.o.
C78: Uchazeč: | F78: =IF(E18="","",E18) -> Vyplň údaj | I78: Zpracovatel: | J78: =E24
C80: PČ | D80: Typ | E80: Kód | F80: Popis | G80: MJ | H80: Množství | I80: J.cena [CZK] | J80: Cena celkem [CZK] | K80: Cenová soustava | N80: DPH | O80: J. Nh [h] | P80: Nh celkem [h] | Q80: J. hmotnost [t] | R80: Hmotnost celkem [t] | S80: J. suť [t] | T80: Suť Celkem [t]
C81: Náklady soupisu celkem | J81: =BK81 -> 0 | P81: =P82 -> 0 | R81: =R82 -> 0.018231 | T81: =T82 -> 0 | AT81: D | AU81: -1 | BK81: =BK82 -> 0
D82: D | E82: HSV | F82: Práce a dodávky HSV | J82: =BK82 -> 0 | P82: =P83 -> 0 | R82: =R83 -> 0.018231 | T82: =T83 -> 0 | AR82: 1 | AT82: D | AU82: 0 | AY82: ROZPOCET | BK82: =BK83 -> 0
D83: D | E83: 1 | F83: Zemní práce | J83: =BK83 -> 0 | P83: =SUM(P84:P144) -> 0 | R83: =SUM(R84:R144) -> 0.018231 | T83: =SUM(T84:T144) -> 0 | AR83: 1 | AT83: D | AU83: 1 | AY83: ROZPOCET | BK83: =SUM(BK84:BK144) -> 0
C84: 1 | D84: K | E84: 121151125 | F84: Sejmutí ornice plochy přes 500 m2 tl vrstvy přes 250 do 300 mm strojně | G84: m2 | H84: 890 | J84: =ROUND(I84*H84,2) -> 0 | K84: CS ÚRS 2021 02 | N84: základní | P84: =O84*H84 -> 0 | Q84: 0 | R84: =Q84*H84 -> 0 | S84: 0 | T84: =S84*H84 -> 0 | AR84: 4 | AT84: K | AU84: 2 | AY84: ROZPOCET | BE84: =IF(N84="základní",J84,0) -> 0 | BF84: =IF(N84="snížená",J84,0) -> 0 | BG84: =IF(N84="zákl. přenesená",J84,0) -> 0 | BH84: =IF(N84="sníž. přenesená",J84,0) -> 0 | BI84: =IF(N84="nulová",J84,0) -> 0 | BJ84: 1 | BK84: =ROUND(I84*H84,2) -> 0 | BL84: 4 | BM84: -596474839
D85: PP | F85: Sejmutí ornice strojně při souvislé ploše přes 500 m2, tl. vrstvy přes 250 do 300 mm | AT85: PP | AU85: 2
D86: Online PSC | F86: https://podminky.urs.cz/item/CS_URS_2021_02/121151125 | AT86: Online PSC | AU86: 2
D87: VV | F87: "viz. Tabulka kubatur D.1.2.15." 267,0/0,3 | H87: 890 | AT87: VV | AU87: 2 | AV87: 2 | AW87: True | AX87: 0 | AY87: ROZPOCET
C88: 2 | D88: K | E88: 131251106 | F88: Hloubení jam nezapažených v hornině třídy těžitelnosti I skupiny 3 objem do 5000 m3 strojně | G88: m3 | H88: 811.5 | J88: =ROUND(I88*H88,2) -> 0 | K88: CS ÚRS 2021 02 | N88: základní | P88: =O88*H88 -> 0 | Q88: 0 | R88: =Q88*H88 -> 0 | S88: 0 | T88: =S88*H88 -> 0 | AR88: 4 | AT88: K | AU88: 2 | AY88: ROZPOCET | BE88: =IF(N88="základní",J88,0) -> 0 | BF88: =IF(N88="snížená",J88,0) -> 0 | BG88: =IF(N88="zákl. přenesená",J88,0) -> 0 | BH88: =IF(N88="sníž. přenesená",J88,0) -> 0 | BI88: =IF(N88="nulová",J88,0) -> 0 | BJ88: 1 | BK88: =ROUND(I88*H88,2) -> 0 | BL88: 4 | BM88: -1143801190
D89: PP | F89: Hloubení nezapažených jam a zářezů strojně s urovnáním dna do předepsaného profilu a spádu v hornině třídy těžitelnosti I skupiny 3 přes 1 000 do 5 000 m3 | AT89: PP | AU89: 2
D90: Online PSC | F90: https://podminky.urs.cz/item/CS_URS_2021_02/131251106 | AT90: Online PSC | AU90: 2
D91: VV | F91: "viz. Tabulka kubatur D.1.2.15. (50%)" 1623,0*0,5 | H91: 811.5 | AT91: VV | AU91: 2 | AV91: 2 | AW91: True | AX91: 1 | AY91: ROZPOCET
C92: 3 | D92: K | E92: 131451106 | F92: Hloubení jam nezapažených v hornině třídy těžitelnosti II skupiny 5 objem do 5000 m3 strojně | G92: m3 | H92: 811.5 | J92: =ROUND(I92*H92,2) -> 0 | K92: CS ÚRS 2021 02 | N92: základní | P92: =O92*H92 -> 0 | Q92: 0 | R92: =Q92*H92 -> 0 | S92: 0 | T92: =S92*H92 -> 0 | AR92: 4 | AT92: K | AU92: 2 | AY92: ROZPOCET | BE92: =IF(N92="základní",J92,0) -> 0 | BF92: =IF(N92="snížená",J92,0) -> 0 | BG92: =IF(N92="zákl. přenesená",J92,0) -> 0 | BH92: =IF(N92="sníž. přenesená",J92,0) -> 0 | BI92: =IF(N92="nulová",J92,0) -> 0 | BJ92: 1 | BK92: =ROUND(I92*H92,2) -> 0 | BL92: 4 | BM92: -1304421836
D93: PP | F93: Hloubení nezapažených jam a zářezů strojně s urovnáním dna do předepsaného profilu a spádu v hornině třídy těžitelnosti II skupiny 5 přes 1 000 do 5 000 m3 | AT93: PP | AU93: 2
D94: Online PSC | F94: https://podminky.urs.cz/item/CS_URS_2021_02/131451106 | AT94: Online PSC | AU94: 2
D95: VV | F95: "viz. Tabulka kubatur D.1.2.15. (50%)" 1623,0*0,5 | H95: 811.5 | AT95: VV | AU95: 2 | AV95: 2 | AW95: True | AX95: 1 | AY95: ROZPOCET
C96: 4 | D96: K | E96: 162251101 | F96: Vodorovné přemístění do 20 m výkopku/sypaniny z horniny třídy těžitelnosti I skupiny 1 až 3 | G96: m3 | H96: 357 | J96: =ROUND(I96*H96,2) -> 0 | K96: CS ÚRS 2021 02 | N96: základní | P96: =O96*H96 -> 0 | Q96: 0 | R96: =Q96*H96 -> 0 | S96: 0 | T96: =S96*H96 -> 0 | AR96: 4 | AT96: K | AU96: 2 | AY96: ROZPOCET | BE96: =IF(N96="základní",J96,0) -> 0 | BF96: =IF(N96="snížená",J96,0) -> 0 | BG96: =IF(N96="zákl. přenesená",J96,0) -> 0 | BH96: =IF(N96="sníž. přenesená",J96,0) -> 0 | BI96: =IF(N96="nulová",J96,0) -> 0 | BJ96: 1 | BK96: =ROUND(I96*H96,2) -> 0 | BL96: 4 | BM96: -1444654509
D97: PP | F97: Vodorovné přemístění výkopku nebo sypaniny po suchu na obvyklém dopravním prostředku, bez naložení výkopku, avšak se složením bez rozhrnutí z horniny třídy těžitelnosti I skupiny 1 až 3 na vzdálenost do 20 m | AT97: PP | AU97: 2
D98: Online PSC | F98: https://podminky.urs.cz/item/CS_URS_2021_02/162251101 | AT98: Online PSC | AU98: 2
D99: VV | F99: "zemina na násyp hráze SO-01" 357,0 | H99: 357 | AT99: VV | AU99: 2 | AV99: 2 | AW99: True | AX99: 0 | AY99: ROZPOCET
C100: 5 | D100: K | E100: 162651112 | F100: Vodorovné přemístění přes 4 000 do 5000 m výkopku/sypaniny z horniny třídy těžitelnosti I skupiny 1 až 3 | G100: m3 | H100: 454.5 | J100: =ROUND(I100*H100,2) -> 0 | K100: CS ÚRS 2021 02 | N100: základní | P100: =O100*H100 -> 0 | Q100: 0 | R100: =Q100*H100 -> 0 | S100: 0 | T100: =S100*H100 -> 0 | AR100: 4 | AT100: K | AU100: 2 | AY100: ROZPOCET | BE100: =IF(N100="základní",J100,0) -> 0 | BF100: =IF(N100="snížená",J100,0) -> 0 | BG100: =IF(N100="zákl. přenesená",J100,0) -> 0 | BH100: =IF(N100="sníž. přenesená",J100,0) -> 0 | BI100: =IF(N100="nulová",J100,0) -> 0 | BJ100: 1 | BK100: =ROUND(I100*H100,2) -> 0 | BL100: 4 | BM100: 344899882
D101: PP | F101: Vodorovné přemístění výkopku nebo sypaniny po suchu na obvyklém dopravním prostředku, bez naložení výkopku, avšak se složením bez rozhrnutí z horniny třídy těžitelnosti I skupiny 1 až 3 na vzdálenost přes 4 000 do 5 000 m | AT101: PP | AU101: 2
D102: Online PSC | F102: https://podminky.urs.cz/item/CS_URS_2021_02/162651112 | AT102: Online PSC | AU102: 2
D103: VV | F103: "přebytečná zemina" 811,5-357,0 | H103: 454.5 | AT103: VV | AU103: 2 | AV103: 2 | AW103: True | AX103: 0 | AY103: ROZPOCET
C104: 6 | D104: K | E104: 162651132 | F104: Vodorovné přemístění přes 4 000 do 5000 m výkopku/sypaniny z horniny třídy těžitelnosti II skupiny 4 a 5 | G104: m3 | H104: 811.5 | J104: =ROUND(I104*H104,2) -> 0 | K104: CS ÚRS 2021 02 | N104: základní | P104: =O104*H104 -> 0 | Q104: 0 | R104: =Q104*H104 -> 0 | S104: 0 | T104: =S104*H104 -> 0 | AR104: 4 | AT104: K | AU104: 2 | AY104: ROZPOCET | BE104: =IF(N104="základní",J104,0) -> 0 | BF104: =IF(N104="snížená",J104,0) -> 0 | BG104: =IF(N104="zákl. přenesená",J104,0) -> 0 | BH104: =IF(N104="sníž. přenesená",J104,0) -> 0 | BI104: =IF(N104="nulová",J104,0) -> 0 | BJ104: 1 | BK104: =ROUND(I104*H104,2) -> 0 | BL104: 4 | BM104: 377787141
D105: PP | F105: Vodorovné přemístění výkopku nebo sypaniny po suchu na obvyklém dopravním prostředku, bez naložení výkopku, avšak se složením bez rozhrnutí z horniny třídy těžitelnosti II skupiny 4 a 5 na vzdálenost přes 4 000 do 5 000 m | AT105: PP | AU105: 2
D106: Online PSC | F106: https://podminky.urs.cz/item/CS_URS_2021_02/162651132 | AT106: Online PSC | AU106: 2
D107: VV | F107: "přebytečná zemina" 811,5 | H107: 811.5 | AT107: VV | AU107: 2 | AV107: 2 | AW107: True | AX107: 0 | AY107: ROZPOCET
C108: 7 | D108: K | E108: 171251201 | F108: Uložení sypaniny na skládky nebo meziskládky | G108: m3 | H108: 1266 | J108: =ROUND(I108*H108,2) -> 0 | K108: CS ÚRS 2021 02 | N108: základní | P108: =O108*H108 -> 0 | Q108: 0 | R108: =Q108*H108 -> 0 | S108: 0 | T108: =S108*H108 -> 0 | AR108: 4 | AT108: K | AU108: 2 | AY108: ROZPOCET | BE108: =IF(N108="základní",J108,0) -> 0 | BF108: =IF(N108="snížená",J108,0) -> 0 | BG108: =IF(N108="zákl. přenesená",J108,0) -> 0 | BH108: =IF(N108="sníž. přenesená",J108,0) -> 0 | BI108: =IF(N108="nulová",J108,0) -> 0 | BJ108: 1 | BK108: =ROUND(I108*H108,2) -> 0 | BL108: 4 | BM108: -417817222
D109: PP | F109: Uložení sypaniny na skládky nebo meziskládky bez hutnění s upravením uložené sypaniny do předepsaného tvaru | AT109: PP | AU109: 2
D110: Online PSC | F110: https://podminky.urs.cz/item/CS_URS_2021_02/171251201 | AT110: Online PSC | AU110: 2
D111: VV | F111: "přebytečná zemina na hromady" 454,5+811,5 | H111: 1266 | AT111: VV | AU111: 2 | AV111: 2 | AW111: True | AX111: 0 | AY111: ROZPOCET
C112: 8 | D112: K | E112: 181351105 | F112: Rozprostření ornice tl vrstvy přes 250 do 300 mm pl přes 100 do 500 m2 v rovině nebo ve svahu do 1:5 strojně | G112: m2 | H112: 422 | J112: =ROUND(I112*H112,2) -> 0 | K112: CS ÚRS 2021 02 | N112: základní | P112: =O112*H112 -> 0 | Q112: 0 | R112: =Q112*H112 -> 0 | S112: 0 | T112: =S112*H112 -> 0 | AR112: 4 | AT112: K | AU112: 2 | AY112: ROZPOCET | BE112: =IF(N112="základní",J112,0) -> 0 | BF112: =IF(N112="snížená",J112,0) -> 0 | BG112: =IF(N112="zákl. přenesená",J112,0) -> 0 | BH112: =IF(N112="sníž. přenesená",J112,0) -> 0 | BI112: =IF(N112="nulová",J112,0) -> 0 | BJ112: 1 | BK112: =ROUND(I112*H112,2) -> 0 | BL112: 4 | BM112: 461951502
D113: PP | F113: Rozprostření a urovnání ornice v rovině nebo ve svahu sklonu do 1:5 strojně při souvislé ploše přes 100 do 500 m2, tl. vrstvy přes 250 do 300 mm | AT113: PP | AU113: 2
D114: Online PSC | F114: https://podminky.urs.cz/item/CS_URS_2021_02/181351105 | AT114: Online PSC | AU114: 2
D115: VV | F115: "viz. Tabulka kubatur D.1.2.15. = ÚP" 422,0 | H115: 422 | AT115: VV | AU115: 2 | AV115: 2 | AW115: True | AX115: 1 | AY115: ROZPOCET
C116: 9 | D116: K | E116: 181411121 | F116: Založení lučního trávníku výsevem pl do 1000 m2 v rovině a ve svahu do 1:5 | G116: m2 | H116: 422 | J116: =ROUND(I116*H116,2) -> 0 | K116: CS ÚRS 2021 02 | N116: základní | P116: =O116*H116 -> 0 | Q116: 0 | R116: =Q116*H116 -> 0 | S116: 0 | T116: =S116*H116 -> 0 | AR116: 4 | AT116: K | AU116: 2 | AY116: ROZPOCET | BE116: =IF(N116="základní",J116,0) -> 0 | BF116: =IF(N116="snížená",J116,0) -> 0 | BG116: =IF(N116="zákl. přenesená",J116,0) -> 0 | BH116: =IF(N116="sníž. přenesená",J116,0) -> 0 | BI116: =IF(N116="nulová",J116,0) -> 0 | BJ116: 1 | BK116: =ROUND(I116*H116,2) -> 0 | BL116: 4 | BM116: -1058751773
D117: PP | F117: Založení trávníku na půdě předem připravené plochy do 1000 m2 výsevem včetně utažení lučního v rovině nebo na svahu do 1:5 | AT117: PP | AU117: 2
D118: Online PSC | F118: https://podminky.urs.cz/item/CS_URS_2021_02/181411121 | AT118: Online PSC | AU118: 2
D119: VV | F119: "viz. Tabulka kubatur D.1.2.15. = ÚP" 422,0 | H119: 422 | AT119: VV | AU119: 2 | AV119: 2 | AW119: True | AX119: 1 | AY119: ROZPOCET
C120: 10 | D120: K | E120: 181411122 | F120: Založení lučního trávníku výsevem pl do 1000 m2 ve svahu přes 1:5 do 1:2 | G120: m2 | H120: 463 | J120: =ROUND(I120*H120,2) -> 0 | K120: CS ÚRS 2021 02 | N120: základní | P120: =O120*H120 -> 0 | Q120: 0 | R120: =Q120*H120 -> 0 | S120: 0 | T120: =S120*H120 -> 0 | AR120: 4 | AT120: K | AU120: 2 | AY120: ROZPOCET | BE120: =IF(N120="základní",J120,0) -> 0 | BF120: =IF(N120="snížená",J120,0) -> 0 | BG120: =IF(N120="zákl. přenesená",J120,0) -> 0 | BH120: =IF(N120="sníž. přenesená",J120,0) -> 0 | BI120: =IF(N120="nulová",J120,0) -> 0 | BJ120: 1 | BK120: =ROUND(I120*H120,2) -> 0 | BL120: 4 | BM120: -674221750
D121: PP | F121: Založení trávníku na půdě předem připravené plochy do 1000 m2 výsevem včetně utažení lučního na svahu přes 1:5 do 1:2 | AT121: PP | AU121: 2
D122: Online PSC | F122: https://podminky.urs.cz/item/CS_URS_2021_02/181411122 | AT122: Online PSC | AU122: 2
D123: VV | F123: "viz. Tabulka kubatur D.1.2.15. = SV" 463,0 | H123: 463 | AT123: VV | AU123: 2 | AV123: 2 | AW123: True | AX123: 1 | AY123: ROZPOCET
C124: 11 | D124: M | E124: 00572470 | F124: osivo směs travní univerzál | G124: kg | H124: 18.231 | J124: =ROUND(I124*H124,2) -> 0 | K124: CS ÚRS 2021 02 | N124: základní | P124: =O124*H124 -> 0 | Q124: 0.001 | R124: =Q124*H124 -> 0.018231 | S124: 0 | T124: =S124*H124 -> 0 | AR124: 8 | AT124: M | AU124: 2 | AY124: ROZPOCET | BE124: =IF(N124="základní",J124,0) -> 0 | BF124: =IF(N124="snížená",J124,0) -> 0 | BG124: =IF(N124="zákl. přenesená",J124,0) -> 0 | BH124: =IF(N124="sníž. přenesená",J124,0) -> 0 | BI124: =IF(N124="nulová",J124,0) -> 0 | BJ124: 1 | BK124: =ROUND(I124*H124,2) -> 0 | BL124: 4 | BM124: -81960403
D125: PP | F125: osivo směs travní univerzál | AT125: PP | AU125: 2
D126: Online PSC | F126: https://podminky.urs.cz/item/CS_URS_2021_02/00572470 | AT126: Online PSC | AU126: 2
D127: P | F127: Poznámka k položce:_x000D_ 20 g/m2 | AT127: P | AU127: 2
D128: VV | F128: (422+463)*0,02*1,03 | H128: 18.231 | AT128: VV | AU128: 2 | AV128: 2 | AW128: True | AX128: 1 | AY128: ROZPOCET
C129: 12 | D129: K | E129: 181951113 | F129: Úprava pláně v hornině třídy těžitelnosti II skupiny 4 a 5 bez zhutnění strojně | G129: m2 | H129: 422 | J129: =ROUND(I129*H129,2) -> 0 | K129: CS ÚRS 2021 02 | N129: základní | P129: =O129*H129 -> 0 | Q129: 0 | R129: =Q129*H129 -> 0 | S129: 0 | T129: =S129*H129 -> 0 | AR129: 4 | AT129: K | AU129: 2 | AY129: ROZPOCET | BE129: =IF(N129="základní",J129,0) -> 0 | BF129: =IF(N129="snížená",J129,0) -> 0 | BG129: =IF(N129="zákl. přenesená",J129,0) -> 0 | BH129: =IF(N129="sníž. přenesená",J129,0) -> 0 | BI129: =IF(N129="nulová",J129,0) -> 0 | BJ129: 1 | BK129: =ROUND(I129*H129,2) -> 0 | BL129: 4 | BM129: -2053527253
D130: PP | F130: Úprava pláně vyrovnáním výškových rozdílů strojně v hornině třídy těžitelnosti II, skupiny 4 a 5 bez zhutnění | AT130: PP | AU130: 2
D131: Online PSC | F131: https://podminky.urs.cz/item/CS_URS_2021_02/181951113 | AT131: Online PSC | AU131: 2
D132: VV | F132: "viz. Tabulka kubatur D.1.2.15." 422,0 | H132: 422 | AT132: VV | AU132: 2 | AV132: 2 | AW132: True | AX132: 1 | AY132: ROZPOCET
C133: 13 | D133: K | E133: 182151111 | F133: Svahování v zářezech v hornině třídy těžitelnosti I skupiny 1 až 3 strojně | G133: m2 | H133: 231.5 | J133: =ROUND(I133*H133,2) -> 0 | K133: CS ÚRS 2021 02 | N133: základní | P133: =O133*H133 -> 0 | Q133: 0 | R133: =Q133*H133 -> 0 | S133: 0 | T133: =S133*H133 -> 0 | AR133: 4 | AT133: K | AU133: 2 | AY133: ROZPOCET | BE133: =IF(N133="základní",J133,0) -> 0 | BF133: =IF(N133="snížená",J133,0) -> 0 | BG133: =IF(N133="zákl. přenesená",J133,0) -> 0 | BH133: =IF(N133="sníž. přenesená",J133,0) -> 0 | BI133: =IF(N133="nulová",J133,0) -> 0 | BJ133: 1 | BK133: =ROUND(I133*H133,2) -> 0 | BL133: 4 | BM133: -763241673
...

Sheet SO-103 - Sdružený objekt
AT2: {4ac8dfd1-3f32-4be1-a386-b5e70f723d62}
AT3: 2
D4: KRYCÍ LIST SOUPISU PRACÍ | M4: v --- níže se nacházejí doplnkové a pomocné údaje k sestavám --- v | AT4: False
D6: Stavba:
E7: ='Rekapitulace stavby'!K6 -> Kanalizace Spořilov, dešťová zdrž
D8: Objekt:
E9: SO-103 - Sdružený objekt
D11: KSO: | F11: 827 2 | I11: CC-CZ:
D12: Místo: | I12: Datum: | J12: ='Rekapitulace stavby'!AN8 -> 11. 8. 2021
D14: Zadavatel: | I14: IČ:
E15: Město Broumov | I15: DIČ:
D17: Uchazeč: | I17: IČ: | J17: ='Rekapitulace stavby'!AN13 -> Vyplň údaj
E18: ='Rekapitulace stavby'!E14 -> Vyplň údaj | I18: DIČ: | J18: ='Rekapitulace stavby'!AN14 -> Vyplň údaj
D20: Projektant: | I20: IČ:
E21: Agroprojekce Litomyšl, s.r.o. | I21: DIČ:
D23: Zpracovatel: | I23: IČ: | J23: =IF('Rekapitulace stavby'!AN19="","",'Rekapitulace stavby'!AN19)
E24: =IF('Rekapitulace stavby'!E20="","",'Rekapitulace stavby'!E20) | I24: DIČ: | J24: =IF('Rekapitulace stavby'!AN20="","",'Rekapitulace stavby'!AN20)
D26: Poznámka:
D30: Cena bez DPH | J30: =ROUND(J91, 2) -> 0
F32: Základ daně | I32: Sazba daně | J32: Výše daně
D33: DPH | E33: základní | F33: =ROUND((SUM(BE91:BE472)), 2) -> 0 | I33: 0.21 | J33: =ROUND(((SUM(BE91:BE472))*I33), 2) -> 0
E34: snížená | F34: =ROUND((SUM(BF91:BF472)), 2) -> 0 | I34: 0.15 | J34: =ROUND(((SUM(BF91:BF472))*I34), 2) -> 0
E35: zákl. přenesená | F35: =ROUND((SUM(BG91:BG472)), 2) -> 0 | I35: 0.21 | J35: =0 -> 0
E36: sníž. přenesená | F36: =ROUND((SUM(BH91:BH472)), 2) -> 0 | I36: 0.15 | J36: =0 -> 0
E37: nulová | F37: =ROUND((SUM(BI91:BI472)), 2) -> 0 | I37: 0 | J37: =0 -> 0
D39: Cena s DPH | G39: v | H39: CZK | J39: =SUM(J30:J37) -> 0
C45: REKAPITULACE ČLENĚNÍ SOUPISU PRACÍ
C47: Stavba:
E48: =E7 -> Kanalizace Spořilov, dešťová zdrž
C49: Objekt:
E50: =E9 -> SO-103 - Sdružený objekt
C52: Místo: | F52: =F12 | I52: Datum: | J52: =IF(J12="","",J12) -> 11. 8. 2021
C54: Zadavatel: | F54: =E15 -> Město Broumov | I54: Projektant: | J54: =E21 -> Agroprojekce Litomyšl, s.r.o.
C55: Uchazeč: | F55: =IF(E18="","",E18) -> Vyplň údaj | I55: Zpracovatel: | J55: =E24
C57: Kód dílu - Popis | J57: Cena celkem [CZK]
C59: Náklady stavby celkem | J59: =J91 -> 0 | AU59: -1
D60: HSV - Práce a dodávky HSV | J60: =J92 -> 0
D61: 1 - Zemní práce | J61: =J93 -> 0
D62: 4 - Vodorovné konstrukce | J62: =J214 -> 0
D63: 5 - Komunikace pozemní | J63: =J247 -> 0
D64: 6 - Úpravy povrchů, podlahy a osazování výplní | J64: =J267 -> 0
D65: 8 - Trubní vedení | J65: =J271 -> 0
D66: 9 - Ostatní konstrukce a práce, bourání | J66: =J384 -> 0
D67: 997 - Přesun sutě | J67: =J412 -> 0
D68: 998 - Přesun hmot | J68: =J429 -> 0
D69: PSV - Práce a dodávky PSV | J69: =J436 -> 0
D70: 767 - Konstrukce zámečnické | J70: =J437 -> 0
D71: 783 - Dokončovací práce - nátěry | J71: =J469 -> 0
C78: SOUPIS PRACÍ
C80: Stavba:
E81: =E7 -> Kanalizace Spořilov, dešťová zdrž
C82: Objekt:
E83: =E9 -> SO-103 - Sdružený objekt
C85: Místo: | F85: =F12 | I85: Datum: | J85: =IF(J12="","",J12) -> 11. 8. 2021
C87: Zadavatel: | F87: =E15 -> Město Broumov | I87: Projektant: | J87: =E21 -> Agroprojekce Litomyšl, s.r.o.
C88: Uchazeč: | F88: =IF(E18="","",E18) -> Vyplň údaj | I88: Zpracovatel: | J88: =E24
C90: PČ | D90: Typ | E90: Kód | F90: Popis | G90: MJ | H90: Množství | I90: J.cena [CZK] | J90: Cena celkem [CZK] | K90: Cenová soustava | N90: DPH | O90: J. Nh [h] | P90: Nh celkem [h] | Q90: J. hmotnost [t] | R90: Hmotnost celkem [t] | S90: J. suť [t] | T90: Suť Celkem [t]
C91: Náklady soupisu celkem | J91: =BK91 -> 0 | P91: =P92+P436 -> 0 | R91: =R92+R436 -> 283.8866 | T91: =T92+T436 -> 17.286 | AT91: D | AU91: -1 | BK91: =BK92+BK436 -> 0
D92: D | E92: HSV | F92: Práce a dodávky HSV | J92: =BK92 -> 0 | P92: =P93+P214+P247+P267+P271+P384+P412+P429 -> 0 | R92: =R93+R214+R247+R267+R271+R384+R412+R429 -> 283.68828 | T92: =T93+T214+T247+T267+T271+T384+T412+T429 -> 17.286 | AR92: 1 | AT92: D | AU92: 0 | AY92: ROZPOCET | BK92: =BK93+BK214+BK247+BK267+BK271+BK384+BK412+BK429 -> 0
D93: D | E93: 1 | F93: Zemní práce | J93: =BK93 -> 0 | P93: =SUM(P94:P213) -> 0 | R93: =SUM(R94:R213) -> 130.90466 | T93: =SUM(T94:T213) -> 17.286 | AR93: 1 | AT93: D | AU93: 1 | AY93: ROZPOCET | BK93: =SUM(BK94:BK213) -> 0
C94: 1 | D94: K | E94: 113107324 | F94: Odstranění podkladu z kameniva drceného tl přes 300 do 400 mm strojně pl do 50 m2 | G94: m2 | H94: 18 | J94: =ROUND(I94*H94,2) -> 0 | K94: CS ÚRS 2021 02 | N94: základní | P94: =O94*H94 -> 0 | Q94: 0 | R94: =Q94*H94 -> 0 | S94: 0.58 | T94: =S94*H94 -> 10.44 | AR94: 4 | AT94: K | AU94: 2 | AY94: ROZPOCET | BE94: =IF(N94="základní",J94,0) -> 0 | BF94: =IF(N94="snížená",J94,0) -> 0 | BG94: =IF(N94="zákl. přenesená",J94,0) -> 0 | BH94: =IF(N94="sníž. přenesená",J94,0) -> 0 | BI94: =IF(N94="nulová",J94,0) -> 0 | BJ94: 1 | BK94: =ROUND(I94*H94,2) -> 0 | BL94: 4 | BM94: -1697608481
D95: PP | F95: Odstranění podkladů nebo krytů strojně plochy jednotlivě do 50 m2 s přemístěním hmot na skládku na vzdálenost do 3 m nebo s naložením na dopravní prostředek z kameniva hrubého drceného, o tl. vrstvy přes 300 do 400 mm | AT95: PP | AU95: 2
D96: Online PSC | F96: https://podminky.urs.cz/item/CS_URS_2021_02/113107324 | AT96: Online PSC | AU96: 2
D97: VV | F97: "stoka D2 - viz. Tabulka kubatur D.1.2.17." (1,0+8,0)*2,0 | H97: 18 | AT97: VV | AU97: 2 | AV97: 2 | AW97: True | AX97: 1 | AY97: ROZPOCET
C98: 2 | D98: K | E98: 113107342 | F98: Odstranění podkladu živičného tl přes 50 do 100 mm strojně pl do 50 m2 | G98: m2 | H98: 18 | J98: =ROUND(I98*H98,2) -> 0 | K98: CS ÚRS 2021 02 | N98: základní | P98: =O98*H98 -> 0 | Q98: 0 | R98: =Q98*H98 -> 0 | S98: 0.22 | T98: =S98*H98 -> 3.96 | AR98: 4 | AT98: K | AU98: 2 | AY98: ROZPOCET | BE98: =IF(N98="základní",J98,0) -> 0 | BF98: =IF(N98="snížená",J98,0) -> 0 | BG98: =IF(N98="zákl. přenesená",J98,0) -> 0 | BH98: =IF(N98="sníž. přenesená",J98,0) -> 0 | BI98: =IF(N98="nulová",J98,0) -> 0 | BJ98: 1 | BK98: =ROUND(I98*H98,2) -> 0 | BL98: 4 | BM98: 770739341
D99: PP | F99: Odstranění podkladů nebo krytů strojně plochy jednotlivě do 50 m2 s přemístěním hmot na skládku na vzdálenost do 3 m nebo s naložením na dopravní prostředek živičných, o tl. vrstvy přes 50 do 100 mm | AT99: PP | AU99: 2
D100: Online PSC | F100: https://podminky.urs.cz/item/CS_URS_2021_02/113107342 | AT100: Online PSC | AU100: 2
C101: 3 | D101: K | E101: 113154122 | F101: Frézování živičného krytu tl 40 mm pruh š přes 0,5 do 1 m pl do 500 m2 bez překážek v trase | G101: m2 | H101: 18 | J101: =ROUND(I101*H101,2) -> 0 | K101: CS ÚRS 2021 02 | N101: základní | P101: =O101*H101 -> 0 | Q101: 4e-05 | R101: =Q101*H101 -> 0.00072 | S101: 0.092 | T101: =S101*H101 -> 1.656 | AR101: 4 | AT101: K | AU101: 2 | AY101: ROZPOCET | BE101: =IF(N101="základní",J101,0) -> 0 | BF101: =IF(N101="snížená",J101,0) -> 0 | BG101: =IF(N101="zákl. přenesená",J101,0) -> 0 | BH101: =IF(N101="sníž. přenesená",J101,0) -> 0 | BI101: =IF(N101="nulová",J101,0) -> 0 | BJ101: 1 | BK101: =ROUND(I101*H101,2) -> 0 | BL101: 4 | BM101: 436493032
D102: PP | F102: Frézování živičného podkladu nebo krytu s naložením na dopravní prostředek plochy do 500 m2 bez překážek v trase pruhu šířky přes 0,5 m do 1 m, tloušťky vrstvy 40 mm | AT102: PP | AU102: 2
D103: Online PSC | F103: https://podminky.urs.cz/item/CS_URS_2021_02/113154122 | AT103: Online PSC | AU103: 2
D104: VV | F104: "stoka D2 - viz. Tabulka kubatur D.1.2.17." 18,0 | H104: 18 | AT104: VV | AU104: 2 | AV104: 2 | AW104: True | AX104: 1 | AY104: ROZPOCET
C105: 4 | D105: K | E105: 113202111 | F105: Vytrhání obrub krajníků obrubníků stojatých | G105: m | H105: 6 | J105: =ROUND(I105*H105,2) -> 0 | K105: CS ÚRS 2021 02 | N105: základní | P105: =O105*H105 -> 0 | Q105: 0 | R105: =Q105*H105 -> 0 | S105: 0.205 | T105: =S105*H105 -> 1.23 | AR105: 4 | AT105: K | AU105: 2 | AY105: ROZPOCET | BE105: =IF(N105="základní",J105,0) -> 0 | BF105: =IF(N105="snížená",J105,0) -> 0 | BG105: =IF(N105="zákl. přenesená",J105,0) -> 0 | BH105: =IF(N105="sníž. přenesená",J105,0) -> 0 | BI105: =IF(N105="nulová",J105,0) -> 0 | BJ105: 1 | BK105: =ROUND(I105*H105,2) -> 0 | BL105: 4 | BM105: 860864971
D106: PP | F106: Vytrhání obrub s vybouráním lože, s přemístěním hmot na skládku na vzdálenost do 3 m nebo s naložením na dopravní prostředek z krajníků nebo obrubníků stojatých | AT106: PP | AU106: 2
D107: Online PSC | F107: https://podminky.urs.cz/item/CS_URS_2021_02/113202111 | AT107: Online PSC | AU107: 2
D108: VV | F108: "stoka D2 - viz. Tabulka kubatur D.1.2.17." 6,0 | H108: 6 | AT108: VV | AU108: 2 | AV108: 2 | AW108: True | AX108: 1 | AY108: ROZPOCET
C109: 5 | D109: K | E109: 119001402 | F109: Dočasné zajištění potrubí ocelového nebo litinového DN přes 200 do 500 mm | G109: m | H109: 2.5 | J109: =ROUND(I109*H109,2) -> 0 | K109: CS ÚRS 2021 02 | N109: základní | P109: =O109*H109 -> 0 | Q109: 0.01269 | R109: =Q109*H109 -> 0.031725 | S109: 0 | T109: =S109*H109 -> 0 | AR109: 4 | AT109: K | AU109: 2 | AY109: ROZPOCET | BE109: =IF(N109="základní",J109,0) -> 0 | BF109: =IF(N109="snížená",J109,0) -> 0 | BG109: =IF(N109="zákl. přenesená",J109,0) -> 0 | BH109: =IF(N109="sníž. přenesená",J109,0) -> 0 | BI109: =IF(N109="nulová",J109,0) -> 0 | BJ109: 1 | BK109: =ROUND(I109*H109,2) -> 0 | BL109: 4 | BM109: -1013812755
D110: PP | F110: Dočasné zajištění podzemního potrubí nebo vedení ve výkopišti ve stavu i poloze, ve kterých byla na začátku zemních prací a to s podepřením, vzepřením nebo vyvěšením, případně s ochranným bedněním, se zřízením a odstraněním zajišťovací konstrukce, s opotřebením hmot potrubí ocelového nebo litinového, jmenovité světlosti DN přes 200 do 500 mm | AT110: PP | AU110: 2
D111: Online PSC | F111: https://podminky.urs.cz/item/CS_URS_2021_02/119001402 | AT111: Online PSC | AU111: 2
D112: VV | F112: "šikmé křížení stoky D2 s vodovodem LT 250 - viz. D.1.2.2. + podél. profil D.1.2.16." 2,5 | H112: 2.5 | AT112: VV | AU112: 2 | AV112: 2 | AW112: True | AX112: 1 | AY112: ROZPOCET
C113: 6 | D113: K | E113: 121151105 | F113: Sejmutí ornice plochy do 100 m2 tl vrstvy přes 250 do 300 mm strojně | G113: m2 | H113: 93.333 | J113: =ROUND(I113*H113,2) -> 0 | K113: CS ÚRS 2021 02 | N113: základní | P113: =O113*H113 -> 0 | Q113: 0 | R113: =Q113*H113 -> 0 | S113: 0 | T113: =S113*H113 -> 0 | AR113: 4 | AT113: K | AU113: 2 | AY113: ROZPOCET | BE113: =IF(N113="základní",J113,0) -> 0 | BF113: =IF(N113="snížená",J113,0) -> 0 | BG113: =IF(N113="zákl. přenesená",J113,0) -> 0 | BH113: =IF(N113="sníž. přenesená",J113,0) -> 0 | BI113: =IF(N113="nulová",J113,0) -> 0 | BJ113: 1 | BK113: =ROUND(I113*H113,2) -> 0 | BL113: 4 | BM113: 1589422658
D114: PP | F114: Sejmutí ornice strojně při souvislé ploše do 100 m2, tl. vrstvy přes 250 do 300 mm | AT114: PP | AU114: 2
D115: Online PSC | F115: https://podminky.urs.cz/item/CS_URS_2021_02/121151105 | AT115: Online PSC | AU115: 2
D116: VV | F116: "stoka D2 - viz. Tabulka kubatur D.1.2.17." 28,0/0,3 | H116: 93.333 | AT116: VV | AU116: 2 | AV116: 2 | AW116: True | AX116: 1 | AY116: ROZPOCET
C117: 7 | D117: K | E117: 131251100 | F117: Hloubení jam nezapažených v hornině třídy těžitelnosti I skupiny 3 objem do 20 m3 strojně | G117: m3 | H117: 0.54 | J117: =ROUND(I117*H117,2) -> 0 | K117: CS ÚRS 2021 02 | N117: základní | P117: =O117*H117 -> 0 | Q117: 0 | R117: =Q117*H117 -> 0 | S117: 0 | T117: =S117*H117 -> 0 | AR117: 4 | AT117: K | AU117: 2 | AY117: ROZPOCET | BE117: =IF(N117="základní",J117,0) -> 0 | BF117: =IF(N117="snížená",J117,0) -> 0 | BG117: =IF(N117="zákl. přenesená",J117,0) -> 0 | BH117: =IF(N117="sníž. přenesená",J117,0) -> 0 | BI117: =IF(N117="nulová",J117,0) -> 0 | BJ117: 1 | BK117: =ROUND(I117*H117,2) -> 0 | BL117: 4 | BM117: -1855236636
D118: PP | F118: Hloubení nezapažených jam a zářezů strojně s urovnáním dna do předepsaného profilu a spádu v hornině třídy těžitelnosti I skupiny 3 do 20 m3 | AT118: PP | AU118: 2
D119: Online PSC | F119: https://podminky.urs.cz/item/CS_URS_2021_02/131251100 | AT119: Online PSC | AU119: 2
D120: VV | F120: "pro zához ve svahu u sdruž. objektu - viz. D.1.2.7." 1,5*1,2*0,3 | H120: 0.54 | AT120: VV | AU120: 2 | AV120: 2 | AW120: True | AX120: 0 | AY120: ROZPOCET
C121: 8 | D121: K | E121: 131251103 | F121: Hloubení jam nezapažených v hornině třídy těžitelnosti I skupiny 3 objem do 100 m3 strojně | G121: m3 | H121: 9.11 | J121: =ROUND(I121*H121,2) -> 0 | K121: CS ÚRS 2021 02 | N121: základní | P121: =O121*H121 -> 0 | Q121: 0 | R121: =Q121*H121 -> 0 | S121: 0 | T121: =S121*H121 -> 0 | AR121: 4 | AT121: K | AU121: 2 | AY121: ROZPOCET | BE121: =IF(N121="základní",J121,0) -> 0 | BF121: =IF(N121="snížená",J121,0) -> 0 | BG121: =IF(N121="zákl. přenesená",J121,0) -> 0 | BH121: =IF(N121="sníž. přenesená",J121,0) -> 0 | BI121: =IF(N121="nulová",J121,0) -> 0 | BJ121: 1 | BK121: =ROUND(I121*H121,2) -> 0 | BL121: 4 | BM121: 624129575
D122: PP | F122: Hloubení nezapažených jam a zářezů strojně s urovnáním dna do předepsaného profilu a spádu v hornině třídy těžitelnosti I skupiny 3 přes 50 do 100 m3 | AT122: PP | AU122: 2
D123: Online PSC | F123: https://podminky.urs.cz/item/CS_URS_2021_02/131251103 | AT123: Online PSC | AU123: 2
D124: VV | F124: "výpustné ocel. potrubí + předpolí sdruž. objektu - viz. D.1.2.7. (15%)" (7,6*4,0*1,6+5,4*1,4*1,6)*0,15 | H124: 9.11 | AT124: VV | AU124: 2 | AV124: 2 | AW124: True | AX124: 1 | AY124: ROZPOCET
C125: 9 | D125: K | E125: 131251201 | F125: Hloubení jam zapažených v hornině třídy těžitelnosti I skupiny 3 objem do 20 m3 strojně | G125: m3 | H125: 1.725 | J125: =ROUND(I125*H125,2) -> 0 | K125: CS ÚRS 2021 02 | N125: základní | P125: =O125*H125 -> 0 | Q125: 0 | R125: =Q125*H125 -> 0 | S125: 0 | T125: =S125*H125 -> 0 | AR125: 4 | AT125: K | AU125: 2 | AY125: ROZPOCET | BE125: =IF(N125="základní",J125,0) -> 0 | BF125: =IF(N125="snížená",J125,0) -> 0 | BG125: =IF(N125="zákl. přenesená",J125,0) -> 0 | BH125: =IF(N125="sníž. přenesená",J125,0) -> 0 | BI125: =IF(N125="nulová",J125,0) -> 0 | BJ125: 1 | BK125: =ROUND(I125*H125,2) -> 0 | BL125: 4 | BM125: -668681122
D126: PP | F126: Hloubení zapažených jam a zářezů strojně s urovnáním dna do předepsaného profilu a spádu v hornině třídy těžitelnosti I skupiny 3 do 20 m3 | AT126: PP | AU126: 2
D127: Online PSC | F127: https://podminky.urs.cz/item/CS_URS_2021_02/131251201 | AT127: Online PSC | AU127: 2
D128: VV | F128: "sdruž. objekt - viz. D.1.2.7. (10%)" 2,8*2,8*2,2*0,1 | H128: 1.725 | AT128: VV | AU128: 2 | AV128: 2 | AW128: True | AX128: 1 | AY128: ROZPOCET
C129: 10 | D129: K | E129: 131451103 | F129: Hloubení jam nezapažených v hornině třídy těžitelnosti II skupiny 5 objem do 100 m3 strojně | G129: m3 | H129: 51.626 | J129: =ROUND(I129*H129,2) -> 0 | K129: CS ÚRS 2021 02 | N129: základní | P129: =O129*H129 -> 0 | Q129: 0 | R129: =Q129*H129 -> 0 | S129: 0 | T129: =S129*H129 -> 0 | AR129: 4 | AT129: K | AU129: 2 | AY129: ROZPOCET | BE129: =IF(N129="základní",J129,0) -> 0 | BF129: =IF(N129="snížená",J129,0) -> 0 | BG129: =IF(N129="zákl. přenesená",J129,0) -> 0 | BH129: =IF(N129="sníž. přenesená",J129,0) -> 0 | BI129: =IF(N129="nulová",J129,0) -> 0 | BJ129: 1 | BK129: =ROUND(I129*H129,2) -> 0 | BL129: 4 | BM129: 1497828098
D130: PP | F130: Hloubení nezapažených jam a zářezů strojně s urovnáním dna do předepsaného profilu a spádu v hornině třídy těžitelnosti II skupiny 5 přes 50 do 100 m3 | AT130: PP | AU130: 2
D131: Online PSC | F131: https://podminky.urs.cz/item/CS_URS_2021_02/131451103 | AT131: Online PSC | AU131: 2
D132: VV | F132: "výpustné ocel. potrubí + předpolí sdruž. objektu - viz. D.1.2.7. (85%)" (7,6*4,0*1,6+5,4*1,4*1,6)*0,85 | H132: 51.626 | AT132: VV | AU132: 2 | AV132: 2 | AW132: True | AX132: 1 | AY132: ROZPOCET
C133: 11 | D133: K | E133: 131451201 | F133: Hloubení jam zapažených v hornině třídy těžitelnosti II skupiny 5 objem do 20 m3 strojně | G133: m3 | H133: 15.523 | J133: =ROUND(I133*H133,2) -> 0 | K133: CS ÚRS 2021 02 | N133: základní | P133: =O133*H133 -> 0 | Q133: 0 | R133: =Q133*H133 -> 0 | S133: 0 | T133: =S133*H133 -> 0 | AR133: 4 | AT133: K | AU133: 2 | AY133: ROZPOCET | BE133: =IF(N133="základní",J133,0) -> 0 | BF133: =IF(N133="snížená",J133,0) -> 0 | BG133: =IF(N133="zákl. přenesená",J133,0) -> 0 | BH133: =IF(N133="sníž. přenesená",J133,0) -> 0 | BI133: =IF(N133="nulová",J133,0) -> 0 | BJ133: 1 | BK133: =ROUND(I133*H133,2) -> 0 | BL133: 4 | BM133: 162759531
...

Sheet VON - Vedlejší a ostatní ...
AT2: {0c4bbaa7-7837-4f52-a81b-adb7ae7e50d2}
AT3: 2
D4: KRYCÍ LIST SOUPISU PRACÍ | M4: v --- níže se nacházejí doplnkové a pomocné údaje k sestavám --- v | AT4: False
D6: Stavba:
E7: ='Rekapitulace stavby'!K6 -> Kanalizace Spořilov, dešťová zdrž
D8: Objekt:
E9: VON - Vedlejší a ostatní náklady
D11: KSO: | I11: CC-CZ:
D12: Místo: | I12: Datum: | J12: ='Rekapitulace stavby'!AN8 -> 11. 8. 2021
D14: Zadavatel: | I14: IČ:
E15: Město Broumov | I15: DIČ:
D17: Uchazeč: | I17: IČ: | J17: ='Rekapitulace stavby'!AN13 -> Vyplň údaj
E18: ='Rekapitulace stavby'!E14 -> Vyplň údaj | I18: DIČ: | J18: ='Rekapitulace stavby'!AN14 -> Vyplň údaj
D20: Projektant: | I20: IČ:
E21: Agroprojekce Litomyšl, s.r.o. | I21: DIČ:
D23: Zpracovatel: | I23: IČ: | J23: =IF('Rekapitulace stavby'!AN19="","",'Rekapitulace stavby'!AN19)
E24: =IF('Rekapitulace stavby'!E20="","",'Rekapitulace stavby'!E20) | I24: DIČ: | J24: =IF('Rekapitulace stavby'!AN20="","",'Rekapitulace stavby'!AN20)
D26: Poznámka:
D30: Cena bez DPH | J30: =ROUND(J82, 2) -> 0
F32: Základ daně | I32: Sazba daně | J32: Výše daně
D33: DPH | E33: základní | F33: =ROUND((SUM(BE82:BE112)), 2) -> 0 | I33: 0.21 | J33: =ROUND(((SUM(BE82:BE112))*I33), 2) -> 0
E34: snížená | F34: =ROUND((SUM(BF82:BF112)), 2) -> 0 | I34: 0.15 | J34: =ROUND(((SUM(BF82:BF112))*I34), 2) -> 0
E35: zákl. přenesená | F35: =ROUND((SUM(BG82:BG112)), 2) -> 0 | I35: 0.21 | J35: =0 -> 0
E36: sníž. přenesená | F36: =ROUND((SUM(BH82:BH112)), 2) -> 0 | I36: 0.15 | J36: =0 -> 0
E37: nulová | F37: =ROUND((SUM(BI82:BI112)), 2) -> 0 | I37: 0 | J37: =0 -> 0
D39: Cena s DPH | G39: v | H39: CZK | J39: =SUM(J30:J37) -> 0
C45: REKAPITULACE ČLENĚNÍ SOUPISU PRACÍ
C47: Stavba:
E48: =E7 -> Kanalizace Spořilov, dešťová zdrž
C49: Objekt:
E50: =E9 -> VON - Vedlejší a ostatní náklady
C52: Místo: | F52: =F12 | I52: Datum: | J52: =IF(J12="","",J12) -> 11. 8. 2021
C54: Zadavatel: | F54: =E15 -> Město Broumov | I54: Projektant: | J54: =E21 -> Agroprojekce Litomyšl, s.r.o.
C55: Uchazeč: | F55: =IF(E18="","",E18) -> Vyplň údaj | I55: Zpracovatel: | J55: =E24
C57: Kód dílu - Popis | J57: Cena celkem [CZK]
C59: Náklady stavby celkem | J59: =J82 -> 0 | AU59: -1
D60: VRN - Vedlejší rozpočtové náklady | J60: =J83 -> 0
D61: VRN2 - Vedlejší náklady | J61: =J84 -> 0
D62: VRN9 - Ostatní náklady | J62: =J94 -> 0
C69: SOUPIS PRACÍ
C71: Stavba:
E72: =E7 -> Kanalizace Spořilov, dešťová zdrž
C73: Objekt:
E74: =E9 -> VON - Vedlejší a ostatní náklady
C76: Místo: | F76: =F12 | I76: Datum: | J76: =IF(J12="","",J12) -> 11. 8. 2021
C78: Zadavatel: | F78: =E15 -> Město Broumov | I78: Projektant: | J78: =E21 -> Agroprojekce Litomyšl, s.r.o.
C79: Uchazeč: | F79: =IF(E18="","",E18) -> Vyplň údaj | I79: Zpracovatel: | J79: =E24
C81: PČ | D81: Typ | E81: Kód | F81: Popis | G81: MJ | H81: Množství | I81: J.cena [CZK] | J81: Cena celkem [CZK] | K81: Cenová soustava | N81: DPH | O81: J. Nh [h] | P81: Nh celkem [h] | Q81: J. hmotnost [t] | R81: Hmotnost celkem [t] | S81: J. suť [t] | T81: Suť Celkem [t]
C82: Náklady soupisu celkem | J82: =BK82 -> 0 | P82: =P83 -> 0 | R82: =R83 -> 0 | T82: =T83 -> 0 | AT82: D | AU82: -1 | BK82: =BK83 -> 0
D83: D | E83: VRN | F83: Vedlejší rozpočtové náklady | J83: =BK83 -> 0 | P83: =P84+P94 -> 0 | R83: =R84+R94 -> 0 | T83: =T84+T94 -> 0 | AR83: 5 | AT83: D | AU83: 0 | AY83: ROZPOCET | BK83: =BK84+BK94 -> 0
D84: D | E84: VRN2 | F84: Vedlejší náklady | J84: =BK84 -> 0 | P84: =SUM(P85:P93) -> 0 | R84: =SUM(R85:R93) -> 0 | T84: =SUM(T85:T93) -> 0 | AR84: 5 | AT84: D | AU84: 1 | AY84: ROZPOCET | BK84: =SUM(BK85:BK93) -> 0
C85: 1 | D85: K | E85: 031002000 | F85: Zařízení staveniště | G85: soubor | H85: 1 | J85: =ROUND(I85*H85,2) -> 0 | N85: základní | P85: =O85*H85 -> 0 | Q85: 0 | R85: =Q85*H85 -> 0 | S85: 0 | T85: =S85*H85 -> 0 | AR85: 1024 | AT85: K | AU85: 2 | AY85: ROZPOCET | BE85: =IF(N85="základní",J85,0) -> 0 | BF85: =IF(N85="snížená",J85,0) -> 0 | BG85: =IF(N85="zákl. přenesená",J85,0) -> 0 | BH85: =IF(N85="sníž. přenesená",J85,0) -> 0 | BI85: =IF(N85="nulová",J85,0) -> 0 | BJ85: 1 | BK85: =ROUND(I85*H85,2) -> 0 | BL85: 1024 | BM85: -1886255009
D86: PP | F86: Zařízení staveniště | AT86: PP | AU86: 2
D87: P | F87: Poznámka k položce:_x000D_ Zřízení zařízení staveniště, jeho připojení na sítě, oplocení prostoru a jejich následné odstranění. Zajištění přístupu k jednotlivým úsekům stavby za účelem provádění a uvedení do původního stavu po ukončení stavby vč. osetí ploch, náhrada za dočasné zábory ploch. Zřízení a odstranění dočasných komunikací, sjezdů, nájezdů, lávek přes výkopy. Zajištění výkopů zábradlím. Zřízení čistících zón před výjezdem z obvodu staveniště. Zajištění bezpečnosti práce a ochrany životního prostředí. | AT87: P | AU87: 2
C88: 2 | D88: K | E88: 031004000 | F88: Dopravní značení na staveništi | G88: soubor | H88: 1 | J88: =ROUND(I88*H88,2) -> 0 | N88: základní | P88: =O88*H88 -> 0 | Q88: 0 | R88: =Q88*H88 -> 0 | S88: 0 | T88: =S88*H88 -> 0 | AR88: 1024 | AT88: K | AU88: 2 | AY88: ROZPOCET | BE88: =IF(N88="základní",J88,0) -> 0 | BF88: =IF(N88="snížená",J88,0) -> 0 | BG88: =IF(N88="zákl. přenesená",J88,0) -> 0 | BH88: =IF(N88="sníž. přenesená",J88,0) -> 0 | BI88: =IF(N88="nulová",J88,0) -> 0 | BJ88: 1 | BK88: =ROUND(I88*H88,2) -> 0 | BL88: 1024 | BM88: -1203304241
D89: PP | F89: Dopravní značení na staveništi | AT89: PP | AU89: 2
D90: P | F90: Poznámka k položce:_x000D_ Projednání a zajištění zvláštního užívání komunikací a veřejných ploch, zajištění dopravního značení k dopravním omezením, řízení provozu vč. případné světelné signalizace, jejich údržba, přemisťování a následné odstranění, a to v rozsahu nezbytném pro řádné a bezpečné provádění stavby. | AT90: P | AU90: 2
C91: 3 | D91: K | E91: 031005000 | F91: Práce v ochranném pásmu | G91: soubor | H91: 1 | J91: =ROUND(I91*H91,2) -> 0 | N91: základní | P91: =O91*H91 -> 0 | Q91: 0 | R91: =Q91*H91 -> 0 | S91: 0 | T91: =S91*H91 -> 0 | AR91: 1024 | AT91: K | AU91: 2 | AY91: ROZPOCET | BE91: =IF(N91="základní",J91,0) -> 0 | BF91: =IF(N91="snížená",J91,0) -> 0 | BG91: =IF(N91="zákl. přenesená",J91,0) -> 0 | BH91: =IF(N91="sníž. přenesená",J91,0) -> 0 | BI91: =IF(N91="nulová",J91,0) -> 0 | BJ91: 1 | BK91: =ROUND(I91*H91,2) -> 0 | BL91: 1024 | BM91: -998786140
D92: PP | F92: Práce v ochranném pásmu | AT92: PP | AU92: 2
D93: P | F93: Poznámka k položce:_x000D_ Práce v ochranném pásmu nadzemního vedení NN. | AT93: P | AU93: 2
D94: D | E94: VRN9 | F94: Ostatní náklady | J94: =BK94 -> 0 | P94: =SUM(P95:P112) -> 0 | R94: =SUM(R95:R112) -> 0 | T94: =SUM(T95:T112) -> 0 | AR94: 4 | AT94: D | AU94: 1 | AY94: ROZPOCET | BK94: =SUM(BK95:BK112) -> 0
C95: 4 | D95: K | E95: 090001000 | F95: Geodetické vytýčení před zahájením realizace stavebních prací | G95: soubor | H95: 1 | J95: =ROUND(I95*H95,2) -> 0 | N95: základní | P95: =O95*H95 -> 0 | Q95: 0 | R95: =Q95*H95 -> 0 | S95: 0 | T95: =S95*H95 -> 0 | AR95: 1024 | AT95: K | AU95: 2 | AY95: ROZPOCET | BE95: =IF(N95="základní",J95,0) -> 0 | BF95: =IF(N95="snížená",J95,0) -> 0 | BG95: =IF(N95="zákl. přenesená",J95,0) -> 0 | BH95: =IF(N95="sníž. přenesená",J95,0) -> 0 | BI95: =IF(N95="nulová",J95,0) -> 0 | BJ95: 1 | BK95: =ROUND(I95*H95,2) -> 0 | BL95: 1024 | BM95: -756545237
D96: PP | F96: Geodetické vytýčení před zahájením realizace stavebních prací | AT96: PP | AU96: 2
D97: P | F97: Poznámka k položce:_x000D_ dl. hráze - 55 m, zdrž, stoka D2 dl. 55,5 m | AT97: P | AU97: 2
C98: 5 | D98: K | E98: 091003000 | F98: Geodetické práce po výstavbě | G98: soubor | H98: 1 | J98: =ROUND(I98*H98,2) -> 0 | N98: základní | P98: =O98*H98 -> 0 | Q98: 0 | R98: =Q98*H98 -> 0 | S98: 0 | T98: =S98*H98 -> 0 | AR98: 1024 | AT98: K | AU98: 2 | AY98: ROZPOCET | BE98: =IF(N98="základní",J98,0) -> 0 | BF98: =IF(N98="snížená",J98,0) -> 0 | BG98: =IF(N98="zákl. přenesená",J98,0) -> 0 | BH98: =IF(N98="sníž. přenesená",J98,0) -> 0 | BI98: =IF(N98="nulová",J98,0) -> 0 | BJ98: 1 | BK98: =ROUND(I98*H98,2) -> 0 | BL98: 1024 | BM98: -1902243394
D99: PP | F99: Geodetické práce po výstavbě | AT99: PP | AU99: 2
D100: P | F100: Poznámka k položce:_x000D_ Geodetické zaměření skutečného provedení díla 3x v grafické (tištěné) podobě a 1x v digitálním vyhotovení _x000D_ | AT100: P | AU100: 2
C101: 6 | D101: K | E101: 091003001 | F101: Vytýčení podzemních inženýrských sítí | G101: soubor | H101: 1 | J101: =ROUND(I101*H101,2) -> 0 | N101: základní | P101: =O101*H101 -> 0 | Q101: 0 | R101: =Q101*H101 -> 0 | S101: 0 | T101: =S101*H101 -> 0 | AR101: 1024 | AT101: K | AU101: 2 | AY101: ROZPOCET | BE101: =IF(N101="základní",J101,0) -> 0 | BF101: =IF(N101="snížená",J101,0) -> 0 | BG101: =IF(N101="zákl. přenesená",J101,0) -> 0 | BH101: =IF(N101="sníž. přenesená",J101,0) -> 0 | BI101: =IF(N101="nulová",J101,0) -> 0 | BJ101: 1 | BK101: =ROUND(I101*H101,2) -> 0 | BL101: 1024 | BM101: 355606220
D102: PP | F102: Vytýčení podzemních inženýrských sítí | AT102: PP | AU102: 2
D103: P | F103: Poznámka k položce:_x000D_ Zajištění ochrany a vytýčení podzemních inženýrských sítí uvedených v projektové dokumentaci dle podmínek z dokladové části projektu (např. vodovod, kabel Cetin)._x000D_ | AT103: P | AU103: 2
C104: 7 | D104: K | E104: 091204000 | F104: Dokumentace skutečného provedení stavby | G104: soubor | H104: 1 | J104: =ROUND(I104*H104,2) -> 0 | N104: základní | P104: =O104*H104 -> 0 | Q104: 0 | R104: =Q104*H104 -> 0 | S104: 0 | T104: =S104*H104 -> 0 | AR104: 1024 | AT104: K | AU104: 2 | AY104: ROZPOCET | BE104: =IF(N104="základní",J104,0) -> 0 | BF104: =IF(N104="snížená",J104,0) -> 0 | BG104: =IF(N104="zákl. přenesená",J104,0) -> 0 | BH104: =IF(N104="sníž. přenesená",J104,0) -> 0 | BI104: =IF(N104="nulová",J104,0) -> 0 | BJ104: 1 | BK104: =ROUND(I104*H104,2) -> 0 | BL104: 1024 | BM104: -1309848591
D105: PP | F105: Dokumentace skutečného provedení stavby | AT105: PP | AU105: 2
D106: P | F106: Poznámka k položce:_x000D_ Vypracování projektové dokumentace skutečného provedení díla 3x v grafické (tištěné) podobě a 1x v digitálním vyhotovení . | AT106: P | AU106: 2
C107: 8 | D107: K | E107: 091404000 | F107: Zkoušky, atesty a revize podle ČSN a případných jiných právních nebo technických předpisů | G107: soubor | H107: 1 | J107: =ROUND(I107*H107,2) -> 0 | N107: základní | P107: =O107*H107 -> 0 | Q107: 0 | R107: =Q107*H107 -> 0 | S107: 0 | T107: =S107*H107 -> 0 | AR107: 1024 | AT107: K | AU107: 2 | AY107: ROZPOCET | BE107: =IF(N107="základní",J107,0) -> 0 | BF107: =IF(N107="snížená",J107,0) -> 0 | BG107: =IF(N107="zákl. přenesená",J107,0) -> 0 | BH107: =IF(N107="sníž. přenesená",J107,0) -> 0 | BI107: =IF(N107="nulová",J107,0) -> 0 | BJ107: 1 | BK107: =ROUND(I107*H107,2) -> 0 | BL107: 1024 | BM107: 1213016086
D108: PP | F108: Zkoušky, atesty a revize podle ČSN a případných jiných právních nebo technických předpisů | AT108: PP | AU108: 2
D109: P | F109: Poznámka k položce:_x000D_ Zajištění všech ostatních nezbytných zkoušek, atestů a revizí podle ČSN a případných jiných právních nebo technických předpisů platných v době provádění a předání díla, kterými bude prokázáno dosažení předepsané kvality a předepsaných technických parametrů díla. | AT109: P | AU109: 2
C110: 9 | D110: K | E110: 091406000 | F110: Publicita projektu - informační tabule | G110: ks | H110: 2 | J110: =ROUND(I110*H110,2) -> 0 | N110: základní | P110: =O110*H110 -> 0 | Q110: 0 | R110: =Q110*H110 -> 0 | S110: 0 | T110: =S110*H110 -> 0 | AR110: 1024 | AT110: K | AU110: 2 | AY110: ROZPOCET | BE110: =IF(N110="základní",J110,0) -> 0 | BF110: =IF(N110="snížená",J110,0) -> 0 | BG110: =IF(N110="zákl. přenesená",J110,0) -> 0 | BH110: =IF(N110="sníž. přenesená",J110,0) -> 0 | BI110: =IF(N110="nulová",J110,0) -> 0 | BJ110: 1 | BK110: =ROUND(I110*H110,2) -> 0 | BL110: 1024 | BM110: 1825140210
D111: PP | F111: Publicita projektu - informační tabule | AT111: PP | AU111: 2
D112: P | F112: Poznámka k položce:_x000D_ Zhotovení a instalace prezentační cedule nejpozději do jednoho měsíce od převzetí staveniště (dočasná) na místě realizace a následná instalace prezentační cedule po dokončení stavby (trvalá)._x000D_ | AT112: P | AU112: 2

Sheet Pokyny pro vyplnění
C3: Struktura údajů, formát souboru a metodika pro zpracování
C4: Struktura
C6: Soubor je složen ze záložky Rekapitulace stavby a záložek s názvem soupisu prací pro jednotlivé objekty ve formátu XLSX. Každá ze záložek přitom obsahuje
C7: ještě samostatné sestavy vymezené orámovaním a nadpisem sestavy.
C9: Rekapitulace stavby obsahuje sestavu Rekapitulace stavby a Rekapitulace objektů stavby a soupisů prací.
D10: V sestavě Rekapitulace stavby jsou uvedeny informace identifikující předmět veřejné zakázky na stavební práce, KSO, CC-CZ, CZ-CPV, CZ-CPA a rekapitulaci
D11: celkové nabídkové ceny uchazeče.
D13: Termínem "uchazeč" (resp. zhotovitel) se myslí "účastník zadávacího řízení" ve smyslu zákona o zadávání veřejných zakázek.
D15: V sestavě Rekapitulace objektů stavby a soupisů prací je uvedena rekapitulace stavebních objektů, inženýrských objektů, provozních souborů,
D16: vedlejších a ostatních nákladů a ostatních nákladů s rekapitulací nabídkové ceny za jednotlivé soupisy prací. Na základě údaje Typ je možné
D17: identifikovat, zda se jedná o objekt nebo soupis prací pro daný objekt:
E18: STA | F18: Stavební objekt pozemní
E19: ING | F19: Stavební objekt inženýrský
E20: PRO | F20: Provozní soubor
E21: VON | F21: Vedlejší a ostatní náklady
E22: OST | F22: Ostatní
E23: Soupis | F23: Soupis prací pro daný typ objektu
C25: Soupis prací pro jednotlivé objekty obsahuje sestavy Krycí list soupisu prací, Rekapitulace členění soupisu prací, Soupis prací. Za soupis prací může být považován
C26: i objekt stavby v případě, že neobsahuje podřízenou zakázku.
D27: Krycí list soupisu obsahuje rekapitulaci informací o předmětu veřejné zakázky ze sestavy Rekapitulace stavby, informaci o zařazení objektu do KSO,
D28: CC-CZ, CZ-CPV, CZ-CPA a rekapitulaci celkové nabídkové ceny uchazeče za aktuální soupis prací.
D30: Rekapitulace členění soupisu prací obsahuje rekapitulaci soupisu prací ve všech úrovních členění soupisu tak, jak byla tato členění použita (např.
D31: stavební díly, funkční díly, případně jiné členění) s rekapitulací nabídkové ceny.
D33: Soupis prací obsahuje položky veškerých stavebních nebo montážních prací, dodávek materiálů a služeb nezbytných pro zhotovení stavebního objektu,
D34: inženýrského objektu, provozního souboru, vedlejších a ostatních nákladů.
D35: Pro položky soupisu prací se zobrazují následující informace:
E36: PČ | G36: Pořadové číslo položky v aktuálním soupisu
E37: TYP | G37: Typ položky: K - konstrukce, M - materiál, PP - plný popis, PSC - poznámka k souboru cen, P - poznámka k položce, VV - výkaz výměr
E38: Kód | G38: Kód položky
E39: Popis | G39: Zkrácený popis položky
E40: MJ | G40: Měrná jednotka položky
E41: Množství | G41: Množství v měrné jednotce
E42: J.cena | G42: Jednotková cena položky. Zadaní může obsahovat namísto J.ceny sloupce J.materiál a J.montáž, jejichž součet definuje
G43: J.cenu položky.
E44: Cena celkem | G44: Celková cena položky daná jako součin množství a j.ceny
E45: Cenová soustava | G45: Příslušnost položky do cenové soustavy
D47: Ke každé položce soupisu prací se na samostatných řádcích může zobrazovat:
E48: Plný popis položky
E49: Poznámka k souboru cen a poznámka zadavatele
E50: Výkaz výměr
D51: Pokud je k řádku výkazu výměr evidovaný údaj ve sloupci Kód, jedná se o definovaný odkaz, na který se může odvolávat výkaz výměr z jiné položky.
C52: Metodika pro zpracování
C54: Jednotlivé sestavy jsou v souboru provázány. Editovatelné pole jsou zvýrazněny žlutým podbarvením, ostatní pole neslouží k editaci a nesmí být jakkoliv
C55: modifikovány.
C57: Uchazeč je pro podání nabídky povinen vyplnit žlutě podbarvená pole:
D58: Pole Uchazeč v sestavě Rekapitulace stavby - zde uchazeč vyplní svůj název (název subjektu)
D59: Pole IČ a DIČ v sestavě Rekapitulace stavby - zde uchazeč vyplní svoje IČ a DIČ
D60: Datum v sestavě Rekapitulace stavby - zde uchazeč vyplní datum vytvoření nabídky
D61: J.cena = jednotková cena v sestavě Soupis prací o maximálním počtu desetinných míst uvedených v poli
D62: - pokud sestavy soupisů prací obsahují pole J.cena, měla by být všechna tato pole vyplněna nenulovými
D63: Poznámka - nepovinný údaj pro položku soupisu
D65: V případě, že sestavy soupisů prací neobsahují pole J.cena, potom ve všech soupisech prací obsahují pole:
D66: - J.materiál - jednotková cena materiálu
D67: - J.montáž - jednotková cena montáže
D68: Uchazeč v tomto případě by měl vyplnit všechna pole J.materiál a pole J.montáž nenulovými kladnými číslicemi. V případech, kdy položka
D69: neobsahuje žádný materiál je přípustné, aby pole J.materiál bylo vyplněno nulou. V případech, kdy položka neobsahuje žádnou montáž je přípustné,
D70: aby pole J.montáž bylo vyplněno nulou. Obě pole - J.materiál, J.Montáž u jedné položky by však neměly být vyplněny nulou.
C75: Rekapitulace stavby
C76: Název | F76: Povinný | H76: Popis | I76: Typ | J76: Max. počet
C77: atributu | F77: (A/N) | J77: znaků
C79: Kód | F79: A | H79: Kód stavby | I79: String | J79: 20
C80: Stavba | F80: A | H80: Název stavby | I80: String | J80: 120
C81: Místo | F81: N | H81: Místo stavby | I81: String | J81: 50
C82: Datum | F82: A | H82: Datum vykonaného exportu | I82: Date
C83: KSO | F83: N | H83: Klasifikace stavebního objektu | I83: String | J83: 15
C84: CC-CZ | F84: N | H84: Klasifikace stavbeních děl | I84: String | J84: 15
C85: CZ-CPV | F85: N | H85: Společný slovník pro veřejné zakázky | I85: String | J85: 20
C86: CZ-CPA | F86: N | H86: Klasifikace produkce podle činností | I86: String | J86: 20
C87: Zadavatel | F87: N | H87: Zadavatel zadaní | I87: String | J87: 50
C88: IČ | F88: N | H88: IČ zadavatele zadaní | I88: String | J88: 20
C89: DIČ | F89: N | H89: DIČ zadavatele zadaní | I89: String | J89: 20
C90: Uchazeč | F90: N | H90: Uchazeč veřejné zakázky | I90: String | J90: 50
C91: Projektant | F91: N | H91: Projektant | I91: String | J91: 50
C92: Poznámka | F92: N | H92: Poznámka k zadání | I92: String | J92: 255
C93: Sazba DPH | F93: A | H93: Rekapitulace sazeb DPH u položek soupisů | I93: eGSazbaDph
C94: Základna DPH | F94: A | H94: Základna DPH určena součtem celkové ceny z položek soupisů | I94: Double
C95: Hodnota DPH | F95: A | H95: Hodnota DPH | I95: Double
C96: Cena bez DPH | F96: A | H96: Celková cena bez DPH za celou stavbu. Sčítává se ze všech listů. | I96: Double
C97: Cena s DPH | F97: A | H97: Celková cena s DPH za celou stavbu | I97: Double
C102: Rekapitulace objektů stavby a soupisů prací
C103: Název | F103: Povinný | H103: Popis | I103: Typ | J103: Max. počet
C104: atributu | F104: (A/N) | J104: znaků
C106: Kód | F106: A | H106: Přebírá se z Rekapitulace stavby | I106: String | J106: 20
C107: Stavba | F107: A | H107: Přebírá se z Rekapitulace stavby | I107: String | J107: 120
C108: Místo | F108: N | H108: Přebírá se z Rekapitulace stavby | I108: String | J108: 50
C109: Datum | F109: A | H109: Přebírá se z Rekapitulace stavby | I109: Date
C110: Zadavatel | F110: N | H110: Přebírá se z Rekapitulace stavby | I110: String | J110: 50
C111: Projektant | F111: N | H111: Přebírá se z Rekapitulace stavby | I111: String | J111: 50
C112: Uchazeč | F112: N | H112: Přebírá se z Rekapitulace stavby | I112: String | J112: 50
C113: Kód | F113: A | H113: Kód objektu | I113: String | J113: 20
C114: Objektu, Soupis prací | F114: A | H114: Název objektu | I114: String | J114: 120
C115: Cena bez DPH | F115: A | H115: Cena bez DPH za daný objekt | I115: Double
C116: Cena s DPH | F116: A | H116: Cena spolu s DPH za daný objekt | I116: Double
C117: Typ | F117: A | H117: Typ zakázky | I117: eGTypZakazky
C122: Krycí list soupisu
C123: Název | F123: Povinný | H123: Popis | I123: Typ | J123: Max. počet
C124: atributu | F124: (A/N) | J124: znaků
C126: Stavba | F126: A | H126: Přebírá se z Rekapitulace stavby | I126: String | J126: 120
C127: Objekt | F127: A | H127: Kód a název objektu | I127: String | J127: 20 + 120
C128: Soupis | F128: A | H128: Kód a název soupisu | I128: String | J128: 20 + 120
...
