Workbook
Name CelkemDPHVypocet: Stavba!$H$42
Name CenaCelkem: Stavba!$G$29
Name CenaCelkemBezDPH: Stavba!$G$28
Name CenaCelkemVypocet: Stavba!$I$42
Name cisloobjektu: Stavba!$D$3
Name CisloRozpoctu: '[1]Krycí list'!$C$2
Name CisloStavby: Stavba!$D$2
Name cislostavby: '[1]Krycí list'!$A$7
Name CisloStavebnihoRozpoctu: Stavba!$D$4
Name dadresa: Stavba!$D$12:$G$12
Name DIČ: Stavba!$I$12
Name dmisto: Stavba!$E$13:$G$13
Name DPHSni: Stavba!$G$24
Name DPHZakl: Stavba!$G$26
Name dpsc: Stavba!$D$13
Name IČO: Stavba!$I$11
Name Mena: Stavba!$J$29
Name MistoStavby: Stavba!$D$4
Name nazevobjektu: Stavba!$E$3
Name NazevRozpoctu: '[1]Krycí list'!$D$2
Name NazevStavby: Stavba!$E$2
Name nazevstavby: '[1]Krycí list'!$C$7
Name NazevStavebnihoRozpoctu: Stavba!$E$4
Name oadresa: Stavba!$D$6
Name Objednatel: Stavba!$D$5
Name Objekt: Stavba!$B$38
Name odic: Stavba!$I$6
Name oico: Stavba!$I$5
Name omisto: Stavba!$E$7
Name onazev: Stavba!$D$6
Name opsc: Stavba!$D$7
Name padresa: Stavba!$D$9
Name pdic: Stavba!$I$9
Name pico: Stavba!$I$8
Name pmisto: Stavba!$E$10
Name PocetMJ: #REF!
Name PoptavkaID: Stavba!$A$1
Name pPSC: Stavba!$D$10
Name Projektant: Stavba!$D$8
Name SazbaDPH1: Stavba!$E$23
Name SazbaDPH1: '[1]Krycí list'!$C$30
Name SazbaDPH2: Stavba!$E$25
Name SazbaDPH2: '[1]Krycí list'!$C$32
Name SloupecCC: #REF!
Name SloupecCisloPol: #REF!
Name SloupecJC: #REF!
Name SloupecMJ: #REF!
Name SloupecMnozstvi: #REF!
Name SloupecNazPol: #REF!
Name SloupecPC: #REF!
Name Vypracoval: Stavba!$D$14
Name ZakladDPHSni: Stavba!$G$23
Name ZakladDPHSniVypocet: Stavba!$F$42
Name ZakladDPHZakl: Stavba!$G$25
Name ZakladDPHZaklVypocet: Stavba!$G$42
Name ZaObjednatele: Stavba!$G$34
Name Zaokrouhleni: Stavba!$G$27
Name ZaZhotovitele: Stavba!$D$34
Name Zhotovitel: Stavba!$D$11:$G$11

Sheet Pokyny pro vyplnění
A1: Pokyny pro vyplnění
A2: Ve všech listech tohoto souboru můžete měnit pouze buňky s modrým pozadím. Jedná se o tyto údaje : - údaje o firmě - jednotkové ceny položek zadané na maximálně dvě desetinná místa

Sheet Stavba
A1: #RTSROZP# | B1: Změnový list č. 1 - položkový rozpočet
B2: Stavba: | E2: Vznik komunitního centra v Obecním domě Všemina
B3: Objekt: | E3: Obecní dům
A4: 1223 | B4: Rozpočet: | D4: 1 | E4: Způsobilé výdaje - Hlavní aktivity projektu dodatek č.1 -- změny
B5: Objednatel: | D5: Obec Všemina | H5: IČO: | I5: 00544507
D6: Všemina 162 | H6: DIČ: | I6: CZ00544507
D7: 763 15 | E7: Slušovice
B8: Projektant: | H8: IČO:
H9: DIČ:
B11: Zhotovitel: | D11: TESAŘ-STAV, s.r.o. | H11: IČO: | I11: 07899734
D12: nám. T. G. Masaryka 1281 | H12: DIČ: | I12: CZ07899734
D13: 76001 | E13: Zlín
B14: Vypracoval:
B15: Rozpis ceny | I15: Celkem
A16: HSV | B16: HSV | I16: =I49+I50+I51+I52+I53 -> 178915.86
A17: PSV | B17: PSV
A18: MON | B18: MON | I18: 0
A19: VN | B19: Vedlejší náklady | I19: 0
A20: ON | B20: Ostatní náklady | I20: 0
B21: Celkem | I21: =SUM(I16:J20) -> 178915.86
B22: Rekapitulace daní
B23: Základ pro sníženou DPH | E23: 15 | F23: % | G23: 0 | J23: =Mena -> CZK
B24: Snížená DPH | E24: =SazbaDPH1 -> 15 | F24: % | G24: 0 | J24: =Mena -> CZK
B25: Základ pro základní DPH | E25: 21 | F25: % | G25: =I21 -> 178915.86 | J25: =Mena -> CZK
B26: Základní DPH | E26: =SazbaDPH2 -> 21 | F26: % | G26: =ZakladDPHZakl/100*21 -> 37572.331 | J26: =Mena -> CZK
B27: Zaokrouhlení | J27: =Mena -> CZK
B28: Cena celkem bez DPH | G28: 208496.36 | J28: =Mena -> CZK
B29: Cena celkem s DPH | G29: =ZakladDPHZakl+DPHZakl -> 216488.19 | J29: CZK
C32: v | F32: dne
D35: Za zhotovitele | H35: Za objednatele
B37: Rekapitulace dílčích částí
A38: #CASTI>> | B38: Číslo | C38: Název | F38: =B23 -> Základ pro sníženou DPH | G38: =B25 -> Základ pro základní DPH | H38: DPH celkem | I38: Cena celkem | J38: %
A39: 1 | B39: Stavba | F39: 0 | G39: 208496.36 | H39: 43784.24 | I39: 252280.6 | J39: =IF(_xlfn.SINGLE(CenaCelkemVypocet)=0,"",I39/_xlfn.SINGLE(CenaCelkemVypocet)*100) -> #NAME?
A40: 2 | B40: 200701 | C40: Obecní dům | F40: 0 | G40: 208496.36 | H40: 43784.24 | I40: 252280.6 | J40: =IF(_xlfn.SINGLE(CenaCelkemVypocet)=0,"",I40/_xlfn.SINGLE(CenaCelkemVypocet)*100) -> #NAME?
A41: 3 | B41: 01/1 | C41: Způsobilé výdaje - Hlavní aktivity projektu dodatek č.1 -- změny | F41: 0 | G41: 208496.36 | H41: 43784.24 | I41: 252280.6 | J41: =IF(_xlfn.SINGLE(CenaCelkemVypocet)=0,"",I41/_xlfn.SINGLE(CenaCelkemVypocet)*100) -> #NAME?
B42: Celkem za stavbu | F42: =SUMIF(A39:A41,"=1",F39:F41) -> 0 | G42: =SUMIF(A39:A41,"=1",G39:G41) -> 208496.36 | H42: =SUMIF(A39:A41,"=1",H39:H41) -> 43784.24 | I42: =SUMIF(A39:A41,"=1",I39:I41) -> 252280.6 | J42: =SUMIF(A39:A41,"=1",J39:J41) -> #NAME?
B46: Rekapitulace dílů
B48: Číslo | C48: Název | F48: Typ dílu | I48: Celkem | J48: %
B49: 1 | C49: Úprava vstupních dveří | F49: HSV | I49: ='200701 01_1 Pol'!G8 -> 37772 | J49: =IF(I54=0,"",I49/I54*100) -> 21.1116
B50: 2 | C50: Dodatečné práce v m.č. 104 - sklad materiálu | F50: HSV | I50: ='200701 01_1 Pol'!G12 -> 49375.64 | J50: =IF(I54=0,"",I50/I54*100) -> 27.597129
...

Sheet VzorPolozky
A1: Položkový rozpočet
A2: S:
A3: O:
A4: R:

Sheet 200701 01_1 Pol
A1: Změnový list č. 1 - položkový rozpočet | AF1: #TypZaznamu#
A2: S: | C2: Vznik komunitního centra v Obecním domě Všemina | AF2: STA
A3: O: | C3: Obecní dům | AB3: STA | AF3: OBJ
A4: R: | B4: 01/1 | C4: Způsobilé výdaje - Hlavní aktivity projektu dodatek č.1 -- změny | AF4: ROZ
A6: P.č. | B6: Číslo položky | C6: Název položky | D6: MJ | E6: Množství | F6: Cena / MJ | G6: Celkem | H6: Dodávka | I6: Dodávka celk. | J6: Montáž | K6: Montáž celk. | L6: DPH | M6: Cena s DPH | N6: Hmotnost / MJ | O6: Hmotnost celk.(t) | P6: Dem. hmotnost / MJ | Q6: Dem. hmotnost celk.(t) | R6: Ceník | S6: Cen. soustava / platnost | T6: Cenová úroveň | U6: Nhod / MJ | V6: Nhod celk. | W6: Dodavatel | X6: Typ položky
A8: 1. Úprava vstupních dveří | G8: =SUM(G9) -> 37772
A9: Díl: | B9: 767 | C9: Konstrukce zámečnické | G9: =SUMIF(AF10:AF10,"<>NOR",G10:G10) -> 37772 | I9: =SUM(I10:I10) -> 0 | K9: =SUM(K10:K10) -> 62772 | M9: =SUM(M10:M10) -> 45704.12 | O9: =SUM(O10:O10) -> 0.14 | Q9: =SUM(Q10:Q10) -> 0 | V9: =SUM(V10:V10) -> 0 | AF9: DIL
A10: 1 | B10: 767103pc1 | C10: D+M Al dveře 140x250cm - doplnění vybavenosti a rozšíření jemnovité šířky-zejm. pro osoby se sníženou pohyblivostí (změna otevírání, bezp. sklo, invalidní klika), dodržení požární bezpečnosti (paniková klika, protipožární prostupy) | D10: ks | E10: 1 | F10: 37772 | G10: =ROUND(E10*F10,2) -> 37772 | H10: 0 | I10: =ROUND(E10*H10,2) -> 0 | J10: 62772 | K10: =ROUND(E10*J10,2) -> 62772 | L10: 21 | M10: =G10*(1+L10/100) -> 45704.12 | N10: 0.14 | O10: =ROUND(E10*N10,2) -> 0.14 | P10: 0 | Q10: =ROUND(E10*P10,2) -> 0 | S10: Vlastní | T10: Indiv | U10: 0 | V10: =ROUND(E10*U10,2) -> 0 | X10: Práce | AF10: POL1_
A12: 2. Dodatečné práce v m.č. 104 - sklad materiálu | G12: =G13+G16+G18+G20+G24 -> 49375.64
A13: Díl: | B13: 63 | C13: Podlahy a podlahové konstrukce | G13: =SUMIF(AF14:AF14,"<>NOR",G14:G14) -> 10126.09 | I13: =SUM(I14:I15) -> 8098.36 | K13: =SUM(K14:K15) -> 2027.73 | M13: =SUM(M14:M15) -> 12252.569 | O13: =SUM(O14:O15) -> 0.23 | Q13: =SUM(Q14:Q15) -> 0 | V13: =SUM(V14:V15) -> 3.33 | AF13: DIL
A14: 12 | B14: 631361921RT5 | C14: Výztuž mazanin svařovanou sítí průměr drátu 6,0, oka 150/150 mm KH20 | D14: t | E14: 0.2184 | F14: 46364.89 | G14: =ROUND(E14*F14,2) -> 10126.09 | H14: 37080.39 | I14: =ROUND(E14*H14,2) -> 8098.36 | J14: 9284.5 | K14: =ROUND(E14*J14,2) -> 2027.73 | L14: 21 | M14: =G14*(1+L14/100) -> 12252.569 | N14: 1.06625 | O14: =ROUND(E14*N14,2) -> 0.23 | P14: 0 | Q14: =ROUND(E14*P14,2) -> 0 | S14: RTS 19/ I | T14: Indiv | U14: 15.231 | V14: =ROUND(E14*U14,2) -> 3.33 | X14: Práce | AF14: POL1_
C15: doplnění a zesílení do celé plochy12*18,2/1000 | E15: 0.2184 | AF15: VV | AG15: 0
A16: Díl: | B16: 96 | C16: Bourání konstrukcí | G16: =SUMIF(AF17:AF17,"<>NOR",G17:G17) -> 6240 | I16: =SUM(I17:I17) -> 1411.23 | K16: =SUM(K17:K17) -> 4723.77 | M16: =SUM(M17:M17) -> 7550.4 | O16: =SUM(O17:O17) -> 0.14 | Q16: =SUM(Q17:Q17) -> 0 | V16: =SUM(V17:V17) -> 10.45 | AF16: DIL
A17: 15 | B17: 975022241R00 | C17: Podchycení zdiva výztuhou do 3 m,zdi 45 cm do 3 m oboustranně (2*1,5) | D17: m | E17: 3 | F17: 2080 | G17: =ROUND(E17*F17,2) -> 6240 | H17: 470.41 | I17: =ROUND(E17*H17,2) -> 1411.23 | J17: 1574.59 | K17: =ROUND(E17*J17,2) -> 4723.77 | L17: 21 | M17: =G17*(1+L17/100) -> 7550.4 | N17: 0.04749 | O17: =ROUND(E17*N17,2) -> 0.14 | P17: 0 | Q17: =ROUND(E17*P17,2) -> 0 | S17: RTS 19/ I | T17: RTS 19/ I | U17: 3.482 | V17: =ROUND(E17*U17,2) -> 10.45 | X17: Práce | AF17: POL1_
A18: Díl: | B18: 4 | C18: Vodorovné konstrukce | G18: =SUMIF(AF19:AF19,"<>NOR",G19:G19) -> 2526.9 | I18: =SUM(I19:I19) -> 836.78 | K18: =SUM(K19:K19) -> 1690.12 | M18: =SUM(M19:M19) -> 3057.549 | O18: =SUM(O19:O19) -> 0.04 | Q18: =SUM(Q19:Q19) -> 0 | V18: =SUM(V19:V19) -> 3.33 | AF18: DIL
A19: 5 | B19: 416021123R00 | C19: Podhledy SDK, kovová.kce CD. 1x deska RBI 12,5 mm (2*1,5) - nika | D19: m2 | E19: 3.5 | F19: 721.97 | G19: =ROUND(E19*F19,2) -> 2526.9 | H19: 239.08 | I19: =ROUND(E19*H19,2) -> 836.78 | J19: 482.89 | K19: =ROUND(E19*J19,2) -> 1690.12 | L19: 21 | M19: =G19*(1+L19/100) -> 3057.549 | N19: 0.01201 | O19: =ROUND(E19*N19,2) -> 0.04 | P19: 0 | Q19: =ROUND(E19*P19,2) -> 0 | S19: RTS 19/ I | T19: Indiv | U19: 0.95 | V19: =ROUND(E19*U19,2) -> 3.33 | X19: Práce | AF19: POL1_
A20: Díl: | B20: 783 | C20: Nátěry | G20: =SUMIF(AF21:AF23,"<>NOR",G21:G23) -> 5352.78 | I20: =SUM(I21:I23) -> 378.64 | K20: =SUM(K21:K23) -> 4974.14 | M20: =SUM(M21:M23) -> 6476.8638 | O20: =SUM(O21:O23) -> 0 | Q20: =SUM(Q21:Q23) -> 0 | V20: =SUM(V21:V23) -> 3.83 | AF20: DIL
A21: 16 | B21: 783802821R00 | C21: Odstranění nátěrů z omítek stěn oškrabáním včetně vyspravení | D21: m2 | E21: 56.345 | F21: 95 | G21: =ROUND(E21*F21,2) -> 5352.78 | H21: 6.72 | I21: =ROUND(E21*H21,2) -> 378.64 | J21: 88.28 | K21: =ROUND(E21*J21,2) -> 4974.14 | L21: 21 | M21: =G21*(1+L21/100) -> 6476.8638 | N21: 1e-05 | O21: =ROUND(E21*N21,2) -> 0 | P21: 0 | Q21: =ROUND(E21*P21,2) -> 0 | S21: RTS 19/ I | T21: Indiv | U21: 0.068 | V21: =ROUND(E21*U21,2) -> 3.83 | X21: Práce | AF21: POL1_
C22: (3,7+3,7+4,35+4,35)*2,5 | E22: 40.25 | AF22: VV | AG22: 0
C23: 3,7*4,35 | E23: 16.095 | AF23: VV | AG23: 0
A24: Díl: | B24: 6 | C24: Úpravy povrchu, podlahy | G24: =SUMIF(AF25:AF25,"<>NOR",G25:G25) -> 25129.87 | I24: =SUM(I25:I25) -> 12004.3 | K24: =SUM(K25:K25) -> 12111.36 | M24: =SUM(M25:M25) -> 30407.143 | O24: =SUM(O25:O25) -> 1.24 | Q24: =SUM(Q25:Q25) -> 0 | V24: =SUM(V25:V25) -> 27.05 | AF24: DIL
A25: 10 | B25: 602011126R00 | C25: Omítka jádr.sanační Cemix WTA 024 ručně, tl. 20 mm | D25: m2 | E25: 56.345 | F25: 446 | G25: =ROUND(E25*F25,2) -> 25129.87 | H25: 213.05 | I25: =ROUND(E25*H25,2) -> 12004.3 | J25: 214.95 | K25: =ROUND(E25*J25,2) -> 12111.36 | L25: 21 | M25: =G25*(1+L25/100) -> 30407.143 | N25: 0.02205 | O25: =ROUND(E25*N25,2) -> 1.24 | P25: 0 | Q25: =ROUND(E25*P25,2) -> 0 | S25: RTS 19/ I | T25: RTS 19/ I | U25: 0.48 | V25: =ROUND(E25*U25,2) -> 27.05 | X25: Práce | AF25: POL1_
A27: 3. Dodatečné práce v m.č. 105 Chodba | G27: =G28+G31+G33 -> 31574.2
A28: Díl: | B28: 3 | C28: Svislé a kompletní konstrukce | G28: =SUMIF(AF29:AF30,"<>NOR",G29:G30) -> 18290.88 | I28: =SUM(I29:I30) -> 8243.42 | K28: =SUM(K29:K30) -> 15246.58 | M28: =SUM(M29:M30) -> 22131.965 | O28: =SUM(O29:O30) -> 0.38 | Q28: =SUM(Q29:Q30) -> 0 | V28: =SUM(V29:V30) -> 21.61 | AF28: DIL
A29: 17 | B29: 347016121R00 | C29: Předstěna SDK, tl.90mm, ocel. kce CW, 1x RB 12,5mm | D29: m2 | E29: 31.32 | F29: 584 | G29: =ROUND(E29*F29,2) -> 18290.88 | H29: 263.2 | I29: =ROUND(E29*H29,2) -> 8243.42 | J29: 486.8 | K29: =ROUND(E29*J29,2) -> 15246.58 | L29: 21 | M29: =G29*(1+L29/100) -> 22131.965 | N29: 0.01226 | O29: =ROUND(E29*N29,2) -> 0.38 | P29: 0 | Q29: =ROUND(E29*P29,2) -> 0 | S29: RTS 19/ I | T29: Indiv | U29: 0.69 | V29: =ROUND(E29*U29,2) -> 21.61 | X29: Práce | AF29: POL1_
C30: 5,8*2,7*2 (bez odečtu otvorů = ostění) | E30: 31.32 | AF30: VV | AG30: 0
A31: Díl: | B31: 64 | C31: Výplně otvorů | G31: =SUMIF(AF32:AF32,"<>NOR",G32:G32) -> 8040 | I31: =SUM(I32:I32) -> 3795.24 | K31: =SUM(K32:K32) -> 3388.76 | M31: =SUM(M32:M32) -> 9728.4 | O31: =SUM(O32:O32) -> 0.12 | Q31: =SUM(Q32:Q32) -> 0 | V31: =SUM(V32:V32) -> 7.44 | AF31: DIL
A32: 19 | B32: 642942111RT5 | C32: Osazení zárubní dveřních ocelových, pl. do 2,5 m2 včetně dodávky zárubně 90 x 197 x 11 cm | D32: kus | E32: 4 | F32: 2010 | G32: =ROUND(E32*F32,2) -> 8040 | H32: 948.81 | I32: =ROUND(E32*H32,2) -> 3795.24 | J32: 847.19 | K32: =ROUND(E32*J32,2) -> 3388.76 | L32: 21 | M32: =G32*(1+L32/100) -> 9728.4 | N32: 0.03111 | O32: =ROUND(E32*N32,2) -> 0.12 | P32: 0 | Q32: =ROUND(E32*P32,2) -> 0 | S32: RTS 19/ I | T32: RTS 19/ I | U32: 1.86 | V32: =ROUND(E32*U32,2) -> 7.44 | X32: Práce | AF32: POL1_
A33: Díl: | B33: 63 | C33: Podlahy a podlahové konstrukce | G33: =SUMIF(AF34:AF37,"<>NOR",G34:G37) -> 5243.32 | I33: =SUM(I34:I35) -> 1141.15 | K33: =SUM(K34:K35) -> 660.45 | M33: =SUM(M34:M35) -> 2075.392 | O33: =SUM(O34:O35) -> 0.12 | Q33: =SUM(Q34:Q35) -> 0 | V33: =SUM(V34:V35) -> 1.69 | AF33: DIL
A34: 20 | B34: 273351215RT1 | C34: Bednění stěn základových desek - zřízení bednicí materiál prkna | D34: m2 | E34: 3.2 | F34: 536 | G34: =ROUND(E34*F34,2) -> 1715.2 | H34: 356.61 | I34: =ROUND(E34*H34,2) -> 1141.15 | J34: 206.39 | K34: =ROUND(E34*J34,2) -> 660.45 | L34: 21 | M34: =G34*(1+L34/100) -> 2075.392 | N34: 0.0364 | O34: =ROUND(E34*N34,2) -> 0.12 | P34: 0 | Q34: =ROUND(E34*P34,2) -> 0 | S34: RTS 19/ I | T34: RTS 19/ I | U34: 0.527 | V34: =ROUND(E34*U34,2) -> 1.69 | X34: Práce | AF34: POL1_
C35: (1,2+2+1,2+2)*0,5 | E35: 3.2 | AF35: VV | AG35: 0
A36: 21 | B36: 273351216R00 | C36: Bednění stěn základových desek - odstranění | D36: m2 | E36: 3.2 | F36: 127 | G36: =ROUND(E36*F36,2) -> 406.4 | H36: 0 | I36: =ROUND(E36*H36,2) -> 0 | J36: 123.5 | K36: =ROUND(E36*J36,2) -> 395.2 | L36: 21 | M36: =G36*(1+L36/100) -> 491.744 | N36: 0 | O36: =ROUND(E36*N36,2) -> 0 | P36: 0 | Q36: =ROUND(E36*P36,2) -> 0 | S36: RTS 19/ I | T36: RTS 19/ I | U36: 0.32 | V36: =ROUND(E36*U36,2) -> 1.02 | X36: Práce | AF36: POL1_
A37: 18 | B37: 631313621RM1 | C37: Mazanina betonová tl. 8 - 12 cm C 20/25 z betonu prostého - doplnění podlahy kolem záklopu do sklepa | D37: m3 | E37: 0.9346 | F37: 3340.17 | G37: =ROUND(E37*F37,2) -> 3121.72 | H37: 2329.28 | I37: =ROUND(E37*H37,2) -> 2176.95 | J37: 1010.89 | K37: =ROUND(E37*J37,2) -> 944.78 | L37: 21 | M37: =G37*(1+L37/100) -> 3777.2812 | N37: 2.525 | O37: =ROUND(E37*N37,2) -> 2.36 | P37: 0 | Q37: =ROUND(E37*P37,2) -> 0 | S37: RTS 19/ I | T37: Indiv | U37: 2.58 | V37: =ROUND(E37*U37,2) -> 2.41 | X37: Práce | AF37: POL1_
A39: 4. Ochrana vnějšího nadzákladového zdiva | G39: =G40+G47+G50+G53 -> 49136.02
A40: Díl: | B40: 1 | C40: Zemní práce | G40: =SUMIF(AF41:AF45,"<>NOR",G41:G45) -> 21369.42 | I40: =SUM(I41:I43) -> 0 | K40: =SUM(K41:K43) -> 15340.6 | M40: =SUM(M41:M43) -> 19293.208 | O40: =SUM(O41:O43) -> 0 | Q40: =SUM(Q41:Q43) -> 0 | V40: =SUM(V41:V43) -> 40.42 | AF40: DIL
A41: 13 | B41: 139601103R00 | C41: Ruční výkop jam, rýh a šachet v hornině tř. 4 | D41: m3 | E41: 7.6 | F41: 1678 | G41: =ROUND(E41*F41,2) -> 12752.8 | H41: 0 | I41: =ROUND(E41*H41,2) -> 0 | J41: 1607 | K41: =ROUND(E41*J41,2) -> 12213.2 | L41: 21 | M41: =G41*(1+L41/100) -> 15430.888 | N41: 0 | O41: =ROUND(E41*N41,2) -> 0 | P41: 0 | Q41: =ROUND(E41*P41,2) -> 0 | S41: RTS 19/ I | T41: RTS 19/ I | U41: 4.655 | V41: =ROUND(E41*U41,2) -> 35.38 | X41: Práce | AF41: POL1_
C42: 19*0,8*0,5 | E42: 7.6 | AF42: VV | AG42: 0
A43: 14 | B43: 460600001RT8 | C43: Naložení a odvoz zeminy odvoz na vzdálenost 10000 m | D43: m3 | E43: 7.6 | F43: 420 | G43: =ROUND(E43*F43,2) -> 3192 | H43: 0 | I43: =ROUND(E43*H43,2) -> 0 | J43: 411.5 | K43: =ROUND(E43*J43,2) -> 3127.4 | L43: 21 | M43: =G43*(1+L43/100) -> 3862.32 | N43: 0 | O43: =ROUND(E43*N43,2) -> 0 | P43: 0 | Q43: =ROUND(E43*P43,2) -> 0 | S43: RTS 19/ I | T43: RTS 19/ I | U43: 0.663 | V43: =ROUND(E43*U43,2) -> 5.04 | X43: Práce | AF43: POL1_
A44: 24 | B44: 174101102R00 | C44: Zásyp ruční se zhutněním | D44: m3 | E44: 7.2 | F44: 484 | G44: =ROUND(E44*F44,2) -> 3484.8 | H44: 0 | I44: =ROUND(E44*H44,2) -> 0 | J44: 469.5 | K44: =ROUND(E44*J44,2) -> 3380.4 | L44: 21 | M44: =G44*(1+L44/100) -> 4216.608 | N44: 0 | O44: =ROUND(E44*N44,2) -> 0 | P44: 0 | Q44: =ROUND(E44*P44,2) -> 0 | S44: RTS 19/ I | T44: RTS 19/ I | U44: 1.15 | V44: =ROUND(E44*U44,2) -> 8.28 | X44: Práce | AF44: POL1_
B45: 199000002R00 | C45: Poplatek za skládku horniny 1-4 | D45: m3 | E45: 7.6 | F45: 255.24 | G45: =ROUND(E45*F45,2) -> 1939.82
...
