Workbook
Name CelkemDPHVypocet: Stavba!$H$53
Name CenaCelkem: Stavba!$G$29
Name CenaCelkemBezDPH: Stavba!$G$28
Name CenaCelkemVypocet: Stavba!$I$53
Name cisloobjektu: Stavba!$D$3
Name CisloRozpoctu: '[1]Krycí list'!$C$2
Name CisloStavby: Stavba!$D$2
Name cislostavby: '[1]Krycí list'!$A$7
Name CisloStavebnihoRozpoctu: Stavba!$D$4
Name dadresa: Stavba!$D$12:$G$12
Name DIČ: Stavba!$I$12
Name dmisto: Stavba!$E$13:$G$13
Name DPHSni: Stavba!$G$24
Name DPHZakl: Stavba!$G$26
Name dpsc: Stavba!$D$13
Name IČO: Stavba!$I$11
Name Mena: Stavba!$J$29
Name MistoStavby: Stavba!$D$4
Name nazevobjektu: Stavba!$E$3
Name NazevRozpoctu: '[1]Krycí list'!$D$2
Name NazevStavby: Stavba!$E$2
Name nazevstavby: '[1]Krycí list'!$C$7
Name NazevStavebnihoRozpoctu: Stavba!$E$4
Name oadresa: Stavba!$D$6
Name Objednatel: Stavba!$D$5
Name Objekt: Stavba!$B$38
Name odic: Stavba!$I$6
Name oico: Stavba!$I$5
Name omisto: Stavba!$E$7
Name onazev: Stavba!$D$6
Name opsc: Stavba!$D$7
Name padresa: Stavba!$D$9
Name pdic: Stavba!$I$9
Name pico: Stavba!$I$8
Name pmisto: Stavba!$E$10
Name PocetMJ: #REF!
Name PoptavkaID: Stavba!$A$1
Name pPSC: Stavba!$D$10
Name Projektant: Stavba!$D$8
Name SazbaDPH1: Stavba!$E$23
Name SazbaDPH1: '[1]Krycí list'!$C$30
Name SazbaDPH2: Stavba!$E$25
Name SazbaDPH2: '[1]Krycí list'!$C$32
Name SloupecCC: #REF!
Name SloupecCisloPol: #REF!
Name SloupecJC: #REF!
Name SloupecMJ: #REF!
Name SloupecMnozstvi: #REF!
Name SloupecNazPol: #REF!
Name SloupecPC: #REF!
Name Vypracoval: Stavba!$D$14
Name ZakladDPHSni: Stavba!$G$23
Name ZakladDPHSniVypocet: Stavba!$F$53
Name ZakladDPHZakl: Stavba!$G$25
Name ZakladDPHZaklVypocet: Stavba!$G$53
Name ZaObjednatele: Stavba!$G$34
Name Zaokrouhleni: Stavba!$G$27
Name ZaZhotovitele: Stavba!$D$34
Name Zhotovitel: Stavba!$D$11:$G$11

Sheet Stavba
A1: #RTSROZP# | B1: Položkový rozpočet stavby
B2: Stavba: | E2: OPRAVA INTERIERU OBECNÍHO ÚŘADU KLENOVICE NA HANÉ
B5: Objednatel: | H5: IČO:
H6: DIČ:
B8: Projektant: | H8: IČO:
H9: DIČ:
B11: Zhotovitel: | D11: RAPOS, spol. s r.o. | H11: IČO:
H12: DIČ:
B14: Vypracoval:
B15: Rozpis ceny | I15: Celkem
A16: HSV | B16: HSV | I16: =SUMIF(F74:F93,A16,I74:I93)+SUMIF(F74:F93,"PSU",I74:I93) -> 447342.82
A17: PSV | B17: PSV | I17: =SUMIF(F74:F93,A17,I74:I93) -> 143915.74
A18: MON | B18: MON | I18: =SUMIF(F74:F93,A18,I74:I93) -> 0
A19: VN | B19: Vedlejší náklady | I19: =SUMIF(F74:F93,A19,I74:I93) -> 0
A20: ON | B20: Ostatní náklady | I20: =SUMIF(F74:F93,A20,I74:I93) -> 0
B21: Celkem | I21: =SUM(I16:J20) -> 591258.56
B22: Rekapitulace daní
A23: =ZakladDPHSni*SazbaDPH1/100 -> 0 | B23: Základ pro sníženou DPH | E23: 15 | F23: % | G23: =ZakladDPHSniVypocet -> 0 | J23: =Mena -> CZK
A24: =(A23-INT(A23))*100 -> 0 | B24: Snížená DPH | E24: =SazbaDPH1 -> 15 | F24: % | G24: =IF(A24>50, ROUNDUP(A23, 0), ROUNDDOWN(A23, 0)) -> 0 | J24: =Mena -> CZK
A25: =ZakladDPHZakl*SazbaDPH2/100 -> 124164.3 | B25: Základ pro základní DPH | E25: 21 | F25: % | G25: =ZakladDPHZaklVypocet -> 591258.56 | J25: =Mena -> CZK
A26: =(A25-INT(A25))*100 -> 29.76 | B26: Základní DPH | E26: =SazbaDPH2 -> 21 | F26: % | G26: =IF(A26>50, ROUNDUP(A25, 0), ROUNDDOWN(A25, 0)) -> 124164 | J26: =Mena -> CZK
A27: =ZakladDPHSni+DPHSni+ZakladDPHZakl+DPHZakl -> 715422.56 | B27: Zaokrouhlení | G27: =CenaCelkem-(ZakladDPHSni+DPHSni+ZakladDPHZakl+DPHZakl) -> 0.44 | J27: =Mena -> CZK
B28: Cena celkem bez DPH | G28: =ZakladDPHSniVypocet+ZakladDPHZaklVypocet -> 591258.56 | J28: =Mena -> CZK
A29: =(A27-INT(A27))*100 -> 56 | B29: Cena celkem s DPH | G29: =IF(A29>50, ROUNDUP(A27, 0), ROUNDDOWN(A27, 0)) -> 715423 | J29: CZK
C32: v | F32: dne
D35: Za zhotovitele | H35: Za objednatele
B37: Rekapitulace dílčích částí
A38: #CASTI>> | B38: Číslo | C38: Název | F38: =B23 -> Základ pro sníženou DPH | G38: =B25 -> Základ pro základní DPH | H38: DPH celkem | I38: Cena celkem | J38: %
A39: 1 | B39: Stavba | F39: ='SO 03 002aVCP Pol'!AE61+'SO 03 003aVCP Pol'!AE142+'SO 03 004aVCP Pol'!AE29+'SO 03 005aVCP Pol'!AE17+'SO 03 006aVCP Pol'!AE148+'SO 03 007aVCP Pol'!AE97+'SO 03 008aVCP Pol'!AE38+'SO 03 009aVCP Pol'!AE17+'SO 03 010aVCP Pol'!AE37+'SO 03 013aVCP Pol'!AE94+'SO 03 014aVCP Pol'!AE74+'SO 03 015aVCP Pol'!AE44 -> 0 | G39: ='SO 03 002aVCP Pol'!AF61+'SO 03 003aVCP Pol'!AF142+'SO 03 004aVCP Pol'!AF29+'SO 03 005aVCP Pol'!AF17+'SO 03 006aVCP Pol'!AF148+'SO 03 007aVCP Pol'!AF97+'SO 03 008aVCP Pol'!AF38+'SO 03 009aVCP Pol'!AF17+'SO 03 010aVCP Pol'!AF37+'SO 03 013aVCP Pol'!AF94+'SO 03 014aVCP Pol'!AF74+'SO 03 015aVCP Pol'!AF44 -> 591258.56 | H39: =(F39*SazbaDPH1/100)+(G39*SazbaDPH2/100) -> 124164.3 | I39: =F39+G39+H39 -> 715422.86 | J39: =IF(CenaCelkemVypocet=0,"",I39/CenaCelkemVypocet*100) -> 100
A40: 2 | B40: SO 03 | C40: Stavební objekt | F40: ='SO 03 002aVCP Pol'!AE61+'SO 03 003aVCP Pol'!AE142+'SO 03 004aVCP Pol'!AE29+'SO 03 005aVCP Pol'!AE17+'SO 03 006aVCP Pol'!AE148+'SO 03 007aVCP Pol'!AE97+'SO 03 008aVCP Pol'!AE38+'SO 03 009aVCP Pol'!AE17+'SO 03 010aVCP Pol'!AE37+'SO 03 013aVCP Pol'!AE94+'SO 03 014aVCP Pol'!AE74+'SO 03 015aVCP Pol'!AE44 -> 0 | G40: ='SO 03 002aVCP Pol'!AF61+'SO 03 003aVCP Pol'!AF142+'SO 03 004aVCP Pol'!AF29+'SO 03 005aVCP Pol'!AF17+'SO 03 006aVCP Pol'!AF148+'SO 03 007aVCP Pol'!AF97+'SO 03 008aVCP Pol'!AF38+'SO 03 009aVCP Pol'!AF17+'SO 03 010aVCP Pol'!AF37+'SO 03 013aVCP Pol'!AF94+'SO 03 014aVCP Pol'!AF74+'SO 03 015aVCP Pol'!AF44 -> 591258.56 | H40: =(F40*SazbaDPH1/100)+(G40*SazbaDPH2/100) -> 124164.3 | I40: =F40+G40+H40 -> 715422.86 | J40: =IF(CenaCelkemVypocet=0,"",I40/CenaCelkemVypocet*100) -> 100
A41: 3 | B41: 002aVCP | C41: Změna podkladu pod dlažbu | F41: ='SO 03 002aVCP Pol'!AE61 -> 0 | G41: ='SO 03 002aVCP Pol'!AF61 -> 58646.76 | H41: =(F41*SazbaDPH1/100)+(G41*SazbaDPH2/100) -> 12315.82 | I41: =F41+G41+H41 -> 70962.58 | J41: =IF(CenaCelkemVypocet=0,"",I41/CenaCelkemVypocet*100) -> 9.9189701
A42: 3 | B42: 003aVCP | C42: Zpevnění omítek | F42: ='SO 03 003aVCP Pol'!AE142 -> 0 | G42: ='SO 03 003aVCP Pol'!AF142 -> 82851.16 | H42: =(F42*SazbaDPH1/100)+(G42*SazbaDPH2/100) -> 17398.744 | I42: =F42+G42+H42 -> 100249.9 | J42: =IF(CenaCelkemVypocet=0,"",I42/CenaCelkemVypocet*100) -> 14.012678
A43: 3 | B43: 004aVCP | C43: Oprava SDK příčky | F43: ='SO 03 004aVCP Pol'!AE29 -> 0 | G43: ='SO 03 004aVCP Pol'!AF29 -> 34006.6 | H43: =(F43*SazbaDPH1/100)+(G43*SazbaDPH2/100) -> 7141.386 | I43: =F43+G43+H43 -> 41147.986 | J43: =IF(CenaCelkemVypocet=0,"",I43/CenaCelkemVypocet*100) -> 5.7515616
A44: 3 | B44: 005aVCP | C44: Injektáž zdiva | F44: ='SO 03 005aVCP Pol'!AE17 -> 0 | G44: ='SO 03 005aVCP Pol'!AF17 -> 70259.07 | H44: =(F44*SazbaDPH1/100)+(G44*SazbaDPH2/100) -> 14754.405 | I44: =F44+G44+H44 -> 85013.475 | J44: =IF(CenaCelkemVypocet=0,"",I44/CenaCelkemVypocet*100) -> 11.882969
A45: 3 | B45: 006aVCP | C45: Změna omítek m.č. 101 | F45: ='SO 03 006aVCP Pol'!AE148 -> 0 | G45: ='SO 03 006aVCP Pol'!AF148 -> 5179.37 | H45: =(F45*SazbaDPH1/100)+(G45*SazbaDPH2/100) -> 1087.6677 | I45: =F45+G45+H45 -> 6267.0377 | J45: =IF(CenaCelkemVypocet=0,"",I45/CenaCelkemVypocet*100) -> 0.8759907
A46: 3 | B46: 007aVCP | C46: Změna dispozice m.č. 105 | F46: ='SO 03 007aVCP Pol'!AE97 -> 0 | G46: ='SO 03 007aVCP Pol'!AF97 -> -15523.04 | H46: =(F46*SazbaDPH1/100)+(G46*SazbaDPH2/100) -> -3259.8384 | I46: =F46+G46+H46 -> -18782.878 | J46: =IF(CenaCelkemVypocet=0,"",I46/CenaCelkemVypocet*100) -> -2.6254233
A47: 3 | B47: 008aVCP | C47: Změna příčky m.č. 102 | F47: ='SO 03 008aVCP Pol'!AE38 -> 0 | G47: ='SO 03 008aVCP Pol'!AF38 -> -8692.43 | H47: =(F47*SazbaDPH1/100)+(G47*SazbaDPH2/100) -> -1825.4103 | I47: =F47+G47+H47 -> -10517.84 | J47: =IF(CenaCelkemVypocet=0,"",I47/CenaCelkemVypocet*100) -> -1.4701572
A48: 3 | B48: 009aVCP | C48: Doplnění SDK stropů | F48: ='SO 03 009aVCP Pol'!AE17 -> 0 | G48: ='SO 03 009aVCP Pol'!AF17 -> 43548.6 | H48: =(F48*SazbaDPH1/100)+(G48*SazbaDPH2/100) -> 9145.206 | I48: =F48+G48+H48 -> 52693.806 | J48: =IF(CenaCelkemVypocet=0,"",I48/CenaCelkemVypocet*100) -> 7.3654071
A49: 3 | B49: 010aVCP | C49: Stavební přípomoci pro kanalizaci | F49: ='SO 03 010aVCP Pol'!AE37 -> 0 | G49: ='SO 03 010aVCP Pol'!AF37 -> 22564.73 | H49: =(F49*SazbaDPH1/100)+(G49*SazbaDPH2/100) -> 4738.5933 | I49: =F49+G49+H49 -> 27303.323 | J49: =IF(CenaCelkemVypocet=0,"",I49/CenaCelkemVypocet*100) -> 3.8163896
A50: 3 | B50: 013aVCP | C50: Stavení přípomoci | F50: ='SO 03 013aVCP Pol'!AE94 -> 0 | G50: ='SO 03 013aVCP Pol'!AF94 -> 103128.43 | H50: =(F50*SazbaDPH1/100)+(G50*SazbaDPH2/100) -> 21656.97 | I50: =F50+G50+H50 -> 124785.4 | J50: =IF(CenaCelkemVypocet=0,"",I50/CenaCelkemVypocet*100) -> 17.442188
...

Sheet VzorPolozky
A1: Položkový rozpočet
A2: S:
A3: O:
A4: R:

Sheet SO 03 002aVCP Pol
A1: Položkový rozpočet | AG1: #TypZaznamu#
A2: S: | B2: 2021-KL | C2: OPRAVA INTERIERU OBECNÍHO ÚŘADU KLENOVICE NA HANÉ | AG2: STA
A3: O: | B3: SO 03 | C3: Stavební objekt | AC3: STA | AG3: OBJ
A4: R: | B4: 002aVCP | C4: Změna podkladu pod dlažbu | AG4: ROZ
A6: P.č. | B6: Číslo položky | C6: Název položky | D6: MJ | E6: Množství | F6: Cena / MJ | G6: Celkem | H6: Dodávka | I6: Dodávka celk. | J6: Montáž | K6: Montáž celk. | L6: DPH | M6: Cena s DPH | N6: Hmotnost / MJ | O6: Hmotnost celk.(t) | P6: Dem. hmotnost / MJ | Q6: Dem. hmotnost celk.(t) | R6: Ceník | S6: Cen. soustava / platnost | T6: Cenová úroveň | U6: Nhod / MJ | V6: Nhod celk. | W6: Dodavatel | X6: Typ položky
A8: Díl: | B8: 63 | C8: Podlahy a podlahové konstrukce | G8: =SUMIF(AG9:AG48,"<>NOR",G9:G48) -> 49858.5 | I8: =SUM(I9:I48) -> 32590.85 | K8: =SUM(K9:K48) -> 17267.65 | M8: =SUM(M9:M48) -> 60328.785 | O8: =SUM(O9:O48) -> 7.32 | Q8: =SUM(Q9:Q48) -> 0 | V8: =SUM(V9:V48) -> 30.25 | AG8: DIL
A9: 1 | B9: 631361921RT3 | C9: Výztuž mazanin svařovanou sítí průměr drátu 5,0, oka 150/150 mm KD37 | D9: t | E9: 0.11542 | F9: 60860 | G9: =ROUND(E9*F9,2) -> 7024.46 | H9: 53508.59 | I9: =ROUND(E9*H9,2) -> 6175.96 | J9: 7351.41 | K9: =ROUND(E9*J9,2) -> 848.5 | L9: 21 | M9: =G9*(1+L9/100) -> 8499.5966 | N9: 1.06625 | O9: =ROUND(E9*N9,2) -> 0.12 | P9: 0 | Q9: =ROUND(E9*P9,2) -> 0 | S9: RTS 22/ I | T9: RTS 21/ II | U9: 15.231 | V9: =ROUND(E9*U9,2) -> 1.76 | X9: Práce | AG9: POL1_
C10: Začátek provozního součtu | AG10: VV
C11: I.NP : | AG11: VV | AH11: 2
C12: m.č. 102 chodba : 13,6 | E12: 13.6 | AG12: VV | AH12: 2
C13: II.NP : | AG13: VV | AH13: 2
C14: m.č. 202 hala : 4,0*2,4 | E14: 9.6 | AG14: VV | AH14: 2
C15: m.č.203 předprostor kancel. : 13,63 | E15: 13.63 | AG15: VV | AH15: 2
C16: m.č.207 schodiště půda : 14,63 | E16: 14.63 | AG16: VV | AH16: 2
C17: m.č. 208+209+210 : 6,25 | E17: 6.25 | AG17: VV | AH17: 2
C18: m.č. 211 předprost.obř. síně : 11,91 | E18: 11.91 | AG18: VV | AH18: 2
C19: Konec provozního součtu | AG19: VV
C20: 54,99*2,099/1000 | E20: 0.11542 | AG20: VV | AH20: 0
A21: 2 | B21: 631572111R00 | C21: Doplnění násypů pískem neupraveným o ploše nad 2m2 | D21: m3 | E21: 1.6497 | F21: 1027 | G21: =ROUND(E21*F21,2) -> 1694.24 | H21: 393.27 | I21: =ROUND(E21*H21,2) -> 648.78 | J21: 633.73 | K21: =ROUND(E21*J21,2) -> 1045.46 | L21: 21 | M21: =G21*(1+L21/100) -> 2050.0304 | N21: 1.2 | O21: =ROUND(E21*N21,2) -> 1.98 | P21: 0 | Q21: =ROUND(E21*P21,2) -> 0 | S21: RTS 22/ I | T21: RTS 21/ II | U21: 1.6 | V21: =ROUND(E21*U21,2) -> 2.64 | X21: Práce | AG21: POL1_
C22: Začátek provozního součtu | AG22: VV
C23: I.NP : | AG23: VV | AH23: 2
C24: m.č. 102 chodba : 13,6 | E24: 13.6 | AG24: VV | AH24: 2
C25: II.NP : | AG25: VV | AH25: 2
C26: m.č. 202 hala : 4,0*2,4 | E26: 9.6 | AG26: VV | AH26: 2
C27: m.č.203 předprostor kancel. : 13,63 | E27: 13.63 | AG27: VV | AH27: 2
C28: m.č.207 schodiště půda : 14,63 | E28: 14.63 | AG28: VV | AH28: 2
C29: m.č. 208+209+210 : 6,25 | E29: 6.25 | AG29: VV | AH29: 2
C30: m.č. 211 předprost.obř. síně : 11,91 | E30: 11.91 | AG30: VV | AH30: 2
C31: Konec provozního součtu | AG31: VV
C32: 54,99*0,03 | E32: 1.6497 | AG32: VV | AH32: 0
A33: 3 | B33: 632411150RT1 | C33: Potěr ze SMS Cemix, ruční zpracování, tl. 50 mm cementový potěr 25 Cemix 020, 25 MPa | D33: m2 | E33: 54.99 | F33: 691 | G33: =ROUND(E33*F33,2) -> 37998.09 | H33: 468.56 | I33: =ROUND(E33*H33,2) -> 25766.11 | J33: 222.44 | K33: =ROUND(E33*J33,2) -> 12231.98 | L33: 21 | M33: =G33*(1+L33/100) -> 45977.689 | N33: 0.095 | O33: =ROUND(E33*N33,2) -> 5.22 | P33: 0 | Q33: =ROUND(E33*P33,2) -> 0 | S33: RTS 22/ I | T33: RTS 21/ II | U33: 0.47 | V33: =ROUND(E33*U33,2) -> 25.85 | X33: Práce | AG33: POL1_
C34: I.NP : | AG34: VV | AH34: 0
C35: m.č. 102 chodba : 13,6 | E35: 13.6 | AG35: VV | AH35: 0
C36: II.NP : | AG36: VV | AH36: 0
C37: m.č. 202 hala : 4,0*2,4 | E37: 9.6 | AG37: VV | AH37: 0
C38: m.č.203 předprostor kancel. : 13,63 | E38: 13.63 | AG38: VV | AH38: 0
C39: m.č. 208+209+210 : 6,25 | E39: 6.25 | AG39: VV | AH39: 0
C40: m.č. 211 předprost.obř. síně : 11,91 | E40: 11.91 | AG40: VV | AH40: 0
A41: 4 | B41: 63-NC01 | C41: Urovnání stávajícího násypu | D41: m2 | E41: 57.122 | F41: 55 | G41: =ROUND(E41*F41,2) -> 3141.71 | H41: 0 | I41: =ROUND(E41*H41,2) -> 0 | J41: 55 | K41: =ROUND(E41*J41,2) -> 3141.71 | L41: 21 | M41: =G41*(1+L41/100) -> 3801.4691 | N41: 0 | O41: =ROUND(E41*N41,2) -> 0 | P41: 0 | Q41: =ROUND(E41*P41,2) -> 0 | S41: Vlastní | T41: Indiv | U41: 0 | V41: =ROUND(E41*U41,2) -> 0 | X41: Práce | AG41: POL1_
C42: I.NP : | AG42: VV | AH42: 0
...

Sheet SO 03 003aVCP Pol
A1: Položkový rozpočet | AG1: #TypZaznamu#
A2: S: | B2: 2021-KL | C2: OPRAVA INTERIERU OBECNÍHO ÚŘADU KLENOVICE NA HANÉ | AG2: STA
A3: O: | B3: SO 03 | C3: Stavební objekt | AC3: STA | AG3: OBJ
A4: R: | B4: 003aVCP | C4: Zpevnění omítek | AG4: ROZ
A6: P.č. | B6: Číslo položky | C6: Název položky | D6: MJ | E6: Množství | F6: Cena / MJ | G6: Celkem | H6: Dodávka | I6: Dodávka celk. | J6: Montáž | K6: Montáž celk. | L6: DPH | M6: Cena s DPH | N6: Hmotnost / MJ | O6: Hmotnost celk.(t) | P6: Dem. hmotnost / MJ | Q6: Dem. hmotnost celk.(t) | R6: Ceník | S6: Cen. soustava / platnost | T6: Cenová úroveň | U6: Nhod / MJ | V6: Nhod celk. | W6: Dodavatel | X6: Typ položky
A8: Díl: | B8: 6 | C8: Úpravy povrchu, podlahy | G8: =SUMIF(AG9:AG138,"<>NOR",G9:G138) -> 82360.82 | I8: =SUM(I9:I138) -> 50524.62 | K8: =SUM(K9:K138) -> 31836.2 | M8: =SUM(M9:M138) -> 99656.592 | O8: =SUM(O9:O138) -> 0.56 | Q8: =SUM(Q9:Q138) -> 0 | V8: =SUM(V9:V138) -> 104.82 | AG8: DIL
A9: 1 | B9: 602021NC01 | C9: Adhézní můstek Den Braven | D9: m2 | E9: 748.7347 | F9: 65 | G9: =ROUND(E9*F9,2) -> 48667.76 | H9: 34.96 | I9: =ROUND(E9*H9,2) -> 26175.77 | J9: 30.04 | K9: =ROUND(E9*J9,2) -> 22491.99 | L9: 21 | M9: =G9*(1+L9/100) -> 58887.99 | N9: 0.00053 | O9: =ROUND(E9*N9,2) -> 0.4 | P9: 0 | Q9: =ROUND(E9*P9,2) -> 0 | S9: Vlastní | T9: Indiv | U9: 0.07 | V9: =ROUND(E9*U9,2) -> 52.41 | X9: Práce | AG9: POL1_
A10: 2 | B10: 602023NC01 | C10: Penetrace stěn Den Braven | D10: m2 | E10: 748.7347 | F10: 45 | G10: =ROUND(E10*F10,2) -> 33693.06 | H10: 32.52 | I10: =ROUND(E10*H10,2) -> 24348.85 | J10: 12.48 | K10: =ROUND(E10*J10,2) -> 9344.21 | L10: 21 | M10: =G10*(1+L10/100) -> 40768.603 | N10: 0.00021 | O10: =ROUND(E10*N10,2) -> 0.16 | P10: 0 | Q10: =ROUND(E10*P10,2) -> 0 | S10: Vlastní | T10: Indiv | U10: 0.07 | V10: =ROUND(E10*U10,2) -> 52.41 | X10: Práce | AG10: POL1_
C11: strop : | AG11: VV | AH11: 0
C12: I.NP : | AG12: VV | AH12: 0
C13: m.č.105 sklad : 2,3 | E13: 2.3 | AG13: VV | AH13: 0
C14: m.č.106 multifunkční prostor : 25,1 | E14: 25.1 | AG14: VV | AH14: 0
C15: m.č.107-108 předsíňka, toaleta : 8,24 | E15: 8.24 | AG15: VV | AH15: 0
C16: II.NP : | AG16: VV | AH16: 0
C17: m.č.212 úklid : 8,59 | E17: 8.59 | AG17: VV | AH17: 0
C18: m.č.213 archiv : 18,31 | E18: 18.31 | AG18: VV | AH18: 0
C19: stěny : | AG19: VV | AH19: 0
C20: I.NP : | AG20: VV | AH20: 0
C21: m.č.101 vstup : 2,54*2,4*2 | E21: 12.192 | AG21: VV | AH21: 0
C22: 1,98*2,4 | E22: 4.752 | AG22: VV | AH22: 0
C23: -1,32*2,25 | E23: -2.97 | AG23: VV | AH23: 0
C24: 4,525*2,65*2 | E24: 23.9825 | AG24: VV | AH24: 0
C25: 0,15*2,5 | E25: 0.375 | AG25: VV | AH25: 0
C26: 0,63*2,4*2 | E26: 3.024 | AG26: VV | AH26: 0
C27: 3,39*3,3 | E27: 11.187 | AG27: VV | AH27: 0
C28: -0,245*0,6 | E28: -0.147 | AG28: VV | AH28: 0
C29: -1,83*3,0 | E29: -5.49 | AG29: VV | AH29: 0
C30: (0,26+0,21)*3,0 | E30: 1.41 | AG30: VV | AH30: 0
C31: 2,16*3,0*2 | E31: 12.96 | AG31: VV | AH31: 0
C32: -0,9*3,07*2 | E32: -5.526 | AG32: VV | AH32: 0
... C77: odpočet za opravy po obkladech : -(17,05+46,39+14,83) | E77: -78.27 | AG77: VV | AH77: 0
C78: II.NP : | AG78: VV | AH78: 0
C79: m.č.201-202 schodiště, hala : 3,675*6,46 | E79: 23.7405 | AG79: VV | AH79: 0
C80: 1,1*5,46*2 | E80: 12.012 | AG80: VV | AH80: 0
C81: 2,9*5,46 | E81: 15.834 | AG81: VV | AH81: 0
C82: -1,48*2,38 | E82: -3.5224 | AG82: VV | AH82: 0
C83: (1,48+2,38+2,38)*0,4 | E83: 2.496 | AG83: VV | AH83: 0
C84: 3,675*4,46 | E84: 16.3905 | AG84: VV | AH84: 0
C85: 0,3*3,45*2 | E85: 2.07 | AG85: VV | AH85: 0
C86: 2,405*0,55*2 | E86: 2.6455 | AG86: VV | AH86: 0
...

Sheet SO 03 004aVCP Pol
A1: Položkový rozpočet | AG1: #TypZaznamu#
A2: S: | B2: 2021-KL | C2: OPRAVA INTERIERU OBECNÍHO ÚŘADU KLENOVICE NA HANÉ | AG2: STA
A3: O: | B3: SO 03 | C3: Stavební objekt | AC3: STA | AG3: OBJ
A4: R: | B4: 004aVCP | C4: Oprava SDK příčky | AG4: ROZ
A6: P.č. | B6: Číslo položky | C6: Název položky | D6: MJ | E6: Množství | F6: Cena / MJ | G6: Celkem | H6: Dodávka | I6: Dodávka celk. | J6: Montáž | K6: Montáž celk. | L6: DPH | M6: Cena s DPH | N6: Hmotnost / MJ | O6: Hmotnost celk.(t) | P6: Dem. hmotnost / MJ | Q6: Dem. hmotnost celk.(t) | R6: Ceník | S6: Cen. soustava / platnost | T6: Cenová úroveň | U6: Nhod / MJ | V6: Nhod celk. | W6: Dodavatel | X6: Typ položky
A8: Díl: | B8: 3 | C8: Svislé a kompletní konstrukce | G8: =SUMIF(AG9:AG13,"<>NOR",G9:G13) -> 28646.73 | I8: =SUM(I9:I13) -> 14783.98 | K8: =SUM(K9:K13) -> 13862.76 | M8: =SUM(M9:M13) -> 34662.543 | O8: =SUM(O9:O13) -> 0.71 | Q8: =SUM(Q9:Q13) -> 0 | V8: =SUM(V9:V13) -> 34.38 | AG8: DIL
A9: 1 | B9: 342261112R00 | C9: Příčka sádrokarton. ocel.kce, 1x oplášť. tl.100 mm | D9: m2 | E9: 28.068 | F9: 1099 | G9: =ROUND(E9*F9,2) -> 30846.73 | H9: 526.72 | I9: =ROUND(E9*H9,2) -> 14783.98 | J9: 572.28 | K9: =ROUND(E9*J9,2) -> 16062.76 | L9: 21 | M9: =G9*(1+L9/100) -> 37324.543 | N9: 0.02542 | O9: =ROUND(E9*N9,2) -> 0.71 | P9: 0 | Q9: =ROUND(E9*P9,2) -> 0 | S9: RTS 22/ I | T9: RTS 21/ II | U9: 1.225 | V9: =ROUND(E9*U9,2) -> 34.38 | X9: Práce | AG9: POL1_
C10: II.NP : 7,3*3,08 | E10: 22.484 | AG10: VV | AH10: 0
C11: 4,2*2,08 | E11: 8.736 | AG11: VV | AH11: 0
C12: -0,8*1,97*2 | E12: -3.152 | AG12: VV | AH12: 0
A13: 2 | B13: 3-NC08 | C13: Oprava SDK kce příčky mezi m.č. 204 a 205 po rozvodech elektroinstalace | D13: kpl | E13: -1 | F13: 2200 | G13: =ROUND(E13*F13,2) -> -2200 | H13: 0 | I13: =ROUND(E13*H13,2) -> 0 | J13: 2200 | K13: =ROUND(E13*J13,2) -> -2200 | L13: 21 | M13: =G13*(1+L13/100) -> -2662 | N13: 0 | O13: =ROUND(E13*N13,2) -> 0 | P13: 0 | Q13: =ROUND(E13*P13,2) -> 0 | S13: Vlastní | T13: Indiv | U13: 0 | V13: =ROUND(E13*U13,2) -> 0 | X13: Práce | AG13: POL1_
A14: Díl: | B14: 96 | C14: Bourání konstrukcí | G14: =SUMIF(AG15:AG18,"<>NOR",G15:G18) -> 3845.32 | I14: =SUM(I15:I18) -> 246.44 | K14: =SUM(K15:K18) -> 3598.88 | M14: =SUM(M15:M18) -> 4652.8372 | O14: =SUM(O15:O18) -> 0.01 | Q14: =SUM(Q15:Q18) -> 0.62 | V14: =SUM(V15:V18) -> 9.12 | AG14: DIL
A15: 3 | B15: 962036112R00 | C15: DMTZ SDK příčky, 1x kov.kce., 1x opláštěné 12,5 mm | D15: m2 | E15: 28.068 | F15: 137 | G15: =ROUND(E15*F15,2) -> 3845.32 | H15: 8.78 | I15: =ROUND(E15*H15,2) -> 246.44 | J15: 128.22 | K15: =ROUND(E15*J15,2) -> 3598.88 | L15: 21 | M15: =G15*(1+L15/100) -> 4652.8372 | N15: 0.00033 | O15: =ROUND(E15*N15,2) -> 0.01 | P15: 0.02198 | Q15: =ROUND(E15*P15,2) -> 0.62 | S15: RTS 22/ I | T15: RTS 21/ II | U15: 0.325 | V15: =ROUND(E15*U15,2) -> 9.12 | X15: Práce | AG15: POL1_
C16: II.NP : 7,3*3,08 | E16: 22.484 | AG16: VV | AH16: 0
C17: 4,2*2,08 | E17: 8.736 | AG17: VV | AH17: 0
C18: -0,8*1,97*2 | E18: -3.152 | AG18: VV | AH18: 0
A19: Díl: | B19: 99 | C19: Staveništní přesun hmot | G19: =SUMIF(AG20:AG20,"<>NOR",G20:G20) -> 639.63 | I19: =SUM(I20:I20) -> 0 | K19: =SUM(K20:K20) -> 639.63 | M19: =SUM(M20:M20) -> 773.9523 | O19: =SUM(O20:O20) -> 0 | Q19: =SUM(Q20:Q20) -> 0 | V19: =SUM(V20:V20) -> 1.52 | AG19: DIL
A20: 4 | B20: 999281145R00 | C20: Přesun hmot pro opravy a údržbu do v. 6 m, nošením | D20: t | E20: 0.72275 | F20: 885 | G20: =ROUND(E20*F20,2) -> 639.63 | H20: 0 | I20: =ROUND(E20*H20,2) -> 0 | J20: 885 | K20: =ROUND(E20*J20,2) -> 639.63 | L20: 21 | M20: =G20*(1+L20/100) -> 773.9523 | N20: 0 | O20: =ROUND(E20*N20,2) -> 0 | P20: 0 | Q20: =ROUND(E20*P20,2) -> 0 | S20: RTS 22/ I | T20: RTS 21/ II | U20: 2.1 | V20: =ROUND(E20*U20,2) -> 1.52 | X20: Přesun hmot | AG20: POL7_
A21: Díl: | B21: D96 | C21: Přesuny suti a vybouraných hmot | G21: =SUMIF(AG22:AG27,"<>NOR",G22:G27) -> 874.92 | I21: =SUM(I22:I27) -> 0 | K21: =SUM(K22:K27) -> 874.92 | M21: =SUM(M22:M27) -> 1058.6532 | O21: =SUM(O22:O27) -> 0 | Q21: =SUM(Q22:Q27) -> 0 | V21: =SUM(V22:V27) -> 1.07 | AG21: DIL
A22: 5 | B22: 979081111R00 | C22: Odvoz suti a vybour. hmot na skládku do 1 km | D22: t | E22: 0.61693 | F22: 234.5 | G22: =ROUND(E22*F22,2) -> 144.67 | H22: 0 | I22: =ROUND(E22*H22,2) -> 0 | J22: 234.5 | K22: =ROUND(E22*J22,2) -> 144.67 | L22: 21 | M22: =G22*(1+L22/100) -> 175.0507 | N22: 0 | O22: =ROUND(E22*N22,2) -> 0 | P22: 0 | Q22: =ROUND(E22*P22,2) -> 0 | S22: RTS 22/ I | T22: RTS 21/ II | U22: 0.49 | V22: =ROUND(E22*U22,2) -> 0.3 | X22: Přesun suti | AG22: POL8_
C23: Včetně naložení na dopravní prostředek a složení na skládku, bez poplatku za skládku. | AG23: POP
A24: 6 | B24: 979081121R00 | C24: Příplatek k odvozu za každý další 1 km | D24: t | E24: 7.40322 | F24: 16 | G24: =ROUND(E24*F24,2) -> 118.45 | H24: 0 | I24: =ROUND(E24*H24,2) -> 0 | J24: 16 | K24: =ROUND(E24*J24,2) -> 118.45 | L24: 21 | M24: =G24*(1+L24/100) -> 143.3245 | N24: 0 | O24: =ROUND(E24*N24,2) -> 0 | P24: 0 | Q24: =ROUND(E24*P24,2) -> 0 | S24: RTS 22/ I | T24: RTS 21/ II | U24: 0 | V24: =ROUND(E24*U24,2) -> 0 | X24: Přesun suti | AG24: POL8_
A25: 7 | B25: 979082111R00 | C25: Vnitrostaveništní doprava suti do 10 m | D25: t | E25: 0.61693 | F25: 331 | G25: =ROUND(E25*F25,2) -> 204.2 | H25: 0 | I25: =ROUND(E25*H25,2) -> 0 | J25: 331 | K25: =ROUND(E25*J25,2) -> 204.2 | L25: 21 | M25: =G25*(1+L25/100) -> 247.082 | N25: 0 | O25: =ROUND(E25*N25,2) -> 0 | P25: 0 | Q25: =ROUND(E25*P25,2) -> 0 | S25: RTS 22/ I | T25: RTS 21/ II | U25: 0.942 | V25: =ROUND(E25*U25,2) -> 0.58 | X25: Přesun suti | AG25: POL8_
A26: 8 | B26: 979082121R00 | C26: Příplatek k vnitrost. dopravě suti za dalších 5 m | D26: t | E26: 1.8508 | F26: 36.9 | G26: =ROUND(E26*F26,2) -> 68.29 | H26: 0 | I26: =ROUND(E26*H26,2) -> 0 | J26: 36.9 | K26: =ROUND(E26*J26,2) -> 68.29 | L26: 21 | M26: =G26*(1+L26/100) -> 82.6309 | N26: 0 | O26: =ROUND(E26*N26,2) -> 0 | P26: 0 | Q26: =ROUND(E26*P26,2) -> 0 | S26: RTS 22/ I | T26: RTS 21/ II | U26: 0.105 | V26: =ROUND(E26*U26,2) -> 0.19 | X26: Přesun suti | AG26: POL8_
A27: 9 | B27: 9799901NC01 | C27: Poplatek za sklád.suti | D27: t | E27: 0.61693 | F27: 550 | G27: =ROUND(E27*F27,2) -> 339.31 | H27: 0 | I27: =ROUND(E27*H27,2) -> 0 | J27: 550 | K27: =ROUND(E27*J27,2) -> 339.31 | L27: 21 | M27: =G27*(1+L27/100) -> 410.5651 | N27: 0 | O27: =ROUND(E27*N27,2) -> 0 | P27: 0 | Q27: =ROUND(E27*P27,2) -> 0 | S27: Vlastní | T27: Indiv | U27: 0 | V27: =ROUND(E27*U27,2) -> 0 | X27: Přesun suti | AG27: POL8_
AE28: 15 | AF28: 21 | AG28: DPH
B29: Celkem | G29: =G8+G14+G19+G21 -> 34006.6 | AE29: =SUMIF(L7:L27,AE28,G7:G27) -> 0 | AF29: =SUMIF(L7:L27,AF28,G7:G27) -> 34006.6 | AG29: SUM
A32: Poznámky uchazeče k zadání
AG33: POPUZIV
AG39: END

Sheet SO 03 005aVCP Pol
A1: Položkový rozpočet | AG1: #TypZaznamu#
A2: S: | B2: 2021-KL | C2: OPRAVA INTERIERU OBECNÍHO ÚŘADU KLENOVICE NA HANÉ | AG2: STA
A3: O: | B3: SO 03 | C3: Stavební objekt | AC3: STA | AG3: OBJ
A4: R: | B4: 005aVCP | C4: Injektáž zdiva | AG4: ROZ
A6: P.č. | B6: Číslo položky | C6: Název položky | D6: MJ | E6: Množství | F6: Cena / MJ | G6: Celkem | H6: Dodávka | I6: Dodávka celk. | J6: Montáž | K6: Montáž celk. | L6: DPH | M6: Cena s DPH | N6: Hmotnost / MJ | O6: Hmotnost celk.(t) | P6: Dem. hmotnost / MJ | Q6: Dem. hmotnost celk.(t) | R6: Ceník | S6: Cen. soustava / platnost | T6: Cenová úroveň | U6: Nhod / MJ | V6: Nhod celk. | W6: Dodavatel | X6: Typ položky
A8: Díl: | B8: 2 | C8: Základy a zvláštní zakládání | G8: =SUMIF(AG9:AG13,"<>NOR",G9:G13) -> 70239 | I8: =SUM(I9:I13) -> 55787.87 | K8: =SUM(K9:K13) -> 14451.13 | M8: =SUM(M9:M13) -> 84989.19 | O8: =SUM(O9:O13) -> 0.02 | Q8: =SUM(Q9:Q13) -> 0 | V8: =SUM(V9:V13) -> 22.26 | AG8: DIL
A9: 1 | B9: 281606213R00 | C9: Nízkotlaká injektáž cihelného zdiva tl. do 80 cm | D9: m | E9: 21.4 | F9: 3185 | G9: =ROUND(E9*F9,2) -> 68159 | H9: 2606.91 | I9: =ROUND(E9*H9,2) -> 55787.87 | J9: 578.09 | K9: =ROUND(E9*J9,2) -> 12371.13 | L9: 21 | M9: =G9*(1+L9/100) -> 82472.39 | N9: 0.00106 | O9: =ROUND(E9*N9,2) -> 0.02 | P9: 0 | Q9: =ROUND(E9*P9,2) -> 0 | S9: RTS 22/ I | T9: RTS 21/ II | U9: 1.03999 | V9: =ROUND(E9*U9,2) -> 22.26 | X9: Práce | AG9: POL1_
C10: Vyvrtání otvorů (10 ks/m zdi), vyčištění vrtu od hrubých nečistot, osazení pakrů,nízkotlaká injektáž do 10 bar ( spotřeba 1,33 l látky/m2 půdorysné plochy zdiva, ředí se vodou 1:10), dodávka injektážní silikonové mikroemulze. Aplikce injektážním zařízením. | AG10: POP | BA10: =C10 -> Vyvrtání otvorů (10 ks/m zdi), vyčištění vrtu od hrubých nečistot, osazení pakrů,nízkotlaká injektáž do 10 bar ( spotřeba 1,33 l látky/m2 půdorysné plochy zdiva, ředí se vodou 1:10), dodávka injektážní silikonové mikroemulze. Aplikce injektážním zařízením.
C11: zdivo u vstupu do budovy : 7,7*2 | E11: 15.4 | AG11: VV | AH11: 0
C12: 3,0*2 | E12: 6 | AG12: VV | AH12: 0
A13: 2 | B13: 2-NC01 | C13: Doprava, úklid pro injektáž zdiva | D13: kpl | E13: 1 | F13: 2080 | G13: =ROUND(E13*F13,2) -> 2080 | H13: 0 | I13: =ROUND(E13*H13,2) -> 0 | J13: 2080 | K13: =ROUND(E13*J13,2) -> 2080 | L13: 21 | M13: =G13*(1+L13/100) -> 2516.8 | N13: 0 | O13: =ROUND(E13*N13,2) -> 0 | P13: 0 | Q13: =ROUND(E13*P13,2) -> 0 | S13: Vlastní | T13: Indiv | U13: 0 | V13: =ROUND(E13*U13,2) -> 0 | X13: Práce | AG13: POL1_
A14: Díl: | B14: 99 | C14: Staveništní přesun hmot | G14: =SUMIF(AG15:AG15,"<>NOR",G15:G15) -> 20.07 | I14: =SUM(I15:I15) -> 0 | K14: =SUM(K15:K15) -> 20.07 | M14: =SUM(M15:M15) -> 24.2847 | O14: =SUM(O15:O15) -> 0 | Q14: =SUM(Q15:Q15) -> 0 | V14: =SUM(V15:V15) -> 0.05 | AG14: DIL
A15: 3 | B15: 999281145R00 | C15: Přesun hmot pro opravy a údržbu do v. 6 m, nošením | D15: t | E15: 0.02268 | F15: 885 | G15: =ROUND(E15*F15,2) -> 20.07 | H15: 0 | I15: =ROUND(E15*H15,2) -> 0 | J15: 885 | K15: =ROUND(E15*J15,2) -> 20.07 | L15: 21 | M15: =G15*(1+L15/100) -> 24.2847 | N15: 0 | O15: =ROUND(E15*N15,2) -> 0 | P15: 0 | Q15: =ROUND(E15*P15,2) -> 0 | S15: RTS 22/ I | T15: RTS 21/ II | U15: 2.1 | V15: =ROUND(E15*U15,2) -> 0.05 | X15: Přesun hmot | AG15: POL7_
AE16: 15 | AF16: 21 | AG16: DPH
B17: Celkem | G17: =G8+G14 -> 70259.07 | AE17: =SUMIF(L7:L15,AE16,G7:G15) -> 0 | AF17: =SUMIF(L7:L15,AF16,G7:G15) -> 70259.07 | AG17: SUM
A20: Poznámky uchazeče k zadání
AG21: POPUZIV
AG27: END

Sheet SO 03 006aVCP Pol
A1: Položkový rozpočet | AG1: #TypZaznamu#
A2: S: | B2: 2021-KL | C2: OPRAVA INTERIERU OBECNÍHO ÚŘADU KLENOVICE NA HANÉ | AG2: STA
A3: O: | B3: SO 03 | C3: Stavební objekt | AC3: STA | AG3: OBJ
A4: R: | B4: 006aVCP | C4: Změna omítek m.č. 101 | AG4: ROZ
A6: P.č. | B6: Číslo položky | C6: Název položky | D6: MJ | E6: Množství | F6: Cena / MJ | G6: Celkem | H6: Dodávka | I6: Dodávka celk. | J6: Montáž | K6: Montáž celk. | L6: DPH | M6: Cena s DPH | N6: Hmotnost / MJ | O6: Hmotnost celk.(t) | P6: Dem. hmotnost / MJ | Q6: Dem. hmotnost celk.(t) | R6: Ceník | S6: Cen. soustava / platnost | T6: Cenová úroveň | U6: Nhod / MJ | V6: Nhod celk. | W6: Dodavatel | X6: Typ položky
A8: Díl: | B8: 61 | C8: Úpravy povrchů vnitřní | G8: =SUMIF(AG9:AG55,"<>NOR",G9:G55) -> 19830.48 | I8: =SUM(I9:I55) -> 10819.96 | K8: =SUM(K9:K55) -> 9010.53 | M8: =SUM(M9:M55) -> 23994.881 | O8: =SUM(O9:O55) -> 0.47 | Q8: =SUM(Q9:Q55) -> 0 | V8: =SUM(V9:V55) -> 17.15 | AG8: DIL
A9: 1 | B9: 602014144RU3 | C9: Štuk vnitřní i vnější Salith MHF PII ručně 2x nanášený, celková tloušťka vrstvy 4 mm | D9: m2 | E9: -4.6076 | F9: 258 | G9: =ROUND(E9*F9,2) -> -1188.76 | H9: 31.81 | I9: =ROUND(E9*H9,2) -> -146.57 | J9: 226.19 | K9: =ROUND(E9*J9,2) -> -1042.19 | L9: 21 | M9: =G9*(1+L9/100) -> -1438.3996 | N9: 0.0054 | O9: =ROUND(E9*N9,2) -> -0.02 | P9: 0 | Q9: =ROUND(E9*P9,2) -> 0 | S9: RTS 22/ I | T9: RTS 21/ II | U9: 0.472 | V9: =ROUND(E9*U9,2) -> -2.17 | X9: Práce | AG9: POL1_
C10: I.NP : | AG10: VV | AH10: 0
C11: m.č.101 vstup : -2,54*0,24*2 | E11: -1.2192 | AG11: VV | AH11: 0
C12: -1,98*0,24 | E12: -0.4752 | AG12: VV | AH12: 0
C13: 1,32*0,24 | E13: 0.3168 | AG13: VV | AH13: 0
C14: -4,525*0,41 | E14: -1.85525 | AG14: VV | AH14: 0
C15: -0,63*0,41 | E15: -0.2583 | AG15: VV | AH15: 0
C16: -0,245*0,41 | E16: -0.10045 | AG16: VV | AH16: 0
C17: m.č.103 knihovna : -2,54*0,4 | E17: -1.016 | AG17: VV | AH17: 0
A18: 2 | B18: 612421637R00 | C18: Omítka vnitřní zdiva, MVC, štuková | D18: m2 | E18: 2.47725 | F18: 452.5 | G18: =ROUND(E18*F18,2) -> 1120.96 | H18: 46.97 | I18: =ROUND(E18*H18,2) -> 116.36 | J18: 405.53 | K18: =ROUND(E18*J18,2) -> 1004.6 | L18: 21 | M18: =G18*(1+L18/100) -> 1356.3616 | N18: 0.04766 | O18: =ROUND(E18*N18,2) -> 0.12 | P18: 0 | Q18: =ROUND(E18*P18,2) -> 0 | S18: RTS 22/ I | T18: RTS 21/ II | U18: 0.84 | V18: =ROUND(E18*U18,2) -> 2.08 | X18: Práce | AG18: POL1_
C19: I.NP : | AG19: VV | AH19: 0
C20: m.č.101 vstup : | AG20: VV | AH20: 0
C21: 4,525*0,85 | E21: 3.84625 | AG21: VV | AH21: 0
C22: 0,15*0,85 | E22: 0.1275 | AG22: VV | AH22: 0
C23: 0,63*0,85 | E23: 0.5355 | AG23: VV | AH23: 0
C24: m.č.103 knihovna : -2,54*0,8 | E24: -2.032 | AG24: VV | AH24: 0
A25: 3 | B25: 612421331RT2 | C25: Oprava vápen.omítek stěn do 30 % pl. - štukových s použitím suché maltové směsi | D25: m2 | E25: -4.6076 | F25: 230 | G25: =ROUND(E25*F25,2) -> -1059.75 | H25: 60.21 | I25: =ROUND(E25*H25,2) -> -277.42 | J25: 169.79 | K25: =ROUND(E25*J25,2) -> -782.32 | L25: 21 | M25: =G25*(1+L25/100) -> -1282.2975 | N25: 0.01038 | O25: =ROUND(E25*N25,2) -> -0.05 | P25: 0 | Q25: =ROUND(E25*P25,2) -> 0 | S25: RTS 22/ I | T25: RTS 21/ II | U25: 0.33688 | V25: =ROUND(E25*U25,2) -> -1.55 | X25: Práce | AG25: POL1_
C26: Včetně pomocného pracovního lešení o výšce podlahy do 1900 mm a pro zatížení do 1,5 kPa. | AG26: POP
C27: I.NP : | AG27: VV | AH27: 0
C28: m.č.101 vstup : -2,54*0,24*2 | E28: -1.2192 | AG28: VV | AH28: 0
C29: -1,98*0,24 | E29: -0.4752 | AG29: VV | AH29: 0
C30: 1,32*0,24 | E30: 0.3168 | AG30: VV | AH30: 0
C31: -4,525*0,41 | E31: -1.85525 | AG31: VV | AH31: 0
C32: -0,63*0,41 | E32: -0.2583 | AG32: VV | AH32: 0
C33: -0,245*0,41 | E33: -0.10045 | AG33: VV | AH33: 0
C34: m.č.103 knihovna : -2,54*0,4 | E34: -1.016 | AG34: VV | AH34: 0
A35: 4 | B35: 612433214RT3 | C35: Omítka sanační vnitřní, vysoké zasolení, tl.35 mm postřik, podklad, jádrová omítka, štuk; Cemix | D35: m2 | E35: 22.748 | F35: 1150 | G35: =ROUND(E35*F35,2) -> 26160.2 | H35: 523.66 | I35: =ROUND(E35*H35,2) -> 11912.22 | J35: 626.34 | K35: =ROUND(E35*J35,2) -> 14247.98 | L35: 21 | M35: =G35*(1+L35/100) -> 31653.842 | N35: 0.04894 | O35: =ROUND(E35*N35,2) -> 1.11 | P35: 0 | Q35: =ROUND(E35*P35,2) -> 0 | S35: RTS 22/ I | T35: RTS 21/ II | U35: 1.22955 | V35: =ROUND(E35*U35,2) -> 27.97 | X35: Práce | AG35: POL1_
C36: I.NP : | AG36: VV | AH36: 0
C37: m.č.101 vstup : 2,54*1,4*2 | E37: 7.112 | AG37: VV | AH37: 0
C38: 1,98*1,4 | E38: 2.772 | AG38: VV | AH38: 0
C39: -1,32*1,4 | E39: -1.848 | AG39: VV | AH39: 0
C40: 4,525*1,26 | E40: 5.7015 | AG40: VV | AH40: 0
C41: 0,245*1,26 | E41: 0.3087 | AG41: VV | AH41: 0
C42: 0,63*1,26 | E42: 0.7938 | AG42: VV | AH42: 0
...

Sheet SO 03 007aVCP Pol
A1: Položkový rozpočet | AG1: #TypZaznamu#
A2: S: | B2: 2021-KL | C2: OPRAVA INTERIERU OBECNÍHO ÚŘADU KLENOVICE NA HANÉ | AG2: STA
A3: O: | B3: SO 03 | C3: Stavební objekt | AC3: STA | AG3: OBJ
A4: R: | B4: 007aVCP | C4: Změna dispozice m.č. 105 | AG4: ROZ
A6: P.č. | B6: Číslo položky | C6: Název položky | D6: MJ | E6: Množství | F6: Cena / MJ | G6: Celkem | H6: Dodávka | I6: Dodávka celk. | J6: Montáž | K6: Montáž celk. | L6: DPH | M6: Cena s DPH | N6: Hmotnost / MJ | O6: Hmotnost celk.(t) | P6: Dem. hmotnost / MJ | Q6: Dem. hmotnost celk.(t) | R6: Ceník | S6: Cen. soustava / platnost | T6: Cenová úroveň | U6: Nhod / MJ | V6: Nhod celk. | W6: Dodavatel | X6: Typ položky
A8: Díl: | B8: 61 | C8: Úpravy povrchů vnitřní | G8: =SUMIF(AG9:AG29,"<>NOR",G9:G29) -> -6837.45 | I8: =SUM(I9:I29) -> -1979.3 | K8: =SUM(K9:K29) -> -4858.15 | M8: =SUM(M9:M29) -> -8273.3145 | O8: =SUM(O9:O29) -> 0.39 | Q8: =SUM(Q9:Q29) -> 0 | V8: =SUM(V9:V29) -> -9.74 | AG8: DIL
A9: 1 | B9: 601014144RT1 | C9: Štuk na stropech Salith MHF PII ručně tloušťka vrstvy 2 mm | D9: m2 | E9: -2.3 | F9: 175.5 | G9: =ROUND(E9*F9,2) -> -403.65 | H9: 28.54 | I9: =ROUND(E9*H9,2) -> -65.64 | J9: 146.96 | K9: =ROUND(E9*J9,2) -> -338.01 | L9: 21 | M9: =G9*(1+L9/100) -> -488.4165 | N9: 0.00328 | O9: =ROUND(E9*N9,2) -> -0.01 | P9: 0 | Q9: =ROUND(E9*P9,2) -> 0 | S9: RTS 22/ I | T9: RTS 21/ II | U9: 0.31 | V9: =ROUND(E9*U9,2) -> -0.71 | X9: Práce | AG9: POL1_
C10: Včetně pomocného lešení. | AG10: POP
C11: I.NP : | AG11: VV | AH11: 0
C12: m.č.105 sklad : -2,3 | E12: -2.3 | AG12: VV | AH12: 0
A13: 2 | B13: 602014144RU3 | C13: Štuk vnitřní i vnější Salith MHF PII ručně 2x nanášený, celková tloušťka vrstvy 4 mm | D13: m2 | E13: -30.118 | F13: 258 | G13: =ROUND(E13*F13,2) -> -7770.44 | H13: 31.81 | I13: =ROUND(E13*H13,2) -> -958.05 | J13: 226.19 | K13: =ROUND(E13*J13,2) -> -6812.39 | L13: 21 | M13: =G13*(1+L13/100) -> -9402.2324 | N13: 0.0054 | O13: =ROUND(E13*N13,2) -> -0.16 | P13: 0 | Q13: =ROUND(E13*P13,2) -> 0 | S13: RTS 22/ I | T13: RTS 21/ II | U13: 0.472 | V13: =ROUND(E13*U13,2) -> -14.22 | X13: Práce | AG13: POL1_
C14: I.NP : | AG14: VV | AH14: 0
C15: m.č.105 sklad : -1,4*3,75*2 | E15: -10.5 | AG15: VV | AH15: 0
C16: -2,07*3,75*2 | E16: -15.525 | AG16: VV | AH16: 0
C17: 0,8*1,97 | E17: 1.576 | AG17: VV | AH17: 0
C18: m.č. 102 chodba : -(2,07*3,5)+(0,8*1,97) | E18: -5.669 | AG18: VV | AH18: 0
A19: 3 | B19: 612421637R00 | C19: Omítka vnitřní zdiva, MVC, štuková | D19: m2 | E19: 18.2625 | F19: 452.5 | G19: =ROUND(E19*F19,2) -> 8263.78 | H19: 46.97 | I19: =ROUND(E19*H19,2) -> 857.79 | J19: 405.53 | K19: =ROUND(E19*J19,2) -> 7405.99 | L19: 21 | M19: =G19*(1+L19/100) -> 9999.1738 | N19: 0.04766 | O19: =ROUND(E19*N19,2) -> 0.87 | P19: 0 | Q19: =ROUND(E19*P19,2) -> 0 | S19: RTS 22/ I | T19: RTS 21/ II | U19: 0.84 | V19: =ROUND(E19*U19,2) -> 15.34 | X19: Práce | AG19: POL1_
C20: I.NP : | AG20: VV | AH20: 0
C21: m.č.105 sklad : 1,4*3,75*2 | E21: 10.5 | AG21: VV | AH21: 0
C22: 2,07*3,75 | E22: 7.7625 | AG22: VV | AH22: 0
A23: 4 | B23: 612421331RT2 | C23: Oprava vápen.omítek stěn do 30 % pl. - štukových s použitím suché maltové směsi | D23: m2 | E23: -30.118 | F23: 230 | G23: =ROUND(E23*F23,2) -> -6927.14 | H23: 60.21 | I23: =ROUND(E23*H23,2) -> -1813.4 | J23: 169.79 | K23: =ROUND(E23*J23,2) -> -5113.74 | L23: 21 | M23: =G23*(1+L23/100) -> -8381.8394 | N23: 0.01038 | O23: =ROUND(E23*N23,2) -> -0.31 | P23: 0 | Q23: =ROUND(E23*P23,2) -> 0 | S23: RTS 22/ I | T23: RTS 21/ II | U23: 0.33688 | V23: =ROUND(E23*U23,2) -> -10.15 | X23: Práce | AG23: POL1_
C24: Včetně pomocného pracovního lešení o výšce podlahy do 1900 mm a pro zatížení do 1,5 kPa. | AG24: POP
C25: I.NP : | AG25: VV | AH25: 0
C26: m.č.105 sklad : -1,4*3,75*2 | E26: -10.5 | AG26: VV | AH26: 0
C27: -2,07*3,75*2 | E27: -15.525 | AG27: VV | AH27: 0
C28: 0,8*1,97 | E28: 1.576 | AG28: VV | AH28: 0
C29: m.č. 102 chodba : -(2,07*3,5)+(0,8*1,97) | E29: -5.669 | AG29: VV | AH29: 0
A30: Díl: | B30: 96 | C30: Bourání konstrukcí | G30: =SUMIF(AG31:AG34,"<>NOR",G31:G34) -> 1667.37 | I30: =SUM(I31:I34) -> 0 | K30: =SUM(K31:K34) -> 1667.37 | M30: =SUM(M31:M34) -> 2017.5177 | O30: =SUM(O31:O34) -> 0 | Q30: =SUM(Q31:Q34) -> 0.84 | V30: =SUM(V31:V34) -> 4.75 | AG30: DIL
A31: 5 | B31: 978013191R00 | C31: Otlučení omítek vnitřních stěn v rozsahu do 100 % | D31: m2 | E31: 18.2625 | F31: 91.3 | G31: =ROUND(E31*F31,2) -> 1667.37 | H31: 0 | I31: =ROUND(E31*H31,2) -> 0 | J31: 91.3 | K31: =ROUND(E31*J31,2) -> 1667.37 | L31: 21 | M31: =G31*(1+L31/100) -> 2017.5177 | N31: 0 | O31: =ROUND(E31*N31,2) -> 0 | P31: 0.046 | Q31: =ROUND(E31*P31,2) -> 0.84 | S31: RTS 22/ I | T31: RTS 21/ II | U31: 0.26 | V31: =ROUND(E31*U31,2) -> 4.75 | X31: Práce | AG31: POL1_
C32: I.NP : | AG32: VV | AH32: 0
C33: m.č.105 sklad : 1,4*3,75*2 | E33: 10.5 | AG33: VV | AH33: 0
C34: 2,07*3,75 | E34: 7.7625 | AG34: VV | AH34: 0
A35: Díl: | B35: 99 | C35: Staveništní přesun hmot | G35: =SUMIF(AG36:AG36,"<>NOR",G36:G36) -> 343.01 | I35: =SUM(I36:I36) -> 0 | K35: =SUM(K36:K36) -> 343.01 | M35: =SUM(M36:M36) -> 415.0421 | O35: =SUM(O36:O36) -> 0 | Q35: =SUM(Q36:Q36) -> 0 | V35: =SUM(V36:V36) -> 0.81 | AG35: DIL
A36: 6 | B36: 999281145R00 | C36: Přesun hmot pro opravy a údržbu do v. 6 m, nošením | D36: t | E36: 0.38758 | F36: 885 | G36: =ROUND(E36*F36,2) -> 343.01 | H36: 0 | I36: =ROUND(E36*H36,2) -> 0 | J36: 885 | K36: =ROUND(E36*J36,2) -> 343.01 | L36: 21 | M36: =G36*(1+L36/100) -> 415.0421 | N36: 0 | O36: =ROUND(E36*N36,2) -> 0 | P36: 0 | Q36: =ROUND(E36*P36,2) -> 0 | S36: RTS 22/ I | T36: RTS 21/ II | U36: 2.1 | V36: =ROUND(E36*U36,2) -> 0.81 | X36: Přesun hmot | AG36: POL7_
A37: Díl: | B37: 766 | C37: Konstrukce truhlářské | G37: =SUMIF(AG38:AG48,"<>NOR",G38:G48) -> -11419.16 | I37: =SUM(I38:I48) -> -8975 | K37: =SUM(K38:K48) -> -2444.16 | M37: =SUM(M38:M48) -> -13817.184 | O37: =SUM(O38:O48) -> -0.04 | Q37: =SUM(Q38:Q48) -> 0 | V37: =SUM(V38:V48) -> -4.8 | AG37: DIL
A38: 7 | B38: 766670011R00 | C38: Montáž obložkové zárubně a dřevěného křídla dveří | D38: kus | E38: -1 | F38: 2010 | G38: =ROUND(E38*F38,2) -> -2010 | H38: 75 | I38: =ROUND(E38*H38,2) -> -75 | J38: 1935 | K38: =ROUND(E38*J38,2) -> -1935 | L38: 21 | M38: =G38*(1+L38/100) -> -2432.1 | N38: 2e-05 | O38: =ROUND(E38*N38,2) -> 0 | P38: 0 | Q38: =ROUND(E38*P38,2) -> 0 | S38: RTS 22/ I | T38: RTS 21/ II | U38: 4.02 | V38: =ROUND(E38*U38,2) -> -4.02 | X38: Práce | AG38: POL1_
C39: D5 : -1 | E39: -1 | AG39: VV | AH39: 0
A40: 8 | B40: 766670021R00 | C40: Montáž kliky a štítku | D40: kus | E40: -1 | F40: 390.5 | G40: =ROUND(E40*F40,2) -> -390.5 | H40: 0 | I40: =ROUND(E40*H40,2) -> 0 | J40: 390.5 | K40: =ROUND(E40*J40,2) -> -390.5 | L40: 21 | M40: =G40*(1+L40/100) -> -472.505 | N40: 0 | O40: =ROUND(E40*N40,2) -> 0 | P40: 0 | Q40: =ROUND(E40*P40,2) -> 0 | S40: RTS 22/ I | T40: RTS 21/ II | U40: 0.775 | V40: =ROUND(E40*U40,2) -> -0.78 | X40: Práce | AG40: POL1_
A41: 9 | B41: 549146NC01 | C41: Dveřní kování např. Rostex Torino | D41: kus | E41: -1 | F41: 1000 | G41: =ROUND(E41*F41,2) -> -1000 | H41: 1000 | I41: =ROUND(E41*H41,2) -> -1000 | J41: 0 | K41: =ROUND(E41*J41,2) -> 0 | L41: 21 | M41: =G41*(1+L41/100) -> -1210 | N41: 0.0008 | O41: =ROUND(E41*N41,2) -> 0 | P41: 0 | Q41: =ROUND(E41*P41,2) -> 0 | S41: Vlastní | T41: Indiv | U41: 0 | V41: =ROUND(E41*U41,2) -> 0 | X41: Specifikace | AG41: POL3_
C42: I.NP : | AG42: VV | AH42: 0
...

Sheet SO 03 008aVCP Pol
A1: Položkový rozpočet | AG1: #TypZaznamu#
A2: S: | B2: 2021-KL | C2: OPRAVA INTERIERU OBECNÍHO ÚŘADU KLENOVICE NA HANÉ | AG2: STA
A3: O: | B3: SO 03 | C3: Stavební objekt | AC3: STA | AG3: OBJ
A4: R: | B4: 008aVCP | C4: Změna příčky m.č. 102 | AG4: ROZ
A6: P.č. | B6: Číslo položky | C6: Název položky | D6: MJ | E6: Množství | F6: Cena / MJ | G6: Celkem | H6: Dodávka | I6: Dodávka celk. | J6: Montáž | K6: Montáž celk. | L6: DPH | M6: Cena s DPH | N6: Hmotnost / MJ | O6: Hmotnost celk.(t) | P6: Dem. hmotnost / MJ | Q6: Dem. hmotnost celk.(t) | R6: Ceník | S6: Cen. soustava / platnost | T6: Cenová úroveň | U6: Nhod / MJ | V6: Nhod celk. | W6: Dodavatel | X6: Typ položky
A8: Díl: | B8: 3 | C8: Svislé a kompletní konstrukce | G8: =SUMIF(AG9:AG13,"<>NOR",G9:G13) -> -5455.05 | I8: =SUM(I9:I13) -> -4032.45 | K8: =SUM(K9:K13) -> -1422.6 | M8: =SUM(M9:M13) -> -6600.6105 | O8: =SUM(O9:O13) -> -0.6 | Q8: =SUM(Q9:Q13) -> 0 | V8: =SUM(V9:V13) -> -2.97 | AG8: DIL
A9: 1 | B9: 342255028R00 | C9: Příčky z desek Ytong tl. 15 cm | D9: m2 | E9: -5.3586 | F9: 1018 | G9: =ROUND(E9*F9,2) -> -5455.05 | H9: 752.52 | I9: =ROUND(E9*H9,2) -> -4032.45 | J9: 265.48 | K9: =ROUND(E9*J9,2) -> -1422.6 | L9: 21 | M9: =G9*(1+L9/100) -> -6600.6105 | N9: 0.11219 | O9: =ROUND(E9*N9,2) -> -0.6 | P9: 0 | Q9: =ROUND(E9*P9,2) -> 0 | S9: RTS 22/ I | T9: RTS 21/ II | U9: 0.55489 | V9: =ROUND(E9*U9,2) -> -2.97 | X9: Práce | AG9: POL1_
C10: I.NP : | AG10: VV | AH10: 0
C11: m.č.101 vstup : | AG11: VV | AH11: 0
C12: -2,16*3,76 | E12: -8.1216 | AG12: VV | AH12: 0
C13: 0,9*3,07 | E13: 2.763 | AG13: VV | AH13: 0
A14: Díl: | B14: 61 | C14: Úpravy povrchů vnitřní | G14: =SUMIF(AG15:AG19,"<>NOR",G15:G19) -> -2765.04 | I14: =SUM(I15:I19) -> -340.91 | K14: =SUM(K15:K19) -> -2424.12 | M14: =SUM(M15:M19) -> -3345.6984 | O14: =SUM(O15:O19) -> -0.06 | Q14: =SUM(Q15:Q19) -> 0 | V14: =SUM(V15:V19) -> -5.06 | AG14: DIL
A15: 2 | B15: 602014144RU3 | C15: Štuk vnitřní i vnější Salith MHF PII ručně 2x nanášený, celková tloušťka vrstvy 4 mm | D15: m2 | E15: -10.7172 | F15: 258 | G15: =ROUND(E15*F15,2) -> -2765.04 | H15: 31.81 | I15: =ROUND(E15*H15,2) -> -340.91 | J15: 226.19 | K15: =ROUND(E15*J15,2) -> -2424.12 | L15: 21 | M15: =G15*(1+L15/100) -> -3345.6984 | N15: 0.0054 | O15: =ROUND(E15*N15,2) -> -0.06 | P15: 0 | Q15: =ROUND(E15*P15,2) -> 0 | S15: RTS 22/ I | T15: RTS 21/ II | U15: 0.472 | V15: =ROUND(E15*U15,2) -> -5.06 | X15: Práce | AG15: POL1_
C16: I.NP : | AG16: VV | AH16: 0
C17: m.č.101 vstup : | AG17: VV | AH17: 0
C18: -2,16*3,76*2 | E18: -16.2432 | AG18: VV | AH18: 0
C19: 0,9*3,07*2 | E19: 5.526 | AG19: VV | AH19: 0
A20: Díl: | B20: 99 | C20: Staveništní přesun hmot | G20: =SUMIF(AG21:AG21,"<>NOR",G21:G21) -> -583.26 | I20: =SUM(I21:I21) -> 0 | K20: =SUM(K21:K21) -> -583.26 | M20: =SUM(M21:M21) -> -705.7446 | O20: =SUM(O21:O21) -> 0 | Q20: =SUM(Q21:Q21) -> 0 | V20: =SUM(V21:V21) -> -1.38 | AG20: DIL
A21: 3 | B21: 999281145R00 | C21: Přesun hmot pro opravy a údržbu do v. 6 m, nošením | D21: t | E21: -0.65905 | F21: 885 | G21: =ROUND(E21*F21,2) -> -583.26 | H21: 0 | I21: =ROUND(E21*H21,2) -> 0 | J21: 885 | K21: =ROUND(E21*J21,2) -> -583.26 | L21: 21 | M21: =G21*(1+L21/100) -> -705.7446 | N21: 0 | O21: =ROUND(E21*N21,2) -> 0 | P21: 0 | Q21: =ROUND(E21*P21,2) -> 0 | S21: RTS 22/ I | T21: RTS 21/ II | U21: 2.1 | V21: =ROUND(E21*U21,2) -> -1.38 | X21: Přesun hmot | AG21: POL7_
A22: Díl: | B22: 771 | C22: Podlahy z dlaždic a obklady | G22: =SUMIF(AG23:AG36,"<>NOR",G23:G36) -> 110.92 | I22: =SUM(I23:I36) -> 21.39 | K22: =SUM(K23:K36) -> 89.53 | M22: =SUM(M23:M36) -> 134.2132 | O22: =SUM(O23:O36) -> 0 | Q22: =SUM(Q23:Q36) -> 0 | V22: =SUM(V23:V36) -> 0.12 | AG22: DIL
A23: 4 | B23: 771101210R00 | C23: Penetrace podkladu pod dlažby | D23: m2 | E23: 0.3225 | F23: 50.1 | G23: =ROUND(E23*F23,2) -> 16.16 | H23: 24.89 | I23: =ROUND(E23*H23,2) -> 8.03 | J23: 25.21 | K23: =ROUND(E23*J23,2) -> 8.13 | L23: 21 | M23: =G23*(1+L23/100) -> 19.5536 | N23: 0.00021 | O23: =ROUND(E23*N23,2) -> 0 | P23: 0 | Q23: =ROUND(E23*P23,2) -> 0 | S23: RTS 22/ I | T23: RTS 21/ II | U23: 0.05 | V23: =ROUND(E23*U23,2) -> 0.02 | X23: Práce | AG23: POL1_
C24: 2,15*0,15 | E24: 0.3225 | AG24: VV | AH24: 0
A25: 5 | B25: 771475014R00 | C25: Obklad soklíků keram.rovných, tmel,výška 10 cm | D25: m | E25: -2.2 | F25: 129.5 | G25: =ROUND(E25*F25,2) -> -284.9 | H25: 10.55 | I25: =ROUND(E25*H25,2) -> -23.21 | J25: 118.95 | K25: =ROUND(E25*J25,2) -> -261.69 | L25: 21 | M25: =G25*(1+L25/100) -> -344.729 | N25: 0.00032 | O25: =ROUND(E25*N25,2) -> 0 | P25: 0 | Q25: =ROUND(E25*P25,2) -> 0 | S25: RTS 22/ I | T25: RTS 21/ II | U25: 0.236 | V25: =ROUND(E25*U25,2) -> -0.52 | X25: Práce | AG25: POL1_
C26: -2,15*2 | E26: -4.3 | AG26: VV | AH26: 0
C27: 0,9*2 | E27: 1.8 | AG27: VV | AH27: 0
C28: 0,15*2 | E28: 0.3 | AG28: VV | AH28: 0
A29: 6 | B29: 771479001R00 | C29: Řezání dlaždic keramických pro soklíky | D29: m | E29: 2.2 | F29: 94.1 | G29: =ROUND(E29*F29,2) -> 207.02 | H29: 5.42 | I29: =ROUND(E29*H29,2) -> 11.92 | J29: 88.68 | K29: =ROUND(E29*J29,2) -> 195.1 | L29: 21 | M29: =G29*(1+L29/100) -> 250.4942 | N29: 0 | O29: =ROUND(E29*N29,2) -> 0 | P29: 0 | Q29: =ROUND(E29*P29,2) -> 0 | S29: RTS 22/ I | T29: RTS 21/ II | U29: 0.154 | V29: =ROUND(E29*U29,2) -> 0.34 | X29: Práce | AG29: POL1_
A30: 7 | B30: 771575118R00 | C30: Montáž podlah keram.,hladké, tmel, 60x60 cm | D30: m2 | E30: 0.3225 | F30: 831 | G30: =ROUND(E30*F30,2) -> 268 | H30: 151.75 | I30: =ROUND(E30*H30,2) -> 48.94 | J30: 679.25 | K30: =ROUND(E30*J30,2) -> 219.06 | L30: 21 | M30: =G30*(1+L30/100) -> 324.28 | N30: 0.00693 | O30: =ROUND(E30*N30,2) -> 0 | P30: 0 | Q30: =ROUND(E30*P30,2) -> 0 | S30: RTS 22/ I | T30: RTS 21/ II | U30: 1.3466 | V30: =ROUND(E30*U30,2) -> 0.43 | X30: Práce | AG30: POL1_
A31: 8 | B31: 771578011R00 | C31: Spára podlaha - stěna, silikonem | D31: m | E31: -2.2 | F31: 57.1 | G31: =ROUND(E31*F31,2) -> -125.62 | H31: 21.81 | I31: =ROUND(E31*H31,2) -> -47.98 | J31: 35.29 | K31: =ROUND(E31*J31,2) -> -77.64 | L31: 21 | M31: =G31*(1+L31/100) -> -152.0002 | N31: 4e-05 | O31: =ROUND(E31*N31,2) -> 0 | P31: 0 | Q31: =ROUND(E31*P31,2) -> 0 | S31: RTS 22/ I | T31: RTS 21/ II | U31: 0.07 | V31: =ROUND(E31*U31,2) -> -0.15 | X31: Práce | AG31: POL1_
C32: vč. dodávky a montáže silikonu. | AG32: POP
A33: 9 | B33: 771-mat 02 | C33: Dlažba LA FUTURA BALTICO TAUPE 600x600 mm dodávka dlažby | D33: m2 | E33: 0.04015 | F33: 590 | G33: =ROUND(E33*F33,2) -> 23.69 | H33: 590 | I33: =ROUND(E33*H33,2) -> 23.69 | J33: 0 | K33: =ROUND(E33*J33,2) -> 0 | L33: 21 | M33: =G33*(1+L33/100) -> 28.6649 | N33: 0 | O33: =ROUND(E33*N33,2) -> 0 | P33: 0 | Q33: =ROUND(E33*P33,2) -> 0 | S33: Vlastní | T33: Indiv | U33: 0 | V33: =ROUND(E33*U33,2) -> 0 | X33: Specifikace | AG33: POL3_
C34: 0,3225*1,1 | E34: 0.35475 | AG34: VV | AH34: 0
C35: -2,2*0,10*1,3*1,1 | E35: -0.3146 | AG35: VV | AH35: 0
A36: 10 | B36: 998771201R00 | C36: Přesun hmot pro podlahy z dlaždic, výšky do 6 m | D36: % | E36: 1.0435 | F36: 6.3 | G36: =ROUND(E36*F36,2) -> 6.57 | H36: 0 | I36: =ROUND(E36*H36,2) -> 0 | J36: 6.3 | K36: =ROUND(E36*J36,2) -> 6.57 | L36: 21 | M36: =G36*(1+L36/100) -> 7.9497 | N36: 0 | O36: =ROUND(E36*N36,2) -> 0 | P36: 0 | Q36: =ROUND(E36*P36,2) -> 0 | S36: RTS 22/ I | T36: RTS 21/ II | U36: 0 | V36: =ROUND(E36*U36,2) -> 0 | X36: Přesun hmot | AG36: POL7_
AE37: 15 | AF37: 21 | AG37: DPH
B38: Celkem | G38: =G8+G14+G20+G22 -> -8692.43 | AE38: =SUMIF(L7:L36,AE37,G7:G36) -> 0 | AF38: =SUMIF(L7:L36,AF37,G7:G36) -> -8692.43 | AG38: SUM
A41: Poznámky uchazeče k zadání
AG42: POPUZIV
AG48: END

Sheet SO 03 009aVCP Pol
A1: Položkový rozpočet | AG1: #TypZaznamu#
A2: S: | B2: 2021-KL | C2: OPRAVA INTERIERU OBECNÍHO ÚŘADU KLENOVICE NA HANÉ | AG2: STA
A3: O: | B3: SO 03 | C3: Stavební objekt | AC3: STA | AG3: OBJ
A4: R: | B4: 009aVCP | C4: Doplnění SDK stropů | AG4: ROZ
A6: P.č. | B6: Číslo položky | C6: Název položky | D6: MJ | E6: Množství | F6: Cena / MJ | G6: Celkem | H6: Dodávka | I6: Dodávka celk. | J6: Montáž | K6: Montáž celk. | L6: DPH | M6: Cena s DPH | N6: Hmotnost / MJ | O6: Hmotnost celk.(t) | P6: Dem. hmotnost / MJ | Q6: Dem. hmotnost celk.(t) | R6: Ceník | S6: Cen. soustava / platnost | T6: Cenová úroveň | U6: Nhod / MJ | V6: Nhod celk. | W6: Dodavatel | X6: Typ položky
A8: Díl: | B8: 3 | C8: Svislé a kompletní konstrukce | G8: =SUMIF(AG9:AG15,"<>NOR",G9:G15) -> 43548.6 | I8: =SUM(I9:I15) -> 17045.31 | K8: =SUM(K9:K15) -> 26503.29 | M8: =SUM(M9:M15) -> 52693.806 | O8: =SUM(O9:O15) -> 0.66 | Q8: =SUM(Q9:Q15) -> 0 | V8: =SUM(V9:V15) -> 54.9 | AG8: DIL
A9: 1 | B9: 342264051RT1 | C9: Podhled sádrokartonový na zavěšenou ocel. konstr. desky standard tl. 12,5 mm, bez izolace | D9: m2 | E9: 54.3 | F9: 802 | G9: =ROUND(E9*F9,2) -> 43548.6 | H9: 313.91 | I9: =ROUND(E9*H9,2) -> 17045.31 | J9: 488.09 | K9: =ROUND(E9*J9,2) -> 26503.29 | L9: 21 | M9: =G9*(1+L9/100) -> 52693.806 | N9: 0.01215 | O9: =ROUND(E9*N9,2) -> 0.66 | P9: 0 | Q9: =ROUND(E9*P9,2) -> 0 | S9: RTS 22/ I | T9: RTS 21/ II | U9: 1.011 | V9: =ROUND(E9*U9,2) -> 54.9 | X9: Práce | AG9: POL1_
C10: I.NP : | AG10: VV | AH10: 0
C11: m.č.105 sklad : 2,3 | E11: 2.3 | AG11: VV | AH11: 0
C12: m.č.106 multifunkční prostor : 25,1 | E12: 25.1 | AG12: VV | AH12: 0
C13: II.NP : | AG13: VV | AH13: 0
C14: m.č.212 úklid : 8,59 | E14: 8.59 | AG14: VV | AH14: 0
C15: m.č.213 archiv : 18,31 | E15: 18.31 | AG15: VV | AH15: 0
AE16: 15 | AF16: 21 | AG16: DPH
B17: Celkem | G17: =G8 -> 43548.6 | AE17: =SUMIF(L7:L15,AE16,G7:G15) -> 0 | AF17: =SUMIF(L7:L15,AF16,G7:G15) -> 43548.6 | AG17: SUM
A20: Poznámky uchazeče k zadání
AG21: POPUZIV
AG27: END

Sheet SO 03 010aVCP Pol
A1: Položkový rozpočet | AG1: #TypZaznamu#
A2: S: | B2: 2021-KL | C2: OPRAVA INTERIERU OBECNÍHO ÚŘADU KLENOVICE NA HANÉ | AG2: STA
A3: O: | B3: SO 03 | C3: Stavební objekt | AC3: STA | AG3: OBJ
A4: R: | B4: 010aVCP | C4: Stavební přípomoci pro kanalizaci | AG4: ROZ
A6: P.č. | B6: Číslo položky | C6: Název položky | D6: MJ | E6: Množství | F6: Cena / MJ | G6: Celkem | H6: Dodávka | I6: Dodávka celk. | J6: Montáž | K6: Montáž celk. | L6: DPH | M6: Cena s DPH | N6: Hmotnost / MJ | O6: Hmotnost celk.(t) | P6: Dem. hmotnost / MJ | Q6: Dem. hmotnost celk.(t) | R6: Ceník | S6: Cen. soustava / platnost | T6: Cenová úroveň | U6: Nhod / MJ | V6: Nhod celk. | W6: Dodavatel | X6: Typ položky
A8: Díl: | B8: 1 | C8: Zemní práce | G8: =SUMIF(AG9:AG19,"<>NOR",G9:G19) -> 9250.11 | I8: =SUM(I9:I19) -> 921.47 | K8: =SUM(K9:K19) -> 8328.64 | M8: =SUM(M9:M19) -> 11192.633 | O8: =SUM(O9:O19) -> 3.06 | Q8: =SUM(Q9:Q19) -> 0 | V8: =SUM(V9:V19) -> 17.47 | AG8: DIL
A9: 1 | B9: 139711101RT3 | C9: Vykopávka v uzavřených prostorách v hor.1-4 hornina 3 | D9: m3 | E9: 1.8 | F9: 1717 | G9: =ROUND(E9*F9,2) -> 3090.6 | H9: 0 | I9: =ROUND(E9*H9,2) -> 0 | J9: 1717 | K9: =ROUND(E9*J9,2) -> 3090.6 | L9: 21 | M9: =G9*(1+L9/100) -> 3739.626 | N9: 0 | O9: =ROUND(E9*N9,2) -> 0 | P9: 0 | Q9: =ROUND(E9*P9,2) -> 0 | S9: RTS 22/ I | T9: RTS 21/ II | U9: 4.728 | V9: =ROUND(E9*U9,2) -> 8.51 | X9: Práce | AG9: POL1_
C10: m.č.106 a 107 pro kanalizaci : (4,2+0,8)*0,4*0,4 | E10: 0.8 | AG10: VV | AH10: 0
C11: 1,0*1,0*1,0 | E11: 1 | AG11: VV | AH11: 0
A12: 2 | B12: 162201201R00 | C12: Vodorovné přemíst. výkopku nošením hor.1-4, do 10m | D12: m3 | E12: 1.8 | F12: 335.5 | G12: =ROUND(E12*F12,2) -> 603.9 | H12: 0 | I12: =ROUND(E12*H12,2) -> 0 | J12: 335.5 | K12: =ROUND(E12*J12,2) -> 603.9 | L12: 21 | M12: =G12*(1+L12/100) -> 730.719 | N12: 0 | O12: =ROUND(E12*N12,2) -> 0 | P12: 0 | Q12: =ROUND(E12*P12,2) -> 0 | S12: RTS 22/ I | T12: RTS 21/ II | U12: 0.868 | V12: =ROUND(E12*U12,2) -> 1.56 | X12: Práce | AG12: POL1_
A13: 3 | B13: 162201209R00 | C13: Příplatek za dalších 10 m nošení výkopku z hor.1-4 | D13: m3 | E13: 3.6 | F13: 305.5 | G13: =ROUND(E13*F13,2) -> 1099.8 | H13: 0 | I13: =ROUND(E13*H13,2) -> 0 | J13: 305.5 | K13: =ROUND(E13*J13,2) -> 1099.8 | L13: 21 | M13: =G13*(1+L13/100) -> 1330.758 | N13: 0 | O13: =ROUND(E13*N13,2) -> 0 | P13: 0 | Q13: =ROUND(E13*P13,2) -> 0 | S13: RTS 22/ I | T13: RTS 21/ II | U13: 0.791 | V13: =ROUND(E13*U13,2) -> 2.85 | X13: Práce | AG13: POL1_
C14: 1,8*2 | E14: 3.6 | AG14: VV | AH14: 0
A15: 4 | B15: 175101101RT2 | C15: Obsyp potrubí bez prohození sypaniny s dodáním štěrkopísku frakce 0 - 22 mm | D15: m3 | E15: 1.8 | F15: 1125 | G15: =ROUND(E15*F15,2) -> 2025 | H15: 511.93 | I15: =ROUND(E15*H15,2) -> 921.47 | J15: 613.07 | K15: =ROUND(E15*J15,2) -> 1103.53 | L15: 21 | M15: =G15*(1+L15/100) -> 2450.25 | N15: 1.7 | O15: =ROUND(E15*N15,2) -> 3.06 | P15: 0 | Q15: =ROUND(E15*P15,2) -> 0 | S15: RTS 22/ I | T15: RTS 21/ II | U15: 1.587 | V15: =ROUND(E15*U15,2) -> 2.86 | X15: Práce | AG15: POL1_
C16: m.č.106 a 107 pro kanalizaci : (4,2+0,8)*0,4*0,4 | E16: 0.8 | AG16: VV | AH16: 0
C17: 1,0*1,0*1,0 | E17: 1 | AG17: VV | AH17: 0
A18: 5 | B18: 175101109R00 | C18: Příplatek za prohození sypaniny pro obsyp potrubí | D18: m3 | E18: 1.8 | F18: 363 | G18: =ROUND(E18*F18,2) -> 653.4 | H18: 0 | I18: =ROUND(E18*H18,2) -> 0 | J18: 363 | K18: =ROUND(E18*J18,2) -> 653.4 | L18: 21 | M18: =G18*(1+L18/100) -> 790.614 | N18: 0 | O18: =ROUND(E18*N18,2) -> 0 | P18: 0 | Q18: =ROUND(E18*P18,2) -> 0 | S18: RTS 22/ I | T18: RTS 21/ II | U18: 0.94 | V18: =ROUND(E18*U18,2) -> 1.69 | X18: Práce | AG18: POL1_
A19: 6 | B19: 1-NC01 | C19: Likvidace výkopku | D19: kpl | E19: 1 | F19: 1777.41 | G19: =ROUND(E19*F19,2) -> 1777.41 | H19: 0 | I19: =ROUND(E19*H19,2) -> 0 | J19: 1777.41 | K19: =ROUND(E19*J19,2) -> 1777.41 | L19: 21 | M19: =G19*(1+L19/100) -> 2150.6661 | N19: 0 | O19: =ROUND(E19*N19,2) -> 0 | P19: 0 | Q19: =ROUND(E19*P19,2) -> 0 | S19: Vlastní | T19: Indiv | U19: 0 | V19: =ROUND(E19*U19,2) -> 0 | X19: Práce | AG19: POL1_
A20: Díl: | B20: 96 | C20: Bourání konstrukcí | G20: =SUMIF(AG21:AG28,"<>NOR",G21:G28) -> 11382.2 | I20: =SUM(I21:I28) -> 1258.01 | K20: =SUM(K21:K28) -> 10124.19 | M20: =SUM(M21:M28) -> 13772.462 | O20: =SUM(O21:O28) -> 0 | Q20: =SUM(Q21:Q28) -> 1.37 | V20: =SUM(V21:V28) -> 22.45 | AG20: DIL
A21: 7 | B21: 965042121RT2 | C21: Bourání mazanin betonových tl. 10 cm, pl. 1 m2 ručně tl. mazaniny 8 - 10 cm | D21: m3 | E21: 0.3 | F21: 4410 | G21: =ROUND(E21*F21,2) -> 1323 | H21: 0 | I21: =ROUND(E21*H21,2) -> 0 | J21: 4410 | K21: =ROUND(E21*J21,2) -> 1323 | L21: 21 | M21: =G21*(1+L21/100) -> 1600.83 | N21: 0 | O21: =ROUND(E21*N21,2) -> 0 | P21: 2.2 | Q21: =ROUND(E21*P21,2) -> 0.66 | S21: RTS 22/ I | T21: RTS 21/ II | U21: 12.56 | V21: =ROUND(E21*U21,2) -> 3.77 | X21: Práce | AG21: POL1_
C22: m.č.106 a 107 pro kanalizaci : (4,2+0,8)*0,4*0,10 | E22: 0.2 | AG22: VV | AH22: 0
C23: 1,0*1,0*0,10 | E23: 0.1 | AG23: VV | AH23: 0
A24: 8 | B24: 970241100R00 | C24: Řezání prostého betonu hl. řezu 100 mm | D24: m | E24: 13 | F24: 574 | G24: =ROUND(E24*F24,2) -> 7462 | H24: 88.13 | I24: =ROUND(E24*H24,2) -> 1145.69 | J24: 485.87 | K24: =ROUND(E24*J24,2) -> 6316.31 | L24: 21 | M24: =G24*(1+L24/100) -> 9029.02 | N24: 0 | O24: =ROUND(E24*N24,2) -> 0 | P24: 0.00046 | Q24: =ROUND(E24*P24,2) -> 0.01 | S24: RTS 22/ I | T24: RTS 21/ II | U24: 0.9 | V24: =ROUND(E24*U24,2) -> 11.7 | X24: Práce | AG24: POL1_
C25: m.č.106 a 107 pro kanalizaci : (4,2+0,8)*2 | E25: 10 | AG25: VV | AH25: 0
C26: 1,0*3 | E26: 3 | AG26: VV | AH26: 0
A27: 9 | B27: 974031167R00 | C27: Vysekání rýh ve zdi cihelné pro kanalizaci | D27: m | E27: 8.6 | F27: 302 | G27: =ROUND(E27*F27,2) -> 2597.2 | H27: 13.06 | I27: =ROUND(E27*H27,2) -> 112.32 | J27: 288.94 | K27: =ROUND(E27*J27,2) -> 2484.88 | L27: 21 | M27: =G27*(1+L27/100) -> 3142.612 | N27: 0.00049 | O27: =ROUND(E27*N27,2) -> 0 | P27: 0.081 | Q27: =ROUND(E27*P27,2) -> 0.7 | S27: RTS 22/ I | T27: RTS 21/ II | U27: 0.812 | V27: =ROUND(E27*U27,2) -> 6.98 | X27: Práce | AG27: POL1_
C28: Včetně pomocného lešení o výšce podlahy do 1900 mm a pro zatížení do 1,5 kPa (150 kg/m2). | AG28: POP
A29: Díl: | B29: D96 | C29: Přesuny suti a vybouraných hmot | G29: =SUMIF(AG30:AG35,"<>NOR",G30:G35) -> 1932.42 | I29: =SUM(I30:I35) -> 0 | K29: =SUM(K30:K35) -> 1932.42 | M29: =SUM(M30:M35) -> 2338.2282 | O29: =SUM(O30:O35) -> 0 | Q29: =SUM(Q30:Q35) -> 0 | V29: =SUM(V30:V35) -> 2.38 | AG29: DIL
A30: 10 | B30: 979081111R00 | C30: Odvoz suti a vybour. hmot na skládku do 1 km | D30: t | E30: 1.36258 | F30: 234.5 | G30: =ROUND(E30*F30,2) -> 319.53 | H30: 0 | I30: =ROUND(E30*H30,2) -> 0 | J30: 234.5 | K30: =ROUND(E30*J30,2) -> 319.53 | L30: 21 | M30: =G30*(1+L30/100) -> 386.6313 | N30: 0 | O30: =ROUND(E30*N30,2) -> 0 | P30: 0 | Q30: =ROUND(E30*P30,2) -> 0 | S30: RTS 22/ I | T30: RTS 21/ II | U30: 0.49 | V30: =ROUND(E30*U30,2) -> 0.67 | X30: Přesun suti | AG30: POL8_
C31: Včetně naložení na dopravní prostředek a složení na skládku, bez poplatku za skládku. | AG31: POP
A32: 11 | B32: 979081121R00 | C32: Příplatek k odvozu za každý další 1 km | D32: t | E32: 16.35096 | F32: 16 | G32: =ROUND(E32*F32,2) -> 261.62 | H32: 0 | I32: =ROUND(E32*H32,2) -> 0 | J32: 16 | K32: =ROUND(E32*J32,2) -> 261.62 | L32: 21 | M32: =G32*(1+L32/100) -> 316.5602 | N32: 0 | O32: =ROUND(E32*N32,2) -> 0 | P32: 0 | Q32: =ROUND(E32*P32,2) -> 0 | S32: RTS 22/ I | T32: RTS 21/ II | U32: 0 | V32: =ROUND(E32*U32,2) -> 0 | X32: Přesun suti | AG32: POL8_
A33: 12 | B33: 979082111R00 | C33: Vnitrostaveništní doprava suti do 10 m | D33: t | E33: 1.36258 | F33: 331 | G33: =ROUND(E33*F33,2) -> 451.01 | H33: 0 | I33: =ROUND(E33*H33,2) -> 0 | J33: 331 | K33: =ROUND(E33*J33,2) -> 451.01 | L33: 21 | M33: =G33*(1+L33/100) -> 545.7221 | N33: 0 | O33: =ROUND(E33*N33,2) -> 0 | P33: 0 | Q33: =ROUND(E33*P33,2) -> 0 | S33: RTS 22/ I | T33: RTS 21/ II | U33: 0.942 | V33: =ROUND(E33*U33,2) -> 1.28 | X33: Přesun suti | AG33: POL8_
A34: 13 | B34: 979082121R00 | C34: Příplatek k vnitrost. dopravě suti za dalších 5 m | D34: t | E34: 4.08774 | F34: 36.9 | G34: =ROUND(E34*F34,2) -> 150.84 | H34: 0 | I34: =ROUND(E34*H34,2) -> 0 | J34: 36.9 | K34: =ROUND(E34*J34,2) -> 150.84 | L34: 21 | M34: =G34*(1+L34/100) -> 182.5164 | N34: 0 | O34: =ROUND(E34*N34,2) -> 0 | P34: 0 | Q34: =ROUND(E34*P34,2) -> 0 | S34: RTS 22/ I | T34: RTS 21/ II | U34: 0.105 | V34: =ROUND(E34*U34,2) -> 0.43 | X34: Přesun suti | AG34: POL8_
A35: 14 | B35: 9799901NC01 | C35: Poplatek za sklád.suti | D35: t | E35: 1.36258 | F35: 550 | G35: =ROUND(E35*F35,2) -> 749.42 | H35: 0 | I35: =ROUND(E35*H35,2) -> 0 | J35: 550 | K35: =ROUND(E35*J35,2) -> 749.42 | L35: 21 | M35: =G35*(1+L35/100) -> 906.7982 | N35: 0 | O35: =ROUND(E35*N35,2) -> 0 | P35: 0 | Q35: =ROUND(E35*P35,2) -> 0 | S35: Vlastní | T35: Indiv | U35: 0 | V35: =ROUND(E35*U35,2) -> 0 | X35: Přesun suti | AG35: POL8_
AE36: 15 | AF36: 21 | AG36: DPH
B37: Celkem | G37: =G8+G20+G29 -> 22564.73 | AE37: =SUMIF(L7:L35,AE36,G7:G35) -> 0 | AF37: =SUMIF(L7:L35,AF36,G7:G35) -> 22564.73 | AG37: SUM
A40: Poznámky uchazeče k zadání
AG41: POPUZIV
AG47: END

Sheet SO 03 013aVCP Pol
A1: Položkový rozpočet | AG1: #TypZaznamu#
A2: S: | B2: 2021-KL | C2: OPRAVA INTERIERU OBECNÍHO ÚŘADU KLENOVICE NA HANÉ | AG2: STA
A3: O: | B3: SO 03 | C3: Stavební objekt | AC3: STA | AG3: OBJ
A4: R: | B4: 013aVCP | C4: Stavení přípomoci | AG4: ROZ
A6: P.č. | B6: Číslo položky | C6: Název položky | D6: MJ | E6: Množství | F6: Cena / MJ | G6: Celkem | H6: Dodávka | I6: Dodávka celk. | J6: Montáž | K6: Montáž celk. | L6: DPH | M6: Cena s DPH | N6: Hmotnost / MJ | O6: Hmotnost celk.(t) | P6: Dem. hmotnost / MJ | Q6: Dem. hmotnost celk.(t) | R6: Ceník | S6: Cen. soustava / platnost | T6: Cenová úroveň | U6: Nhod / MJ | V6: Nhod celk. | W6: Dodavatel | X6: Typ položky
A8: Díl: | B8: 3 | C8: Svislé a kompletní konstrukce | G8: =SUMIF(AG9:AG14,"<>NOR",G9:G14) -> 8711.5 | I8: =SUM(I9:I14) -> 1139.15 | K8: =SUM(K9:K14) -> 7572.35 | M8: =SUM(M9:M14) -> 10540.915 | O8: =SUM(O9:O14) -> 0.57 | Q8: =SUM(Q9:Q14) -> 0 | V8: =SUM(V9:V14) -> 2.66 | AG8: DIL
A9: 1 | B9: 310236241R00 | C9: Zazdívka otvorů pl. 0,09 m2 cihlami, tl. zdi 30 cm | D9: kus | E9: 3 | F9: 192.5 | G9: =ROUND(E9*F9,2) -> 577.5 | H9: 90.73 | I9: =ROUND(E9*H9,2) -> 272.19 | J9: 101.77 | K9: =ROUND(E9*J9,2) -> 305.31 | L9: 21 | M9: =G9*(1+L9/100) -> 698.775 | N9: 0.0515 | O9: =ROUND(E9*N9,2) -> 0.15 | P9: 0 | Q9: =ROUND(E9*P9,2) -> 0 | S9: RTS 22/ I | T9: RTS 21/ II | U9: 0.231 | V9: =ROUND(E9*U9,2) -> 0.69 | X9: Práce | AG9: POL1_
C10: pro vedení ÚT : 3 | E10: 3 | AG10: VV | AH10: 0
A11: 2 | B11: 310236261R00 | C11: Zazdívka otvorů pl. 0,09 m2 cihlami, tl. zdi 60 cm | D11: kus | E11: 4 | F11: 433.5 | G11: =ROUND(E11*F11,2) -> 1734 | H11: 216.74 | I11: =ROUND(E11*H11,2) -> 866.96 | J11: 216.76 | K11: =ROUND(E11*J11,2) -> 867.04 | L11: 21 | M11: =G11*(1+L11/100) -> 2098.14 | N11: 0.10434 | O11: =ROUND(E11*N11,2) -> 0.42 | P11: 0 | Q11: =ROUND(E11*P11,2) -> 0 | S11: RTS 22/ I | T11: RTS 21/ II | U11: 0.492 | V11: =ROUND(E11*U11,2) -> 1.97 | X11: Práce | AG11: POL1_
C12: pro vedení ÚT : 3 | E12: 3 | AG12: VV | AH12: 0
C13: pro vedení ÚT : 1 | E13: 1 | AG13: VV | AH13: 0
