Workbook
Name CelkemDPHVypocet: Stavba!$H$53
Name CenaCelkem: Stavba!$G$29
Name CenaCelkemBezDPH: Stavba!$G$28
Name CenaCelkemVypocet: Stavba!$I$53
Name cisloobjektu: Stavba!$D$3
Name CisloRozpoctu: '[1]Krycí list'!$C$2
Name CisloStavby: Stavba!$D$2
Name cislostavby: '[1]Krycí list'!$A$7
Name CisloStavebnihoRozpoctu: Stavba!$D$4
Name dadresa: Stavba!$D$12:$G$12
Name DIČ: Stavba!$I$12
Name dmisto: Stavba!$E$13:$G$13
Name DPHSni: Stavba!$G$24
Name DPHZakl: Stavba!$G$26
Name dpsc: Stavba!$D$13
Name IČO: Stavba!$I$11
Name Mena: Stavba!$J$29
Name MistoStavby: Stavba!$D$4
Name nazevobjektu: Stavba!$E$3
Name NazevRozpoctu: '[1]Krycí list'!$D$2
Name NazevStavby: Stavba!$E$2
Name nazevstavby: '[1]Krycí list'!$C$7
Name NazevStavebnihoRozpoctu: Stavba!$E$4
Name oadresa: Stavba!$D$6
Name Objednatel: Stavba!$D$5
Name Objekt: Stavba!$B$38
Name odic: Stavba!$I$6
Name oico: Stavba!$I$5
Name omisto: Stavba!$E$7
Name onazev: Stavba!$D$6
Name opsc: Stavba!$D$7
Name padresa: Stavba!$D$9
Name pdic: Stavba!$I$9
Name pico: Stavba!$I$8
Name pmisto: Stavba!$E$10
Name PocetMJ: #REF!
Name PoptavkaID: Stavba!$A$1
Name pPSC: Stavba!$D$10
Name Projektant: Stavba!$D$8
Name SazbaDPH1: Stavba!$E$23
Name SazbaDPH1: '[1]Krycí list'!$C$30
Name SazbaDPH2: Stavba!$E$25
Name SazbaDPH2: '[1]Krycí list'!$C$32
Name SloupecCC: #REF!
Name SloupecCisloPol: #REF!
Name SloupecJC: #REF!
Name SloupecMJ: #REF!
Name SloupecMnozstvi: #REF!
Name SloupecNazPol: #REF!
Name SloupecPC: #REF!
Name Vypracoval: Stavba!$D$14
Name ZakladDPHSni: Stavba!$G$23
Name ZakladDPHSniVypocet: Stavba!$F$53
Name ZakladDPHZakl: Stavba!$G$25
Name ZakladDPHZaklVypocet: Stavba!$G$53
Name ZaObjednatele: Stavba!$G$34
Name Zaokrouhleni: Stavba!$G$27
Name ZaZhotovitele: Stavba!$D$34
Name Zhotovitel: Stavba!$D$11:$G$11

Sheet Stavba
A1: #RTSROZP# | B1: Položkový rozpočet stavby
B2: Stavba: | E2: OPRAVA INTERIERU OBECNÍHO ÚŘADU KLENOVICE NA HANÉ
B5: Objednatel: | H5: IČO:
H6: DIČ:
B8: Projektant: | H8: IČO:
H9: DIČ:
B11: Zhotovitel: | D11: RAPOS, spol. s r.o. | H11: IČO:
H12: DIČ:
B14: Vypracoval:
B15: Rozpis ceny | I15: Celkem
A16: HSV | B16: HSV | I16: =SUMIF(F74:F93,A16,I74:I93)+SUMIF(F74:F93,"PSU",I74:I93) -> 447342.82
A17: PSV | B17: PSV | I17: =SUMIF(F74:F93,A17,I74:I93) -> 143915.74
A18: MON | B18: MON | I18: =SUMIF(F74:F93,A18,I74:I93) -> 0
A19: VN | B19: Vedlejší náklady | I19: =SUMIF(F74:F93,A19,I74:I93) -> 0
A20: ON | B20: Ostatní náklady | I20: =SUMIF(F74:F93,A20,I74:I93) -> 0
B21: Celkem | I21: =SUM(I16:J20) -> 591258.56
B22: Rekapitulace daní
A23: =ZakladDPHSni*SazbaDPH1/100 -> 0 | B23: Základ pro sníženou DPH | E23: 15 | F23: % | G23: =ZakladDPHSniVypocet -> 0 | J23: =Mena -> CZK
A24: =(A23-INT(A23))*100 -> 0 | B24: Snížená DPH | E24: =SazbaDPH1 -> 15 | F24: % | G24: =IF(A24>50, ROUNDUP(A23, 0), ROUNDDOWN(A23, 0)) -> 0 | J24: =Mena -> CZK
A25: =ZakladDPHZakl*SazbaDPH2/100 -> 124164.3 | B25: Základ pro základní DPH | E25: 21 | F25: % | G25: =ZakladDPHZaklVypocet -> 591258.56 | J25: =Mena -> CZK
A26: =(A25-INT(A25))*100 -> 29.76 | B26: Základní DPH | E26: =SazbaDPH2 -> 21 | F26: % | G26: =IF(A26>50, ROUNDUP(A25, 0), ROUNDDOWN(A25, 0)) -> 124164 | J26: =Mena -> CZK
A27: =ZakladDPHSni+DPHSni+ZakladDPHZakl+DPHZakl -> 715422.56 | B27: Zaokrouhlení | G27: =CenaCelkem-(ZakladDPHSni+DPHSni+ZakladDPHZakl+DPHZakl) -> 0.44 | J27: =Mena -> CZK
B28: Cena celkem bez DPH | G28: =ZakladDPHSniVypocet+ZakladDPHZaklVypocet -> 591258.56 | J28: =Mena -> CZK
A29: =(A27-INT(A27))*100 -> 56 | B29: Cena celkem s DPH | G29: =IF(A29>50, ROUNDUP(A27, 0), ROUNDDOWN(A27, 0)) -> 715423 | J29: CZK
C32: v | F32: dne
D35: Za zhotovitele | H35: Za objednatele
B37: Rekapitulace dílčích částí
A38: #CASTI>> | B38: Číslo | C38: Název | F38: =B23 -> Základ pro sníženou DPH | G38: =B25 -> Základ pro základní DPH | H38: DPH celkem | I38: Cena celkem | J38: %
A39: 1 | B39: Stavba | F39: ='SO 03 002aVCP Pol'!AE61+'SO 03 003aVCP Pol'!AE142+'SO 03 004aVCP Pol'!AE29+'SO 03 005aVCP Pol'!AE17+'SO 03 006aVCP Pol'!AE148+'SO 03 007aVCP Pol'!AE97+'SO 03 008aVCP Pol'!AE38+'SO 03 009aVCP Pol'!AE17+'SO 03 010aVCP Pol'!AE37+'SO 03 013aVCP Pol'!AE94+'SO 03 014aVCP Pol'!AE74+'SO 03 015aVCP Pol'!AE44 -> 0 | G39: ='SO 03 002aVCP Pol'!AF61+'SO 03 003aVCP Pol'!AF142+'SO 03 004aVCP Pol'!AF29+'SO 03 005aVCP Pol'!AF17+'SO 03 006aVCP Pol'!AF148+'SO 03 007aVCP Pol'!AF97+'SO 03 008aVCP Pol'!AF38+'SO 03 009aVCP Pol'!AF17+'SO 03 010aVCP Pol'!AF37+'SO 03 013aVCP Pol'!AF94+'SO 03 014aVCP Pol'!AF74+'SO 03 015aVCP Pol'!AF44 -> 591258.56 | H39: =(F39*SazbaDPH1/100)+(G39*SazbaDPH2/100) -> 124164.3 | I39: =F39+G39+H39 -> 715422.86 | J39: =IF(CenaCelkemVypocet=0,"",I39/CenaCelkemVypocet*100) -> 100
A40: 2 | B40: SO 03 | C40: Stavební objekt | F40: ='SO 03 002aVCP Pol'!AE61+'SO 03 003aVCP Pol'!AE142+'SO 03 004aVCP Pol'!AE29+'SO 03 005aVCP Pol'!AE17+'SO 03 006aVCP Pol'!AE148+'SO 03 007aVCP Pol'!AE97+'SO 03 008aVCP Pol'!AE38+'SO 03 009aVCP Pol'!AE17+'SO 03 010aVCP Pol'!AE37+'SO 03 013aVCP Pol'!AE94+'SO 03 014aVCP Pol'!AE74+'SO 03 015aVCP Pol'!AE44 -> 0 | G40: ='SO 03 002aVCP Pol'!AF61+'SO 03 003aVCP Pol'!AF142+'SO 03 004aVCP Pol'!AF29+'SO 03 005aVCP Pol'!AF17+'SO 03 006aVCP Pol'!AF148+'SO 03 007aVCP Pol'!AF97+'SO 03 008aVCP Pol'!AF38+'SO 03 009aVCP Pol'!AF17+'SO 03 010aVCP Pol'!AF37+'SO 03 013aVCP Pol'!AF94+'SO 03 014aVCP Pol'!AF74+'SO 03 015aVCP Pol'!AF44 -> 591258.56 | H40: =(F40*SazbaDPH1/100)+(G40*SazbaDPH2/100) -> 124164.3 | I40: =F40+G40+H40 -> 715422.86 | J40: =IF(CenaCelkemVypocet=0,"",I40/CenaCelkemVypocet*100) -> 100
A41: 3 | B41: 002aVCP | C41: Změna podkladu pod dlažbu | F41: ='SO 03 002aVCP Pol'!AE61 -> 0 | G41: ='SO 03 002aVCP Pol'!AF61 -> 58646.76 | H41: =(F41*SazbaDPH1/100)+(G41*SazbaDPH2/100) -> 12315.82 | I41: =F41+G41+H41 -> 70962.58 | J41: =IF(CenaCelkemVypocet=0,"",I41/CenaCelkemVypocet*100) -> 9.9189701
A42: 3 | B42: 003aVCP | C42: Zpevnění omítek | F42: ='SO 03 003aVCP Pol'!AE142 -> 0 | G42: ='SO 03 003aVCP Pol'!AF142 -> 82851.16 | H42: =(F42*SazbaDPH1/100)+(G42*SazbaDPH2/100) -> 17398.744 | I42: =F42+G42+H42 -> 100249.9 | J42: =IF(CenaCelkemVypocet=0,"",I42/CenaCelkemVypocet*100) -> 14.012678
A43: 3 | B43: 004aVCP | C43: Oprava SDK příčky | F43: ='SO 03 004aVCP Pol'!AE29 -> 0 | G43: ='SO 03 004aVCP Pol'!AF29 -> 34006.6 | H43: =(F43*SazbaDPH1/100)+(G43*SazbaDPH2/100) -> 7141.386 | I43: =F43+G43+H43 -> 41147.986 | J43: =IF(CenaCelkemVypocet=0,"",I43/CenaCelkemVypocet*100) -> 5.7515616
A44: 3 | B44: 005aVCP | C44: Injektáž zdiva | F44: ='SO 03 005aVCP Pol'!AE17 -> 0 | G44: ='SO 03 005aVCP Pol'!AF17 -> 70259.07 | H44: =(F44*SazbaDPH1/100)+(G44*SazbaDPH2/100) -> 14754.405 | I44: =F44+G44+H44 -> 85013.475 | J44: =IF(CenaCelkemVypocet=0,"",I44/CenaCelkemVypocet*100) -> 11.882969
A45: 3 | B45: 006aVCP | C45: Změna omítek m.č. 101 | F45: ='SO 03 006aVCP Pol'!AE148 -> 0 | G45: ='SO 03 006aVCP Pol'!AF148 -> 5179.37 | H45: =(F45*SazbaDPH1/100)+(G45*SazbaDPH2/100) -> 1087.6677 | I45: =F45+G45+H45 -> 6267.0377 | J45: =IF(CenaCelkemVypocet=0,"",I45/CenaCelkemVypocet*100) -> 0.8759907
A46: 3 | B46: 007aVCP | C46: Změna dispozice m.č. 105 | F46: ='SO 03 007aVCP Pol'!AE97 -> 0 | G46: ='SO 03 007aVCP Pol'!AF97 -> -15523.04 | H46: =(F46*SazbaDPH1/100)+(G46*SazbaDPH2/100) -> -3259.8384 | I46: =F46+G46+H46 -> -18782.878 | J46: =IF(CenaCelkemVypocet=0,"",I46/CenaCelkemVypocet*100) -> -2.6254233
A47: 3 | B47: 008aVCP | C47: Změna příčky m.č. 102 | F47: ='SO 03 008aVCP Pol'!AE38 -> 0 | G47: ='SO 03 008aVCP Pol'!AF38 -> -8692.43 | H47: =(F47*SazbaDPH1/100)+(G47*SazbaDPH2/100) -> -1825.4103 | I47: =F47+G47+H47 -> -10517.84 | J47: =IF(CenaCelkemVypocet=0,"",I47/CenaCelkemVypocet*100) -> -1.4701572
A48: 3 | B48: 009aVCP | C48: Doplnění SDK stropů | F48: ='SO 03 009aVCP Pol'!AE17 -> 0 | G48: ='SO 03 009aVCP Pol'!AF17 -> 43548.6 | H48: =(F48*SazbaDPH1/100)+(G48*SazbaDPH2/100) -> 9145.206 | I48: =F48+G48+H48 -> 52693.806 | J48: =IF(CenaCelkemVypocet=0,"",I48/CenaCelkemVypocet*100) -> 7.3654071
A49: 3 | B49: 010aVCP | C49: Stavební přípomoci pro kanalizaci | F49: ='SO 03 010aVCP Pol'!AE37 -> 0 | G49: ='SO 03 010aVCP Pol'!AF37 -> 22564.73 | H49: =(F49*SazbaDPH1/100)+(G49*SazbaDPH2/100) -> 4738.5933 | I49: =F49+G49+H49 -> 27303.323 | J49: =IF(CenaCelkemVypocet=0,"",I49/CenaCelkemVypocet*100) -> 3.8163896
A50: 3 | B50: 013aVCP | C50: Stavení přípomoci | F50: ='SO 03 013aVCP Pol'!AE94 -> 0 | G50: ='SO 03 013aVCP Pol'!AF94 -> 103128.43 | H50: =(F50*SazbaDPH1/100)+(G50*SazbaDPH2/100) -> 21656.97 | I50: =F50+G50+H50 -> 124785.4 | J50: =IF(CenaCelkemVypocet=0,"",I50/CenaCelkemVypocet*100) -> 17.442188
A51: 3 | B51: 014aVCP | C51: Stavební úpravy u stávajících oken | F51: ='SO 03 014aVCP Pol'!AE74 -> 0 | G51: ='SO 03 014aVCP Pol'!AF74 -> 29359.19 | H51: =(F51*SazbaDPH1/100)+(G51*SazbaDPH2/100) -> 6165.4299 | I51: =F51+G51+H51 -> 35524.62 | J51: =IF(CenaCelkemVypocet=0,"",I51/CenaCelkemVypocet*100) -> 4.9655416
A52: 3 | B52: 015aVCP | C52: Ústřední vytápění | F52: ='SO 03 015aVCP Pol'!AE44 -> 0 | G52: ='SO 03 015aVCP Pol'!AF44 -> 165930.12 | H52: =(F52*SazbaDPH1/100)+(G52*SazbaDPH2/100) -> 34845.325 | I52: =F52+G52+H52 -> 200775.45 | J52: =IF(CenaCelkemVypocet=0,"",I52/CenaCelkemVypocet*100) -> 28.063885
B53: Celkem za stavbu | F53: =SUMIF(A39:A52,"=1",F39:F52) -> 0 | G53: =SUMIF(A39:A52,"=1",G39:G52) -> 591258.56 | H53: =SUMIF(A39:A52,"=1",H39:H52) -> 124164.3 | I53: =SUMIF(A39:A52,"=1",I39:I52) -> 715422.86 | J53: =SUMIF(A39:A52,"=1",J39:J52) -> 100
A55: #POPS
A56: #POPO
A57: #POPR
A58: #POPR
A59: #POPR
A60: #POPR
A61: #POPR
A62: #POPR
A63: #POPR
A64: #POPR
A65: #POPR
A66: #POPR
... A68: #POPR
B71: Rekapitulace dílů
B73: Číslo | C73: Název | F73: Typ dílu | I73: Celkem | J73: %
B74: 1 | C74: Zemní práce | F74: HSV | I74: ='SO 03 010aVCP Pol'!G8 -> 9250.11 | J74: =IF(I94=0,"",I74/I94*100) -> 1.564478
B75: 2 | C75: Základy a zvláštní zakládání | F75: HSV | I75: ='SO 03 005aVCP Pol'!G8 -> 70239 | J75: =IF(I94=0,"",I75/I94*100) -> 11.879574
B76: 3 | C76: Svislé a kompletní konstrukce | F76: HSV | I76: ='SO 03 004aVCP Pol'!G8+'SO 03 008aVCP Pol'!G8+'SO 03 009aVCP Pol'!G8+'SO 03 013aVCP Pol'!G8+'SO 03 014aVCP Pol'!G8 -> 87301.19 | J76: =IF(I94=0,"",I76/I94*100) -> 14.765315
B77: 6 | C77: Úpravy povrchu, podlahy | F77: HSV | I77: ='SO 03 003aVCP Pol'!G8 -> 82360.82 | J77: =IF(I94=0,"",I77/I94*100) -> 13.929747
B78: 61 | C78: Úpravy povrchů vnitřní | F78: HSV | I78: ='SO 03 006aVCP Pol'!G8+'SO 03 007aVCP Pol'!G8+'SO 03 008aVCP Pol'!G14+'SO 03 013aVCP Pol'!G15+'SO 03 014aVCP Pol'!G19 -> 32542.75 | J78: =IF(I94=0,"",I78/I94*100) -> 5.5039795
B79: 63 | C79: Podlahy a podlahové konstrukce | F79: HSV | I79: ='SO 03 002aVCP Pol'!G8+'SO 03 014aVCP Pol'!G63 -> 51464.39 | J79: =IF(I94=0,"",I79/I94*100) -> 8.7042106
B80: 95 | C80: Dokončovací konstrukce na pozemních stavbách | F80: HSV | I80: ='SO 03 013aVCP Pol'!G26 -> 22082 | J80: =IF(I94=0,"",I80/I94*100) -> 3.7347451
B81: 96 | C81: Bourání konstrukcí | F81: HSV | I81: ='SO 03 004aVCP Pol'!G14+'SO 03 006aVCP Pol'!G56+'SO 03 007aVCP Pol'!G30+'SO 03 010aVCP Pol'!G20+'SO 03 013aVCP Pol'!G36 -> 36575.83 | J81: =IF(I94=0,"",I81/I94*100) -> 6.1860973
B82: 99 | C82: Staveništní přesun hmot | F82: HSV | I82: ='SO 03 002aVCP Pol'!G49+'SO 03 003aVCP Pol'!G139+'SO 03 004aVCP Pol'!G19+'SO 03 005aVCP Pol'!G14+'SO 03 006aVCP Pol'!G69+'SO 03 007aVCP Pol'!G35+'SO 03 008aVCP Pol'!G20+'SO 03 013aVCP Pol'!G69+'SO 03 014aVCP Pol'!G71 -> 13771.79 | J82: =IF(I94=0,"",I82/I94*100) -> 2.3292331
B83: 713 | C83: Izolace tepelné | F83: PSV | I83: ='SO 03 002aVCP Pol'!G51 -> 2304.08 | J83: =IF(I94=0,"",I83/I94*100) -> 0.38969076
B84: 733 | C84: Rozvod potrubí | F84: PSV | I84: ='SO 03 015aVCP Pol'!G8 -> 89305.47 | J84: =IF(I94=0,"",I84/I94*100) -> 15.104301
B85: 734 | C85: Armatury | F85: PSV | I85: ='SO 03 015aVCP Pol'!G20 -> 23442.33 | J85: =IF(I94=0,"",I85/I94*100) -> 3.9648187
B86: 735 | C86: Otopná tělesa | F86: PSV | I86: ='SO 03 015aVCP Pol'!G28 -> 40296.72 | J86: =IF(I94=0,"",I86/I94*100) -> 6.8154142
B87: 762 | C87: Konstrukce tesařské | F87: PSV | I87: ='SO 03 013aVCP Pol'!G71 -> 4181.52 | J87: =IF(I94=0,"",I87/I94*100) -> 0.70722359
B88: 766 | C88: Konstrukce truhlářské | F88: PSV | I88: ='SO 03 007aVCP Pol'!G37 -> -11419.16 | J88: =IF(I94=0,"",I88/I94*100) -> -1.931331
B89: 771 | C89: Podlahy z dlaždic a obklady | F89: PSV | I89: ='SO 03 006aVCP Pol'!G71+'SO 03 007aVCP Pol'!G49+'SO 03 008aVCP Pol'!G22 -> 5864.6 | J89: =IF(I94=0,"",I89/I94*100) -> 0.99188416
B90: 781 | C90: Obklady keramické | F90: PSV | I90: ='SO 03 006aVCP Pol'!G89 -> -24561.24 | J90: =IF(I94=0,"",I90/I94*100) -> -4.1540608
B91: 784 | C91: Malby | F91: PSV | I91: ='SO 03 006aVCP Pol'!G113 -> 1615.82 | J91: =IF(I94=0,"",I91/I94*100) -> 0.27328484
B92: 799 | C92: Hodinové zúčtovací sazby | F92: PSV | I92: ='SO 03 015aVCP Pol'!G38 -> 12885.6 | J92: =IF(I94=0,"",I92/I94*100) -> 2.1793511
B93: D96 | C93: Přesuny suti a vybouraných hmot | F93: PSU | I93: ='SO 03 004aVCP Pol'!G21+'SO 03 006aVCP Pol'!G139+'SO 03 007aVCP Pol'!G89+'SO 03 010aVCP Pol'!G29+'SO 03 013aVCP Pol'!G85 -> 41754.94 | J93: =IF(I94=0,"",I93/I94*100) -> 7.0620441
B94: Cena celkem | I94: =SUM(I74:I93) -> 591258.56 | J94: =SUM(J74:J93) -> 100

Sheet VzorPolozky
A1: Položkový rozpočet
A2: S:
A3: O:
A4: R:

Sheet SO 03 002aVCP Pol
A1: Položkový rozpočet | AG1: #TypZaznamu#
A2: S: | B2: 2021-KL | C2: OPRAVA INTERIERU OBECNÍHO ÚŘADU KLENOVICE NA HANÉ | AG2: STA
A3: O: | B3: SO 03 | C3: Stavební objekt | AC3: STA | AG3: OBJ
A4: R: | B4: 002aVCP | C4: Změna podkladu pod dlažbu | AG4: ROZ
A6: P.č. | B6: Číslo položky | C6: Název položky | D6: MJ | E6: Množství | F6: Cena / MJ | G6: Celkem | H6: Dodávka | I6: Dodávka celk. | J6: Montáž | K6: Montáž celk. | L6: DPH | M6: Cena s DPH | N6: Hmotnost / MJ | O6: Hmotnost celk.(t) | P6: Dem. hmotnost / MJ | Q6: Dem. hmotnost celk.(t) | R6: Ceník | S6: Cen. soustava / platnost | T6: Cenová úroveň | U6: Nhod / MJ | V6: Nhod celk. | W6: Dodavatel | X6: Typ položky
A8: Díl: | B8: 63 | C8: Podlahy a podlahové konstrukce | G8: =SUMIF(AG9:AG48,"<>NOR",G9:G48) -> 49858.5 | I8: =SUM(I9:I48) -> 32590.85 | K8: =SUM(K9:K48) -> 17267.65 | M8: =SUM(M9:M48) -> 60328.785 | O8: =SUM(O9:O48) -> 7.32 | Q8: =SUM(Q9:Q48) -> 0 | V8: =SUM(V9:V48) -> 30.25 | AG8: DIL
A9: 1 | B9: 631361921RT3 | C9: Výztuž mazanin svařovanou sítí průměr drátu 5,0, oka 150/150 mm KD37 | D9: t | E9: 0.11542 | F9: 60860 | G9: =ROUND(E9*F9,2) -> 7024.46 | H9: 53508.59 | I9: =ROUND(E9*H9,2) -> 6175.96 | J9: 7351.41 | K9: =ROUND(E9*J9,2) -> 848.5 | L9: 21 | M9: =G9*(1+L9/100) -> 8499.5966 | N9: 1.06625 | O9: =ROUND(E9*N9,2) -> 0.12 | P9: 0 | Q9: =ROUND(E9*P9,2) -> 0 | S9: RTS 22/ I | T9: RTS 21/ II | U9: 15.231 | V9: =ROUND(E9*U9,2) -> 1.76 | X9: Práce | AG9: POL1_
C10: Začátek provozního součtu | AG10: VV
C11: I.NP : | AG11: VV | AH11: 2
C12: m.č. 102 chodba : 13,6 | E12: 13.6 | AG12: VV | AH12: 2
C13: II.NP : | AG13: VV | AH13: 2
C14: m.č. 202 hala : 4,0*2,4 | E14: 9.6 | AG14: VV | AH14: 2
C15: m.č.203 předprostor kancel. : 13,63 | E15: 13.63 | AG15: VV | AH15: 2
C16: m.č.207 schodiště půda : 14,63 | E16: 14.63 | AG16: VV | AH16: 2
C17: m.č. 208+209+210 : 6,25 | E17: 6.25 | AG17: VV | AH17: 2
C18: m.č. 211 předprost.obř. síně : 11,91 | E18: 11.91 | AG18: VV | AH18: 2
C19: Konec provozního součtu | AG19: VV
C20: 54,99*2,099/1000 | E20: 0.11542 | AG20: VV | AH20: 0
A21: 2 | B21: 631572111R00 | C21: Doplnění násypů pískem neupraveným o ploše nad 2m2 | D21: m3 | E21: 1.6497 | F21: 1027 | G21: =ROUND(E21*F21,2) -> 1694.24 | H21: 393.27 | I21: =ROUND(E21*H21,2) -> 648.78 | J21: 633.73 | K21: =ROUND(E21*J21,2) -> 1045.46 | L21: 21 | M21: =G21*(1+L21/100) -> 2050.0304 | N21: 1.2 | O21: =ROUND(E21*N21,2) -> 1.98 | P21: 0 | Q21: =ROUND(E21*P21,2) -> 0 | S21: RTS 22/ I | T21: RTS 21/ II | U21: 1.6 | V21: =ROUND(E21*U21,2) -> 2.64 | X21: Práce | AG21: POL1_
C22: Začátek provozního součtu | AG22: VV
C23: I.NP : | AG23: VV | AH23: 2
C24: m.č. 102 chodba : 13,6 | E24: 13.6 | AG24: VV | AH24: 2
C25: II.NP : | AG25: VV | AH25: 2
C26: m.č. 202 hala : 4,0*2,4 | E26: 9.6 | AG26: VV | AH26: 2
C27: m.č.203 předprostor kancel. : 13,63 | E27: 13.63 | AG27: VV | AH27: 2
C28: m.č.207 schodiště půda : 14,63 | E28: 14.63 | AG28: VV | AH28: 2
C29: m.č. 208+209+210 : 6,25 | E29: 6.25 | AG29: VV | AH29: 2
C30: m.č. 211 předprost.obř. síně : 11,91 | E30: 11.91 | AG30: VV | AH30: 2
C31: Konec provozního součtu | AG31: VV
C32: 54,99*0,03 | E32: 1.6497 | AG32: VV | AH32: 0
A33: 3 | B33: 632411150RT1 | C33: Potěr ze SMS Cemix, ruční zpracování, tl. 50 mm cementový potěr 25 Cemix 020, 25 MPa | D33: m2 | E33: 54.99 | F33: 691 | G33: =ROUND(E33*F33,2) -> 37998.09 | H33: 468.56 | I33: =ROUND(E33*H33,2) -> 25766.11 | J33: 222.44 | K33: =ROUND(E33*J33,2) -> 12231.98 | L33: 21 | M33: =G33*(1+L33/100) -> 45977.689 | N33: 0.095 | O33: =ROUND(E33*N33,2) -> 5.22 | P33: 0 | Q33: =ROUND(E33*P33,2) -> 0 | S33: RTS 22/ I | T33: RTS 21/ II | U33: 0.47 | V33: =ROUND(E33*U33,2) -> 25.85 | X33: Práce | AG33: POL1_
C34: I.NP : | AG34: VV | AH34: 0
C35: m.č. 102 chodba : 13,6 | E35: 13.6 | AG35: VV | AH35: 0
C36: II.NP : | AG36: VV | AH36: 0
C37: m.č. 202 hala : 4,0*2,4 | E37: 9.6 | AG37: VV | AH37: 0
C38: m.č.203 předprostor kancel. : 13,63 | E38: 13.63 | AG38: VV | AH38: 0
C39: m.č. 208+209+210 : 6,25 | E39: 6.25 | AG39: VV | AH39: 0
C40: m.č. 211 předprost.obř. síně : 11,91 | E40: 11.91 | AG40: VV | AH40: 0
A41: 4 | B41: 63-NC01 | C41: Urovnání stávajícího násypu | D41: m2 | E41: 57.122 | F41: 55 | G41: =ROUND(E41*F41,2) -> 3141.71 | H41: 0 | I41: =ROUND(E41*H41,2) -> 0 | J41: 55 | K41: =ROUND(E41*J41,2) -> 3141.71 | L41: 21 | M41: =G41*(1+L41/100) -> 3801.4691 | N41: 0 | O41: =ROUND(E41*N41,2) -> 0 | P41: 0 | Q41: =ROUND(E41*P41,2) -> 0 | S41: Vlastní | T41: Indiv | U41: 0 | V41: =ROUND(E41*U41,2) -> 0 | X41: Práce | AG41: POL1_
C42: I.NP : | AG42: VV | AH42: 0
C43: m.č. 102 chodba : 13,6 | E43: 13.6 | AG43: VV | AH43: 0
C44: II.NP : | AG44: VV | AH44: 0
C45: m.č. 202 hala : 4,0*2,4 | E45: 9.6 | AG45: VV | AH45: 0
C46: m.č.203 předprostor kancel. : 13,63 | E46: 13.63 | AG46: VV | AH46: 0
C47: m.č. 208+209+210 : 6,25 | E47: 6.25 | AG47: VV | AH47: 0
C48: m.č. 211 předprost.obř. síně : 11,91+2,132 | E48: 14.042 | AG48: VV | AH48: 0
A49: Díl: | B49: 99 | C49: Staveništní přesun hmot | G49: =SUMIF(AG50:AG50,"<>NOR",G50:G50) -> 6484.18 | I49: =SUM(I50:I50) -> 0 | K49: =SUM(K50:K50) -> 6484.18 | M49: =SUM(M50:M50) -> 7845.8578 | O49: =SUM(O50:O50) -> 0 | Q49: =SUM(Q50:Q50) -> 0 | V49: =SUM(V50:V50) -> 15.39 | AG49: DIL
A50: 5 | B50: 999281145R00 | C50: Přesun hmot pro opravy a údržbu do v. 6 m, nošením | D50: t | E50: 7.32676 | F50: 885 | G50: =ROUND(E50*F50,2) -> 6484.18 | H50: 0 | I50: =ROUND(E50*H50,2) -> 0 | J50: 885 | K50: =ROUND(E50*J50,2) -> 6484.18 | L50: 21 | M50: =G50*(1+L50/100) -> 7845.8578 | N50: 0 | O50: =ROUND(E50*N50,2) -> 0 | P50: 0 | Q50: =ROUND(E50*P50,2) -> 0 | S50: RTS 22/ I | T50: RTS 21/ II | U50: 2.1 | V50: =ROUND(E50*U50,2) -> 15.39 | X50: Přesun hmot | AG50: POL7_
A51: Díl: | B51: 713 | C51: Izolace tepelné | G51: =SUMIF(AG52:AG59,"<>NOR",G52:G59) -> 2304.08 | I51: =SUM(I52:I59) -> 364.03 | K51: =SUM(K52:K59) -> 1940.05 | M51: =SUM(M52:M59) -> 2787.9368 | O51: =SUM(O52:O59) -> 0 | Q51: =SUM(Q52:Q59) -> 0 | V51: =SUM(V52:V59) -> 3.85 | AG51: DIL
A52: 6 | B52: 713191100RT9 | C52: Položení separační fólie včetně dodávky PE fólie | D52: m2 | E52: 54.99 | F52: 41.9 | G52: =ROUND(E52*F52,2) -> 2304.08 | H52: 6.62 | I52: =ROUND(E52*H52,2) -> 364.03 | J52: 35.28 | K52: =ROUND(E52*J52,2) -> 1940.05 | L52: 21 | M52: =G52*(1+L52/100) -> 2787.9368 | N52: 1e-05 | O52: =ROUND(E52*N52,2) -> 0 | P52: 0 | Q52: =ROUND(E52*P52,2) -> 0 | S52: RTS 22/ I | T52: RTS 21/ II | U52: 0.07 | V52: =ROUND(E52*U52,2) -> 3.85 | X52: Práce | AG52: POL1_
C53: I.NP : | AG53: VV | AH53: 0
C54: m.č. 102 chodba : 13,6 | E54: 13.6 | AG54: VV | AH54: 0
C55: II.NP : | AG55: VV | AH55: 0
C56: m.č. 202 hala : 4,0*2,4 | E56: 9.6 | AG56: VV | AH56: 0
C57: m.č.203 předprostor kancel. : 13,63 | E57: 13.63 | AG57: VV | AH57: 0
C58: m.č. 208+209+210 : 6,25 | E58: 6.25 | AG58: VV | AH58: 0
C59: m.č. 211 předprost.obř. síně : 11,91 | E59: 11.91 | AG59: VV | AH59: 0
AE60: 15 | AF60: 21 | AG60: DPH
B61: Celkem | G61: =G8+G49+G51 -> 58646.76 | AE61: =SUMIF(L7:L59,AE60,G7:G59) -> 0 | AF61: =SUMIF(L7:L59,AF60,G7:G59) -> 58646.76 | AG61: SUM
A64: Poznámky uchazeče k zadání
AG65: POPUZIV
AG71: END

Sheet SO 03 003aVCP Pol
A1: Položkový rozpočet | AG1: #TypZaznamu#
A2: S: | B2: 2021-KL | C2: OPRAVA INTERIERU OBECNÍHO ÚŘADU KLENOVICE NA HANÉ | AG2: STA
A3: O: | B3: SO 03 | C3: Stavební objekt | AC3: STA | AG3: OBJ
A4: R: | B4: 003aVCP | C4: Zpevnění omítek | AG4: ROZ
A6: P.č. | B6: Číslo položky | C6: Název položky | D6: MJ | E6: Množství | F6: Cena / MJ | G6: Celkem | H6: Dodávka | I6: Dodávka celk. | J6: Montáž | K6: Montáž celk. | L6: DPH | M6: Cena s DPH | N6: Hmotnost / MJ | O6: Hmotnost celk.(t) | P6: Dem. hmotnost / MJ | Q6: Dem. hmotnost celk.(t) | R6: Ceník | S6: Cen. soustava / platnost | T6: Cenová úroveň | U6: Nhod / MJ | V6: Nhod celk. | W6: Dodavatel | X6: Typ položky
A8: Díl: | B8: 6 | C8: Úpravy povrchu, podlahy | G8: =SUMIF(AG9:AG138,"<>NOR",G9:G138) -> 82360.82 | I8: =SUM(I9:I138) -> 50524.62 | K8: =SUM(K9:K138) -> 31836.2 | M8: =SUM(M9:M138) -> 99656.592 | O8: =SUM(O9:O138) -> 0.56 | Q8: =SUM(Q9:Q138) -> 0 | V8: =SUM(V9:V138) -> 104.82 | AG8: DIL
A9: 1 | B9: 602021NC01 | C9: Adhézní můstek Den Braven | D9: m2 | E9: 748.7347 | F9: 65 | G9: =ROUND(E9*F9,2) -> 48667.76 | H9: 34.96 | I9: =ROUND(E9*H9,2) -> 26175.77 | J9: 30.04 | K9: =ROUND(E9*J9,2) -> 22491.99 | L9: 21 | M9: =G9*(1+L9/100) -> 58887.99 | N9: 0.00053 | O9: =ROUND(E9*N9,2) -> 0.4 | P9: 0 | Q9: =ROUND(E9*P9,2) -> 0 | S9: Vlastní | T9: Indiv | U9: 0.07 | V9: =ROUND(E9*U9,2) -> 52.41 | X9: Práce | AG9: POL1_
A10: 2 | B10: 602023NC01 | C10: Penetrace stěn Den Braven | D10: m2 | E10: 748.7347 | F10: 45 | G10: =ROUND(E10*F10,2) -> 33693.06 | H10: 32.52 | I10: =ROUND(E10*H10,2) -> 24348.85 | J10: 12.48 | K10: =ROUND(E10*J10,2) -> 9344.21 | L10: 21 | M10: =G10*(1+L10/100) -> 40768.603 | N10: 0.00021 | O10: =ROUND(E10*N10,2) -> 0.16 | P10: 0 | Q10: =ROUND(E10*P10,2) -> 0 | S10: Vlastní | T10: Indiv | U10: 0.07 | V10: =ROUND(E10*U10,2) -> 52.41 | X10: Práce | AG10: POL1_
C11: strop : | AG11: VV | AH11: 0
C12: I.NP : | AG12: VV | AH12: 0
C13: m.č.105 sklad : 2,3 | E13: 2.3 | AG13: VV | AH13: 0
C14: m.č.106 multifunkční prostor : 25,1 | E14: 25.1 | AG14: VV | AH14: 0
C15: m.č.107-108 předsíňka, toaleta : 8,24 | E15: 8.24 | AG15: VV | AH15: 0
C16: II.NP : | AG16: VV | AH16: 0
C17: m.č.212 úklid : 8,59 | E17: 8.59 | AG17: VV | AH17: 0
C18: m.č.213 archiv : 18,31 | E18: 18.31 | AG18: VV | AH18: 0
C19: stěny : | AG19: VV | AH19: 0
C20: I.NP : | AG20: VV | AH20: 0
C21: m.č.101 vstup : 2,54*2,4*2 | E21: 12.192 | AG21: VV | AH21: 0
C22: 1,98*2,4 | E22: 4.752 | AG22: VV | AH22: 0
C23: -1,32*2,25 | E23: -2.97 | AG23: VV | AH23: 0
C24: 4,525*2,65*2 | E24: 23.9825 | AG24: VV | AH24: 0
C25: 0,15*2,5 | E25: 0.375 | AG25: VV | AH25: 0
C26: 0,63*2,4*2 | E26: 3.024 | AG26: VV | AH26: 0
C27: 3,39*3,3 | E27: 11.187 | AG27: VV | AH27: 0
C28: -0,245*0,6 | E28: -0.147 | AG28: VV | AH28: 0
C29: -1,83*3,0 | E29: -5.49 | AG29: VV | AH29: 0
C30: (0,26+0,21)*3,0 | E30: 1.41 | AG30: VV | AH30: 0
C31: 2,16*3,0*2 | E31: 12.96 | AG31: VV | AH31: 0
C32: -0,9*3,07*2 | E32: -5.526 | AG32: VV | AH32: 0
... C77: odpočet za opravy po obkladech : -(17,05+46,39+14,83) | E77: -78.27 | AG77: VV | AH77: 0
C78: II.NP : | AG78: VV | AH78: 0
C79: m.č.201-202 schodiště, hala : 3,675*6,46 | E79: 23.7405 | AG79: VV | AH79: 0
C80: 1,1*5,46*2 | E80: 12.012 | AG80: VV | AH80: 0
C81: 2,9*5,46 | E81: 15.834 | AG81: VV | AH81: 0
C82: -1,48*2,38 | E82: -3.5224 | AG82: VV | AH82: 0
C83: (1,48+2,38+2,38)*0,4 | E83: 2.496 | AG83: VV | AH83: 0
C84: 3,675*4,46 | E84: 16.3905 | AG84: VV | AH84: 0
C85: 0,3*3,45*2 | E85: 2.07 | AG85: VV | AH85: 0
C86: 2,405*0,55*2 | E86: 2.6455 | AG86: VV | AH86: 0
C87: m.č.203 předprostor kanceláří : 5,72*3,3*2 | E87: 37.752 | AG87: VV | AH87: 0
C88: 2,36*3,3 | E88: 7.788 | AG88: VV | AH88: 0
C89: 2,36*0,55 | E89: 1.298 | AG89: VV | AH89: 0
C90: -0,85*1,97 | E90: -1.6745 | AG90: VV | AH90: 0
... C103: (1,35+2,43+2,43)*0,4*2 | E103: 4.968 | AG103: VV | AH103: 0
C104: m.č.205 kancelář starosty : | AG104: VV | AH104: 0
C105: 4,14*3,08 | E105: 12.7512 | AG105: VV | AH105: 0
C106: 5,625*3,08 | E106: 17.325 | AG106: VV | AH106: 0
C107: -1,35*2,43*2 | E107: -6.561 | AG107: VV | AH107: 0
C108: 0,15*3,27*4 | E108: 1.962 | AG108: VV | AH108: 0
C109: (1,35+2,43+2,43)*0,4*2 | E109: 4.968 | AG109: VV | AH109: 0
C110: m.č.206 kuchyňka : 4,24*3,07 | E110: 13.0168 | AG110: VV | AH110: 0
C111: 1,515*3,07 | E111: 4.65105 | AG111: VV | AH111: 0
C112: m.č.207 schodiště půdy : 50,0 | E112: 50 | AG112: VV | AH112: 0
C113: m.č.211 předprostor obř. síně : 4,95*3,3*2 | E113: 32.67 | AG113: VV | AH113: 0
C114: 2,36*3,3 | E114: 7.788 | AG114: VV | AH114: 0
C115: 2,36*0,55 | E115: 1.298 | AG115: VV | AH115: 0
C116: -1,25*2,51 | E116: -3.1375 | AG116: VV | AH116: 0
... C138: -0,85*1,97 | E138: -1.6745 | AG138: VV | AH138: 0
A139: Díl: | B139: 99 | C139: Staveništní přesun hmot | G139: =SUMIF(AG140:AG140,"<>NOR",G140:G140) -> 490.34 | I139: =SUM(I140:I140) -> 0 | K139: =SUM(K140:K140) -> 490.34 | M139: =SUM(M140:M140) -> 593.3114 | O139: =SUM(O140:O140) -> 0 | Q139: =SUM(Q140:Q140) -> 0 | V139: =SUM(V140:V140) -> 1.16 | AG139: DIL
A140: 3 | B140: 999281145R00 | C140: Přesun hmot pro opravy a údržbu do v. 6 m, nošením | D140: t | E140: 0.55406 | F140: 885 | G140: =ROUND(E140*F140,2) -> 490.34 | H140: 0 | I140: =ROUND(E140*H140,2) -> 0 | J140: 885 | K140: =ROUND(E140*J140,2) -> 490.34 | L140: 21 | M140: =G140*(1+L140/100) -> 593.3114 | N140: 0 | O140: =ROUND(E140*N140,2) -> 0 | P140: 0 | Q140: =ROUND(E140*P140,2) -> 0 | S140: RTS 22/ I | T140: RTS 21/ II | U140: 2.1 | V140: =ROUND(E140*U140,2) -> 1.16 | X140: Přesun hmot | AG140: POL7_
AE141: 15 | AF141: 21 | AG141: DPH
B142: Celkem | G142: =G8+G139 -> 82851.16 | AE142: =SUMIF(L7:L140,AE141,G7:G140) -> 0 | AF142: =SUMIF(L7:L140,AF141,G7:G140) -> 82851.16 | AG142: SUM
A145: Poznámky uchazeče k zadání
AG146: POPUZIV
AG152: END

Sheet SO 03 004aVCP Pol
A1: Položkový rozpočet | AG1: #TypZaznamu#
A2: S: | B2: 2021-KL | C2: OPRAVA INTERIERU OBECNÍHO ÚŘADU KLENOVICE NA HANÉ | AG2: STA
A3: O: | B3: SO 03 | C3: Stavební objekt | AC3: STA | AG3: OBJ
A4: R: | B4: 004aVCP | C4: Oprava SDK příčky | AG4: ROZ
A6: P.č. | B6: Číslo položky | C6: Název položky | D6: MJ | E6: Množství | F6: Cena / MJ | G6: Celkem | H6: Dodávka | I6: Dodávka celk. | J6: Montáž | K6: Montáž celk. | L6: DPH | M6: Cena s DPH | N6: Hmotnost / MJ | O6: Hmotnost celk.(t) | P6: Dem. hmotnost / MJ | Q6: Dem. hmotnost celk.(t) | R6: Ceník | S6: Cen. soustava / platnost | T6: Cenová úroveň | U6: Nhod / MJ | V6: Nhod celk. | W6: Dodavatel | X6: Typ položky
A8: Díl: | B8: 3 | C8: Svislé a kompletní konstrukce | G8: =SUMIF(AG9:AG13,"<>NOR",G9:G13) -> 28646.73 | I8: =SUM(I9:I13) -> 14783.98 | K8: =SUM(K9:K13) -> 13862.76 | M8: =SUM(M9:M13) -> 34662.543 | O8: =SUM(O9:O13) -> 0.71 | Q8: =SUM(Q9:Q13) -> 0 | V8: =SUM(V9:V13) -> 34.38 | AG8: DIL
A9: 1 | B9: 342261112R00 | C9: Příčka sádrokarton. ocel.kce, 1x oplášť. tl.100 mm | D9: m2 | E9: 28.068 | F9: 1099 | G9: =ROUND(E9*F9,2) -> 30846.73 | H9: 526.72 | I9: =ROUND(E9*H9,2) -> 14783.98 | J9: 572.28 | K9: =ROUND(E9*J9,2) -> 16062.76 | L9: 21 | M9: =G9*(1+L9/100) -> 37324.543 | N9: 0.02542 | O9: =ROUND(E9*N9,2) -> 0.71 | P9: 0 | Q9: =ROUND(E9*P9,2) -> 0 | S9: RTS 22/ I | T9: RTS 21/ II | U9: 1.225 | V9: =ROUND(E9*U9,2) -> 34.38 | X9: Práce | AG9: POL1_
C10: II.NP : 7,3*3,08 | E10: 22.484 | AG10: VV | AH10: 0
C11: 4,2*2,08 | E11: 8.736 | AG11: VV | AH11: 0
C12: -0,8*1,97*2 | E12: -3.152 | AG12: VV | AH12: 0
A13: 2 | B13: 3-NC08 | C13: Oprava SDK kce příčky mezi m.č. 204 a 205 po rozvodech elektroinstalace | D13: kpl | E13: -1 | F13: 2200 | G13: =ROUND(E13*F13,2) -> -2200 | H13: 0 | I13: =ROUND(E13*H13,2) -> 0 | J13: 2200 | K13: =ROUND(E13*J13,2) -> -2200 | L13: 21 | M13: =G13*(1+L13/100) -> -2662 | N13: 0 | O13: =ROUND(E13*N13,2) -> 0 | P13: 0 | Q13: =ROUND(E13*P13,2) -> 0 | S13: Vlastní | T13: Indiv | U13: 0 | V13: =ROUND(E13*U13,2) -> 0 | X13: Práce | AG13: POL1_
A14: Díl: | B14: 96 | C14: Bourání konstrukcí | G14: =SUMIF(AG15:AG18,"<>NOR",G15:G18) -> 3845.32 | I14: =SUM(I15:I18) -> 246.44 | K14: =SUM(K15:K18) -> 3598.88 | M14: =SUM(M15:M18) -> 4652.8372 | O14: =SUM(O15:O18) -> 0.01 | Q14: =SUM(Q15:Q18) -> 0.62 | V14: =SUM(V15:V18) -> 9.12 | AG14: DIL
A15: 3 | B15: 962036112R00 | C15: DMTZ SDK příčky, 1x kov.kce., 1x opláštěné 12,5 mm | D15: m2 | E15: 28.068 | F15: 137 | G15: =ROUND(E15*F15,2) -> 3845.32 | H15: 8.78 | I15: =ROUND(E15*H15,2) -> 246.44 | J15: 128.22 | K15: =ROUND(E15*J15,2) -> 3598.88 | L15: 21 | M15: =G15*(1+L15/100) -> 4652.8372 | N15: 0.00033 | O15: =ROUND(E15*N15,2) -> 0.01 | P15: 0.02198 | Q15: =ROUND(E15*P15,2) -> 0.62 | S15: RTS 22/ I | T15: RTS 21/ II | U15: 0.325 | V15: =ROUND(E15*U15,2) -> 9.12 | X15: Práce | AG15: POL1_
C16: II.NP : 7,3*3,08 | E16: 22.484 | AG16: VV | AH16: 0
C17: 4,2*2,08 | E17: 8.736 | AG17: VV | AH17: 0
C18: -0,8*1,97*2 | E18: -3.152 | AG18: VV | AH18: 0
A19: Díl: | B19: 99 | C19: Staveništní přesun hmot | G19: =SUMIF(AG20:AG20,"<>NOR",G20:G20) -> 639.63 | I19: =SUM(I20:I20) -> 0 | K19: =SUM(K20:K20) -> 639.63 | M19: =SUM(M20:M20) -> 773.9523 | O19: =SUM(O20:O20) -> 0 | Q19: =SUM(Q20:Q20) -> 0 | V19: =SUM(V20:V20) -> 1.52 | AG19: DIL
A20: 4 | B20: 999281145R00 | C20: Přesun hmot pro opravy a údržbu do v. 6 m, nošením | D20: t | E20: 0.72275 | F20: 885 | G20: =ROUND(E20*F20,2) -> 639.63 | H20: 0 | I20: =ROUND(E20*H20,2) -> 0 | J20: 885 | K20: =ROUND(E20*J20,2) -> 639.63 | L20: 21 | M20: =G20*(1+L20/100) -> 773.9523 | N20: 0 | O20: =ROUND(E20*N20,2) -> 0 | P20: 0 | Q20: =ROUND(E20*P20,2) -> 0 | S20: RTS 22/ I | T20: RTS 21/ II | U20: 2.1 | V20: =ROUND(E20*U20,2) -> 1.52 | X20: Přesun hmot | AG20: POL7_
A21: Díl: | B21: D96 | C21: Přesuny suti a vybouraných hmot | G21: =SUMIF(AG22:AG27,"<>NOR",G22:G27) -> 874.92 | I21: =SUM(I22:I27) -> 0 | K21: =SUM(K22:K27) -> 874.92 | M21: =SUM(M22:M27) -> 1058.6532 | O21: =SUM(O22:O27) -> 0 | Q21: =SUM(Q22:Q27) -> 0 | V21: =SUM(V22:V27) -> 1.07 | AG21: DIL
A22: 5 | B22: 979081111R00 | C22: Odvoz suti a vybour. hmot na skládku do 1 km | D22: t | E22: 0.61693 | F22: 234.5 | G22: =ROUND(E22*F22,2) -> 144.67 | H22: 0 | I22: =ROUND(E22*H22,2) -> 0 | J22: 234.5 | K22: =ROUND(E22*J22,2) -> 144.67 | L22: 21 | M22: =G22*(1+L22/100) -> 175.0507 | N22: 0 | O22: =ROUND(E22*N22,2) -> 0 | P22: 0 | Q22: =ROUND(E22*P22,2) -> 0 | S22: RTS 22/ I | T22: RTS 21/ II | U22: 0.49 | V22: =ROUND(E22*U22,2) -> 0.3 | X22: Přesun suti | AG22: POL8_
C23: Včetně naložení na dopravní prostředek a složení na skládku, bez poplatku za skládku. | AG23: POP
A24: 6 | B24: 979081121R00 | C24: Příplatek k odvozu za každý další 1 km | D24: t | E24: 7.40322 | F24: 16 | G24: =ROUND(E24*F24,2) -> 118.45 | H24: 0 | I24: =ROUND(E24*H24,2) -> 0 | J24: 16 | K24: =ROUND(E24*J24,2) -> 118.45 | L24: 21 | M24: =G24*(1+L24/100) -> 143.3245 | N24: 0 | O24: =ROUND(E24*N24,2) -> 0 | P24: 0 | Q24: =ROUND(E24*P24,2) -> 0 | S24: RTS 22/ I | T24: RTS 21/ II | U24: 0 | V24: =ROUND(E24*U24,2) -> 0 | X24: Přesun suti | AG24: POL8_
A25: 7 | B25: 979082111R00 | C25: Vnitrostaveništní doprava suti do 10 m | D25: t | E25: 0.61693 | F25: 331 | G25: =ROUND(E25*F25,2) -> 204.2 | H25: 0 | I25: =ROUND(E25*H25,2) -> 0 | J25: 331 | K25: =ROUND(E25*J25,2) -> 204.2 | L25: 21 | M25: =G25*(1+L25/100) -> 247.082 | N25: 0 | O25: =ROUND(E25*N25,2) -> 0 | P25: 0 | Q25: =ROUND(E25*P25,2) -> 0 | S25: RTS 22/ I | T25: RTS 21/ II | U25: 0.942 | V25: =ROUND(E25*U25,2) -> 0.58 | X25: Přesun suti | AG25: POL8_
A26: 8 | B26: 979082121R00 | C26: Příplatek k vnitrost. dopravě suti za dalších 5 m | D26: t | E26: 1.8508 | F26: 36.9 | G26: =ROUND(E26*F26,2) -> 68.29 | H26: 0 | I26: =ROUND(E26*H26,2) -> 0 | J26: 36.9 | K26: =ROUND(E26*J26,2) -> 68.29 | L26: 21 | M26: =G26*(1+L26/100) -> 82.6309 | N26: 0 | O26: =ROUND(E26*N26,2) -> 0 | P26: 0 | Q26: =ROUND(E26*P26,2) -> 0 | S26: RTS 22/ I | T26: RTS 21/ II | U26: 0.105 | V26: =ROUND(E26*U26,2) -> 0.19 | X26: Přesun suti | AG26: POL8_
A27: 9 | B27: 9799901NC01 | C27: Poplatek za sklád.suti | D27: t | E27: 0.61693 | F27: 550 | G27: =ROUND(E27*F27,2) -> 339.31 | H27: 0 | I27: =ROUND(E27*H27,2) -> 0 | J27: 550 | K27: =ROUND(E27*J27,2) -> 339.31 | L27: 21 | M27: =G27*(1+L27/100) -> 410.5651 | N27: 0 | O27: =ROUND(E27*N27,2) -> 0 | P27: 0 | Q27: =ROUND(E27*P27,2) -> 0 | S27: Vlastní | T27: Indiv | U27: 0 | V27: =ROUND(E27*U27,2) -> 0 | X27: Přesun suti | AG27: POL8_
AE28: 15 | AF28: 21 | AG28: DPH
B29: Celkem | G29: =G8+G14+G19+G21 -> 34006.6 | AE29: =SUMIF(L7:L27,AE28,G7:G27) -> 0 | AF29: =SUMIF(L7:L27,AF28,G7:G27) -> 34006.6 | AG29: SUM
A32: Poznámky uchazeče k zadání
AG33: POPUZIV
AG39: END

Sheet SO 03 005aVCP Pol
A1: Položkový rozpočet | AG1: #TypZaznamu#
A2: S: | B2: 2021-KL | C2: OPRAVA INTERIERU OBECNÍHO ÚŘADU KLENOVICE NA HANÉ | AG2: STA
A3: O: | B3: SO 03 | C3: Stavební objekt | AC3: STA | AG3: OBJ
A4: R: | B4: 005aVCP | C4: Injektáž zdiva | AG4: ROZ
A6: P.č. | B6: Číslo položky | C6: Název položky | D6: MJ | E6: Množství | F6: Cena / MJ | G6: Celkem | H6: Dodávka | I6: Dodávka celk. | J6: Montáž | K6: Montáž celk. | L6: DPH | M6: Cena s DPH | N6: Hmotnost / MJ | O6: Hmotnost celk.(t) | P6: Dem. hmotnost / MJ | Q6: Dem. hmotnost celk.(t) | R6: Ceník | S6: Cen. soustava / platnost | T6: Cenová úroveň | U6: Nhod / MJ | V6: Nhod celk. | W6: Dodavatel | X6: Typ položky
A8: Díl: | B8: 2 | C8: Základy a zvláštní zakládání | G8: =SUMIF(AG9:AG13,"<>NOR",G9:G13) -> 70239 | I8: =SUM(I9:I13) -> 55787.87 | K8: =SUM(K9:K13) -> 14451.13 | M8: =SUM(M9:M13) -> 84989.19 | O8: =SUM(O9:O13) -> 0.02 | Q8: =SUM(Q9:Q13) -> 0 | V8: =SUM(V9:V13) -> 22.26 | AG8: DIL
A9: 1 | B9: 281606213R00 | C9: Nízkotlaká injektáž cihelného zdiva tl. do 80 cm | D9: m | E9: 21.4 | F9: 3185 | G9: =ROUND(E9*F9,2) -> 68159 | H9: 2606.91 | I9: =ROUND(E9*H9,2) -> 55787.87 | J9: 578.09 | K9: =ROUND(E9*J9,2) -> 12371.13 | L9: 21 | M9: =G9*(1+L9/100) -> 82472.39 | N9: 0.00106 | O9: =ROUND(E9*N9,2) -> 0.02 | P9: 0 | Q9: =ROUND(E9*P9,2) -> 0 | S9: RTS 22/ I | T9: RTS 21/ II | U9: 1.03999 | V9: =ROUND(E9*U9,2) -> 22.26 | X9: Práce | AG9: POL1_
C10: Vyvrtání otvorů (10 ks/m zdi), vyčištění vrtu od hrubých nečistot, osazení pakrů,nízkotlaká injektáž do 10 bar ( spotřeba 1,33 l látky/m2 půdorysné plochy zdiva, ředí se vodou 1:10), dodávka injektážní silikonové mikroemulze. Aplikce injektážním zařízením. | AG10: POP | BA10: =C10 -> Vyvrtání otvorů (10 ks/m zdi), vyčištění vrtu od hrubých nečistot, osazení pakrů,nízkotlaká injektáž do 10 bar ( spotřeba 1,33 l látky/m2 půdorysné plochy zdiva, ředí se vodou 1:10), dodávka injektážní silikonové mikroemulze. Aplikce injektážním zařízením.
C11: zdivo u vstupu do budovy : 7,7*2 | E11: 15.4 | AG11: VV | AH11: 0
C12: 3,0*2 | E12: 6 | AG12: VV | AH12: 0
A13: 2 | B13: 2-NC01 | C13: Doprava, úklid pro injektáž zdiva | D13: kpl | E13: 1 | F13: 2080 | G13: =ROUND(E13*F13,2) -> 2080 | H13: 0 | I13: =ROUND(E13*H13,2) -> 0 | J13: 2080 | K13: =ROUND(E13*J13,2) -> 2080 | L13: 21 | M13: =G13*(1+L13/100) -> 2516.8 | N13: 0 | O13: =ROUND(E13*N13,2) -> 0 | P13: 0 | Q13: =ROUND(E13*P13,2) -> 0 | S13: Vlastní | T13: Indiv | U13: 0 | V13: =ROUND(E13*U13,2) -> 0 | X13: Práce | AG13: POL1_
A14: Díl: | B14: 99 | C14: Staveništní přesun hmot | G14: =SUMIF(AG15:AG15,"<>NOR",G15:G15) -> 20.07 | I14: =SUM(I15:I15) -> 0 | K14: =SUM(K15:K15) -> 20.07 | M14: =SUM(M15:M15) -> 24.2847 | O14: =SUM(O15:O15) -> 0 | Q14: =SUM(Q15:Q15) -> 0 | V14: =SUM(V15:V15) -> 0.05 | AG14: DIL
A15: 3 | B15: 999281145R00 | C15: Přesun hmot pro opravy a údržbu do v. 6 m, nošením | D15: t | E15: 0.02268 | F15: 885 | G15: =ROUND(E15*F15,2) -> 20.07 | H15: 0 | I15: =ROUND(E15*H15,2) -> 0 | J15: 885 | K15: =ROUND(E15*J15,2) -> 20.07 | L15: 21 | M15: =G15*(1+L15/100) -> 24.2847 | N15: 0 | O15: =ROUND(E15*N15,2) -> 0 | P15: 0 | Q15: =ROUND(E15*P15,2) -> 0 | S15: RTS 22/ I | T15: RTS 21/ II | U15: 2.1 | V15: =ROUND(E15*U15,2) -> 0.05 | X15: Přesun hmot | AG15: POL7_
AE16: 15 | AF16: 21 | AG16: DPH
B17: Celkem | G17: =G8+G14 -> 70259.07 | AE17: =SUMIF(L7:L15,AE16,G7:G15) -> 0 | AF17: =SUMIF(L7:L15,AF16,G7:G15) -> 70259.07 | AG17: SUM
A20: Poznámky uchazeče k zadání
AG21: POPUZIV
AG27: END

Sheet SO 03 006aVCP Pol
A1: Položkový rozpočet | AG1: #TypZaznamu#
A2: S: | B2: 2021-KL | C2: OPRAVA INTERIERU OBECNÍHO ÚŘADU KLENOVICE NA HANÉ | AG2: STA
A3: O: | B3: SO 03 | C3: Stavební objekt | AC3: STA | AG3: OBJ
A4: R: | B4: 006aVCP | C4: Změna omítek m.č. 101 | AG4: ROZ
A6: P.č. | B6: Číslo položky | C6: Název položky | D6: MJ | E6: Množství | F6: Cena / MJ | G6: Celkem | H6: Dodávka | I6: Dodávka celk. | J6: Montáž | K6: Montáž celk. | L6: DPH | M6: Cena s DPH | N6: Hmotnost / MJ | O6: Hmotnost celk.(t) | P6: Dem. hmotnost / MJ | Q6: Dem. hmotnost celk.(t) | R6: Ceník | S6: Cen. soustava / platnost | T6: Cenová úroveň | U6: Nhod / MJ | V6: Nhod celk. | W6: Dodavatel | X6: Typ položky
A8: Díl: | B8: 61 | C8: Úpravy povrchů vnitřní | G8: =SUMIF(AG9:AG55,"<>NOR",G9:G55) -> 19830.48 | I8: =SUM(I9:I55) -> 10819.96 | K8: =SUM(K9:K55) -> 9010.53 | M8: =SUM(M9:M55) -> 23994.881 | O8: =SUM(O9:O55) -> 0.47 | Q8: =SUM(Q9:Q55) -> 0 | V8: =SUM(V9:V55) -> 17.15 | AG8: DIL
A9: 1 | B9: 602014144RU3 | C9: Štuk vnitřní i vnější Salith MHF PII ručně 2x nanášený, celková tloušťka vrstvy 4 mm | D9: m2 | E9: -4.6076 | F9: 258 | G9: =ROUND(E9*F9,2) -> -1188.76 | H9: 31.81 | I9: =ROUND(E9*H9,2) -> -146.57 | J9: 226.19 | K9: =ROUND(E9*J9,2) -> -1042.19 | L9: 21 | M9: =G9*(1+L9/100) -> -1438.3996 | N9: 0.0054 | O9: =ROUND(E9*N9,2) -> -0.02 | P9: 0 | Q9: =ROUND(E9*P9,2) -> 0 | S9: RTS 22/ I | T9: RTS 21/ II | U9: 0.472 | V9: =ROUND(E9*U9,2) -> -2.17 | X9: Práce | AG9: POL1_
C10: I.NP : | AG10: VV | AH10: 0
C11: m.č.101 vstup : -2,54*0,24*2 | E11: -1.2192 | AG11: VV | AH11: 0
C12: -1,98*0,24 | E12: -0.4752 | AG12: VV | AH12: 0
C13: 1,32*0,24 | E13: 0.3168 | AG13: VV | AH13: 0
C14: -4,525*0,41 | E14: -1.85525 | AG14: VV | AH14: 0
C15: -0,63*0,41 | E15: -0.2583 | AG15: VV | AH15: 0
C16: -0,245*0,41 | E16: -0.10045 | AG16: VV | AH16: 0
C17: m.č.103 knihovna : -2,54*0,4 | E17: -1.016 | AG17: VV | AH17: 0
A18: 2 | B18: 612421637R00 | C18: Omítka vnitřní zdiva, MVC, štuková | D18: m2 | E18: 2.47725 | F18: 452.5 | G18: =ROUND(E18*F18,2) -> 1120.96 | H18: 46.97 | I18: =ROUND(E18*H18,2) -> 116.36 | J18: 405.53 | K18: =ROUND(E18*J18,2) -> 1004.6 | L18: 21 | M18: =G18*(1+L18/100) -> 1356.3616 | N18: 0.04766 | O18: =ROUND(E18*N18,2) -> 0.12 | P18: 0 | Q18: =ROUND(E18*P18,2) -> 0 | S18: RTS 22/ I | T18: RTS 21/ II | U18: 0.84 | V18: =ROUND(E18*U18,2) -> 2.08 | X18: Práce | AG18: POL1_
C19: I.NP : | AG19: VV | AH19: 0
C20: m.č.101 vstup : | AG20: VV | AH20: 0
C21: 4,525*0,85 | E21: 3.84625 | AG21: VV | AH21: 0
C22: 0,15*0,85 | E22: 0.1275 | AG22: VV | AH22: 0
C23: 0,63*0,85 | E23: 0.5355 | AG23: VV | AH23: 0
C24: m.č.103 knihovna : -2,54*0,8 | E24: -2.032 | AG24: VV | AH24: 0
A25: 3 | B25: 612421331RT2 | C25: Oprava vápen.omítek stěn do 30 % pl. - štukových s použitím suché maltové směsi | D25: m2 | E25: -4.6076 | F25: 230 | G25: =ROUND(E25*F25,2) -> -1059.75 | H25: 60.21 | I25: =ROUND(E25*H25,2) -> -277.42 | J25: 169.79 | K25: =ROUND(E25*J25,2) -> -782.32 | L25: 21 | M25: =G25*(1+L25/100) -> -1282.2975 | N25: 0.01038 | O25: =ROUND(E25*N25,2) -> -0.05 | P25: 0 | Q25: =ROUND(E25*P25,2) -> 0 | S25: RTS 22/ I | T25: RTS 21/ II | U25: 0.33688 | V25: =ROUND(E25*U25,2) -> -1.55 | X25: Práce | AG25: POL1_
C26: Včetně pomocného pracovního lešení o výšce podlahy do 1900 mm a pro zatížení do 1,5 kPa. | AG26: POP
C27: I.NP : | AG27: VV | AH27: 0
C28: m.č.101 vstup : -2,54*0,24*2 | E28: -1.2192 | AG28: VV | AH28: 0
C29: -1,98*0,24 | E29: -0.4752 | AG29: VV | AH29: 0
C30: 1,32*0,24 | E30: 0.3168 | AG30: VV | AH30: 0
C31: -4,525*0,41 | E31: -1.85525 | AG31: VV | AH31: 0
C32: -0,63*0,41 | E32: -0.2583 | AG32: VV | AH32: 0
C33: -0,245*0,41 | E33: -0.10045 | AG33: VV | AH33: 0
C34: m.č.103 knihovna : -2,54*0,4 | E34: -1.016 | AG34: VV | AH34: 0
A35: 4 | B35: 612433214RT3 | C35: Omítka sanační vnitřní, vysoké zasolení, tl.35 mm postřik, podklad, jádrová omítka, štuk; Cemix | D35: m2 | E35: 22.748 | F35: 1150 | G35: =ROUND(E35*F35,2) -> 26160.2 | H35: 523.66 | I35: =ROUND(E35*H35,2) -> 11912.22 | J35: 626.34 | K35: =ROUND(E35*J35,2) -> 14247.98 | L35: 21 | M35: =G35*(1+L35/100) -> 31653.842 | N35: 0.04894 | O35: =ROUND(E35*N35,2) -> 1.11 | P35: 0 | Q35: =ROUND(E35*P35,2) -> 0 | S35: RTS 22/ I | T35: RTS 21/ II | U35: 1.22955 | V35: =ROUND(E35*U35,2) -> 27.97 | X35: Práce | AG35: POL1_
C36: I.NP : | AG36: VV | AH36: 0
C37: m.č.101 vstup : 2,54*1,4*2 | E37: 7.112 | AG37: VV | AH37: 0
C38: 1,98*1,4 | E38: 2.772 | AG38: VV | AH38: 0
C39: -1,32*1,4 | E39: -1.848 | AG39: VV | AH39: 0
C40: 4,525*1,26 | E40: 5.7015 | AG40: VV | AH40: 0
C41: 0,245*1,26 | E41: 0.3087 | AG41: VV | AH41: 0
C42: 0,63*1,26 | E42: 0.7938 | AG42: VV | AH42: 0
C43: m.č.103 knihovna : 2,54*1,2 | E43: 3.048 | AG43: VV | AH43: 0
C44: u sklepa : 1,8*2,25 | E44: 4.05 | AG44: VV | AH44: 0
C45: 0,36*2,25 | E45: 0.81 | AG45: VV | AH45: 0
A46: 5 | B46: 612451121R00 | C46: Omítka vnitřní zdiva, cementová (MC), hladká | D46: m2 | E46: -15.10065 | F46: 344.5 | G46: =ROUND(E46*F46,2) -> -5202.17 | H46: 51.96 | I46: =ROUND(E46*H46,2) -> -784.63 | J46: 292.54 | K46: =ROUND(E46*J46,2) -> -4417.54 | L46: 21 | M46: =G46*(1+L46/100) -> -6294.6257 | N46: 0.04558 | O46: =ROUND(E46*N46,2) -> -0.69 | P46: 0 | Q46: =ROUND(E46*P46,2) -> 0 | S46: RTS 22/ I | T46: RTS 21/ II | U46: 0.608 | V46: =ROUND(E46*U46,2) -> -9.18 | X46: Práce | AG46: POL1_
C47: Začátek provozního součtu | AG47: VV
C48: obklad m.č.101 vstup : 1,64*1,16*2 | E48: 3.8048 | AG48: VV | AH48: 2
C49: 0,4*1,16 | E49: 0.464 | AG49: VV | AH49: 2
C50: 0,16*1,16 | E50: 0.1856 | AG50: VV | AH50: 2
C51: 6,06*0,85*2 | E51: 10.302 | AG51: VV | AH51: 2
C52: 0,245*0,85 | E52: 0.20825 | AG52: VV | AH52: 2
C53: 0,16*0,85 | E53: 0.136 | AG53: VV | AH53: 2
C54: Konec provozního součtu | AG54: VV
C55: -15,10065 | E55: -15.10065 | AG55: VV | AH55: 0
A56: Díl: | B56: 96 | C56: Bourání konstrukcí | G56: =SUMIF(AG57:AG68,"<>NOR",G57:G68) -> 864.39 | I56: =SUM(I57:I68) -> 0 | K56: =SUM(K57:K68) -> 864.39 | M56: =SUM(M57:M68) -> 1045.9119 | O56: =SUM(O57:O68) -> 0 | Q56: =SUM(Q57:Q68) -> 0.44 | V56: =SUM(V57:V68) -> 2.46 | AG56: DIL
A57: 6 | B57: 978013191R00 | C57: Otlučení omítek vnitřních stěn v rozsahu do 100 % | D57: m2 | E57: 9.4676 | F57: 91.3 | G57: =ROUND(E57*F57,2) -> 864.39 | H57: 0 | I57: =ROUND(E57*H57,2) -> 0 | J57: 91.3 | K57: =ROUND(E57*J57,2) -> 864.39 | L57: 21 | M57: =G57*(1+L57/100) -> 1045.9119 | N57: 0 | O57: =ROUND(E57*N57,2) -> 0 | P57: 0.046 | Q57: =ROUND(E57*P57,2) -> 0.44 | S57: RTS 22/ I | T57: RTS 21/ II | U57: 0.26 | V57: =ROUND(E57*U57,2) -> 2.46 | X57: Práce | AG57: POL1_
C58: I.NP : | AG58: VV | AH58: 0
C59: I.NP : | AG59: VV | AH59: 0
C60: m.č.101 vstup : 2,54*0,24*2 | E60: 1.2192 | AG60: VV | AH60: 0
C61: 1,98*0,24 | E61: 0.4752 | AG61: VV | AH61: 0
C62: -1,32*0,24 | E62: -0.3168 | AG62: VV | AH62: 0
C63: 4,525*0,41 | E63: 1.85525 | AG63: VV | AH63: 0
C64: 0,63*0,41 | E64: 0.2583 | AG64: VV | AH64: 0
C65: 0,245*0,41 | E65: 0.10045 | AG65: VV | AH65: 0
C66: m.č.103 knihovna : 2,54*0,4 | E66: 1.016 | AG66: VV | AH66: 0
C67: u sklepa : 1,8*2,25 | E67: 4.05 | AG67: VV | AH67: 0
C68: 0,36*2,25 | E68: 0.81 | AG68: VV | AH68: 0
A69: Díl: | B69: 99 | C69: Staveništní přesun hmot | G69: =SUMIF(AG70:AG70,"<>NOR",G70:G70) -> 416.27 | I69: =SUM(I70:I70) -> 0 | K69: =SUM(K70:K70) -> 416.27 | M69: =SUM(M70:M70) -> 503.6867 | O69: =SUM(O70:O70) -> 0 | Q69: =SUM(Q70:Q70) -> 0 | V69: =SUM(V70:V70) -> 0.99 | AG69: DIL
A70: 7 | B70: 999281145R00 | C70: Přesun hmot pro opravy a údržbu do v. 6 m, nošením | D70: t | E70: 0.47036 | F70: 885 | G70: =ROUND(E70*F70,2) -> 416.27 | H70: 0 | I70: =ROUND(E70*H70,2) -> 0 | J70: 885 | K70: =ROUND(E70*J70,2) -> 416.27 | L70: 21 | M70: =G70*(1+L70/100) -> 503.6867 | N70: 0 | O70: =ROUND(E70*N70,2) -> 0 | P70: 0 | Q70: =ROUND(E70*P70,2) -> 0 | S70: RTS 22/ I | T70: RTS 21/ II | U70: 2.1 | V70: =ROUND(E70*U70,2) -> 0.99 | X70: Přesun hmot | AG70: POL7_
A71: Díl: | B71: 771 | C71: Podlahy z dlaždic a obklady | G71: =SUMIF(AG72:AG88,"<>NOR",G72:G88) -> 6221.88 | I71: =SUM(I72:I88) -> 1913.94 | K71: =SUM(K72:K88) -> 4307.93 | M71: =SUM(M72:M88) -> 7528.4748 | O71: =SUM(O72:O88) -> 0.01 | Q71: =SUM(Q72:Q88) -> 0 | V71: =SUM(V72:V88) -> 7.41 | AG71: DIL
A72: 8 | B72: 771475014R00 | C72: Obklad soklíků keram.rovných, tmel,výška 10 cm | D72: m | E72: 18.605 | F72: 129.5 | G72: =ROUND(E72*F72,2) -> 2409.35 | H72: 10.55 | I72: =ROUND(E72*H72,2) -> 196.28 | J72: 118.95 | K72: =ROUND(E72*J72,2) -> 2213.06 | L72: 21 | M72: =G72*(1+L72/100) -> 2915.3135 | N72: 0.00032 | O72: =ROUND(E72*N72,2) -> 0.01 | P72: 0 | Q72: =ROUND(E72*P72,2) -> 0 | S72: RTS 22/ I | T72: RTS 21/ II | U72: 0.236 | V72: =ROUND(E72*U72,2) -> 4.39 | X72: Práce | AG72: POL1_
C73: I.NP : | AG73: VV | AH73: 0
C74: m.č.101 vstup : 2,54*2 | E74: 5.08 | AG74: VV | AH74: 0
C75: 1,98 | E75: 1.98 | AG75: VV | AH75: 0
C76: -1,32 | E76: -1.32 | AG76: VV | AH76: 0
C77: 4,525*2 | E77: 9.05 | AG77: VV | AH77: 0
C78: 0,245+0,15 | E78: 0.395 | AG78: VV | AH78: 0
C79: 0,63*2 | E79: 1.26 | AG79: VV | AH79: 0
C80: u sklepa : 1,8+0,36 | E80: 2.16 | AG80: VV | AH80: 0
A81: 9 | B81: 771479001R00 | C81: Řezání dlaždic keramických pro soklíky | D81: m | E81: 18.605 | F81: 94.1 | G81: =ROUND(E81*F81,2) -> 1750.73 | H81: 5.42 | I81: =ROUND(E81*H81,2) -> 100.84 | J81: 88.68 | K81: =ROUND(E81*J81,2) -> 1649.89 | L81: 21 | M81: =G81*(1+L81/100) -> 2118.3833 | N81: 0 | O81: =ROUND(E81*N81,2) -> 0 | P81: 0 | Q81: =ROUND(E81*P81,2) -> 0 | S81: RTS 22/ I | T81: RTS 21/ II | U81: 0.154 | V81: =ROUND(E81*U81,2) -> 2.87 | X81: Práce | AG81: POL1_
A82: 10 | B82: 771578011R00 | C82: Spára podlaha - stěna, silikonem | D82: m | E82: 2.16 | F82: 57.1 | G82: =ROUND(E82*F82,2) -> 123.34 | H82: 21.81 | I82: =ROUND(E82*H82,2) -> 47.11 | J82: 35.29 | K82: =ROUND(E82*J82,2) -> 76.23 | L82: 21 | M82: =G82*(1+L82/100) -> 149.2414 | N82: 4e-05 | O82: =ROUND(E82*N82,2) -> 0 | P82: 0 | Q82: =ROUND(E82*P82,2) -> 0 | S82: RTS 22/ I | T82: RTS 21/ II | U82: 0.07 | V82: =ROUND(E82*U82,2) -> 0.15 | X82: Práce | AG82: POL1_
C83: vč. dodávky a montáže silikonu. | AG83: POP
C84: I.NP : | AG84: VV | AH84: 0
C85: u sklepa : 1,8+0,36 | E85: 2.16 | AG85: VV | AH85: 0
A86: 11 | B86: 771-mat 02 | C86: Dlažba LA FUTURA BALTICO TAUPE 600x600 mm dodávka dlažby | D86: m2 | E86: 2.66052 | F86: 590 | G86: =ROUND(E86*F86,2) -> 1569.71 | H86: 590 | I86: =ROUND(E86*H86,2) -> 1569.71 | J86: 0 | K86: =ROUND(E86*J86,2) -> 0 | L86: 21 | M86: =G86*(1+L86/100) -> 1899.3491 | N86: 0 | O86: =ROUND(E86*N86,2) -> 0 | P86: 0 | Q86: =ROUND(E86*P86,2) -> 0 | S86: Vlastní | T86: Indiv | U86: 0 | V86: =ROUND(E86*U86,2) -> 0 | X86: Specifikace | AG86: POL3_
C87: 18,605*0,10*1,3*1,1 | E87: 2.66052 | AG87: VV | AH87: 0
A88: 12 | B88: 998771201R00 | C88: Přesun hmot pro podlahy z dlaždic, výšky do 6 m | D88: % | E88: 58.5313 | F88: 6.3 | G88: =ROUND(E88*F88,2) -> 368.75 | H88: 0 | I88: =ROUND(E88*H88,2) -> 0 | J88: 6.3 | K88: =ROUND(E88*J88,2) -> 368.75 | L88: 21 | M88: =G88*(1+L88/100) -> 446.1875 | N88: 0 | O88: =ROUND(E88*N88,2) -> 0 | P88: 0 | Q88: =ROUND(E88*P88,2) -> 0 | S88: RTS 22/ I | T88: RTS 21/ II | U88: 0 | V88: =ROUND(E88*U88,2) -> 0 | X88: Přesun hmot | AG88: POL7_
A89: Díl: | B89: 781 | C89: Obklady keramické | G89: =SUMIF(AG90:AG112,"<>NOR",G90:G112) -> -24561.24 | I89: =SUM(I90:I112) -> -11627.05 | K89: =SUM(K90:K112) -> -12934.19 | M89: =SUM(M90:M112) -> -29719.1 | O89: =SUM(O90:O112) -> -0.08 | Q89: =SUM(Q90:Q112) -> 0 | V89: =SUM(V90:V112) -> -23.83 | AG89: DIL
A90: 13 | B90: 781475124R00 | C90: Obklad vnitřní stěn keramický, do tmele, 60x60 cm | D90: m2 | E90: -15.10065 | F90: 857 | G90: =ROUND(E90*F90,2) -> -12941.26 | H90: 120.97 | I90: =ROUND(E90*H90,2) -> -1826.73 | J90: 736.03 | K90: =ROUND(E90*J90,2) -> -11114.53 | L90: 21 | M90: =G90*(1+L90/100) -> -15658.925 | N90: 0.00503 | O90: =ROUND(E90*N90,2) -> -0.08 | P90: 0 | Q90: =ROUND(E90*P90,2) -> 0 | S90: RTS 22/ I | T90: RTS 21/ II | U90: 1.448 | V90: =ROUND(E90*U90,2) -> -21.87 | X90: Práce | AG90: POL1_
C91: Začátek provozního součtu | AG91: VV
C92: obklad m.č.101 vstup : 1,64*1,16*2 | E92: 3.8048 | AG92: VV | AH92: 2
C93: 0,4*1,16 | E93: 0.464 | AG93: VV | AH93: 2
C94: 0,16*1,16 | E94: 0.1856 | AG94: VV | AH94: 2
C95: 6,06*0,85*2 | E95: 10.302 | AG95: VV | AH95: 2
C96: 0,245*0,85 | E96: 0.20825 | AG96: VV | AH96: 2
C97: 0,16*0,85 | E97: 0.136 | AG97: VV | AH97: 2
C98: Konec provozního součtu | AG98: VV
C99: -15,10065 | E99: -15.10065 | AG99: VV | AH99: 0
A100: 14 | B100: 781479711R00 | C100: Příplatek k obkladu stěn keram.,za plochu do 10 m2 | D100: m2 | E100: -15.10065 | F100: 65.5 | G100: =ROUND(E100*F100,2) -> -989.09 | H100: 0 | I100: =ROUND(E100*H100,2) -> 0 | J100: 65.5 | K100: =ROUND(E100*J100,2) -> -989.09 | L100: 21 | M100: =G100*(1+L100/100) -> -1196.7989 | N100: 0 | O100: =ROUND(E100*N100,2) -> 0 | P100: 0 | Q100: =ROUND(E100*P100,2) -> 0 | S100: RTS 22/ I | T100: RTS 21/ II | U100: 0.13 | V100: =ROUND(E100*U100,2) -> -1.96 | X100: Práce | AG100: POL1_
C101: Začátek provozního součtu | AG101: VV
C102: obklad m.č.101 vstup : 1,64*1,16*2 | E102: 3.8048 | AG102: VV | AH102: 2
...

Sheet SO 03 007aVCP Pol
A1: Položkový rozpočet | AG1: #TypZaznamu#
A2: S: | B2: 2021-KL | C2: OPRAVA INTERIERU OBECNÍHO ÚŘADU KLENOVICE NA HANÉ | AG2: STA
A3: O: | B3: SO 03 | C3: Stavební objekt | AC3: STA | AG3: OBJ
A4: R: | B4: 007aVCP | C4: Změna dispozice m.č. 105 | AG4: ROZ
A6: P.č. | B6: Číslo položky | C6: Název položky | D6: MJ | E6: Množství | F6: Cena / MJ | G6: Celkem | H6: Dodávka | I6: Dodávka celk. | J6: Montáž | K6: Montáž celk. | L6: DPH | M6: Cena s DPH | N6: Hmotnost / MJ | O6: Hmotnost celk.(t) | P6: Dem. hmotnost / MJ | Q6: Dem. hmotnost celk.(t) | R6: Ceník | S6: Cen. soustava / platnost | T6: Cenová úroveň | U6: Nhod / MJ | V6: Nhod celk. | W6: Dodavatel | X6: Typ položky
A8: Díl: | B8: 61 | C8: Úpravy povrchů vnitřní | G8: =SUMIF(AG9:AG29,"<>NOR",G9:G29) -> -6837.45 | I8: =SUM(I9:I29) -> -1979.3 | K8: =SUM(K9:K29) -> -4858.15 | M8: =SUM(M9:M29) -> -8273.3145 | O8: =SUM(O9:O29) -> 0.39 | Q8: =SUM(Q9:Q29) -> 0 | V8: =SUM(V9:V29) -> -9.74 | AG8: DIL
A9: 1 | B9: 601014144RT1 | C9: Štuk na stropech Salith MHF PII ručně tloušťka vrstvy 2 mm | D9: m2 | E9: -2.3 | F9: 175.5 | G9: =ROUND(E9*F9,2) -> -403.65 | H9: 28.54 | I9: =ROUND(E9*H9,2) -> -65.64 | J9: 146.96 | K9: =ROUND(E9*J9,2) -> -338.01 | L9: 21 | M9: =G9*(1+L9/100) -> -488.4165 | N9: 0.00328 | O9: =ROUND(E9*N9,2) -> -0.01 | P9: 0 | Q9: =ROUND(E9*P9,2) -> 0 | S9: RTS 22/ I | T9: RTS 21/ II | U9: 0.31 | V9: =ROUND(E9*U9,2) -> -0.71 | X9: Práce | AG9: POL1_
C10: Včetně pomocného lešení. | AG10: POP
C11: I.NP : | AG11: VV | AH11: 0
C12: m.č.105 sklad : -2,3 | E12: -2.3 | AG12: VV | AH12: 0
A13: 2 | B13: 602014144RU3 | C13: Štuk vnitřní i vnější Salith MHF PII ručně 2x nanášený, celková tloušťka vrstvy 4 mm | D13: m2 | E13: -30.118 | F13: 258 | G13: =ROUND(E13*F13,2) -> -7770.44 | H13: 31.81 | I13: =ROUND(E13*H13,2) -> -958.05 | J13: 226.19 | K13: =ROUND(E13*J13,2) -> -6812.39 | L13: 21 | M13: =G13*(1+L13/100) -> -9402.2324 | N13: 0.0054 | O13: =ROUND(E13*N13,2) -> -0.16 | P13: 0 | Q13: =ROUND(E13*P13,2) -> 0 | S13: RTS 22/ I | T13: RTS 21/ II | U13: 0.472 | V13: =ROUND(E13*U13,2) -> -14.22 | X13: Práce | AG13: POL1_
C14: I.NP : | AG14: VV | AH14: 0
C15: m.č.105 sklad : -1,4*3,75*2 | E15: -10.5 | AG15: VV | AH15: 0
C16: -2,07*3,75*2 | E16: -15.525 | AG16: VV | AH16: 0
C17: 0,8*1,97 | E17: 1.576 | AG17: VV | AH17: 0
C18: m.č. 102 chodba : -(2,07*3,5)+(0,8*1,97) | E18: -5.669 | AG18: VV | AH18: 0
A19: 3 | B19: 612421637R00 | C19: Omítka vnitřní zdiva, MVC, štuková | D19: m2 | E19: 18.2625 | F19: 452.5 | G19: =ROUND(E19*F19,2) -> 8263.78 | H19: 46.97 | I19: =ROUND(E19*H19,2) -> 857.79 | J19: 405.53 | K19: =ROUND(E19*J19,2) -> 7405.99 | L19: 21 | M19: =G19*(1+L19/100) -> 9999.1738 | N19: 0.04766 | O19: =ROUND(E19*N19,2) -> 0.87 | P19: 0 | Q19: =ROUND(E19*P19,2) -> 0 | S19: RTS 22/ I | T19: RTS 21/ II | U19: 0.84 | V19: =ROUND(E19*U19,2) -> 15.34 | X19: Práce | AG19: POL1_
C20: I.NP : | AG20: VV | AH20: 0
C21: m.č.105 sklad : 1,4*3,75*2 | E21: 10.5 | AG21: VV | AH21: 0
C22: 2,07*3,75 | E22: 7.7625 | AG22: VV | AH22: 0
A23: 4 | B23: 612421331RT2 | C23: Oprava vápen.omítek stěn do 30 % pl. - štukových s použitím suché maltové směsi | D23: m2 | E23: -30.118 | F23: 230 | G23: =ROUND(E23*F23,2) -> -6927.14 | H23: 60.21 | I23: =ROUND(E23*H23,2) -> -1813.4 | J23: 169.79 | K23: =ROUND(E23*J23,2) -> -5113.74 | L23: 21 | M23: =G23*(1+L23/100) -> -8381.8394 | N23: 0.01038 | O23: =ROUND(E23*N23,2) -> -0.31 | P23: 0 | Q23: =ROUND(E23*P23,2) -> 0 | S23: RTS 22/ I | T23: RTS 21/ II | U23: 0.33688 | V23: =ROUND(E23*U23,2) -> -10.15 | X23: Práce | AG23: POL1_
C24: Včetně pomocného pracovního lešení o výšce podlahy do 1900 mm a pro zatížení do 1,5 kPa. | AG24: POP
C25: I.NP : | AG25: VV | AH25: 0
C26: m.č.105 sklad : -1,4*3,75*2 | E26: -10.5 | AG26: VV | AH26: 0
C27: -2,07*3,75*2 | E27: -15.525 | AG27: VV | AH27: 0
C28: 0,8*1,97 | E28: 1.576 | AG28: VV | AH28: 0
C29: m.č. 102 chodba : -(2,07*3,5)+(0,8*1,97) | E29: -5.669 | AG29: VV | AH29: 0
A30: Díl: | B30: 96 | C30: Bourání konstrukcí | G30: =SUMIF(AG31:AG34,"<>NOR",G31:G34) -> 1667.37 | I30: =SUM(I31:I34) -> 0 | K30: =SUM(K31:K34) -> 1667.37 | M30: =SUM(M31:M34) -> 2017.5177 | O30: =SUM(O31:O34) -> 0 | Q30: =SUM(Q31:Q34) -> 0.84 | V30: =SUM(V31:V34) -> 4.75 | AG30: DIL
A31: 5 | B31: 978013191R00 | C31: Otlučení omítek vnitřních stěn v rozsahu do 100 % | D31: m2 | E31: 18.2625 | F31: 91.3 | G31: =ROUND(E31*F31,2) -> 1667.37 | H31: 0 | I31: =ROUND(E31*H31,2) -> 0 | J31: 91.3 | K31: =ROUND(E31*J31,2) -> 1667.37 | L31: 21 | M31: =G31*(1+L31/100) -> 2017.5177 | N31: 0 | O31: =ROUND(E31*N31,2) -> 0 | P31: 0.046 | Q31: =ROUND(E31*P31,2) -> 0.84 | S31: RTS 22/ I | T31: RTS 21/ II | U31: 0.26 | V31: =ROUND(E31*U31,2) -> 4.75 | X31: Práce | AG31: POL1_
C32: I.NP : | AG32: VV | AH32: 0
C33: m.č.105 sklad : 1,4*3,75*2 | E33: 10.5 | AG33: VV | AH33: 0
C34: 2,07*3,75 | E34: 7.7625 | AG34: VV | AH34: 0
A35: Díl: | B35: 99 | C35: Staveništní přesun hmot | G35: =SUMIF(AG36:AG36,"<>NOR",G36:G36) -> 343.01 | I35: =SUM(I36:I36) -> 0 | K35: =SUM(K36:K36) -> 343.01 | M35: =SUM(M36:M36) -> 415.0421 | O35: =SUM(O36:O36) -> 0 | Q35: =SUM(Q36:Q36) -> 0 | V35: =SUM(V36:V36) -> 0.81 | AG35: DIL
A36: 6 | B36: 999281145R00 | C36: Přesun hmot pro opravy a údržbu do v. 6 m, nošením | D36: t | E36: 0.38758 | F36: 885 | G36: =ROUND(E36*F36,2) -> 343.01 | H36: 0 | I36: =ROUND(E36*H36,2) -> 0 | J36: 885 | K36: =ROUND(E36*J36,2) -> 343.01 | L36: 21 | M36: =G36*(1+L36/100) -> 415.0421 | N36: 0 | O36: =ROUND(E36*N36,2) -> 0 | P36: 0 | Q36: =ROUND(E36*P36,2) -> 0 | S36: RTS 22/ I | T36: RTS 21/ II | U36: 2.1 | V36: =ROUND(E36*U36,2) -> 0.81 | X36: Přesun hmot | AG36: POL7_
A37: Díl: | B37: 766 | C37: Konstrukce truhlářské | G37: =SUMIF(AG38:AG48,"<>NOR",G38:G48) -> -11419.16 | I37: =SUM(I38:I48) -> -8975 | K37: =SUM(K38:K48) -> -2444.16 | M37: =SUM(M38:M48) -> -13817.184 | O37: =SUM(O38:O48) -> -0.04 | Q37: =SUM(Q38:Q48) -> 0 | V37: =SUM(V38:V48) -> -4.8 | AG37: DIL
A38: 7 | B38: 766670011R00 | C38: Montáž obložkové zárubně a dřevěného křídla dveří | D38: kus | E38: -1 | F38: 2010 | G38: =ROUND(E38*F38,2) -> -2010 | H38: 75 | I38: =ROUND(E38*H38,2) -> -75 | J38: 1935 | K38: =ROUND(E38*J38,2) -> -1935 | L38: 21 | M38: =G38*(1+L38/100) -> -2432.1 | N38: 2e-05 | O38: =ROUND(E38*N38,2) -> 0 | P38: 0 | Q38: =ROUND(E38*P38,2) -> 0 | S38: RTS 22/ I | T38: RTS 21/ II | U38: 4.02 | V38: =ROUND(E38*U38,2) -> -4.02 | X38: Práce | AG38: POL1_
C39: D5 : -1 | E39: -1 | AG39: VV | AH39: 0
A40: 8 | B40: 766670021R00 | C40: Montáž kliky a štítku | D40: kus | E40: -1 | F40: 390.5 | G40: =ROUND(E40*F40,2) -> -390.5 | H40: 0 | I40: =ROUND(E40*H40,2) -> 0 | J40: 390.5 | K40: =ROUND(E40*J40,2) -> -390.5 | L40: 21 | M40: =G40*(1+L40/100) -> -472.505 | N40: 0 | O40: =ROUND(E40*N40,2) -> 0 | P40: 0 | Q40: =ROUND(E40*P40,2) -> 0 | S40: RTS 22/ I | T40: RTS 21/ II | U40: 0.775 | V40: =ROUND(E40*U40,2) -> -0.78 | X40: Práce | AG40: POL1_
A41: 9 | B41: 549146NC01 | C41: Dveřní kování např. Rostex Torino | D41: kus | E41: -1 | F41: 1000 | G41: =ROUND(E41*F41,2) -> -1000 | H41: 1000 | I41: =ROUND(E41*H41,2) -> -1000 | J41: 0 | K41: =ROUND(E41*J41,2) -> 0 | L41: 21 | M41: =G41*(1+L41/100) -> -1210 | N41: 0.0008 | O41: =ROUND(E41*N41,2) -> 0 | P41: 0 | Q41: =ROUND(E41*P41,2) -> 0 | S41: Vlastní | T41: Indiv | U41: 0 | V41: =ROUND(E41*U41,2) -> 0 | X41: Specifikace | AG41: POL3_
C42: I.NP : | AG42: VV | AH42: 0
C43: D5 : -1 | E43: -1 | AG43: VV | AH43: 0
A44: 10 | B44: 6116180NC03 | C44: Dveře vnitřní hladké plné ELEGANT 1kř. 80x197 Komfort CPL bílé | D44: kus | E44: -1 | F44: 4600 | G44: =ROUND(E44*F44,2) -> -4600 | H44: 4600 | I44: =ROUND(E44*H44,2) -> -4600 | J44: 0 | K44: =ROUND(E44*J44,2) -> 0 | L44: 21 | M44: =G44*(1+L44/100) -> -5566 | N44: 0.02 | O44: =ROUND(E44*N44,2) -> -0.02 | P44: 0 | Q44: =ROUND(E44*P44,2) -> 0 | S44: Vlastní | T44: Indiv | U44: 0 | V44: =ROUND(E44*U44,2) -> 0 | X44: Specifikace | AG44: POL3_
C45: I.NP - D5 : -1 | E45: -1 | AG45: VV | AH45: 0
A46: 11 | B46: 6118151NC03 | C46: Zárubeň obložková NORMAL š. 80 cm/st. 6-17 cm CPL bílé | D46: kus | E46: -1 | F46: 3300 | G46: =ROUND(E46*F46,2) -> -3300 | H46: 3300 | I46: =ROUND(E46*H46,2) -> -3300 | J46: 0 | K46: =ROUND(E46*J46,2) -> 0 | L46: 21 | M46: =G46*(1+L46/100) -> -3993 | N46: 0.016 | O46: =ROUND(E46*N46,2) -> -0.02 | P46: 0 | Q46: =ROUND(E46*P46,2) -> 0 | S46: Vlastní | T46: Indiv | U46: 0 | V46: =ROUND(E46*U46,2) -> 0 | X46: Specifikace | AG46: POL3_
C47: I.NP : -1 | E47: -1 | AG47: VV | AH47: 0
A48: 12 | B48: 998766201R00 | C48: Přesun hmot pro truhlářské konstr., výšky do 6 m | D48: % | E48: -113.005 | F48: 1.05 | G48: =ROUND(E48*F48,2) -> -118.66 | H48: 0 | I48: =ROUND(E48*H48,2) -> 0 | J48: 1.05 | K48: =ROUND(E48*J48,2) -> -118.66 | L48: 21 | M48: =G48*(1+L48/100) -> -143.5786 | N48: 0 | O48: =ROUND(E48*N48,2) -> 0 | P48: 0 | Q48: =ROUND(E48*P48,2) -> 0 | S48: RTS 22/ I | T48: RTS 21/ II | U48: 0 | V48: =ROUND(E48*U48,2) -> 0 | X48: Přesun hmot | AG48: POL7_
A49: Díl: | B49: 771 | C49: Podlahy z dlaždic a obklady | G49: =SUMIF(AG50:AG88,"<>NOR",G50:G88) -> -468.2 | I49: =SUM(I50:I88) -> 45.22 | K49: =SUM(K50:K88) -> -513.42 | M49: =SUM(M50:M88) -> -566.522 | O49: =SUM(O50:O88) -> 0.01 | Q49: =SUM(Q50:Q88) -> 0 | V49: =SUM(V50:V88) -> -0.86 | AG49: DIL
A50: 13 | B50: 771475014R00 | C50: Obklad soklíků keram.rovných, tmel,výška 10 cm | D50: m | E50: -2.29 | F50: 129.5 | G50: =ROUND(E50*F50,2) -> -296.56 | H50: 10.55 | I50: =ROUND(E50*H50,2) -> -24.16 | J50: 118.95 | K50: =ROUND(E50*J50,2) -> -272.4 | L50: 21 | M50: =G50*(1+L50/100) -> -358.8376 | N50: 0.00032 | O50: =ROUND(E50*N50,2) -> 0 | P50: 0 | Q50: =ROUND(E50*P50,2) -> 0 | S50: RTS 22/ I | T50: RTS 21/ II | U50: 0.236 | V50: =ROUND(E50*U50,2) -> -0.54 | X50: Práce | AG50: POL1_
C51: I.NP z dlažby 450x450 : | AG51: VV | AH51: 0
C52: m.č. 105 sklad : | AG52: VV | AH52: 0
C53: soklík : -6,44 | E53: -6.44 | AG53: VV | AH53: 0
C54: I.NP z dlažby 600x600 : | AG54: VV | AH54: 0
C55: m.č. 102 chodba : | AG55: VV | AH55: 0
C56: soklík : -1,35 | E56: -1.35 | AG56: VV | AH56: 0
C57: 1,4+1,4+2,7 | E57: 5.5 | AG57: VV | AH57: 0
A58: 14 | B58: 771479001R00 | C58: Řezání dlaždic keramických pro soklíky | D58: m | E58: -2.29 | F58: 94.1 | G58: =ROUND(E58*F58,2) -> -215.49 | H58: 5.42 | I58: =ROUND(E58*H58,2) -> -12.41 | J58: 88.68 | K58: =ROUND(E58*J58,2) -> -203.08 | L58: 21 | M58: =G58*(1+L58/100) -> -260.7429 | N58: 0 | O58: =ROUND(E58*N58,2) -> 0 | P58: 0 | Q58: =ROUND(E58*P58,2) -> 0 | S58: RTS 22/ I | T58: RTS 21/ II | U58: 0.154 | V58: =ROUND(E58*U58,2) -> -0.35 | X58: Práce | AG58: POL1_
A59: 15 | B59: 771575111R00 | C59: Montáž podlah keram.,hladké, tmel, 45x45 cm | D59: m2 | E59: -2.3 | F59: 635 | G59: =ROUND(E59*F59,2) -> -1460.5 | H59: 110.58 | I59: =ROUND(E59*H59,2) -> -254.33 | J59: 524.42 | K59: =ROUND(E59*J59,2) -> -1206.17 | L59: 21 | M59: =G59*(1+L59/100) -> -1767.205 | N59: 0.00476 | O59: =ROUND(E59*N59,2) -> -0.01 | P59: 0 | Q59: =ROUND(E59*P59,2) -> 0 | S59: RTS 22/ I | T59: RTS 21/ II | U59: 1.04 | V59: =ROUND(E59*U59,2) -> -2.39 | X59: Práce | AG59: POL1_
C60: I.NP : | AG60: VV | AH60: 0
C61: m.č. 105 sklad : -2,3 | E61: -2.3 | AG61: VV | AH61: 0
A62: 16 | B62: 771575118R00 | C62: Montáž podlah keram.,hladké, tmel, 60x60 cm | D62: m2 | E62: 2.3 | F62: 831 | G62: =ROUND(E62*F62,2) -> 1911.3 | H62: 151.75 | I62: =ROUND(E62*H62,2) -> 349.03 | J62: 679.25 | K62: =ROUND(E62*J62,2) -> 1562.28 | L62: 21 | M62: =G62*(1+L62/100) -> 2312.673 | N62: 0.00693 | O62: =ROUND(E62*N62,2) -> 0.02 | P62: 0 | Q62: =ROUND(E62*P62,2) -> 0 | S62: RTS 22/ I | T62: RTS 21/ II | U62: 1.3466 | V62: =ROUND(E62*U62,2) -> 3.1 | X62: Práce | AG62: POL1_
C63: I.NP : | AG63: VV | AH63: 0
C64: m.č. 105 sklad : 2,3 | E64: 2.3 | AG64: VV | AH64: 0
A65: 17 | B65: 771577133R00 | C65: Lišta nerezová přechodová, stejná výška dlaždic | D65: m | E65: -0.8 | F65: 600 | G65: =ROUND(E65*F65,2) -> -480 | H65: 494.81 | I65: =ROUND(E65*H65,2) -> -395.85 | J65: 105.19 | K65: =ROUND(E65*J65,2) -> -84.15 | L65: 21 | M65: =G65*(1+L65/100) -> -580.8 | N65: 0.00044 | O65: =ROUND(E65*N65,2) -> 0 | P65: 0 | Q65: =ROUND(E65*P65,2) -> 0 | S65: RTS 22/ I | T65: Indiv | U65: 0.15 | V65: =ROUND(E65*U65,2) -> -0.12 | X65: Práce | AG65: POL1_
C66: I.NP : -0,8 | E66: -0.8 | AG66: VV | AH66: 0
A67: 18 | B67: 771578011R00 | C67: Spára podlaha - stěna, silikonem | D67: m | E67: -2.54 | F67: 57.1 | G67: =ROUND(E67*F67,2) -> -145.03 | H67: 21.81 | I67: =ROUND(E67*H67,2) -> -55.4 | J67: 35.29 | K67: =ROUND(E67*J67,2) -> -89.64 | L67: 21 | M67: =G67*(1+L67/100) -> -175.4863 | N67: 4e-05 | O67: =ROUND(E67*N67,2) -> 0 | P67: 0 | Q67: =ROUND(E67*P67,2) -> 0 | S67: RTS 22/ I | T67: RTS 21/ II | U67: 0.07 | V67: =ROUND(E67*U67,2) -> -0.18 | X67: Práce | AG67: POL1_
C68: vč. dodávky a montáže silikonu. | AG68: POP
C69: I.NP : | AG69: VV | AH69: 0
C70: m.č.105 sklad : -(2,07-0,8)*2 | E70: -2.54 | AG70: VV | AH70: 0
A71: 19 | B71: 771579792R00 | C71: Příplatek za podlahy keram.v omezeném prostoru | D71: m2 | E71: -2.3 | F71: 83.7 | G71: =ROUND(E71*F71,2) -> -192.51 | H71: 0 | I71: =ROUND(E71*H71,2) -> 0 | J71: 83.7 | K71: =ROUND(E71*J71,2) -> -192.51 | L71: 21 | M71: =G71*(1+L71/100) -> -232.9371 | N71: 0 | O71: =ROUND(E71*N71,2) -> 0 | P71: 0 | Q71: =ROUND(E71*P71,2) -> 0 | S71: RTS 22/ I | T71: RTS 21/ II | U71: 0.166 | V71: =ROUND(E71*U71,2) -> -0.38 | X71: Práce | AG71: POL1_
C72: I.NP : | AG72: VV | AH72: 0
C73: m.č. 105 sklad : -2,3 | E73: -2.3 | AG73: VV | AH73: 0
A74: 20 | B74: 771-mat 01 | C74: Dlažba LA FUTURA METROPOLIS hnědošedá 450x450 mm dodávka dlažby | D74: m2 | E74: -3.4509 | F74: 440 | G74: =ROUND(E74*F74,2) -> -1518.4 | H74: 440 | I74: =ROUND(E74*H74,2) -> -1518.4 | J74: 0 | K74: =ROUND(E74*J74,2) -> 0 | L74: 21 | M74: =G74*(1+L74/100) -> -1837.264 | N74: 0 | O74: =ROUND(E74*N74,2) -> 0 | P74: 0 | Q74: =ROUND(E74*P74,2) -> 0 | S74: Vlastní | T74: Indiv | U74: 0 | V74: =ROUND(E74*U74,2) -> 0 | X74: Specifikace | AG74: POL3_
C75: Začátek provozního součtu | AG75: VV
C76: I.NP : | AG76: VV | AH76: 2
C77: m.č. 105 sklad : -2,3*1,1 | E77: -2.53 | AG77: VV | AH77: 2
C78: soklík : -0,8372*1,1 | E78: -0.92092 | AG78: VV | AH78: 2
C79: Konec provozního součtu | AG79: VV
C80: -3,4509 | E80: -3.4509 | AG80: VV | AH80: 0
A81: 21 | B81: 771-mat 02 | C81: Dlažba LA FUTURA BALTICO TAUPE 600x600 mm dodávka dlažby | D81: m2 | E81: 3.3165 | F81: 590 | G81: =ROUND(E81*F81,2) -> 1956.74 | H81: 590 | I81: =ROUND(E81*H81,2) -> 1956.74 | J81: 0 | K81: =ROUND(E81*J81,2) -> 0 | L81: 21 | M81: =G81*(1+L81/100) -> 2367.6554 | N81: 0 | O81: =ROUND(E81*N81,2) -> 0 | P81: 0 | Q81: =ROUND(E81*P81,2) -> 0 | S81: Vlastní | T81: Indiv | U81: 0 | V81: =ROUND(E81*U81,2) -> 0 | X81: Specifikace | AG81: POL3_
C82: Začátek provozního součtu | AG82: VV
C83: I.NP : | AG83: VV | AH83: 2
C84: 2,3 | E84: 2.3 | AG84: VV | AH84: 2
C85: soklík : (1,4+1,4+2,7)*0,10*1,3 | E85: 0.715 | AG85: VV | AH85: 2
C86: Konec provozního součtu | AG86: VV
C87: 3,015*1,1 | E87: 3.3165 | AG87: VV | AH87: 0
A88: 22 | B88: 998771201R00 | C88: Přesun hmot pro podlahy z dlaždic, výšky do 6 m | D88: % | E88: -4.4045 | F88: 6.3 | G88: =ROUND(E88*F88,2) -> -27.75 | H88: 0 | I88: =ROUND(E88*H88,2) -> 0 | J88: 6.3 | K88: =ROUND(E88*J88,2) -> -27.75 | L88: 21 | M88: =G88*(1+L88/100) -> -33.5775 | N88: 0 | O88: =ROUND(E88*N88,2) -> 0 | P88: 0 | Q88: =ROUND(E88*P88,2) -> 0 | S88: RTS 22/ I | T88: RTS 21/ II | U88: 0 | V88: =ROUND(E88*U88,2) -> 0 | X88: Přesun hmot | AG88: POL7_
A89: Díl: | B89: D96 | C89: Přesuny suti a vybouraných hmot | G89: =SUMIF(AG90:AG95,"<>NOR",G90:G95) -> 1191.39 | I89: =SUM(I90:I95) -> 0 | K89: =SUM(K90:K95) -> 1191.39 | M89: =SUM(M90:M95) -> 1441.5819 | O89: =SUM(O90:O95) -> 0 | Q89: =SUM(Q90:Q95) -> 0 | V89: =SUM(V90:V95) -> 1.46 | AG89: DIL
A90: 23 | B90: 979081111R00 | C90: Odvoz suti a vybour. hmot na skládku do 1 km | D90: t | E90: 0.84007 | F90: 234.5 | G90: =ROUND(E90*F90,2) -> 197 | H90: 0 | I90: =ROUND(E90*H90,2) -> 0 | J90: 234.5 | K90: =ROUND(E90*J90,2) -> 197 | L90: 21 | M90: =G90*(1+L90/100) -> 238.37 | N90: 0 | O90: =ROUND(E90*N90,2) -> 0 | P90: 0 | Q90: =ROUND(E90*P90,2) -> 0 | S90: RTS 22/ I | T90: RTS 21/ II | U90: 0.49 | V90: =ROUND(E90*U90,2) -> 0.41 | X90: Přesun suti | AG90: POL8_
C91: Včetně naložení na dopravní prostředek a složení na skládku, bez poplatku za skládku. | AG91: POP
A92: 24 | B92: 979081121R00 | C92: Příplatek k odvozu za každý další 1 km | D92: t | E92: 10.0809 | F92: 16 | G92: =ROUND(E92*F92,2) -> 161.29 | H92: 0 | I92: =ROUND(E92*H92,2) -> 0 | J92: 16 | K92: =ROUND(E92*J92,2) -> 161.29 | L92: 21 | M92: =G92*(1+L92/100) -> 195.1609 | N92: 0 | O92: =ROUND(E92*N92,2) -> 0 | P92: 0 | Q92: =ROUND(E92*P92,2) -> 0 | S92: RTS 22/ I | T92: RTS 21/ II | U92: 0 | V92: =ROUND(E92*U92,2) -> 0 | X92: Přesun suti | AG92: POL8_
A93: 25 | B93: 979082111R00 | C93: Vnitrostaveništní doprava suti do 10 m | D93: t | E93: 0.84007 | F93: 331 | G93: =ROUND(E93*F93,2) -> 278.06 | H93: 0 | I93: =ROUND(E93*H93,2) -> 0 | J93: 331 | K93: =ROUND(E93*J93,2) -> 278.06 | L93: 21 | M93: =G93*(1+L93/100) -> 336.4526 | N93: 0 | O93: =ROUND(E93*N93,2) -> 0 | P93: 0 | Q93: =ROUND(E93*P93,2) -> 0 | S93: RTS 22/ I | T93: RTS 21/ II | U93: 0.942 | V93: =ROUND(E93*U93,2) -> 0.79 | X93: Přesun suti | AG93: POL8_
A94: 26 | B94: 979082121R00 | C94: Příplatek k vnitrost. dopravě suti za dalších 5 m | D94: t | E94: 2.52023 | F94: 36.9 | G94: =ROUND(E94*F94,2) -> 93 | H94: 0 | I94: =ROUND(E94*H94,2) -> 0 | J94: 36.9 | K94: =ROUND(E94*J94,2) -> 93 | L94: 21 | M94: =G94*(1+L94/100) -> 112.53 | N94: 0 | O94: =ROUND(E94*N94,2) -> 0 | P94: 0 | Q94: =ROUND(E94*P94,2) -> 0 | S94: RTS 22/ I | T94: RTS 21/ II | U94: 0.105 | V94: =ROUND(E94*U94,2) -> 0.26 | X94: Přesun suti | AG94: POL8_
A95: 27 | B95: 9799901NC01 | C95: Poplatek za sklád.suti | D95: t | E95: 0.84007 | F95: 550 | G95: =ROUND(E95*F95,2) -> 462.04 | H95: 0 | I95: =ROUND(E95*H95,2) -> 0 | J95: 550 | K95: =ROUND(E95*J95,2) -> 462.04 | L95: 21 | M95: =G95*(1+L95/100) -> 559.0684 | N95: 0 | O95: =ROUND(E95*N95,2) -> 0 | P95: 0 | Q95: =ROUND(E95*P95,2) -> 0 | S95: Vlastní | T95: Indiv | U95: 0 | V95: =ROUND(E95*U95,2) -> 0 | X95: Přesun suti | AG95: POL8_
AE96: 15 | AF96: 21 | AG96: DPH
B97: Celkem | G97: =G8+G30+G35+G37+G49+G89 -> -15523.04 | AE97: =SUMIF(L7:L95,AE96,G7:G95) -> 0 | AF97: =SUMIF(L7:L95,AF96,G7:G95) -> -15523.04 | AG97: SUM
A100: Poznámky uchazeče k zadání
AG101: POPUZIV
AG107: END

Sheet SO 03 008aVCP Pol
A1: Položkový rozpočet | AG1: #TypZaznamu#
A2: S: | B2: 2021-KL | C2: OPRAVA INTERIERU OBECNÍHO ÚŘADU KLENOVICE NA HANÉ | AG2: STA
A3: O: | B3: SO 03 | C3: Stavební objekt | AC3: STA | AG3: OBJ
A4: R: | B4: 008aVCP | C4: Změna příčky m.č. 102 | AG4: ROZ
A6: P.č. | B6: Číslo položky | C6: Název položky | D6: MJ | E6: Množství | F6: Cena / MJ | G6: Celkem | H6: Dodávka | I6: Dodávka celk. | J6: Montáž | K6: Montáž celk. | L6: DPH | M6: Cena s DPH | N6: Hmotnost / MJ | O6: Hmotnost celk.(t) | P6: Dem. hmotnost / MJ | Q6: Dem. hmotnost celk.(t) | R6: Ceník | S6: Cen. soustava / platnost | T6: Cenová úroveň | U6: Nhod / MJ | V6: Nhod celk. | W6: Dodavatel | X6: Typ položky
A8: Díl: | B8: 3 | C8: Svislé a kompletní konstrukce | G8: =SUMIF(AG9:AG13,"<>NOR",G9:G13) -> -5455.05 | I8: =SUM(I9:I13) -> -4032.45 | K8: =SUM(K9:K13) -> -1422.6 | M8: =SUM(M9:M13) -> -6600.6105 | O8: =SUM(O9:O13) -> -0.6 | Q8: =SUM(Q9:Q13) -> 0 | V8: =SUM(V9:V13) -> -2.97 | AG8: DIL
A9: 1 | B9: 342255028R00 | C9: Příčky z desek Ytong tl. 15 cm | D9: m2 | E9: -5.3586 | F9: 1018 | G9: =ROUND(E9*F9,2) -> -5455.05 | H9: 752.52 | I9: =ROUND(E9*H9,2) -> -4032.45 | J9: 265.48 | K9: =ROUND(E9*J9,2) -> -1422.6 | L9: 21 | M9: =G9*(1+L9/100) -> -6600.6105 | N9: 0.11219 | O9: =ROUND(E9*N9,2) -> -0.6 | P9: 0 | Q9: =ROUND(E9*P9,2) -> 0 | S9: RTS 22/ I | T9: RTS 21/ II | U9: 0.55489 | V9: =ROUND(E9*U9,2) -> -2.97 | X9: Práce | AG9: POL1_
C10: I.NP : | AG10: VV | AH10: 0
C11: m.č.101 vstup : | AG11: VV | AH11: 0
C12: -2,16*3,76 | E12: -8.1216 | AG12: VV | AH12: 0
C13: 0,9*3,07 | E13: 2.763 | AG13: VV | AH13: 0
A14: Díl: | B14: 61 | C14: Úpravy povrchů vnitřní | G14: =SUMIF(AG15:AG19,"<>NOR",G15:G19) -> -2765.04 | I14: =SUM(I15:I19) -> -340.91 | K14: =SUM(K15:K19) -> -2424.12 | M14: =SUM(M15:M19) -> -3345.6984 | O14: =SUM(O15:O19) -> -0.06 | Q14: =SUM(Q15:Q19) -> 0 | V14: =SUM(V15:V19) -> -5.06 | AG14: DIL
A15: 2 | B15: 602014144RU3 | C15: Štuk vnitřní i vnější Salith MHF PII ručně 2x nanášený, celková tloušťka vrstvy 4 mm | D15: m2 | E15: -10.7172 | F15: 258 | G15: =ROUND(E15*F15,2) -> -2765.04 | H15: 31.81 | I15: =ROUND(E15*H15,2) -> -340.91 | J15: 226.19 | K15: =ROUND(E15*J15,2) -> -2424.12 | L15: 21 | M15: =G15*(1+L15/100) -> -3345.6984 | N15: 0.0054 | O15: =ROUND(E15*N15,2) -> -0.06 | P15: 0 | Q15: =ROUND(E15*P15,2) -> 0 | S15: RTS 22/ I | T15: RTS 21/ II | U15: 0.472 | V15: =ROUND(E15*U15,2) -> -5.06 | X15: Práce | AG15: POL1_
C16: I.NP : | AG16: VV | AH16: 0
C17: m.č.101 vstup : | AG17: VV | AH17: 0
C18: -2,16*3,76*2 | E18: -16.2432 | AG18: VV | AH18: 0
C19: 0,9*3,07*2 | E19: 5.526 | AG19: VV | AH19: 0
A20: Díl: | B20: 99 | C20: Staveništní přesun hmot | G20: =SUMIF(AG21:AG21,"<>NOR",G21:G21) -> -583.26 | I20: =SUM(I21:I21) -> 0 | K20: =SUM(K21:K21) -> -583.26 | M20: =SUM(M21:M21) -> -705.7446 | O20: =SUM(O21:O21) -> 0 | Q20: =SUM(Q21:Q21) -> 0 | V20: =SUM(V21:V21) -> -1.38 | AG20: DIL
A21: 3 | B21: 999281145R00 | C21: Přesun hmot pro opravy a údržbu do v. 6 m, nošením | D21: t | E21: -0.65905 | F21: 885 | G21: =ROUND(E21*F21,2) -> -583.26 | H21: 0 | I21: =ROUND(E21*H21,2) -> 0 | J21: 885 | K21: =ROUND(E21*J21,2) -> -583.26 | L21: 21 | M21: =G21*(1+L21/100) -> -705.7446 | N21: 0 | O21: =ROUND(E21*N21,2) -> 0 | P21: 0 | Q21: =ROUND(E21*P21,2) -> 0 | S21: RTS 22/ I | T21: RTS 21/ II | U21: 2.1 | V21: =ROUND(E21*U21,2) -> -1.38 | X21: Přesun hmot | AG21: POL7_
A22: Díl: | B22: 771 | C22: Podlahy z dlaždic a obklady | G22: =SUMIF(AG23:AG36,"<>NOR",G23:G36) -> 110.92 | I22: =SUM(I23:I36) -> 21.39 | K22: =SUM(K23:K36) -> 89.53 | M22: =SUM(M23:M36) -> 134.2132 | O22: =SUM(O23:O36) -> 0 | Q22: =SUM(Q23:Q36) -> 0 | V22: =SUM(V23:V36) -> 0.12 | AG22: DIL
A23: 4 | B23: 771101210R00 | C23: Penetrace podkladu pod dlažby | D23: m2 | E23: 0.3225 | F23: 50.1 | G23: =ROUND(E23*F23,2) -> 16.16 | H23: 24.89 | I23: =ROUND(E23*H23,2) -> 8.03 | J23: 25.21 | K23: =ROUND(E23*J23,2) -> 8.13 | L23: 21 | M23: =G23*(1+L23/100) -> 19.5536 | N23: 0.00021 | O23: =ROUND(E23*N23,2) -> 0 | P23: 0 | Q23: =ROUND(E23*P23,2) -> 0 | S23: RTS 22/ I | T23: RTS 21/ II | U23: 0.05 | V23: =ROUND(E23*U23,2) -> 0.02 | X23: Práce | AG23: POL1_
C24: 2,15*0,15 | E24: 0.3225 | AG24: VV | AH24: 0
A25: 5 | B25: 771475014R00 | C25: Obklad soklíků keram.rovných, tmel,výška 10 cm | D25: m | E25: -2.2 | F25: 129.5 | G25: =ROUND(E25*F25,2) -> -284.9 | H25: 10.55 | I25: =ROUND(E25*H25,2) -> -23.21 | J25: 118.95 | K25: =ROUND(E25*J25,2) -> -261.69 | L25: 21 | M25: =G25*(1+L25/100) -> -344.729 | N25: 0.00032 | O25: =ROUND(E25*N25,2) -> 0 | P25: 0 | Q25: =ROUND(E25*P25,2) -> 0 | S25: RTS 22/ I | T25: RTS 21/ II | U25: 0.236 | V25: =ROUND(E25*U25,2) -> -0.52 | X25: Práce | AG25: POL1_
C26: -2,15*2 | E26: -4.3 | AG26: VV | AH26: 0
C27: 0,9*2 | E27: 1.8 | AG27: VV | AH27: 0
C28: 0,15*2 | E28: 0.3 | AG28: VV | AH28: 0
A29: 6 | B29: 771479001R00 | C29: Řezání dlaždic keramických pro soklíky | D29: m | E29: 2.2 | F29: 94.1 | G29: =ROUND(E29*F29,2) -> 207.02 | H29: 5.42 | I29: =ROUND(E29*H29,2) -> 11.92 | J29: 88.68 | K29: =ROUND(E29*J29,2) -> 195.1 | L29: 21 | M29: =G29*(1+L29/100) -> 250.4942 | N29: 0 | O29: =ROUND(E29*N29,2) -> 0 | P29: 0 | Q29: =ROUND(E29*P29,2) -> 0 | S29: RTS 22/ I | T29: RTS 21/ II | U29: 0.154 | V29: =ROUND(E29*U29,2) -> 0.34 | X29: Práce | AG29: POL1_
A30: 7 | B30: 771575118R00 | C30: Montáž podlah keram.,hladké, tmel, 60x60 cm | D30: m2 | E30: 0.3225 | F30: 831 | G30: =ROUND(E30*F30,2) -> 268 | H30: 151.75 | I30: =ROUND(E30*H30,2) -> 48.94 | J30: 679.25 | K30: =ROUND(E30*J30,2) -> 219.06 | L30: 21 | M30: =G30*(1+L30/100) -> 324.28 | N30: 0.00693 | O30: =ROUND(E30*N30,2) -> 0 | P30: 0 | Q30: =ROUND(E30*P30,2) -> 0 | S30: RTS 22/ I | T30: RTS 21/ II | U30: 1.3466 | V30: =ROUND(E30*U30,2) -> 0.43 | X30: Práce | AG30: POL1_
A31: 8 | B31: 771578011R00 | C31: Spára podlaha - stěna, silikonem | D31: m | E31: -2.2 | F31: 57.1 | G31: =ROUND(E31*F31,2) -> -125.62 | H31: 21.81 | I31: =ROUND(E31*H31,2) -> -47.98 | J31: 35.29 | K31: =ROUND(E31*J31,2) -> -77.64 | L31: 21 | M31: =G31*(1+L31/100) -> -152.0002 | N31: 4e-05 | O31: =ROUND(E31*N31,2) -> 0 | P31: 0 | Q31: =ROUND(E31*P31,2) -> 0 | S31: RTS 22/ I | T31: RTS 21/ II | U31: 0.07 | V31: =ROUND(E31*U31,2) -> -0.15 | X31: Práce | AG31: POL1_
C32: vč. dodávky a montáže silikonu. | AG32: POP
A33: 9 | B33: 771-mat 02 | C33: Dlažba LA FUTURA BALTICO TAUPE 600x600 mm dodávka dlažby | D33: m2 | E33: 0.04015 | F33: 590 | G33: =ROUND(E33*F33,2) -> 23.69 | H33: 590 | I33: =ROUND(E33*H33,2) -> 23.69 | J33: 0 | K33: =ROUND(E33*J33,2) -> 0 | L33: 21 | M33: =G33*(1+L33/100) -> 28.6649 | N33: 0 | O33: =ROUND(E33*N33,2) -> 0 | P33: 0 | Q33: =ROUND(E33*P33,2) -> 0 | S33: Vlastní | T33: Indiv | U33: 0 | V33: =ROUND(E33*U33,2) -> 0 | X33: Specifikace | AG33: POL3_
C34: 0,3225*1,1 | E34: 0.35475 | AG34: VV | AH34: 0
C35: -2,2*0,10*1,3*1,1 | E35: -0.3146 | AG35: VV | AH35: 0
A36: 10 | B36: 998771201R00 | C36: Přesun hmot pro podlahy z dlaždic, výšky do 6 m | D36: % | E36: 1.0435 | F36: 6.3 | G36: =ROUND(E36*F36,2) -> 6.57 | H36: 0 | I36: =ROUND(E36*H36,2) -> 0 | J36: 6.3 | K36: =ROUND(E36*J36,2) -> 6.57 | L36: 21 | M36: =G36*(1+L36/100) -> 7.9497 | N36: 0 | O36: =ROUND(E36*N36,2) -> 0 | P36: 0 | Q36: =ROUND(E36*P36,2) -> 0 | S36: RTS 22/ I | T36: RTS 21/ II | U36: 0 | V36: =ROUND(E36*U36,2) -> 0 | X36: Přesun hmot | AG36: POL7_
AE37: 15 | AF37: 21 | AG37: DPH
B38: Celkem | G38: =G8+G14+G20+G22 -> -8692.43 | AE38: =SUMIF(L7:L36,AE37,G7:G36) -> 0 | AF38: =SUMIF(L7:L36,AF37,G7:G36) -> -8692.43 | AG38: SUM
A41: Poznámky uchazeče k zadání
AG42: POPUZIV
AG48: END

Sheet SO 03 009aVCP Pol
A1: Položkový rozpočet | AG1: #TypZaznamu#
A2: S: | B2: 2021-KL | C2: OPRAVA INTERIERU OBECNÍHO ÚŘADU KLENOVICE NA HANÉ | AG2: STA
A3: O: | B3: SO 03 | C3: Stavební objekt | AC3: STA | AG3: OBJ
A4: R: | B4: 009aVCP | C4: Doplnění SDK stropů | AG4: ROZ
A6: P.č. | B6: Číslo položky | C6: Název položky | D6: MJ | E6: Množství | F6: Cena / MJ | G6: Celkem | H6: Dodávka | I6: Dodávka celk. | J6: Montáž | K6: Montáž celk. | L6: DPH | M6: Cena s DPH | N6: Hmotnost / MJ | O6: Hmotnost celk.(t) | P6: Dem. hmotnost / MJ | Q6: Dem. hmotnost celk.(t) | R6: Ceník | S6: Cen. soustava / platnost | T6: Cenová úroveň | U6: Nhod / MJ | V6: Nhod celk. | W6: Dodavatel | X6: Typ položky
A8: Díl: | B8: 3 | C8: Svislé a kompletní konstrukce | G8: =SUMIF(AG9:AG15,"<>NOR",G9:G15) -> 43548.6 | I8: =SUM(I9:I15) -> 17045.31 | K8: =SUM(K9:K15) -> 26503.29 | M8: =SUM(M9:M15) -> 52693.806 | O8: =SUM(O9:O15) -> 0.66 | Q8: =SUM(Q9:Q15) -> 0 | V8: =SUM(V9:V15) -> 54.9 | AG8: DIL
A9: 1 | B9: 342264051RT1 | C9: Podhled sádrokartonový na zavěšenou ocel. konstr. desky standard tl. 12,5 mm, bez izolace | D9: m2 | E9: 54.3 | F9: 802 | G9: =ROUND(E9*F9,2) -> 43548.6 | H9: 313.91 | I9: =ROUND(E9*H9,2) -> 17045.31 | J9: 488.09 | K9: =ROUND(E9*J9,2) -> 26503.29 | L9: 21 | M9: =G9*(1+L9/100) -> 52693.806 | N9: 0.01215 | O9: =ROUND(E9*N9,2) -> 0.66 | P9: 0 | Q9: =ROUND(E9*P9,2) -> 0 | S9: RTS 22/ I | T9: RTS 21/ II | U9: 1.011 | V9: =ROUND(E9*U9,2) -> 54.9 | X9: Práce | AG9: POL1_
C10: I.NP : | AG10: VV | AH10: 0
C11: m.č.105 sklad : 2,3 | E11: 2.3 | AG11: VV | AH11: 0
C12: m.č.106 multifunkční prostor : 25,1 | E12: 25.1 | AG12: VV | AH12: 0
C13: II.NP : | AG13: VV | AH13: 0
C14: m.č.212 úklid : 8,59 | E14: 8.59 | AG14: VV | AH14: 0
C15: m.č.213 archiv : 18,31 | E15: 18.31 | AG15: VV | AH15: 0
AE16: 15 | AF16: 21 | AG16: DPH
B17: Celkem | G17: =G8 -> 43548.6 | AE17: =SUMIF(L7:L15,AE16,G7:G15) -> 0 | AF17: =SUMIF(L7:L15,AF16,G7:G15) -> 43548.6 | AG17: SUM
A20: Poznámky uchazeče k zadání
AG21: POPUZIV
AG27: END

Sheet SO 03 010aVCP Pol
A1: Položkový rozpočet | AG1: #TypZaznamu#
A2: S: | B2: 2021-KL | C2: OPRAVA INTERIERU OBECNÍHO ÚŘADU KLENOVICE NA HANÉ | AG2: STA
A3: O: | B3: SO 03 | C3: Stavební objekt | AC3: STA | AG3: OBJ
A4: R: | B4: 010aVCP | C4: Stavební přípomoci pro kanalizaci | AG4: ROZ
A6: P.č. | B6: Číslo položky | C6: Název položky | D6: MJ | E6: Množství | F6: Cena / MJ | G6: Celkem | H6: Dodávka | I6: Dodávka celk. | J6: Montáž | K6: Montáž celk. | L6: DPH | M6: Cena s DPH | N6: Hmotnost / MJ | O6: Hmotnost celk.(t) | P6: Dem. hmotnost / MJ | Q6: Dem. hmotnost celk.(t) | R6: Ceník | S6: Cen. soustava / platnost | T6: Cenová úroveň | U6: Nhod / MJ | V6: Nhod celk. | W6: Dodavatel | X6: Typ položky
A8: Díl: | B8: 1 | C8: Zemní práce | G8: =SUMIF(AG9:AG19,"<>NOR",G9:G19) -> 9250.11 | I8: =SUM(I9:I19) -> 921.47 | K8: =SUM(K9:K19) -> 8328.64 | M8: =SUM(M9:M19) -> 11192.633 | O8: =SUM(O9:O19) -> 3.06 | Q8: =SUM(Q9:Q19) -> 0 | V8: =SUM(V9:V19) -> 17.47 | AG8: DIL
A9: 1 | B9: 139711101RT3 | C9: Vykopávka v uzavřených prostorách v hor.1-4 hornina 3 | D9: m3 | E9: 1.8 | F9: 1717 | G9: =ROUND(E9*F9,2) -> 3090.6 | H9: 0 | I9: =ROUND(E9*H9,2) -> 0 | J9: 1717 | K9: =ROUND(E9*J9,2) -> 3090.6 | L9: 21 | M9: =G9*(1+L9/100) -> 3739.626 | N9: 0 | O9: =ROUND(E9*N9,2) -> 0 | P9: 0 | Q9: =ROUND(E9*P9,2) -> 0 | S9: RTS 22/ I | T9: RTS 21/ II | U9: 4.728 | V9: =ROUND(E9*U9,2) -> 8.51 | X9: Práce | AG9: POL1_
C10: m.č.106 a 107 pro kanalizaci : (4,2+0,8)*0,4*0,4 | E10: 0.8 | AG10: VV | AH10: 0
C11: 1,0*1,0*1,0 | E11: 1 | AG11: VV | AH11: 0
A12: 2 | B12: 162201201R00 | C12: Vodorovné přemíst. výkopku nošením hor.1-4, do 10m | D12: m3 | E12: 1.8 | F12: 335.5 | G12: =ROUND(E12*F12,2) -> 603.9 | H12: 0 | I12: =ROUND(E12*H12,2) -> 0 | J12: 335.5 | K12: =ROUND(E12*J12,2) -> 603.9 | L12: 21 | M12: =G12*(1+L12/100) -> 730.719 | N12: 0 | O12: =ROUND(E12*N12,2) -> 0 | P12: 0 | Q12: =ROUND(E12*P12,2) -> 0 | S12: RTS 22/ I | T12: RTS 21/ II | U12: 0.868 | V12: =ROUND(E12*U12,2) -> 1.56 | X12: Práce | AG12: POL1_
A13: 3 | B13: 162201209R00 | C13: Příplatek za dalších 10 m nošení výkopku z hor.1-4 | D13: m3 | E13: 3.6 | F13: 305.5 | G13: =ROUND(E13*F13,2) -> 1099.8 | H13: 0 | I13: =ROUND(E13*H13,2) -> 0 | J13: 305.5 | K13: =ROUND(E13*J13,2) -> 1099.8 | L13: 21 | M13: =G13*(1+L13/100) -> 1330.758 | N13: 0 | O13: =ROUND(E13*N13,2) -> 0 | P13: 0 | Q13: =ROUND(E13*P13,2) -> 0 | S13: RTS 22/ I | T13: RTS 21/ II | U13: 0.791 | V13: =ROUND(E13*U13,2) -> 2.85 | X13: Práce | AG13: POL1_
C14: 1,8*2 | E14: 3.6 | AG14: VV | AH14: 0
A15: 4 | B15: 175101101RT2 | C15: Obsyp potrubí bez prohození sypaniny s dodáním štěrkopísku frakce 0 - 22 mm | D15: m3 | E15: 1.8 | F15: 1125 | G15: =ROUND(E15*F15,2) -> 2025 | H15: 511.93 | I15: =ROUND(E15*H15,2) -> 921.47 | J15: 613.07 | K15: =ROUND(E15*J15,2) -> 1103.53 | L15: 21 | M15: =G15*(1+L15/100) -> 2450.25 | N15: 1.7 | O15: =ROUND(E15*N15,2) -> 3.06 | P15: 0 | Q15: =ROUND(E15*P15,2) -> 0 | S15: RTS 22/ I | T15: RTS 21/ II | U15: 1.587 | V15: =ROUND(E15*U15,2) -> 2.86 | X15: Práce | AG15: POL1_
C16: m.č.106 a 107 pro kanalizaci : (4,2+0,8)*0,4*0,4 | E16: 0.8 | AG16: VV | AH16: 0
C17: 1,0*1,0*1,0 | E17: 1 | AG17: VV | AH17: 0
A18: 5 | B18: 175101109R00 | C18: Příplatek za prohození sypaniny pro obsyp potrubí | D18: m3 | E18: 1.8 | F18: 363 | G18: =ROUND(E18*F18,2) -> 653.4 | H18: 0 | I18: =ROUND(E18*H18,2) -> 0 | J18: 363 | K18: =ROUND(E18*J18,2) -> 653.4 | L18: 21 | M18: =G18*(1+L18/100) -> 790.614 | N18: 0 | O18: =ROUND(E18*N18,2) -> 0 | P18: 0 | Q18: =ROUND(E18*P18,2) -> 0 | S18: RTS 22/ I | T18: RTS 21/ II | U18: 0.94 | V18: =ROUND(E18*U18,2) -> 1.69 | X18: Práce | AG18: POL1_
A19: 6 | B19: 1-NC01 | C19: Likvidace výkopku | D19: kpl | E19: 1 | F19: 1777.41 | G19: =ROUND(E19*F19,2) -> 1777.41 | H19: 0 | I19: =ROUND(E19*H19,2) -> 0 | J19: 1777.41 | K19: =ROUND(E19*J19,2) -> 1777.41 | L19: 21 | M19: =G19*(1+L19/100) -> 2150.6661 | N19: 0 | O19: =ROUND(E19*N19,2) -> 0 | P19: 0 | Q19: =ROUND(E19*P19,2) -> 0 | S19: Vlastní | T19: Indiv | U19: 0 | V19: =ROUND(E19*U19,2) -> 0 | X19: Práce | AG19: POL1_
A20: Díl: | B20: 96 | C20: Bourání konstrukcí | G20: =SUMIF(AG21:AG28,"<>NOR",G21:G28) -> 11382.2 | I20: =SUM(I21:I28) -> 1258.01 | K20: =SUM(K21:K28) -> 10124.19 | M20: =SUM(M21:M28) -> 13772.462 | O20: =SUM(O21:O28) -> 0 | Q20: =SUM(Q21:Q28) -> 1.37 | V20: =SUM(V21:V28) -> 22.45 | AG20: DIL
A21: 7 | B21: 965042121RT2 | C21: Bourání mazanin betonových tl. 10 cm, pl. 1 m2 ručně tl. mazaniny 8 - 10 cm | D21: m3 | E21: 0.3 | F21: 4410 | G21: =ROUND(E21*F21,2) -> 1323 | H21: 0 | I21: =ROUND(E21*H21,2) -> 0 | J21: 4410 | K21: =ROUND(E21*J21,2) -> 1323 | L21: 21 | M21: =G21*(1+L21/100) -> 1600.83 | N21: 0 | O21: =ROUND(E21*N21,2) -> 0 | P21: 2.2 | Q21: =ROUND(E21*P21,2) -> 0.66 | S21: RTS 22/ I | T21: RTS 21/ II | U21: 12.56 | V21: =ROUND(E21*U21,2) -> 3.77 | X21: Práce | AG21: POL1_
C22: m.č.106 a 107 pro kanalizaci : (4,2+0,8)*0,4*0,10 | E22: 0.2 | AG22: VV | AH22: 0
C23: 1,0*1,0*0,10 | E23: 0.1 | AG23: VV | AH23: 0
A24: 8 | B24: 970241100R00 | C24: Řezání prostého betonu hl. řezu 100 mm | D24: m | E24: 13 | F24: 574 | G24: =ROUND(E24*F24,2) -> 7462 | H24: 88.13 | I24: =ROUND(E24*H24,2) -> 1145.69 | J24: 485.87 | K24: =ROUND(E24*J24,2) -> 6316.31 | L24: 21 | M24: =G24*(1+L24/100) -> 9029.02 | N24: 0 | O24: =ROUND(E24*N24,2) -> 0 | P24: 0.00046 | Q24: =ROUND(E24*P24,2) -> 0.01 | S24: RTS 22/ I | T24: RTS 21/ II | U24: 0.9 | V24: =ROUND(E24*U24,2) -> 11.7 | X24: Práce | AG24: POL1_
C25: m.č.106 a 107 pro kanalizaci : (4,2+0,8)*2 | E25: 10 | AG25: VV | AH25: 0
C26: 1,0*3 | E26: 3 | AG26: VV | AH26: 0
A27: 9 | B27: 974031167R00 | C27: Vysekání rýh ve zdi cihelné pro kanalizaci | D27: m | E27: 8.6 | F27: 302 | G27: =ROUND(E27*F27,2) -> 2597.2 | H27: 13.06 | I27: =ROUND(E27*H27,2) -> 112.32 | J27: 288.94 | K27: =ROUND(E27*J27,2) -> 2484.88 | L27: 21 | M27: =G27*(1+L27/100) -> 3142.612 | N27: 0.00049 | O27: =ROUND(E27*N27,2) -> 0 | P27: 0.081 | Q27: =ROUND(E27*P27,2) -> 0.7 | S27: RTS 22/ I | T27: RTS 21/ II | U27: 0.812 | V27: =ROUND(E27*U27,2) -> 6.98 | X27: Práce | AG27: POL1_
C28: Včetně pomocného lešení o výšce podlahy do 1900 mm a pro zatížení do 1,5 kPa (150 kg/m2). | AG28: POP
A29: Díl: | B29: D96 | C29: Přesuny suti a vybouraných hmot | G29: =SUMIF(AG30:AG35,"<>NOR",G30:G35) -> 1932.42 | I29: =SUM(I30:I35) -> 0 | K29: =SUM(K30:K35) -> 1932.42 | M29: =SUM(M30:M35) -> 2338.2282 | O29: =SUM(O30:O35) -> 0 | Q29: =SUM(Q30:Q35) -> 0 | V29: =SUM(V30:V35) -> 2.38 | AG29: DIL
A30: 10 | B30: 979081111R00 | C30: Odvoz suti a vybour. hmot na skládku do 1 km | D30: t | E30: 1.36258 | F30: 234.5 | G30: =ROUND(E30*F30,2) -> 319.53 | H30: 0 | I30: =ROUND(E30*H30,2) -> 0 | J30: 234.5 | K30: =ROUND(E30*J30,2) -> 319.53 | L30: 21 | M30: =G30*(1+L30/100) -> 386.6313 | N30: 0 | O30: =ROUND(E30*N30,2) -> 0 | P30: 0 | Q30: =ROUND(E30*P30,2) -> 0 | S30: RTS 22/ I | T30: RTS 21/ II | U30: 0.49 | V30: =ROUND(E30*U30,2) -> 0.67 | X30: Přesun suti | AG30: POL8_
C31: Včetně naložení na dopravní prostředek a složení na skládku, bez poplatku za skládku. | AG31: POP
A32: 11 | B32: 979081121R00 | C32: Příplatek k odvozu za každý další 1 km | D32: t | E32: 16.35096 | F32: 16 | G32: =ROUND(E32*F32,2) -> 261.62 | H32: 0 | I32: =ROUND(E32*H32,2) -> 0 | J32: 16 | K32: =ROUND(E32*J32,2) -> 261.62 | L32: 21 | M32: =G32*(1+L32/100) -> 316.5602 | N32: 0 | O32: =ROUND(E32*N32,2) -> 0 | P32: 0 | Q32: =ROUND(E32*P32,2) -> 0 | S32: RTS 22/ I | T32: RTS 21/ II | U32: 0 | V32: =ROUND(E32*U32,2) -> 0 | X32: Přesun suti | AG32: POL8_
A33: 12 | B33: 979082111R00 | C33: Vnitrostaveništní doprava suti do 10 m | D33: t | E33: 1.36258 | F33: 331 | G33: =ROUND(E33*F33,2) -> 451.01 | H33: 0 | I33: =ROUND(E33*H33,2) -> 0 | J33: 331 | K33: =ROUND(E33*J33,2) -> 451.01 | L33: 21 | M33: =G33*(1+L33/100) -> 545.7221 | N33: 0 | O33: =ROUND(E33*N33,2) -> 0 | P33: 0 | Q33: =ROUND(E33*P33,2) -> 0 | S33: RTS 22/ I | T33: RTS 21/ II | U33: 0.942 | V33: =ROUND(E33*U33,2) -> 1.28 | X33: Přesun suti | AG33: POL8_
A34: 13 | B34: 979082121R00 | C34: Příplatek k vnitrost. dopravě suti za dalších 5 m | D34: t | E34: 4.08774 | F34: 36.9 | G34: =ROUND(E34*F34,2) -> 150.84 | H34: 0 | I34: =ROUND(E34*H34,2) -> 0 | J34: 36.9 | K34: =ROUND(E34*J34,2) -> 150.84 | L34: 21 | M34: =G34*(1+L34/100) -> 182.5164 | N34: 0 | O34: =ROUND(E34*N34,2) -> 0 | P34: 0 | Q34: =ROUND(E34*P34,2) -> 0 | S34: RTS 22/ I | T34: RTS 21/ II | U34: 0.105 | V34: =ROUND(E34*U34,2) -> 0.43 | X34: Přesun suti | AG34: POL8_
A35: 14 | B35: 9799901NC01 | C35: Poplatek za sklád.suti | D35: t | E35: 1.36258 | F35: 550 | G35: =ROUND(E35*F35,2) -> 749.42 | H35: 0 | I35: =ROUND(E35*H35,2) -> 0 | J35: 550 | K35: =ROUND(E35*J35,2) -> 749.42 | L35: 21 | M35: =G35*(1+L35/100) -> 906.7982 | N35: 0 | O35: =ROUND(E35*N35,2) -> 0 | P35: 0 | Q35: =ROUND(E35*P35,2) -> 0 | S35: Vlastní | T35: Indiv | U35: 0 | V35: =ROUND(E35*U35,2) -> 0 | X35: Přesun suti | AG35: POL8_
AE36: 15 | AF36: 21 | AG36: DPH
B37: Celkem | G37: =G8+G20+G29 -> 22564.73 | AE37: =SUMIF(L7:L35,AE36,G7:G35) -> 0 | AF37: =SUMIF(L7:L35,AF36,G7:G35) -> 22564.73 | AG37: SUM
A40: Poznámky uchazeče k zadání
AG41: POPUZIV
AG47: END

Sheet SO 03 013aVCP Pol
A1: Položkový rozpočet | AG1: #TypZaznamu#
A2: S: | B2: 2021-KL | C2: OPRAVA INTERIERU OBECNÍHO ÚŘADU KLENOVICE NA HANÉ | AG2: STA
A3: O: | B3: SO 03 | C3: Stavební objekt | AC3: STA | AG3: OBJ
A4: R: | B4: 013aVCP | C4: Stavení přípomoci | AG4: ROZ
A6: P.č. | B6: Číslo položky | C6: Název položky | D6: MJ | E6: Množství | F6: Cena / MJ | G6: Celkem | H6: Dodávka | I6: Dodávka celk. | J6: Montáž | K6: Montáž celk. | L6: DPH | M6: Cena s DPH | N6: Hmotnost / MJ | O6: Hmotnost celk.(t) | P6: Dem. hmotnost / MJ | Q6: Dem. hmotnost celk.(t) | R6: Ceník | S6: Cen. soustava / platnost | T6: Cenová úroveň | U6: Nhod / MJ | V6: Nhod celk. | W6: Dodavatel | X6: Typ položky
A8: Díl: | B8: 3 | C8: Svislé a kompletní konstrukce | G8: =SUMIF(AG9:AG14,"<>NOR",G9:G14) -> 8711.5 | I8: =SUM(I9:I14) -> 1139.15 | K8: =SUM(K9:K14) -> 7572.35 | M8: =SUM(M9:M14) -> 10540.915 | O8: =SUM(O9:O14) -> 0.57 | Q8: =SUM(Q9:Q14) -> 0 | V8: =SUM(V9:V14) -> 2.66 | AG8: DIL
A9: 1 | B9: 310236241R00 | C9: Zazdívka otvorů pl. 0,09 m2 cihlami, tl. zdi 30 cm | D9: kus | E9: 3 | F9: 192.5 | G9: =ROUND(E9*F9,2) -> 577.5 | H9: 90.73 | I9: =ROUND(E9*H9,2) -> 272.19 | J9: 101.77 | K9: =ROUND(E9*J9,2) -> 305.31 | L9: 21 | M9: =G9*(1+L9/100) -> 698.775 | N9: 0.0515 | O9: =ROUND(E9*N9,2) -> 0.15 | P9: 0 | Q9: =ROUND(E9*P9,2) -> 0 | S9: RTS 22/ I | T9: RTS 21/ II | U9: 0.231 | V9: =ROUND(E9*U9,2) -> 0.69 | X9: Práce | AG9: POL1_
C10: pro vedení ÚT : 3 | E10: 3 | AG10: VV | AH10: 0
A11: 2 | B11: 310236261R00 | C11: Zazdívka otvorů pl. 0,09 m2 cihlami, tl. zdi 60 cm | D11: kus | E11: 4 | F11: 433.5 | G11: =ROUND(E11*F11,2) -> 1734 | H11: 216.74 | I11: =ROUND(E11*H11,2) -> 866.96 | J11: 216.76 | K11: =ROUND(E11*J11,2) -> 867.04 | L11: 21 | M11: =G11*(1+L11/100) -> 2098.14 | N11: 0.10434 | O11: =ROUND(E11*N11,2) -> 0.42 | P11: 0 | Q11: =ROUND(E11*P11,2) -> 0 | S11: RTS 22/ I | T11: RTS 21/ II | U11: 0.492 | V11: =ROUND(E11*U11,2) -> 1.97 | X11: Práce | AG11: POL1_
C12: pro vedení ÚT : 3 | E12: 3 | AG12: VV | AH12: 0
C13: pro vedení ÚT : 1 | E13: 1 | AG13: VV | AH13: 0
A14: 3 | B14: 3-NC01 | C14: Zapravení otvoru ve stropech po stupačkách ÚT | D14: kus | E14: 8 | F14: 800 | G14: =ROUND(E14*F14,2) -> 6400 | H14: 0 | I14: =ROUND(E14*H14,2) -> 0 | J14: 800 | K14: =ROUND(E14*J14,2) -> 6400 | L14: 21 | M14: =G14*(1+L14/100) -> 7744 | N14: 0 | O14: =ROUND(E14*N14,2) -> 0 | P14: 0 | Q14: =ROUND(E14*P14,2) -> 0 | S14: Vlastní | T14: Indiv | U14: 0 | V14: =ROUND(E14*U14,2) -> 0 | X14: Práce | AG14: POL1_
A15: Díl: | B15: 61 | C15: Úpravy povrchů vnitřní | G15: =SUMIF(AG16:AG25,"<>NOR",G16:G25) -> 10842.5 | I15: =SUM(I16:I25) -> 4777.36 | K15: =SUM(K16:K25) -> 6065.15 | M15: =SUM(M16:M25) -> 13119.425 | O15: =SUM(O16:O25) -> 1.12 | Q15: =SUM(Q16:Q25) -> 0 | V15: =SUM(V16:V25) -> 13.77 | AG15: DIL
A16: 4 | B16: 612403386R00 | C16: Hrubá výplň rýh ve stěnách do 10x10cm maltou z SMS | D16: m | E16: 28.9 | F16: 185 | G16: =ROUND(E16*F16,2) -> 5346.5 | H16: 73.55 | I16: =ROUND(E16*H16,2) -> 2125.6 | J16: 111.45 | K16: =ROUND(E16*J16,2) -> 3220.91 | L16: 21 | M16: =G16*(1+L16/100) -> 6469.265 | N16: 0.01733 | O16: =ROUND(E16*N16,2) -> 0.5 | P16: 0 | Q16: =ROUND(E16*P16,2) -> 0 | S16: RTS 22/ I | T16: RTS 21/ II | U16: 0.253 | V16: =ROUND(E16*U16,2) -> 7.31 | X16: Práce | AG16: POL1_
C17: vodorovné pro ÚT : 1,6+1,6+3,4 | E17: 6.6 | AG17: VV | AH17: 0
C18: 0,5*2 | E18: 1 | AG18: VV | AH18: 0
C19: 0,3+0,7 | E19: 1 | AG19: VV | AH19: 0
C20: 1,3*2 | E20: 2.6 | AG20: VV | AH20: 0
C21: 4,5+2,7 | E21: 7.2 | AG21: VV | AH21: 0
C22: 0,2*7 | E22: 1.4 | AG22: VV | AH22: 0
C23: 3,0+1,5+2,0+1,7+0,9 | E23: 9.1 | AG23: VV | AH23: 0
A24: 5 | B24: 612403387R00 | C24: Hrubá výplň rýh ve stěnách do 15x10cm maltou z SMS | D24: m | E24: 24 | F24: 229 | G24: =ROUND(E24*F24,2) -> 5496 | H24: 110.49 | I24: =ROUND(E24*H24,2) -> 2651.76 | J24: 118.51 | K24: =ROUND(E24*J24,2) -> 2844.24 | L24: 21 | M24: =G24*(1+L24/100) -> 6650.16 | N24: 0.02599 | O24: =ROUND(E24*N24,2) -> 0.62 | P24: 0 | Q24: =ROUND(E24*P24,2) -> 0 | S24: RTS 22/ I | T24: RTS 21/ II | U24: 0.269 | V24: =ROUND(E24*U24,2) -> 6.46 | X24: Práce | AG24: POL1_
C25: pro stupačky ÚT : 6*4 | E25: 24 | AG25: VV | AH25: 0
A26: Díl: | B26: 95 | C26: Dokončovací konstrukce na pozemních stavbách | G26: =SUMIF(AG27:AG35,"<>NOR",G27:G35) -> 22082 | I26: =SUM(I27:I35) -> 0 | K26: =SUM(K27:K35) -> 22082 | M26: =SUM(M27:M35) -> 26719.22 | O26: =SUM(O27:O35) -> 0 | Q26: =SUM(Q27:Q35) -> 0 | V26: =SUM(V27:V35) -> 0 | AG26: DIL
A27: 6 | B27: 95-NC001 | C27: Montáž trezoru - vysekání zdiva tepelná izolace, obetonování | D27: kpl | E27: 1 | F27: 3000 | G27: =ROUND(E27*F27,2) -> 3000 | H27: 0 | I27: =ROUND(E27*H27,2) -> 0 | J27: 3000 | K27: =ROUND(E27*J27,2) -> 3000 | L27: 21 | M27: =G27*(1+L27/100) -> 3630 | N27: 0 | O27: =ROUND(E27*N27,2) -> 0 | P27: 0 | Q27: =ROUND(E27*P27,2) -> 0 | S27: Vlastní | T27: Indiv | U27: 0 | V27: =ROUND(E27*U27,2) -> 0 | X27: Práce | AG27: POL1_
A28: 7 | B28: 95-NC002 | C28: Vysekání otvoru pro osazení zařízení CETIN vč. zapravení 300x250x100 mm | D28: kpl | E28: 1 | F28: 1800 | G28: =ROUND(E28*F28,2) -> 1800 | H28: 0 | I28: =ROUND(E28*H28,2) -> 0 | J28: 1800 | K28: =ROUND(E28*J28,2) -> 1800 | L28: 21 | M28: =G28*(1+L28/100) -> 2178 | N28: 0 | O28: =ROUND(E28*N28,2) -> 0 | P28: 0 | Q28: =ROUND(E28*P28,2) -> 0 | S28: Vlastní | T28: Indiv | U28: 0 | V28: =ROUND(E28*U28,2) -> 0 | X28: Práce | AG28: POL1_
A29: 8 | B29: 95-NC004 | C29: Kamerová zkouška kanalizace | D29: kpl | E29: 1 | F29: 6900 | G29: =ROUND(E29*F29,2) -> 6900 | H29: 0 | I29: =ROUND(E29*H29,2) -> 0 | J29: 6900 | K29: =ROUND(E29*J29,2) -> 6900 | L29: 21 | M29: =G29*(1+L29/100) -> 8349 | N29: 0 | O29: =ROUND(E29*N29,2) -> 0 | P29: 0 | Q29: =ROUND(E29*P29,2) -> 0 | S29: Vlastní | T29: Indiv | U29: 0 | V29: =ROUND(E29*U29,2) -> 0 | X29: Práce | AG29: POL1_
A30: 9 | B30: 95-NC005 | C30: Rozkrytí stropní konstrukce v knihovně vč. zpětného zapravaní 1,0x1,0 m | D30: kus | E30: 2 | F30: 1900 | G30: =ROUND(E30*F30,2) -> 3800 | H30: 0 | I30: =ROUND(E30*H30,2) -> 0 | J30: 1900 | K30: =ROUND(E30*J30,2) -> 3800 | L30: 21 | M30: =G30*(1+L30/100) -> 4598 | N30: 0 | O30: =ROUND(E30*N30,2) -> 0 | P30: 0 | Q30: =ROUND(E30*P30,2) -> 0 | S30: Vlastní | T30: Indiv | U30: 0 | V30: =ROUND(E30*U30,2) -> 0 | X30: Práce | AG30: POL1_
A31: 10 | B31: 95-NC006 | C31: Vyvrtání otvorů pro průchod vedení teplé vody vč. zapravení | D31: m | E31: 1.885 | F31: 1200 | G31: =ROUND(E31*F31,2) -> 2262 | H31: 0 | I31: =ROUND(E31*H31,2) -> 0 | J31: 1200 | K31: =ROUND(E31*J31,2) -> 2262 | L31: 21 | M31: =G31*(1+L31/100) -> 2737.02 | N31: 0 | O31: =ROUND(E31*N31,2) -> 0 | P31: 0 | Q31: =ROUND(E31*P31,2) -> 0 | S31: Vlastní | T31: Indiv | U31: 0 | V31: =ROUND(E31*U31,2) -> 0 | X31: Práce | AG31: POL1_
C32: 0,47+0,47+0,485+0,46 | E32: 1.885 | AG32: VV | AH32: 0
A33: 11 | B33: 95-NC007 | C33: Vyfrézování drážky pro vedení teplé vody vč. hrubého zapravení | D33: m | E33: 14.4 | F33: 300 | G33: =ROUND(E33*F33,2) -> 4320 | H33: 0 | I33: =ROUND(E33*H33,2) -> 0 | J33: 300 | K33: =ROUND(E33*J33,2) -> 4320 | L33: 21 | M33: =G33*(1+L33/100) -> 5227.2 | N33: 0 | O33: =ROUND(E33*N33,2) -> 0 | P33: 0 | Q33: =ROUND(E33*P33,2) -> 0 | S33: Vlastní | T33: Indiv | U33: 0 | V33: =ROUND(E33*U33,2) -> 0 | X33: Práce | AG33: POL1_
C34: 3,8*3 | E34: 11.4 | AG34: VV | AH34: 0
C35: 1,0*3 | E35: 3 | AG35: VV | AH35: 0
A36: Díl: | B36: 96 | C36: Bourání konstrukcí | G36: =SUMIF(AG37:AG68,"<>NOR",G37:G68) -> 18816.55 | I36: =SUM(I37:I68) -> 859.05 | K36: =SUM(K37:K68) -> 17957.5 | M36: =SUM(M37:M68) -> 22768.025 | O36: =SUM(O37:O68) -> 0.02 | Q36: =SUM(Q37:Q68) -> 20.41 | V36: =SUM(V37:V68) -> 41.9 | AG36: DIL
A37: 12 | B37: 965082923R00 | C37: Odstranění násypu tl. do 10 cm, plocha nad 2 m2 | D37: m3 | E37: 13.4265 | F37: 441.5 | G37: =ROUND(E37*F37,2) -> 5927.8 | H37: 0 | I37: =ROUND(E37*H37,2) -> 0 | J37: 441.5 | K37: =ROUND(E37*J37,2) -> 5927.8 | L37: 21 | M37: =G37*(1+L37/100) -> 7172.638 | N37: 0 | O37: =ROUND(E37*N37,2) -> 0 | P37: 1.4 | Q37: =ROUND(E37*P37,2) -> 18.8 | S37: RTS 22/ I | T37: RTS 21/ II | U37: 1.257 | V37: =ROUND(E37*U37,2) -> 16.88 | X37: Práce | AG37: POL1_
C38: Začátek provozního součtu | AG38: VV
C39: II.NP : | AG39: VV | AH39: 2
C40: m.č.204 kancelář OÚ : 32,5 | E40: 32.5 | AG40: VV | AH40: 2
C41: m.č.205 kancelář starosty : 23,86 | E41: 23.86 | AG41: VV | AH41: 2
C42: m.č.206 kuchyňka : 6,25 | E42: 6.25 | AG42: VV | AH42: 2
C43: m.č.212 úklid : 8,59 | E43: 8.59 | AG43: VV | AH43: 2
C44: m.č.213 archiv : 18,31 | E44: 18.31 | AG44: VV | AH44: 2
C45: Konec provozního součtu | AG45: VV
C46: 89,51*0,15 | E46: 13.4265 | AG46: VV | AH46: 0
A47: 13 | B47: 971033341R00 | C47: Vybourání otv. zeď cihel. pl.0,09 m2, tl.30cm, MVC | D47: kus | E47: 3 | F47: 145 | G47: =ROUND(E47*F47,2) -> 435 | H47: 8.9 | I47: =ROUND(E47*H47,2) -> 26.7 | J47: 136.1 | K47: =ROUND(E47*J47,2) -> 408.3 | L47: 21 | M47: =G47*(1+L47/100) -> 526.35 | N47: 0.00034 | O47: =ROUND(E47*N47,2) -> 0 | P47: 0.054 | Q47: =ROUND(E47*P47,2) -> 0.16 | S47: RTS 22/ I | T47: RTS 21/ II | U47: 0.381 | V47: =ROUND(E47*U47,2) -> 1.14 | X47: Práce | AG47: POL1_
C48: Včetně pomocného lešení o výšce podlahy do 1900 mm a pro zatížení do 1,5 kPa (150 kg/m2). | AG48: POP
C49: pro vedení ÚT : 3 | E49: 3 | AG49: VV | AH49: 0
A50: 14 | B50: 971033361R00 | C50: Vybourání otv. zeď cihel. pl.0,09 m2, tl.60cm, MVC | D50: kus | E50: 3 | F50: 447.5 | G50: =ROUND(E50*F50,2) -> 1342.5 | H50: 35.37 | I50: =ROUND(E50*H50,2) -> 106.11 | J50: 412.13 | K50: =ROUND(E50*J50,2) -> 1236.39 | L50: 21 | M50: =G50*(1+L50/100) -> 1624.425 | N50: 0.00133 | O50: =ROUND(E50*N50,2) -> 0 | P50: 0.099 | Q50: =ROUND(E50*P50,2) -> 0.3 | S50: RTS 22/ I | T50: RTS 21/ II | U50: 1.147 | V50: =ROUND(E50*U50,2) -> 3.44 | X50: Práce | AG50: POL1_
C51: Včetně pomocného lešení o výšce podlahy do 1900 mm a pro zatížení do 1,5 kPa (150 kg/m2). | AG51: POP
C52: pro vedení ÚT : 3 | E52: 3 | AG52: VV | AH52: 0
A53: 15 | B53: 971033371R00 | C53: Vybourání otv. zeď cihel. pl.0,09 m2, tl.75cm, MVC | D53: kus | E53: 1 | F53: 611 | G53: =ROUND(E53*F53,2) -> 611 | H53: 35.37 | I53: =ROUND(E53*H53,2) -> 35.37 | J53: 575.63 | K53: =ROUND(E53*J53,2) -> 575.63 | L53: 21 | M53: =G53*(1+L53/100) -> 739.31 | N53: 0.00133 | O53: =ROUND(E53*N53,2) -> 0 | P53: 0.124 | Q53: =ROUND(E53*P53,2) -> 0.12 | S53: RTS 22/ I | T53: RTS 21/ II | U53: 1.611 | V53: =ROUND(E53*U53,2) -> 1.61 | X53: Práce | AG53: POL1_
C54: Včetně pomocného lešení o výšce podlahy do 1900 mm a pro zatížení do 1,5 kPa (150 kg/m2). | AG54: POP
C55: pro vedení ÚT : 1 | E55: 1 | AG55: VV | AH55: 0
A56: 16 | B56: 974031143R00 | C56: Vysekání rýh ve zdi cihelné 7 x 10 cm | D56: m | E56: 28.9 | F56: 122.5 | G56: =ROUND(E56*F56,2) -> 3540.25 | H56: 13.06 | I56: =ROUND(E56*H56,2) -> 377.43 | J56: 109.44 | K56: =ROUND(E56*J56,2) -> 3162.82 | L56: 21 | M56: =G56*(1+L56/100) -> 4283.7025 | N56: 0.00049 | O56: =ROUND(E56*N56,2) -> 0.01 | P56: 0.013 | Q56: =ROUND(E56*P56,2) -> 0.38 | S56: RTS 22/ I | T56: RTS 21/ II | U56: 0.301 | V56: =ROUND(E56*U56,2) -> 8.7 | X56: Práce | AG56: POL1_
C57: Včetně pomocného lešení o výšce podlahy do 1900 mm a pro zatížení do 1,5 kPa (150 kg/m2). | AG57: POP
C58: vodorovné pro ÚT : 1,6+1,6+3,4 | E58: 6.6 | AG58: VV | AH58: 0
C59: 0,5*2 | E59: 1 | AG59: VV | AH59: 0
C60: 0,3+0,7 | E60: 1 | AG60: VV | AH60: 0
C61: 1,3*2 | E61: 2.6 | AG61: VV | AH61: 0
C62: 4,5+2,7 | E62: 7.2 | AG62: VV | AH62: 0
C63: 0,2*7 | E63: 1.4 | AG63: VV | AH63: 0
C64: 3,0+1,5+2,0+1,7+0,9 | E64: 9.1 | AG64: VV | AH64: 0
A65: 17 | B65: 974031154R00 | C65: Vysekání rýh ve zdi cihelné 10 x 15 cm | D65: m | E65: 24 | F65: 165 | G65: =ROUND(E65*F65,2) -> 3960 | H65: 13.06 | I65: =ROUND(E65*H65,2) -> 313.44 | J65: 151.94 | K65: =ROUND(E65*J65,2) -> 3646.56 | L65: 21 | M65: =G65*(1+L65/100) -> 4791.6 | N65: 0.00049 | O65: =ROUND(E65*N65,2) -> 0.01 | P65: 0.027 | Q65: =ROUND(E65*P65,2) -> 0.65 | S65: RTS 22/ I | T65: RTS 21/ II | U65: 0.422 | V65: =ROUND(E65*U65,2) -> 10.13 | X65: Práce | AG65: POL1_
C66: Včetně pomocného lešení o výšce podlahy do 1900 mm a pro zatížení do 1,5 kPa (150 kg/m2). | AG66: POP
C67: pro stupačky ÚT : 6*4 | E67: 24 | AG67: VV | AH67: 0
A68: 18 | B68: 96-NC01 | C68: Otvor ve stropní konstrukci pro stupačky ÚT | D68: kus | E68: 6 | F68: 500 | G68: =ROUND(E68*F68,2) -> 3000 | H68: 0 | I68: =ROUND(E68*H68,2) -> 0 | J68: 500 | K68: =ROUND(E68*J68,2) -> 3000 | L68: 21 | M68: =G68*(1+L68/100) -> 3630 | N68: 0 | O68: =ROUND(E68*N68,2) -> 0 | P68: 0 | Q68: =ROUND(E68*P68,2) -> 0 | S68: Vlastní | T68: Indiv | U68: 0 | V68: =ROUND(E68*U68,2) -> 0 | X68: Práce | AG68: POL1_
A69: Díl: | B69: 99 | C69: Staveništní přesun hmot | G69: =SUMIF(AG70:AG70,"<>NOR",G70:G70) -> 1529.92 | I69: =SUM(I70:I70) -> 0 | K69: =SUM(K70:K70) -> 1529.92 | M69: =SUM(M70:M70) -> 1851.2032 | O69: =SUM(O70:O70) -> 0 | Q69: =SUM(Q70:Q70) -> 0 | V69: =SUM(V70:V70) -> 3.63 | AG69: DIL
A70: 19 | B70: 999281145R00 | C70: Přesun hmot pro opravy a údržbu do v. 6 m, nošením | D70: t | E70: 1.72872 | F70: 885 | G70: =ROUND(E70*F70,2) -> 1529.92 | H70: 0 | I70: =ROUND(E70*H70,2) -> 0 | J70: 885 | K70: =ROUND(E70*J70,2) -> 1529.92 | L70: 21 | M70: =G70*(1+L70/100) -> 1851.2032 | N70: 0 | O70: =ROUND(E70*N70,2) -> 0 | P70: 0 | Q70: =ROUND(E70*P70,2) -> 0 | S70: RTS 22/ I | T70: RTS 21/ II | U70: 2.1 | V70: =ROUND(E70*U70,2) -> 3.63 | X70: Přesun hmot | AG70: POL7_
A71: Díl: | B71: 762 | C71: Konstrukce tesařské | G71: =SUMIF(AG72:AG84,"<>NOR",G72:G84) -> 4181.52 | I71: =SUM(I72:I84) -> 2288.13 | K71: =SUM(K72:K84) -> 1893.39 | M71: =SUM(M72:M84) -> 5059.6392 | O71: =SUM(O72:O84) -> 0.19 | Q71: =SUM(Q72:Q84) -> 0.12 | V71: =SUM(V72:V84) -> 3.16 | AG71: DIL
A72: 20 | B72: 762521108RT2 | C72: Položení podlah nehoblovaných na sraz, hrubé fošny včetně dodávky řeziva, fošny tl. 38 mm | D72: m2 | E72: 8.59 | F72: 378 | G72: =ROUND(E72*F72,2) -> 3247.02 | H72: 237.57 | I72: =ROUND(E72*H72,2) -> 2040.73 | J72: 140.43 | K72: =ROUND(E72*J72,2) -> 1206.29 | L72: 21 | M72: =G72*(1+L72/100) -> 3928.8942 | N72: 0.02257 | O72: =ROUND(E72*N72,2) -> 0.19 | P72: 0 | Q72: =ROUND(E72*P72,2) -> 0 | S72: RTS 22/ I | T72: RTS 21/ II | U72: 0.287 | V72: =ROUND(E72*U72,2) -> 2.47 | X72: Práce | AG72: POL1_
C73: II.NP : | AG73: VV | AH73: 0
C74: m.č.212 úklid - druhý záklop : 8,59 | E74: 8.59 | AG74: VV | AH74: 0
A75: 21 | B75: 762595000R00 | C75: Spojovací a ochranné prostředky k položení podlah | D75: m3 | E75: 0.32642 | F75: 229.5 | G75: =ROUND(E75*F75,2) -> 74.91 | H75: 229.5 | I75: =ROUND(E75*H75,2) -> 74.91 | J75: 0 | K75: =ROUND(E75*J75,2) -> 0 | L75: 21 | M75: =G75*(1+L75/100) -> 90.6411 | N75: 0.00295 | O75: =ROUND(E75*N75,2) -> 0 | P75: 0 | Q75: =ROUND(E75*P75,2) -> 0 | S75: RTS 22/ I | T75: RTS 21/ II | U75: 0 | V75: =ROUND(E75*U75,2) -> 0 | X75: Práce | AG75: POL1_
C76: II.NP : | AG76: VV | AH76: 0
C77: m.č.212 úklid - druhý záklop : 8,59*0,038 | E77: 0.32642 | AG77: VV | AH77: 0
A78: 22 | B78: 762811811R00 | C78: Demontáž záklopů z hrubých prken tl. do 3,2 cm | D78: m2 | E78: 8.59 | F78: 39.1 | G78: =ROUND(E78*F78,2) -> 335.87 | H78: 0 | I78: =ROUND(E78*H78,2) -> 0 | J78: 39.1 | K78: =ROUND(E78*J78,2) -> 335.87 | L78: 21 | M78: =G78*(1+L78/100) -> 406.4027 | N78: 0 | O78: =ROUND(E78*N78,2) -> 0 | P78: 0.014 | Q78: =ROUND(E78*P78,2) -> 0.12 | S78: RTS 22/ I | T78: RTS 21/ II | U78: 0.08 | V78: =ROUND(E78*U78,2) -> 0.69 | X78: Práce | AG78: POL1_
C79: II.NP : | AG79: VV | AH79: 0
C80: m.č.212 úklid - druhý záklop : 8,59 | E80: 8.59 | AG80: VV | AH80: 0
A81: 23 | B81: 762911111R00 | C81: Impregnace řeziva máčením Bochemit QB | D81: m2 | E81: 17.18 | F81: 14.2 | G81: =ROUND(E81*F81,2) -> 243.96 | H81: 10.04 | I81: =ROUND(E81*H81,2) -> 172.49 | J81: 4.16 | K81: =ROUND(E81*J81,2) -> 71.47 | L81: 21 | M81: =G81*(1+L81/100) -> 295.1916 | N81: 6e-05 | O81: =ROUND(E81*N81,2) -> 0 | P81: 0 | Q81: =ROUND(E81*P81,2) -> 0 | S81: RTS 22/ I | T81: RTS 21/ II | U81: 0 | V81: =ROUND(E81*U81,2) -> 0 | X81: Práce | AG81: POL1_
C82: II.NP : | AG82: VV | AH82: 0
C83: m.č.212 úklid - druhý záklop : 8,59*2 | E83: 17.18 | AG83: VV | AH83: 0
A84: 24 | B84: 998762202R00 | C84: Přesun hmot pro tesařské konstrukce, výšky do 12 m | D84: % | E84: 39.0176 | F84: 7.17 | G84: =ROUND(E84*F84,2) -> 279.76 | H84: 0 | I84: =ROUND(E84*H84,2) -> 0 | J84: 7.17 | K84: =ROUND(E84*J84,2) -> 279.76 | L84: 21 | M84: =G84*(1+L84/100) -> 338.5096 | N84: 0 | O84: =ROUND(E84*N84,2) -> 0 | P84: 0 | Q84: =ROUND(E84*P84,2) -> 0 | S84: RTS 22/ I | T84: Indiv | U84: 0 | V84: =ROUND(E84*U84,2) -> 0 | X84: Přesun hmot | AG84: POL7_
A85: Díl: | B85: D96 | C85: Přesuny suti a vybouraných hmot | G85: =SUMIF(AG86:AG92,"<>NOR",G86:G92) -> 36964.44 | I85: =SUM(I86:I92) -> 0 | K85: =SUM(K86:K92) -> 36964.44 | M85: =SUM(M86:M92) -> 44726.972 | O85: =SUM(O86:O92) -> 0 | Q85: =SUM(Q86:Q92) -> 0 | V85: =SUM(V86:V92) -> 55.01 | AG85: DIL
A86: 25 | B86: 979011111R00 | C86: Svislá doprava suti a vybour. hmot za 2.NP a 1.PP | D86: t | E86: 20.52406 | F86: 382.83 | G86: =ROUND(E86*F86,2) -> 7857.23 | H86: 0 | I86: =ROUND(E86*H86,2) -> 0 | J86: 382.83 | K86: =ROUND(E86*J86,2) -> 7857.23 | L86: 21 | M86: =G86*(1+L86/100) -> 9507.2483 | N86: 0 | O86: =ROUND(E86*N86,2) -> 0 | P86: 0 | Q86: =ROUND(E86*P86,2) -> 0 | S86: RTS 22/ I | T86: Indiv | U86: 0.933 | V86: =ROUND(E86*U86,2) -> 19.15 | X86: Přesun suti | AG86: POL8_
A87: 26 | B87: 979081111R00 | C87: Odvoz suti a vybour. hmot na skládku do 1 km | D87: t | E87: 20.52406 | F87: 234.5 | G87: =ROUND(E87*F87,2) -> 4812.89 | H87: 0 | I87: =ROUND(E87*H87,2) -> 0 | J87: 234.5 | K87: =ROUND(E87*J87,2) -> 4812.89 | L87: 21 | M87: =G87*(1+L87/100) -> 5823.5969 | N87: 0 | O87: =ROUND(E87*N87,2) -> 0 | P87: 0 | Q87: =ROUND(E87*P87,2) -> 0 | S87: RTS 22/ I | T87: RTS 21/ II | U87: 0.49 | V87: =ROUND(E87*U87,2) -> 10.06 | X87: Přesun suti | AG87: POL8_
C88: Včetně naložení na dopravní prostředek a složení na skládku, bez poplatku za skládku. | AG88: POP
A89: 27 | B89: 979081121R00 | C89: Příplatek k odvozu za každý další 1 km | D89: t | E89: 246.28872 | F89: 16 | G89: =ROUND(E89*F89,2) -> 3940.62 | H89: 0 | I89: =ROUND(E89*H89,2) -> 0 | J89: 16 | K89: =ROUND(E89*J89,2) -> 3940.62 | L89: 21 | M89: =G89*(1+L89/100) -> 4768.1502 | N89: 0 | O89: =ROUND(E89*N89,2) -> 0 | P89: 0 | Q89: =ROUND(E89*P89,2) -> 0 | S89: RTS 22/ I | T89: RTS 21/ II | U89: 0 | V89: =ROUND(E89*U89,2) -> 0 | X89: Přesun suti | AG89: POL8_
A90: 28 | B90: 979082111R00 | C90: Vnitrostaveništní doprava suti do 10 m | D90: t | E90: 20.52406 | F90: 331 | G90: =ROUND(E90*F90,2) -> 6793.46 | H90: 0 | I90: =ROUND(E90*H90,2) -> 0 | J90: 331 | K90: =ROUND(E90*J90,2) -> 6793.46 | L90: 21 | M90: =G90*(1+L90/100) -> 8220.0866 | N90: 0 | O90: =ROUND(E90*N90,2) -> 0 | P90: 0 | Q90: =ROUND(E90*P90,2) -> 0 | S90: RTS 22/ I | T90: RTS 21/ II | U90: 0.942 | V90: =ROUND(E90*U90,2) -> 19.33 | X90: Přesun suti | AG90: POL8_
A91: 29 | B91: 979082121R00 | C91: Příplatek k vnitrost. dopravě suti za dalších 5 m | D91: t | E91: 61.57218 | F91: 36.9 | G91: =ROUND(E91*F91,2) -> 2272.01 | H91: 0 | I91: =ROUND(E91*H91,2) -> 0 | J91: 36.9 | K91: =ROUND(E91*J91,2) -> 2272.01 | L91: 21 | M91: =G91*(1+L91/100) -> 2749.1321 | N91: 0 | O91: =ROUND(E91*N91,2) -> 0 | P91: 0 | Q91: =ROUND(E91*P91,2) -> 0 | S91: RTS 22/ I | T91: RTS 21/ II | U91: 0.105 | V91: =ROUND(E91*U91,2) -> 6.47 | X91: Přesun suti | AG91: POL8_
A92: 30 | B92: 9799901NC01 | C92: Poplatek za sklád.suti | D92: t | E92: 20.52406 | F92: 550 | G92: =ROUND(E92*F92,2) -> 11288.23 | H92: 0 | I92: =ROUND(E92*H92,2) -> 0 | J92: 550 | K92: =ROUND(E92*J92,2) -> 11288.23 | L92: 21 | M92: =G92*(1+L92/100) -> 13658.758 | N92: 0 | O92: =ROUND(E92*N92,2) -> 0 | P92: 0 | Q92: =ROUND(E92*P92,2) -> 0 | S92: Vlastní | T92: Indiv | U92: 0 | V92: =ROUND(E92*U92,2) -> 0 | X92: Přesun suti | AG92: POL8_
AE93: 15 | AF93: 21 | AG93: DPH
B94: Celkem | G94: =G8+G15+G26+G36+G69+G71+G85 -> 103128.43 | AE94: =SUMIF(L7:L92,AE93,G7:G92) -> 0 | AF94: =SUMIF(L7:L92,AF93,G7:G92) -> 103128.43 | AG94: SUM
A97: Poznámky uchazeče k zadání
AG98: POPUZIV
AG104: END

Sheet SO 03 014aVCP Pol
A1: Položkový rozpočet | AG1: #TypZaznamu#
A2: S: | B2: 2021-KL | C2: OPRAVA INTERIERU OBECNÍHO ÚŘADU KLENOVICE NA HANÉ | AG2: STA
A3: O: | B3: SO 03 | C3: Stavební objekt | AC3: STA | AG3: OBJ
A4: R: | B4: 014aVCP | C4: Stavební úpravy u stávajících oken | AG4: ROZ
A6: P.č. | B6: Číslo položky | C6: Název položky | D6: MJ | E6: Množství | F6: Cena / MJ | G6: Celkem | H6: Dodávka | I6: Dodávka celk. | J6: Montáž | K6: Montáž celk. | L6: DPH | M6: Cena s DPH | N6: Hmotnost / MJ | O6: Hmotnost celk.(t) | P6: Dem. hmotnost / MJ | Q6: Dem. hmotnost celk.(t) | R6: Ceník | S6: Cen. soustava / platnost | T6: Cenová úroveň | U6: Nhod / MJ | V6: Nhod celk. | W6: Dodavatel | X6: Typ položky
A8: Díl: | B8: 3 | C8: Svislé a kompletní konstrukce | G8: =SUMIF(AG9:AG18,"<>NOR",G9:G18) -> 11849.41 | I8: =SUM(I9:I18) -> 4223.44 | K8: =SUM(K9:K18) -> 7625.97 | M8: =SUM(M9:M18) -> 14337.786 | O8: =SUM(O9:O18) -> 3.42 | Q8: =SUM(Q9:Q18) -> 0 | V8: =SUM(V9:V18) -> 19.48 | AG8: DIL
A9: 1 | B9: 349231811R00 | C9: Přizdívka ostění s ozubem z cihel, kapsy do 15 cm | D9: m2 | E9: 4.352 | F9: 1204 | G9: =ROUND(E9*F9,2) -> 5239.81 | H9: 440.54 | I9: =ROUND(E9*H9,2) -> 1917.23 | J9: 763.46 | K9: =ROUND(E9*J9,2) -> 3322.58 | L9: 21 | M9: =G9*(1+L9/100) -> 6340.1701 | N9: 0.28156 | O9: =ROUND(E9*N9,2) -> 1.23 | P9: 0 | Q9: =ROUND(E9*P9,2) -> 0 | S9: RTS 22/ I | T9: RTS 21/ II | U9: 1.606 | V9: =ROUND(E9*U9,2) -> 6.99 | X9: Práce | AG9: POL1_
C10: I.NP : | AG10: VV | AH10: 0
C11: m.č.102 chodba : 2,1*0,2*2 | E11: 0.84 | AG11: VV | AH11: 0
C12: II.NP : | AG12: VV | AH12: 0
C13: m.č.201-202 schodiště, hala : 2,38*0,4*2 | E13: 1.904 | AG13: VV | AH13: 0
C14: m.č.203 předprostor kanceláří : 2,01*0,4*2 | E14: 1.608 | AG14: VV | AH14: 0
A15: 2 | B15: 349231NC01 | C15: Přizdívka ostění do 4 cm | D15: m2 | E15: 7.776 | F15: 850 | G15: =ROUND(E15*F15,2) -> 6609.6 | H15: 296.58 | I15: =ROUND(E15*H15,2) -> 2306.21 | J15: 553.42 | K15: =ROUND(E15*J15,2) -> 4303.39 | L15: 21 | M15: =G15*(1+L15/100) -> 7997.616 | N15: 0.28156 | O15: =ROUND(E15*N15,2) -> 2.19 | P15: 0 | Q15: =ROUND(E15*P15,2) -> 0 | S15: Vlastní | T15: Indiv | U15: 1.606 | V15: =ROUND(E15*U15,2) -> 12.49 | X15: Práce | AG15: POL1_
C16: II.NP : | AG16: VV | AH16: 0
C17: m.č.204 kancelář OÚ : 2,43*0,4*2*2 | E17: 3.888 | AG17: VV | AH17: 0
C18: m.č.205 kancelář starosty : 2,43*0,4*2*2 | E18: 3.888 | AG18: VV | AH18: 0
A19: Díl: | B19: 61 | C19: Úpravy povrchů vnitřní | G19: =SUMIF(AG20:AG62,"<>NOR",G20:G62) -> 11472.26 | I19: =SUM(I20:I62) -> 1066.9 | K19: =SUM(K20:K62) -> 10405.37 | M19: =SUM(M20:M62) -> 13881.435 | O19: =SUM(O20:O62) -> 1.06 | Q19: =SUM(Q20:Q62) -> 0 | V19: =SUM(V20:V62) -> 20.62 | AG19: DIL
A20: 3 | B20: 612421331RT2 | C20: Oprava vápen.omítek stěn do 30 % pl. - štukových s použitím suché maltové směsi | D20: m2 | E20: -23.364 | F20: 230 | G20: =ROUND(E20*F20,2) -> -5373.72 | H20: 60.21 | I20: =ROUND(E20*H20,2) -> -1406.75 | J20: 169.79 | K20: =ROUND(E20*J20,2) -> -3966.97 | L20: 21 | M20: =G20*(1+L20/100) -> -6502.2012 | N20: 0.01038 | O20: =ROUND(E20*N20,2) -> -0.24 | P20: 0 | Q20: =ROUND(E20*P20,2) -> 0 | S20: RTS 22/ I | T20: RTS 21/ II | U20: 0.33688 | V20: =ROUND(E20*U20,2) -> -7.87 | X20: Práce | AG20: POL1_
C21: Včetně pomocného pracovního lešení o výšce podlahy do 1900 mm a pro zatížení do 1,5 kPa. | AG21: POP
C22: Začátek provozního součtu | AG22: VV
C23: I.NP : | AG23: VV | AH23: 2
C24: m.č.103 knihovna : 2,47*0,4*2*2 | E24: 3.952 | AG24: VV | AH24: 2
C25: m.č.104 knihovna : 2,47*0,4*2*2 | E25: 3.952 | AG25: VV | AH25: 2
C26: m.č.106 multifunkční prostor : | AG26: VV | AH26: 2
C27: (1,37+1,37)*0,15 | E27: 0.411 | AG27: VV | AH27: 2
C28: (1,35+1,35)*0,15 | E28: 0.405 | AG28: VV | AH28: 2
C29: II.NP : | AG29: VV | AH29: 2
C30: m.č.201-202 schodiště, hala : 2,38*0,4*2 | E30: 1.904 | AG30: VV | AH30: 2
C31: m.č.203 předprostor kanceláří : 2,01*0,4*2 | E31: 1.608 | AG31: VV | AH31: 2
C32: m.č.204 kancelář OÚ : 2,43*0,4*2*2 | E32: 3.888 | AG32: VV | AH32: 2
C33: m.č.205 kancelář starosty : 2,43*0,4*2*2 | E33: 3.888 | AG33: VV | AH33: 2
C34: m.č.211 předprostor obř. síně : 2,05*0,4*2 | E34: 1.64 | AG34: VV | AH34: 2
C35: m.č.212 úklid : | AG35: VV | AH35: 2
C36: (0,42+0,42)*0,3 | E36: 0.252 | AG36: VV | AH36: 2
C37: (0,42+0,42)*0,3 | E37: 0.252 | AG37: VV | AH37: 2
C38: m.č.213 archiv : | AG38: VV | AH38: 2
C39: (2,02+2,02)*0,15 | E39: 0.606 | AG39: VV | AH39: 2
C40: (2,02+2,02)*0,15 | E40: 0.606 | AG40: VV | AH40: 2
C41: Konec provozního součtu | AG41: VV
C42: -23,364 | E42: -23.364 | AG42: VV | AH42: 0
A43: 4 | B43: 612425931R00 | C43: Omítka vápenná vnitřního ostění - štuková | D43: m2 | E43: 24.204 | F43: 696 | G43: =ROUND(E43*F43,2) -> 16845.98 | H43: 102.2 | I43: =ROUND(E43*H43,2) -> 2473.65 | J43: 593.8 | K43: =ROUND(E43*J43,2) -> 14372.34 | L43: 21 | M43: =G43*(1+L43/100) -> 20383.636 | N43: 0.05369 | O43: =ROUND(E43*N43,2) -> 1.3 | P43: 0 | Q43: =ROUND(E43*P43,2) -> 0 | S43: RTS 22/ I | T43: RTS 21/ II | U43: 1.17717 | V43: =ROUND(E43*U43,2) -> 28.49 | X43: Práce | AG43: POL1_
C44: I.NP : | AG44: VV | AH44: 0
C45: m.č.102 chodba : 2,1*0,2*2 | E45: 0.84 | AG45: VV | AH45: 0
C46: m.č.103 knihovna : 2,47*0,4*2*2 | E46: 3.952 | AG46: VV | AH46: 0
C47: m.č.104 knihovna : 2,47*0,4*2*2 | E47: 3.952 | AG47: VV | AH47: 0
C48: m.č.106 multifunkční prostor : | AG48: VV | AH48: 0
C49: (1,37+1,37)*0,15 | E49: 0.411 | AG49: VV | AH49: 0
C50: (1,35+1,35)*0,15 | E50: 0.405 | AG50: VV | AH50: 0
C51: II.NP : | AG51: VV | AH51: 0
C52: m.č.201-202 schodiště, hala : 2,38*0,4*2 | E52: 1.904 | AG52: VV | AH52: 0
C53: m.č.203 předprostor kanceláří : 2,01*0,4*2 | E53: 1.608 | AG53: VV | AH53: 0
C54: m.č.204 kancelář OÚ : 2,43*0,4*2*2 | E54: 3.888 | AG54: VV | AH54: 0
C55: m.č.205 kancelář starosty : 2,43*0,4*2*2 | E55: 3.888 | AG55: VV | AH55: 0
C56: m.č.211 předprostor obř. síně : 2,05*0,4*2 | E56: 1.64 | AG56: VV | AH56: 0
C57: m.č.212 úklid : | AG57: VV | AH57: 0
C58: (0,42+0,42)*0,3 | E58: 0.252 | AG58: VV | AH58: 0
C59: (0,42+0,42)*0,3 | E59: 0.252 | AG59: VV | AH59: 0
C60: m.č.213 archiv : | AG60: VV | AH60: 0
C61: (2,02+2,02)*0,15 | E61: 0.606 | AG61: VV | AH61: 0
C62: (2,02+2,02)*0,15 | E62: 0.606 | AG62: VV | AH62: 0
A63: Díl: | B63: 63 | C63: Podlahy a podlahové konstrukce | G63: =SUMIF(AG64:AG70,"<>NOR",G64:G70) -> 1605.89 | I63: =SUM(I64:I70) -> 670.73 | K63: =SUM(K64:K70) -> 935.16 | M63: =SUM(M64:M70) -> 1943.1269 | O63: =SUM(O64:O70) -> 0.54 | Q63: =SUM(Q64:Q70) -> 0 | V63: =SUM(V64:V70) -> 1.96 | AG63: DIL
A64: 5 | B64: 632451024R00 | C64: Vyrovnávací potěr MC 15, v pásu, tl. 50 mm | D64: m2 | E64: 4.352 | F64: 369 | G64: =ROUND(E64*F64,2) -> 1605.89 | H64: 154.12 | I64: =ROUND(E64*H64,2) -> 670.73 | J64: 214.88 | K64: =ROUND(E64*J64,2) -> 935.16 | L64: 21 | M64: =G64*(1+L64/100) -> 1943.1269 | N64: 0.1231 | O64: =ROUND(E64*N64,2) -> 0.54 | P64: 0 | Q64: =ROUND(E64*P64,2) -> 0 | S64: RTS 22/ I | T64: RTS 21/ II | U64: 0.45 | V64: =ROUND(E64*U64,2) -> 1.96 | X64: Práce | AG64: POL1_
C65: I.NP : | AG65: VV | AH65: 0
C66: m.č.103 knihovna : 1,38*0,4*2 | E66: 1.104 | AG66: VV | AH66: 0
C67: m.č.104 knihovna : 1,37*0,4*2 | E67: 1.096 | AG67: VV | AH67: 0
C68: II.NP : | AG68: VV | AH68: 0
C69: m.č.204 kancelář OÚ : 1,35*0,4*2 | E69: 1.08 | AG69: VV | AH69: 0
C70: m.č.205 kancelář starosty : 1,34*0,4*2 | E70: 1.072 | AG70: VV | AH70: 0
A71: Díl: | B71: 99 | C71: Staveništní přesun hmot | G71: =SUMIF(AG72:AG72,"<>NOR",G72:G72) -> 4431.63 | I71: =SUM(I72:I72) -> 0 | K71: =SUM(K72:K72) -> 4431.63 | M71: =SUM(M72:M72) -> 5362.2723 | O71: =SUM(O72:O72) -> 0 | Q71: =SUM(Q72:Q72) -> 0 | V71: =SUM(V72:V72) -> 10.52 | AG71: DIL
A72: 6 | B72: 999281145R00 | C72: Přesun hmot pro opravy a údržbu do v. 6 m, nošením | D72: t | E72: 5.00749 | F72: 885 | G72: =ROUND(E72*F72,2) -> 4431.63 | H72: 0 | I72: =ROUND(E72*H72,2) -> 0 | J72: 885 | K72: =ROUND(E72*J72,2) -> 4431.63 | L72: 21 | M72: =G72*(1+L72/100) -> 5362.2723 | N72: 0 | O72: =ROUND(E72*N72,2) -> 0 | P72: 0 | Q72: =ROUND(E72*P72,2) -> 0 | S72: RTS 22/ I | T72: RTS 21/ II | U72: 2.1 | V72: =ROUND(E72*U72,2) -> 10.52 | X72: Přesun hmot | AG72: POL7_
AE73: 15 | AF73: 21 | AG73: DPH
B74: Celkem | G74: =G8+G19+G63+G71 -> 29359.19 | AE74: =SUMIF(L7:L72,AE73,G7:G72) -> 0 | AF74: =SUMIF(L7:L72,AF73,G7:G72) -> 29359.19 | AG74: SUM
A77: Poznámky uchazeče k zadání
AG78: POPUZIV
AG84: END

Sheet SO 03 015aVCP Pol
A1: Položkový rozpočet | AG1: #TypZaznamu#
A2: S: | B2: 2021-KL | C2: OPRAVA INTERIERU OBECNÍHO ÚŘADU KLENOVICE NA HANÉ | AG2: STA
A3: O: | B3: SO 03 | C3: Stavební objekt | AC3: STA | AG3: OBJ
A4: R: | B4: 015aVCP | C4: Ústřední vytápění | AG4: ROZ
A6: P.č. | B6: Číslo položky | C6: Název položky | D6: MJ | E6: Množství | F6: Cena / MJ | G6: Celkem | H6: Dodávka | I6: Dodávka celk. | J6: Montáž | K6: Montáž celk. | L6: DPH | M6: Cena s DPH | N6: Hmotnost / MJ | O6: Hmotnost celk.(t) | P6: Dem. hmotnost / MJ | Q6: Dem. hmotnost celk.(t) | R6: Ceník | S6: Cen. soustava / platnost | T6: Cenová úroveň | U6: Nhod / MJ | V6: Nhod celk. | W6: Dodavatel | X6: Typ položky
A8: Díl: | B8: 733 | C8: Rozvod potrubí | G8: =SUMIF(AG9:AG19,"<>NOR",G9:G19) -> 89305.47 | I8: =SUM(I9:I19) -> 40313.57 | K8: =SUM(K9:K19) -> 48991.9 | M8: =SUM(M9:M19) -> 108059.62 | O8: =SUM(O9:O19) -> 0 | Q8: =SUM(Q9:Q19) -> 0 | V8: =SUM(V9:V19) -> 84.99 | AG8: DIL
A9: 1 | B9: 733113113R00 | C9: Příplatek za zhotovení přípojky DN 15 | D9: kus | E9: 42 | F9: 119.5 | G9: =ROUND(E9*F9,2) -> 5019 | H9: 0 | I9: =ROUND(E9*H9,2) -> 0 | J9: 119.5 | K9: =ROUND(E9*J9,2) -> 5019 | L9: 21 | M9: =G9*(1+L9/100) -> 6072.99 | N9: 0 | O9: =ROUND(E9*N9,2) -> 0 | P9: 0 | Q9: =ROUND(E9*P9,2) -> 0 | S9: RTS 22/ I | T9: RTS 21/ II | U9: 0.237 | V9: =ROUND(E9*U9,2) -> 9.95 | X9: Práce | AG9: POL1_7
A10: 2 | B10: 733110806R00 | C10: Demontáž potrubí ocelového závitového do DN 15-32 | D10: m | E10: 159 | F10: 29 | G10: =ROUND(E10*F10,2) -> 4611 | H10: 4.65 | I10: =ROUND(E10*H10,2) -> 739.35 | J10: 24.35 | K10: =ROUND(E10*J10,2) -> 3871.65 | L10: 21 | M10: =G10*(1+L10/100) -> 5579.31 | N10: 0 | O10: =ROUND(E10*N10,2) -> 0 | P10: 0 | Q10: =ROUND(E10*P10,2) -> 0 | S10: RTS 22/ I | T10: RTS 21/ II | U10: 0.053 | V10: =ROUND(E10*U10,2) -> 8.43 | X10: Práce | AG10: POL1_7
A11: 3 | B11: 733161104R00 | C11: Potrubí měděné Supersan 15 x 1 mm vč.izolace | D11: m | E11: 92 | F11: 397.66 | G11: =ROUND(E11*F11,2) -> 36584.72 | H11: 195.69 | I11: =ROUND(E11*H11,2) -> 18003.48 | J11: 201.97 | K11: =ROUND(E11*J11,2) -> 18581.24 | L11: 21 | M11: =G11*(1+L11/100) -> 44267.511 | N11: 0 | O11: =ROUND(E11*N11,2) -> 0 | P11: 0 | Q11: =ROUND(E11*P11,2) -> 0 | S11: RTS 14/ II | T11: Indiv | U11: 0.4116 | V11: =ROUND(E11*U11,2) -> 37.87 | X11: Práce | AG11: POL1_7
A12: 4 | B12: 733161106R00 | C12: Potrubí měděné Supersan 18 x 1 mm vč.izolace | D12: m | E12: 32 | F12: 461.38 | G12: =ROUND(E12*F12,2) -> 14764.16 | H12: 256.92 | I12: =ROUND(E12*H12,2) -> 8221.44 | J12: 204.46 | K12: =ROUND(E12*J12,2) -> 6542.72 | L12: 21 | M12: =G12*(1+L12/100) -> 17864.634 | N12: 0 | O12: =ROUND(E12*N12,2) -> 0 | P12: 0 | Q12: =ROUND(E12*P12,2) -> 0 | S12: RTS 14/ II | T12: Indiv | U12: 0.4216 | V12: =ROUND(E12*U12,2) -> 13.49 | X12: Práce | AG12: POL1_7
A13: 5 | B13: 733161107R00 | C13: Potrubí měděné Supersan 22 x 1 mm vč.izolace | D13: m | E13: 25 | F13: 532.18 | G13: =ROUND(E13*F13,2) -> 13304.5 | H13: 320.32 | I13: =ROUND(E13*H13,2) -> 8008 | J13: 211.86 | K13: =ROUND(E13*J13,2) -> 5296.5 | L13: 21 | M13: =G13*(1+L13/100) -> 16098.445 | N13: 0 | O13: =ROUND(E13*N13,2) -> 0 | P13: 0 | Q13: =ROUND(E13*P13,2) -> 0 | S13: RTS 14/ II | T13: Indiv | U13: 0.4316 | V13: =ROUND(E13*U13,2) -> 10.79 | X13: Práce | AG13: POL1_7
A14: 6 | B14: 733161108R00 | C14: Potrubí měděné Supersan 28 x 1,5 mm vč.izolace | D14: m | E14: 10 | F14: 769.36 | G14: =ROUND(E14*F14,2) -> 7693.6 | H14: 534.13 | I14: =ROUND(E14*H14,2) -> 5341.3 | J14: 235.23 | K14: =ROUND(E14*J14,2) -> 2352.3 | L14: 21 | M14: =G14*(1+L14/100) -> 9309.256 | N14: 0 | O14: =ROUND(E14*N14,2) -> 0 | P14: 0 | Q14: =ROUND(E14*P14,2) -> 0 | S14: RTS 14/ II | T14: Indiv | U14: 0.44556 | V14: =ROUND(E14*U14,2) -> 4.46 | X14: Práce | AG14: POL1_7
A15: 7 | B15: 998733201R00 | C15: Přesun hmot pro rozvody potrubí, výšky do 6 m | D15: % | E15: 732.863 | F15: 3.35 | G15: =ROUND(E15*F15,2) -> 2455.09 | H15: 0 | I15: =ROUND(E15*H15,2) -> 0 | J15: 3.35 | K15: =ROUND(E15*J15,2) -> 2455.09 | L15: 21 | M15: =G15*(1+L15/100) -> 2970.6589 | N15: 0 | O15: =ROUND(E15*N15,2) -> 0 | P15: 0 | Q15: =ROUND(E15*P15,2) -> 0 | S15: RTS 22/ I | T15: RTS 21/ II | U15: 0 | V15: =ROUND(E15*U15,2) -> 0 | X15: Práce | AG15: POL1_7
A16: 8 | B16: 733291101U00 | C16: Zkouška těsnosti potrubí Cu -D 35 | D16: m | E16: 159 | F16: 16.52 | G16: =ROUND(E16*F16,2) -> 2626.68 | H16: 0 | I16: =ROUND(E16*H16,2) -> 0 | J16: 16.52 | K16: =ROUND(E16*J16,2) -> 2626.68 | L16: 21 | M16: =G16*(1+L16/100) -> 3178.2828 | N16: 0 | O16: =ROUND(E16*N16,2) -> 0 | P16: 0 | Q16: =ROUND(E16*P16,2) -> 0 | S16: Vlastní | T16: Indiv | U16: 0 | V16: =ROUND(E16*U16,2) -> 0 | X16: Práce | AG16: POL1_7
A17: 9 | B17: 733291903U00 | C17: Oprava propojení potrubí Cu D 18 | D17: kus | E17: 10 | F17: 135.7 | G17: =ROUND(E17*F17,2) -> 1357 | H17: 0 | I17: =ROUND(E17*H17,2) -> 0 | J17: 135.7 | K17: =ROUND(E17*J17,2) -> 1357 | L17: 21 | M17: =G17*(1+L17/100) -> 1641.97 | N17: 0 | O17: =ROUND(E17*N17,2) -> 0 | P17: 0 | Q17: =ROUND(E17*P17,2) -> 0 | S17: Vlastní | T17: Indiv | U17: 0 | V17: =ROUND(E17*U17,2) -> 0 | X17: Práce | AG17: POL1_7
A18: 10 | B18: 733291904U00 | C18: Oprava propojení potrubí Cu D 22 | D18: kus | E18: 4 | F18: 145.14 | G18: =ROUND(E18*F18,2) -> 580.56 | H18: 0 | I18: =ROUND(E18*H18,2) -> 0 | J18: 145.14 | K18: =ROUND(E18*J18,2) -> 580.56 | L18: 21 | M18: =G18*(1+L18/100) -> 702.4776 | N18: 0 | O18: =ROUND(E18*N18,2) -> 0 | P18: 0 | Q18: =ROUND(E18*P18,2) -> 0 | S18: Vlastní | T18: Indiv | U18: 0 | V18: =ROUND(E18*U18,2) -> 0 | X18: Práce | AG18: POL1_7
A19: 11 | B19: 733291905U00 | C19: Oprava propojení potrubí Cu D 28 | D19: kus | E19: 2 | F19: 154.58 | G19: =ROUND(E19*F19,2) -> 309.16 | H19: 0 | I19: =ROUND(E19*H19,2) -> 0 | J19: 154.58 | K19: =ROUND(E19*J19,2) -> 309.16 | L19: 21 | M19: =G19*(1+L19/100) -> 374.0836 | N19: 0 | O19: =ROUND(E19*N19,2) -> 0 | P19: 0 | Q19: =ROUND(E19*P19,2) -> 0 | S19: Vlastní | T19: Indiv | U19: 0 | V19: =ROUND(E19*U19,2) -> 0 | X19: Práce | AG19: POL1_7
A20: Díl: | B20: 734 | C20: Armatury | G20: =SUMIF(AG21:AG27,"<>NOR",G21:G27) -> 23442.33 | I20: =SUM(I21:I27) -> 14412.09 | K20: =SUM(K21:K27) -> 9030.24 | M20: =SUM(M21:M27) -> 28365.219 | O20: =SUM(O21:O27) -> 0 | Q20: =SUM(Q21:Q27) -> 0 | V20: =SUM(V21:V27) -> 18.19 | AG20: DIL
A21: 12 | B21: 734200821R00 | C21: Demontáž armatur se 2závity do G 1/2 | D21: kus | E21: 21 | F21: 97.5 | G21: =ROUND(E21*F21,2) -> 2047.5 | H21: 21.25 | I21: =ROUND(E21*H21,2) -> 446.25 | J21: 76.25 | K21: =ROUND(E21*J21,2) -> 1601.25 | L21: 21 | M21: =G21*(1+L21/100) -> 2477.475 | N21: 0 | O21: =ROUND(E21*N21,2) -> 0 | P21: 0 | Q21: =ROUND(E21*P21,2) -> 0 | S21: RTS 22/ I | T21: RTS 21/ II | U21: 0.166 | V21: =ROUND(E21*U21,2) -> 3.49 | X21: Práce | AG21: POL1_7
A22: 13 | B22: 734209102R00 | C22: Montáž armatur závitových,s 1závitem, G 3/8 | D22: kus | E22: 21 | F22: 26.9 | G22: =ROUND(E22*F22,2) -> 564.9 | H22: 1.23 | I22: =ROUND(E22*H22,2) -> 25.83 | J22: 25.67 | K22: =ROUND(E22*J22,2) -> 539.07 | L22: 21 | M22: =G22*(1+L22/100) -> 683.529 | N22: 0 | O22: =ROUND(E22*N22,2) -> 0 | P22: 0 | Q22: =ROUND(E22*P22,2) -> 0 | S22: RTS 22/ I | T22: RTS 21/ II | U22: 0.051 | V22: =ROUND(E22*U22,2) -> 1.07 | X22: Práce | AG22: POL1_7
A23: 14 | B23: 734209113R00 | C23: Montáž armatur závitových,se 2závity, G 1/2 | D23: kus | E23: 42 | F23: 86.9 | G23: =ROUND(E23*F23,2) -> 3649.8 | H23: 3.71 | I23: =ROUND(E23*H23,2) -> 155.82 | J23: 83.19 | K23: =ROUND(E23*J23,2) -> 3493.98 | L23: 21 | M23: =G23*(1+L23/100) -> 4416.258 | N23: 0 | O23: =ROUND(E23*N23,2) -> 0 | P23: 0 | Q23: =ROUND(E23*P23,2) -> 0 | S23: RTS 22/ I | T23: RTS 21/ II | U23: 0.165 | V23: =ROUND(E23*U23,2) -> 6.93 | X23: Práce | AG23: POL1_7
A24: 15 | B24: 734211113R00 | C24: Ventily odvzdušňovací ot.těles G 3/8 | D24: kus | E24: 21 | F24: 62.8 | G24: =ROUND(E24*F24,2) -> 1318.8 | H24: 31.54 | I24: =ROUND(E24*H24,2) -> 662.34 | J24: 31.26 | K24: =ROUND(E24*J24,2) -> 656.46 | L24: 21 | M24: =G24*(1+L24/100) -> 1595.748 | N24: 0 | O24: =ROUND(E24*N24,2) -> 0 | P24: 0 | Q24: =ROUND(E24*P24,2) -> 0 | S24: RTS 22/ I | T24: RTS 21/ II | U24: 0.062 | V24: =ROUND(E24*U24,2) -> 1.3 | X24: Práce | AG24: POL1_7
A25: 16 | B25: 734221605RT3 | C25: Ventily termostat. rohové, G 1/2 Heimeier | D25: kus | E25: 21 | F25: 482.62 | G25: =ROUND(E25*F25,2) -> 10135.02 | H25: 393.49 | I25: =ROUND(E25*H25,2) -> 8263.29 | J25: 89.13 | K25: =ROUND(E25*J25,2) -> 1871.73 | L25: 21 | M25: =G25*(1+L25/100) -> 12263.374 | N25: 0 | O25: =ROUND(E25*N25,2) -> 0 | P25: 0 | Q25: =ROUND(E25*P25,2) -> 0 | S25: RTS 12/ II | T25: Indiv | U25: 0.175 | V25: =ROUND(E25*U25,2) -> 3.68 | X25: Práce | AG25: POL1_7
A26: 17 | B26: 734261313RT3 | C26: Šroubení rohové, G 1/2 Heimeier | D26: kus | E26: 21 | F26: 269.04 | G26: =ROUND(E26*F26,2) -> 5649.84 | H26: 231.36 | I26: =ROUND(E26*H26,2) -> 4858.56 | J26: 37.68 | K26: =ROUND(E26*J26,2) -> 791.28 | L26: 21 | M26: =G26*(1+L26/100) -> 6836.3064 | N26: 0 | O26: =ROUND(E26*N26,2) -> 0 | P26: 0 | Q26: =ROUND(E26*P26,2) -> 0 | S26: RTS 12/ II | T26: Indiv | U26: 0.082 | V26: =ROUND(E26*U26,2) -> 1.72 | X26: Práce | AG26: POL1_7
A27: 18 | B27: 998734201R00 | C27: Přesun hmot pro armatury, výšky do 6 m | D27: % | E27: 201.243 | F27: 0.38 | G27: =ROUND(E27*F27,2) -> 76.47 | H27: 0 | I27: =ROUND(E27*H27,2) -> 0 | J27: 0.38 | K27: =ROUND(E27*J27,2) -> 76.47 | L27: 21 | M27: =G27*(1+L27/100) -> 92.5287 | N27: 0 | O27: =ROUND(E27*N27,2) -> 0 | P27: 0 | Q27: =ROUND(E27*P27,2) -> 0 | S27: RTS 22/ I | T27: RTS 21/ II | U27: 0 | V27: =ROUND(E27*U27,2) -> 0 | X27: Práce | AG27: POL1_7
A28: Díl: | B28: 735 | C28: Otopná tělesa | G28: =SUMIF(AG29:AG37,"<>NOR",G29:G37) -> 40296.72 | I28: =SUM(I29:I37) -> 8809.7 | K28: =SUM(K29:K37) -> 31487.02 | M28: =SUM(M29:M37) -> 48759.031 | O28: =SUM(O29:O37) -> 0 | Q28: =SUM(Q29:Q37) -> 0 | V28: =SUM(V29:V37) -> 51.58 | AG28: DIL
A29: 19 | B29: 735118110R00 | C29: Tlaková zkouška otopných těles litinových - vodou | D29: m2 | E29: 66 | F29: 62.5 | G29: =ROUND(E29*F29,2) -> 4125 | H29: 0.89 | I29: =ROUND(E29*H29,2) -> 58.74 | J29: 61.61 | K29: =ROUND(E29*J29,2) -> 4066.26 | L29: 21 | M29: =G29*(1+L29/100) -> 4991.25 | N29: 0 | O29: =ROUND(E29*N29,2) -> 0 | P29: 0 | Q29: =ROUND(E29*P29,2) -> 0 | S29: RTS 22/ I | T29: RTS 21/ II | U29: 0.134 | V29: =ROUND(E29*U29,2) -> 8.84 | X29: Práce | AG29: POL1_7
A30: 20 | B30: 735119140R00 | C30: Montáž těles otopných litinových článkových | D30: m2 | E30: 66 | F30: 319.5 | G30: =ROUND(E30*F30,2) -> 21087 | H30: 124.68 | I30: =ROUND(E30*H30,2) -> 8228.88 | J30: 194.82 | K30: =ROUND(E30*J30,2) -> 12858.12 | L30: 21 | M30: =G30*(1+L30/100) -> 25515.27 | N30: 0 | O30: =ROUND(E30*N30,2) -> 0 | P30: 0 | Q30: =ROUND(E30*P30,2) -> 0 | S30: RTS 22/ I | T30: RTS 21/ II | U30: 0.429 | V30: =ROUND(E30*U30,2) -> 28.31 | X30: Práce | AG30: POL1_7
A31: 21 | B31: 735111810R00 | C31: Demontáž těles otopných litinových článkových | D31: m2 | E31: 66 | F31: 37.7 | G31: =ROUND(E31*F31,2) -> 2488.2 | H31: 0 | I31: =ROUND(E31*H31,2) -> 0 | J31: 37.7 | K31: =ROUND(E31*J31,2) -> 2488.2 | L31: 21 | M31: =G31*(1+L31/100) -> 3010.722 | N31: 0 | O31: =ROUND(E31*N31,2) -> 0 | P31: 0 | Q31: =ROUND(E31*P31,2) -> 0 | S31: RTS 22/ I | T31: RTS 21/ II | U31: 0.082 | V31: =ROUND(E31*U31,2) -> 5.41 | X31: Práce | AG31: POL1_7
A32: 22 | B32: 735110911R00 | C32: Přetěsnění radiátorové růžice vč. dodávky | D32: kus | E32: 21 | F32: 133 | G32: =ROUND(E32*F32,2) -> 2793 | H32: 14.3 | I32: =ROUND(E32*H32,2) -> 300.3 | J32: 118.7 | K32: =ROUND(E32*J32,2) -> 2492.7 | L32: 21 | M32: =G32*(1+L32/100) -> 3379.53 | N32: 0 | O32: =ROUND(E32*N32,2) -> 0 | P32: 0 | Q32: =ROUND(E32*P32,2) -> 0 | S32: RTS 22/ I | T32: RTS 21/ II | U32: 0.258 | V32: =ROUND(E32*U32,2) -> 5.42 | X32: Práce | AG32: POL1_7
A33: 23 | B33: 735156930R00 | C33: Tlakové zkoušky otopných těles Radik | D33: kus | E33: 2 | F33: 431 | G33: =ROUND(E33*F33,2) -> 862 | H33: 4.16 | I33: =ROUND(E33*H33,2) -> 8.32 | J33: 426.84 | K33: =ROUND(E33*J33,2) -> 853.68 | L33: 21 | M33: =G33*(1+L33/100) -> 1043.02 | N33: 0 | O33: =ROUND(E33*N33,2) -> 0 | P33: 0 | Q33: =ROUND(E33*P33,2) -> 0 | S33: RTS 22/ I | T33: RTS 21/ II | U33: 0.929 | V33: =ROUND(E33*U33,2) -> 1.86 | X33: Práce | AG33: POL1_7
A34: 24 | B34: 735159111R00 | C34: Montáž panelových těles Radik do délky 1600 mm | D34: kus | E34: 2 | F34: 471.5 | G34: =ROUND(E34*F34,2) -> 943 | H34: 106.73 | I34: =ROUND(E34*H34,2) -> 213.46 | J34: 364.77 | K34: =ROUND(E34*J34,2) -> 729.54 | L34: 21 | M34: =G34*(1+L34/100) -> 1141.03 | N34: 0 | O34: =ROUND(E34*N34,2) -> 0 | P34: 0 | Q34: =ROUND(E34*P34,2) -> 0 | S34: RTS 22/ I | T34: RTS 21/ II | U34: 0.868 | V34: =ROUND(E34*U34,2) -> 1.74 | X34: Práce | AG34: POL1_7
A35: 25 | B35: 998735201R00 | C35: Přesun hmot pro otopná tělesa, výšky do 6 m | D35: % | E35: 247.56 | F35: 2.9 | G35: =ROUND(E35*F35,2) -> 717.92 | H35: 0 | I35: =ROUND(E35*H35,2) -> 0 | J35: 2.9 | K35: =ROUND(E35*J35,2) -> 717.92 | L35: 21 | M35: =G35*(1+L35/100) -> 868.6832 | N35: 0 | O35: =ROUND(E35*N35,2) -> 0 | P35: 0 | Q35: =ROUND(E35*P35,2) -> 0 | S35: RTS 22/ I | T35: RTS 21/ II | U35: 0 | V35: =ROUND(E35*U35,2) -> 0 | X35: Práce | AG35: POL1_7
A36: 26 | B36: 735152251U00 | C36: Těleso Ventil Kompakt11 v/l 500/400 | D36: kus | E36: 1 | F36: 2678.6 | G36: =ROUND(E36*F36,2) -> 2678.6 | H36: 0 | I36: =ROUND(E36*H36,2) -> 0 | J36: 2678.6 | K36: =ROUND(E36*J36,2) -> 2678.6 | L36: 21 | M36: =G36*(1+L36/100) -> 3241.106 | N36: 0 | O36: =ROUND(E36*N36,2) -> 0 | P36: 0 | Q36: =ROUND(E36*P36,2) -> 0 | S36: Vlastní | T36: Indiv | U36: 0 | V36: =ROUND(E36*U36,2) -> 0 | X36: Práce | AG36: POL1_7
A37: 27 | B37: 735152475U00 | C37: Těleso Ventil Kompakt21 v/l 600/800 | D37: kus | E37: 1 | F37: 4602 | G37: =ROUND(E37*F37,2) -> 4602 | H37: 0 | I37: =ROUND(E37*H37,2) -> 0 | J37: 4602 | K37: =ROUND(E37*J37,2) -> 4602 | L37: 21 | M37: =G37*(1+L37/100) -> 5568.42 | N37: 0 | O37: =ROUND(E37*N37,2) -> 0 | P37: 0 | Q37: =ROUND(E37*P37,2) -> 0 | S37: Vlastní | T37: Indiv | U37: 0 | V37: =ROUND(E37*U37,2) -> 0 | X37: Práce | AG37: POL1_7
A38: Díl: | B38: 799 | C38: Hodinové zúčtovací sazby | G38: =SUMIF(AG39:AG42,"<>NOR",G39:G42) -> 12885.6 | I38: =SUM(I39:I42) -> 0 | K38: =SUM(K39:K42) -> 12885.6 | M38: =SUM(M39:M42) -> 15591.576 | O38: =SUM(O39:O42) -> 0 | Q38: =SUM(Q39:Q42) -> 0 | V38: =SUM(V39:V42) -> 0 | AG38: DIL
A39: 28 | B39: 01 | C39: Odstavení a vypuštění systému | D39: hod | E39: 4 | F39: 460.2 | G39: =ROUND(E39*F39,2) -> 1840.8 | H39: 0 | I39: =ROUND(E39*H39,2) -> 0 | J39: 460.2 | K39: =ROUND(E39*J39,2) -> 1840.8 | L39: 21 | M39: =G39*(1+L39/100) -> 2227.368 | N39: 0 | O39: =ROUND(E39*N39,2) -> 0 | P39: 0 | Q39: =ROUND(E39*P39,2) -> 0 | S39: Vlastní | T39: Indiv | U39: 0 | V39: =ROUND(E39*U39,2) -> 0 | X39: Práce | AG39: POL1_7
A40: 29 | B40: 02 | C40: Uzátkování a napuštění systému | D40: hod | E40: 6 | F40: 460.2 | G40: =ROUND(E40*F40,2) -> 2761.2 | H40: 0 | I40: =ROUND(E40*H40,2) -> 0 | J40: 460.2 | K40: =ROUND(E40*J40,2) -> 2761.2 | L40: 21 | M40: =G40*(1+L40/100) -> 3341.052 | N40: 0 | O40: =ROUND(E40*N40,2) -> 0 | P40: 0 | Q40: =ROUND(E40*P40,2) -> 0 | S40: Vlastní | T40: Indiv | U40: 0 | V40: =ROUND(E40*U40,2) -> 0 | X40: Práce | AG40: POL1_7
A41: 30 | B41: 03 | C41: Konečné napuštění systému | D41: hod | E41: 6 | F41: 460.2 | G41: =ROUND(E41*F41,2) -> 2761.2 | H41: 0 | I41: =ROUND(E41*H41,2) -> 0 | J41: 460.2 | K41: =ROUND(E41*J41,2) -> 2761.2 | L41: 21 | M41: =G41*(1+L41/100) -> 3341.052 | N41: 0 | O41: =ROUND(E41*N41,2) -> 0 | P41: 0 | Q41: =ROUND(E41*P41,2) -> 0 | S41: Vlastní | T41: Indiv | U41: 0 | V41: =ROUND(E41*U41,2) -> 0 | X41: Práce | AG41: POL1_7
A42: 31 | B42: 04 | C42: Topná zkouška | D42: hod | E42: 12 | F42: 460.2 | G42: =ROUND(E42*F42,2) -> 5522.4 | H42: 0 | I42: =ROUND(E42*H42,2) -> 0 | J42: 460.2 | K42: =ROUND(E42*J42,2) -> 5522.4 | L42: 21 | M42: =G42*(1+L42/100) -> 6682.104 | N42: 0 | O42: =ROUND(E42*N42,2) -> 0 | P42: 0 | Q42: =ROUND(E42*P42,2) -> 0 | S42: Vlastní | T42: Indiv | U42: 0 | V42: =ROUND(E42*U42,2) -> 0 | X42: Práce | AG42: POL1_7
AE43: 15 | AF43: 21 | AG43: DPH
B44: Celkem | G44: =G8+G20+G28+G38 -> 165930.12 | AE44: =SUMIF(L7:L42,AE43,G7:G42) -> 0 | AF44: =SUMIF(L7:L42,AF43,G7:G42) -> 165930.12 | AG44: SUM
A47: Poznámky uchazeče k zadání
AG48: POPUZIV
AG54: END
