Workbook

Sheet Rekapitulace stavby
A1: Export Komplet | BA1: 2.0 | BB1: ZAMOK | BT1: False | BU1: False | BV1: {1c478abc-7766-41c5-835c-0c24042f8d50}
BS2: 0,01 | BT2: 21
BS3: 0,01 | BT3: 15
D4: REKAPITULACE STAVBY | AS4: v --- níže se nacházejí doplnkové a pomocné údaje k sestavám --- v | BE4: Návod na vyplnění | BS4: 0,001
D5: Kód: | K5: 22-P-15 | BE5: Měnit lze pouze buňky se žlutým podbarvením!_x000D_ _x000D_ 1) na prvním listu Rekapitulace stavby vyplňte v sestavě_x000D_ _x000D_ a) Souhrnný list_x000D_ - údaje o Uchazeči_x000D_ (přenesou se do ostatních sestav i v jiných listech)_x000D_ _x000D_ b) Rekapitulace objektů_x000D_ - potřebné Ostatní náklady_x000D_ _x000D_ 2) na vybraných listech vyplňte v sestavě_x000D_ _x000D_ a) Krycí list_x000D_ - údaje o Uchazeči, pokud se liší od údajů o Uchazeči na Souhrnném listu_x000D_ (údaje se přenesou do ostatních sestav v daném listu)_x000D_ _x000D_ b) Rekapitulace rozpočtu_x000D_ - potřebné Ostatní náklady_x000D_ _x000D_ c) Celkové náklady za stavbu_x000D_ - ceny u položek_x000D_ - množství, pokud má žluté podbarvení_x000D_ - a v případě potřeby poznámku (ta je ve skrytém sloupci) | BS5: 0,01
D6: Stavba: | K6: Rekonstrukce veřejného osvětlení Broumov, třída Masarykova | BS6: 0,01
D7: KSO: | AK7: CC-CZ: | BS7: 0,01
D8: Místo: | K8: Broumov | AK8: Datum: | AN8: 6. 5. 2022 | BS8: 0,01
BS9: 0,01
D10: Zadavatel: | AK10: IČ: | BS10: 0,01
AK11: DIČ: | BS11: 0,01
BS12: 0,01
D13: Uchazeč: | AK13: IČ: | AN13: Vyplň údaj | BS13: 0,01
E14: Vyplň údaj | AK14: DIČ: | AN14: Vyplň údaj | BS14: 0,01
BS15: False
D16: Projektant: | AK16: IČ: | BS16: False
AK17: DIČ: | BS17: True
BS18: 0,01
D19: Zpracovatel: | AK19: IČ: | AN19: 25262033 | BS19: 0,01
E20: ELTYM HRONOV spol. s r.o. | AK20: DIČ: | AN20: CZ25262033 | BS20: True
D22: Poznámka:
D26: Cena bez DPH | AK26: =ROUND(AG94,2) -> 0
L28: Sazba daně | W28: Základ daně | AK28: Výše daně
D29: DPH | F29: základní | L29: 0.21 | W29: =ROUND(AZ94, 2) -> 0 | AK29: =ROUND(AV94, 2) -> 0
F30: snížená | L30: 0.15 | W30: =ROUND(BA94, 2) -> 0 | AK30: =ROUND(AW94, 2) -> 0
F31: zákl. přenesená | L31: 0.21 | W31: =ROUND(BB94, 2) -> 0 | AK31: 0
F32: sníž. přenesená | L32: 0.15 | W32: =ROUND(BC94, 2) -> 0 | AK32: 0
F33: nulová | L33: 0 | W33: =ROUND(BD94, 2) -> 0 | AK33: 0
D35: Cena s DPH | T35: v | X35: CZK | AK35: =SUM(AK26:AK33) -> 0
D49: Projektant | AH49: Zpracovatel
D60: Datum a podpis: | V60: Razítko | AH60: Datum a podpis: | AM60: Razítko
D64: Objednavatel | AH64: Uchazeč
D75: Datum a podpis: | V75: Razítko | AH75: Datum a podpis: | AM75: Razítko
C82: REKAPITULACE OBJEKTŮ STAVBY A SOUPISŮ PRACÍ
C84: Kód: | L84: =K5 -> 22-P-15
C85: Stavba: | L85: =K6 -> Rekonstrukce veřejného osvětlení Broumov, třída Masarykova
C87: Místo: | L87: =IF(K8="","",K8) -> Broumov | AI87: Datum: | AM87: =IF(AN8= "","",AN8) -> 6. 5. 2022
C89: Zadavatel: | L89: =IF(E11= "","",E11) | AI89: Projektant: | AM89: =IF(E17="","",E17) | AS89: Informatívní údaje z listů zakázek
C90: Uchazeč: | L90: =IF(E14= "Vyplň údaj","",E14) | AI90: Zpracovatel: | AM90: =IF(E20="","",E20) -> ELTYM HRONOV spol. s r.o.
C92: Kód | I92: Popis | AG92: Cena bez DPH [CZK] | AN92: Cena s DPH [CZK] | AQ92: Typ | AS92: z toho Ostat._x000D_ náklady [CZK] | AT92: DPH [CZK] | AU92: Normohodiny [h] | AV92: DPH základní [CZK] | AW92: DPH snížená [CZK] | AX92: DPH základní přenesená_x000D_ [CZK] | AY92: DPH snížená přenesená_x000D_ [CZK] | AZ92: Základna_x000D_ DPH základní | BA92: Základna_x000D_ DPH snížená | BB92: Základna_x000D_ DPH zákl. přenesená | BC92: Základna_x000D_ DPH sníž. přenesená | BD92: Základna_x000D_ DPH nulová
C94: Náklady z rozpočtů | AG94: =ROUND(AG95,2) -> 0 | AN94: =SUM(AG94,AT94) -> 0 | AS94: =ROUND(AS95,2) -> 0 | AT94: =ROUND(SUM(AV94:AW94),2) -> 0 | AU94: =ROUND(AU95,5) -> 0 | AV94: =ROUND(AZ94*L29,2) -> 0 | AW94: =ROUND(BA94*L30,2) -> 0 | AX94: =ROUND(BB94*L29,2) -> 0 | AY94: =ROUND(BC94*L30,2) -> 0 | AZ94: =ROUND(AZ95,2) -> 0 | BA94: =ROUND(BA95,2) -> 0 | BB94: =ROUND(BB95,2) -> 0 | BC94: =ROUND(BC95,2) -> 0 | BD94: =ROUND(BD95,2) -> 0 | BS94: D | BT94: 0 | BV94: IMPORT | BW94: {1c478abc-7766-41c5-835c-0c24042f8d50} | BX94: {00000000-0000-0000-0000-000000000000}
A95: / | D95: 22-P-15 | J95: Rekonstrukce veřejného osvětlení Broumov, třída Masarykova | AG95: ='22-P-15 - Rekonstrukce ve...'!J28 -> 0 | AN95: =SUM(AG95,AT95) -> 0 | AQ95: STA | AS95: 0 | AT95: =ROUND(SUM(AV95:AW95),2) -> 0 | AU95: ='22-P-15 - Rekonstrukce ve...'!P122 -> 0 | AV95: ='22-P-15 - Rekonstrukce ve...'!J31 -> 0 | AW95: ='22-P-15 - Rekonstrukce ve...'!J32 -> 0 | AX95: ='22-P-15 - Rekonstrukce ve...'!J33 -> 0 | AY95: ='22-P-15 - Rekonstrukce ve...'!J34 -> 0 | AZ95: ='22-P-15 - Rekonstrukce ve...'!F31 -> 0 | BA95: ='22-P-15 - Rekonstrukce ve...'!F32 -> 0 | BB95: ='22-P-15 - Rekonstrukce ve...'!F33 -> 0 | BC95: ='22-P-15 - Rekonstrukce ve...'!F34 -> 0 | BD95: ='22-P-15 - Rekonstrukce ve...'!F35 -> 0 | BT95: 1 | BU95: ###NOINSERT### | BV95: IMPORT | BW95: {1c478abc-7766-41c5-835c-0c24042f8d50} | BX95: {00000000-0000-0000-0000-000000000000}

Sheet 22-P-15 - Rekonstrukce ve...
AT2: {1c478abc-7766-41c5-835c-0c24042f8d50}
AT3: 2
D4: KRYCÍ LIST SOUPISU PRACÍ | M4: v --- níže se nacházejí doplnkové a pomocné údaje k sestavám --- v | AT4: False
D6: Stavba:
E7: Rekonstrukce veřejného osvětlení Broumov, třída Masarykova
D9: KSO: | I9: CC-CZ:
D10: Místo: | F10: Broumov | I10: Datum: | J10: ='Rekapitulace stavby'!AN8 -> 6. 5. 2022
D12: Zadavatel: | I12: IČ: | J12: =IF('Rekapitulace stavby'!AN10="","",'Rekapitulace stavby'!AN10)
E13: =IF('Rekapitulace stavby'!E11="","",'Rekapitulace stavby'!E11) | I13: DIČ: | J13: =IF('Rekapitulace stavby'!AN11="","",'Rekapitulace stavby'!AN11)
D15: Uchazeč: | I15: IČ: | J15: ='Rekapitulace stavby'!AN13 -> Vyplň údaj
E16: ='Rekapitulace stavby'!E14 -> Vyplň údaj | I16: DIČ: | J16: ='Rekapitulace stavby'!AN14 -> Vyplň údaj
D18: Projektant: | I18: IČ: | J18: =IF('Rekapitulace stavby'!AN16="","",'Rekapitulace stavby'!AN16)
E19: =IF('Rekapitulace stavby'!E17="","",'Rekapitulace stavby'!E17) | I19: DIČ: | J19: =IF('Rekapitulace stavby'!AN17="","",'Rekapitulace stavby'!AN17)
D21: Zpracovatel: | I21: IČ: | J21: 25262033
E22: ELTYM HRONOV spol. s r.o. | I22: DIČ: | J22: CZ25262033
D24: Poznámka:
D28: Cena bez DPH | J28: =ROUND(J122, 2) -> 0
F30: Základ daně | I30: Sazba daně | J30: Výše daně
D31: DPH | E31: základní | F31: =ROUND((SUM(BE122:BE214)), 2) -> 0 | I31: 0.21 | J31: =ROUND(((SUM(BE122:BE214))*I31), 2) -> 0
E32: snížená | F32: =ROUND((SUM(BF122:BF214)), 2) -> 0 | I32: 0.15 | J32: =ROUND(((SUM(BF122:BF214))*I32), 2) -> 0
E33: zákl. přenesená | F33: =ROUND((SUM(BG122:BG214)), 2) -> 0 | I33: 0.21 | J33: =0 -> 0
E34: sníž. přenesená | F34: =ROUND((SUM(BH122:BH214)), 2) -> 0 | I34: 0.15 | J34: =0 -> 0
E35: nulová | F35: =ROUND((SUM(BI122:BI214)), 2) -> 0 | I35: 0 | J35: =0 -> 0
D37: Cena s DPH | G37: v | H37: CZK | J37: =SUM(J28:J35) -> 0
D50: Projektant | G50: Zpracovatel
D61: Datum a podpis: | F61: Razítko | G61: Datum a podpis: | J61: Razítko
D65: Objednavatel | G65: Uchazeč
D76: Datum a podpis: | F76: Razítko | G76: Datum a podpis: | J76: Razítko
C82: REKAPITULACE ČLENĚNÍ SOUPISU PRACÍ
C84: Stavba:
E85: =E7 -> Rekonstrukce veřejného osvětlení Broumov, třída Masarykova
C87: Místo: | F87: =F10 -> Broumov | I87: Datum: | J87: =IF(J10="","",J10) -> 6. 5. 2022
C89: Zadavatel: | F89: =E13 | I89: Projektant: | J89: =E19
C90: Uchazeč: | F90: =IF(E16="","",E16) -> Vyplň údaj | I90: Zpracovatel: | J90: =E22 -> ELTYM HRONOV spol. s r.o.
C92: Kód dílu - Popis | J92: Cena celkem [CZK]
C94: Náklady ze soupisu prací | J94: =J122 -> 0 | AU94: -1
D95: M - Práce a dodávky M | J95: =J123 -> 0
D96: 21-M - Elektromontáže | J96: =J124 -> 0
D97: 46-M - Zemní práce při extr.mont.pracích | J97: =J169 -> 0
D98: 58-M - Revize vyhrazených technických zařízení | J98: =J195 -> 0
D99: HZS - Hodinové zúčtovací sazby | J99: =J198 -> 0
D100: VRN - Vedlejší rozpočtové náklady | J100: =J205 -> 0
D101: VRN1 - Průzkumné, geodetické a projektové práce | J101: =J206 -> 0
D102: VRN4 - Inženýrská činnost | J102: =J209 -> 0
D103: VRN6 - Územní vlivy | J103: =J211 -> 0
D104: VRN8 - Přesun stavebních kapacit | J104: =J213 -> 0
C111: SOUPIS PRACÍ
C113: Stavba:
E114: =E7 -> Rekonstrukce veřejného osvětlení Broumov, třída Masarykova
C116: Místo: | F116: =F10 -> Broumov | I116: Datum: | J116: =IF(J10="","",J10) -> 6. 5. 2022
C118: Zadavatel: | F118: =E13 | I118: Projektant: | J118: =E19
C119: Uchazeč: | F119: =IF(E16="","",E16) -> Vyplň údaj | I119: Zpracovatel: | J119: =E22 -> ELTYM HRONOV spol. s r.o.
C121: PČ | D121: Typ | E121: Kód | F121: Popis | G121: MJ | H121: Množství | I121: J.cena [CZK] | J121: Cena celkem [CZK] | K121: Cenová soustava | N121: DPH | O121: J. Nh [h] | P121: Nh celkem [h] | Q121: J. hmotnost [t] | R121: Hmotnost celkem [t] | S121: J. suť [t] | T121: Suť Celkem [t]
C122: Náklady soupisu celkem | J122: =BK122 -> 0 | P122: =P123+P198+P205 -> 0 | R122: =R123+R198+R205 -> 25538.161 | T122: =T123+T198+T205 -> 0 | AT122: D | AU122: -1 | BK122: =BK123+BK198+BK205 -> 0
D123: D | E123: M | F123: Práce a dodávky M | J123: =BK123 -> 0 | P123: =P124+P169+P195 -> 0 | R123: =R124+R169+R195 -> 25538.161 | T123: =T124+T169+T195 -> 0 | AR123: 3 | AT123: D | AU123: 0 | AY123: ROZPOCET | BK123: =BK124+BK169+BK195 -> 0
D124: D | E124: 21-M | F124: Elektromontáže | J124: =BK124 -> 0 | P124: =SUM(P125:P168) -> 0 | R124: =SUM(R125:R168) -> 0.6870675 | T124: =SUM(T125:T168) -> 0 | AR124: 3 | AT124: D | AU124: 1 | AY124: ROZPOCET | BK124: =SUM(BK125:BK168) -> 0
C125: 93 | D125: K | E125: 0014 | F125: Napojení vedení do stávajícícho sloupu veřejného osvětlení | G125: ks | H125: 2 | J125: =ROUND(I125*H125,2) -> 0 | N125: základní | P125: =O125*H125 -> 0 | Q125: 0 | R125: =Q125*H125 -> 0 | S125: 0 | T125: =S125*H125 -> 0 | AR125: 64 | AT125: K | AU125: 2 | AY125: ROZPOCET | BE125: =IF(N125="základní",J125,0) -> 0 | BF125: =IF(N125="snížená",J125,0) -> 0 | BG125: =IF(N125="zákl. přenesená",J125,0) -> 0 | BH125: =IF(N125="sníž. přenesená",J125,0) -> 0 | BI125: =IF(N125="nulová",J125,0) -> 0 | BJ125: 1 | BK125: =ROUND(I125*H125,2) -> 0 | BL125: 64 | BM125: -1953020904
C126: 91 | D126: K | E126: 210100101 | F126: Ukončení vodičů na svorkovnici s otevřením a uzavřením krytu včetně zapojení průřezu žíly do 16 mm2 | G126: kus | H126: 44 | J126: =ROUND(I126*H126,2) -> 0 | N126: základní | P126: =O126*H126 -> 0 | Q126: 0 | R126: =Q126*H126 -> 0 | S126: 0 | T126: =S126*H126 -> 0 | AR126: 64 | AT126: K | AU126: 2 | AY126: ROZPOCET | BE126: =IF(N126="základní",J126,0) -> 0 | BF126: =IF(N126="snížená",J126,0) -> 0 | BG126: =IF(N126="zákl. přenesená",J126,0) -> 0 | BH126: =IF(N126="sníž. přenesená",J126,0) -> 0 | BI126: =IF(N126="nulová",J126,0) -> 0 | BJ126: 1 | BK126: =ROUND(I126*H126,2) -> 0 | BL126: 64 | BM126: -1032866097
C127: 1 | D127: K | E127: 210101233 | F127: Propojení kabelů celoplastových spojkou do 1 kV venkovní smršťovací SVCZ 1až5 žíly do 4x10až16 mm2 | G127: kus | H127: 2 | J127: =ROUND(I127*H127,2) -> 0 | N127: základní | P127: =O127*H127 -> 0 | Q127: 0 | R127: =Q127*H127 -> 0 | S127: 0 | T127: =S127*H127 -> 0 | AR127: 64 | AT127: K | AU127: 2 | AY127: ROZPOCET | BE127: =IF(N127="základní",J127,0) -> 0 | BF127: =IF(N127="snížená",J127,0) -> 0 | BG127: =IF(N127="zákl. přenesená",J127,0) -> 0 | BH127: =IF(N127="sníž. přenesená",J127,0) -> 0 | BI127: =IF(N127="nulová",J127,0) -> 0 | BJ127: 1 | BK127: =ROUND(I127*H127,2) -> 0 | BL127: 64 | BM127: -1332898987
C128: 2 | D128: M | E128: 354360230 | F128: spojka kabelová smršťovaná přímé do 1kV 91ah-22s 4 x 16 - 50mm | G128: kus | H128: 1 | J128: =ROUND(I128*H128,2) -> 0 | N128: základní | P128: =O128*H128 -> 0 | Q128: 0.0081 | R128: =Q128*H128 -> 0.0081 | S128: 0 | T128: =S128*H128 -> 0 | AR128: 128 | AT128: M | AU128: 2 | AY128: ROZPOCET | BE128: =IF(N128="základní",J128,0) -> 0 | BF128: =IF(N128="snížená",J128,0) -> 0 | BG128: =IF(N128="zákl. přenesená",J128,0) -> 0 | BH128: =IF(N128="sníž. přenesená",J128,0) -> 0 | BI128: =IF(N128="nulová",J128,0) -> 0 | BJ128: 1 | BK128: =ROUND(I128*H128,2) -> 0 | BL128: 128 | BM128: 1343757064
C129: 67 | D129: M | E129: 0006 | F129: spojka kabelová smršťovaná odbočná do 1kV 4x16-50mm; 4x16mm | G129: kus | H129: 1 | J129: =ROUND(I129*H129,2) -> 0 | N129: základní | P129: =O129*H129 -> 0 | Q129: 0 | R129: =Q129*H129 -> 0 | S129: 0 | T129: =S129*H129 -> 0 | AR129: 128 | AT129: M | AU129: 2 | AY129: ROZPOCET | BE129: =IF(N129="základní",J129,0) -> 0 | BF129: =IF(N129="snížená",J129,0) -> 0 | BG129: =IF(N129="zákl. přenesená",J129,0) -> 0 | BH129: =IF(N129="sníž. přenesená",J129,0) -> 0 | BI129: =IF(N129="nulová",J129,0) -> 0 | BJ129: 1 | BK129: =ROUND(I129*H129,2) -> 0 | BL129: 128 | BM129: 1736458223
C130: 89 | D130: K | E130: 210120021 | F130: Montáž pojistkových spodků do 500 V 25 A | G130: kus | H130: 3 | J130: =ROUND(I130*H130,2) -> 0 | N130: základní | P130: =O130*H130 -> 0 | Q130: 0 | R130: =Q130*H130 -> 0 | S130: 0 | T130: =S130*H130 -> 0 | AR130: 64 | AT130: K | AU130: 2 | AY130: ROZPOCET | BE130: =IF(N130="základní",J130,0) -> 0 | BF130: =IF(N130="snížená",J130,0) -> 0 | BG130: =IF(N130="zákl. přenesená",J130,0) -> 0 | BH130: =IF(N130="sníž. přenesená",J130,0) -> 0 | BI130: =IF(N130="nulová",J130,0) -> 0 | BJ130: 1 | BK130: =ROUND(I130*H130,2) -> 0 | BL130: 64 | BM130: -2105974390
C131: 90 | D131: M | E131: 0013 | F131: Sada nožových pojistek vel.00, 3x25A, gG | G131: ks | H131: 1 | J131: =ROUND(I131*H131,2) -> 0 | N131: základní | P131: =O131*H131 -> 0 | Q131: 0 | R131: =Q131*H131 -> 0 | S131: 0 | T131: =S131*H131 -> 0 | AR131: 256 | AT131: M | AU131: 2 | AY131: ROZPOCET | BE131: =IF(N131="základní",J131,0) -> 0 | BF131: =IF(N131="snížená",J131,0) -> 0 | BG131: =IF(N131="zákl. přenesená",J131,0) -> 0 | BH131: =IF(N131="sníž. přenesená",J131,0) -> 0 | BI131: =IF(N131="nulová",J131,0) -> 0 | BJ131: 1 | BK131: =ROUND(I131*H131,2) -> 0 | BL131: 64 | BM131: -1461542943
C132: 4 | D132: K | E132: 210202013 | F132: Montáž svítidlo výbojkové průmyslové stropní na výložník | G132: kus | H132: 7 | J132: =ROUND(I132*H132,2) -> 0 | N132: základní | P132: =O132*H132 -> 0 | Q132: 0 | R132: =Q132*H132 -> 0 | S132: 0 | T132: =S132*H132 -> 0 | AR132: 64 | AT132: K | AU132: 2 | AY132: ROZPOCET | BE132: =IF(N132="základní",J132,0) -> 0 | BF132: =IF(N132="snížená",J132,0) -> 0 | BG132: =IF(N132="zákl. přenesená",J132,0) -> 0 | BH132: =IF(N132="sníž. přenesená",J132,0) -> 0 | BI132: =IF(N132="nulová",J132,0) -> 0 | BJ132: 1 | BK132: =ROUND(I132*H132,2) -> 0 | BL132: 64 | BM132: 1366151188
C133: 5 | D133: M | E133: 0007 | F133: VO2 - Nové svítidlo veřejného osvětlení, 61W, 8400lm, IP66, včetně elektrovýzbroje ve svítidle | G133: kus | H133: 1 | J133: =ROUND(I133*H133,2) -> 0 | N133: základní | P133: =O133*H133 -> 0 | Q133: 0.0075 | R133: =Q133*H133 -> 0.0075 | S133: 0 | T133: =S133*H133 -> 0 | AR133: 128 | AT133: M | AU133: 2 | AY133: ROZPOCET | BE133: =IF(N133="základní",J133,0) -> 0 | BF133: =IF(N133="snížená",J133,0) -> 0 | BG133: =IF(N133="zákl. přenesená",J133,0) -> 0 | BH133: =IF(N133="sníž. přenesená",J133,0) -> 0 | BI133: =IF(N133="nulová",J133,0) -> 0 | BJ133: 1 | BK133: =ROUND(I133*H133,2) -> 0 | BL133: 128 | BM133: -960836514
C134: 68 | D134: M | E134: 0008 | F134: VO3 - Nové svítidlo veřejného osvětlení, 61W, 8400lm, IP66 | G134: kus | H134: 1 | J134: =ROUND(I134*H134,2) -> 0 | N134: základní | P134: =O134*H134 -> 0 | Q134: 0.0075 | R134: =Q134*H134 -> 0.0075 | S134: 0 | T134: =S134*H134 -> 0 | AR134: 128 | AT134: M | AU134: 2 | AY134: ROZPOCET | BE134: =IF(N134="základní",J134,0) -> 0 | BF134: =IF(N134="snížená",J134,0) -> 0 | BG134: =IF(N134="zákl. přenesená",J134,0) -> 0 | BH134: =IF(N134="sníž. přenesená",J134,0) -> 0 | BI134: =IF(N134="nulová",J134,0) -> 0 | BJ134: 1 | BK134: =ROUND(I134*H134,2) -> 0 | BL134: 128 | BM134: 2017005589
C135: 69 | D135: M | E135: 0009 | F135: VO4 - Nové svítidlo veřejného osvětlení, 55W, 8800lm, IP66, asymetrické pro osvětlení přechodu pro chodce | G135: kus | H135: 2 | J135: =ROUND(I135*H135,2) -> 0 | N135: základní | P135: =O135*H135 -> 0 | Q135: 0.0075 | R135: =Q135*H135 -> 0.015 | S135: 0 | T135: =S135*H135 -> 0 | AR135: 128 | AT135: M | AU135: 2 | AY135: ROZPOCET | BE135: =IF(N135="základní",J135,0) -> 0 | BF135: =IF(N135="snížená",J135,0) -> 0 | BG135: =IF(N135="zákl. přenesená",J135,0) -> 0 | BH135: =IF(N135="sníž. přenesená",J135,0) -> 0 | BI135: =IF(N135="nulová",J135,0) -> 0 | BJ135: 1 | BK135: =ROUND(I135*H135,2) -> 0 | BL135: 128 | BM135: 2019520516
C136: 70 | D136: M | E136: 0010 | F136: VO5 - Nové svítidlo veřejného osvětlení, 61W, 8400lm, IP66 | G136: kus | H136: 2 | J136: =ROUND(I136*H136,2) -> 0 | N136: základní | P136: =O136*H136 -> 0 | Q136: 0.0075 | R136: =Q136*H136 -> 0.015 | S136: 0 | T136: =S136*H136 -> 0 | AR136: 128 | AT136: M | AU136: 2 | AY136: ROZPOCET | BE136: =IF(N136="základní",J136,0) -> 0 | BF136: =IF(N136="snížená",J136,0) -> 0 | BG136: =IF(N136="zákl. přenesená",J136,0) -> 0 | BH136: =IF(N136="sníž. přenesená",J136,0) -> 0 | BI136: =IF(N136="nulová",J136,0) -> 0 | BJ136: 1 | BK136: =ROUND(I136*H136,2) -> 0 | BL136: 128 | BM136: 1760938733
... C168: 25 | D168: M | E168: 0005 | F168: Podružný materiál elektro | G168: kpl | H168: 1 | J168: =ROUND(I168*H168,2) -> 0 | N168: základní | P168: =O168*H168 -> 0 | Q168: 0 | R168: =Q168*H168 -> 0 | S168: 0 | T168: =S168*H168 -> 0 | AR168: 128 | AT168: M | AU168: 2 | AY168: ROZPOCET | BE168: =IF(N168="základní",J168,0) -> 0 | BF168: =IF(N168="snížená",J168,0) -> 0 | BG168: =IF(N168="zákl. přenesená",J168,0) -> 0 | BH168: =IF(N168="sníž. přenesená",J168,0) -> 0 | BI168: =IF(N168="nulová",J168,0) -> 0 | BJ168: 1 | BK168: =ROUND(I168*H168,2) -> 0 | BL168: 128 | BM168: 1169585318
D169: D | E169: 46-M | F169: Zemní práce při extr.mont.pracích | J169: =BK169 -> 0 | P169: =SUM(P170:P194) -> 0 | R169: =SUM(R170:R194) -> 25537.474 | T169: =SUM(T170:T194) -> 0 | AR169: 3 | AT169: D | AU169: 1 | AY169: ROZPOCET | BK169: =SUM(BK170:BK194) -> 0
C170: 26 | D170: K | E170: 171201211 | F170: Poplatek za uložení odpadu ze sypaniny na skládce (skládkovné) | G170: t | H170: 17 | J170: =ROUND(I170*H170,2) -> 0 | N170: základní | P170: =O170*H170 -> 0 | Q170: 0 | R170: =Q170*H170 -> 0 | S170: 0 | T170: =S170*H170 -> 0 | AR170: 64 | AT170: K | AU170: 2 | AY170: ROZPOCET | BE170: =IF(N170="základní",J170,0) -> 0 | BF170: =IF(N170="snížená",J170,0) -> 0 | BG170: =IF(N170="zákl. přenesená",J170,0) -> 0 | BH170: =IF(N170="sníž. přenesená",J170,0) -> 0 | BI170: =IF(N170="nulová",J170,0) -> 0 | BJ170: 1 | BK170: =ROUND(I170*H170,2) -> 0 | BL170: 64 | BM170: 967872955
C171: 27 | D171: K | E171: 460010025 | F171: Vytyčení trasy inženýrských sítí v zastavěném prostoru | G171: km | H171: 0.7 | J171: =ROUND(I171*H171,2) -> 0 | N171: základní | P171: =O171*H171 -> 0 | Q171: 0.0099 | R171: =Q171*H171 -> 0.00693 | S171: 0 | T171: =S171*H171 -> 0 | AR171: 64 | AT171: K | AU171: 2 | AY171: ROZPOCET | BE171: =IF(N171="základní",J171,0) -> 0 | BF171: =IF(N171="snížená",J171,0) -> 0 | BG171: =IF(N171="zákl. přenesená",J171,0) -> 0 | BH171: =IF(N171="sníž. přenesená",J171,0) -> 0 | BI171: =IF(N171="nulová",J171,0) -> 0 | BJ171: 1 | BK171: =ROUND(I171*H171,2) -> 0 | BL171: 64 | BM171: -1410643056
C172: 29 | D172: K | E172: 460030057 | F172: Rozebrání dlažeb ručně z dlaždic betonových nebo keramických do malty spáry nezalité | G172: m2 | H172: 10 | J172: =ROUND(I172*H172,2) -> 0 | N172: základní | P172: =O172*H172 -> 0 | Q172: 0 | R172: =Q172*H172 -> 0 | S172: 0 | T172: =S172*H172 -> 0 | AR172: 64 | AT172: K | AU172: 2 | AY172: ROZPOCET | BE172: =IF(N172="základní",J172,0) -> 0 | BF172: =IF(N172="snížená",J172,0) -> 0 | BG172: =IF(N172="zákl. přenesená",J172,0) -> 0 | BH172: =IF(N172="sníž. přenesená",J172,0) -> 0 | BI172: =IF(N172="nulová",J172,0) -> 0 | BJ172: 1 | BK172: =ROUND(I172*H172,2) -> 0 | BL172: 64 | BM172: 1346039977
C173: 31 | D173: K | E173: 460050003 | F173: Hloubení nezapažených jam pro stožáry jednoduché délky do 8 m na rovině ručně v hornině tř 3 | G173: kus | H173: 2 | J173: =ROUND(I173*H173,2) -> 0 | N173: základní | P173: =O173*H173 -> 0 | Q173: 0 | R173: =Q173*H173 -> 0 | S173: 0 | T173: =S173*H173 -> 0 | AR173: 64 | AT173: K | AU173: 2 | AY173: ROZPOCET | BE173: =IF(N173="základní",J173,0) -> 0 | BF173: =IF(N173="snížená",J173,0) -> 0 | BG173: =IF(N173="zákl. přenesená",J173,0) -> 0 | BH173: =IF(N173="sníž. přenesená",J173,0) -> 0 | BI173: =IF(N173="nulová",J173,0) -> 0 | BJ173: 1 | BK173: =ROUND(I173*H173,2) -> 0 | BL173: 64 | BM173: -1863164068
C174: 32 | D174: M | E174: 286111220 | F174: trubka kanalizační hladká hrdlovaná D 315 x 7,7 x 5000 mm | G174: kus | H174: 1 | J174: =ROUND(I174*H174,2) -> 0 | N174: základní | P174: =O174*H174 -> 0 | Q174: 0.055 | R174: =Q174*H174 -> 0.055 | S174: 0 | T174: =S174*H174 -> 0 | AR174: 256 | AT174: M | AU174: 2 | AY174: ROZPOCET | BE174: =IF(N174="základní",J174,0) -> 0 | BF174: =IF(N174="snížená",J174,0) -> 0 | BG174: =IF(N174="zákl. přenesená",J174,0) -> 0 | BH174: =IF(N174="sníž. přenesená",J174,0) -> 0 | BI174: =IF(N174="nulová",J174,0) -> 0 | BJ174: 1 | BK174: =ROUND(I174*H174,2) -> 0 | BL174: 64 | BM174: 1226623428
C175: 33 | D175: K | E175: 460150163 | F175: Hloubení kabelových zapažených i nezapažených rýh ručně š 35 cm, hl 80 cm, v hornině tř 3 | G175: m | H175: 96 | J175: =ROUND(I175*H175,2) -> 0 | N175: základní | P175: =O175*H175 -> 0 | Q175: 0 | R175: =Q175*H175 -> 0 | S175: 0 | T175: =S175*H175 -> 0 | AR175: 64 | AT175: K | AU175: 2 | AY175: ROZPOCET | BE175: =IF(N175="základní",J175,0) -> 0 | BF175: =IF(N175="snížená",J175,0) -> 0 | BG175: =IF(N175="zákl. přenesená",J175,0) -> 0 | BH175: =IF(N175="sníž. přenesená",J175,0) -> 0 | BI175: =IF(N175="nulová",J175,0) -> 0 | BJ175: 1 | BK175: =ROUND(I175*H175,2) -> 0 | BL175: 64 | BM175: -285737670
C176: 34 | D176: K | E176: 460150303 | F176: Hloubení kabelových zapažených i nezapažených rýh ručně š 50 cm, hl 120 cm, v hornině tř 3 | G176: m | H176: 119 | J176: =ROUND(I176*H176,2) -> 0 | N176: základní | P176: =O176*H176 -> 0 | Q176: 0 | R176: =Q176*H176 -> 0 | S176: 0 | T176: =S176*H176 -> 0 | AR176: 64 | AT176: K | AU176: 2 | AY176: ROZPOCET | BE176: =IF(N176="základní",J176,0) -> 0 | BF176: =IF(N176="snížená",J176,0) -> 0 | BG176: =IF(N176="zákl. přenesená",J176,0) -> 0 | BH176: =IF(N176="sníž. přenesená",J176,0) -> 0 | BI176: =IF(N176="nulová",J176,0) -> 0 | BJ176: 1 | BK176: =ROUND(I176*H176,2) -> 0 | BL176: 64 | BM176: 490064078
C177: 35 | D177: K | E177: 460490013 | F177: Krytí kabelů výstražnou fólií šířky 34 cm | G177: m | H177: 215 | J177: =ROUND(I177*H177,2) -> 0 | N177: základní | P177: =O177*H177 -> 0 | Q177: 9e-05 | R177: =Q177*H177 -> 0.01935 | S177: 0 | T177: =S177*H177 -> 0 | AR177: 64 | AT177: K | AU177: 2 | AY177: ROZPOCET | BE177: =IF(N177="základní",J177,0) -> 0 | BF177: =IF(N177="snížená",J177,0) -> 0 | BG177: =IF(N177="zákl. přenesená",J177,0) -> 0 | BH177: =IF(N177="sníž. přenesená",J177,0) -> 0 | BI177: =IF(N177="nulová",J177,0) -> 0 | BJ177: 1 | BK177: =ROUND(I177*H177,2) -> 0 | BL177: 64 | BM177: -372395054
C178: 36 | D178: M | E178: 0001 | F178: Výstražná fólie šíře 22cm | G178: m | H178: 215 | J178: =ROUND(I178*H178,2) -> 0 | N178: základní | P178: =O178*H178 -> 0 | Q178: 0 | R178: =Q178*H178 -> 0 | S178: 0 | T178: =S178*H178 -> 0 | AR178: 256 | AT178: M | AU178: 2 | AY178: ROZPOCET | BE178: =IF(N178="základní",J178,0) -> 0 | BF178: =IF(N178="snížená",J178,0) -> 0 | BG178: =IF(N178="zákl. přenesená",J178,0) -> 0 | BH178: =IF(N178="sníž. přenesená",J178,0) -> 0 | BI178: =IF(N178="nulová",J178,0) -> 0 | BJ178: 1 | BK178: =ROUND(I178*H178,2) -> 0 | BL178: 64 | BM178: -1068047750
C179: 37 | D179: K | E179: 460520163 | F179: Montáž trubek ochranných plastových tuhých D do 90 mm uložených do rýhy | G179: m | H179: 230 | J179: =ROUND(I179*H179,2) -> 0 | N179: základní | P179: =O179*H179 -> 0 | Q179: 0 | R179: =Q179*H179 -> 0 | S179: 0 | T179: =S179*H179 -> 0 | AR179: 64 | AT179: K | AU179: 2 | AY179: ROZPOCET | BE179: =IF(N179="základní",J179,0) -> 0 | BF179: =IF(N179="snížená",J179,0) -> 0 | BG179: =IF(N179="zákl. přenesená",J179,0) -> 0 | BH179: =IF(N179="sníž. přenesená",J179,0) -> 0 | BI179: =IF(N179="nulová",J179,0) -> 0 | BJ179: 1 | BK179: =ROUND(I179*H179,2) -> 0 | BL179: 64 | BM179: -1321872266
C180: 38 | D180: M | E180: 345713540 | F180: trubka elektroinstalační ohebná Kopoflex, HDPE+LDPE KF 09090 | G180: m | H180: 230 | J180: =ROUND(I180*H180,2) -> 0 | N180: základní | P180: =O180*H180 -> 0 | Q180: 0.00055 | R180: =Q180*H180 -> 0.1265 | S180: 0 | T180: =S180*H180 -> 0 | AR180: 128 | AT180: M | AU180: 2 | AY180: ROZPOCET | BE180: =IF(N180="základní",J180,0) -> 0 | BF180: =IF(N180="snížená",J180,0) -> 0 | BG180: =IF(N180="zákl. přenesená",J180,0) -> 0 | BH180: =IF(N180="sníž. přenesená",J180,0) -> 0 | BI180: =IF(N180="nulová",J180,0) -> 0 | BJ180: 1 | BK180: =ROUND(I180*H180,2) -> 0 | BL180: 128 | BM180: 2086307490
C181: 39 | D181: M | E181: 583373080 | F181: štěrkopísek (Horní Řasnice) frakce 0-2 třída B | G181: t | H181: 5 | J181: =ROUND(I181*H181,2) -> 0 | N181: základní | P181: =O181*H181 -> 0 | Q181: 1 | R181: =Q181*H181 -> 5 | S181: 0 | T181: =S181*H181 -> 0 | AR181: 256 | AT181: M | AU181: 2 | AY181: ROZPOCET | BE181: =IF(N181="základní",J181,0) -> 0 | BF181: =IF(N181="snížená",J181,0) -> 0 | BG181: =IF(N181="zákl. přenesená",J181,0) -> 0 | BH181: =IF(N181="sníž. přenesená",J181,0) -> 0 | BI181: =IF(N181="nulová",J181,0) -> 0 | BJ181: 1 | BK181: =ROUND(I181*H181,2) -> 0 | BL181: 64 | BM181: -1039359093
... C194: 88 | D194: M | E194: 00012 | F194: Podružný stavební materiál (zazdění rozvaděče, úprava omítky, začištění spár) | G194: kpl | H194: 1 | J194: =ROUND(I194*H194,2) -> 0 | N194: základní | P194: =O194*H194 -> 0 | Q194: 0 | R194: =Q194*H194 -> 0 | S194: 0 | T194: =S194*H194 -> 0 | AR194: 128 | AT194: M | AU194: 2 | AY194: ROZPOCET | BE194: =IF(N194="základní",J194,0) -> 0 | BF194: =IF(N194="snížená",J194,0) -> 0 | BG194: =IF(N194="zákl. přenesená",J194,0) -> 0 | BH194: =IF(N194="sníž. přenesená",J194,0) -> 0 | BI194: =IF(N194="nulová",J194,0) -> 0 | BJ194: 1 | BK194: =ROUND(I194*H194,2) -> 0 | BL194: 128 | BM194: 537348485
D195: D | E195: 58-M | F195: Revize vyhrazených technických zařízení | J195: =BK195 -> 0 | P195: =SUM(P196:P197) -> 0 | R195: =SUM(R196:R197) -> 0 | T195: =SUM(T196:T197) -> 0 | AR195: 3 | AT195: D | AU195: 1 | AY195: ROZPOCET | BK195: =SUM(BK196:BK197) -> 0
C196: 55 | D196: K | E196: 0005 | F196: Výchozí revize elekktro | G196: hod | H196: 7 | J196: =ROUND(I196*H196,2) -> 0 | N196: základní | P196: =O196*H196 -> 0 | Q196: 0 | R196: =Q196*H196 -> 0 | S196: 0 | T196: =S196*H196 -> 0 | AR196: 64 | AT196: K | AU196: 2 | AY196: ROZPOCET | BE196: =IF(N196="základní",J196,0) -> 0 | BF196: =IF(N196="snížená",J196,0) -> 0 | BG196: =IF(N196="zákl. přenesená",J196,0) -> 0 | BH196: =IF(N196="sníž. přenesená",J196,0) -> 0 | BI196: =IF(N196="nulová",J196,0) -> 0 | BJ196: 1 | BK196: =ROUND(I196*H196,2) -> 0 | BL196: 64 | BM196: 1426031081
C197: 56 | D197: K | E197: 580108011 | F197: Kontrola stavu 1 nebo 2 stožárových svítidel parkových nebo sadových | G197: kus | H197: 6 | J197: =ROUND(I197*H197,2) -> 0 | N197: základní | P197: =O197*H197 -> 0 | Q197: 0 | R197: =Q197*H197 -> 0 | S197: 0 | T197: =S197*H197 -> 0 | AR197: 64 | AT197: K | AU197: 2 | AY197: ROZPOCET | BE197: =IF(N197="základní",J197,0) -> 0 | BF197: =IF(N197="snížená",J197,0) -> 0 | BG197: =IF(N197="zákl. přenesená",J197,0) -> 0 | BH197: =IF(N197="sníž. přenesená",J197,0) -> 0 | BI197: =IF(N197="nulová",J197,0) -> 0 | BJ197: 1 | BK197: =ROUND(I197*H197,2) -> 0 | BL197: 64 | BM197: -756838770
D198: D | E198: HZS | F198: Hodinové zúčtovací sazby | J198: =BK198 -> 0 | P198: =SUM(P199:P204) -> 0 | R198: =SUM(R199:R204) -> 0 | T198: =SUM(T199:T204) -> 0 | AR198: 4 | AT198: D | AU198: 0 | AY198: ROZPOCET | BK198: =SUM(BK199:BK204) -> 0
C199: 57 | D199: K | E199: 0006 | F199: Pronájem vysokozdvižné plošiny | G199: hod | H199: 22 | J199: =ROUND(I199*H199,2) -> 0 | N199: základní | P199: =O199*H199 -> 0 | Q199: 0 | R199: =Q199*H199 -> 0 | S199: 0 | T199: =S199*H199 -> 0 | AR199: 512 | AT199: K | AU199: 1 | AY199: ROZPOCET | BE199: =IF(N199="základní",J199,0) -> 0 | BF199: =IF(N199="snížená",J199,0) -> 0 | BG199: =IF(N199="zákl. přenesená",J199,0) -> 0 | BH199: =IF(N199="sníž. přenesená",J199,0) -> 0 | BI199: =IF(N199="nulová",J199,0) -> 0 | BJ199: 1 | BK199: =ROUND(I199*H199,2) -> 0 | BL199: 512 | BM199: 1961683678
C200: 58 | D200: K | E200: 0007 | F200: Práce jeřábem | G200: hod | H200: 6 | J200: =ROUND(I200*H200,2) -> 0 | N200: základní | P200: =O200*H200 -> 0 | Q200: 0 | R200: =Q200*H200 -> 0 | S200: 0 | T200: =S200*H200 -> 0 | AR200: 512 | AT200: K | AU200: 1 | AY200: ROZPOCET | BE200: =IF(N200="základní",J200,0) -> 0 | BF200: =IF(N200="snížená",J200,0) -> 0 | BG200: =IF(N200="zákl. přenesená",J200,0) -> 0 | BH200: =IF(N200="sníž. přenesená",J200,0) -> 0 | BI200: =IF(N200="nulová",J200,0) -> 0 | BJ200: 1 | BK200: =ROUND(I200*H200,2) -> 0 | BL200: 512 | BM200: -351519553
C201: 59 | D201: K | E201: HZS2222x | F201: Demontáž stávajícího rozvaděče R-VO231, 40m PVC lišty, 40m kabelového vedení po objektu č.p. 231, ekologická likvidace | G201: kpl | H201: 1 | J201: =ROUND(I201*H201,2) -> 0 | N201: základní | P201: =O201*H201 -> 0 | Q201: 0 | R201: =Q201*H201 -> 0 | S201: 0 | T201: =S201*H201 -> 0 | AR201: 512 | AT201: K | AU201: 1 | AY201: ROZPOCET | BE201: =IF(N201="základní",J201,0) -> 0 | BF201: =IF(N201="snížená",J201,0) -> 0 | BG201: =IF(N201="zákl. přenesená",J201,0) -> 0 | BH201: =IF(N201="sníž. přenesená",J201,0) -> 0 | BI201: =IF(N201="nulová",J201,0) -> 0 | BJ201: 1 | BK201: =ROUND(I201*H201,2) -> 0 | BL201: 512 | BM201: -1579292446
C202: 60 | D202: K | E202: HZS2222xx | F202: Demontáž stávajících svítidel VO, ekologická likvidace | G202: ks | H202: 7 | J202: =ROUND(I202*H202,2) -> 0 | N202: základní | P202: =O202*H202 -> 0 | Q202: 0 | R202: =Q202*H202 -> 0 | S202: 0 | T202: =S202*H202 -> 0 | AR202: 512 | AT202: K | AU202: 1 | AY202: ROZPOCET | BE202: =IF(N202="základní",J202,0) -> 0 | BF202: =IF(N202="snížená",J202,0) -> 0 | BG202: =IF(N202="zákl. přenesená",J202,0) -> 0 | BH202: =IF(N202="sníž. přenesená",J202,0) -> 0 | BI202: =IF(N202="nulová",J202,0) -> 0 | BJ202: 1 | BK202: =ROUND(I202*H202,2) -> 0 | BL202: 512 | BM202: 776745423
C203: 61 | D203: K | E203: HZS2222xxx | F203: Demontáž stávajících podpěrných bodů veřejního osvětlení | G203: ks | H203: 4 | J203: =ROUND(I203*H203,2) -> 0 | N203: základní | P203: =O203*H203 -> 0 | Q203: 0 | R203: =Q203*H203 -> 0 | S203: 0 | T203: =S203*H203 -> 0 | AR203: 512 | AT203: K | AU203: 1 | AY203: ROZPOCET | BE203: =IF(N203="základní",J203,0) -> 0 | BF203: =IF(N203="snížená",J203,0) -> 0 | BG203: =IF(N203="zákl. přenesená",J203,0) -> 0 | BH203: =IF(N203="sníž. přenesená",J203,0) -> 0 | BI203: =IF(N203="nulová",J203,0) -> 0 | BJ203: 1 | BK203: =ROUND(I203*H203,2) -> 0 | BL203: 512 | BM203: -1014353955
C204: 87 | D204: K | E204: HZS2491 | F204: Hodinová zúčtovací sazba dělník zednických výpomocí | G204: hod | H204: 20 | J204: =ROUND(I204*H204,2) -> 0 | N204: základní | P204: =O204*H204 -> 0 | Q204: 0 | R204: =Q204*H204 -> 0 | S204: 0 | T204: =S204*H204 -> 0 | AR204: 512 | AT204: K | AU204: 1 | AY204: ROZPOCET | BE204: =IF(N204="základní",J204,0) -> 0 | BF204: =IF(N204="snížená",J204,0) -> 0 | BG204: =IF(N204="zákl. přenesená",J204,0) -> 0 | BH204: =IF(N204="sníž. přenesená",J204,0) -> 0 | BI204: =IF(N204="nulová",J204,0) -> 0 | BJ204: 1 | BK204: =ROUND(I204*H204,2) -> 0 | BL204: 512 | BM204: -612314831
D205: D | E205: VRN | F205: Vedlejší rozpočtové náklady | J205: =BK205 -> 0 | P205: =P206+P209+P211+P213 -> 0 | R205: =R206+R209+R211+R213 -> 0 | T205: =T206+T209+T211+T213 -> 0 | AR205: 5 | AT205: D | AU205: 0 | AY205: ROZPOCET | BK205: =BK206+BK209+BK211+BK213 -> 0
D206: D | E206: VRN1 | F206: Průzkumné, geodetické a projektové práce | J206: =BK206 -> 0 | P206: =SUM(P207:P208) -> 0 | R206: =SUM(R207:R208) -> 0 | T206: =SUM(T207:T208) -> 0 | AR206: 5 | AT206: D | AU206: 1 | AY206: ROZPOCET | BK206: =SUM(BK207:BK208) -> 0
C207: 62 | D207: K | E207: 012103000 | F207: Geodetické práce před výstavbou | G207: kpl | H207: 1 | J207: =ROUND(I207*H207,2) -> 0 | N207: základní | P207: =O207*H207 -> 0 | Q207: 0 | R207: =Q207*H207 -> 0 | S207: 0 | T207: =S207*H207 -> 0 | AR207: 1024 | AT207: K | AU207: 2 | AY207: ROZPOCET | BE207: =IF(N207="základní",J207,0) -> 0 | BF207: =IF(N207="snížená",J207,0) -> 0 | BG207: =IF(N207="zákl. přenesená",J207,0) -> 0 | BH207: =IF(N207="sníž. přenesená",J207,0) -> 0 | BI207: =IF(N207="nulová",J207,0) -> 0 | BJ207: 1 | BK207: =ROUND(I207*H207,2) -> 0 | BL207: 1024 | BM207: 426114148
C208: 63 | D208: K | E208: 012203000 | F208: Geodetické práce při provádění stavby | G208: kpl | H208: 1 | J208: =ROUND(I208*H208,2) -> 0 | N208: základní | P208: =O208*H208 -> 0 | Q208: 0 | R208: =Q208*H208 -> 0 | S208: 0 | T208: =S208*H208 -> 0 | AR208: 1024 | AT208: K | AU208: 2 | AY208: ROZPOCET | BE208: =IF(N208="základní",J208,0) -> 0 | BF208: =IF(N208="snížená",J208,0) -> 0 | BG208: =IF(N208="zákl. přenesená",J208,0) -> 0 | BH208: =IF(N208="sníž. přenesená",J208,0) -> 0 | BI208: =IF(N208="nulová",J208,0) -> 0 | BJ208: 1 | BK208: =ROUND(I208*H208,2) -> 0 | BL208: 1024 | BM208: -1767130040
D209: D | E209: VRN4 | F209: Inženýrská činnost | J209: =BK209 -> 0 | P209: =P210 -> 0 | R209: =R210 -> 0 | T209: =T210 -> 0 | AR209: 5 | AT209: D | AU209: 1 | AY209: ROZPOCET | BK209: =BK210 -> 0
C210: 64 | D210: K | E210: 045002000 | F210: Kompletační a koordinační činnost | G210: hod | H210: 16 | J210: =ROUND(I210*H210,2) -> 0 | N210: základní | P210: =O210*H210 -> 0 | Q210: 0 | R210: =Q210*H210 -> 0 | S210: 0 | T210: =S210*H210 -> 0 | AR210: 1024 | AT210: K | AU210: 2 | AY210: ROZPOCET | BE210: =IF(N210="základní",J210,0) -> 0 | BF210: =IF(N210="snížená",J210,0) -> 0 | BG210: =IF(N210="zákl. přenesená",J210,0) -> 0 | BH210: =IF(N210="sníž. přenesená",J210,0) -> 0 | BI210: =IF(N210="nulová",J210,0) -> 0 | BJ210: 1 | BK210: =ROUND(I210*H210,2) -> 0 | BL210: 1024 | BM210: 580972873
D211: D | E211: VRN6 | F211: Územní vlivy | J211: =BK211 -> 0 | P211: =P212 -> 0 | R211: =R212 -> 0 | T211: =T212 -> 0 | AR211: 5 | AT211: D | AU211: 1 | AY211: ROZPOCET | BK211: =BK212 -> 0
...
