Workbook

Sheet Rekapitulace stavby
A1: Export Komplet | BA1: 2.0 | BT1: False | BU1: False | BV1: {80e0ebd2-b7cc-4c5a-97cf-fe420e797be7}
AR2: >> skryté sloupce << | BS2: 0,01 | BT2: 21
BS3: 0,01 | BT3: 15
D4: REKAPITULACE STAVBY | AS4: v --- níže se nacházejí doplnkové a pomocné údaje k sestavám --- v | BE4: Návod na vyplnění | BS4: 0,001
D5: Kód: | K5: 1 | BE5: Měnit lze pouze buňky se žlutým podbarvením!_x000D_ _x000D_ 1) na prvním listu Rekapitulace stavby vyplňte v sestavě_x000D_ _x000D_ a) Souhrnný list_x000D_ - údaje o Uchazeči_x000D_ (přenesou se do ostatních sestav i v jiných listech)_x000D_ _x000D_ b) Rekapitulace objektů_x000D_ - potřebné Ostatní náklady_x000D_ _x000D_ 2) na vybraných listech vyplňte v sestavě_x000D_ _x000D_ a) Krycí list_x000D_ - údaje o Uchazeči, pokud se liší od údajů o Uchazeči na Souhrnném listu_x000D_ (údaje se přenesou do ostatních sestav v daném listu)_x000D_ _x000D_ b) Rekapitulace rozpočtu_x000D_ - potřebné Ostatní náklady_x000D_ _x000D_ c) Celkové náklady za stavbu_x000D_ - ceny u položek_x000D_ - množství, pokud má žluté podbarvení_x000D_ - a v případě potřeby poznámku (ta je ve skrytém sloupci) | BS5: 0,01
D6: Stavba: | K6: Zástavba lokality Broumov - Spořilov, komunikace a VO_nerozdělené - 2023 - aktuál | BS6: 0,01
D7: KSO: | AK7: CC-CZ: | BS7: 0,01
D8: Místo: | K8: ul. Bratří Čapků, Pionýrská | AK8: Datum: | AN8: 1. 3. 2023 | BS8: 0,01
BS9: 0,01
D10: Zadavatel: | AK10: IČ: | AN10: 00272523 | BS10: 0,01
E11: Město Broumov,Třída Masarykova 239,550 01 Broumov | AK11: DIČ: | AN11: CZ00272523 | BS11: 0,01
BS12: 0,01
D13: Uchazeč: | AK13: IČ: | AN13: Vyplň údaj | BS13: 0,01
E14: Vyplň údaj | AK14: DIČ: | AN14: Vyplň údaj | BS14: 0,01
BS15: False
D16: Projektant: | AK16: IČ: | AN16: 04803302 | BS16: False
E17: Ing. Adam Beneš,Žďárky 224, 549 37 Žďárky | AK17: DIČ: | AN17: CZ8802063600 | BS17: True
BS18: 0,01
D19: Zpracovatel: | AK19: IČ: | AN19: 05733171 | BS19: 0,01
E20: TMI Building s.r.o. | AK20: DIČ: | AN20: CZ05733171 | BS20: True
D22: Poznámka:
D26: Cena bez DPH | AK26: =ROUND(AG94,2) -> 0
L28: Sazba daně | W28: Základ daně | AK28: Výše daně
D29: DPH | F29: základní | L29: 0.21 | W29: =ROUND(AZ94, 2) -> 0 | AK29: =ROUND(AV94, 2) -> 0
F30: snížená | L30: 0.15 | W30: =ROUND(BA94, 2) -> 0 | AK30: =ROUND(AW94, 2) -> 0
F31: zákl. přenesená | L31: 0.21 | W31: =ROUND(BB94, 2) -> 0 | AK31: 0
F32: sníž. přenesená | L32: 0.15 | W32: =ROUND(BC94, 2) -> 0 | AK32: 0
F33: nulová | L33: 0 | W33: =ROUND(BD94, 2) -> 0 | AK33: 0
D35: Cena s DPH | T35: v | X35: CZK | AK35: =SUM(AK26:AK33) -> 0
D49: Projektant | AH49: Zpracovatel
D60: Datum a podpis: | V60: Razítko | AH60: Datum a podpis: | AM60: Razítko
D64: Objednavatel | AH64: Uchazeč
D75: Datum a podpis: | V75: Razítko | AH75: Datum a podpis: | AM75: Razítko
C82: REKAPITULACE OBJEKTŮ STAVBY A SOUPISŮ PRACÍ
C84: Kód: | L84: =K5 -> 1
C85: Stavba: | L85: =K6 -> Zástavba lokality Broumov - Spořilov, komunikace a VO_nerozdělené - 2023 - aktuál
C87: Místo: | L87: =IF(K8="","",K8) -> ul. Bratří Čapků, Pionýrská | AI87: Datum: | AM87: =IF(AN8= "","",AN8) -> 1. 3. 2023
C89: Zadavatel: | L89: =IF(E11= "","",E11) -> Město Broumov,Třída Masarykova 239,550 01 Broumov | AI89: Projektant: | AM89: =IF(E17="","",E17) -> Ing. Adam Beneš,Žďárky 224, 549 37 Žďárky | AS89: Informatívní údaje z listů zakázek
C90: Uchazeč: | L90: =IF(E14= "Vyplň údaj","",E14) | AI90: Zpracovatel: | AM90: =IF(E20="","",E20) -> TMI Building s.r.o.
C92: Kód | I92: Popis | AG92: Cena bez DPH [CZK] | AN92: Cena s DPH [CZK] | AQ92: Typ | AS92: z toho Ostat._x000D_ náklady [CZK] | AT92: DPH [CZK] | AU92: Normohodiny [h] | AV92: DPH základní [CZK] | AW92: DPH snížená [CZK] | AX92: DPH základní přenesená_x000D_ [CZK] | AY92: DPH snížená přenesená_x000D_ [CZK] | AZ92: Základna_x000D_ DPH základní | BA92: Základna_x000D_ DPH snížená | BB92: Základna_x000D_ DPH zákl. přenesená | BC92: Základna_x000D_ DPH sníž. přenesená | BD92: Základna_x000D_ DPH nulová
C94: Náklady z rozpočtů | AG94: =ROUND(SUM(AG95:AG97),2) -> 0 | AN94: =SUM(AG94,AT94) -> 0 | AS94: =ROUND(SUM(AS95:AS97),2) -> 0 | AT94: =ROUND(SUM(AV94:AW94),2) -> 0 | AU94: =ROUND(SUM(AU95:AU97),5) -> 0 | AV94: =ROUND(AZ94*L29,2) -> 0 | AW94: =ROUND(BA94*L30,2) -> 0 | AX94: =ROUND(BB94*L29,2) -> 0 | AY94: =ROUND(BC94*L30,2) -> 0 | AZ94: =ROUND(SUM(AZ95:AZ97),2) -> 0 | BA94: =ROUND(SUM(BA95:BA97),2) -> 0 | BB94: =ROUND(SUM(BB95:BB97),2) -> 0 | BC94: =ROUND(SUM(BC95:BC97),2) -> 0 | BD94: =ROUND(SUM(BD95:BD97),2) -> 0 | BS94: D | BT94: 0 | BU94: ###NOIMPORT### | BV94: IMPORT | BW94: {80e0ebd2-b7cc-4c5a-97cf-fe420e797be7} | BX94: {00000000-0000-0000-0000-000000000000}
A95: / | D95: SO 102 | J95: Komunikace Osa B - ul. Pionýrská | AG95: ='SO 102 - Komunikace Osa B...'!J30 -> 0 | AN95: =SUM(AG95,AT95) -> 0 | AQ95: STA | AS95: 0 | AT95: =ROUND(SUM(AV95:AW95),2) -> 0 | AU95: ='SO 102 - Komunikace Osa B...'!P123 -> 0 | AV95: ='SO 102 - Komunikace Osa B...'!J33 -> 0 | AW95: ='SO 102 - Komunikace Osa B...'!J34 -> 0 | AX95: ='SO 102 - Komunikace Osa B...'!J35 -> 0 | AY95: ='SO 102 - Komunikace Osa B...'!J36 -> 0 | AZ95: ='SO 102 - Komunikace Osa B...'!F33 -> 0 | BA95: ='SO 102 - Komunikace Osa B...'!F34 -> 0 | BB95: ='SO 102 - Komunikace Osa B...'!F35 -> 0 | BC95: ='SO 102 - Komunikace Osa B...'!F36 -> 0 | BD95: ='SO 102 - Komunikace Osa B...'!F37 -> 0 | BT95: 1 | BV95: IMPORT | BW95: {92f18f81-f2d8-432b-8b4c-1ec4110e77f7} | BX95: {80e0ebd2-b7cc-4c5a-97cf-fe420e797be7} | CM95: 2
A96: / | D96: VRN | J96: Vedlejší rozpočtové náklady | AG96: ='VRN - Vedlejší rozpočtové...'!J30 -> 0 | AN96: =SUM(AG96,AT96) -> 0 | AQ96: STA | AS96: 0 | AT96: =ROUND(SUM(AV96:AW96),2) -> 0 | AU96: ='VRN - Vedlejší rozpočtové...'!P120 -> 0 | AV96: ='VRN - Vedlejší rozpočtové...'!J33 -> 0 | AW96: ='VRN - Vedlejší rozpočtové...'!J34 -> 0 | AX96: ='VRN - Vedlejší rozpočtové...'!J35 -> 0 | AY96: ='VRN - Vedlejší rozpočtové...'!J36 -> 0 | AZ96: ='VRN - Vedlejší rozpočtové...'!F33 -> 0 | BA96: ='VRN - Vedlejší rozpočtové...'!F34 -> 0 | BB96: ='VRN - Vedlejší rozpočtové...'!F35 -> 0 | BC96: ='VRN - Vedlejší rozpočtové...'!F36 -> 0 | BD96: ='VRN - Vedlejší rozpočtové...'!F37 -> 0 | BT96: 1 | BV96: IMPORT | BW96: {9e958cfc-5891-48ab-a45b-200fa8352c49} | BX96: {80e0ebd2-b7cc-4c5a-97cf-fe420e797be7} | CM96: 2
A97: / | D97: ON | J97: Ostatní náklady | AG97: ='ON - Ostatní náklady'!J30 -> 0 | AN97: =SUM(AG97,AT97) -> 0 | AQ97: STA | AS97: 0 | AT97: =ROUND(SUM(AV97:AW97),2) -> 0 | AU97: ='ON - Ostatní náklady'!P119 -> 0 | AV97: ='ON - Ostatní náklady'!J33 -> 0 | AW97: ='ON - Ostatní náklady'!J34 -> 0 | AX97: ='ON - Ostatní náklady'!J35 -> 0 | AY97: ='ON - Ostatní náklady'!J36 -> 0 | AZ97: ='ON - Ostatní náklady'!F33 -> 0 | BA97: ='ON - Ostatní náklady'!F34 -> 0 | BB97: ='ON - Ostatní náklady'!F35 -> 0 | BC97: ='ON - Ostatní náklady'!F36 -> 0 | BD97: ='ON - Ostatní náklady'!F37 -> 0 | BT97: 1 | BV97: IMPORT | BW97: {a54b38e7-d884-40fc-804c-62135f128ff0} | BX97: {80e0ebd2-b7cc-4c5a-97cf-fe420e797be7} | CM97: 2

Sheet SO 102 - Komunikace Osa B...
L2: >> skryté sloupce << | AT2: {92f18f81-f2d8-432b-8b4c-1ec4110e77f7} | AZ2: Betonová_přídlažba | BA2: Betonová přídlažba | BB2: m2 | BC2: 86,25 | BD2: 2
AT3: 2 | AZ3: Bourání_vozovka | BA3: Bourání vozovka | BB3: m2 | BC3: 728 | BD3: 2
D4: KRYCÍ LIST SOUPISU PRACÍ | M4: v --- níže se nacházejí doplnkové a pomocné údaje k sestavám --- v | AT4: False | AZ4: Obrubník_chodníkový | BA4: Obrubník chodníkový | BB4: m | BC4: 12 | BD4: 2
AZ5: Obrubník_silniční | BA5: Obrubník silniční | BB5: m | BC5: 482 | BD5: 2
D6: Stavba: | AZ6: Reliéfní_dlažba_60 | BA6: Reliéfní dlažba tl. 60mm | BB6: m2 | BC6: 16 | BD6: 2
E7: ='Rekapitulace stavby'!K6 -> Zástavba lokality Broumov - Spořilov, komunikace a VO_nerozdělené - 2023 - aktuál | AZ7: Řezání | BA7: Řezání živice | BB7: m | BC7: 13 | BD7: 2
D8: Objekt: | AZ8: Suť_beton | BA8: Suť beton | BB8: t | BC8: 0 | BD8: 2
E9: SO 102 - Komunikace Osa B - ul. Pionýrská | AZ9: Suť_celkem | BA9: Suť celkem | BB9: t | BC9: 204,859 | BD9: 2
AZ10: Suť_kamenivo | BA10: Suť kamenivo | BB10: t | BC10: 21,112 | BD10: 2
D11: KSO: | I11: CC-CZ: | AZ11: Suť_kusová | BA11: Suť kusová | BB11: t | BC11: 44,573 | BD11: 2
D12: Místo: | F12: ul. Bratří Čapků, Pionýrská | I12: Datum: | J12: ='Rekapitulace stavby'!AN8 -> 1. 3. 2023 | AZ12: Suť_živice | BA12: Suť živice | BB12: t | BC12: 183,747 | BD12: 2
AZ13: Vozovka_asfalt | BA13: Vozovka asfalt | BB13: m2 | BC13: 856 | BD13: 2
D14: Zadavatel: | I14: IČ: | J14: 00272523
E15: Město Broumov,Třída Masarykova 239,550 01 Broumov | I15: DIČ: | J15: CZ00272523
D17: Uchazeč: | I17: IČ: | J17: ='Rekapitulace stavby'!AN13 -> Vyplň údaj
E18: ='Rekapitulace stavby'!E14 -> Vyplň údaj | I18: DIČ: | J18: ='Rekapitulace stavby'!AN14 -> Vyplň údaj
D20: Projektant: | I20: IČ: | J20: 04803302
E21: Ing. Adam Beneš,Žďárky 224, 549 37 Žďárky | I21: DIČ: | J21: CZ8802063600
D23: Zpracovatel: | I23: IČ: | J23: 05733171
E24: TMI Building s.r.o. | I24: DIČ: | J24: CZ05733171
D26: Poznámka:
D30: Cena bez DPH | J30: =ROUND(J123, 2) -> 0
F32: Základ daně | I32: Sazba daně | J32: Výše daně
D33: DPH | E33: základní | F33: =ROUND((SUM(BE123:BE397)), 2) -> 0 | I33: 0.21 | J33: =ROUND(((SUM(BE123:BE397))*I33), 2) -> 0
E34: snížená | F34: =ROUND((SUM(BF123:BF397)), 2) -> 0 | I34: 0.15 | J34: =ROUND(((SUM(BF123:BF397))*I34), 2) -> 0
E35: zákl. přenesená | F35: =ROUND((SUM(BG123:BG397)), 2) -> 0 | I35: 0.21 | J35: =0 -> 0
E36: sníž. přenesená | F36: =ROUND((SUM(BH123:BH397)), 2) -> 0 | I36: 0.15 | J36: =0 -> 0
E37: nulová | F37: =ROUND((SUM(BI123:BI397)), 2) -> 0 | I37: 0 | J37: =0 -> 0
D39: Cena s DPH | G39: v | H39: CZK | J39: =SUM(J30:J37) -> 0
D50: Projektant | G50: Zpracovatel
D61: Datum a podpis: | F61: Razítko | G61: Datum a podpis: | J61: Razítko
D65: Objednavatel | G65: Uchazeč
D76: Datum a podpis: | F76: Razítko | G76: Datum a podpis: | J76: Razítko
C82: REKAPITULACE ČLENĚNÍ SOUPISU PRACÍ
C84: Stavba:
E85: =E7 -> Zástavba lokality Broumov - Spořilov, komunikace a VO_nerozdělené - 2023 - aktuál
C86: Objekt:
E87: =E9 -> SO 102 - Komunikace Osa B - ul. Pionýrská
C89: Místo: | F89: =F12 -> ul. Bratří Čapků, Pionýrská | I89: Datum: | J89: =IF(J12="","",J12) -> 1. 3. 2023
C91: Zadavatel: | F91: =E15 -> Město Broumov,Třída Masarykova 239,550 01 Broumov | I91: Projektant: | J91: =E21 -> Ing. Adam Beneš,Žďárky 224, 549 37 Žďárky
C92: Uchazeč: | F92: =IF(E18="","",E18) -> Vyplň údaj | I92: Zpracovatel: | J92: =E24 -> TMI Building s.r.o.
C94: Kód dílu - Popis | J94: Cena celkem [CZK]
C96: Náklady ze soupisu prací | J96: =J123 -> 0 | AU96: -1
D97: HSV - Práce a dodávky HSV | J97: =J124 -> 0
D98: 1 - Zemní práce | J98: =J125 -> 0
D99: 5 - Komunikace pozemní | J99: =J183 -> 0
D100: 8 - Trubní vedení | J100: =J238 -> 0
D101: 9 - Ostatní konstrukce a práce, bourání | J101: =J253 -> 0
D102: 997 - Přesun sutě | J102: =J350 -> 0
D103: 998 - Přesun hmot | J103: =J393 -> 0
C110: SOUPIS PRACÍ
C112: Stavba:
E113: =E7 -> Zástavba lokality Broumov - Spořilov, komunikace a VO_nerozdělené - 2023 - aktuál
C114: Objekt:
E115: =E9 -> SO 102 - Komunikace Osa B - ul. Pionýrská
C117: Místo: | F117: =F12 -> ul. Bratří Čapků, Pionýrská | I117: Datum: | J117: =IF(J12="","",J12) -> 1. 3. 2023
C119: Zadavatel: | F119: =E15 -> Město Broumov,Třída Masarykova 239,550 01 Broumov | I119: Projektant: | J119: =E21 -> Ing. Adam Beneš,Žďárky 224, 549 37 Žďárky
C120: Uchazeč: | F120: =IF(E18="","",E18) -> Vyplň údaj | I120: Zpracovatel: | J120: =E24 -> TMI Building s.r.o.
C122: PČ | D122: Typ | E122: Kód | F122: Popis | G122: MJ | H122: Množství | I122: J.cena [CZK] | J122: Cena celkem [CZK] | K122: Cenová soustava | N122: DPH | O122: J. Nh [h] | P122: Nh celkem [h] | Q122: J. hmotnost [t] | R122: Hmotnost celkem [t] | S122: J. suť [t] | T122: Suť Celkem [t]
C123: Náklady soupisu celkem | J123: =BK123 -> 0 | P123: =P124 -> 0 | R123: =R124 -> 242.94098 | T123: =T124 -> 232.5685 | AT123: D | AU123: -1 | BK123: =BK124 -> 0
D124: D | E124: HSV | F124: Práce a dodávky HSV | J124: =BK124 -> 0 | P124: =P125+P183+P238+P253+P350+P393 -> 0 | R124: =R125+R183+R238+R253+R350+R393 -> 242.94098 | T124: =T125+T183+T238+T253+T350+T393 -> 232.5685 | AR124: 1 | AT124: D | AU124: 0 | AY124: ROZPOCET | BK124: =BK125+BK183+BK238+BK253+BK350+BK393 -> 0
D125: D | E125: 1 | F125: Zemní práce | J125: =BK125 -> 0 | P125: =SUM(P126:P182) -> 0 | R125: =SUM(R126:R182) -> 0.108897 | T125: =SUM(T126:T182) -> 232.3965 | AR125: 1 | AT125: D | AU125: 1 | AY125: ROZPOCET | BK125: =SUM(BK126:BK182) -> 0
C126: 1 | D126: K | E126: 113106121 | F126: Rozebrání dlažeb z betonových nebo kamenných dlaždic komunikací pro pěší ručně | G126: m2 | H126: 31.5 | J126: =ROUND(I126*H126,2) -> 0 | K126: CS ÚRS 2023 01 | N126: základní | P126: =O126*H126 -> 0 | Q126: 0 | R126: =Q126*H126 -> 0 | S126: 0.255 | T126: =S126*H126 -> 8.0325 | AR126: 4 | AT126: K | AU126: 2 | AY126: ROZPOCET | BE126: =IF(N126="základní",J126,0) -> 0 | BF126: =IF(N126="snížená",J126,0) -> 0 | BG126: =IF(N126="zákl. přenesená",J126,0) -> 0 | BH126: =IF(N126="sníž. přenesená",J126,0) -> 0 | BI126: =IF(N126="nulová",J126,0) -> 0 | BJ126: 1 | BK126: =ROUND(I126*H126,2) -> 0 | BL126: 4 | BM126: 1834921886
D127: PP | F127: Rozebrání dlažeb komunikací pro pěší s přemístěním hmot na skládku na vzdálenost do 3 m nebo s naložením na dopravní prostředek s ložem z kameniva nebo živice a s jakoukoliv výplní spár ručně z betonových nebo kameninových dlaždic, desek nebo tvarovek | AT127: PP | AU127: 2
D128: VV | F128: "Rozebrání betonové přídlažby - odměřeno ze situace" 126,000*0,250 | H128: 31.5 | AT128: VV | AU128: 2 | AV128: 2 | AW128: True | AX128: 0 | AY128: ROZPOCET
D129: VV | F129: Součet | H129: 31.5 | AT129: VV | AU129: 2 | AV129: 4 | AW129: True | AX129: 1 | AY129: ROZPOCET
C130: 2 | D130: K | E130: 113107142 | F130: Odstranění podkladu živičného tl 100 mm ručně | G130: m2 | H130: 72.8 | J130: =ROUND(I130*H130,2) -> 0 | K130: CS ÚRS 2023 01 | N130: základní | P130: =O130*H130 -> 0 | Q130: 0 | R130: =Q130*H130 -> 0 | S130: 0.22 | T130: =S130*H130 -> 16.016 | AR130: 4 | AT130: K | AU130: 2 | AY130: ROZPOCET | BE130: =IF(N130="základní",J130,0) -> 0 | BF130: =IF(N130="snížená",J130,0) -> 0 | BG130: =IF(N130="zákl. přenesená",J130,0) -> 0 | BH130: =IF(N130="sníž. přenesená",J130,0) -> 0 | BI130: =IF(N130="nulová",J130,0) -> 0 | BJ130: 1 | BK130: =ROUND(I130*H130,2) -> 0 | BL130: 4 | BM130: 1981617837
D131: PP | F131: Odstranění podkladů nebo krytů ručně s přemístěním hmot na skládku na vzdálenost do 3 m nebo s naložením na dopravní prostředek živičných, o tl. vrstvy přes 50 do 100 mm | AT131: PP | AU131: 2
D132: VV | F132: "Předpoklad ručního bourání - 10%" Bourání_vozovka*0,10 | H132: 72.8 | AT132: VV | AU132: 2 | AV132: 2 | AW132: True | AX132: 0 | AY132: ROZPOCET
D133: VV | F133: Součet | H133: 72.8 | AT133: VV | AU133: 2 | AV133: 4 | AW133: True | AX133: 1 | AY133: ROZPOCET
C134: 3 | D134: K | E134: 113107162 | F134: Odstranění podkladu z kameniva drceného tl 200 mm strojně pl přes 50 do 200 m2 | G134: m2 | H134: 72.8 | J134: =ROUND(I134*H134,2) -> 0 | K134: CS ÚRS 2023 01 | N134: základní | P134: =O134*H134 -> 0 | Q134: 0 | R134: =Q134*H134 -> 0 | S134: 0.29 | T134: =S134*H134 -> 21.112 | AR134: 4 | AT134: K | AU134: 2 | AY134: ROZPOCET | BE134: =IF(N134="základní",J134,0) -> 0 | BF134: =IF(N134="snížená",J134,0) -> 0 | BG134: =IF(N134="zákl. přenesená",J134,0) -> 0 | BH134: =IF(N134="sníž. přenesená",J134,0) -> 0 | BI134: =IF(N134="nulová",J134,0) -> 0 | BJ134: 1 | BK134: =ROUND(I134*H134,2) -> 0 | BL134: 4 | BM134: 1920590914
D135: PP | F135: Odstranění podkladů nebo krytů strojně plochy jednotlivě přes 50 m2 do 200 m2 s přemístěním hmot na skládku na vzdálenost do 20 m nebo s naložením na dopravní prostředek z kameniva hrubého drceného, o tl. vrstvy přes 100 do 200 mm | AT135: PP | AU135: 2
D136: VV | F136: "Předpoklad sanace podkladních vrstev v tl. 200mm - 10% z celkové polochy bourání vozovky" Bourání_vozovka*0,100 | H136: 72.8 | AT136: VV | AU136: 2 | AV136: 2 | AW136: True | AX136: 0 | AY136: ROZPOCET
D137: VV | F137: Součet | H137: 72.8 | AT137: VV | AU137: 2 | AV137: 4 | AW137: True | AX137: 1 | AY137: ROZPOCET
C138: 4 | D138: K | E138: 113154264 | F138: Frézování živičného krytu tl 100 mm pruh š 2 m pl do 1000 m2 s překážkami v trase | G138: m2 | H138: 655.2 | J138: =ROUND(I138*H138,2) -> 0 | K138: CS ÚRS 2023 01 | N138: základní | P138: =O138*H138 -> 0 | Q138: 0.00016 | R138: =Q138*H138 -> 0.104832 | S138: 0.23 | T138: =S138*H138 -> 150.696 | AR138: 4 | AT138: K | AU138: 2 | AY138: ROZPOCET | BE138: =IF(N138="základní",J138,0) -> 0 | BF138: =IF(N138="snížená",J138,0) -> 0 | BG138: =IF(N138="zákl. přenesená",J138,0) -> 0 | BH138: =IF(N138="sníž. přenesená",J138,0) -> 0 | BI138: =IF(N138="nulová",J138,0) -> 0 | BJ138: 1 | BK138: =ROUND(I138*H138,2) -> 0 | BL138: 4 | BM138: -453839194
D139: PP | F139: Frézování živičného podkladu nebo krytu s naložením na dopravní prostředek plochy přes 500 do 1 000 m2 s překážkami v trase pruhu šířky přes 1 m do 2 m, tloušťky vrstvy 100 mm | AT139: PP | AU139: 2
D140: VV | F140: "Bourání stávající vozovky - odměřeno ze situace" 728,000 | H140: 728 | AT140: VV | AU140: 2 | AV140: 2 | AW140: True | AX140: 0 | AY140: ROZPOCET
D141: VV | E141: Bourání_vozovka | F141: Součet | H141: 728 | AT141: VV | AU141: 2 | AV141: 4 | AW141: True | AX141: 0 | AY141: ROZPOCET
D142: VV | F142: "Předpoklad strojního bourání - 90%" Bourání_vozovka*0,90 | H142: 655.2 | AT142: VV | AU142: 2 | AV142: 2 | AW142: True | AX142: 0 | AY142: ROZPOCET
D143: VV | F143: Součet | H143: 655.2 | AT143: VV | AU143: 2 | AV143: 4 | AW143: True | AX143: 1 | AY143: ROZPOCET
C144: 5 | D144: K | E144: 113201112 | F144: Vytrhání obrub silničních ležatých | G144: m | H144: 126 | J144: =ROUND(I144*H144,2) -> 0 | K144: CS ÚRS 2023 01 | N144: základní | P144: =O144*H144 -> 0 | Q144: 0 | R144: =Q144*H144 -> 0 | S144: 0.29 | T144: =S144*H144 -> 36.54 | AR144: 4 | AT144: K | AU144: 2 | AY144: ROZPOCET | BE144: =IF(N144="základní",J144,0) -> 0 | BF144: =IF(N144="snížená",J144,0) -> 0 | BG144: =IF(N144="zákl. přenesená",J144,0) -> 0 | BH144: =IF(N144="sníž. přenesená",J144,0) -> 0 | BI144: =IF(N144="nulová",J144,0) -> 0 | BJ144: 1 | BK144: =ROUND(I144*H144,2) -> 0 | BL144: 4 | BM144: 1515113885
D145: PP | F145: Vytrhání obrub s vybouráním lože, s přemístěním hmot na skládku na vzdálenost do 3 m nebo s naložením na dopravní prostředek silničních ležatých | AT145: PP | AU145: 2
D146: VV | F146: "Vytrhání silničních obrub - odměřeno ze situace" 126,000 | H146: 126 | AT146: VV | AU146: 2 | AV146: 2 | AW146: True | AX146: 0 | AY146: ROZPOCET
D147: VV | F147: Součet | H147: 126 | AT147: VV | AU147: 2 | AV147: 4 | AW147: True | AX147: 1 | AY147: ROZPOCET
C148: 6 | D148: K | E148: 181351116 | F148: Rozprostření ornice tl vrstvy přes 300 do 400 mm pl přes 500 m2 v rovině nebo ve svahu do 1:5 strojně | G148: m2 | H148: 271 | J148: =ROUND(I148*H148,2) -> 0 | K148: CS ÚRS 2023 01 | N148: základní | P148: =O148*H148 -> 0 | Q148: 0 | R148: =Q148*H148 -> 0 | S148: 0 | T148: =S148*H148 -> 0 | AR148: 4 | AT148: K | AU148: 2 | AY148: ROZPOCET | BE148: =IF(N148="základní",J148,0) -> 0 | BF148: =IF(N148="snížená",J148,0) -> 0 | BG148: =IF(N148="zákl. přenesená",J148,0) -> 0 | BH148: =IF(N148="sníž. přenesená",J148,0) -> 0 | BI148: =IF(N148="nulová",J148,0) -> 0 | BJ148: 1 | BK148: =ROUND(I148*H148,2) -> 0 | BL148: 4 | BM148: -2017996551
D149: PP | F149: Rozprostření a urovnání ornice v rovině nebo ve svahu sklonu do 1:5 strojně při souvislé ploše přes 500 m2, tl. vrstvy přes 300 do 400 mm | AT149: PP | AU149: 2
D150: VV | F150: "Zeleň" 271,000 | H150: 271 | AT150: VV | AU150: 2 | AV150: 2 | AW150: True | AX150: 0 | AY150: ROZPOCET
D151: VV | F151: Součet | H151: 271 | AT151: VV | AU151: 2 | AV151: 4 | AW151: True | AX151: 1 | AY151: ROZPOCET
C152: 7 | D152: K | E152: 181411132 | F152: Založení parkového trávníku výsevem plochy do 1000 m2 ve svahu do 1:2 | G152: m2 | H152: 271 | J152: =ROUND(I152*H152,2) -> 0 | K152: CS ÚRS 2023 01 | N152: základní | P152: =O152*H152 -> 0 | Q152: 0 | R152: =Q152*H152 -> 0 | S152: 0 | T152: =S152*H152 -> 0 | AR152: 4 | AT152: K | AU152: 2 | AY152: ROZPOCET | BE152: =IF(N152="základní",J152,0) -> 0 | BF152: =IF(N152="snížená",J152,0) -> 0 | BG152: =IF(N152="zákl. přenesená",J152,0) -> 0 | BH152: =IF(N152="sníž. přenesená",J152,0) -> 0 | BI152: =IF(N152="nulová",J152,0) -> 0 | BJ152: 1 | BK152: =ROUND(I152*H152,2) -> 0 | BL152: 4 | BM152: -252038207
D153: PP | F153: Založení trávníku na půdě předem připravené plochy do 1000 m2 výsevem včetně utažení parkového na svahu přes 1:5 do 1:2 | AT153: PP | AU153: 2
D154: VV | F154: "Zeleň" 271,000 | H154: 271 | AT154: VV | AU154: 2 | AV154: 2 | AW154: True | AX154: 0 | AY154: ROZPOCET
D155: VV | F155: Součet | H155: 271 | AT155: VV | AU155: 2 | AV155: 4 | AW155: True | AX155: 1 | AY155: ROZPOCET
C156: 8 | D156: M | E156: 00572410 | F156: osivo směs travní parková | G156: kg | H156: 4.065 | J156: =ROUND(I156*H156,2) -> 0 | K156: CS ÚRS 2023 01 | N156: základní | P156: =O156*H156 -> 0 | Q156: 0.001 | R156: =Q156*H156 -> 0.004065 | S156: 0 | T156: =S156*H156 -> 0 | AR156: 8 | AT156: M | AU156: 2 | AY156: ROZPOCET | BE156: =IF(N156="základní",J156,0) -> 0 | BF156: =IF(N156="snížená",J156,0) -> 0 | BG156: =IF(N156="zákl. přenesená",J156,0) -> 0 | BH156: =IF(N156="sníž. přenesená",J156,0) -> 0 | BI156: =IF(N156="nulová",J156,0) -> 0 | BJ156: 1 | BK156: =ROUND(I156*H156,2) -> 0 | BL156: 4 | BM156: 1580978281
D157: PP | F157: osivo směs travní parková | AT157: PP | AU157: 2
D158: VV | F158: 271,000*0,015 | H158: 4.065 | AT158: VV | AU158: 2 | AV158: 2 | AW158: True | AX158: 0 | AY158: ROZPOCET
D159: VV | F159: Součet | H159: 4.065 | AT159: VV | AU159: 2 | AV159: 4 | AW159: True | AX159: 1 | AY159: ROZPOCET
C160: 9 | D160: K | E160: 181951111 | F160: Úprava pláně v hornině třídy těžitelnosti I skupiny 1 až 3 bez zhutnění strojně | G160: m2 | H160: 271 | J160: =ROUND(I160*H160,2) -> 0 | K160: CS ÚRS 2023 01 | N160: základní | P160: =O160*H160 -> 0 | Q160: 0 | R160: =Q160*H160 -> 0 | S160: 0 | T160: =S160*H160 -> 0 | AR160: 4 | AT160: K | AU160: 2 | AY160: ROZPOCET | BE160: =IF(N160="základní",J160,0) -> 0 | BF160: =IF(N160="snížená",J160,0) -> 0 | BG160: =IF(N160="zákl. přenesená",J160,0) -> 0 | BH160: =IF(N160="sníž. přenesená",J160,0) -> 0 | BI160: =IF(N160="nulová",J160,0) -> 0 | BJ160: 1 | BK160: =ROUND(I160*H160,2) -> 0 | BL160: 4 | BM160: -958363469
D161: PP | F161: Úprava pláně vyrovnáním výškových rozdílů strojně v hornině třídy těžitelnosti I, skupiny 1 až 3 bez zhutnění | AT161: PP | AU161: 2
D162: VV | F162: "Zeleň" 271,000 | H162: 271 | AT162: VV | AU162: 2 | AV162: 2 | AW162: True | AX162: 0 | AY162: ROZPOCET
D163: VV | F163: Součet | H163: 271 | AT163: VV | AU163: 2 | AV163: 4 | AW163: True | AX163: 1 | AY163: ROZPOCET
...

Sheet VRN - Vedlejší rozpočtové...
L2: >> skryté sloupce << | AT2: {9e958cfc-5891-48ab-a45b-200fa8352c49}
AT3: 2
D4: KRYCÍ LIST SOUPISU PRACÍ | M4: v --- níže se nacházejí doplnkové a pomocné údaje k sestavám --- v | AT4: False
D6: Stavba:
E7: ='Rekapitulace stavby'!K6 -> Zástavba lokality Broumov - Spořilov, komunikace a VO_nerozdělené - 2023 - aktuál
D8: Objekt:
E9: VRN - Vedlejší rozpočtové náklady
D11: KSO: | I11: CC-CZ:
D12: Místo: | F12: ul. Bratří Čapků, Pionýrská | I12: Datum: | J12: ='Rekapitulace stavby'!AN8 -> 1. 3. 2023
D14: Zadavatel: | I14: IČ: | J14: 00272523
E15: Město Broumov,Třída Masarykova 239,550 01 Broumov | I15: DIČ: | J15: CZ00272523
D17: Uchazeč: | I17: IČ: | J17: ='Rekapitulace stavby'!AN13 -> Vyplň údaj
E18: ='Rekapitulace stavby'!E14 -> Vyplň údaj | I18: DIČ: | J18: ='Rekapitulace stavby'!AN14 -> Vyplň údaj
D20: Projektant: | I20: IČ: | J20: 04803302
E21: Ing. Adam Beneš,Žďárky 224, 549 37 Žďárky | I21: DIČ: | J21: CZ8802063600
D23: Zpracovatel: | I23: IČ: | J23: 05733171
E24: TMI Building s.r.o. | I24: DIČ: | J24: CZ05733171
D26: Poznámka:
D30: Cena bez DPH | J30: =ROUND(J120, 2) -> 0
F32: Základ daně | I32: Sazba daně | J32: Výše daně
D33: DPH | E33: základní | F33: =ROUND((SUM(BE120:BE130)), 2) -> 0 | I33: 0.21 | J33: =ROUND(((SUM(BE120:BE130))*I33), 2) -> 0
E34: snížená | F34: =ROUND((SUM(BF120:BF130)), 2) -> 0 | I34: 0.15 | J34: =ROUND(((SUM(BF120:BF130))*I34), 2) -> 0
E35: zákl. přenesená | F35: =ROUND((SUM(BG120:BG130)), 2) -> 0 | I35: 0.21 | J35: =0 -> 0
E36: sníž. přenesená | F36: =ROUND((SUM(BH120:BH130)), 2) -> 0 | I36: 0.15 | J36: =0 -> 0
E37: nulová | F37: =ROUND((SUM(BI120:BI130)), 2) -> 0 | I37: 0 | J37: =0 -> 0
D39: Cena s DPH | G39: v | H39: CZK | J39: =SUM(J30:J37) -> 0
D50: Projektant | G50: Zpracovatel
D61: Datum a podpis: | F61: Razítko | G61: Datum a podpis: | J61: Razítko
D65: Objednavatel | G65: Uchazeč
D76: Datum a podpis: | F76: Razítko | G76: Datum a podpis: | J76: Razítko
C82: REKAPITULACE ČLENĚNÍ SOUPISU PRACÍ
C84: Stavba:
E85: =E7 -> Zástavba lokality Broumov - Spořilov, komunikace a VO_nerozdělené - 2023 - aktuál
C86: Objekt:
E87: =E9 -> VRN - Vedlejší rozpočtové náklady
C89: Místo: | F89: =F12 -> ul. Bratří Čapků, Pionýrská | I89: Datum: | J89: =IF(J12="","",J12) -> 1. 3. 2023
C91: Zadavatel: | F91: =E15 -> Město Broumov,Třída Masarykova 239,550 01 Broumov | I91: Projektant: | J91: =E21 -> Ing. Adam Beneš,Žďárky 224, 549 37 Žďárky
C92: Uchazeč: | F92: =IF(E18="","",E18) -> Vyplň údaj | I92: Zpracovatel: | J92: =E24 -> TMI Building s.r.o.
C94: Kód dílu - Popis | J94: Cena celkem [CZK]
C96: Náklady ze soupisu prací | J96: =J120 -> 0 | AU96: -1
D97: VRN - Vedlejší rozpočtové náklady | J97: =J121 -> 0
D98: VRN3 - Zařízení staveniště | J98: =J122 -> 0
D99: VRN6 - Územní vlivy | J99: =J125 -> 0
D100: VRN7 - Provozní vlivy | J100: =J128 -> 0
C107: SOUPIS PRACÍ
C109: Stavba:
E110: =E7 -> Zástavba lokality Broumov - Spořilov, komunikace a VO_nerozdělené - 2023 - aktuál
C111: Objekt:
E112: =E9 -> VRN - Vedlejší rozpočtové náklady
C114: Místo: | F114: =F12 -> ul. Bratří Čapků, Pionýrská | I114: Datum: | J114: =IF(J12="","",J12) -> 1. 3. 2023
C116: Zadavatel: | F116: =E15 -> Město Broumov,Třída Masarykova 239,550 01 Broumov | I116: Projektant: | J116: =E21 -> Ing. Adam Beneš,Žďárky 224, 549 37 Žďárky
C117: Uchazeč: | F117: =IF(E18="","",E18) -> Vyplň údaj | I117: Zpracovatel: | J117: =E24 -> TMI Building s.r.o.
C119: PČ | D119: Typ | E119: Kód | F119: Popis | G119: MJ | H119: Množství | I119: J.cena [CZK] | J119: Cena celkem [CZK] | K119: Cenová soustava | N119: DPH | O119: J. Nh [h] | P119: Nh celkem [h] | Q119: J. hmotnost [t] | R119: Hmotnost celkem [t] | S119: J. suť [t] | T119: Suť Celkem [t]
C120: Náklady soupisu celkem | J120: =BK120 -> 0 | P120: =P121 -> 0 | R120: =R121 -> 0 | T120: =T121 -> 0 | AT120: D | AU120: -1 | BK120: =BK121 -> 0
D121: D | E121: VRN | F121: Vedlejší rozpočtové náklady | J121: =BK121 -> 0 | P121: =P122+P125+P128 -> 0 | R121: =R122+R125+R128 -> 0 | T121: =T122+T125+T128 -> 0 | AR121: 5 | AT121: D | AU121: 0 | AY121: ROZPOCET | BK121: =BK122+BK125+BK128 -> 0
D122: D | E122: VRN3 | F122: Zařízení staveniště | J122: =BK122 -> 0 | P122: =SUM(P123:P124) -> 0 | R122: =SUM(R123:R124) -> 0 | T122: =SUM(T123:T124) -> 0 | AR122: 5 | AT122: D | AU122: 1 | AY122: ROZPOCET | BK122: =SUM(BK123:BK124) -> 0
C123: 1 | D123: K | E123: 030001000 | F123: Zařízení staveniště | G123: kpl | H123: 1 | J123: =ROUND(I123*H123,2) -> 0 | K123: CS ÚRS 2023 01 | N123: základní | P123: =O123*H123 -> 0 | Q123: 0 | R123: =Q123*H123 -> 0 | S123: 0 | T123: =S123*H123 -> 0 | AR123: 1024 | AT123: K | AU123: 2 | AY123: ROZPOCET | BE123: =IF(N123="základní",J123,0) -> 0 | BF123: =IF(N123="snížená",J123,0) -> 0 | BG123: =IF(N123="zákl. přenesená",J123,0) -> 0 | BH123: =IF(N123="sníž. přenesená",J123,0) -> 0 | BI123: =IF(N123="nulová",J123,0) -> 0 | BJ123: 1 | BK123: =ROUND(I123*H123,2) -> 0 | BL123: 1024 | BM123: -1570175016
D124: PP | F124: Zařízení staveniště | AT124: PP | AU124: 2
D125: D | E125: VRN6 | F125: Územní vlivy | J125: =BK125 -> 0 | P125: =SUM(P126:P127) -> 0 | R125: =SUM(R126:R127) -> 0 | T125: =SUM(T126:T127) -> 0 | AR125: 5 | AT125: D | AU125: 1 | AY125: ROZPOCET | BK125: =SUM(BK126:BK127) -> 0
C126: 2 | D126: K | E126: 060001000 | F126: Územní vlivy | G126: kpl | H126: 1 | J126: =ROUND(I126*H126,2) -> 0 | K126: CS ÚRS 2023 01 | N126: základní | P126: =O126*H126 -> 0 | Q126: 0 | R126: =Q126*H126 -> 0 | S126: 0 | T126: =S126*H126 -> 0 | AR126: 1024 | AT126: K | AU126: 2 | AY126: ROZPOCET | BE126: =IF(N126="základní",J126,0) -> 0 | BF126: =IF(N126="snížená",J126,0) -> 0 | BG126: =IF(N126="zákl. přenesená",J126,0) -> 0 | BH126: =IF(N126="sníž. přenesená",J126,0) -> 0 | BI126: =IF(N126="nulová",J126,0) -> 0 | BJ126: 1 | BK126: =ROUND(I126*H126,2) -> 0 | BL126: 1024 | BM126: -979640999
D127: PP | F127: Územní vlivy | AT127: PP | AU127: 2
D128: D | E128: VRN7 | F128: Provozní vlivy | J128: =BK128 -> 0 | P128: =SUM(P129:P130) -> 0 | R128: =SUM(R129:R130) -> 0 | T128: =SUM(T129:T130) -> 0 | AR128: 5 | AT128: D | AU128: 1 | AY128: ROZPOCET | BK128: =SUM(BK129:BK130) -> 0
C129: 3 | D129: K | E129: 070001000 | F129: Provozní vlivy | G129: kpl | H129: 1 | J129: =ROUND(I129*H129,2) -> 0 | K129: CS ÚRS 2023 01 | N129: základní | P129: =O129*H129 -> 0 | Q129: 0 | R129: =Q129*H129 -> 0 | S129: 0 | T129: =S129*H129 -> 0 | AR129: 1024 | AT129: K | AU129: 2 | AY129: ROZPOCET | BE129: =IF(N129="základní",J129,0) -> 0 | BF129: =IF(N129="snížená",J129,0) -> 0 | BG129: =IF(N129="zákl. přenesená",J129,0) -> 0 | BH129: =IF(N129="sníž. přenesená",J129,0) -> 0 | BI129: =IF(N129="nulová",J129,0) -> 0 | BJ129: 1 | BK129: =ROUND(I129*H129,2) -> 0 | BL129: 1024 | BM129: 357720643
D130: PP | F130: Provozní vlivy | AT130: PP | AU130: 2

Sheet ON - Ostatní náklady
L2: >> skryté sloupce << | AT2: {a54b38e7-d884-40fc-804c-62135f128ff0}
AT3: 2
D4: KRYCÍ LIST SOUPISU PRACÍ | M4: v --- níže se nacházejí doplnkové a pomocné údaje k sestavám --- v | AT4: False
D6: Stavba:
E7: ='Rekapitulace stavby'!K6 -> Zástavba lokality Broumov - Spořilov, komunikace a VO_nerozdělené - 2023 - aktuál
D8: Objekt:
E9: ON - Ostatní náklady
D11: KSO: | I11: CC-CZ:
D12: Místo: | F12: ul. Bratří Čapků, Pionýrská | I12: Datum: | J12: ='Rekapitulace stavby'!AN8 -> 1. 3. 2023
D14: Zadavatel: | I14: IČ: | J14: 00272523
E15: Město Broumov,Třída Masarykova 239,550 01 Broumov | I15: DIČ: | J15: CZ00272523
D17: Uchazeč: | I17: IČ: | J17: ='Rekapitulace stavby'!AN13 -> Vyplň údaj
E18: ='Rekapitulace stavby'!E14 -> Vyplň údaj | I18: DIČ: | J18: ='Rekapitulace stavby'!AN14 -> Vyplň údaj
D20: Projektant: | I20: IČ: | J20: 04803302
E21: Ing. Adam Beneš,Žďárky 224, 549 37 Žďárky | I21: DIČ: | J21: CZ8802063600
D23: Zpracovatel: | I23: IČ: | J23: 05733171
E24: TMI Building s.r.o. | I24: DIČ: | J24: CZ05733171
D26: Poznámka:
D30: Cena bez DPH | J30: =ROUND(J119, 2) -> 0
F32: Základ daně | I32: Sazba daně | J32: Výše daně
D33: DPH | E33: základní | F33: =ROUND((SUM(BE119:BE132)), 2) -> 0 | I33: 0.21 | J33: =ROUND(((SUM(BE119:BE132))*I33), 2) -> 0
E34: snížená | F34: =ROUND((SUM(BF119:BF132)), 2) -> 0 | I34: 0.15 | J34: =ROUND(((SUM(BF119:BF132))*I34), 2) -> 0
E35: zákl. přenesená | F35: =ROUND((SUM(BG119:BG132)), 2) -> 0 | I35: 0.21 | J35: =0 -> 0
E36: sníž. přenesená | F36: =ROUND((SUM(BH119:BH132)), 2) -> 0 | I36: 0.15 | J36: =0 -> 0
E37: nulová | F37: =ROUND((SUM(BI119:BI132)), 2) -> 0 | I37: 0 | J37: =0 -> 0
D39: Cena s DPH | G39: v | H39: CZK | J39: =SUM(J30:J37) -> 0
D50: Projektant | G50: Zpracovatel
D61: Datum a podpis: | F61: Razítko | G61: Datum a podpis: | J61: Razítko
D65: Objednavatel | G65: Uchazeč
D76: Datum a podpis: | F76: Razítko | G76: Datum a podpis: | J76: Razítko
C82: REKAPITULACE ČLENĚNÍ SOUPISU PRACÍ
C84: Stavba:
E85: =E7 -> Zástavba lokality Broumov - Spořilov, komunikace a VO_nerozdělené - 2023 - aktuál
C86: Objekt:
E87: =E9 -> ON - Ostatní náklady
C89: Místo: | F89: =F12 -> ul. Bratří Čapků, Pionýrská | I89: Datum: | J89: =IF(J12="","",J12) -> 1. 3. 2023
C91: Zadavatel: | F91: =E15 -> Město Broumov,Třída Masarykova 239,550 01 Broumov | I91: Projektant: | J91: =E21 -> Ing. Adam Beneš,Žďárky 224, 549 37 Žďárky
C92: Uchazeč: | F92: =IF(E18="","",E18) -> Vyplň údaj | I92: Zpracovatel: | J92: =E24 -> TMI Building s.r.o.
C94: Kód dílu - Popis | J94: Cena celkem [CZK]
C96: Náklady ze soupisu prací | J96: =J119 -> 0 | AU96: -1
D97: VRN - Vedlejší rozpočtové náklady | J97: =J120 -> 0
D98: VRN1 - Průzkumné, geodetické a projektové práce | J98: =J121 -> 0
D99: VRN4 - Inženýrská činnost | J99: =J130 -> 0
C106: SOUPIS PRACÍ
C108: Stavba:
E109: =E7 -> Zástavba lokality Broumov - Spořilov, komunikace a VO_nerozdělené - 2023 - aktuál
C110: Objekt:
E111: =E9 -> ON - Ostatní náklady
C113: Místo: | F113: =F12 -> ul. Bratří Čapků, Pionýrská | I113: Datum: | J113: =IF(J12="","",J12) -> 1. 3. 2023
C115: Zadavatel: | F115: =E15 -> Město Broumov,Třída Masarykova 239,550 01 Broumov | I115: Projektant: | J115: =E21 -> Ing. Adam Beneš,Žďárky 224, 549 37 Žďárky
C116: Uchazeč: | F116: =IF(E18="","",E18) -> Vyplň údaj | I116: Zpracovatel: | J116: =E24 -> TMI Building s.r.o.
C118: PČ | D118: Typ | E118: Kód | F118: Popis | G118: MJ | H118: Množství | I118: J.cena [CZK] | J118: Cena celkem [CZK] | K118: Cenová soustava | N118: DPH | O118: J. Nh [h] | P118: Nh celkem [h] | Q118: J. hmotnost [t] | R118: Hmotnost celkem [t] | S118: J. suť [t] | T118: Suť Celkem [t]
C119: Náklady soupisu celkem | J119: =BK119 -> 0 | P119: =P120 -> 0 | R119: =R120 -> 0 | T119: =T120 -> 0 | AT119: D | AU119: -1 | BK119: =BK120 -> 0
D120: D | E120: VRN | F120: Vedlejší rozpočtové náklady | J120: =BK120 -> 0 | P120: =P121+P130 -> 0 | R120: =R121+R130 -> 0 | T120: =T121+T130 -> 0 | AR120: 5 | AT120: D | AU120: 0 | AY120: ROZPOCET | BK120: =BK121+BK130 -> 0
D121: D | E121: VRN1 | F121: Průzkumné, geodetické a projektové práce | J121: =BK121 -> 0 | P121: =SUM(P122:P129) -> 0 | R121: =SUM(R122:R129) -> 0 | T121: =SUM(T122:T129) -> 0 | AR121: 5 | AT121: D | AU121: 1 | AY121: ROZPOCET | BK121: =SUM(BK122:BK129) -> 0
C122: 1 | D122: K | E122: 012103000 | F122: Geodetické práce před výstavbou | G122: kpl | H122: 1 | J122: =ROUND(I122*H122,2) -> 0 | K122: CS ÚRS 2023 01 | N122: základní | P122: =O122*H122 -> 0 | Q122: 0 | R122: =Q122*H122 -> 0 | S122: 0 | T122: =S122*H122 -> 0 | AR122: 1024 | AT122: K | AU122: 2 | AY122: ROZPOCET | BE122: =IF(N122="základní",J122,0) -> 0 | BF122: =IF(N122="snížená",J122,0) -> 0 | BG122: =IF(N122="zákl. přenesená",J122,0) -> 0 | BH122: =IF(N122="sníž. přenesená",J122,0) -> 0 | BI122: =IF(N122="nulová",J122,0) -> 0 | BJ122: 1 | BK122: =ROUND(I122*H122,2) -> 0 | BL122: 1024 | BM122: 618565266
D123: PP | F123: Geodetické práce před výstavbou | AT123: PP | AU123: 2
C124: 2 | D124: K | E124: 012203000 | F124: Geodetické práce při provádění stavby | G124: kpl | H124: 1 | J124: =ROUND(I124*H124,2) -> 0 | K124: CS ÚRS 2023 01 | N124: základní | P124: =O124*H124 -> 0 | Q124: 0 | R124: =Q124*H124 -> 0 | S124: 0 | T124: =S124*H124 -> 0 | AR124: 1024 | AT124: K | AU124: 2 | AY124: ROZPOCET | BE124: =IF(N124="základní",J124,0) -> 0 | BF124: =IF(N124="snížená",J124,0) -> 0 | BG124: =IF(N124="zákl. přenesená",J124,0) -> 0 | BH124: =IF(N124="sníž. přenesená",J124,0) -> 0 | BI124: =IF(N124="nulová",J124,0) -> 0 | BJ124: 1 | BK124: =ROUND(I124*H124,2) -> 0 | BL124: 1024 | BM124: 723551823
D125: PP | F125: Geodetické práce při provádění stavby | AT125: PP | AU125: 2
C126: 3 | D126: K | E126: 012303000 | F126: Geodetické práce po výstavbě | G126: kpl | H126: 1 | J126: =ROUND(I126*H126,2) -> 0 | K126: CS ÚRS 2023 01 | N126: základní | P126: =O126*H126 -> 0 | Q126: 0 | R126: =Q126*H126 -> 0 | S126: 0 | T126: =S126*H126 -> 0 | AR126: 1024 | AT126: K | AU126: 2 | AY126: ROZPOCET | BE126: =IF(N126="základní",J126,0) -> 0 | BF126: =IF(N126="snížená",J126,0) -> 0 | BG126: =IF(N126="zákl. přenesená",J126,0) -> 0 | BH126: =IF(N126="sníž. přenesená",J126,0) -> 0 | BI126: =IF(N126="nulová",J126,0) -> 0 | BJ126: 1 | BK126: =ROUND(I126*H126,2) -> 0 | BL126: 1024 | BM126: 616540441
D127: PP | F127: Geodetické práce po výstavbě | AT127: PP | AU127: 2
C128: 4 | D128: K | E128: 013254000 | F128: Dokumentace skutečného provedení stavby | G128: kpl | H128: 1 | J128: =ROUND(I128*H128,2) -> 0 | K128: CS ÚRS 2023 01 | N128: základní | P128: =O128*H128 -> 0 | Q128: 0 | R128: =Q128*H128 -> 0 | S128: 0 | T128: =S128*H128 -> 0 | AR128: 1024 | AT128: K | AU128: 2 | AY128: ROZPOCET | BE128: =IF(N128="základní",J128,0) -> 0 | BF128: =IF(N128="snížená",J128,0) -> 0 | BG128: =IF(N128="zákl. přenesená",J128,0) -> 0 | BH128: =IF(N128="sníž. přenesená",J128,0) -> 0 | BI128: =IF(N128="nulová",J128,0) -> 0 | BJ128: 1 | BK128: =ROUND(I128*H128,2) -> 0 | BL128: 1024 | BM128: -1934470799
D129: PP | F129: Dokumentace skutečného provedení stavby | AT129: PP | AU129: 2
D130: D | E130: VRN4 | F130: Inženýrská činnost | J130: =BK130 -> 0 | P130: =SUM(P131:P132) -> 0 | R130: =SUM(R131:R132) -> 0 | T130: =SUM(T131:T132) -> 0 | AR130: 5 | AT130: D | AU130: 1 | AY130: ROZPOCET | BK130: =SUM(BK131:BK132) -> 0
C131: 5 | D131: K | E131: 043154000 | F131: Zkoušky hutnicí | G131: kpl | H131: 1 | J131: =ROUND(I131*H131,2) -> 0 | K131: CS ÚRS 2023 01 | N131: základní | P131: =O131*H131 -> 0 | Q131: 0 | R131: =Q131*H131 -> 0 | S131: 0 | T131: =S131*H131 -> 0 | AR131: 1024 | AT131: K | AU131: 2 | AY131: ROZPOCET | BE131: =IF(N131="základní",J131,0) -> 0 | BF131: =IF(N131="snížená",J131,0) -> 0 | BG131: =IF(N131="zákl. přenesená",J131,0) -> 0 | BH131: =IF(N131="sníž. přenesená",J131,0) -> 0 | BI131: =IF(N131="nulová",J131,0) -> 0 | BJ131: 1 | BK131: =ROUND(I131*H131,2) -> 0 | BL131: 1024 | BM131: 821149848
D132: PP | F132: Zkoušky hutnicí | AT132: PP | AU132: 2

Sheet Seznam figur
C4: SEZNAM FIGUR
C5: Kód: | D5: 1
C6: Stavba: | D6: Zástavba lokality Broumov - Spořilov, komunikace a VO_nerozdělené - 2023 - aktuál
C7: Datum: | D7: ='Rekapitulace stavby'!AN8 -> 1. 3. 2023
C9: Kód | D9: Popis | E9: MJ | F9: Výměra
C10: SO 102 | D10: Komunikace Osa B - ul. Pionýrská
C11: Betonová_přídlažba | D11: Betonová přídlažba | E11: m2 | F11: 86.25
D12: "Betonová přídlažba 250x500mm - odměřeno ze situace" 345*0,250 | F12: 86.25
C13: Betonová_přídlažba | D13: Součet | F13: 86.25
C14: Použití figury:
C15: 596811221R | D15: Kladení betonové dlažby komunikací pro pěší do lože z betonu vel do 0,25 m2 plochy do 100 m2 | E15: m2 | F15: 86.25
C16: 573231108 | D16: Postřik živičný spojovací ze silniční emulze v množství 0,50 kg/m2 | E16: m2 | F16: 1499.75
C17: 577134111 | D17: Asfaltový beton vrstva obrusná ACO 11 (ABS) tř. I tl 40 mm š do 3 m z nemodifikovaného asfaltu | E17: m2 | F17: 1499.75
C18: Bourání_vozovka | D18: Bourání vozovka | E18: m2 | F18: 728
D19: "Bourání stávající vozovky - odměřeno ze situace" 728,000 | F19: 728
C20: Bourání_vozovka | D20: Součet | F20: 728
C21: Použití figury:
C22: 113154264 | D22: Frézování živičného krytu tl 100 mm pruh š 2 m pl do 1000 m2 s překážkami v trase | E22: m2 | F22: 655.2
C23: 113107142 | D23: Odstranění podkladu živičného tl 100 mm ručně | E23: m2 | F23: 72.8
C24: 113107162 | D24: Odstranění podkladu z kameniva drceného tl 200 mm strojně pl přes 50 do 200 m2 | E24: m2 | F24: 72.8
C25: 564861111 | D25: Podklad ze štěrkodrtě ŠD tl 200 mm | E25: m2 | F25: 115.8
C26: Hloubení | D26: Hloubení | E26: m3 | F26: 37.44
D27: "Přípojky 5 kusů, délka 38,80m" 38,80*1,00*0,60 | F27: 23.28
D28: "Trativod" Trativod_125*0,30*0,40 | F28: 14.16
C29: Hloubení | D29: Součet | F29: 37.44
C30: Chodník_dlažba | D30: Chodník - betonová dlažba | E30: m2 | F30: 623
C31: Chodník_litý_asfalt | D31: Vozovka litý asfalt | E31: m2 | F31: 20
C32: Lože | D32: Lože | E32: m3 | F32: 2.328
D33: "Přípojky 5 kusů, délka 38,80m" 38,80*0,600*0,100 | F33: 2.328
C34: Lože | D34: Součet | F34: 2.328
C35: Mezideponie | D35: Mezideponie | E35: m3 | F35: 1782
C36: Objem_ornice | D36: Objem ornice | E36: m3 | F36: 989
C37: Obrubník_chodníkový | D37: Obrubník chodníkový | E37: m | F37: 12
D38: Obrubník chodníkový - odměřeno ze situace | F38: 0
D39: "ABO 8-10 chodníková" 12,000 | F39: 12
C40: Obrubník_chodníkový | D40: Součet | F40: 12
C41: Použití figury:
C42: 916231213 | D42: Osazení chodníkového obrubníku betonového stojatého s boční opěrou do lože z betonu prostého | E42: m | F42: 12
C43: 916991121 | D43: Lože pod obrubníky, krajníky nebo obruby z dlažebních kostek z betonu prostého | E43: m3 | F43: 44.13
C44: 552420052R | D44: obrubník chodníkový ABO 8-10, rozměry 500x80x250mm | E44: kus | F44: 24
C45: Obrubník_silniční | D45: Obrubník silniční | E45: m | F45: 482
D46: Obrubník silniční - odměřeno ze situace | F46: 0
D47: "ABO 2-15 - přímý" 232,000 | F47: 232
D48: "ABO 2-15 nájezdová" 213,000 | F48: 213
D49: "ABO 2-15 přechodová" 23,000 | F49: 23
D50: "ABO 2-15 - rohová" 14,000 | F50: 14
C51: Obrubník_silniční | D51: Součet | F51: 482
C52: Použití figury:
C53: 916131213 | D53: Osazení silničního obrubníku betonového stojatého s boční opěrou do lože z betonu prostého | E53: m | F53: 482
C54: 916991121 | D54: Lože pod obrubníky, krajníky nebo obruby z dlažebních kostek z betonu prostého | E54: m3 | F54: 44.13
C55: Obsyp | D55: Obsyp potrubí | E55: m3 | F55: 9.791
D56: "Přípojky 5 kusů, délka 38,80m" 38,80*0,60*(0,150+0,300)-3,14*0,075*0,075*38,80 | F56: 9.791
C57: Obsyp | D57: Součet | F57: 9.791
C58: Odkopávky | D58: Odkopávky | E58: m3 | F58: 1009
C59: Odkopávky_3 | D59: Odkopávky třída těžitelnosti 3 | E59: m3 | F59: 403.6
C60: Odkopávky_4 | D60: Odkopávky třída těžitelnosti 4 | E60: m3 | F60: 605.4
C61: Parking_dlažba_antra | D61: Parkovací dlažba barva antracit | E61: m2 | F61: 36
D62: "Parkovací dlažba betonová pro oddělení stání v barvě antracit" 36,00 | F62: 36
C63: Parking_dlažba_antra | D63: Součet | F63: 36
C64: Parking_dlažba_beton | D64: Parkovací stání - dlažba | E64: m2 | F64: 69
C65: Parking_dlažba_vege | D65: Parkovací dlažba - vegeteční | E65: m2 | F65: 776
C66: Reliéfní_dlažba_60 | D66: Reliéfní dlažba tl. 60mm | E66: m2 | F66: 16
D67: "Reliéfní dlažba tl. 60mm - odměřeno ze situace" 16,000 | F67: 16
C68: Reliéfní_dlažba_60 | D68: Součet | F68: 16
C69: Použití figury:
C70: 522478102R | D70: dlažba betonová 100x200x60mm barva červená reliéfní | E70: m2 | F70: 16.48
C71: Řezání | D71: Řezání živice | E71: m | F71: 13
D72: 13,000 | F72: 13
C73: Řezání | D73: Součet | F73: 13
C74: Použití figury:
C75: 919735112 | D75: Řezání stávajícího živičného krytu hl do 100 mm | E75: m | F75: 13
C76: 919732211 | D76: Styčná spára napojení nového živičného povrchu na stávající za tepla š 15 mm hl 25 mm s prořezáním | E76: m | F76: 13
C77: Sanace_plocha_3 | D77: Sanace plochy do hloubky 0,30m | E77: m2 | F77: 623
D78: Sanace do hloubky 0,30m | F78: 0
D79: Chodník_dlažba | F79: 623
C80: Sanace_plocha_3 | D80: Součet | F80: 623
C81: Sanace_plocha_5 | D81: Sanace plochy do hloubky 0,50m | E81: m2 | F81: 1701
D82: Sanace do hloubky 0,50m | F82: 0
D83: Vozovka_asfalt | F83: 856
D84: Parking_dlažba_beton | F84: 69
D85: Parking_dlažba_vege | F85: 776
C86: Sanace_plocha_5 | D86: Součet | F86: 1701
C87: Suť_beton | D87: Suť beton | E87: t | F87: 0
C88: Suť_beton | D88: "Beton" 0 | F88: 0
C89: Použití figury:
C90: 997211611 | D90: Nakládání suti na dopravní prostředky pro vodorovnou dopravu | E90: t | F90: 249.432
C91: 997013861 | D91: Poplatek za uložení stavebního odpadu na recyklační skládce (skládkovné) z prostého betonu kód odpadu 17 01 01 | E91: t | F91: 10.94
C92: Suť_celkem | D92: Suť celkem | E92: t | F92: 204.859
C93: Suť_živice | D93: "Živice" 167,731+16,016 | F93: 183.747
C94: Suť_beton | D94: "Beton" 0 | F94: 0
C95: Suť_kamenivo | D95: "Kamenivo" 21,112 | F95: 21.112
C96: Suť_celkem | D96: Součet | F96: 204.859
C97: Použití figury:
C98: 997211611 | D98: Nakládání suti na dopravní prostředky pro vodorovnou dopravu | E98: t | F98: 249.432
C99: 997002511 | D99: Vodorovné přemístění suti a vybouraných hmot bez naložení ale se složením a urovnáním do 1 km | E99: t | F99: 204.859
C100: 997002519 | D100: Příplatek ZKD 1 km přemístění suti a vybouraných hmot | E100: t | F100: 4916.616
C101: Suť_kamenivo | D101: Suť kamenivo | E101: t | F101: 21.112
C102: Suť_kamenivo | D102: "Kamenivo" 21,112 | F102: 21.112
C103: Použití figury:
C104: 997211611 | D104: Nakládání suti na dopravní prostředky pro vodorovnou dopravu | E104: t | F104: 249.432
...
