Workbook

Sheet Rekapitulace stavby
A1: Export Komplet | BA1: 2.0 | BT1: False | BU1: False | BV1: {80e0ebd2-b7cc-4c5a-97cf-fe420e797be7}
AR2: >> skryté sloupce << | BS2: 0,01 | BT2: 21
BS3: 0,01 | BT3: 15
D4: REKAPITULACE STAVBY | AS4: v --- níže se nacházejí doplnkové a pomocné údaje k sestavám --- v | BE4: Návod na vyplnění | BS4: 0,001
D5: Kód: | K5: 1 | BE5: Měnit lze pouze buňky se žlutým podbarvením!_x000D_ _x000D_ 1) na prvním listu Rekapitulace stavby vyplňte v sestavě_x000D_ _x000D_ a) Souhrnný list_x000D_ - údaje o Uchazeči_x000D_ (přenesou se do ostatních sestav i v jiných listech)_x000D_ _x000D_ b) Rekapitulace objektů_x000D_ - potřebné Ostatní náklady_x000D_ _x000D_ 2) na vybraných listech vyplňte v sestavě_x000D_ _x000D_ a) Krycí list_x000D_ - údaje o Uchazeči, pokud se liší od údajů o Uchazeči na Souhrnném listu_x000D_ (údaje se přenesou do ostatních sestav v daném listu)_x000D_ _x000D_ b) Rekapitulace rozpočtu_x000D_ - potřebné Ostatní náklady_x000D_ _x000D_ c) Celkové náklady za stavbu_x000D_ - ceny u položek_x000D_ - množství, pokud má žluté podbarvení_x000D_ - a v případě potřeby poznámku (ta je ve skrytém sloupci) | BS5: 0,01
D6: Stavba: | K6: Zástavba lokality Broumov - Spořilov, komunikace a VO_nerozdělené - 2023 - aktuál | BS6: 0,01
D7: KSO: | AK7: CC-CZ: | BS7: 0,01
D8: Místo: | K8: ul. Bratří Čapků, Pionýrská | AK8: Datum: | AN8: 1. 3. 2023 | BS8: 0,01
BS9: 0,01
D10: Zadavatel: | AK10: IČ: | AN10: 00272523 | BS10: 0,01
E11: Město Broumov,Třída Masarykova 239,550 01 Broumov | AK11: DIČ: | AN11: CZ00272523 | BS11: 0,01
BS12: 0,01
D13: Uchazeč: | AK13: IČ: | AN13: Vyplň údaj | BS13: 0,01
E14: Vyplň údaj | AK14: DIČ: | AN14: Vyplň údaj | BS14: 0,01
BS15: False
D16: Projektant: | AK16: IČ: | AN16: 04803302 | BS16: False
E17: Ing. Adam Beneš,Žďárky 224, 549 37 Žďárky | AK17: DIČ: | AN17: CZ8802063600 | BS17: True
BS18: 0,01
D19: Zpracovatel: | AK19: IČ: | AN19: 05733171 | BS19: 0,01
E20: TMI Building s.r.o. | AK20: DIČ: | AN20: CZ05733171 | BS20: True
D22: Poznámka:
D26: Cena bez DPH | AK26: =ROUND(AG94,2) -> 0
L28: Sazba daně | W28: Základ daně | AK28: Výše daně
D29: DPH | F29: základní | L29: 0.21 | W29: =ROUND(AZ94, 2) -> 0 | AK29: =ROUND(AV94, 2) -> 0
F30: snížená | L30: 0.15 | W30: =ROUND(BA94, 2) -> 0 | AK30: =ROUND(AW94, 2) -> 0
F31: zákl. přenesená | L31: 0.21 | W31: =ROUND(BB94, 2) -> 0 | AK31: 0
F32: sníž. přenesená | L32: 0.15 | W32: =ROUND(BC94, 2) -> 0 | AK32: 0
F33: nulová | L33: 0 | W33: =ROUND(BD94, 2) -> 0 | AK33: 0
D35: Cena s DPH | T35: v | X35: CZK | AK35: =SUM(AK26:AK33) -> 0
D49: Projektant | AH49: Zpracovatel
D60: Datum a podpis: | V60: Razítko | AH60: Datum a podpis: | AM60: Razítko
D64: Objednavatel | AH64: Uchazeč
D75: Datum a podpis: | V75: Razítko | AH75: Datum a podpis: | AM75: Razítko
C82: REKAPITULACE OBJEKTŮ STAVBY A SOUPISŮ PRACÍ
C84: Kód: | L84: =K5 -> 1
C85: Stavba: | L85: =K6 -> Zástavba lokality Broumov - Spořilov, komunikace a VO_nerozdělené - 2023 - aktuál
C87: Místo: | L87: =IF(K8="","",K8) -> ul. Bratří Čapků, Pionýrská | AI87: Datum: | AM87: =IF(AN8= "","",AN8) -> 1. 3. 2023
C89: Zadavatel: | L89: =IF(E11= "","",E11) -> Město Broumov,Třída Masarykova 239,550 01 Broumov | AI89: Projektant: | AM89: =IF(E17="","",E17) -> Ing. Adam Beneš,Žďárky 224, 549 37 Žďárky | AS89: Informatívní údaje z listů zakázek
C90: Uchazeč: | L90: =IF(E14= "Vyplň údaj","",E14) | AI90: Zpracovatel: | AM90: =IF(E20="","",E20) -> TMI Building s.r.o.
C92: Kód | I92: Popis | AG92: Cena bez DPH [CZK] | AN92: Cena s DPH [CZK] | AQ92: Typ | AS92: z toho Ostat._x000D_ náklady [CZK] | AT92: DPH [CZK] | AU92: Normohodiny [h] | AV92: DPH základní [CZK] | AW92: DPH snížená [CZK] | AX92: DPH základní přenesená_x000D_ [CZK] | AY92: DPH snížená přenesená_x000D_ [CZK] | AZ92: Základna_x000D_ DPH základní | BA92: Základna_x000D_ DPH snížená | BB92: Základna_x000D_ DPH zákl. přenesená | BC92: Základna_x000D_ DPH sníž. přenesená | BD92: Základna_x000D_ DPH nulová
...

Sheet SO 102 - Komunikace Osa B...
L2: >> skryté sloupce << | AT2: {92f18f81-f2d8-432b-8b4c-1ec4110e77f7} | AZ2: Betonová_přídlažba | BA2: Betonová přídlažba | BB2: m2 | BC2: 86,25 | BD2: 2
AT3: 2 | AZ3: Bourání_vozovka | BA3: Bourání vozovka | BB3: m2 | BC3: 728 | BD3: 2
D4: KRYCÍ LIST SOUPISU PRACÍ | M4: v --- níže se nacházejí doplnkové a pomocné údaje k sestavám --- v | AT4: False | AZ4: Obrubník_chodníkový | BA4: Obrubník chodníkový | BB4: m | BC4: 12 | BD4: 2
AZ5: Obrubník_silniční | BA5: Obrubník silniční | BB5: m | BC5: 482 | BD5: 2
D6: Stavba: | AZ6: Reliéfní_dlažba_60 | BA6: Reliéfní dlažba tl. 60mm | BB6: m2 | BC6: 16 | BD6: 2
E7: ='Rekapitulace stavby'!K6 -> Zástavba lokality Broumov - Spořilov, komunikace a VO_nerozdělené - 2023 - aktuál | AZ7: Řezání | BA7: Řezání živice | BB7: m | BC7: 13 | BD7: 2
D8: Objekt: | AZ8: Suť_beton | BA8: Suť beton | BB8: t | BC8: 0 | BD8: 2
E9: SO 102 - Komunikace Osa B - ul. Pionýrská | AZ9: Suť_celkem | BA9: Suť celkem | BB9: t | BC9: 204,859 | BD9: 2
AZ10: Suť_kamenivo | BA10: Suť kamenivo | BB10: t | BC10: 21,112 | BD10: 2
D11: KSO: | I11: CC-CZ: | AZ11: Suť_kusová | BA11: Suť kusová | BB11: t | BC11: 44,573 | BD11: 2
D12: Místo: | F12: ul. Bratří Čapků, Pionýrská | I12: Datum: | J12: ='Rekapitulace stavby'!AN8 -> 1. 3. 2023 | AZ12: Suť_živice | BA12: Suť živice | BB12: t | BC12: 183,747 | BD12: 2
AZ13: Vozovka_asfalt | BA13: Vozovka asfalt | BB13: m2 | BC13: 856 | BD13: 2
D14: Zadavatel: | I14: IČ: | J14: 00272523
E15: Město Broumov,Třída Masarykova 239,550 01 Broumov | I15: DIČ: | J15: CZ00272523
D17: Uchazeč: | I17: IČ: | J17: ='Rekapitulace stavby'!AN13 -> Vyplň údaj
E18: ='Rekapitulace stavby'!E14 -> Vyplň údaj | I18: DIČ: | J18: ='Rekapitulace stavby'!AN14 -> Vyplň údaj
D20: Projektant: | I20: IČ: | J20: 04803302
E21: Ing. Adam Beneš,Žďárky 224, 549 37 Žďárky | I21: DIČ: | J21: CZ8802063600
D23: Zpracovatel: | I23: IČ: | J23: 05733171
E24: TMI Building s.r.o. | I24: DIČ: | J24: CZ05733171
D26: Poznámka:
D30: Cena bez DPH | J30: =ROUND(J123, 2) -> 0
F32: Základ daně | I32: Sazba daně | J32: Výše daně
D33: DPH | E33: základní | F33: =ROUND((SUM(BE123:BE397)), 2) -> 0 | I33: 0.21 | J33: =ROUND(((SUM(BE123:BE397))*I33), 2) -> 0
E34: snížená | F34: =ROUND((SUM(BF123:BF397)), 2) -> 0 | I34: 0.15 | J34: =ROUND(((SUM(BF123:BF397))*I34), 2) -> 0
E35: zákl. přenesená | F35: =ROUND((SUM(BG123:BG397)), 2) -> 0 | I35: 0.21 | J35: =0 -> 0
E36: sníž. přenesená | F36: =ROUND((SUM(BH123:BH397)), 2) -> 0 | I36: 0.15 | J36: =0 -> 0
E37: nulová | F37: =ROUND((SUM(BI123:BI397)), 2) -> 0 | I37: 0 | J37: =0 -> 0
D39: Cena s DPH | G39: v | H39: CZK | J39: =SUM(J30:J37) -> 0
D50: Projektant | G50: Zpracovatel
D61: Datum a podpis: | F61: Razítko | G61: Datum a podpis: | J61: Razítko
D65: Objednavatel | G65: Uchazeč
D76: Datum a podpis: | F76: Razítko | G76: Datum a podpis: | J76: Razítko
C82: REKAPITULACE ČLENĚNÍ SOUPISU PRACÍ
C84: Stavba:
E85: =E7 -> Zástavba lokality Broumov - Spořilov, komunikace a VO_nerozdělené - 2023 - aktuál
C86: Objekt:
E87: =E9 -> SO 102 - Komunikace Osa B - ul. Pionýrská
C89: Místo: | F89: =F12 -> ul. Bratří Čapků, Pionýrská | I89: Datum: | J89: =IF(J12="","",J12) -> 1. 3. 2023
C91: Zadavatel: | F91: =E15 -> Město Broumov,Třída Masarykova 239,550 01 Broumov | I91: Projektant: | J91: =E21 -> Ing. Adam Beneš,Žďárky 224, 549 37 Žďárky
...

Sheet VRN - Vedlejší rozpočtové...
L2: >> skryté sloupce << | AT2: {9e958cfc-5891-48ab-a45b-200fa8352c49}
AT3: 2
D4: KRYCÍ LIST SOUPISU PRACÍ | M4: v --- níže se nacházejí doplnkové a pomocné údaje k sestavám --- v | AT4: False
D6: Stavba:
E7: ='Rekapitulace stavby'!K6 -> Zástavba lokality Broumov - Spořilov, komunikace a VO_nerozdělené - 2023 - aktuál
D8: Objekt:
E9: VRN - Vedlejší rozpočtové náklady
D11: KSO: | I11: CC-CZ:
D12: Místo: | F12: ul. Bratří Čapků, Pionýrská | I12: Datum: | J12: ='Rekapitulace stavby'!AN8 -> 1. 3. 2023
D14: Zadavatel: | I14: IČ: | J14: 00272523
E15: Město Broumov,Třída Masarykova 239,550 01 Broumov | I15: DIČ: | J15: CZ00272523
D17: Uchazeč: | I17: IČ: | J17: ='Rekapitulace stavby'!AN13 -> Vyplň údaj
E18: ='Rekapitulace stavby'!E14 -> Vyplň údaj | I18: DIČ: | J18: ='Rekapitulace stavby'!AN14 -> Vyplň údaj
D20: Projektant: | I20: IČ: | J20: 04803302
E21: Ing. Adam Beneš,Žďárky 224, 549 37 Žďárky | I21: DIČ: | J21: CZ8802063600
D23: Zpracovatel: | I23: IČ: | J23: 05733171
E24: TMI Building s.r.o. | I24: DIČ: | J24: CZ05733171
D26: Poznámka:
D30: Cena bez DPH | J30: =ROUND(J120, 2) -> 0
F32: Základ daně | I32: Sazba daně | J32: Výše daně
D33: DPH | E33: základní | F33: =ROUND((SUM(BE120:BE130)), 2) -> 0 | I33: 0.21 | J33: =ROUND(((SUM(BE120:BE130))*I33), 2) -> 0
E34: snížená | F34: =ROUND((SUM(BF120:BF130)), 2) -> 0 | I34: 0.15 | J34: =ROUND(((SUM(BF120:BF130))*I34), 2) -> 0
E35: zákl. přenesená | F35: =ROUND((SUM(BG120:BG130)), 2) -> 0 | I35: 0.21 | J35: =0 -> 0
E36: sníž. přenesená | F36: =ROUND((SUM(BH120:BH130)), 2) -> 0 | I36: 0.15 | J36: =0 -> 0
E37: nulová | F37: =ROUND((SUM(BI120:BI130)), 2) -> 0 | I37: 0 | J37: =0 -> 0
D39: Cena s DPH | G39: v | H39: CZK | J39: =SUM(J30:J37) -> 0
D50: Projektant | G50: Zpracovatel
D61: Datum a podpis: | F61: Razítko | G61: Datum a podpis: | J61: Razítko
D65: Objednavatel | G65: Uchazeč
D76: Datum a podpis: | F76: Razítko | G76: Datum a podpis: | J76: Razítko
C82: REKAPITULACE ČLENĚNÍ SOUPISU PRACÍ
C84: Stavba:
E85: =E7 -> Zástavba lokality Broumov - Spořilov, komunikace a VO_nerozdělené - 2023 - aktuál
C86: Objekt:
E87: =E9 -> VRN - Vedlejší rozpočtové náklady
C89: Místo: | F89: =F12 -> ul. Bratří Čapků, Pionýrská | I89: Datum: | J89: =IF(J12="","",J12) -> 1. 3. 2023
C91: Zadavatel: | F91: =E15 -> Město Broumov,Třída Masarykova 239,550 01 Broumov | I91: Projektant: | J91: =E21 -> Ing. Adam Beneš,Žďárky 224, 549 37 Žďárky
C92: Uchazeč: | F92: =IF(E18="","",E18) -> Vyplň údaj | I92: Zpracovatel: | J92: =E24 -> TMI Building s.r.o.
C94: Kód dílu - Popis | J94: Cena celkem [CZK]
C96: Náklady ze soupisu prací | J96: =J120 -> 0 | AU96: -1
...

Sheet ON - Ostatní náklady
L2: >> skryté sloupce << | AT2: {a54b38e7-d884-40fc-804c-62135f128ff0}
AT3: 2
D4: KRYCÍ LIST SOUPISU PRACÍ | M4: v --- níže se nacházejí doplnkové a pomocné údaje k sestavám --- v | AT4: False
D6: Stavba:
E7: ='Rekapitulace stavby'!K6 -> Zástavba lokality Broumov - Spořilov, komunikace a VO_nerozdělené - 2023 - aktuál
D8: Objekt:
E9: ON - Ostatní náklady
D11: KSO: | I11: CC-CZ:
D12: Místo: | F12: ul. Bratří Čapků, Pionýrská | I12: Datum: | J12: ='Rekapitulace stavby'!AN8 -> 1. 3. 2023
D14: Zadavatel: | I14: IČ: | J14: 00272523
E15: Město Broumov,Třída Masarykova 239,550 01 Broumov | I15: DIČ: | J15: CZ00272523
D17: Uchazeč: | I17: IČ: | J17: ='Rekapitulace stavby'!AN13 -> Vyplň údaj
E18: ='Rekapitulace stavby'!E14 -> Vyplň údaj | I18: DIČ: | J18: ='Rekapitulace stavby'!AN14 -> Vyplň údaj
D20: Projektant: | I20: IČ: | J20: 04803302
E21: Ing. Adam Beneš,Žďárky 224, 549 37 Žďárky | I21: DIČ: | J21: CZ8802063600
D23: Zpracovatel: | I23: IČ: | J23: 05733171
E24: TMI Building s.r.o. | I24: DIČ: | J24: CZ05733171
D26: Poznámka:
D30: Cena bez DPH | J30: =ROUND(J119, 2) -> 0
F32: Základ daně | I32: Sazba daně | J32: Výše daně
D33: DPH | E33: základní | F33: =ROUND((SUM(BE119:BE132)), 2) -> 0 | I33: 0.21 | J33: =ROUND(((SUM(BE119:BE132))*I33), 2) -> 0
E34: snížená | F34: =ROUND((SUM(BF119:BF132)), 2) -> 0 | I34: 0.15 | J34: =ROUND(((SUM(BF119:BF132))*I34), 2) -> 0
E35: zákl. přenesená | F35: =ROUND((SUM(BG119:BG132)), 2) -> 0 | I35: 0.21 | J35: =0 -> 0
E36: sníž. přenesená | F36: =ROUND((SUM(BH119:BH132)), 2) -> 0 | I36: 0.15 | J36: =0 -> 0
E37: nulová | F37: =ROUND((SUM(BI119:BI132)), 2) -> 0 | I37: 0 | J37: =0 -> 0
D39: Cena s DPH | G39: v | H39: CZK | J39: =SUM(J30:J37) -> 0
D50: Projektant | G50: Zpracovatel
D61: Datum a podpis: | F61: Razítko | G61: Datum a podpis: | J61: Razítko
D65: Objednavatel | G65: Uchazeč
D76: Datum a podpis: | F76: Razítko | G76: Datum a podpis: | J76: Razítko
C82: REKAPITULACE ČLENĚNÍ SOUPISU PRACÍ
C84: Stavba:
E85: =E7 -> Zástavba lokality Broumov - Spořilov, komunikace a VO_nerozdělené - 2023 - aktuál
C86: Objekt:
E87: =E9 -> ON - Ostatní náklady
C89: Místo: | F89: =F12 -> ul. Bratří Čapků, Pionýrská | I89: Datum: | J89: =IF(J12="","",J12) -> 1. 3. 2023
C91: Zadavatel: | F91: =E15 -> Město Broumov,Třída Masarykova 239,550 01 Broumov | I91: Projektant: | J91: =E21 -> Ing. Adam Beneš,Žďárky 224, 549 37 Žďárky
C92: Uchazeč: | F92: =IF(E18="","",E18) -> Vyplň údaj | I92: Zpracovatel: | J92: =E24 -> TMI Building s.r.o.
C94: Kód dílu - Popis | J94: Cena celkem [CZK]
C96: Náklady ze soupisu prací | J96: =J119 -> 0 | AU96: -1
...

Sheet Seznam figur
C4: SEZNAM FIGUR
C5: Kód: | D5: 1
C6: Stavba: | D6: Zástavba lokality Broumov - Spořilov, komunikace a VO_nerozdělené - 2023 - aktuál
C7: Datum: | D7: ='Rekapitulace stavby'!AN8 -> 1. 3. 2023
C9: Kód | D9: Popis | E9: MJ | F9: Výměra
C10: SO 102 | D10: Komunikace Osa B - ul. Pionýrská
C11: Betonová_přídlažba | D11: Betonová přídlažba | E11: m2 | F11: 86.25
D12: "Betonová přídlažba 250x500mm - odměřeno ze situace" 345*0,250 | F12: 86.25
C13: Betonová_přídlažba | D13: Součet | F13: 86.25
C14: Použití figury:
C15: 596811221R | D15: Kladení betonové dlažby komunikací pro pěší do lože z betonu vel do 0,25 m2 plochy do 100 m2 | E15: m2 | F15: 86.25
C16: 573231108 | D16: Postřik živičný spojovací ze silniční emulze v množství 0,50 kg/m2 | E16: m2 | F16: 1499.75
C17: 577134111 | D17: Asfaltový beton vrstva obrusná ACO 11 (ABS) tř. I tl 40 mm š do 3 m z nemodifikovaného asfaltu | E17: m2 | F17: 1499.75
C18: Bourání_vozovka | D18: Bourání vozovka | E18: m2 | F18: 728
D19: "Bourání stávající vozovky - odměřeno ze situace" 728,000 | F19: 728
C20: Bourání_vozovka | D20: Součet | F20: 728
C21: Použití figury:
C22: 113154264 | D22: Frézování živičného krytu tl 100 mm pruh š 2 m pl do 1000 m2 s překážkami v trase | E22: m2 | F22: 655.2
C23: 113107142 | D23: Odstranění podkladu živičného tl 100 mm ručně | E23: m2 | F23: 72.8
C24: 113107162 | D24: Odstranění podkladu z kameniva drceného tl 200 mm strojně pl přes 50 do 200 m2 | E24: m2 | F24: 72.8
C25: 564861111 | D25: Podklad ze štěrkodrtě ŠD tl 200 mm | E25: m2 | F25: 115.8
C26: Hloubení | D26: Hloubení | E26: m3 | F26: 37.44
D27: "Přípojky 5 kusů, délka 38,80m" 38,80*1,00*0,60 | F27: 23.28
D28: "Trativod" Trativod_125*0,30*0,40 | F28: 14.16
C29: Hloubení | D29: Součet | F29: 37.44
C30: Chodník_dlažba | D30: Chodník - betonová dlažba | E30: m2 | F30: 623
C31: Chodník_litý_asfalt | D31: Vozovka litý asfalt | E31: m2 | F31: 20
C32: Lože | D32: Lože | E32: m3 | F32: 2.328
D33: "Přípojky 5 kusů, délka 38,80m" 38,80*0,600*0,100 | F33: 2.328
C34: Lože | D34: Součet | F34: 2.328
C35: Mezideponie | D35: Mezideponie | E35: m3 | F35: 1782
C36: Objem_ornice | D36: Objem ornice | E36: m3 | F36: 989
C37: Obrubník_chodníkový | D37: Obrubník chodníkový | E37: m | F37: 12
D38: Obrubník chodníkový - odměřeno ze situace | F38: 0
D39: "ABO 8-10 chodníková" 12,000 | F39: 12
C40: Obrubník_chodníkový | D40: Součet | F40: 12
C41: Použití figury:
C42: 916231213 | D42: Osazení chodníkového obrubníku betonového stojatého s boční opěrou do lože z betonu prostého | E42: m | F42: 12
C43: 916991121 | D43: Lože pod obrubníky, krajníky nebo obruby z dlažebních kostek z betonu prostého | E43: m3 | F43: 44.13
C44: 552420052R | D44: obrubník chodníkový ABO 8-10, rozměry 500x80x250mm | E44: kus | F44: 24
...
