Workbook

Sheet Rekapitulace stavby
A1: Export Komplet | AZ1: VZ | BA1: 2.0 | BB1: ZAMOK | BT1: False | BU1: False | BV1: {3c8a26f4-8082-459f-bee6-8f2d752bf610}
BS2: 0,01 | BT2: 21
BS3: 0,01 | BT3: 15
D4: REKAPITULACE STAVBY | AS4: v --- níže se nacházejí doplnkové a pomocné údaje k sestavám --- v | BE4: Návod na vyplnění | BS4: 0,001
D5: Kód: | K5: 1488-03-16 | BE5: Měnit lze pouze buňky se žlutým podbarvením!_x000D_ _x000D_ 1) v Rekapitulaci stavby vyplňte údaje o Uchazeči (přenesou se do ostatních sestav i v jiných listech)_x000D_ _x000D_ 2) na vybraných listech vyplňte v sestavě Soupis prací ceny u položek | BS5: 0,01
D6: Stavba: | K6: Stavební úpravy objektu č.p. 104 a 105, Café Herzog, Broumov - 1. etapa | BS6: 0,01
D7: KSO: | AK7: CC-CZ: | BS7: 0,01
D8: Místo: | K8: k. ú. Broumov | AK8: Datum: | AN8: 10. 10. 2022 | BS8: 0,01
BS9: 0,01
D10: Zadavatel: | AK10: IČ: | BS10: 0,01
AK11: DIČ: | BS11: 0,01
BS12: 0,01
D13: Uchazeč: | AK13: IČ: | AN13: Vyplň údaj | BS13: 0,01
E14: Vyplň údaj | AK14: DIČ: | AN14: Vyplň údaj | BS14: 0,01
BS15: False
D16: Projektant: | AK16: IČ: | AN16: 60109971 | BS16: False
E17: INS spol. s r.o. | AK17: DIČ: | AN17: CZ60109971 | BS17: True
BS18: 0,01
D19: Zpracovatel: | AK19: IČ: | BS19: 0,01
E20: Ing. Michaela Hůlková | AK20: DIČ: | BS20: False
D22: Poznámka:
E23: Položky označené červeně, s nulovým množstvím, nejsou předmětem plnění této etapy!_x000D_ _x000D_ Soupis prací je sestaven s využitím Cenové soustavy ÚRS. Položky, které pochází z této cenové soustavy, jsou ve sloupci 'Cenová soustava' označeny popisem 'CS ÚRS' a úrovní příslušného kalendářního pololetí. Veškeré další informace vymezující popis a podmínky použití těchto položek z Cenové soustavy, které nejsou uvedeny přímo v soupisu prací, jsou neomezeně dálkově k dispozici na webu podminky.urs.cz.
D26: Cena bez DPH | AK26: =ROUND(AG54,2) -> 0
L28: Sazba daně | W28: Základ daně | AK28: Výše daně
D29: DPH | F29: základní | L29: 0.21 | W29: =ROUND(AZ54, 2) -> 0 | AK29: =ROUND(AV54, 2) -> 0
F30: snížená | L30: 0.15 | W30: =ROUND(BA54, 2) -> 0 | AK30: =ROUND(AW54, 2) -> 0
F31: zákl. přenesená | L31: 0.21 | W31: =ROUND(BB54, 2) -> 0 | AK31: 0
F32: sníž. přenesená | L32: 0.15 | W32: =ROUND(BC54, 2) -> 0 | AK32: 0
F33: nulová | L33: 0 | W33: =ROUND(BD54, 2) -> 0 | AK33: 0
D35: Cena s DPH | T35: v | X35: CZK | AK35: =SUM(AK26:AK33) -> 0
C42: REKAPITULACE OBJEKTŮ STAVBY A SOUPISŮ PRACÍ
C44: Kód: | L44: =K5 -> 1488-03-16
C45: Stavba: | L45: =K6 -> Stavební úpravy objektu č.p. 104 a 105, Café Herzog, Broumov - 1. etapa
C47: Místo: | L47: =IF(K8="","",K8) -> k. ú. Broumov | AI47: Datum: | AM47: =IF(AN8= "","",AN8) -> 10. 10. 2022
C49: Zadavatel: | L49: =IF(E11= "","",E11) | AI49: Projektant: | AM49: =IF(E17="","",E17) -> INS spol. s r.o. | AS49: Informatívní údaje z listů zakázek
C50: Uchazeč: | L50: =IF(E14= "Vyplň údaj","",E14) | AI50: Zpracovatel: | AM50: =IF(E20="","",E20) -> Ing. Michaela Hůlková
C52: Kód | I52: Popis | AG52: Cena bez DPH [CZK] | AN52: Cena s DPH [CZK] | AQ52: Typ | AS52: z toho Ostat._x000D_ náklady [CZK] | AT52: DPH [CZK] | AU52: Normohodiny [h] | AV52: DPH základní [CZK] | AW52: DPH snížená [CZK] | AX52: DPH základní přenesená_x000D_ [CZK] | AY52: DPH snížená přenesená_x000D_ [CZK] | AZ52: Základna_x000D_ DPH základní | BA52: Základna_x000D_ DPH snížená | BB52: Základna_x000D_ DPH zákl. přenesená | BC52: Základna_x000D_ DPH sníž. přenesená | BD52: Základna_x000D_ DPH nulová
C54: Náklady stavby celkem | AG54: =ROUND(AG55+AG63,2) -> 0 | AN54: =SUM(AG54,AT54) -> 0 | AS54: =ROUND(AS55+AS63,2) -> 0 | AT54: =ROUND(SUM(AV54:AW54),2) -> 0 | AU54: =ROUND(AU55+AU63,5) -> 0 | AV54: =ROUND(AZ54*L29,2) -> 0 | AW54: =ROUND(BA54*L30,2) -> 0 | AX54: =ROUND(BB54*L29,2) -> 0 | AY54: =ROUND(BC54*L30,2) -> 0 | AZ54: =ROUND(AZ55+AZ63,2) -> 0 | BA54: =ROUND(BA55+BA63,2) -> 0 | BB54: =ROUND(BB55+BB63,2) -> 0 | BC54: =ROUND(BC55+BC63,2) -> 0 | BD54: =ROUND(BD55+BD63,2) -> 0 | BS54: D | BT54: 0 | BU54: ###NOIMPORT### | BV54: IMPORT | BW54: {3c8a26f4-8082-459f-bee6-8f2d752bf610} | BX54: {00000000-0000-0000-0000-000000000000}
D55: SO 01 | J55: Hlavní objekt | AG55: =ROUND(SUM(AG56:AG62),2) -> 0 | AN55: =SUM(AG55,AT55) -> 0 | AQ55: STA | AS55: =ROUND(SUM(AS56:AS62),2) -> 0 | AT55: =ROUND(SUM(AV55:AW55),2) -> 0 | AU55: =ROUND(SUM(AU56:AU62),5) -> 0 | AV55: =ROUND(AZ55*L29,2) -> 0 | AW55: =ROUND(BA55*L30,2) -> 0 | AX55: =ROUND(BB55*L29,2) -> 0 | AY55: =ROUND(BC55*L30,2) -> 0 | AZ55: =ROUND(SUM(AZ56:AZ62),2) -> 0 | BA55: =ROUND(SUM(BA56:BA62),2) -> 0 | BB55: =ROUND(SUM(BB56:BB62),2) -> 0 | BC55: =ROUND(SUM(BC56:BC62),2) -> 0 | BD55: =ROUND(SUM(BD56:BD62),2) -> 0 | BS55: D | BT55: 1 | BU55: ###NOIMPORT### | BV55: IMPORT | BW55: {1a7b7116-9c28-469d-9671-9231401d2465} | BX55: {3c8a26f4-8082-459f-bee6-8f2d752bf610} | CM55: 2
A56: / | E56: 1.1 | K56: Architektonické a stavebně-technické řešení | AG56: ='1.1 - Architektonické a s...'!J32 -> 0 | AN56: =SUM(AG56,AT56) -> 0 | AQ56: Soupis | AS56: 0 | AT56: =ROUND(SUM(AV56:AW56),2) -> 0 | AU56: ='1.1 - Architektonické a s...'!P118 -> 0 | AV56: ='1.1 - Architektonické a s...'!J35 -> 0 | AW56: ='1.1 - Architektonické a s...'!J36 -> 0 | AX56: ='1.1 - Architektonické a s...'!J37 -> 0 | AY56: ='1.1 - Architektonické a s...'!J38 -> 0 | AZ56: ='1.1 - Architektonické a s...'!F35 -> 0 | BA56: ='1.1 - Architektonické a s...'!F36 -> 0 | BB56: ='1.1 - Architektonické a s...'!F37 -> 0 | BC56: ='1.1 - Architektonické a s...'!F38 -> 0 | BD56: ='1.1 - Architektonické a s...'!F39 -> 0 | BT56: 2 | BV56: IMPORT | BW56: {106c7763-2d71-44ab-9d01-0588b2b42573} | BX56: {1a7b7116-9c28-469d-9671-9231401d2465}
A57: / | E57: 1.2 | K57: Stavebně-kontrukční řešení | AG57: ='1.2 - Stavebně-kontrukční...'!J32 -> 0 | AN57: =SUM(AG57,AT57) -> 0 | AQ57: Soupis | AS57: 0 | AT57: =ROUND(SUM(AV57:AW57),2) -> 0 | AU57: ='1.2 - Stavebně-kontrukční...'!P102 -> 0 | AV57: ='1.2 - Stavebně-kontrukční...'!J35 -> 0 | AW57: ='1.2 - Stavebně-kontrukční...'!J36 -> 0 | AX57: ='1.2 - Stavebně-kontrukční...'!J37 -> 0 | AY57: ='1.2 - Stavebně-kontrukční...'!J38 -> 0 | AZ57: ='1.2 - Stavebně-kontrukční...'!F35 -> 0 | BA57: ='1.2 - Stavebně-kontrukční...'!F36 -> 0 | BB57: ='1.2 - Stavebně-kontrukční...'!F37 -> 0 | BC57: ='1.2 - Stavebně-kontrukční...'!F38 -> 0 | BD57: ='1.2 - Stavebně-kontrukční...'!F39 -> 0 | BT57: 2 | BV57: IMPORT | BW57: {05f4dec2-ea39-4f5f-b60e-10f7b2c0d740} | BX57: {1a7b7116-9c28-469d-9671-9231401d2465}
A58: / | E58: 1.4 | K58: Zdravotní technika | AG58: ='1.4 - Zdravotní technika'!J32 -> 0 | AN58: =SUM(AG58,AT58) -> 0 | AQ58: Soupis | AS58: 0 | AT58: =ROUND(SUM(AV58:AW58),2) -> 0 | AU58: ='1.4 - Zdravotní technika'!P93 -> 0 | AV58: ='1.4 - Zdravotní technika'!J35 -> 0 | AW58: ='1.4 - Zdravotní technika'!J36 -> 0 | AX58: ='1.4 - Zdravotní technika'!J37 -> 0 | AY58: ='1.4 - Zdravotní technika'!J38 -> 0 | AZ58: ='1.4 - Zdravotní technika'!F35 -> 0 | BA58: ='1.4 - Zdravotní technika'!F36 -> 0 | BB58: ='1.4 - Zdravotní technika'!F37 -> 0 | BC58: ='1.4 - Zdravotní technika'!F38 -> 0 | BD58: ='1.4 - Zdravotní technika'!F39 -> 0 | BT58: 2 | BV58: IMPORT | BW58: {cd7456ac-34b6-4532-a630-3789b43cefd7} | BX58: {1a7b7116-9c28-469d-9671-9231401d2465}
A59: / | E59: 1.5 | K59: Elektroinstalace silnoproud | AG59: ='1.5 - Elektroinstalace si...'!J32 -> 0 | AN59: =SUM(AG59,AT59) -> 0 | AQ59: Soupis | AS59: 0 | AT59: =ROUND(SUM(AV59:AW59),2) -> 0 | AU59: ='1.5 - Elektroinstalace si...'!P91 -> 0 | AV59: ='1.5 - Elektroinstalace si...'!J35 -> 0 | AW59: ='1.5 - Elektroinstalace si...'!J36 -> 0 | AX59: ='1.5 - Elektroinstalace si...'!J37 -> 0 | AY59: ='1.5 - Elektroinstalace si...'!J38 -> 0 | AZ59: ='1.5 - Elektroinstalace si...'!F35 -> 0 | BA59: ='1.5 - Elektroinstalace si...'!F36 -> 0 | BB59: ='1.5 - Elektroinstalace si...'!F37 -> 0 | BC59: ='1.5 - Elektroinstalace si...'!F38 -> 0 | BD59: ='1.5 - Elektroinstalace si...'!F39 -> 0 | BT59: 2 | BV59: IMPORT | BW59: {49d6ce45-a3dc-49dc-af95-c0c3b0289756} | BX59: {1a7b7116-9c28-469d-9671-9231401d2465}
A60: / | E60: 1.6 | K60: Vytápění | AG60: ='1.6 - Vytápění'!J32 -> 0 | AN60: =SUM(AG60,AT60) -> 0 | AQ60: Soupis | AS60: 0 | AT60: =ROUND(SUM(AV60:AW60),2) -> 0 | AU60: ='1.6 - Vytápění'!P93 -> 0 | AV60: ='1.6 - Vytápění'!J35 -> 0 | AW60: ='1.6 - Vytápění'!J36 -> 0 | AX60: ='1.6 - Vytápění'!J37 -> 0 | AY60: ='1.6 - Vytápění'!J38 -> 0 | AZ60: ='1.6 - Vytápění'!F35 -> 0 | BA60: ='1.6 - Vytápění'!F36 -> 0 | BB60: ='1.6 - Vytápění'!F37 -> 0 | BC60: ='1.6 - Vytápění'!F38 -> 0 | BD60: ='1.6 - Vytápění'!F39 -> 0 | BT60: 2 | BV60: IMPORT | BW60: {aa3ad3a1-ab58-4fff-8363-1400df9ff4d5} | BX60: {1a7b7116-9c28-469d-9671-9231401d2465}
A61: / | E61: 1.7 | K61: Vzduchotechnika | AG61: ='1.7 - Vzduchotechnika'!J32 -> 0 | AN61: =SUM(AG61,AT61) -> 0 | AQ61: Soupis | AS61: 0 | AT61: =ROUND(SUM(AV61:AW61),2) -> 0 | AU61: ='1.7 - Vzduchotechnika'!P89 -> 0 | AV61: ='1.7 - Vzduchotechnika'!J35 -> 0 | AW61: ='1.7 - Vzduchotechnika'!J36 -> 0 | AX61: ='1.7 - Vzduchotechnika'!J37 -> 0 | AY61: ='1.7 - Vzduchotechnika'!J38 -> 0 | AZ61: ='1.7 - Vzduchotechnika'!F35 -> 0 | BA61: ='1.7 - Vzduchotechnika'!F36 -> 0 | BB61: ='1.7 - Vzduchotechnika'!F37 -> 0 | BC61: ='1.7 - Vzduchotechnika'!F38 -> 0 | BD61: ='1.7 - Vzduchotechnika'!F39 -> 0 | BT61: 2 | BV61: IMPORT | BW61: {67a0c015-d3c5-40d1-a2f4-7a21162c02b5} | BX61: {1a7b7116-9c28-469d-9671-9231401d2465}
A62: / | E62: 1.8 | K62: Elektroinstalce slaboproud | AG62: ='1.8 - Elektroinstalce sla...'!J32 -> 0 | AN62: =SUM(AG62,AT62) -> 0 | AQ62: Soupis | AS62: 0 | AT62: =ROUND(SUM(AV62:AW62),2) -> 0 | AU62: ='1.8 - Elektroinstalce sla...'!P88 -> 0 | AV62: ='1.8 - Elektroinstalce sla...'!J35 -> 0 | AW62: ='1.8 - Elektroinstalce sla...'!J36 -> 0 | AX62: ='1.8 - Elektroinstalce sla...'!J37 -> 0 | AY62: ='1.8 - Elektroinstalce sla...'!J38 -> 0 | AZ62: ='1.8 - Elektroinstalce sla...'!F35 -> 0 | BA62: ='1.8 - Elektroinstalce sla...'!F36 -> 0 | BB62: ='1.8 - Elektroinstalce sla...'!F37 -> 0 | BC62: ='1.8 - Elektroinstalce sla...'!F38 -> 0 | BD62: ='1.8 - Elektroinstalce sla...'!F39 -> 0 | BT62: 2 | BV62: IMPORT | BW62: {34d51934-601a-4a79-bbae-718ee9176f20} | BX62: {1a7b7116-9c28-469d-9671-9231401d2465}
A63: / | D63: VRN | J63: Vedlejší rozpočtové náklady | AG63: ='VRN - Vedlejší rozpočtové...'!J30 -> 0 | AN63: =SUM(AG63,AT63) -> 0 | AQ63: VON | AS63: 0 | AT63: =ROUND(SUM(AV63:AW63),2) -> 0 | AU63: ='VRN - Vedlejší rozpočtové...'!P84 -> 0 | AV63: ='VRN - Vedlejší rozpočtové...'!J33 -> 0 | AW63: ='VRN - Vedlejší rozpočtové...'!J34 -> 0 | AX63: ='VRN - Vedlejší rozpočtové...'!J35 -> 0 | AY63: ='VRN - Vedlejší rozpočtové...'!J36 -> 0 | AZ63: ='VRN - Vedlejší rozpočtové...'!F33 -> 0 | BA63: ='VRN - Vedlejší rozpočtové...'!F34 -> 0 | BB63: ='VRN - Vedlejší rozpočtové...'!F35 -> 0 | BC63: ='VRN - Vedlejší rozpočtové...'!F36 -> 0 | BD63: ='VRN - Vedlejší rozpočtové...'!F37 -> 0 | BT63: 1 | BV63: IMPORT | BW63: {f581d15f-cf4e-4bfc-9afb-24a105e15001} | BX63: {3c8a26f4-8082-459f-bee6-8f2d752bf610} | CM63: 2

Sheet 1.1 - Architektonické a s...
AT2: {106c7763-2d71-44ab-9d01-0588b2b42573}
AT3: 2
D4: KRYCÍ LIST SOUPISU PRACÍ | M4: v --- níže se nacházejí doplnkové a pomocné údaje k sestavám --- v | AT4: False
D6: Stavba:
E7: ='Rekapitulace stavby'!K6 -> Stavební úpravy objektu č.p. 104 a 105, Café Herzog, Broumov - 1. etapa
D8: Objekt:
E9: SO 01 - Hlavní objekt
D10: Soupis:
E11: 1.1 - Architektonické a stavebně-technické řešení
D13: KSO: | I13: CC-CZ:
D14: Místo: | F14: k. ú. Broumov | I14: Datum: | J14: ='Rekapitulace stavby'!AN8 -> 10. 10. 2022
D16: Zadavatel: | I16: IČ:
I17: DIČ:
D19: Uchazeč: | I19: IČ: | J19: ='Rekapitulace stavby'!AN13 -> Vyplň údaj
E20: ='Rekapitulace stavby'!E14 -> Vyplň údaj | I20: DIČ: | J20: ='Rekapitulace stavby'!AN14 -> Vyplň údaj
D22: Projektant: | I22: IČ: | J22: 60109971
E23: INS spol. s r.o. | I23: DIČ: | J23: CZ60109971
D25: Zpracovatel: | I25: IČ:
E26: Ing. Michaela Hůlková | I26: DIČ:
D28: Poznámka:
D32: Cena bez DPH | J32: =ROUND(J118, 2) -> 0
F34: Základ daně | I34: Sazba daně | J34: Výše daně
D35: DPH | E35: základní | F35: =ROUND((SUM(BE118:BE443)), 2) -> 0 | I35: 0.21 | J35: =ROUND(((SUM(BE118:BE443))*I35), 2) -> 0
E36: snížená | F36: =ROUND((SUM(BF118:BF443)), 2) -> 0 | I36: 0.15 | J36: =ROUND(((SUM(BF118:BF443))*I36), 2) -> 0
E37: zákl. přenesená | F37: =ROUND((SUM(BG118:BG443)), 2) -> 0 | I37: 0.21 | J37: =0 -> 0
E38: sníž. přenesená | F38: =ROUND((SUM(BH118:BH443)), 2) -> 0 | I38: 0.15 | J38: =0 -> 0
E39: nulová | F39: =ROUND((SUM(BI118:BI443)), 2) -> 0 | I39: 0 | J39: =0 -> 0
D41: Cena s DPH | G41: v | H41: CZK | J41: =SUM(J32:J39) -> 0
C47: REKAPITULACE ČLENĚNÍ SOUPISU PRACÍ
C49: Stavba:
E50: =E7 -> Stavební úpravy objektu č.p. 104 a 105, Café Herzog, Broumov - 1. etapa
C51: Objekt:
E52: SO 01 - Hlavní objekt
C53: Soupis:
E54: =E11 -> 1.1 - Architektonické a stavebně-technické řešení
C56: Místo: | F56: =F14 -> k. ú. Broumov | I56: Datum: | J56: =IF(J14="","",J14) -> 10. 10. 2022
C58: Zadavatel: | F58: =E17 | I58: Projektant: | J58: =E23 -> INS spol. s r.o.
C59: Uchazeč: | F59: =IF(E20="","",E20) -> Vyplň údaj | I59: Zpracovatel: | J59: =E26 -> Ing. Michaela Hůlková
C61: Kód dílu - Popis | J61: Cena celkem [CZK]
C63: Náklady stavby celkem | J63: =J118 -> 0 | AU63: -1
D64: HSV - Práce a dodávky HSV | J64: =J119 -> 0
D65: 3 - Svislé a kompletní konstrukce | J65: =J120 -> 0
D66: 31 - Zdi pozemních staveb | J66: =J121 -> 0
D67: 34 - Stěny a příčky | J67: =J138 -> 0
D68: 6 - Úpravy povrchů, podlahy a osazování výplní | J68: =J143 -> 0
D69: 61 - Úprava povrchů vnitřních | J69: =J144 -> 0
D70: 63 - Podlahy a podlahové konstrukce | J70: =J163 -> 0
D71: 9 - Ostatní konstrukce a práce, bourání | J71: =J180 -> 0
D72: 94 - Lešení a stavební výtahy | J72: =J181 -> 0
D73: 95 - Různé dokončovací konstrukce a práce pozemních staveb | J73: =J184 -> 0
D74: 96 - Bourání konstrukcí | J74: =J188 -> 0
D75: 97 - Prorážení otvorů a ostatní bourací práce | J75: =J203 -> 0
D76: 997 - Přesun sutě | J76: =J220 -> 0
D77: 998 - Přesun hmot | J77: =J229 -> 0
D78: PSV - Práce a dodávky PSV | J78: =J232 -> 0
D79: 713 - Izolace tepelné | J79: =J233 -> 0
D80: 761 - Konstrukce prosvětlovací | J80: =J245 -> 0
D81: 762X - Konstrukce tesařské - demontáže, bourání | J81: =J252 -> 0
D82: 763 - Konstrukce suché výstavby | J82: =J257 -> 0
D83: 766V - Konstrukce truhlářské - truhlářské výrobky | J83: =J288 -> 0
D84: 766X - Konstrukce truhlářské - demontáže, bourání | J84: =J304 -> 0
D85: 767V - Konstrukce zámečnické - zámečnické výrobky | J85: =J307 -> 0
D86: 771 - Podlahy z dlaždic | J86: =J311 -> 0
D87: 775 - Podlahy skládané | J87: =J337 -> 0
D88: 775X - Podlahy skládané - demontáže, bourání | J88: =J352 -> 0
D89: 776 - Podlahy povlakové | J89: =J355 -> 0
D90: 776X - Podlahy povlakové - demontáže, bourání | J90: =J371 -> 0
D91: 777 - Podlahy lité | J91: =J376 -> 0
D92: 781 - Dokončovací práce - obklady | J92: =J381 -> 0
D93: 784 - Dokončovací práce - malby a tapety | J93: =J413 -> 0
D94: OST - Ostatní | J94: =J434 -> 0
D95: OSV - Ostatní - ostatní výrobky | J95: =J435 -> 0
D96: POZ - Požární ochrana | J96: =J441 -> 0
C103: SOUPIS PRACÍ
C105: Stavba:
E106: =E7 -> Stavební úpravy objektu č.p. 104 a 105, Café Herzog, Broumov - 1. etapa
C107: Objekt:
E108: SO 01 - Hlavní objekt
C109: Soupis:
E110: =E11 -> 1.1 - Architektonické a stavebně-technické řešení
C112: Místo: | F112: =F14 -> k. ú. Broumov | I112: Datum: | J112: =IF(J14="","",J14) -> 10. 10. 2022
C114: Zadavatel: | F114: =E17 | I114: Projektant: | J114: =E23 -> INS spol. s r.o.
C115: Uchazeč: | F115: =IF(E20="","",E20) -> Vyplň údaj | I115: Zpracovatel: | J115: =E26 -> Ing. Michaela Hůlková
C117: PČ | D117: Typ | E117: Kód | F117: Popis | G117: MJ | H117: Množství | I117: J.cena [CZK] | J117: Cena celkem [CZK] | K117: Cenová soustava | N117: DPH | O117: J. Nh [h] | P117: Nh celkem [h] | Q117: J. hmotnost [t] | R117: Hmotnost celkem [t] | S117: J. suť [t] | T117: Suť Celkem [t]
C118: Náklady soupisu celkem | J118: =BK118 -> 0 | P118: =P119+P232+P434 -> 0 | R118: =R119+R232+R434 -> 38.849302 | T118: =T119+T232+T434 -> 29.034079 | AT118: D | AU118: -1 | BK118: =BK119+BK232+BK434 -> 0
D119: D | E119: HSV | F119: Práce a dodávky HSV | J119: =BK119 -> 0 | P119: =P120+P143+P180+P220+P229 -> 0 | R119: =R120+R143+R180+R220+R229 -> 33.94624 | T119: =T120+T143+T180+T220+T229 -> 25.294112 | AR119: 1 | AT119: D | AU119: 0 | AY119: ROZPOCET | BK119: =BK120+BK143+BK180+BK220+BK229 -> 0
D120: D | E120: 3 | F120: Svislé a kompletní konstrukce | J120: =BK120 -> 0 | P120: =P121+P138 -> 0 | R120: =R121+R138 -> 11.392422 | T120: =T121+T138 -> 0 | AR120: 1 | AT120: D | AU120: 1 | AY120: ROZPOCET | BK120: =BK121+BK138 -> 0
D121: D | E121: 31 | F121: Zdi pozemních staveb | J121: =BK121 -> 0 | P121: =SUM(P122:P137) -> 0 | R121: =SUM(R122:R137) -> 11.188169 | T121: =SUM(T122:T137) -> 0 | AR121: 1 | AT121: D | AU121: 2 | AY121: ROZPOCET | BK121: =SUM(BK122:BK137) -> 0
C122: 1 | D122: K | E122: 310237271 | F122: Zazdívka otvorů ve zdivu nadzákladovém cihlami pálenými plochy přes 0,09 m2 do 0,25 m2, ve zdi tl. přes 600 do 750 mm | G122: kus | H122: 1 | J122: =ROUND(I122*H122,2) -> 0 | N122: základní | P122: =O122*H122 -> 0 | Q122: 0.32623 | R122: =Q122*H122 -> 0.32623 | S122: 0 | T122: =S122*H122 -> 0 | AR122: 4 | AT122: K | AU122: 3 | AY122: ROZPOCET | BE122: =IF(N122="základní",J122,0) -> 0 | BF122: =IF(N122="snížená",J122,0) -> 0 | BG122: =IF(N122="zákl. přenesená",J122,0) -> 0 | BH122: =IF(N122="sníž. přenesená",J122,0) -> 0 | BI122: =IF(N122="nulová",J122,0) -> 0 | BJ122: 1 | BK122: =ROUND(I122*H122,2) -> 0 | BL122: 4 | BM122: 1040249246
D123: Online PSC | F123: https://podminky.urs.cz/item/CS_URS_2023_02/310237271 | AT123: Online PSC | AU123: 3
C124: 2 | D124: K | E124: 310238211 | F124: Zazdívka otvorů ve zdivu nadzákladovém cihlami pálenými plochy přes 0,25 m2 do 1 m2 na maltu vápenocementovou | G124: m3 | H124: 0.475 | J124: =ROUND(I124*H124,2) -> 0 | N124: základní | P124: =O124*H124 -> 0 | Q124: 1.8775 | R124: =Q124*H124 -> 0.8918125 | S124: 0 | T124: =S124*H124 -> 0 | AR124: 4 | AT124: K | AU124: 3 | AY124: ROZPOCET | BE124: =IF(N124="základní",J124,0) -> 0 | BF124: =IF(N124="snížená",J124,0) -> 0 | BG124: =IF(N124="zákl. přenesená",J124,0) -> 0 | BH124: =IF(N124="sníž. přenesená",J124,0) -> 0 | BI124: =IF(N124="nulová",J124,0) -> 0 | BJ124: 1 | BK124: =ROUND(I124*H124,2) -> 0 | BL124: 4 | BM124: 1614728607
D125: Online PSC | F125: https://podminky.urs.cz/item/CS_URS_2023_02/310238211 | AT125: Online PSC | AU125: 3
C126: 3 | D126: K | E126: 310239211 | F126: Zazdívka otvorů ve zdivu nadzákladovém cihlami pálenými plochy přes 1 m2 do 4 m2 na maltu vápenocementovou | G126: m3 | H126: 4.53 | J126: =ROUND(I126*H126,2) -> 0 | N126: základní | P126: =O126*H126 -> 0 | Q126: 1.8775 | R126: =Q126*H126 -> 8.505075 | S126: 0 | T126: =S126*H126 -> 0 | AR126: 4 | AT126: K | AU126: 3 | AY126: ROZPOCET | BE126: =IF(N126="základní",J126,0) -> 0 | BF126: =IF(N126="snížená",J126,0) -> 0 | BG126: =IF(N126="zákl. přenesená",J126,0) -> 0 | BH126: =IF(N126="sníž. přenesená",J126,0) -> 0 | BI126: =IF(N126="nulová",J126,0) -> 0 | BJ126: 1 | BK126: =ROUND(I126*H126,2) -> 0 | BL126: 4 | BM126: -781738477
D127: Online PSC | F127: https://podminky.urs.cz/item/CS_URS_2023_02/310239211 | AT127: Online PSC | AU127: 3
C128: 4 | D128: K | E128: 317234410 | F128: Vyzdívka mezi nosníky cihlami pálenými na maltu cementovou | G128: m3 | H128: 0.62 | J128: =ROUND(I128*H128,2) -> 0 | N128: základní | P128: =O128*H128 -> 0 | Q128: 1.94302 | R128: =Q128*H128 -> 1.2046724 | S128: 0 | T128: =S128*H128 -> 0 | AR128: 4 | AT128: K | AU128: 3 | AY128: ROZPOCET | BE128: =IF(N128="základní",J128,0) -> 0 | BF128: =IF(N128="snížená",J128,0) -> 0 | BG128: =IF(N128="zákl. přenesená",J128,0) -> 0 | BH128: =IF(N128="sníž. přenesená",J128,0) -> 0 | BI128: =IF(N128="nulová",J128,0) -> 0 | BJ128: 1 | BK128: =ROUND(I128*H128,2) -> 0 | BL128: 4 | BM128: 547747788
D129: Online PSC | F129: https://podminky.urs.cz/item/CS_URS_2023_02/317234410 | AT129: Online PSC | AU129: 3
C130: 5 | D130: K | E130: 317944321 | F130: Válcované nosníky dodatečně osazované do připravených otvorů bez zazdění hlav do č. 12 | G130: t | H130: 0.014 | J130: =ROUND(I130*H130,2) -> 0 | N130: základní | P130: =O130*H130 -> 0 | Q130: 1.09 | R130: =Q130*H130 -> 0.01526 | S130: 0 | T130: =S130*H130 -> 0 | AR130: 4 | AT130: K | AU130: 3 | AY130: ROZPOCET | BE130: =IF(N130="základní",J130,0) -> 0 | BF130: =IF(N130="snížená",J130,0) -> 0 | BG130: =IF(N130="zákl. přenesená",J130,0) -> 0 | BH130: =IF(N130="sníž. přenesená",J130,0) -> 0 | BI130: =IF(N130="nulová",J130,0) -> 0 | BJ130: 1 | BK130: =ROUND(I130*H130,2) -> 0 | BL130: 4 | BM130: -344265890
D131: Online PSC | F131: https://podminky.urs.cz/item/CS_URS_2023_02/317944321 | AT131: Online PSC | AU131: 3
C132: 6 | D132: K | E132: 317944321 | F132: Válcované nosníky dodatečně osazované do připravených otvorů bez zazdění hlav do č. 12 | G132: t | H132: 0.075 | J132: =ROUND(I132*H132,2) -> 0 | N132: základní | P132: =O132*H132 -> 0 | Q132: 1.09 | R132: =Q132*H132 -> 0.08175 | S132: 0 | T132: =S132*H132 -> 0 | AR132: 4 | AT132: K | AU132: 3 | AY132: ROZPOCET | BE132: =IF(N132="základní",J132,0) -> 0 | BF132: =IF(N132="snížená",J132,0) -> 0 | BG132: =IF(N132="zákl. přenesená",J132,0) -> 0 | BH132: =IF(N132="sníž. přenesená",J132,0) -> 0 | BI132: =IF(N132="nulová",J132,0) -> 0 | BJ132: 1 | BK132: =ROUND(I132*H132,2) -> 0 | BL132: 4 | BM132: -1893103277
D133: Online PSC | F133: https://podminky.urs.cz/item/CS_URS_2023_02/317944321 | AT133: Online PSC | AU133: 3
...

Sheet 1.2 - Stavebně-kontrukční...
AT2: {05f4dec2-ea39-4f5f-b60e-10f7b2c0d740}
AT3: 2
D4: KRYCÍ LIST SOUPISU PRACÍ | M4: v --- níže se nacházejí doplnkové a pomocné údaje k sestavám --- v | AT4: False
D6: Stavba:
E7: ='Rekapitulace stavby'!K6 -> Stavební úpravy objektu č.p. 104 a 105, Café Herzog, Broumov - 1. etapa
D8: Objekt:
E9: SO 01 - Hlavní objekt
D10: Soupis:
E11: 1.2 - Stavebně-kontrukční řešení
D13: KSO: | I13: CC-CZ:
D14: Místo: | F14: k. ú. Broumov | I14: Datum: | J14: ='Rekapitulace stavby'!AN8 -> 10. 10. 2022
D16: Zadavatel: | I16: IČ:
I17: DIČ:
D19: Uchazeč: | I19: IČ: | J19: ='Rekapitulace stavby'!AN13 -> Vyplň údaj
E20: ='Rekapitulace stavby'!E14 -> Vyplň údaj | I20: DIČ: | J20: ='Rekapitulace stavby'!AN14 -> Vyplň údaj
D22: Projektant: | I22: IČ: | J22: 60109971
E23: INS spol. s r.o. | I23: DIČ: | J23: CZ60109971
D25: Zpracovatel: | I25: IČ:
E26: Ing. Michaela Hůlková | I26: DIČ:
D28: Poznámka:
D32: Cena bez DPH | J32: =ROUND(J102, 2) -> 0
F34: Základ daně | I34: Sazba daně | J34: Výše daně
D35: DPH | E35: základní | F35: =ROUND((SUM(BE102:BE165)), 2) -> 0 | I35: 0.21 | J35: =ROUND(((SUM(BE102:BE165))*I35), 2) -> 0
E36: snížená | F36: =ROUND((SUM(BF102:BF165)), 2) -> 0 | I36: 0.15 | J36: =ROUND(((SUM(BF102:BF165))*I36), 2) -> 0
E37: zákl. přenesená | F37: =ROUND((SUM(BG102:BG165)), 2) -> 0 | I37: 0.21 | J37: =0 -> 0
E38: sníž. přenesená | F38: =ROUND((SUM(BH102:BH165)), 2) -> 0 | I38: 0.15 | J38: =0 -> 0
E39: nulová | F39: =ROUND((SUM(BI102:BI165)), 2) -> 0 | I39: 0 | J39: =0 -> 0
D41: Cena s DPH | G41: v | H41: CZK | J41: =SUM(J32:J39) -> 0
C47: REKAPITULACE ČLENĚNÍ SOUPISU PRACÍ
C49: Stavba:
E50: =E7 -> Stavební úpravy objektu č.p. 104 a 105, Café Herzog, Broumov - 1. etapa
C51: Objekt:
E52: SO 01 - Hlavní objekt
C53: Soupis:
E54: =E11 -> 1.2 - Stavebně-kontrukční řešení
C56: Místo: | F56: =F14 -> k. ú. Broumov | I56: Datum: | J56: =IF(J14="","",J14) -> 10. 10. 2022
C58: Zadavatel: | F58: =E17 | I58: Projektant: | J58: =E23 -> INS spol. s r.o.
C59: Uchazeč: | F59: =IF(E20="","",E20) -> Vyplň údaj | I59: Zpracovatel: | J59: =E26 -> Ing. Michaela Hůlková
C61: Kód dílu - Popis | J61: Cena celkem [CZK]
C63: Náklady stavby celkem | J63: =J102 -> 0 | AU63: -1
D64: HSV - Práce a dodávky HSV | J64: =J103 -> 0
D65: 3 - Svislé a kompletní konstrukce | J65: =J104 -> 0
D66: 31 - Zdi pozemních staveb | J66: =J105 -> 0
D67: 4 - Vodorovné konstrukce | J67: =J108 -> 0
D68: 41 - Stropy a stropní konstrukce pozemních staveb | J68: =J109 -> 0
D69: 6 - Úpravy povrchů, podlahy a osazování výplní | J69: =J120 -> 0
D70: 61 - Úprava povrchů vnitřních | J70: =J121 -> 0
D71: 9 - Ostatní konstrukce a práce, bourání | J71: =J124 -> 0
D72: 94 - Lešení a stavební výtahy | J72: =J125 -> 0
D73: 95 - Různé dokončovací konstrukce a práce pozemních staveb | J73: =J128 -> 0
D74: 97 - Prorážení otvorů a ostatní bourací práce | J74: =J132 -> 0
D75: 997 - Přesun sutě | J75: =J139 -> 0
D76: 998 - Přesun hmot | J76: =J148 -> 0
D77: PSV - Práce a dodávky PSV | J77: =J151 -> 0
D78: 762 - Konstrukce tesařské | J78: =J152 -> 0
D79: 762X - Konstrukce tesařské - demontáže, bourání | J79: =J156 -> 0
D80: 767V - Konstrukce zámečnické - zámečnické výrobky | J80: =J161 -> 0
C87: SOUPIS PRACÍ
C89: Stavba:
E90: =E7 -> Stavební úpravy objektu č.p. 104 a 105, Café Herzog, Broumov - 1. etapa
C91: Objekt:
E92: SO 01 - Hlavní objekt
C93: Soupis:
E94: =E11 -> 1.2 - Stavebně-kontrukční řešení
C96: Místo: | F96: =F14 -> k. ú. Broumov | I96: Datum: | J96: =IF(J14="","",J14) -> 10. 10. 2022
C98: Zadavatel: | F98: =E17 | I98: Projektant: | J98: =E23 -> INS spol. s r.o.
C99: Uchazeč: | F99: =IF(E20="","",E20) -> Vyplň údaj | I99: Zpracovatel: | J99: =E26 -> Ing. Michaela Hůlková
C101: PČ | D101: Typ | E101: Kód | F101: Popis | G101: MJ | H101: Množství | I101: J.cena [CZK] | J101: Cena celkem [CZK] | K101: Cenová soustava | N101: DPH | O101: J. Nh [h] | P101: Nh celkem [h] | Q101: J. hmotnost [t] | R101: Hmotnost celkem [t] | S101: J. suť [t] | T101: Suť Celkem [t]
C102: Náklady soupisu celkem | J102: =BK102 -> 0 | P102: =P103+P151 -> 0 | R102: =R103+R151 -> 1.433133 | T102: =T103+T151 -> 3.21018 | AT102: D | AU102: -1 | BK102: =BK103+BK151 -> 0
D103: D | E103: HSV | F103: Práce a dodávky HSV | J103: =BK103 -> 0 | P103: =P104+P108+P120+P124+P139+P148 -> 0 | R103: =R104+R108+R120+R124+R139+R148 -> 1.363133 | T103: =T104+T108+T120+T124+T139+T148 -> 2.2915 | AR103: 1 | AT103: D | AU103: 0 | AY103: ROZPOCET | BK103: =BK104+BK108+BK120+BK124+BK139+BK148 -> 0
D104: D | E104: 3 | F104: Svislé a kompletní konstrukce | J104: =BK104 -> 0 | P104: =P105 -> 0 | R104: =R105 -> 0.02751291 | T104: =T105 -> 0 | AR104: 1 | AT104: D | AU104: 1 | AY104: ROZPOCET | BK104: =BK105 -> 0
D105: D | E105: 31 | F105: Zdi pozemních staveb | J105: =BK105 -> 0 | P105: =SUM(P106:P107) -> 0 | R105: =SUM(R106:R107) -> 0.02751291 | T105: =SUM(T106:T107) -> 0 | AR105: 1 | AT105: D | AU105: 2 | AY105: ROZPOCET | BK105: =SUM(BK106:BK107) -> 0
C106: 1 | D106: K | E106: 319201321 | F106: Vyrovnání nerovného povrchu vnitřního i vnějšího zdiva bez odsekání vadných cihel, maltou (s dodáním hmot) tl. do 30 mm | G106: m2 | H106: 0.963 | J106: =ROUND(I106*H106,2) -> 0 | N106: základní | P106: =O106*H106 -> 0 | Q106: 0.02857 | R106: =Q106*H106 -> 0.02751291 | S106: 0 | T106: =S106*H106 -> 0 | AR106: 4 | AT106: K | AU106: 3 | AY106: ROZPOCET | BE106: =IF(N106="základní",J106,0) -> 0 | BF106: =IF(N106="snížená",J106,0) -> 0 | BG106: =IF(N106="zákl. přenesená",J106,0) -> 0 | BH106: =IF(N106="sníž. přenesená",J106,0) -> 0 | BI106: =IF(N106="nulová",J106,0) -> 0 | BJ106: 1 | BK106: =ROUND(I106*H106,2) -> 0 | BL106: 4 | BM106: 158282451
D107: Online PSC | F107: https://podminky.urs.cz/item/CS_URS_2023_02/319201321 | AT107: Online PSC | AU107: 3
D108: D | E108: 4 | F108: Vodorovné konstrukce | J108: =BK108 -> 0 | P108: =P109 -> 0 | R108: =R109 -> 1.3267816 | T108: =T109 -> 0 | AR108: 1 | AT108: D | AU108: 1 | AY108: ROZPOCET | BK108: =BK109 -> 0
D109: D | E109: 41 | F109: Stropy a stropní konstrukce pozemních staveb | J109: =BK109 -> 0 | P109: =SUM(P110:P119) -> 0 | R109: =SUM(R110:R119) -> 1.3267816 | T109: =SUM(T110:T119) -> 0 | AR109: 1 | AT109: D | AU109: 2 | AY109: ROZPOCET | BK109: =SUM(BK110:BK119) -> 0
C110: 2 | D110: K | E110: 411388531 | F110: Zabetonování otvorů ve stropech nebo v klenbách včetně lešení, bednění, odbednění a výztuže (materiál v ceně) ve stropech železobetonových, tvárnicových a prefabrikovaných | G110: m3 | H110: 0.289 | J110: =ROUND(I110*H110,2) -> 0 | N110: základní | P110: =O110*H110 -> 0 | Q110: 2.40978 | R110: =Q110*H110 -> 0.69642642 | S110: 0 | T110: =S110*H110 -> 0 | AR110: 4 | AT110: K | AU110: 3 | AY110: ROZPOCET | BE110: =IF(N110="základní",J110,0) -> 0 | BF110: =IF(N110="snížená",J110,0) -> 0 | BG110: =IF(N110="zákl. přenesená",J110,0) -> 0 | BH110: =IF(N110="sníž. přenesená",J110,0) -> 0 | BI110: =IF(N110="nulová",J110,0) -> 0 | BJ110: 1 | BK110: =ROUND(I110*H110,2) -> 0 | BL110: 4 | BM110: 2118839932
D111: Online PSC | F111: https://podminky.urs.cz/item/CS_URS_2023_02/411388531 | AT111: Online PSC | AU111: 3
C112: 3 | D112: K | E112: 413232211 | F112: Zazdívka zhlaví stropních trámů nebo válcovaných nosníků pálenými cihlami válcovaných nosníků, výšky do 150 mm | G112: kus | H112: 7 | J112: =ROUND(I112*H112,2) -> 0 | N112: základní | P112: =O112*H112 -> 0 | Q112: 0.02278 | R112: =Q112*H112 -> 0.15946 | S112: 0 | T112: =S112*H112 -> 0 | AR112: 4 | AT112: K | AU112: 3 | AY112: ROZPOCET | BE112: =IF(N112="základní",J112,0) -> 0 | BF112: =IF(N112="snížená",J112,0) -> 0 | BG112: =IF(N112="zákl. přenesená",J112,0) -> 0 | BH112: =IF(N112="sníž. přenesená",J112,0) -> 0 | BI112: =IF(N112="nulová",J112,0) -> 0 | BJ112: 1 | BK112: =ROUND(I112*H112,2) -> 0 | BL112: 4 | BM112: -644245254
D113: Online PSC | F113: https://podminky.urs.cz/item/CS_URS_2023_02/413232211 | AT113: Online PSC | AU113: 3
C114: 4 | D114: K | E114: 413232221 | F114: Zazdívka zhlaví stropních trámů nebo válcovaných nosníků pálenými cihlami válcovaných nosníků, výšky přes 150 do 300 mm | G114: kus | H114: 7 | J114: =ROUND(I114*H114,2) -> 0 | N114: základní | P114: =O114*H114 -> 0 | Q114: 0.059 | R114: =Q114*H114 -> 0.413 | S114: 0 | T114: =S114*H114 -> 0 | AR114: 4 | AT114: K | AU114: 3 | AY114: ROZPOCET | BE114: =IF(N114="základní",J114,0) -> 0 | BF114: =IF(N114="snížená",J114,0) -> 0 | BG114: =IF(N114="zákl. přenesená",J114,0) -> 0 | BH114: =IF(N114="sníž. přenesená",J114,0) -> 0 | BI114: =IF(N114="nulová",J114,0) -> 0 | BJ114: 1 | BK114: =ROUND(I114*H114,2) -> 0 | BL114: 4 | BM114: -167773123
D115: Online PSC | F115: https://podminky.urs.cz/item/CS_URS_2023_02/413232221 | AT115: Online PSC | AU115: 3
C116: 5 | D116: K | E116: 413352215 | F116: Podpěrná konstrukce nosníků a průvlaků výšky podepření přes 4 do 6 m výšky nosníku (po spodní hranu stropní desky) přes 100 cm zřízení | G116: m2 | H116: 32.81 | J116: =ROUND(I116*H116,2) -> 0 | N116: základní | P116: =O116*H116 -> 0 | Q116: 0.00176456 | R116: =Q116*H116 -> 0.057895214 | S116: 0 | T116: =S116*H116 -> 0 | AR116: 4 | AT116: K | AU116: 3 | AY116: ROZPOCET | BE116: =IF(N116="základní",J116,0) -> 0 | BF116: =IF(N116="snížená",J116,0) -> 0 | BG116: =IF(N116="zákl. přenesená",J116,0) -> 0 | BH116: =IF(N116="sníž. přenesená",J116,0) -> 0 | BI116: =IF(N116="nulová",J116,0) -> 0 | BJ116: 1 | BK116: =ROUND(I116*H116,2) -> 0 | BL116: 4 | BM116: -1379689324
D117: Online PSC | F117: https://podminky.urs.cz/item/CS_URS_2023_02/413352215 | AT117: Online PSC | AU117: 3
C118: 6 | D118: K | E118: 413352216 | F118: Podpěrná konstrukce nosníků a průvlaků výšky podepření přes 4 do 6 m výšky nosníku (po spodní hranu stropní desky) přes 100 cm odstranění | G118: m2 | H118: 32.81 | J118: =ROUND(I118*H118,2) -> 0 | N118: základní | P118: =O118*H118 -> 0 | Q118: 0 | R118: =Q118*H118 -> 0 | S118: 0 | T118: =S118*H118 -> 0 | AR118: 4 | AT118: K | AU118: 3 | AY118: ROZPOCET | BE118: =IF(N118="základní",J118,0) -> 0 | BF118: =IF(N118="snížená",J118,0) -> 0 | BG118: =IF(N118="zákl. přenesená",J118,0) -> 0 | BH118: =IF(N118="sníž. přenesená",J118,0) -> 0 | BI118: =IF(N118="nulová",J118,0) -> 0 | BJ118: 1 | BK118: =ROUND(I118*H118,2) -> 0 | BL118: 4 | BM118: -560212775
D119: Online PSC | F119: https://podminky.urs.cz/item/CS_URS_2023_02/413352216 | AT119: Online PSC | AU119: 3
D120: D | E120: 6 | F120: Úpravy povrchů, podlahy a osazování výplní | J120: =BK120 -> 0 | P120: =P121 -> 0 | R120: =R121 -> 0 | T120: =T121 -> 0 | AR120: 1 | AT120: D | AU120: 1 | AY120: ROZPOCET | BK120: =BK121 -> 0
D121: D | E121: 61 | F121: Úprava povrchů vnitřních | J121: =BK121 -> 0 | P121: =SUM(P122:P123) -> 0 | R121: =SUM(R122:R123) -> 0 | T121: =SUM(T122:T123) -> 0 | AR121: 1 | AT121: D | AU121: 2 | AY121: ROZPOCET | BK121: =SUM(BK122:BK123) -> 0
C122: 7 | D122: K | E122: 619991001 | F122: Zakrytí vnitřních ploch před znečištěním včetně pozdějšího odkrytí podlah fólií přilepenou lepící páskou | G122: m2 | H122: 32.81 | J122: =ROUND(I122*H122,2) -> 0 | N122: základní | P122: =O122*H122 -> 0 | Q122: 0 | R122: =Q122*H122 -> 0 | S122: 0 | T122: =S122*H122 -> 0 | AR122: 4 | AT122: K | AU122: 3 | AY122: ROZPOCET | BE122: =IF(N122="základní",J122,0) -> 0 | BF122: =IF(N122="snížená",J122,0) -> 0 | BG122: =IF(N122="zákl. přenesená",J122,0) -> 0 | BH122: =IF(N122="sníž. přenesená",J122,0) -> 0 | BI122: =IF(N122="nulová",J122,0) -> 0 | BJ122: 1 | BK122: =ROUND(I122*H122,2) -> 0 | BL122: 4 | BM122: 2015625717
D123: Online PSC | F123: https://podminky.urs.cz/item/CS_URS_2023_02/619991001 | AT123: Online PSC | AU123: 3
D124: D | E124: 9 | F124: Ostatní konstrukce a práce, bourání | J124: =BK124 -> 0 | P124: =P125+P128+P132 -> 0 | R124: =R125+R128+R132 -> 0.00883845 | T124: =T125+T128+T132 -> 2.2915 | AR124: 1 | AT124: D | AU124: 1 | AY124: ROZPOCET | BK124: =BK125+BK128+BK132 -> 0
D125: D | E125: 94 | F125: Lešení a stavební výtahy | J125: =BK125 -> 0 | P125: =SUM(P126:P127) -> 0 | R125: =SUM(R126:R127) -> 0.0068901 | T125: =SUM(T126:T127) -> 0 | AR125: 1 | AT125: D | AU125: 2 | AY125: ROZPOCET | BK125: =SUM(BK126:BK127) -> 0
C126: 8 | D126: K | E126: 949101112 | F126: Lešení pomocné pracovní pro objekty pozemních staveb pro zatížení do 150 kg/m2, o výšce lešeňové podlahy přes 1,9 do 3,5 m | G126: m2 | H126: 32.81 | J126: =ROUND(I126*H126,2) -> 0 | N126: základní | P126: =O126*H126 -> 0 | Q126: 0.00021 | R126: =Q126*H126 -> 0.0068901 | S126: 0 | T126: =S126*H126 -> 0 | AR126: 4 | AT126: K | AU126: 3 | AY126: ROZPOCET | BE126: =IF(N126="základní",J126,0) -> 0 | BF126: =IF(N126="snížená",J126,0) -> 0 | BG126: =IF(N126="zákl. přenesená",J126,0) -> 0 | BH126: =IF(N126="sníž. přenesená",J126,0) -> 0 | BI126: =IF(N126="nulová",J126,0) -> 0 | BJ126: 1 | BK126: =ROUND(I126*H126,2) -> 0 | BL126: 4 | BM126: 821716155
D127: Online PSC | F127: https://podminky.urs.cz/item/CS_URS_2023_02/949101112 | AT127: Online PSC | AU127: 3
D128: D | E128: 95 | F128: Různé dokončovací konstrukce a práce pozemních staveb | J128: =BK128 -> 0 | P128: =SUM(P129:P131) -> 0 | R128: =SUM(R129:R131) -> 0.00194835 | T128: =SUM(T129:T131) -> 0 | AR128: 1 | AT128: D | AU128: 2 | AY128: ROZPOCET | BK128: =SUM(BK129:BK131) -> 0
C129: 9 | D129: K | E129: 95290101R | F129: Stavební přípomoce související s realizací díla (např. drobné st. práce, demontáže, prostupy, chráničky, demontáž a zp. montáž podhledů včetně manipulace a přesunu do vyhrazených prostor, provizorní zakrytí a oddělení konstrukcí aj.) | G129: hod | H129: 20 | J129: =ROUND(I129*H129,2) -> 0 | N129: základní | P129: =O129*H129 -> 0 | Q129: 4e-05 | R129: =Q129*H129 -> 0.0008 | S129: 0 | T129: =S129*H129 -> 0 | AR129: 4 | AT129: K | AU129: 3 | AY129: ROZPOCET | BE129: =IF(N129="základní",J129,0) -> 0 | BF129: =IF(N129="snížená",J129,0) -> 0 | BG129: =IF(N129="zákl. přenesená",J129,0) -> 0 | BH129: =IF(N129="sníž. přenesená",J129,0) -> 0 | BI129: =IF(N129="nulová",J129,0) -> 0 | BJ129: 1 | BK129: =ROUND(I129*H129,2) -> 0 | BL129: 4 | BM129: -1470254789
C130: 10 | D130: K | E130: 952901114 | F130: Vyčištění budov nebo objektů před předáním do užívání budov bytové nebo občanské výstavby, světlé výšky podlaží přes 4 m | G130: m2 | H130: 32.81 | J130: =ROUND(I130*H130,2) -> 0 | N130: základní | P130: =O130*H130 -> 0 | Q130: 3.5e-05 | R130: =Q130*H130 -> 0.00114835 | S130: 0 | T130: =S130*H130 -> 0 | AR130: 4 | AT130: K | AU130: 3 | AY130: ROZPOCET | BE130: =IF(N130="základní",J130,0) -> 0 | BF130: =IF(N130="snížená",J130,0) -> 0 | BG130: =IF(N130="zákl. přenesená",J130,0) -> 0 | BH130: =IF(N130="sníž. přenesená",J130,0) -> 0 | BI130: =IF(N130="nulová",J130,0) -> 0 | BJ130: 1 | BK130: =ROUND(I130*H130,2) -> 0 | BL130: 4 | BM130: 425630396
D131: Online PSC | F131: https://podminky.urs.cz/item/CS_URS_2023_02/952901114 | AT131: Online PSC | AU131: 3
D132: D | E132: 97 | F132: Prorážení otvorů a ostatní bourací práce | J132: =BK132 -> 0 | P132: =SUM(P133:P138) -> 0 | R132: =SUM(R133:R138) -> 0 | T132: =SUM(T133:T138) -> 2.2915 | AR132: 1 | AT132: D | AU132: 2 | AY132: ROZPOCET | BK132: =SUM(BK133:BK138) -> 0
C133: 11 | D133: K | E133: 973031325 | F133: Vysekání výklenků nebo kapes ve zdivu z cihel na maltu vápennou nebo vápenocementovou kapes, plochy do 0,10 m2, hl. do 300 mm | G133: kus | H133: 7 | J133: =ROUND(I133*H133,2) -> 0 | N133: základní | P133: =O133*H133 -> 0 | Q133: 0 | R133: =Q133*H133 -> 0 | S133: 0.031 | T133: =S133*H133 -> 0.217 | AR133: 16 | AT133: K | AU133: 3 | AY133: ROZPOCET | BE133: =IF(N133="základní",J133,0) -> 0 | BF133: =IF(N133="snížená",J133,0) -> 0 | BG133: =IF(N133="zákl. přenesená",J133,0) -> 0 | BH133: =IF(N133="sníž. přenesená",J133,0) -> 0 | BI133: =IF(N133="nulová",J133,0) -> 0 | BJ133: 1 | BK133: =ROUND(I133*H133,2) -> 0 | BL133: 16 | BM133: 277510537
...

Sheet 1.4 - Zdravotní technika
AT2: {cd7456ac-34b6-4532-a630-3789b43cefd7}
AT3: 2
D4: KRYCÍ LIST SOUPISU PRACÍ | M4: v --- níže se nacházejí doplnkové a pomocné údaje k sestavám --- v | AT4: False
D6: Stavba:
E7: ='Rekapitulace stavby'!K6 -> Stavební úpravy objektu č.p. 104 a 105, Café Herzog, Broumov - 1. etapa
D8: Objekt:
E9: SO 01 - Hlavní objekt
D10: Soupis:
E11: 1.4 - Zdravotní technika
D13: KSO: | I13: CC-CZ:
D14: Místo: | F14: k. ú. Broumov | I14: Datum: | J14: ='Rekapitulace stavby'!AN8 -> 10. 10. 2022
D16: Zadavatel: | I16: IČ:
I17: DIČ:
D19: Uchazeč: | I19: IČ: | J19: ='Rekapitulace stavby'!AN13 -> Vyplň údaj
E20: ='Rekapitulace stavby'!E14 -> Vyplň údaj | I20: DIČ: | J20: ='Rekapitulace stavby'!AN14 -> Vyplň údaj
D22: Projektant: | I22: IČ: | J22: 60109971
E23: INS spol. s r.o. | I23: DIČ: | J23: CZ60109971
D25: Zpracovatel: | I25: IČ: | J25: =IF('Rekapitulace stavby'!AN19="","",'Rekapitulace stavby'!AN19)
E26: =IF('Rekapitulace stavby'!E20="","",'Rekapitulace stavby'!E20) -> Ing. Michaela Hůlková | I26: DIČ: | J26: =IF('Rekapitulace stavby'!AN20="","",'Rekapitulace stavby'!AN20)
D28: Poznámka:
D32: Cena bez DPH | J32: =ROUND(J93, 2) -> 0
F34: Základ daně | I34: Sazba daně | J34: Výše daně
D35: DPH | E35: základní | F35: =ROUND((SUM(BE93:BE305)), 2) -> 0 | I35: 0.21 | J35: =ROUND(((SUM(BE93:BE305))*I35), 2) -> 0
E36: snížená | F36: =ROUND((SUM(BF93:BF305)), 2) -> 0 | I36: 0.15 | J36: =ROUND(((SUM(BF93:BF305))*I36), 2) -> 0
E37: zákl. přenesená | F37: =ROUND((SUM(BG93:BG305)), 2) -> 0 | I37: 0.21 | J37: =0 -> 0
E38: sníž. přenesená | F38: =ROUND((SUM(BH93:BH305)), 2) -> 0 | I38: 0.15 | J38: =0 -> 0
E39: nulová | F39: =ROUND((SUM(BI93:BI305)), 2) -> 0 | I39: 0 | J39: =0 -> 0
D41: Cena s DPH | G41: v | H41: CZK | J41: =SUM(J32:J39) -> 0
C47: REKAPITULACE ČLENĚNÍ SOUPISU PRACÍ
C49: Stavba:
E50: =E7 -> Stavební úpravy objektu č.p. 104 a 105, Café Herzog, Broumov - 1. etapa
C51: Objekt:
E52: SO 01 - Hlavní objekt
C53: Soupis:
E54: =E11 -> 1.4 - Zdravotní technika
C56: Místo: | F56: =F14 -> k. ú. Broumov | I56: Datum: | J56: =IF(J14="","",J14) -> 10. 10. 2022
C58: Zadavatel: | F58: =E17 | I58: Projektant: | J58: =E23 -> INS spol. s r.o.
C59: Uchazeč: | F59: =IF(E20="","",E20) -> Vyplň údaj | I59: Zpracovatel: | J59: =E26 -> Ing. Michaela Hůlková
C61: Kód dílu - Popis | J61: Cena celkem [CZK]
C63: Náklady stavby celkem | J63: =J93 -> 0 | AU63: -1
D64: HSV - Práce a dodávky HSV | J64: =J94 -> 0
D65: 9 - Ostatní konstrukce a práce, bourání | J65: =J95 -> 0
D66: PSV - Práce a dodávky PSV | J66: =J102 -> 0
D67: 721 - Zdravotechnika - vnitřní kanalizace | J67: =J103 -> 0
D68: 722 - Zdravotechnika - vnitřní vodovod | J68: =J153 -> 0
D69: 725 - Zdravotechnika - zařizovací předměty | J69: =J221 -> 0
D70: 726 - Zdravotechnika - předstěnové instalace | J70: =J288 -> 0
D71: 727 - Zdravotechnika - požární ochrana | J71: =J299 -> 0
C78: SOUPIS PRACÍ
C80: Stavba:
E81: =E7 -> Stavební úpravy objektu č.p. 104 a 105, Café Herzog, Broumov - 1. etapa
C82: Objekt:
E83: SO 01 - Hlavní objekt
C84: Soupis:
E85: =E11 -> 1.4 - Zdravotní technika
C87: Místo: | F87: =F14 -> k. ú. Broumov | I87: Datum: | J87: =IF(J14="","",J14) -> 10. 10. 2022
C89: Zadavatel: | F89: =E17 | I89: Projektant: | J89: =E23 -> INS spol. s r.o.
C90: Uchazeč: | F90: =IF(E20="","",E20) -> Vyplň údaj | I90: Zpracovatel: | J90: =E26 -> Ing. Michaela Hůlková
C92: PČ | D92: Typ | E92: Kód | F92: Popis | G92: MJ | H92: Množství | I92: J.cena [CZK] | J92: Cena celkem [CZK] | K92: Cenová soustava | N92: DPH | O92: J. Nh [h] | P92: Nh celkem [h] | Q92: J. hmotnost [t] | R92: Hmotnost celkem [t] | S92: J. suť [t] | T92: Suť Celkem [t]
C93: Náklady soupisu celkem | J93: =BK93 -> 0 | P93: =P94+P102 -> 0 | R93: =R94+R102 -> 0.52501 | T93: =T94+T102 -> 2.15308 | AT93: D | AU93: -1 | BK93: =BK94+BK102 -> 0
D94: D | E94: HSV | F94: Práce a dodávky HSV | J94: =BK94 -> 0 | P94: =P95 -> 0 | R94: =R95 -> 0 | T94: =T95 -> 1.698 | AR94: 1 | AT94: D | AU94: 0 | AY94: ROZPOCET | BK94: =BK95 -> 0
D95: D | E95: 9 | F95: Ostatní konstrukce a práce, bourání | J95: =BK95 -> 0 | P95: =SUM(P96:P101) -> 0 | R95: =SUM(R96:R101) -> 0 | T95: =SUM(T96:T101) -> 1.698 | AR95: 1 | AT95: D | AU95: 1 | AY95: ROZPOCET | BK95: =SUM(BK96:BK101) -> 0
C96: 1 | D96: K | E96: 974032153 | F96: Vysekání rýh ve stěnách nebo příčkách z dutých cihel, tvárnic, desek z dutých cihel nebo tvárnic do hl. 100 mm a šířky do 100 mm | G96: m | H96: 34 | J96: =ROUND(I96*H96,2) -> 0 | N96: základní | P96: =O96*H96 -> 0 | Q96: 0 | R96: =Q96*H96 -> 0 | S96: 0.015 | T96: =S96*H96 -> 0.51 | AR96: 16 | AT96: K | AU96: 2 | AY96: ROZPOCET | BE96: =IF(N96="základní",J96,0) -> 0 | BF96: =IF(N96="snížená",J96,0) -> 0 | BG96: =IF(N96="zákl. přenesená",J96,0) -> 0 | BH96: =IF(N96="sníž. přenesená",J96,0) -> 0 | BI96: =IF(N96="nulová",J96,0) -> 0 | BJ96: 1 | BK96: =ROUND(I96*H96,2) -> 0 | BL96: 16 | BM96: -1106417341
D97: Online PSC | F97: https://podminky.urs.cz/item/CS_URS_2023_02/974032153 | AT97: Online PSC | AU97: 2
C98: 2 | D98: K | E98: 974032154 | F98: Vysekání rýh ve stěnách nebo příčkách z dutých cihel, tvárnic, desek z dutých cihel nebo tvárnic do hl. 100 mm a šířky do 150 mm | G98: m | H98: 20 | J98: =ROUND(I98*H98,2) -> 0 | N98: základní | P98: =O98*H98 -> 0 | Q98: 0 | R98: =Q98*H98 -> 0 | S98: 0.022 | T98: =S98*H98 -> 0.44 | AR98: 4 | AT98: K | AU98: 2 | AY98: ROZPOCET | BE98: =IF(N98="základní",J98,0) -> 0 | BF98: =IF(N98="snížená",J98,0) -> 0 | BG98: =IF(N98="zákl. přenesená",J98,0) -> 0 | BH98: =IF(N98="sníž. přenesená",J98,0) -> 0 | BI98: =IF(N98="nulová",J98,0) -> 0 | BJ98: 1 | BK98: =ROUND(I98*H98,2) -> 0 | BL98: 4 | BM98: -1551274625
D99: Online PSC | F99: https://podminky.urs.cz/item/CS_URS_2023_02/974032154 | AT99: Online PSC | AU99: 2
C100: 3 | D100: K | E100: 974032164 | F100: Vysekání rýh ve stěnách nebo příčkách z dutých cihel, tvárnic, desek z dutých cihel nebo tvárnic do hl. 150 mm a šířky do 150 mm | G100: m | H100: 22 | J100: =ROUND(I100*H100,2) -> 0 | N100: základní | P100: =O100*H100 -> 0 | Q100: 0 | R100: =Q100*H100 -> 0 | S100: 0.034 | T100: =S100*H100 -> 0.748 | AR100: 4 | AT100: K | AU100: 2 | AY100: ROZPOCET | BE100: =IF(N100="základní",J100,0) -> 0 | BF100: =IF(N100="snížená",J100,0) -> 0 | BG100: =IF(N100="zákl. přenesená",J100,0) -> 0 | BH100: =IF(N100="sníž. přenesená",J100,0) -> 0 | BI100: =IF(N100="nulová",J100,0) -> 0 | BJ100: 1 | BK100: =ROUND(I100*H100,2) -> 0 | BL100: 4 | BM100: 1949309670
D101: Online PSC | F101: https://podminky.urs.cz/item/CS_URS_2023_02/974032164 | AT101: Online PSC | AU101: 2
D102: D | E102: PSV | F102: Práce a dodávky PSV | J102: =BK102 -> 0 | P102: =P103+P153+P221+P288+P299 -> 0 | R102: =R103+R153+R221+R288+R299 -> 0.52501 | T102: =T103+T153+T221+T288+T299 -> 0.45508 | AR102: 2 | AT102: D | AU102: 0 | AY102: ROZPOCET | BK102: =BK103+BK153+BK221+BK288+BK299 -> 0
D103: D | E103: 721 | F103: Zdravotechnika - vnitřní kanalizace | J103: =BK103 -> 0 | P103: =SUM(P104:P152) -> 0 | R103: =SUM(R104:R152) -> 0.23124 | T103: =SUM(T104:T152) -> 0.338 | AR103: 2 | AT103: D | AU103: 1 | AY103: ROZPOCET | BK103: =SUM(BK104:BK152) -> 0
C104: 4 | D104: K | E104: 721140802 | F104: Demontáž potrubí z litinových trub odpadních nebo dešťových do DN 100 | G104: m | H104: 20 | J104: =ROUND(I104*H104,2) -> 0 | N104: základní | P104: =O104*H104 -> 0 | Q104: 0 | R104: =Q104*H104 -> 0 | S104: 0.01492 | T104: =S104*H104 -> 0.2984 | AR104: 16 | AT104: K | AU104: 2 | AY104: ROZPOCET | BE104: =IF(N104="základní",J104,0) -> 0 | BF104: =IF(N104="snížená",J104,0) -> 0 | BG104: =IF(N104="zákl. přenesená",J104,0) -> 0 | BH104: =IF(N104="sníž. přenesená",J104,0) -> 0 | BI104: =IF(N104="nulová",J104,0) -> 0 | BJ104: 1 | BK104: =ROUND(I104*H104,2) -> 0 | BL104: 16 | BM104: -1684330916
D105: Online PSC | F105: https://podminky.urs.cz/item/CS_URS_2023_02/721140802 | AT105: Online PSC | AU105: 2
C106: 5 | D106: K | E106: 721140906 | F106: Opravy odpadního potrubí litinového vsazení odbočky do potrubí DN 125 | G106: kus | H106: 1 | J106: =ROUND(I106*H106,2) -> 0 | N106: základní | P106: =O106*H106 -> 0 | Q106: 0.0222 | R106: =Q106*H106 -> 0.0222 | S106: 0 | T106: =S106*H106 -> 0 | AR106: 16 | AT106: K | AU106: 2 | AY106: ROZPOCET | BE106: =IF(N106="základní",J106,0) -> 0 | BF106: =IF(N106="snížená",J106,0) -> 0 | BG106: =IF(N106="zákl. přenesená",J106,0) -> 0 | BH106: =IF(N106="sníž. přenesená",J106,0) -> 0 | BI106: =IF(N106="nulová",J106,0) -> 0 | BJ106: 1 | BK106: =ROUND(I106*H106,2) -> 0 | BL106: 16 | BM106: -1138671457
D107: Online PSC | F107: https://podminky.urs.cz/item/CS_URS_2023_02/721140906 | AT107: Online PSC | AU107: 2
C108: 6 | D108: K | E108: 721140916 | F108: Opravy odpadního potrubí litinového propojení dosavadního potrubí DN 125 | G108: kus | H108: 2 | J108: =ROUND(I108*H108,2) -> 0 | N108: základní | P108: =O108*H108 -> 0 | Q108: 0.00226 | R108: =Q108*H108 -> 0.00452 | S108: 0 | T108: =S108*H108 -> 0 | AR108: 16 | AT108: K | AU108: 2 | AY108: ROZPOCET | BE108: =IF(N108="základní",J108,0) -> 0 | BF108: =IF(N108="snížená",J108,0) -> 0 | BG108: =IF(N108="zákl. přenesená",J108,0) -> 0 | BH108: =IF(N108="sníž. přenesená",J108,0) -> 0 | BI108: =IF(N108="nulová",J108,0) -> 0 | BJ108: 1 | BK108: =ROUND(I108*H108,2) -> 0 | BL108: 16 | BM108: 608751164
D109: Online PSC | F109: https://podminky.urs.cz/item/CS_URS_2023_02/721140916 | AT109: Online PSC | AU109: 2
C110: 7 | D110: K | E110: 721140926 | F110: Opravy odpadního potrubí litinového krácení trub DN 125 | G110: kus | H110: 2 | J110: =ROUND(I110*H110,2) -> 0 | N110: základní | P110: =O110*H110 -> 0 | Q110: 0 | R110: =Q110*H110 -> 0 | S110: 0 | T110: =S110*H110 -> 0 | AR110: 16 | AT110: K | AU110: 2 | AY110: ROZPOCET | BE110: =IF(N110="základní",J110,0) -> 0 | BF110: =IF(N110="snížená",J110,0) -> 0 | BG110: =IF(N110="zákl. přenesená",J110,0) -> 0 | BH110: =IF(N110="sníž. přenesená",J110,0) -> 0 | BI110: =IF(N110="nulová",J110,0) -> 0 | BJ110: 1 | BK110: =ROUND(I110*H110,2) -> 0 | BL110: 16 | BM110: -455002750
D111: Online PSC | F111: https://podminky.urs.cz/item/CS_URS_2023_02/721140926 | AT111: Online PSC | AU111: 2
C112: 8 | D112: K | E112: 721171808 | F112: Demontáž potrubí z novodurových trub odpadních nebo připojovacích přes 75 do D 114 | G112: m | H112: 20 | J112: =ROUND(I112*H112,2) -> 0 | N112: základní | P112: =O112*H112 -> 0 | Q112: 0 | R112: =Q112*H112 -> 0 | S112: 0.00198 | T112: =S112*H112 -> 0.0396 | AR112: 16 | AT112: K | AU112: 2 | AY112: ROZPOCET | BE112: =IF(N112="základní",J112,0) -> 0 | BF112: =IF(N112="snížená",J112,0) -> 0 | BG112: =IF(N112="zákl. přenesená",J112,0) -> 0 | BH112: =IF(N112="sníž. přenesená",J112,0) -> 0 | BI112: =IF(N112="nulová",J112,0) -> 0 | BJ112: 1 | BK112: =ROUND(I112*H112,2) -> 0 | BL112: 16 | BM112: -273349996
D113: Online PSC | F113: https://podminky.urs.cz/item/CS_URS_2023_02/721171808 | AT113: Online PSC | AU113: 2
C114: 9 | D114: K | E114: 721174004 | F114: Potrubí z trub polypropylenových svodné (ležaté) DN 75 | G114: m | H114: 30 | J114: =ROUND(I114*H114,2) -> 0 | N114: základní | P114: =O114*H114 -> 0 | Q114: 0.00071 | R114: =Q114*H114 -> 0.0213 | S114: 0 | T114: =S114*H114 -> 0 | AR114: 16 | AT114: K | AU114: 2 | AY114: ROZPOCET | BE114: =IF(N114="základní",J114,0) -> 0 | BF114: =IF(N114="snížená",J114,0) -> 0 | BG114: =IF(N114="zákl. přenesená",J114,0) -> 0 | BH114: =IF(N114="sníž. přenesená",J114,0) -> 0 | BI114: =IF(N114="nulová",J114,0) -> 0 | BJ114: 1 | BK114: =ROUND(I114*H114,2) -> 0 | BL114: 16 | BM114: 970321686
D115: Online PSC | F115: https://podminky.urs.cz/item/CS_URS_2023_02/721174004 | AT115: Online PSC | AU115: 2
C116: 10 | D116: K | E116: 721174005 | F116: Potrubí z trub polypropylenových svodné (ležaté) DN 110 | G116: m | H116: 60 | J116: =ROUND(I116*H116,2) -> 0 | N116: základní | P116: =O116*H116 -> 0 | Q116: 0.00206 | R116: =Q116*H116 -> 0.1236 | S116: 0 | T116: =S116*H116 -> 0 | AR116: 16 | AT116: K | AU116: 2 | AY116: ROZPOCET | BE116: =IF(N116="základní",J116,0) -> 0 | BF116: =IF(N116="snížená",J116,0) -> 0 | BG116: =IF(N116="zákl. přenesená",J116,0) -> 0 | BH116: =IF(N116="sníž. přenesená",J116,0) -> 0 | BI116: =IF(N116="nulová",J116,0) -> 0 | BJ116: 1 | BK116: =ROUND(I116*H116,2) -> 0 | BL116: 16 | BM116: 1020197644
D117: Online PSC | F117: https://podminky.urs.cz/item/CS_URS_2023_02/721174005 | AT117: Online PSC | AU117: 2
C118: 11 | D118: K | E118: 721174006 | F118: Potrubí z trub polypropylenových svodné (ležaté) DN 125 | G118: m | H118: 25 | J118: =ROUND(I118*H118,2) -> 0 | N118: základní | P118: =O118*H118 -> 0 | Q118: 0.00155 | R118: =Q118*H118 -> 0.03875 | S118: 0 | T118: =S118*H118 -> 0 | AR118: 16 | AT118: K | AU118: 2 | AY118: ROZPOCET | BE118: =IF(N118="základní",J118,0) -> 0 | BF118: =IF(N118="snížená",J118,0) -> 0 | BG118: =IF(N118="zákl. přenesená",J118,0) -> 0 | BH118: =IF(N118="sníž. přenesená",J118,0) -> 0 | BI118: =IF(N118="nulová",J118,0) -> 0 | BJ118: 1 | BK118: =ROUND(I118*H118,2) -> 0 | BL118: 16 | BM118: -1780867623
D119: Online PSC | F119: https://podminky.urs.cz/item/CS_URS_2022_01/721174006 | AT119: Online PSC | AU119: 2
C120: 12 | D120: K | E120: 721174042 | F120: Potrubí z trub polypropylenových připojovací DN 40 | G120: m | H120: 17 | J120: =ROUND(I120*H120,2) -> 0 | N120: základní | P120: =O120*H120 -> 0 | Q120: 0.00041 | R120: =Q120*H120 -> 0.00697 | S120: 0 | T120: =S120*H120 -> 0 | AR120: 16 | AT120: K | AU120: 2 | AY120: ROZPOCET | BE120: =IF(N120="základní",J120,0) -> 0 | BF120: =IF(N120="snížená",J120,0) -> 0 | BG120: =IF(N120="zákl. přenesená",J120,0) -> 0 | BH120: =IF(N120="sníž. přenesená",J120,0) -> 0 | BI120: =IF(N120="nulová",J120,0) -> 0 | BJ120: 1 | BK120: =ROUND(I120*H120,2) -> 0 | BL120: 16 | BM120: -961841427
D121: Online PSC | F121: https://podminky.urs.cz/item/CS_URS_2023_02/721174042 | AT121: Online PSC | AU121: 2
C122: 13 | D122: K | E122: 721174043 | F122: Potrubí z trub polypropylenových připojovací DN 50 | G122: m | H122: 24 | J122: =ROUND(I122*H122,2) -> 0 | N122: základní | P122: =O122*H122 -> 0 | Q122: 0.00048 | R122: =Q122*H122 -> 0.01152 | S122: 0 | T122: =S122*H122 -> 0 | AR122: 16 | AT122: K | AU122: 2 | AY122: ROZPOCET | BE122: =IF(N122="základní",J122,0) -> 0 | BF122: =IF(N122="snížená",J122,0) -> 0 | BG122: =IF(N122="zákl. přenesená",J122,0) -> 0 | BH122: =IF(N122="sníž. přenesená",J122,0) -> 0 | BI122: =IF(N122="nulová",J122,0) -> 0 | BJ122: 1 | BK122: =ROUND(I122*H122,2) -> 0 | BL122: 16 | BM122: 1357240482
D123: Online PSC | F123: https://podminky.urs.cz/item/CS_URS_2023_02/721174043 | AT123: Online PSC | AU123: 2
C124: 14 | D124: K | E124: 721194104 | F124: Vyměření přípojek na potrubí vyvedení a upevnění odpadních výpustek DN 40 | G124: kus | H124: 6 | J124: =ROUND(I124*H124,2) -> 0 | N124: základní | P124: =O124*H124 -> 0 | Q124: 0 | R124: =Q124*H124 -> 0 | S124: 0 | T124: =S124*H124 -> 0 | AR124: 16 | AT124: K | AU124: 2 | AY124: ROZPOCET | BE124: =IF(N124="základní",J124,0) -> 0 | BF124: =IF(N124="snížená",J124,0) -> 0 | BG124: =IF(N124="zákl. přenesená",J124,0) -> 0 | BH124: =IF(N124="sníž. přenesená",J124,0) -> 0 | BI124: =IF(N124="nulová",J124,0) -> 0 | BJ124: 1 | BK124: =ROUND(I124*H124,2) -> 0 | BL124: 16 | BM124: 130815731
D125: Online PSC | F125: https://podminky.urs.cz/item/CS_URS_2023_02/721194104 | AT125: Online PSC | AU125: 2
C126: 15 | D126: K | E126: 721194105 | F126: Vyměření přípojek na potrubí vyvedení a upevnění odpadních výpustek DN 50 | G126: kus | H126: 21 | J126: =ROUND(I126*H126,2) -> 0 | N126: základní | P126: =O126*H126 -> 0 | Q126: 0 | R126: =Q126*H126 -> 0 | S126: 0 | T126: =S126*H126 -> 0 | AR126: 16 | AT126: K | AU126: 2 | AY126: ROZPOCET | BE126: =IF(N126="základní",J126,0) -> 0 | BF126: =IF(N126="snížená",J126,0) -> 0 | BG126: =IF(N126="zákl. přenesená",J126,0) -> 0 | BH126: =IF(N126="sníž. přenesená",J126,0) -> 0 | BI126: =IF(N126="nulová",J126,0) -> 0 | BJ126: 1 | BK126: =ROUND(I126*H126,2) -> 0 | BL126: 16 | BM126: -826618204
D127: Online PSC | F127: https://podminky.urs.cz/item/CS_URS_2023_02/721194105 | AT127: Online PSC | AU127: 2
C128: 16 | D128: K | E128: 721194107 | F128: Vyměření přípojek na potrubí vyvedení a upevnění odpadních výpustek DN 70 | G128: kus | H128: 2 | J128: =ROUND(I128*H128,2) -> 0 | N128: základní | P128: =O128*H128 -> 0 | Q128: 0 | R128: =Q128*H128 -> 0 | S128: 0 | T128: =S128*H128 -> 0 | AR128: 16 | AT128: K | AU128: 2 | AY128: ROZPOCET | BE128: =IF(N128="základní",J128,0) -> 0 | BF128: =IF(N128="snížená",J128,0) -> 0 | BG128: =IF(N128="zákl. přenesená",J128,0) -> 0 | BH128: =IF(N128="sníž. přenesená",J128,0) -> 0 | BI128: =IF(N128="nulová",J128,0) -> 0 | BJ128: 1 | BK128: =ROUND(I128*H128,2) -> 0 | BL128: 16 | BM128: 1097714946
D129: Online PSC | F129: https://podminky.urs.cz/item/CS_URS_2023_02/721194107 | AT129: Online PSC | AU129: 2
C130: 17 | D130: K | E130: 721194109 | F130: Vyměření přípojek na potrubí vyvedení a upevnění odpadních výpustek DN 110 | G130: kus | H130: 7 | J130: =ROUND(I130*H130,2) -> 0 | N130: základní | P130: =O130*H130 -> 0 | Q130: 0 | R130: =Q130*H130 -> 0 | S130: 0 | T130: =S130*H130 -> 0 | AR130: 16 | AT130: K | AU130: 2 | AY130: ROZPOCET | BE130: =IF(N130="základní",J130,0) -> 0 | BF130: =IF(N130="snížená",J130,0) -> 0 | BG130: =IF(N130="zákl. přenesená",J130,0) -> 0 | BH130: =IF(N130="sníž. přenesená",J130,0) -> 0 | BI130: =IF(N130="nulová",J130,0) -> 0 | BJ130: 1 | BK130: =ROUND(I130*H130,2) -> 0 | BL130: 16 | BM130: 300904996
D131: Online PSC | F131: https://podminky.urs.cz/item/CS_URS_2023_02/721194109 | AT131: Online PSC | AU131: 2
C132: 18 | D132: K | E132: 721211403.HLE | F132: Vpusť podlahová HL 80.1 s vodorovným odtokem DN 50/75 s kulovým kloubem | G132: kus | H132: 2 | J132: =ROUND(I132*H132,2) -> 0 | N132: základní | P132: =O132*H132 -> 0 | Q132: 0.0009 | R132: =Q132*H132 -> 0.0018 | S132: 0 | T132: =S132*H132 -> 0 | AR132: 16 | AT132: K | AU132: 2 | AY132: ROZPOCET | BE132: =IF(N132="základní",J132,0) -> 0 | BF132: =IF(N132="snížená",J132,0) -> 0 | BG132: =IF(N132="zákl. přenesená",J132,0) -> 0 | BH132: =IF(N132="sníž. přenesená",J132,0) -> 0 | BI132: =IF(N132="nulová",J132,0) -> 0 | BJ132: 1 | BK132: =ROUND(I132*H132,2) -> 0 | BL132: 16 | BM132: 2008435059
C133: 19 | D133: K | E133: 721226512 | F133: Zápachové uzávěrky podomítkové (Pe) s krycí deskou pro pračku a myčku DN 50 | G133: kus | H133: 1 | J133: =ROUND(I133*H133,2) -> 0 | N133: základní | P133: =O133*H133 -> 0 | Q133: 0.00022 | R133: =Q133*H133 -> 0.00022 | S133: 0 | T133: =S133*H133 -> 0 | AR133: 16 | AT133: K | AU133: 2 | AY133: ROZPOCET | BE133: =IF(N133="základní",J133,0) -> 0 | BF133: =IF(N133="snížená",J133,0) -> 0 | BG133: =IF(N133="zákl. přenesená",J133,0) -> 0 | BH133: =IF(N133="sníž. přenesená",J133,0) -> 0 | BI133: =IF(N133="nulová",J133,0) -> 0 | BJ133: 1 | BK133: =ROUND(I133*H133,2) -> 0 | BL133: 16 | BM133: 1812875189
...

Sheet 1.5 - Elektroinstalace si...
AT2: {49d6ce45-a3dc-49dc-af95-c0c3b0289756}
AT3: 2
D4: KRYCÍ LIST SOUPISU PRACÍ | M4: v --- níže se nacházejí doplnkové a pomocné údaje k sestavám --- v | AT4: False
D6: Stavba:
E7: ='Rekapitulace stavby'!K6 -> Stavební úpravy objektu č.p. 104 a 105, Café Herzog, Broumov - 1. etapa
D8: Objekt:
E9: SO 01 - Hlavní objekt
D10: Soupis:
E11: 1.5 - Elektroinstalace silnoproud
D13: KSO: | I13: CC-CZ:
D14: Místo: | F14: k. ú. Broumov | I14: Datum: | J14: ='Rekapitulace stavby'!AN8 -> 10. 10. 2022
D16: Zadavatel: | I16: IČ:
I17: DIČ:
D19: Uchazeč: | I19: IČ: | J19: ='Rekapitulace stavby'!AN13 -> Vyplň údaj
E20: ='Rekapitulace stavby'!E14 -> Vyplň údaj | I20: DIČ: | J20: ='Rekapitulace stavby'!AN14 -> Vyplň údaj
D22: Projektant: | I22: IČ: | J22: 60109971
E23: INS spol. s r.o. | I23: DIČ: | J23: CZ60109971
D25: Zpracovatel: | I25: IČ: | J25: =IF('Rekapitulace stavby'!AN19="","",'Rekapitulace stavby'!AN19)
E26: =IF('Rekapitulace stavby'!E20="","",'Rekapitulace stavby'!E20) -> Ing. Michaela Hůlková | I26: DIČ: | J26: =IF('Rekapitulace stavby'!AN20="","",'Rekapitulace stavby'!AN20)
D28: Poznámka:
D32: Cena bez DPH | J32: =ROUND(J91, 2) -> 0
F34: Základ daně | I34: Sazba daně | J34: Výše daně
D35: DPH | E35: základní | F35: =ROUND((SUM(BE91:BE184)), 2) -> 0 | I35: 0.21 | J35: =ROUND(((SUM(BE91:BE184))*I35), 2) -> 0
E36: snížená | F36: =ROUND((SUM(BF91:BF184)), 2) -> 0 | I36: 0.15 | J36: =ROUND(((SUM(BF91:BF184))*I36), 2) -> 0
E37: zákl. přenesená | F37: =ROUND((SUM(BG91:BG184)), 2) -> 0 | I37: 0.21 | J37: =0 -> 0
E38: sníž. přenesená | F38: =ROUND((SUM(BH91:BH184)), 2) -> 0 | I38: 0.15 | J38: =0 -> 0
E39: nulová | F39: =ROUND((SUM(BI91:BI184)), 2) -> 0 | I39: 0 | J39: =0 -> 0
D41: Cena s DPH | G41: v | H41: CZK | J41: =SUM(J32:J39) -> 0
C47: REKAPITULACE ČLENĚNÍ SOUPISU PRACÍ
C49: Stavba:
E50: =E7 -> Stavební úpravy objektu č.p. 104 a 105, Café Herzog, Broumov - 1. etapa
C51: Objekt:
E52: SO 01 - Hlavní objekt
C53: Soupis:
E54: =E11 -> 1.5 - Elektroinstalace silnoproud
C56: Místo: | F56: =F14 -> k. ú. Broumov | I56: Datum: | J56: =IF(J14="","",J14) -> 10. 10. 2022
C58: Zadavatel: | F58: =E17 | I58: Projektant: | J58: =E23 -> INS spol. s r.o.
C59: Uchazeč: | F59: =IF(E20="","",E20) -> Vyplň údaj | I59: Zpracovatel: | J59: =E26 -> Ing. Michaela Hůlková
C61: Kód dílu - Popis | J61: Cena celkem [CZK]
C63: Náklady stavby celkem | J63: =J91 -> 0 | AU63: -1
D64: 997 - Přesun elektroodpadu | J64: =J92 -> 0
D65: 741 - Elektroinstalace - silnoproud | J65: =J94 -> 0
D66: VRN1 - Průzkumné, geodetické a projektové práce | J66: =J171 -> 0
D67: VRN3 - Zařízení staveniště | J67: =J173 -> 0
D68: VRN4 - Inženýrská činnost | J68: =J175 -> 0
D69: VRN9 - Ostatní náklady | J69: =J178 -> 0
C76: SOUPIS PRACÍ
C78: Stavba:
E79: =E7 -> Stavební úpravy objektu č.p. 104 a 105, Café Herzog, Broumov - 1. etapa
C80: Objekt:
E81: SO 01 - Hlavní objekt
C82: Soupis:
E83: =E11 -> 1.5 - Elektroinstalace silnoproud
C85: Místo: | F85: =F14 -> k. ú. Broumov | I85: Datum: | J85: =IF(J14="","",J14) -> 10. 10. 2022
C87: Zadavatel: | F87: =E17 | I87: Projektant: | J87: =E23 -> INS spol. s r.o.
C88: Uchazeč: | F88: =IF(E20="","",E20) -> Vyplň údaj | I88: Zpracovatel: | J88: =E26 -> Ing. Michaela Hůlková
C90: PČ | D90: Typ | E90: Kód | F90: Popis | G90: MJ | H90: Množství | I90: J.cena [CZK] | J90: Cena celkem [CZK] | K90: Cenová soustava | N90: DPH | O90: J. Nh [h] | P90: Nh celkem [h] | Q90: J. hmotnost [t] | R90: Hmotnost celkem [t] | S90: J. suť [t] | T90: Suť Celkem [t]
C91: Náklady soupisu celkem | J91: =BK91 -> 0 | P91: =P92+P94+P171+P173+P175+P178 -> 0 | R91: =R92+R94+R171+R173+R175+R178 -> 0.56895 | T91: =T92+T94+T171+T173+T175+T178 -> 0 | AT91: D | AU91: -1 | BK91: =BK92+BK94+BK171+BK173+BK175+BK178 -> 0
D92: D | E92: 997 | F92: Přesun elektroodpadu | J92: =BK92 -> 0 | P92: =P93 -> 0 | R92: =R93 -> 0 | T92: =T93 -> 0 | AR92: 1 | AT92: D | AU92: 0 | AY92: ROZPOCET | BK92: =BK93 -> 0
C93: 1 | D93: K | E93: 997013814 | F93: Poplatek za uložení elektroodpadu na skládce (skládkovné) z izolačních materiálů zatříděného do Katalogu odpadů pod kódem 17 06 04 | G93: t | H93: 1 | J93: =ROUND(I93*H93,2) -> 0 | N93: základní | P93: =O93*H93 -> 0 | Q93: 0 | R93: =Q93*H93 -> 0 | S93: 0 | T93: =S93*H93 -> 0 | AR93: 4 | AT93: K | AU93: 1 | AY93: ROZPOCET | BE93: =IF(N93="základní",J93,0) -> 0 | BF93: =IF(N93="snížená",J93,0) -> 0 | BG93: =IF(N93="zákl. přenesená",J93,0) -> 0 | BH93: =IF(N93="sníž. přenesená",J93,0) -> 0 | BI93: =IF(N93="nulová",J93,0) -> 0 | BJ93: 1 | BK93: =ROUND(I93*H93,2) -> 0 | BL93: 4 | BM93: 607552749
D94: D | E94: 741 | F94: Elektroinstalace - silnoproud | J94: =BK94 -> 0 | P94: =SUM(P95:P170) -> 0 | R94: =SUM(R95:R170) -> 0.56895 | T94: =SUM(T95:T170) -> 0 | AR94: 2 | AT94: D | AU94: 0 | AY94: ROZPOCET | BK94: =SUM(BK95:BK170) -> 0
C95: 2 | D95: K | E95: 741112001 | F95: Montáž krabic elektroinstalačních bez napojení na trubky a lišty, demontáže a montáže víčka a přístroje protahovacích nebo odbočných zapuštěných plastových kruhových | G95: kus | H95: 10 | J95: =ROUND(I95*H95,2) -> 0 | N95: základní | P95: =O95*H95 -> 0 | Q95: 0 | R95: =Q95*H95 -> 0 | S95: 0 | T95: =S95*H95 -> 0 | AR95: 16 | AT95: K | AU95: 1 | AY95: ROZPOCET | BE95: =IF(N95="základní",J95,0) -> 0 | BF95: =IF(N95="snížená",J95,0) -> 0 | BG95: =IF(N95="zákl. přenesená",J95,0) -> 0 | BH95: =IF(N95="sníž. přenesená",J95,0) -> 0 | BI95: =IF(N95="nulová",J95,0) -> 0 | BJ95: 1 | BK95: =ROUND(I95*H95,2) -> 0 | BL95: 16 | BM95: -26159980
C96: 3 | D96: M | E96: 34571458 | F96: krabice pod omítku PVC odbočná kruhová D 100mm s víčkem (KO97/5) | G96: kus | H96: 10 | J96: =ROUND(I96*H96,2) -> 0 | N96: základní | P96: =O96*H96 -> 0 | Q96: 9e-05 | R96: =Q96*H96 -> 0.0009 | S96: 0 | T96: =S96*H96 -> 0 | AR96: 32 | AT96: M | AU96: 1 | AY96: ROZPOCET | BE96: =IF(N96="základní",J96,0) -> 0 | BF96: =IF(N96="snížená",J96,0) -> 0 | BG96: =IF(N96="zákl. přenesená",J96,0) -> 0 | BH96: =IF(N96="sníž. přenesená",J96,0) -> 0 | BI96: =IF(N96="nulová",J96,0) -> 0 | BJ96: 1 | BK96: =ROUND(I96*H96,2) -> 0 | BL96: 16 | BM96: 406480471
C97: 4 | D97: K | E97: 741112061 | F97: Montáž krabic elektroinstalačních bez napojení na trubky a lišty, demontáže a montáže víčka a přístroje přístrojových zapuštěných plastových kruhových | G97: kus | H97: 65 | J97: =ROUND(I97*H97,2) -> 0 | N97: základní | P97: =O97*H97 -> 0 | Q97: 0 | R97: =Q97*H97 -> 0 | S97: 0 | T97: =S97*H97 -> 0 | AR97: 16 | AT97: K | AU97: 1 | AY97: ROZPOCET | BE97: =IF(N97="základní",J97,0) -> 0 | BF97: =IF(N97="snížená",J97,0) -> 0 | BG97: =IF(N97="zákl. přenesená",J97,0) -> 0 | BH97: =IF(N97="sníž. přenesená",J97,0) -> 0 | BI97: =IF(N97="nulová",J97,0) -> 0 | BJ97: 1 | BK97: =ROUND(I97*H97,2) -> 0 | BL97: 16 | BM97: -1786889563
C98: 5 | D98: M | E98: 34571450 | F98: krabice pod omítku PVC přístrojová kruhová D 70mm (KO68/2) | G98: kus | H98: 65 | J98: =ROUND(I98*H98,2) -> 0 | N98: základní | P98: =O98*H98 -> 0 | Q98: 4e-05 | R98: =Q98*H98 -> 0.0026 | S98: 0 | T98: =S98*H98 -> 0 | AR98: 32 | AT98: M | AU98: 1 | AY98: ROZPOCET | BE98: =IF(N98="základní",J98,0) -> 0 | BF98: =IF(N98="snížená",J98,0) -> 0 | BG98: =IF(N98="zákl. přenesená",J98,0) -> 0 | BH98: =IF(N98="sníž. přenesená",J98,0) -> 0 | BI98: =IF(N98="nulová",J98,0) -> 0 | BJ98: 1 | BK98: =ROUND(I98*H98,2) -> 0 | BL98: 16 | BM98: 1732142619
C99: 6 | D99: K | E99: 741112101 | F99: Montáž krabic elektroinstalačních bez napojení na trubky a lišty, demontáže a montáže víčka a přístroje rozvodek se zapojením vodičů na svorkovnici zapuštěných plastových kruhových | G99: kus | H99: 40 | J99: =ROUND(I99*H99,2) -> 0 | N99: základní | P99: =O99*H99 -> 0 | Q99: 0 | R99: =Q99*H99 -> 0 | S99: 0 | T99: =S99*H99 -> 0 | AR99: 16 | AT99: K | AU99: 1 | AY99: ROZPOCET | BE99: =IF(N99="základní",J99,0) -> 0 | BF99: =IF(N99="snížená",J99,0) -> 0 | BG99: =IF(N99="zákl. přenesená",J99,0) -> 0 | BH99: =IF(N99="sníž. přenesená",J99,0) -> 0 | BI99: =IF(N99="nulová",J99,0) -> 0 | BJ99: 1 | BK99: =ROUND(I99*H99,2) -> 0 | BL99: 16 | BM99: -937894580
C100: 7 | D100: M | E100: 34571563 | F100: krabice pod omítku PVC odbočná kruhová D 100mm s víčkem a svorkovnicí (KR 97) | G100: kus | H100: 30 | J100: =ROUND(I100*H100,2) -> 0 | N100: základní | P100: =O100*H100 -> 0 | Q100: 0.00019 | R100: =Q100*H100 -> 0.0057 | S100: 0 | T100: =S100*H100 -> 0 | AR100: 32 | AT100: M | AU100: 1 | AY100: ROZPOCET | BE100: =IF(N100="základní",J100,0) -> 0 | BF100: =IF(N100="snížená",J100,0) -> 0 | BG100: =IF(N100="zákl. přenesená",J100,0) -> 0 | BH100: =IF(N100="sníž. přenesená",J100,0) -> 0 | BI100: =IF(N100="nulová",J100,0) -> 0 | BJ100: 1 | BK100: =ROUND(I100*H100,2) -> 0 | BL100: 16 | BM100: -2024195744
C101: 8 | D101: M | E101: 34571521 | F101: krabice pod omítku PVC odbočná kruhová D 70mm s víčkem a svorkovnicí (KR 68) | G101: kus | H101: 10 | J101: =ROUND(I101*H101,2) -> 0 | N101: základní | P101: =O101*H101 -> 0 | Q101: 9e-05 | R101: =Q101*H101 -> 0.0009 | S101: 0 | T101: =S101*H101 -> 0 | AR101: 32 | AT101: M | AU101: 1 | AY101: ROZPOCET | BE101: =IF(N101="základní",J101,0) -> 0 | BF101: =IF(N101="snížená",J101,0) -> 0 | BG101: =IF(N101="zákl. přenesená",J101,0) -> 0 | BH101: =IF(N101="sníž. přenesená",J101,0) -> 0 | BI101: =IF(N101="nulová",J101,0) -> 0 | BJ101: 1 | BK101: =ROUND(I101*H101,2) -> 0 | BL101: 16 | BM101: 1113170409
C102: 9 | D102: K | E102: 741112022 | F102: Montáž krabic elektroinstalačních bez napojení na trubky a lišty, demontáže a montáže víčka a přístroje protahovacích nebo odbočných nástěnných plastových čtyřhranných, vel. do 160x160 mm | G102: kus | H102: 7 | J102: =ROUND(I102*H102,2) -> 0 | N102: základní | P102: =O102*H102 -> 0 | Q102: 0 | R102: =Q102*H102 -> 0 | S102: 0 | T102: =S102*H102 -> 0 | AR102: 16 | AT102: K | AU102: 1 | AY102: ROZPOCET | BE102: =IF(N102="základní",J102,0) -> 0 | BF102: =IF(N102="snížená",J102,0) -> 0 | BG102: =IF(N102="zákl. přenesená",J102,0) -> 0 | BH102: =IF(N102="sníž. přenesená",J102,0) -> 0 | BI102: =IF(N102="nulová",J102,0) -> 0 | BJ102: 1 | BK102: =ROUND(I102*H102,2) -> 0 | BL102: 16 | BM102: -90744591
C103: 10 | D103: M | E103: 345715240 | F103: krabice přístrojová odbočná s víčkem z PH, 132x132 mm, hloubka 72 mm (např.KO125) | G103: kus | H103: 5 | J103: =ROUND(I103*H103,2) -> 0 | N103: základní | P103: =O103*H103 -> 0 | Q103: 0.00023 | R103: =Q103*H103 -> 0.00115 | S103: 0 | T103: =S103*H103 -> 0 | AR103: 32 | AT103: M | AU103: 1 | AY103: ROZPOCET | BE103: =IF(N103="základní",J103,0) -> 0 | BF103: =IF(N103="snížená",J103,0) -> 0 | BG103: =IF(N103="zákl. přenesená",J103,0) -> 0 | BH103: =IF(N103="sníž. přenesená",J103,0) -> 0 | BI103: =IF(N103="nulová",J103,0) -> 0 | BJ103: 1 | BK103: =ROUND(I103*H103,2) -> 0 | BL103: 16 | BM103: -1252498283
C104: 11 | D104: M | E104: 345715240.1 | F104: krabice přístrojová odbočná s víčkem z PH, 132x132 mm, hloubka 72 mm (např.KO125), s ekvipotencionální svorkovnicí | G104: kus | H104: 2 | J104: =ROUND(I104*H104,2) -> 0 | N104: základní | P104: =O104*H104 -> 0 | Q104: 0.00023 | R104: =Q104*H104 -> 0.00046 | S104: 0 | T104: =S104*H104 -> 0 | AR104: 32 | AT104: M | AU104: 1 | AY104: ROZPOCET | BE104: =IF(N104="základní",J104,0) -> 0 | BF104: =IF(N104="snížená",J104,0) -> 0 | BG104: =IF(N104="zákl. přenesená",J104,0) -> 0 | BH104: =IF(N104="sníž. přenesená",J104,0) -> 0 | BI104: =IF(N104="nulová",J104,0) -> 0 | BJ104: 1 | BK104: =ROUND(I104*H104,2) -> 0 | BL104: 16 | BM104: -1776391216
C105: 12 | D105: K | E105: 741112023 | F105: Montáž krabic elektroinstalačních bez napojení na trubky a lišty, demontáže a montáže víčka a přístroje protahovacích nebo odbočných nástěnných plastových čtyřhranných, vel. do 250x250 mm | G105: kus | H105: 3 | J105: =ROUND(I105*H105,2) -> 0 | N105: základní | P105: =O105*H105 -> 0 | Q105: 0 | R105: =Q105*H105 -> 0 | S105: 0 | T105: =S105*H105 -> 0 | AR105: 16 | AT105: K | AU105: 1 | AY105: ROZPOCET | BE105: =IF(N105="základní",J105,0) -> 0 | BF105: =IF(N105="snížená",J105,0) -> 0 | BG105: =IF(N105="zákl. přenesená",J105,0) -> 0 | BH105: =IF(N105="sníž. přenesená",J105,0) -> 0 | BI105: =IF(N105="nulová",J105,0) -> 0 | BJ105: 1 | BK105: =ROUND(I105*H105,2) -> 0 | BL105: 16 | BM105: 820346858
C106: 13 | D106: M | E106: 345715440 | F106: skříň rozvodná, 205x255 mm, hloubka 66 mm (např.KT 250) | G106: kus | H106: 3 | J106: =ROUND(I106*H106,2) -> 0 | N106: základní | P106: =O106*H106 -> 0 | Q106: 0.00064 | R106: =Q106*H106 -> 0.00192 | S106: 0 | T106: =S106*H106 -> 0 | AR106: 32 | AT106: M | AU106: 1 | AY106: ROZPOCET | BE106: =IF(N106="základní",J106,0) -> 0 | BF106: =IF(N106="snížená",J106,0) -> 0 | BG106: =IF(N106="zákl. přenesená",J106,0) -> 0 | BH106: =IF(N106="sníž. přenesená",J106,0) -> 0 | BI106: =IF(N106="nulová",J106,0) -> 0 | BJ106: 1 | BK106: =ROUND(I106*H106,2) -> 0 | BL106: 16 | BM106: 102535114
... C170: 77 | D170: M | E170: 348144390.5 | F170: N-NOUZOVÉ SVÍTIDLO LED, 230V, 1W, S VEST.AUT.SPÍNANÝM ZÁL.ZDROJEM 1H, IP44 | G170: kus | H170: 0 | J170: =ROUND(I170*H170,2) -> 0 | N170: základní | P170: =O170*H170 -> 0 | Q170: 0.0065 | R170: =Q170*H170 -> 0 | S170: 0 | T170: =S170*H170 -> 0 | AR170: 32 | AT170: M | AU170: 1 | AY170: ROZPOCET | BE170: =IF(N170="základní",J170,0) -> 0 | BF170: =IF(N170="snížená",J170,0) -> 0 | BG170: =IF(N170="zákl. přenesená",J170,0) -> 0 | BH170: =IF(N170="sníž. přenesená",J170,0) -> 0 | BI170: =IF(N170="nulová",J170,0) -> 0 | BJ170: 1 | BK170: =ROUND(I170*H170,2) -> 0 | BL170: 16 | BM170: 1672059427
D171: D | E171: VRN1 | F171: Průzkumné, geodetické a projektové práce | J171: =BK171 -> 0 | P171: =P172 -> 0 | R171: =R172 -> 0 | T171: =T172 -> 0 | AR171: 5 | AT171: D | AU171: 0 | AY171: ROZPOCET | BK171: =BK172 -> 0
C172: 78 | D172: K | E172: 013002000 | F172: Projektové práce - skutečné provedení | G172: kpl | H172: 1 | J172: =ROUND(I172*H172,2) -> 0 | N172: základní | P172: =O172*H172 -> 0 | Q172: 0 | R172: =Q172*H172 -> 0 | S172: 0 | T172: =S172*H172 -> 0 | AR172: 1024 | AT172: K | AU172: 1 | AY172: ROZPOCET | BE172: =IF(N172="základní",J172,0) -> 0 | BF172: =IF(N172="snížená",J172,0) -> 0 | BG172: =IF(N172="zákl. přenesená",J172,0) -> 0 | BH172: =IF(N172="sníž. přenesená",J172,0) -> 0 | BI172: =IF(N172="nulová",J172,0) -> 0 | BJ172: 1 | BK172: =ROUND(I172*H172,2) -> 0 | BL172: 1024 | BM172: 873236033
D173: D | E173: VRN3 | F173: Zařízení staveniště | J173: =BK173 -> 0 | P173: =P174 -> 0 | R173: =R174 -> 0 | T173: =T174 -> 0 | AR173: 5 | AT173: D | AU173: 0 | AY173: ROZPOCET | BK173: =BK174 -> 0
C174: 79 | D174: K | E174: 032002000 | F174: Vybavení staveniště | G174: kpl | H174: 1 | J174: =ROUND(I174*H174,2) -> 0 | N174: základní | P174: =O174*H174 -> 0 | Q174: 0 | R174: =Q174*H174 -> 0 | S174: 0 | T174: =S174*H174 -> 0 | AR174: 1024 | AT174: K | AU174: 1 | AY174: ROZPOCET | BE174: =IF(N174="základní",J174,0) -> 0 | BF174: =IF(N174="snížená",J174,0) -> 0 | BG174: =IF(N174="zákl. přenesená",J174,0) -> 0 | BH174: =IF(N174="sníž. přenesená",J174,0) -> 0 | BI174: =IF(N174="nulová",J174,0) -> 0 | BJ174: 1 | BK174: =ROUND(I174*H174,2) -> 0 | BL174: 1024 | BM174: 286948871
D175: D | E175: VRN4 | F175: Inženýrská činnost | J175: =BK175 -> 0 | P175: =SUM(P176:P177) -> 0 | R175: =SUM(R176:R177) -> 0 | T175: =SUM(T176:T177) -> 0 | AR175: 5 | AT175: D | AU175: 0 | AY175: ROZPOCET | BK175: =SUM(BK176:BK177) -> 0
C176: 80 | D176: K | E176: 044002000 | F176: Revize elektro | G176: kpl | H176: 1 | J176: =ROUND(I176*H176,2) -> 0 | N176: základní | P176: =O176*H176 -> 0 | Q176: 0 | R176: =Q176*H176 -> 0 | S176: 0 | T176: =S176*H176 -> 0 | AR176: 1024 | AT176: K | AU176: 1 | AY176: ROZPOCET | BE176: =IF(N176="základní",J176,0) -> 0 | BF176: =IF(N176="snížená",J176,0) -> 0 | BG176: =IF(N176="zákl. přenesená",J176,0) -> 0 | BH176: =IF(N176="sníž. přenesená",J176,0) -> 0 | BI176: =IF(N176="nulová",J176,0) -> 0 | BJ176: 1 | BK176: =ROUND(I176*H176,2) -> 0 | BL176: 1024 | BM176: 1448355558
C177: 81 | D177: K | E177: 045002000 | F177: Kompletační a koordinační činnost s revizním technikem,TDI a profesemi | G177: kpl | H177: 1 | J177: =ROUND(I177*H177,2) -> 0 | N177: základní | P177: =O177*H177 -> 0 | Q177: 0 | R177: =Q177*H177 -> 0 | S177: 0 | T177: =S177*H177 -> 0 | AR177: 1024 | AT177: K | AU177: 1 | AY177: ROZPOCET | BE177: =IF(N177="základní",J177,0) -> 0 | BF177: =IF(N177="snížená",J177,0) -> 0 | BG177: =IF(N177="zákl. přenesená",J177,0) -> 0 | BH177: =IF(N177="sníž. přenesená",J177,0) -> 0 | BI177: =IF(N177="nulová",J177,0) -> 0 | BJ177: 1 | BK177: =ROUND(I177*H177,2) -> 0 | BL177: 1024 | BM177: 1239649492
D178: D | E178: VRN9 | F178: Ostatní náklady | J178: =BK178 -> 0 | P178: =SUM(P179:P184) -> 0 | R178: =SUM(R179:R184) -> 0 | T178: =SUM(T179:T184) -> 0 | AR178: 5 | AT178: D | AU178: 0 | AY178: ROZPOCET | BK178: =SUM(BK179:BK184) -> 0
C179: 82 | D179: K | E179: 090001000 | F179: Ostatní náklady - úklid pracoviště | G179: kpl | H179: 1 | J179: =ROUND(I179*H179,2) -> 0 | N179: základní | P179: =O179*H179 -> 0 | Q179: 0 | R179: =Q179*H179 -> 0 | S179: 0 | T179: =S179*H179 -> 0 | AR179: 1024 | AT179: K | AU179: 1 | AY179: ROZPOCET | BE179: =IF(N179="základní",J179,0) -> 0 | BF179: =IF(N179="snížená",J179,0) -> 0 | BG179: =IF(N179="zákl. přenesená",J179,0) -> 0 | BH179: =IF(N179="sníž. přenesená",J179,0) -> 0 | BI179: =IF(N179="nulová",J179,0) -> 0 | BJ179: 1 | BK179: =ROUND(I179*H179,2) -> 0 | BL179: 1024 | BM179: 974910940
C180: 83 | D180: K | E180: 090001000.1 | F180: Ostatní náklady související s výstavbou - prořez (5% z délkových položek - odřezky) | G180: kpl | H180: 1 | J180: =ROUND(I180*H180,2) -> 0 | N180: základní | P180: =O180*H180 -> 0 | Q180: 0 | R180: =Q180*H180 -> 0 | S180: 0 | T180: =S180*H180 -> 0 | AR180: 1024 | AT180: K | AU180: 1 | AY180: ROZPOCET | BE180: =IF(N180="základní",J180,0) -> 0 | BF180: =IF(N180="snížená",J180,0) -> 0 | BG180: =IF(N180="zákl. přenesená",J180,0) -> 0 | BH180: =IF(N180="sníž. přenesená",J180,0) -> 0 | BI180: =IF(N180="nulová",J180,0) -> 0 | BJ180: 1 | BK180: =ROUND(I180*H180,2) -> 0 | BL180: 1024 | BM180: -426307820
C181: 84 | D181: K | E181: 090001000.2 | F181: Ostatní náklady - podružný materiál - 3% z materiálu nosného | G181: kpl | H181: 1 | J181: =ROUND(I181*H181,2) -> 0 | N181: základní | P181: =O181*H181 -> 0 | Q181: 0 | R181: =Q181*H181 -> 0 | S181: 0 | T181: =S181*H181 -> 0 | AR181: 1024 | AT181: K | AU181: 1 | AY181: ROZPOCET | BE181: =IF(N181="základní",J181,0) -> 0 | BF181: =IF(N181="snížená",J181,0) -> 0 | BG181: =IF(N181="zákl. přenesená",J181,0) -> 0 | BH181: =IF(N181="sníž. přenesená",J181,0) -> 0 | BI181: =IF(N181="nulová",J181,0) -> 0 | BJ181: 1 | BK181: =ROUND(I181*H181,2) -> 0 | BL181: 1024 | BM181: 20593827
C182: 85 | D182: K | E182: 090001000.3 | F182: Ostatní náklady - demontáž stávající elektrinstalace | G182: kpl | H182: 1 | J182: =ROUND(I182*H182,2) -> 0 | N182: základní | P182: =O182*H182 -> 0 | Q182: 0 | R182: =Q182*H182 -> 0 | S182: 0 | T182: =S182*H182 -> 0 | AR182: 1024 | AT182: K | AU182: 1 | AY182: ROZPOCET | BE182: =IF(N182="základní",J182,0) -> 0 | BF182: =IF(N182="snížená",J182,0) -> 0 | BG182: =IF(N182="zákl. přenesená",J182,0) -> 0 | BH182: =IF(N182="sníž. přenesená",J182,0) -> 0 | BI182: =IF(N182="nulová",J182,0) -> 0 | BJ182: 1 | BK182: =ROUND(I182*H182,2) -> 0 | BL182: 1024 | BM182: 944787952
C183: 86 | D183: K | E183: 091002000 | F183: Ostatní náklady související s objektem - připojení zařízení | G183: kpl | H183: 1 | J183: =ROUND(I183*H183,2) -> 0 | N183: základní | P183: =O183*H183 -> 0 | Q183: 0 | R183: =Q183*H183 -> 0 | S183: 0 | T183: =S183*H183 -> 0 | AR183: 1024 | AT183: K | AU183: 1 | AY183: ROZPOCET | BE183: =IF(N183="základní",J183,0) -> 0 | BF183: =IF(N183="snížená",J183,0) -> 0 | BG183: =IF(N183="zákl. přenesená",J183,0) -> 0 | BH183: =IF(N183="sníž. přenesená",J183,0) -> 0 | BI183: =IF(N183="nulová",J183,0) -> 0 | BJ183: 1 | BK183: =ROUND(I183*H183,2) -> 0 | BL183: 1024 | BM183: 1666480160
C184: 87 | D184: K | E184: 090001000.4 | F184: Ostatní náklady - pomocné práce elektro | G184: kpl | H184: 1 | J184: =ROUND(I184*H184,2) -> 0 | N184: základní | P184: =O184*H184 -> 0 | Q184: 0 | R184: =Q184*H184 -> 0 | S184: 0 | T184: =S184*H184 -> 0 | AR184: 1024 | AT184: K | AU184: 1 | AY184: ROZPOCET | BE184: =IF(N184="základní",J184,0) -> 0 | BF184: =IF(N184="snížená",J184,0) -> 0 | BG184: =IF(N184="zákl. přenesená",J184,0) -> 0 | BH184: =IF(N184="sníž. přenesená",J184,0) -> 0 | BI184: =IF(N184="nulová",J184,0) -> 0 | BJ184: 1 | BK184: =ROUND(I184*H184,2) -> 0 | BL184: 1024 | BM184: 211004684

Sheet 1.6 - Vytápění
AT2: {aa3ad3a1-ab58-4fff-8363-1400df9ff4d5}
AT3: 2
D4: KRYCÍ LIST SOUPISU PRACÍ | M4: v --- níže se nacházejí doplnkové a pomocné údaje k sestavám --- v | AT4: False
D6: Stavba:
E7: ='Rekapitulace stavby'!K6 -> Stavební úpravy objektu č.p. 104 a 105, Café Herzog, Broumov - 1. etapa
D8: Objekt:
E9: SO 01 - Hlavní objekt
D10: Soupis:
E11: 1.6 - Vytápění
D13: KSO: | I13: CC-CZ:
D14: Místo: | F14: k. ú. Broumov | I14: Datum: | J14: ='Rekapitulace stavby'!AN8 -> 10. 10. 2022
D16: Zadavatel: | I16: IČ:
I17: DIČ:
D19: Uchazeč: | I19: IČ: | J19: ='Rekapitulace stavby'!AN13 -> Vyplň údaj
E20: ='Rekapitulace stavby'!E14 -> Vyplň údaj | I20: DIČ: | J20: ='Rekapitulace stavby'!AN14 -> Vyplň údaj
D22: Projektant: | I22: IČ: | J22: 60109971
E23: INS spol. s r.o. | I23: DIČ: | J23: CZ60109971
D25: Zpracovatel: | I25: IČ: | J25: =IF('Rekapitulace stavby'!AN19="","",'Rekapitulace stavby'!AN19)
E26: =IF('Rekapitulace stavby'!E20="","",'Rekapitulace stavby'!E20) -> Ing. Michaela Hůlková | I26: DIČ: | J26: =IF('Rekapitulace stavby'!AN20="","",'Rekapitulace stavby'!AN20)
D28: Poznámka:
D32: Cena bez DPH | J32: =ROUND(J93, 2) -> 0
F34: Základ daně | I34: Sazba daně | J34: Výše daně
D35: DPH | E35: základní | F35: =ROUND((SUM(BE93:BE145)), 2) -> 0 | I35: 0.21 | J35: =ROUND(((SUM(BE93:BE145))*I35), 2) -> 0
E36: snížená | F36: =ROUND((SUM(BF93:BF145)), 2) -> 0 | I36: 0.15 | J36: =ROUND(((SUM(BF93:BF145))*I36), 2) -> 0
E37: zákl. přenesená | F37: =ROUND((SUM(BG93:BG145)), 2) -> 0 | I37: 0.21 | J37: =0 -> 0
E38: sníž. přenesená | F38: =ROUND((SUM(BH93:BH145)), 2) -> 0 | I38: 0.15 | J38: =0 -> 0
E39: nulová | F39: =ROUND((SUM(BI93:BI145)), 2) -> 0 | I39: 0 | J39: =0 -> 0
D41: Cena s DPH | G41: v | H41: CZK | J41: =SUM(J32:J39) -> 0
C47: REKAPITULACE ČLENĚNÍ SOUPISU PRACÍ
C49: Stavba:
E50: =E7 -> Stavební úpravy objektu č.p. 104 a 105, Café Herzog, Broumov - 1. etapa
C51: Objekt:
E52: SO 01 - Hlavní objekt
C53: Soupis:
E54: =E11 -> 1.6 - Vytápění
C56: Místo: | F56: =F14 -> k. ú. Broumov | I56: Datum: | J56: =IF(J14="","",J14) -> 10. 10. 2022
C58: Zadavatel: | F58: =E17 | I58: Projektant: | J58: =E23 -> INS spol. s r.o.
C59: Uchazeč: | F59: =IF(E20="","",E20) -> Vyplň údaj | I59: Zpracovatel: | J59: =E26 -> Ing. Michaela Hůlková
C61: Kód dílu - Popis | J61: Cena celkem [CZK]
C63: Náklady stavby celkem | J63: =J93 -> 0 | AU63: -1
D64: R - Rozpočet | J64: =J94 -> 0
D65: 01 - Armatury | J65: =J96 -> 0
D66: 02 - Potrubí | J66: =J104 -> 0
D67: 03 - Otopná tělesa - desková | J67: =J113 -> 0
D68: 04 - Tepelné izolace - návleková tepelná izolace tl.15 mm | J68: =J131 -> 0
D69: 05 - Nátěry | J69: =J138 -> 0
D70: 06 - Topná zkouška, zaregulování | J70: =J141 -> 0
D71: OST - Ostatní | J71: =J144 -> 0
C78: SOUPIS PRACÍ
C80: Stavba:
E81: =E7 -> Stavební úpravy objektu č.p. 104 a 105, Café Herzog, Broumov - 1. etapa
C82: Objekt:
E83: SO 01 - Hlavní objekt
C84: Soupis:
E85: =E11 -> 1.6 - Vytápění
C87: Místo: | F87: =F14 -> k. ú. Broumov | I87: Datum: | J87: =IF(J14="","",J14) -> 10. 10. 2022
C89: Zadavatel: | F89: =E17 | I89: Projektant: | J89: =E23 -> INS spol. s r.o.
C90: Uchazeč: | F90: =IF(E20="","",E20) -> Vyplň údaj | I90: Zpracovatel: | J90: =E26 -> Ing. Michaela Hůlková
C92: PČ | D92: Typ | E92: Kód | F92: Popis | G92: MJ | H92: Množství | I92: J.cena [CZK] | J92: Cena celkem [CZK] | K92: Cenová soustava | N92: DPH | O92: J. Nh [h] | P92: Nh celkem [h] | Q92: J. hmotnost [t] | R92: Hmotnost celkem [t] | S92: J. suť [t] | T92: Suť Celkem [t]
C93: Náklady soupisu celkem | J93: =BK93 -> 0 | P93: =P94+P96+P104+P113+P131+P138+P141+P144 -> 0 | R93: =R94+R96+R104+R113+R131+R138+R141+R144 -> 0 | T93: =T94+T96+T104+T113+T131+T138+T141+T144 -> 0 | AT93: D | AU93: -1 | BK93: =BK94+BK96+BK104+BK113+BK131+BK138+BK141+BK144 -> 0
D94: D | E94: R | F94: Rozpočet | J94: =BK94 -> 0 | P94: =P95 -> 0 | R94: =R95 -> 0 | T94: =T95 -> 0 | AR94: 1 | AT94: D | AU94: 0 | AY94: ROZPOCET | BK94: =BK95 -> 0
C95: 1 | D95: K | E95: Poznámka | F95: Zadavatel připouští použití kvalitativně a technicky obdobných řešení za předpokladu dodržení předepsaných vlasností, jakosti a kvality projektovaných výrobků se shodnými parametry, charakterem a funkcí. V případě změny materiálů, systémů a výrobků, které mají dopad na povolení, audity, posudky a výpočty je nutno tyto doložit pro nově navržený systém, výrobek či materiál. | G95: kus | H95: 1 | J95: =ROUND(I95*H95,2) -> 0 | N95: základní | P95: =O95*H95 -> 0 | Q95: 0 | R95: =Q95*H95 -> 0 | S95: 0 | T95: =S95*H95 -> 0 | AR95: 4 | AT95: K | AU95: 1 | AY95: ROZPOCET | BE95: =IF(N95="základní",J95,0) -> 0 | BF95: =IF(N95="snížená",J95,0) -> 0 | BG95: =IF(N95="zákl. přenesená",J95,0) -> 0 | BH95: =IF(N95="sníž. přenesená",J95,0) -> 0 | BI95: =IF(N95="nulová",J95,0) -> 0 | BJ95: 1 | BK95: =ROUND(I95*H95,2) -> 0 | BL95: 4 | BM95: 457203826
D96: D | E96: 01 | F96: Armatury | J96: =BK96 -> 0 | P96: =SUM(P97:P103) -> 0 | R96: =SUM(R97:R103) -> 0 | T96: =SUM(T97:T103) -> 0 | AR96: 2 | AT96: D | AU96: 0 | AY96: ROZPOCET | BK96: =SUM(BK97:BK103) -> 0
C97: 2 | D97: K | E97: 73426-1402 | F97: připojovací armatura radiátorů VK | G97: ks | H97: 0 | J97: =ROUND(I97*H97,2) -> 0 | N97: základní | P97: =O97*H97 -> 0 | Q97: 0 | R97: =Q97*H97 -> 0 | S97: 0 | T97: =S97*H97 -> 0 | AR97: 4 | AT97: K | AU97: 1 | AY97: ROZPOCET | BE97: =IF(N97="základní",J97,0) -> 0 | BF97: =IF(N97="snížená",J97,0) -> 0 | BG97: =IF(N97="zákl. přenesená",J97,0) -> 0 | BH97: =IF(N97="sníž. přenesená",J97,0) -> 0 | BI97: =IF(N97="nulová",J97,0) -> 0 | BJ97: 1 | BK97: =ROUND(I97*H97,2) -> 0 | BL97: 4 | BM97: 1957513482
C98: 3 | D98: K | E98: 01 | F98: termostatická hlavice typ "K" | G98: ks | H98: 0 | J98: =ROUND(I98*H98,2) -> 0 | N98: základní | P98: =O98*H98 -> 0 | Q98: 0 | R98: =Q98*H98 -> 0 | S98: 0 | T98: =S98*H98 -> 0 | AR98: 4 | AT98: K | AU98: 1 | AY98: ROZPOCET | BE98: =IF(N98="základní",J98,0) -> 0 | BF98: =IF(N98="snížená",J98,0) -> 0 | BG98: =IF(N98="zákl. přenesená",J98,0) -> 0 | BH98: =IF(N98="sníž. přenesená",J98,0) -> 0 | BI98: =IF(N98="nulová",J98,0) -> 0 | BJ98: 1 | BK98: =ROUND(I98*H98,2) -> 0 | BL98: 4 | BM98: 449461136
C99: 4 | D99: K | E99: 02 | F99: připojovací armatura HM rohová - chrom včetně termotat.hlavice | G99: ks | H99: 0 | J99: =ROUND(I99*H99,2) -> 0 | N99: základní | P99: =O99*H99 -> 0 | Q99: 0 | R99: =Q99*H99 -> 0 | S99: 0 | T99: =S99*H99 -> 0 | AR99: 4 | AT99: K | AU99: 1 | AY99: ROZPOCET | BE99: =IF(N99="základní",J99,0) -> 0 | BF99: =IF(N99="snížená",J99,0) -> 0 | BG99: =IF(N99="zákl. přenesená",J99,0) -> 0 | BH99: =IF(N99="sníž. přenesená",J99,0) -> 0 | BI99: =IF(N99="nulová",J99,0) -> 0 | BJ99: 1 | BK99: =ROUND(I99*H99,2) -> 0 | BL99: 4 | BM99: 467786466
C100: 5 | D100: K | E100: 03 | F100: montáž připojovací sady na koupelnová tělesa | G100: ks | H100: 0 | J100: =ROUND(I100*H100,2) -> 0 | N100: základní | P100: =O100*H100 -> 0 | Q100: 0 | R100: =Q100*H100 -> 0 | S100: 0 | T100: =S100*H100 -> 0 | AR100: 4 | AT100: K | AU100: 1 | AY100: ROZPOCET | BE100: =IF(N100="základní",J100,0) -> 0 | BF100: =IF(N100="snížená",J100,0) -> 0 | BG100: =IF(N100="zákl. přenesená",J100,0) -> 0 | BH100: =IF(N100="sníž. přenesená",J100,0) -> 0 | BI100: =IF(N100="nulová",J100,0) -> 0 | BJ100: 1 | BK100: =ROUND(I100*H100,2) -> 0 | BL100: 4 | BM100: -419856302
C101: 6 | D101: K | E101: 434211115 | F101: ventil odvzdušňovací závitový G 1/2" | G101: ks | H101: 4 | J101: =ROUND(I101*H101,2) -> 0 | N101: základní | P101: =O101*H101 -> 0 | Q101: 0 | R101: =Q101*H101 -> 0 | S101: 0 | T101: =S101*H101 -> 0 | AR101: 4 | AT101: K | AU101: 1 | AY101: ROZPOCET | BE101: =IF(N101="základní",J101,0) -> 0 | BF101: =IF(N101="snížená",J101,0) -> 0 | BG101: =IF(N101="zákl. přenesená",J101,0) -> 0 | BH101: =IF(N101="sníž. přenesená",J101,0) -> 0 | BI101: =IF(N101="nulová",J101,0) -> 0 | BJ101: 1 | BK101: =ROUND(I101*H101,2) -> 0 | BL101: 4 | BM101: 1810637714
C102: 7 | D102: K | E102: 73429-2815 | F102: kulový kohout G 1" s červenou páčkou | G102: ks | H102: 2 | J102: =ROUND(I102*H102,2) -> 0 | N102: základní | P102: =O102*H102 -> 0 | Q102: 0 | R102: =Q102*H102 -> 0 | S102: 0 | T102: =S102*H102 -> 0 | AR102: 4 | AT102: K | AU102: 1 | AY102: ROZPOCET | BE102: =IF(N102="základní",J102,0) -> 0 | BF102: =IF(N102="snížená",J102,0) -> 0 | BG102: =IF(N102="zákl. přenesená",J102,0) -> 0 | BH102: =IF(N102="sníž. přenesená",J102,0) -> 0 | BI102: =IF(N102="nulová",J102,0) -> 0 | BJ102: 1 | BK102: =ROUND(I102*H102,2) -> 0 | BL102: 4 | BM102: 841406497
C103: 8 | D103: K | E103: 99873-4202 | F103: přesun hmot přes 6 m do 12 m výšky | G103: % | J103: =ROUND(I103*H103,2) -> 0 | N103: základní | P103: =O103*H103 -> 0 | Q103: 0 | R103: =Q103*H103 -> 0 | S103: 0 | T103: =S103*H103 -> 0 | AR103: 4 | AT103: K | AU103: 1 | AY103: ROZPOCET | BE103: =IF(N103="základní",J103,0) -> 0 | BF103: =IF(N103="snížená",J103,0) -> 0 | BG103: =IF(N103="zákl. přenesená",J103,0) -> 0 | BH103: =IF(N103="sníž. přenesená",J103,0) -> 0 | BI103: =IF(N103="nulová",J103,0) -> 0 | BJ103: 1 | BK103: =ROUND(I103*H103,2) -> 0 | BL103: 4 | BM103: -765917924
D104: D | E104: 02 | F104: Potrubí | J104: =BK104 -> 0 | P104: =SUM(P105:P112) -> 0 | R104: =SUM(R105:R112) -> 0 | T104: =SUM(T105:T112) -> 0 | AR104: 2 | AT104: D | AU104: 0 | AY104: ROZPOCET | BK104: =SUM(BK105:BK112) -> 0
C105: 9 | D105: K | E105: 73322-1102 | F105: potrubí měděné 15x1 - v jednotkové ceně potrubí je dodávka potrubí, fitinek, montáž, uchycení a průrazy do rozměru 100x100 mm | G105: m | H105: 44 | J105: =ROUND(I105*H105,2) -> 0 | N105: základní | P105: =O105*H105 -> 0 | Q105: 0 | R105: =Q105*H105 -> 0 | S105: 0 | T105: =S105*H105 -> 0 | AR105: 4 | AT105: K | AU105: 1 | AY105: ROZPOCET | BE105: =IF(N105="základní",J105,0) -> 0 | BF105: =IF(N105="snížená",J105,0) -> 0 | BG105: =IF(N105="zákl. přenesená",J105,0) -> 0 | BH105: =IF(N105="sníž. přenesená",J105,0) -> 0 | BI105: =IF(N105="nulová",J105,0) -> 0 | BJ105: 1 | BK105: =ROUND(I105*H105,2) -> 0 | BL105: 4 | BM105: 159845336
C106: 10 | D106: K | E106: 73322-1103 | F106: potrubí měděné 18x1 - v jednotkové ceně potrubí je dodávka potrubí, fitinek, montáž, uchycení a průrazy do rozměru 100x100 mm | G106: m | H106: 10 | J106: =ROUND(I106*H106,2) -> 0 | N106: základní | P106: =O106*H106 -> 0 | Q106: 0 | R106: =Q106*H106 -> 0 | S106: 0 | T106: =S106*H106 -> 0 | AR106: 4 | AT106: K | AU106: 1 | AY106: ROZPOCET | BE106: =IF(N106="základní",J106,0) -> 0 | BF106: =IF(N106="snížená",J106,0) -> 0 | BG106: =IF(N106="zákl. přenesená",J106,0) -> 0 | BH106: =IF(N106="sníž. přenesená",J106,0) -> 0 | BI106: =IF(N106="nulová",J106,0) -> 0 | BJ106: 1 | BK106: =ROUND(I106*H106,2) -> 0 | BL106: 4 | BM106: -1974141942
C107: 11 | D107: K | E107: 73322-1104 | F107: potrubí měděné 22x1 - v jednotkové ceně potrubí je dodávka potrubí, fitinek, montáž, uchycení a průrazy do rozměru 100x100 mm | G107: m | H107: 32 | J107: =ROUND(I107*H107,2) -> 0 | N107: základní | P107: =O107*H107 -> 0 | Q107: 0 | R107: =Q107*H107 -> 0 | S107: 0 | T107: =S107*H107 -> 0 | AR107: 4 | AT107: K | AU107: 1 | AY107: ROZPOCET | BE107: =IF(N107="základní",J107,0) -> 0 | BF107: =IF(N107="snížená",J107,0) -> 0 | BG107: =IF(N107="zákl. přenesená",J107,0) -> 0 | BH107: =IF(N107="sníž. přenesená",J107,0) -> 0 | BI107: =IF(N107="nulová",J107,0) -> 0 | BJ107: 1 | BK107: =ROUND(I107*H107,2) -> 0 | BL107: 4 | BM107: 485433070
C108: 12 | D108: K | E108: 73322-2105 | F108: potrubí měděné 28x1 - v jednotkové ceně potrubí je dodávka potrubí, fitinek, montáž, uchycení a průrazy do rozměru 100x100 mm | G108: m | H108: 8 | J108: =ROUND(I108*H108,2) -> 0 | N108: základní | P108: =O108*H108 -> 0 | Q108: 0 | R108: =Q108*H108 -> 0 | S108: 0 | T108: =S108*H108 -> 0 | AR108: 4 | AT108: K | AU108: 1 | AY108: ROZPOCET | BE108: =IF(N108="základní",J108,0) -> 0 | BF108: =IF(N108="snížená",J108,0) -> 0 | BG108: =IF(N108="zákl. přenesená",J108,0) -> 0 | BH108: =IF(N108="sníž. přenesená",J108,0) -> 0 | BI108: =IF(N108="nulová",J108,0) -> 0 | BJ108: 1 | BK108: =ROUND(I108*H108,2) -> 0 | BL108: 4 | BM108: -2003467756
C109: 13 | D109: K | E109: 73329-1101 | F109: tlaková zkouška měděného potrubí do 28x1 | G109: m | H109: 94 | J109: =ROUND(I109*H109,2) -> 0 | N109: základní | P109: =O109*H109 -> 0 | Q109: 0 | R109: =Q109*H109 -> 0 | S109: 0 | T109: =S109*H109 -> 0 | AR109: 4 | AT109: K | AU109: 1 | AY109: ROZPOCET | BE109: =IF(N109="základní",J109,0) -> 0 | BF109: =IF(N109="snížená",J109,0) -> 0 | BG109: =IF(N109="zákl. přenesená",J109,0) -> 0 | BH109: =IF(N109="sníž. přenesená",J109,0) -> 0 | BI109: =IF(N109="nulová",J109,0) -> 0 | BJ109: 1 | BK109: =ROUND(I109*H109,2) -> 0 | BL109: 4 | BM109: 59902627
C110: 14 | D110: K | E110: 04 | F110: demontáž části měděného potrubí v místanosti č. 201 a zaslepní 2 x pr.15 | G110: h | H110: 4 | J110: =ROUND(I110*H110,2) -> 0 | N110: základní | P110: =O110*H110 -> 0 | Q110: 0 | R110: =Q110*H110 -> 0 | S110: 0 | T110: =S110*H110 -> 0 | AR110: 4 | AT110: K | AU110: 1 | AY110: ROZPOCET | BE110: =IF(N110="základní",J110,0) -> 0 | BF110: =IF(N110="snížená",J110,0) -> 0 | BG110: =IF(N110="zákl. přenesená",J110,0) -> 0 | BH110: =IF(N110="sníž. přenesená",J110,0) -> 0 | BI110: =IF(N110="nulová",J110,0) -> 0 | BJ110: 1 | BK110: =ROUND(I110*H110,2) -> 0 | BL110: 4 | BM110: 2070891678
C111: 15 | D111: K | E111: 05 | F111: úprava potrubí 28x1 v místnosti č.201 pro osazení KK 1" | G111: h | H111: 3 | J111: =ROUND(I111*H111,2) -> 0 | N111: základní | P111: =O111*H111 -> 0 | Q111: 0 | R111: =Q111*H111 -> 0 | S111: 0 | T111: =S111*H111 -> 0 | AR111: 4 | AT111: K | AU111: 1 | AY111: ROZPOCET | BE111: =IF(N111="základní",J111,0) -> 0 | BF111: =IF(N111="snížená",J111,0) -> 0 | BG111: =IF(N111="zákl. přenesená",J111,0) -> 0 | BH111: =IF(N111="sníž. přenesená",J111,0) -> 0 | BI111: =IF(N111="nulová",J111,0) -> 0 | BJ111: 1 | BK111: =ROUND(I111*H111,2) -> 0 | BL111: 4 | BM111: -522469373
C112: 16 | D112: K | E112: 99873-3202 | F112: přesun hmot přes 6 m do 12 m výšky | G112: % | J112: =ROUND(I112*H112,2) -> 0 | N112: základní | P112: =O112*H112 -> 0 | Q112: 0 | R112: =Q112*H112 -> 0 | S112: 0 | T112: =S112*H112 -> 0 | AR112: 4 | AT112: K | AU112: 1 | AY112: ROZPOCET | BE112: =IF(N112="základní",J112,0) -> 0 | BF112: =IF(N112="snížená",J112,0) -> 0 | BG112: =IF(N112="zákl. přenesená",J112,0) -> 0 | BH112: =IF(N112="sníž. přenesená",J112,0) -> 0 | BI112: =IF(N112="nulová",J112,0) -> 0 | BJ112: 1 | BK112: =ROUND(I112*H112,2) -> 0 | BL112: 4 | BM112: 420995651
D113: D | E113: 03 | F113: Otopná tělesa - desková | J113: =BK113 -> 0 | P113: =SUM(P114:P130) -> 0 | R113: =SUM(R114:R130) -> 0 | T113: =SUM(T114:T130) -> 0 | AR113: 2 | AT113: D | AU113: 0 | AY113: ROZPOCET | BK113: =SUM(BK114:BK130) -> 0
C114: 17 | D114: K | E114: 73515-2472 | F114: 21-6050 VK | G114: ks | H114: 0 | J114: =ROUND(I114*H114,2) -> 0 | N114: základní | P114: =O114*H114 -> 0 | Q114: 0 | R114: =Q114*H114 -> 0 | S114: 0 | T114: =S114*H114 -> 0 | AR114: 4 | AT114: K | AU114: 1 | AY114: ROZPOCET | BE114: =IF(N114="základní",J114,0) -> 0 | BF114: =IF(N114="snížená",J114,0) -> 0 | BG114: =IF(N114="zákl. přenesená",J114,0) -> 0 | BH114: =IF(N114="sníž. přenesená",J114,0) -> 0 | BI114: =IF(N114="nulová",J114,0) -> 0 | BJ114: 1 | BK114: =ROUND(I114*H114,2) -> 0 | BL114: 4 | BM114: -2001206561
C115: 18 | D115: K | E115: 73515-2557 | F115: 22-5100 VK | G115: ks | H115: 0 | J115: =ROUND(I115*H115,2) -> 0 | N115: základní | P115: =O115*H115 -> 0 | Q115: 0 | R115: =Q115*H115 -> 0 | S115: 0 | T115: =S115*H115 -> 0 | AR115: 4 | AT115: K | AU115: 1 | AY115: ROZPOCET | BE115: =IF(N115="základní",J115,0) -> 0 | BF115: =IF(N115="snížená",J115,0) -> 0 | BG115: =IF(N115="zákl. přenesená",J115,0) -> 0 | BH115: =IF(N115="sníž. přenesená",J115,0) -> 0 | BI115: =IF(N115="nulová",J115,0) -> 0 | BJ115: 1 | BK115: =ROUND(I115*H115,2) -> 0 | BL115: 4 | BM115: -527531105
C116: 19 | D116: K | E116: 73515-2557a | F116: 22-5100 VKL | G116: ks | H116: 0 | J116: =ROUND(I116*H116,2) -> 0 | N116: základní | P116: =O116*H116 -> 0 | Q116: 0 | R116: =Q116*H116 -> 0 | S116: 0 | T116: =S116*H116 -> 0 | AR116: 4 | AT116: K | AU116: 1 | AY116: ROZPOCET | BE116: =IF(N116="základní",J116,0) -> 0 | BF116: =IF(N116="snížená",J116,0) -> 0 | BG116: =IF(N116="zákl. přenesená",J116,0) -> 0 | BH116: =IF(N116="sníž. přenesená",J116,0) -> 0 | BI116: =IF(N116="nulová",J116,0) -> 0 | BJ116: 1 | BK116: =ROUND(I116*H116,2) -> 0 | BL116: 4 | BM116: -1419747224
C117: 20 | D117: K | E117: 06 | F117: koupelnové těleso KLCM 1220.450 | G117: ks | H117: 0 | J117: =ROUND(I117*H117,2) -> 0 | N117: základní | P117: =O117*H117 -> 0 | Q117: 0 | R117: =Q117*H117 -> 0 | S117: 0 | T117: =S117*H117 -> 0 | AR117: 4 | AT117: K | AU117: 1 | AY117: ROZPOCET | BE117: =IF(N117="základní",J117,0) -> 0 | BF117: =IF(N117="snížená",J117,0) -> 0 | BG117: =IF(N117="zákl. přenesená",J117,0) -> 0 | BH117: =IF(N117="sníž. přenesená",J117,0) -> 0 | BI117: =IF(N117="nulová",J117,0) -> 0 | BJ117: 1 | BK117: =ROUND(I117*H117,2) -> 0 | BL117: 4 | BM117: 1271204675
C118: 21 | D118: K | E118: 07 | F118: montáž koupelnových těles | G118: ks | H118: 0 | J118: =ROUND(I118*H118,2) -> 0 | N118: základní | P118: =O118*H118 -> 0 | Q118: 0 | R118: =Q118*H118 -> 0 | S118: 0 | T118: =S118*H118 -> 0 | AR118: 4 | AT118: K | AU118: 1 | AY118: ROZPOCET | BE118: =IF(N118="základní",J118,0) -> 0 | BF118: =IF(N118="snížená",J118,0) -> 0 | BG118: =IF(N118="zákl. přenesená",J118,0) -> 0 | BH118: =IF(N118="sníž. přenesená",J118,0) -> 0 | BI118: =IF(N118="nulová",J118,0) -> 0 | BJ118: 1 | BK118: =ROUND(I118*H118,2) -> 0 | BL118: 4 | BM118: -193979474
C119: 22 | D119: K | E119: 08 | F119: článkové otopné těleso C4 - hloubka 148 mm, 22 článků , výška 1000 mm, připojení od spodu typ VR, růžice pro odvzdšňovací ventil 1/2", uchycení na zem typ F, slonová kost, výkon 2929 W | G119: ks | H119: 0 | J119: =ROUND(I119*H119,2) -> 0 | N119: základní | P119: =O119*H119 -> 0 | Q119: 0 | R119: =Q119*H119 -> 0 | S119: 0 | T119: =S119*H119 -> 0 | AR119: 4 | AT119: K | AU119: 1 | AY119: ROZPOCET | BE119: =IF(N119="základní",J119,0) -> 0 | BF119: =IF(N119="snížená",J119,0) -> 0 | BG119: =IF(N119="zákl. přenesená",J119,0) -> 0 | BH119: =IF(N119="sníž. přenesená",J119,0) -> 0 | BI119: =IF(N119="nulová",J119,0) -> 0 | BJ119: 1 | BK119: =ROUND(I119*H119,2) -> 0 | BL119: 4 | BM119: 1474371489
C120: 23 | D120: K | E120: 09 | F120: montáž tělesa C4 | G120: ks | H120: 0 | J120: =ROUND(I120*H120,2) -> 0 | N120: základní | P120: =O120*H120 -> 0 | Q120: 0 | R120: =Q120*H120 -> 0 | S120: 0 | T120: =S120*H120 -> 0 | AR120: 4 | AT120: K | AU120: 1 | AY120: ROZPOCET | BE120: =IF(N120="základní",J120,0) -> 0 | BF120: =IF(N120="snížená",J120,0) -> 0 | BG120: =IF(N120="zákl. přenesená",J120,0) -> 0 | BH120: =IF(N120="sníž. přenesená",J120,0) -> 0 | BI120: =IF(N120="nulová",J120,0) -> 0 | BJ120: 1 | BK120: =ROUND(I120*H120,2) -> 0 | BL120: 4 | BM120: -1878907864
C121: 24 | D121: K | E121: 10 | F121: článkové otopné těleso C4 - hloubka 148 mm, 22 článků , výška 1000 mm, připojení od spodu typ VR, uchycení na zem typ F, růžice pro odvzdušňovací ventil 1/2", slonová kost, výkon 2228 W | G121: ks | H121: 0 | J121: =ROUND(I121*H121,2) -> 0 | N121: základní | P121: =O121*H121 -> 0 | Q121: 0 | R121: =Q121*H121 -> 0 | S121: 0 | T121: =S121*H121 -> 0 | AR121: 4 | AT121: K | AU121: 1 | AY121: ROZPOCET | BE121: =IF(N121="základní",J121,0) -> 0 | BF121: =IF(N121="snížená",J121,0) -> 0 | BG121: =IF(N121="zákl. přenesená",J121,0) -> 0 | BH121: =IF(N121="sníž. přenesená",J121,0) -> 0 | BI121: =IF(N121="nulová",J121,0) -> 0 | BJ121: 1 | BK121: =ROUND(I121*H121,2) -> 0 | BL121: 4 | BM121: -817330561
C122: 25 | D122: K | E122: 11 | F122: montáž tělesa C4 | G122: ks | H122: 0 | J122: =ROUND(I122*H122,2) -> 0 | N122: základní | P122: =O122*H122 -> 0 | Q122: 0 | R122: =Q122*H122 -> 0 | S122: 0 | T122: =S122*H122 -> 0 | AR122: 4 | AT122: K | AU122: 1 | AY122: ROZPOCET | BE122: =IF(N122="základní",J122,0) -> 0 | BF122: =IF(N122="snížená",J122,0) -> 0 | BG122: =IF(N122="zákl. přenesená",J122,0) -> 0 | BH122: =IF(N122="sníž. přenesená",J122,0) -> 0 | BI122: =IF(N122="nulová",J122,0) -> 0 | BJ122: 1 | BK122: =ROUND(I122*H122,2) -> 0 | BL122: 4 | BM122: -1608813009
C123: 26 | D123: K | E123: 12 | F123: článkové otopné těleso C6 - hloubka 230 mm, 18 článků , výška 300 mm, připojení od spodu typ VL, uchycení na zem typ F, lávový popel S33, výkon 1119 W | G123: ks | H123: 0 | J123: =ROUND(I123*H123,2) -> 0 | N123: základní | P123: =O123*H123 -> 0 | Q123: 0 | R123: =Q123*H123 -> 0 | S123: 0 | T123: =S123*H123 -> 0 | AR123: 4 | AT123: K | AU123: 1 | AY123: ROZPOCET | BE123: =IF(N123="základní",J123,0) -> 0 | BF123: =IF(N123="snížená",J123,0) -> 0 | BG123: =IF(N123="zákl. přenesená",J123,0) -> 0 | BH123: =IF(N123="sníž. přenesená",J123,0) -> 0 | BI123: =IF(N123="nulová",J123,0) -> 0 | BJ123: 1 | BK123: =ROUND(I123*H123,2) -> 0 | BL123: 4 | BM123: 1779895403
C124: 27 | D124: K | E124: 13 | F124: montáž tělesa C6 | G124: ks | H124: 0 | J124: =ROUND(I124*H124,2) -> 0 | N124: základní | P124: =O124*H124 -> 0 | Q124: 0 | R124: =Q124*H124 -> 0 | S124: 0 | T124: =S124*H124 -> 0 | AR124: 4 | AT124: K | AU124: 1 | AY124: ROZPOCET | BE124: =IF(N124="základní",J124,0) -> 0 | BF124: =IF(N124="snížená",J124,0) -> 0 | BG124: =IF(N124="zákl. přenesená",J124,0) -> 0 | BH124: =IF(N124="sníž. přenesená",J124,0) -> 0 | BI124: =IF(N124="nulová",J124,0) -> 0 | BJ124: 1 | BK124: =ROUND(I124*H124,2) -> 0 | BL124: 4 | BM124: 958526394
C125: 28 | D125: K | E125: 14 | F125: článkové otopné těleso C6 - hloubka 230 mm, 18 článků , výška 300 mm, připojení od spodu typ VR, uchycení na zem typ F, lávový popel S33, výkon 1119 W | G125: ks | H125: 0 | J125: =ROUND(I125*H125,2) -> 0 | N125: základní | P125: =O125*H125 -> 0 | Q125: 0 | R125: =Q125*H125 -> 0 | S125: 0 | T125: =S125*H125 -> 0 | AR125: 4 | AT125: K | AU125: 1 | AY125: ROZPOCET | BE125: =IF(N125="základní",J125,0) -> 0 | BF125: =IF(N125="snížená",J125,0) -> 0 | BG125: =IF(N125="zákl. přenesená",J125,0) -> 0 | BH125: =IF(N125="sníž. přenesená",J125,0) -> 0 | BI125: =IF(N125="nulová",J125,0) -> 0 | BJ125: 1 | BK125: =ROUND(I125*H125,2) -> 0 | BL125: 4 | BM125: 553299903
... C129: 32 | D129: K | E129: 18 | F129: přídavné uchycení ke stěně - vyšší tělesa včetně montáže | G129: ks | H129: 0 | J129: =ROUND(I129*H129,2) -> 0 | N129: základní | P129: =O129*H129 -> 0 | Q129: 0 | R129: =Q129*H129 -> 0 | S129: 0 | T129: =S129*H129 -> 0 | AR129: 4 | AT129: K | AU129: 1 | AY129: ROZPOCET | BE129: =IF(N129="základní",J129,0) -> 0 | BF129: =IF(N129="snížená",J129,0) -> 0 | BG129: =IF(N129="zákl. přenesená",J129,0) -> 0 | BH129: =IF(N129="sníž. přenesená",J129,0) -> 0 | BI129: =IF(N129="nulová",J129,0) -> 0 | BJ129: 1 | BK129: =ROUND(I129*H129,2) -> 0 | BL129: 4 | BM129: -1139354209
C130: 33 | D130: K | E130: 998735202 | F130: přesun hmot přes 6 m do 12 m výšky | G130: % | J130: =ROUND(I130*H130,2) -> 0 | N130: základní | P130: =O130*H130 -> 0 | Q130: 0 | R130: =Q130*H130 -> 0 | S130: 0 | T130: =S130*H130 -> 0 | AR130: 4 | AT130: K | AU130: 1 | AY130: ROZPOCET | BE130: =IF(N130="základní",J130,0) -> 0 | BF130: =IF(N130="snížená",J130,0) -> 0 | BG130: =IF(N130="zákl. přenesená",J130,0) -> 0 | BH130: =IF(N130="sníž. přenesená",J130,0) -> 0 | BI130: =IF(N130="nulová",J130,0) -> 0 | BJ130: 1 | BK130: =ROUND(I130*H130,2) -> 0 | BL130: 4 | BM130: 189841489
D131: D | E131: 04 | F131: Tepelné izolace - návleková tepelná izolace tl.15 mm | J131: =BK131 -> 0 | P131: =SUM(P132:P137) -> 0 | R131: =SUM(R132:R137) -> 0 | T131: =SUM(T132:T137) -> 0 | AR131: 2 | AT131: D | AU131: 0 | AY131: ROZPOCET | BK131: =SUM(BK132:BK137) -> 0
C132: 34 | D132: K | E132: 19 | F132: 15x15 (15x1) | G132: m | H132: 44 | J132: =ROUND(I132*H132,2) -> 0 | N132: základní | P132: =O132*H132 -> 0 | Q132: 0 | R132: =Q132*H132 -> 0 | S132: 0 | T132: =S132*H132 -> 0 | AR132: 4 | AT132: K | AU132: 1 | AY132: ROZPOCET | BE132: =IF(N132="základní",J132,0) -> 0 | BF132: =IF(N132="snížená",J132,0) -> 0 | BG132: =IF(N132="zákl. přenesená",J132,0) -> 0 | BH132: =IF(N132="sníž. přenesená",J132,0) -> 0 | BI132: =IF(N132="nulová",J132,0) -> 0 | BJ132: 1 | BK132: =ROUND(I132*H132,2) -> 0 | BL132: 4 | BM132: -1950088441
C133: 35 | D133: K | E133: 20 | F133: 18x15 (18x1) | G133: m | H133: 10 | J133: =ROUND(I133*H133,2) -> 0 | N133: základní | P133: =O133*H133 -> 0 | Q133: 0 | R133: =Q133*H133 -> 0 | S133: 0 | T133: =S133*H133 -> 0 | AR133: 4 | AT133: K | AU133: 1 | AY133: ROZPOCET | BE133: =IF(N133="základní",J133,0) -> 0 | BF133: =IF(N133="snížená",J133,0) -> 0 | BG133: =IF(N133="zákl. přenesená",J133,0) -> 0 | BH133: =IF(N133="sníž. přenesená",J133,0) -> 0 | BI133: =IF(N133="nulová",J133,0) -> 0 | BJ133: 1 | BK133: =ROUND(I133*H133,2) -> 0 | BL133: 4 | BM133: -706222112
C134: 36 | D134: K | E134: 21 | F134: 22x15 (22x1) | G134: m | H134: 32 | J134: =ROUND(I134*H134,2) -> 0 | N134: základní | P134: =O134*H134 -> 0 | Q134: 0 | R134: =Q134*H134 -> 0 | S134: 0 | T134: =S134*H134 -> 0 | AR134: 4 | AT134: K | AU134: 1 | AY134: ROZPOCET | BE134: =IF(N134="základní",J134,0) -> 0 | BF134: =IF(N134="snížená",J134,0) -> 0 | BG134: =IF(N134="zákl. přenesená",J134,0) -> 0 | BH134: =IF(N134="sníž. přenesená",J134,0) -> 0 | BI134: =IF(N134="nulová",J134,0) -> 0 | BJ134: 1 | BK134: =ROUND(I134*H134,2) -> 0 | BL134: 4 | BM134: 1746016910
C135: 37 | D135: K | E135: 22 | F135: 28x15 (28x1) | G135: m | H135: 8 | J135: =ROUND(I135*H135,2) -> 0 | N135: základní | P135: =O135*H135 -> 0 | Q135: 0 | R135: =Q135*H135 -> 0 | S135: 0 | T135: =S135*H135 -> 0 | AR135: 4 | AT135: K | AU135: 1 | AY135: ROZPOCET | BE135: =IF(N135="základní",J135,0) -> 0 | BF135: =IF(N135="snížená",J135,0) -> 0 | BG135: =IF(N135="zákl. přenesená",J135,0) -> 0 | BH135: =IF(N135="sníž. přenesená",J135,0) -> 0 | BI135: =IF(N135="nulová",J135,0) -> 0 | BJ135: 1 | BK135: =ROUND(I135*H135,2) -> 0 | BL135: 4 | BM135: 1064845616
C136: 38 | D136: K | E136: 23 | F136: montáž návlekové tepelné izolace včetně ohybů a odboček | G136: m | H136: 94 | J136: =ROUND(I136*H136,2) -> 0 | N136: základní | P136: =O136*H136 -> 0 | Q136: 0 | R136: =Q136*H136 -> 0 | S136: 0 | T136: =S136*H136 -> 0 | AR136: 4 | AT136: K | AU136: 1 | AY136: ROZPOCET | BE136: =IF(N136="základní",J136,0) -> 0 | BF136: =IF(N136="snížená",J136,0) -> 0 | BG136: =IF(N136="zákl. přenesená",J136,0) -> 0 | BH136: =IF(N136="sníž. přenesená",J136,0) -> 0 | BI136: =IF(N136="nulová",J136,0) -> 0 | BJ136: 1 | BK136: =ROUND(I136*H136,2) -> 0 | BL136: 4 | BM136: -1557988158
...

Sheet 1.7 - Vzduchotechnika
AT2: {67a0c015-d3c5-40d1-a2f4-7a21162c02b5}
AT3: 2
D4: KRYCÍ LIST SOUPISU PRACÍ | M4: v --- níže se nacházejí doplnkové a pomocné údaje k sestavám --- v | AT4: False
D6: Stavba:
E7: ='Rekapitulace stavby'!K6 -> Stavební úpravy objektu č.p. 104 a 105, Café Herzog, Broumov - 1. etapa
D8: Objekt:
E9: SO 01 - Hlavní objekt
D10: Soupis:
E11: 1.7 - Vzduchotechnika
D13: KSO: | I13: CC-CZ:
D14: Místo: | F14: k. ú. Broumov | I14: Datum: | J14: ='Rekapitulace stavby'!AN8 -> 10. 10. 2022
D16: Zadavatel: | I16: IČ:
I17: DIČ:
D19: Uchazeč: | I19: IČ: | J19: ='Rekapitulace stavby'!AN13 -> Vyplň údaj
E20: ='Rekapitulace stavby'!E14 -> Vyplň údaj | I20: DIČ: | J20: ='Rekapitulace stavby'!AN14 -> Vyplň údaj
D22: Projektant: | I22: IČ: | J22: 60109971
E23: INS spol. s r.o. | I23: DIČ: | J23: CZ60109971
D25: Zpracovatel: | I25: IČ: | J25: =IF('Rekapitulace stavby'!AN19="","",'Rekapitulace stavby'!AN19)
E26: =IF('Rekapitulace stavby'!E20="","",'Rekapitulace stavby'!E20) -> Ing. Michaela Hůlková | I26: DIČ: | J26: =IF('Rekapitulace stavby'!AN20="","",'Rekapitulace stavby'!AN20)
D28: Poznámka:
D32: Cena bez DPH | J32: =ROUND(J89, 2) -> 0
F34: Základ daně | I34: Sazba daně | J34: Výše daně
D35: DPH | E35: základní | F35: =ROUND((SUM(BE89:BE129)), 2) -> 0 | I35: 0.21 | J35: =ROUND(((SUM(BE89:BE129))*I35), 2) -> 0
E36: snížená | F36: =ROUND((SUM(BF89:BF129)), 2) -> 0 | I36: 0.15 | J36: =ROUND(((SUM(BF89:BF129))*I36), 2) -> 0
E37: zákl. přenesená | F37: =ROUND((SUM(BG89:BG129)), 2) -> 0 | I37: 0.21 | J37: =0 -> 0
E38: sníž. přenesená | F38: =ROUND((SUM(BH89:BH129)), 2) -> 0 | I38: 0.15 | J38: =0 -> 0
E39: nulová | F39: =ROUND((SUM(BI89:BI129)), 2) -> 0 | I39: 0 | J39: =0 -> 0
D41: Cena s DPH | G41: v | H41: CZK | J41: =SUM(J32:J39) -> 0
C47: REKAPITULACE ČLENĚNÍ SOUPISU PRACÍ
C49: Stavba:
E50: =E7 -> Stavební úpravy objektu č.p. 104 a 105, Café Herzog, Broumov - 1. etapa
C51: Objekt:
E52: SO 01 - Hlavní objekt
C53: Soupis:
E54: =E11 -> 1.7 - Vzduchotechnika
C56: Místo: | F56: =F14 -> k. ú. Broumov | I56: Datum: | J56: =IF(J14="","",J14) -> 10. 10. 2022
C58: Zadavatel: | F58: =E17 | I58: Projektant: | J58: =E23 -> INS spol. s r.o.
C59: Uchazeč: | F59: =IF(E20="","",E20) -> Vyplň údaj | I59: Zpracovatel: | J59: =E26 -> Ing. Michaela Hůlková
C61: Kód dílu - Popis | J61: Cena celkem [CZK]
C63: Náklady stavby celkem | J63: =J89 -> 0 | AU63: -1
D64: R - Rozpočet | J64: =J90 -> 0
D65: 01 - Zařízení č. 1 - Větrání kuchyně | J65: =J92 -> 0
D66: 02 - Zařízení č. 2 – Větrání hygienického zázemí | J66: =J103 -> 0
D67: 03 - Ostatní | J67: =J122 -> 0
C74: SOUPIS PRACÍ
C76: Stavba:
E77: =E7 -> Stavební úpravy objektu č.p. 104 a 105, Café Herzog, Broumov - 1. etapa
C78: Objekt:
E79: SO 01 - Hlavní objekt
C80: Soupis:
E81: =E11 -> 1.7 - Vzduchotechnika
C83: Místo: | F83: =F14 -> k. ú. Broumov | I83: Datum: | J83: =IF(J14="","",J14) -> 10. 10. 2022
C85: Zadavatel: | F85: =E17 | I85: Projektant: | J85: =E23 -> INS spol. s r.o.
C86: Uchazeč: | F86: =IF(E20="","",E20) -> Vyplň údaj | I86: Zpracovatel: | J86: =E26 -> Ing. Michaela Hůlková
C88: PČ | D88: Typ | E88: Kód | F88: Popis | G88: MJ | H88: Množství | I88: J.cena [CZK] | J88: Cena celkem [CZK] | K88: Cenová soustava | N88: DPH | O88: J. Nh [h] | P88: Nh celkem [h] | Q88: J. hmotnost [t] | R88: Hmotnost celkem [t] | S88: J. suť [t] | T88: Suť Celkem [t]
C89: Náklady soupisu celkem | J89: =BK89 -> 0 | P89: =P90+P92+P103+P122 -> 0 | R89: =R90+R92+R103+R122 -> 0 | T89: =T90+T92+T103+T122 -> 0 | AT89: D | AU89: -1 | BK89: =BK90+BK92+BK103+BK122 -> 0
D90: D | E90: R | F90: Rozpočet | J90: =BK90 -> 0 | P90: =P91 -> 0 | R90: =R91 -> 0 | T90: =T91 -> 0 | AR90: 1 | AT90: D | AU90: 0 | AY90: ROZPOCET | BK90: =BK91 -> 0
C91: 1 | D91: K | E91: Poznámka | F91: Při vyplňování výkazu výměr je nutné respektovat dále uvedené pokyny: _x000D_ 1) Při zpracování nabídky je nutné využít všech částí (dílů) projektu pro provádění stavby (zák. č. 134/2016 Sb., §44, odst. (4), písm. a), tj. technické zprávy, seznamu pozic, všech výkresů, tabulek a specifikací materiálů._x000D_ 2) Součástí nabídkové ceny musí být veškeré náklady, aby cena byla konečná a zahrnovala celou dodávku a montáž. _x000D_ 3) Každá uchazečem vyplněná položka musí obsahovat veškeré technicky a logicky dovoditelné součásti dodávky a montáže (včetně údajů o podmínkách a úhradě licencí potřebných SW). _x000D_ 4) Dodávky a montáže uvedené v nabídce musí být, včetně veškerého souvisejícího doplňkového, podružného a montážního materiálu, tak, aby celé zařízení bylo funkční a splňovalo všechny předpisy, které se na ně vztahují. _x000D_ 5) Označení výrobků konkrétním výrobcem v projektu pro provádění stavby vyjadřuje standard požadované kvality (zák. č. 134/2016 Sb, §44, odst. (9). _x000D_ - pokud uchazeč nabídne produkt od jiného výrobce je povinen dodržet standard a zároveň, přejímá odpovědnost za správnost náhrady - splnění všech parametrů a koordinaci se všemi navazujícími profesemi, eventuální nutnost úpravy projektu pro provádění stavby půjde k tíží uchazeče (vybraného dodavatele)._x000D_ 6) Všechny položky jsou uvedeny bez DPH._x000D_ 7) Práce v objektu jsou prováděny do výšky +4,000m. _x000D_ 8) Nakládání se sutí:_x000D_ - uchazeč zahrne do jednotkových cen bouracích prací náklady na svislou i vodorovnou vnitrostaveništní manipulaci se sutí vč.překládání, náklady na odvoz na mezideponii, opětovné nakládání a odvoz suti na skládku a skládkovné._x000D_ - dále zahrne do svých cen náklady na laboratorní rozbory suti vyžadované od 1.1.2006 vyhláškou MŽP č.294/2005._x000D_ - vybouraný materiál se stává majetkem zhotovitele. Vzhledem k tomu, že se bude v některých případech jednat i o druhotné suroviny (ocel. konstrukce atd.) je nutné tento fakt zohlednit v nabídkové ceně._x000D_ 9) Uchazeč zahrne do svých jednotkových cen důkladná a stálá protiprašná opatření, trvalý úklid vnitrozávodových komunikací znečištěných v průběhu stavby a trvalý úklid všech prostor dotčených stavbou. _x000D_ - dále musí zahrnout do svých cen soustavné odklízení suti vzniklé při bouracích pracech a soustavné odsávání prachu._x000D_ | G91: kus | H91: 1 | J91: =ROUND(I91*H91,2) -> 0 | N91: základní | P91: =O91*H91 -> 0 | Q91: 0 | R91: =Q91*H91 -> 0 | S91: 0 | T91: =S91*H91 -> 0 | AR91: 4 | AT91: K | AU91: 1 | AY91: ROZPOCET | BE91: =IF(N91="základní",J91,0) -> 0 | BF91: =IF(N91="snížená",J91,0) -> 0 | BG91: =IF(N91="zákl. přenesená",J91,0) -> 0 | BH91: =IF(N91="sníž. přenesená",J91,0) -> 0 | BI91: =IF(N91="nulová",J91,0) -> 0 | BJ91: 1 | BK91: =ROUND(I91*H91,2) -> 0 | BL91: 4 | BM91: 941429095
D92: D | E92: 01 | F92: Zařízení č. 1 - Větrání kuchyně | J92: =BK92 -> 0 | P92: =SUM(P93:P102) -> 0 | R92: =SUM(R93:R102) -> 0 | T92: =SUM(T93:T102) -> 0 | AR92: 2 | AT92: D | AU92: 0 | AY92: ROZPOCET | BK92: =SUM(BK93:BK102) -> 0
C93: 2 | D93: K | E93: 1.B.1 | F93: Potrubní ventilátor - tříotáčkový do kruhového potrubí o průměru 315mm Objemový průtok: 1200m3/h Dopravní tlak: 280Pa | G93: ks | H93: 0 | J93: =ROUND(I93*H93,2) -> 0 | N93: základní | P93: =O93*H93 -> 0 | Q93: 0 | R93: =Q93*H93 -> 0 | S93: 0 | T93: =S93*H93 -> 0 | AR93: 4 | AT93: K | AU93: 1 | AY93: ROZPOCET | BE93: =IF(N93="základní",J93,0) -> 0 | BF93: =IF(N93="snížená",J93,0) -> 0 | BG93: =IF(N93="zákl. přenesená",J93,0) -> 0 | BH93: =IF(N93="sníž. přenesená",J93,0) -> 0 | BI93: =IF(N93="nulová",J93,0) -> 0 | BJ93: 1 | BK93: =ROUND(I93*H93,2) -> 0 | BL93: 4 | BM93: 1242255115
C94: 3 | D94: K | E94: 1.C.1 | F94: Regulační klapka těsná - na hranaté potrubí s ručním kovovým ovládáním Rozměr: 315x200 mm | G94: ks | H94: 0 | J94: =ROUND(I94*H94,2) -> 0 | N94: základní | P94: =O94*H94 -> 0 | Q94: 0 | R94: =Q94*H94 -> 0 | S94: 0 | T94: =S94*H94 -> 0 | AR94: 4 | AT94: K | AU94: 1 | AY94: ROZPOCET | BE94: =IF(N94="základní",J94,0) -> 0 | BF94: =IF(N94="snížená",J94,0) -> 0 | BG94: =IF(N94="zákl. přenesená",J94,0) -> 0 | BH94: =IF(N94="sníž. přenesená",J94,0) -> 0 | BI94: =IF(N94="nulová",J94,0) -> 0 | BJ94: 1 | BK94: =ROUND(I94*H94,2) -> 0 | BL94: 4 | BM94: -795460794
C95: 4 | D95: K | E95: 1.D.1 | F95: Odsavač par (digestoř) - nerezový zákryt s osvětlením, tukovými filtry, ortokovou vaničkou - regulační klapka osazena na VZT rozvodu, připojovací rozměr na VZT potrubí 315x200mm - výška odsavače par 400mm Rozměr: 1600x900mm Objemový průtok: 1200m3/h | G95: ks | H95: 0 | J95: =ROUND(I95*H95,2) -> 0 | N95: základní | P95: =O95*H95 -> 0 | Q95: 0 | R95: =Q95*H95 -> 0 | S95: 0 | T95: =S95*H95 -> 0 | AR95: 4 | AT95: K | AU95: 1 | AY95: ROZPOCET | BE95: =IF(N95="základní",J95,0) -> 0 | BF95: =IF(N95="snížená",J95,0) -> 0 | BG95: =IF(N95="zákl. přenesená",J95,0) -> 0 | BH95: =IF(N95="sníž. přenesená",J95,0) -> 0 | BI95: =IF(N95="nulová",J95,0) -> 0 | BJ95: 1 | BK95: =ROUND(I95*H95,2) -> 0 | BL95: 4 | BM95: 649971107
C96: 5 | D96: K | E96: 1.D.2 | F96: Odsavač par (digestoř) - nerezový zákryt s osvětlením, tukovými filtry, ortokovou vaničkou - regulační klapka osazena na VZT rozvodu, připojovací rozměr na VZT potrubí 315x200mm - výška odsavače par 400mm Rozměr: 1300x1300mm Objemový průtok: 1200m3/h | G96: ks | H96: 0 | J96: =ROUND(I96*H96,2) -> 0 | N96: základní | P96: =O96*H96 -> 0 | Q96: 0 | R96: =Q96*H96 -> 0 | S96: 0 | T96: =S96*H96 -> 0 | AR96: 4 | AT96: K | AU96: 1 | AY96: ROZPOCET | BE96: =IF(N96="základní",J96,0) -> 0 | BF96: =IF(N96="snížená",J96,0) -> 0 | BG96: =IF(N96="zákl. přenesená",J96,0) -> 0 | BH96: =IF(N96="sníž. přenesená",J96,0) -> 0 | BI96: =IF(N96="nulová",J96,0) -> 0 | BJ96: 1 | BK96: =ROUND(I96*H96,2) -> 0 | BL96: 4 | BM96: 432599418
C97: 6 | D97: K | E97: 1.D.3 | F97: Protidešťová žaluzie - v hliníkovém provedení - se standartními úzkými lamelami - vybavena svařovaným sítem s oky 10x10mm Rozměr: 560x200 mm Pozn.: bude upřesněno na místě | G97: ks | H97: 0 | J97: =ROUND(I97*H97,2) -> 0 | N97: základní | P97: =O97*H97 -> 0 | Q97: 0 | R97: =Q97*H97 -> 0 | S97: 0 | T97: =S97*H97 -> 0 | AR97: 4 | AT97: K | AU97: 1 | AY97: ROZPOCET | BE97: =IF(N97="základní",J97,0) -> 0 | BF97: =IF(N97="snížená",J97,0) -> 0 | BG97: =IF(N97="zákl. přenesená",J97,0) -> 0 | BH97: =IF(N97="sníž. přenesená",J97,0) -> 0 | BI97: =IF(N97="nulová",J97,0) -> 0 | BJ97: 1 | BK97: =ROUND(I97*H97,2) -> 0 | BL97: 4 | BM97: 924349031
C98: 7 | D98: K | E98: 1.E.1 | F98: Potrubí 4-hranné, pozinkované + 30% tvarovek. Miniální třída těsnosti potrubních rozvodů: "C" Do obvodu 1500 mm | G98: m2 | H98: 0 | J98: =ROUND(I98*H98,2) -> 0 | N98: základní | P98: =O98*H98 -> 0 | Q98: 0 | R98: =Q98*H98 -> 0 | S98: 0 | T98: =S98*H98 -> 0 | AR98: 4 | AT98: K | AU98: 1 | AY98: ROZPOCET | BE98: =IF(N98="základní",J98,0) -> 0 | BF98: =IF(N98="snížená",J98,0) -> 0 | BG98: =IF(N98="zákl. přenesená",J98,0) -> 0 | BH98: =IF(N98="sníž. přenesená",J98,0) -> 0 | BI98: =IF(N98="nulová",J98,0) -> 0 | BJ98: 1 | BK98: =ROUND(I98*H98,2) -> 0 | BL98: 4 | BM98: 581444972
C99: 8 | D99: K | E99: 1.F.1 | F99: Pružná spojka - pro napojení potrubního ventilátoru na kruhové potrubí - připevňuje se na ventilátor a potrubí dvěma přírubami Průměr: 315 mm | G99: ks | H99: 0 | J99: =ROUND(I99*H99,2) -> 0 | N99: základní | P99: =O99*H99 -> 0 | Q99: 0 | R99: =Q99*H99 -> 0 | S99: 0 | T99: =S99*H99 -> 0 | AR99: 4 | AT99: K | AU99: 1 | AY99: ROZPOCET | BE99: =IF(N99="základní",J99,0) -> 0 | BF99: =IF(N99="snížená",J99,0) -> 0 | BG99: =IF(N99="zákl. přenesená",J99,0) -> 0 | BH99: =IF(N99="sníž. přenesená",J99,0) -> 0 | BI99: =IF(N99="nulová",J99,0) -> 0 | BJ99: 1 | BK99: =ROUND(I99*H99,2) -> 0 | BL99: 4 | BM99: 1400476047
C100: 9 | D100: K | E100: 1.F.2 | F100: Buňkový tlumič hluku do hranatého potrubí - s děrovaným plechem typ G Šířka buněk 200mm, délka tlumiče hluku 1500mm Rozměr buňky: 200x500mm | G100: ks | H100: 0 | J100: =ROUND(I100*H100,2) -> 0 | N100: základní | P100: =O100*H100 -> 0 | Q100: 0 | R100: =Q100*H100 -> 0 | S100: 0 | T100: =S100*H100 -> 0 | AR100: 4 | AT100: K | AU100: 1 | AY100: ROZPOCET | BE100: =IF(N100="základní",J100,0) -> 0 | BF100: =IF(N100="snížená",J100,0) -> 0 | BG100: =IF(N100="zákl. přenesená",J100,0) -> 0 | BH100: =IF(N100="sníž. přenesená",J100,0) -> 0 | BI100: =IF(N100="nulová",J100,0) -> 0 | BJ100: 1 | BK100: =ROUND(I100*H100,2) -> 0 | BL100: 4 | BM100: 567170206
C101: 10 | D101: K | E101: 1.H.1 | F101: Požární izolace - lamelová rohož z lamel z kamenné vlny s AL polepem - minimální požární odolnost dle PBŘ Tloušťka: 50mm | G101: m2 | H101: 0 | J101: =ROUND(I101*H101,2) -> 0 | N101: základní | P101: =O101*H101 -> 0 | Q101: 0 | R101: =Q101*H101 -> 0 | S101: 0 | T101: =S101*H101 -> 0 | AR101: 4 | AT101: K | AU101: 1 | AY101: ROZPOCET | BE101: =IF(N101="základní",J101,0) -> 0 | BF101: =IF(N101="snížená",J101,0) -> 0 | BG101: =IF(N101="zákl. přenesená",J101,0) -> 0 | BH101: =IF(N101="sníž. přenesená",J101,0) -> 0 | BI101: =IF(N101="nulová",J101,0) -> 0 | BJ101: 1 | BK101: =ROUND(I101*H101,2) -> 0 | BL101: 4 | BM101: 1935176885
C102: 11 | D102: K | E102: 1.J.1 | F102: Závěsový, montážní, spojovací a těsnící materiál Plechové potrubí bude uloženo na závěsy, hadice budou na potrubí připevněny plastovou šedou samolepící spojovací páskou, izolace budou kryty stříbrnou AL samolepící páskou. Potrubí bude spojováno samořeznými šrouby. Použité hmoždinky budou natloukací do betonu. Nosný systém bude na hmoždinky vynesen pomocí závitových tyčí. | G102: kg | H102: 0 | J102: =ROUND(I102*H102,2) -> 0 | N102: základní | P102: =O102*H102 -> 0 | Q102: 0 | R102: =Q102*H102 -> 0 | S102: 0 | T102: =S102*H102 -> 0 | AR102: 4 | AT102: K | AU102: 1 | AY102: ROZPOCET | BE102: =IF(N102="základní",J102,0) -> 0 | BF102: =IF(N102="snížená",J102,0) -> 0 | BG102: =IF(N102="zákl. přenesená",J102,0) -> 0 | BH102: =IF(N102="sníž. přenesená",J102,0) -> 0 | BI102: =IF(N102="nulová",J102,0) -> 0 | BJ102: 1 | BK102: =ROUND(I102*H102,2) -> 0 | BL102: 4 | BM102: -441427259
D103: D | E103: 02 | F103: Zařízení č. 2 – Větrání hygienického zázemí | J103: =BK103 -> 0 | P103: =SUM(P104:P121) -> 0 | R103: =SUM(R104:R121) -> 0 | T103: =SUM(T104:T121) -> 0 | AR103: 2 | AT103: D | AU103: 0 | AY103: ROZPOCET | BK103: =SUM(BK104:BK121) -> 0
C104: 12 | D104: K | E104: 2.B.1 | F104: Potrubní ventilátor - dvouotáčkový do kruhového potrubí o průměru 100mm Objemový průtok: 80m3/h Dopravní tlak: 110Pa | G104: ks | H104: 0 | J104: =ROUND(I104*H104,2) -> 0 | N104: základní | P104: =O104*H104 -> 0 | Q104: 0 | R104: =Q104*H104 -> 0 | S104: 0 | T104: =S104*H104 -> 0 | AR104: 4 | AT104: K | AU104: 1 | AY104: ROZPOCET | BE104: =IF(N104="základní",J104,0) -> 0 | BF104: =IF(N104="snížená",J104,0) -> 0 | BG104: =IF(N104="zákl. přenesená",J104,0) -> 0 | BH104: =IF(N104="sníž. přenesená",J104,0) -> 0 | BI104: =IF(N104="nulová",J104,0) -> 0 | BJ104: 1 | BK104: =ROUND(I104*H104,2) -> 0 | BL104: 4 | BM104: -142698807
C105: 13 | D105: K | E105: 2.B.2 | F105: Potrubní ventilátor - dvouotáčkový do kruhového potrubí o průměru 125mm Objemový průtok: 110m3/h Dopravní tlak: 90Pa | G105: ks | H105: 0 | J105: =ROUND(I105*H105,2) -> 0 | N105: základní | P105: =O105*H105 -> 0 | Q105: 0 | R105: =Q105*H105 -> 0 | S105: 0 | T105: =S105*H105 -> 0 | AR105: 4 | AT105: K | AU105: 1 | AY105: ROZPOCET | BE105: =IF(N105="základní",J105,0) -> 0 | BF105: =IF(N105="snížená",J105,0) -> 0 | BG105: =IF(N105="zákl. přenesená",J105,0) -> 0 | BH105: =IF(N105="sníž. přenesená",J105,0) -> 0 | BI105: =IF(N105="nulová",J105,0) -> 0 | BJ105: 1 | BK105: =ROUND(I105*H105,2) -> 0 | BL105: 4 | BM105: -1284250066
C106: 14 | D106: K | E106: 2.B.3 | F106: Odvodní ventilátor - radiální na kruhového potrubí pod omítku v provedení se zpětnou klapkou, filtremu a s doběhem pro montáž do stropu Objemový průtok: 30-60m3/h Dopravní tlak: 250Pa | G106: ks | H106: 0 | J106: =ROUND(I106*H106,2) -> 0 | N106: základní | P106: =O106*H106 -> 0 | Q106: 0 | R106: =Q106*H106 -> 0 | S106: 0 | T106: =S106*H106 -> 0 | AR106: 4 | AT106: K | AU106: 1 | AY106: ROZPOCET | BE106: =IF(N106="základní",J106,0) -> 0 | BF106: =IF(N106="snížená",J106,0) -> 0 | BG106: =IF(N106="zákl. přenesená",J106,0) -> 0 | BH106: =IF(N106="sníž. přenesená",J106,0) -> 0 | BI106: =IF(N106="nulová",J106,0) -> 0 | BJ106: 1 | BK106: =ROUND(I106*H106,2) -> 0 | BL106: 4 | BM106: -302451756
C107: 15 | D107: K | E107: 2.C.1 | F107: Regulační klapka těsná - do kruhového potrubí s ručním kovovým ovládáním Průměr: 100 mm | G107: ks | H107: 0 | J107: =ROUND(I107*H107,2) -> 0 | N107: základní | P107: =O107*H107 -> 0 | Q107: 0 | R107: =Q107*H107 -> 0 | S107: 0 | T107: =S107*H107 -> 0 | AR107: 4 | AT107: K | AU107: 1 | AY107: ROZPOCET | BE107: =IF(N107="základní",J107,0) -> 0 | BF107: =IF(N107="snížená",J107,0) -> 0 | BG107: =IF(N107="zákl. přenesená",J107,0) -> 0 | BH107: =IF(N107="sníž. přenesená",J107,0) -> 0 | BI107: =IF(N107="nulová",J107,0) -> 0 | BJ107: 1 | BK107: =ROUND(I107*H107,2) -> 0 | BL107: 4 | BM107: -1454495421
C108: 16 | D108: K | E108: 2.C.2 | F108: Regulační klapka těsná - do kruhového potrubí s ručním kovovým ovládáním Průměr: 125 mm | G108: ks | H108: 0 | J108: =ROUND(I108*H108,2) -> 0 | N108: základní | P108: =O108*H108 -> 0 | Q108: 0 | R108: =Q108*H108 -> 0 | S108: 0 | T108: =S108*H108 -> 0 | AR108: 4 | AT108: K | AU108: 1 | AY108: ROZPOCET | BE108: =IF(N108="základní",J108,0) -> 0 | BF108: =IF(N108="snížená",J108,0) -> 0 | BG108: =IF(N108="zákl. přenesená",J108,0) -> 0 | BH108: =IF(N108="sníž. přenesená",J108,0) -> 0 | BI108: =IF(N108="nulová",J108,0) -> 0 | BJ108: 1 | BK108: =ROUND(I108*H108,2) -> 0 | BL108: 4 | BM108: -1629702295
C109: 17 | D109: K | E109: 2.C.4 | F109: Zpětná přetlaková klapka těsná - do kruhového potrubí Průměr: 100 mm | G109: ks | H109: 0 | J109: =ROUND(I109*H109,2) -> 0 | N109: základní | P109: =O109*H109 -> 0 | Q109: 0 | R109: =Q109*H109 -> 0 | S109: 0 | T109: =S109*H109 -> 0 | AR109: 4 | AT109: K | AU109: 1 | AY109: ROZPOCET | BE109: =IF(N109="základní",J109,0) -> 0 | BF109: =IF(N109="snížená",J109,0) -> 0 | BG109: =IF(N109="zákl. přenesená",J109,0) -> 0 | BH109: =IF(N109="sníž. přenesená",J109,0) -> 0 | BI109: =IF(N109="nulová",J109,0) -> 0 | BJ109: 1 | BK109: =ROUND(I109*H109,2) -> 0 | BL109: 4 | BM109: 1645263688
C110: 18 | D110: K | E110: 2.C.5 | F110: Zpětná přetlaková klapka těsná - do kruhového potrubí Průměr: 125 mm | G110: ks | H110: 0 | J110: =ROUND(I110*H110,2) -> 0 | N110: základní | P110: =O110*H110 -> 0 | Q110: 0 | R110: =Q110*H110 -> 0 | S110: 0 | T110: =S110*H110 -> 0 | AR110: 4 | AT110: K | AU110: 1 | AY110: ROZPOCET | BE110: =IF(N110="základní",J110,0) -> 0 | BF110: =IF(N110="snížená",J110,0) -> 0 | BG110: =IF(N110="zákl. přenesená",J110,0) -> 0 | BH110: =IF(N110="sníž. přenesená",J110,0) -> 0 | BI110: =IF(N110="nulová",J110,0) -> 0 | BJ110: 1 | BK110: =ROUND(I110*H110,2) -> 0 | BL110: 4 | BM110: 1035719348
C111: 19 | D111: K | E111: 2.D.1 | F111: Odvodní talířový ventil kovový - na kruhové potrubí včetně zděře Průměr: 100 mm | G111: ks | H111: 0 | J111: =ROUND(I111*H111,2) -> 0 | N111: základní | P111: =O111*H111 -> 0 | Q111: 0 | R111: =Q111*H111 -> 0 | S111: 0 | T111: =S111*H111 -> 0 | AR111: 4 | AT111: K | AU111: 1 | AY111: ROZPOCET | BE111: =IF(N111="základní",J111,0) -> 0 | BF111: =IF(N111="snížená",J111,0) -> 0 | BG111: =IF(N111="zákl. přenesená",J111,0) -> 0 | BH111: =IF(N111="sníž. přenesená",J111,0) -> 0 | BI111: =IF(N111="nulová",J111,0) -> 0 | BJ111: 1 | BK111: =ROUND(I111*H111,2) -> 0 | BL111: 4 | BM111: 1913400973
C112: 20 | D112: K | E112: 2.D.2 | F112: Protidešťová žaluzie - v hliníkovém provedení - se standartními úzkými lamelami - vybavena svařovaným sítem s oky 10x10mm Rozměr: 250x200 mm Pozn.: bude upřesněno na místě | G112: ks | H112: 0 | J112: =ROUND(I112*H112,2) -> 0 | N112: základní | P112: =O112*H112 -> 0 | Q112: 0 | R112: =Q112*H112 -> 0 | S112: 0 | T112: =S112*H112 -> 0 | AR112: 4 | AT112: K | AU112: 1 | AY112: ROZPOCET | BE112: =IF(N112="základní",J112,0) -> 0 | BF112: =IF(N112="snížená",J112,0) -> 0 | BG112: =IF(N112="zákl. přenesená",J112,0) -> 0 | BH112: =IF(N112="sníž. přenesená",J112,0) -> 0 | BI112: =IF(N112="nulová",J112,0) -> 0 | BJ112: 1 | BK112: =ROUND(I112*H112,2) -> 0 | BL112: 4 | BM112: 683024804
C113: 21 | D113: K | E113: 2.D.3 | F113: Stěnová mřížka - dvouřadá, upínání se speciálním mechanismem včetně montážního rámečku, s uspořádnání lamel horizontálně a roztečí lamel 20mm Rozměr: 600x200 mm | G113: ks | H113: 0 | J113: =ROUND(I113*H113,2) -> 0 | N113: základní | P113: =O113*H113 -> 0 | Q113: 0 | R113: =Q113*H113 -> 0 | S113: 0 | T113: =S113*H113 -> 0 | AR113: 4 | AT113: K | AU113: 1 | AY113: ROZPOCET | BE113: =IF(N113="základní",J113,0) -> 0 | BF113: =IF(N113="snížená",J113,0) -> 0 | BG113: =IF(N113="zákl. přenesená",J113,0) -> 0 | BH113: =IF(N113="sníž. přenesená",J113,0) -> 0 | BI113: =IF(N113="nulová",J113,0) -> 0 | BJ113: 1 | BK113: =ROUND(I113*H113,2) -> 0 | BL113: 4 | BM113: -998864881
C114: 22 | D114: K | E114: 2.E.1 | F114: Potrubí 4-hranné, pozinkované + 30% tvarovek. Miniální třída těsnosti potrubních rozvodů: "C" Do obvodu 1500 mm | G114: m2 | H114: 0 | J114: =ROUND(I114*H114,2) -> 0 | N114: základní | P114: =O114*H114 -> 0 | Q114: 0 | R114: =Q114*H114 -> 0 | S114: 0 | T114: =S114*H114 -> 0 | AR114: 4 | AT114: K | AU114: 1 | AY114: ROZPOCET | BE114: =IF(N114="základní",J114,0) -> 0 | BF114: =IF(N114="snížená",J114,0) -> 0 | BG114: =IF(N114="zákl. přenesená",J114,0) -> 0 | BH114: =IF(N114="sníž. přenesená",J114,0) -> 0 | BI114: =IF(N114="nulová",J114,0) -> 0 | BJ114: 1 | BK114: =ROUND(I114*H114,2) -> 0 | BL114: 4 | BM114: -676655308
C115: 23 | D115: K | E115: 2.E.2 | F115: Tepelně a hlukově izolované hadice - ohebná hadice obalena izolací tloušťky 25mm Průměr: 100 mm | G115: bm | H115: 0 | J115: =ROUND(I115*H115,2) -> 0 | N115: základní | P115: =O115*H115 -> 0 | Q115: 0 | R115: =Q115*H115 -> 0 | S115: 0 | T115: =S115*H115 -> 0 | AR115: 4 | AT115: K | AU115: 1 | AY115: ROZPOCET | BE115: =IF(N115="základní",J115,0) -> 0 | BF115: =IF(N115="snížená",J115,0) -> 0 | BG115: =IF(N115="zákl. přenesená",J115,0) -> 0 | BH115: =IF(N115="sníž. přenesená",J115,0) -> 0 | BI115: =IF(N115="nulová",J115,0) -> 0 | BJ115: 1 | BK115: =ROUND(I115*H115,2) -> 0 | BL115: 4 | BM115: 573928256
... C121: 29 | D121: K | E121: 2.J.1 | F121: Závěsový, montážní, spojovací a těsnící materiál Plechové potrubí bude uloženo na závěsy, hadice budou na potrubí připevněny plastovou šedou samolepící spojovací páskou, izolace budou kryty stříbrnou AL samolepící páskou. Potrubí bude spojováno samořeznými šrouby. Použité hmoždinky budou natloukací do betonu. Nosný systém bude na hmoždinky vynesen pomocí závitových tyčí. | G121: kg | H121: 0 | J121: =ROUND(I121*H121,2) -> 0 | N121: základní | P121: =O121*H121 -> 0 | Q121: 0 | R121: =Q121*H121 -> 0 | S121: 0 | T121: =S121*H121 -> 0 | AR121: 4 | AT121: K | AU121: 1 | AY121: ROZPOCET | BE121: =IF(N121="základní",J121,0) -> 0 | BF121: =IF(N121="snížená",J121,0) -> 0 | BG121: =IF(N121="zákl. přenesená",J121,0) -> 0 | BH121: =IF(N121="sníž. přenesená",J121,0) -> 0 | BI121: =IF(N121="nulová",J121,0) -> 0 | BJ121: 1 | BK121: =ROUND(I121*H121,2) -> 0 | BL121: 4 | BM121: 529521050
D122: D | E122: 03 | F122: Ostatní | J122: =BK122 -> 0 | P122: =SUM(P123:P129) -> 0 | R122: =SUM(R123:R129) -> 0 | T122: =SUM(T123:T129) -> 0 | AR122: 2 | AT122: D | AU122: 0 | AY122: ROZPOCET | BK122: =SUM(BK123:BK129) -> 0
C123: 30 | D123: K | E123: 99.1 | F123: Zprovoznění zařízení, zaregulování | G123: hod | H123: 0 | J123: =ROUND(I123*H123,2) -> 0 | N123: základní | P123: =O123*H123 -> 0 | Q123: 0 | R123: =Q123*H123 -> 0 | S123: 0 | T123: =S123*H123 -> 0 | AR123: 4 | AT123: K | AU123: 1 | AY123: ROZPOCET | BE123: =IF(N123="základní",J123,0) -> 0 | BF123: =IF(N123="snížená",J123,0) -> 0 | BG123: =IF(N123="zákl. přenesená",J123,0) -> 0 | BH123: =IF(N123="sníž. přenesená",J123,0) -> 0 | BI123: =IF(N123="nulová",J123,0) -> 0 | BJ123: 1 | BK123: =ROUND(I123*H123,2) -> 0 | BL123: 4 | BM123: -890755620
C124: 31 | D124: K | E124: 99.2 | F124: Zaškolení provozovatele | G124: hod | H124: 0 | J124: =ROUND(I124*H124,2) -> 0 | N124: základní | P124: =O124*H124 -> 0 | Q124: 0 | R124: =Q124*H124 -> 0 | S124: 0 | T124: =S124*H124 -> 0 | AR124: 4 | AT124: K | AU124: 1 | AY124: ROZPOCET | BE124: =IF(N124="základní",J124,0) -> 0 | BF124: =IF(N124="snížená",J124,0) -> 0 | BG124: =IF(N124="zákl. přenesená",J124,0) -> 0 | BH124: =IF(N124="sníž. přenesená",J124,0) -> 0 | BI124: =IF(N124="nulová",J124,0) -> 0 | BJ124: 1 | BK124: =ROUND(I124*H124,2) -> 0 | BL124: 4 | BM124: -313858717
C125: 32 | D125: K | E125: 99.3 | F125: Dokumentace skutečného stavu (6 PARÉ) + 1x elektronická podoba | G125: hod | H125: 0 | J125: =ROUND(I125*H125,2) -> 0 | N125: základní | P125: =O125*H125 -> 0 | Q125: 0 | R125: =Q125*H125 -> 0 | S125: 0 | T125: =S125*H125 -> 0 | AR125: 4 | AT125: K | AU125: 1 | AY125: ROZPOCET | BE125: =IF(N125="základní",J125,0) -> 0 | BF125: =IF(N125="snížená",J125,0) -> 0 | BG125: =IF(N125="zákl. přenesená",J125,0) -> 0 | BH125: =IF(N125="sníž. přenesená",J125,0) -> 0 | BI125: =IF(N125="nulová",J125,0) -> 0 | BJ125: 1 | BK125: =ROUND(I125*H125,2) -> 0 | BL125: 4 | BM125: 665073822
C126: 33 | D126: K | E126: 99.4 | F126: Dokumentace pro předání díla : - návod k obsluze - generální a jednotlivých strojů a zařízení, - protokol o zaškolení, - protokol o předání, - ostatní potřebné protokoly | G126: hod | H126: 0 | J126: =ROUND(I126*H126,2) -> 0 | N126: základní | P126: =O126*H126 -> 0 | Q126: 0 | R126: =Q126*H126 -> 0 | S126: 0 | T126: =S126*H126 -> 0 | AR126: 4 | AT126: K | AU126: 1 | AY126: ROZPOCET | BE126: =IF(N126="základní",J126,0) -> 0 | BF126: =IF(N126="snížená",J126,0) -> 0 | BG126: =IF(N126="zákl. přenesená",J126,0) -> 0 | BH126: =IF(N126="sníž. přenesená",J126,0) -> 0 | BI126: =IF(N126="nulová",J126,0) -> 0 | BJ126: 1 | BK126: =ROUND(I126*H126,2) -> 0 | BL126: 4 | BM126: 1676187732
C127: 34 | D127: K | E127: 99.5 | F127: Označení zařízení štítky - vytvoření štítků a šipek a označení zařízení VZT a CHL - potrubní rozvody budou opatřeny barevnými šipkami umístěnými ve směru proudění vzduchu - barvy šipek budou voleny dle typu potrubí (přívodní, odvodní, čerstvý vzduch, odpadní vzduch apod.) | G127: soub. | H127: 0 | J127: =ROUND(I127*H127,2) -> 0 | N127: základní | P127: =O127*H127 -> 0 | Q127: 0 | R127: =Q127*H127 -> 0 | S127: 0 | T127: =S127*H127 -> 0 | AR127: 4 | AT127: K | AU127: 1 | AY127: ROZPOCET | BE127: =IF(N127="základní",J127,0) -> 0 | BF127: =IF(N127="snížená",J127,0) -> 0 | BG127: =IF(N127="zákl. přenesená",J127,0) -> 0 | BH127: =IF(N127="sníž. přenesená",J127,0) -> 0 | BI127: =IF(N127="nulová",J127,0) -> 0 | BJ127: 1 | BK127: =ROUND(I127*H127,2) -> 0 | BL127: 4 | BM127: -1095022476
C128: 35 | D128: K | E128: 99.6 | F128: Lešení - před objednáním je třeba místo zkontrolovat - práce do výšky 15m | G128: soub. | H128: 0 | J128: =ROUND(I128*H128,2) -> 0 | N128: základní | P128: =O128*H128 -> 0 | Q128: 0 | R128: =Q128*H128 -> 0 | S128: 0 | T128: =S128*H128 -> 0 | AR128: 4 | AT128: K | AU128: 1 | AY128: ROZPOCET | BE128: =IF(N128="základní",J128,0) -> 0 | BF128: =IF(N128="snížená",J128,0) -> 0 | BG128: =IF(N128="zákl. přenesená",J128,0) -> 0 | BH128: =IF(N128="sníž. přenesená",J128,0) -> 0 | BI128: =IF(N128="nulová",J128,0) -> 0 | BJ128: 1 | BK128: =ROUND(I128*H128,2) -> 0 | BL128: 4 | BM128: -30948310
C129: 36 | D129: K | E129: 99.7 | F129: Doprava | G129: soub. | H129: 0 | J129: =ROUND(I129*H129,2) -> 0 | N129: základní | P129: =O129*H129 -> 0 | Q129: 0 | R129: =Q129*H129 -> 0 | S129: 0 | T129: =S129*H129 -> 0 | AR129: 4 | AT129: K | AU129: 1 | AY129: ROZPOCET | BE129: =IF(N129="základní",J129,0) -> 0 | BF129: =IF(N129="snížená",J129,0) -> 0 | BG129: =IF(N129="zákl. přenesená",J129,0) -> 0 | BH129: =IF(N129="sníž. přenesená",J129,0) -> 0 | BI129: =IF(N129="nulová",J129,0) -> 0 | BJ129: 1 | BK129: =ROUND(I129*H129,2) -> 0 | BL129: 4 | BM129: -1161795198

Sheet 1.8 - Elektroinstalce sla...
AT2: {34d51934-601a-4a79-bbae-718ee9176f20}
AT3: 2
D4: KRYCÍ LIST SOUPISU PRACÍ | M4: v --- níže se nacházejí doplnkové a pomocné údaje k sestavám --- v | AT4: False
D6: Stavba:
E7: ='Rekapitulace stavby'!K6 -> Stavební úpravy objektu č.p. 104 a 105, Café Herzog, Broumov - 1. etapa
D8: Objekt:
E9: SO 01 - Hlavní objekt
D10: Soupis:
E11: 1.8 - Elektroinstalce slaboproud
D13: KSO: | I13: CC-CZ:
D14: Místo: | F14: k. ú. Broumov | I14: Datum: | J14: ='Rekapitulace stavby'!AN8 -> 10. 10. 2022
D16: Zadavatel: | I16: IČ:
I17: DIČ:
D19: Uchazeč: | I19: IČ: | J19: ='Rekapitulace stavby'!AN13 -> Vyplň údaj
E20: ='Rekapitulace stavby'!E14 -> Vyplň údaj | I20: DIČ: | J20: ='Rekapitulace stavby'!AN14 -> Vyplň údaj
D22: Projektant: | I22: IČ: | J22: 60109971
E23: INS spol. s r.o. | I23: DIČ: | J23: CZ60109971
D25: Zpracovatel: | I25: IČ: | J25: =IF('Rekapitulace stavby'!AN19="","",'Rekapitulace stavby'!AN19)
E26: =IF('Rekapitulace stavby'!E20="","",'Rekapitulace stavby'!E20) -> Ing. Michaela Hůlková | I26: DIČ: | J26: =IF('Rekapitulace stavby'!AN20="","",'Rekapitulace stavby'!AN20)
D28: Poznámka:
D32: Cena bez DPH | J32: =ROUND(J88, 2) -> 0
F34: Základ daně | I34: Sazba daně | J34: Výše daně
D35: DPH | E35: základní | F35: =ROUND((SUM(BE88:BE117)), 2) -> 0 | I35: 0.21 | J35: =ROUND(((SUM(BE88:BE117))*I35), 2) -> 0
E36: snížená | F36: =ROUND((SUM(BF88:BF117)), 2) -> 0 | I36: 0.15 | J36: =ROUND(((SUM(BF88:BF117))*I36), 2) -> 0
E37: zákl. přenesená | F37: =ROUND((SUM(BG88:BG117)), 2) -> 0 | I37: 0.21 | J37: =0 -> 0
E38: sníž. přenesená | F38: =ROUND((SUM(BH88:BH117)), 2) -> 0 | I38: 0.15 | J38: =0 -> 0
E39: nulová | F39: =ROUND((SUM(BI88:BI117)), 2) -> 0 | I39: 0 | J39: =0 -> 0
D41: Cena s DPH | G41: v | H41: CZK | J41: =SUM(J32:J39) -> 0
C47: REKAPITULACE ČLENĚNÍ SOUPISU PRACÍ
C49: Stavba:
E50: =E7 -> Stavební úpravy objektu č.p. 104 a 105, Café Herzog, Broumov - 1. etapa
C51: Objekt:
E52: SO 01 - Hlavní objekt
C53: Soupis:
E54: =E11 -> 1.8 - Elektroinstalce slaboproud
C56: Místo: | F56: =F14 -> k. ú. Broumov | I56: Datum: | J56: =IF(J14="","",J14) -> 10. 10. 2022
C58: Zadavatel: | F58: =E17 | I58: Projektant: | J58: =E23 -> INS spol. s r.o.
C59: Uchazeč: | F59: =IF(E20="","",E20) -> Vyplň údaj | I59: Zpracovatel: | J59: =E26 -> Ing. Michaela Hůlková
C61: Kód dílu - Popis | J61: Cena celkem [CZK]
C63: Náklady stavby celkem | J63: =J88 -> 0 | AU63: -1
D64: 01 - PZTS | J64: =J89 -> 0
D65: 02 - LAN | J65: =J100 -> 0
D66: 03 - Ozvučení | J66: =J110 -> 0
C73: SOUPIS PRACÍ
C75: Stavba:
E76: =E7 -> Stavební úpravy objektu č.p. 104 a 105, Café Herzog, Broumov - 1. etapa
C77: Objekt:
E78: SO 01 - Hlavní objekt
C79: Soupis:
E80: =E11 -> 1.8 - Elektroinstalce slaboproud
C82: Místo: | F82: =F14 -> k. ú. Broumov | I82: Datum: | J82: =IF(J14="","",J14) -> 10. 10. 2022
C84: Zadavatel: | F84: =E17 | I84: Projektant: | J84: =E23 -> INS spol. s r.o.
C85: Uchazeč: | F85: =IF(E20="","",E20) -> Vyplň údaj | I85: Zpracovatel: | J85: =E26 -> Ing. Michaela Hůlková
C87: PČ | D87: Typ | E87: Kód | F87: Popis | G87: MJ | H87: Množství | I87: J.cena [CZK] | J87: Cena celkem [CZK] | K87: Cenová soustava | N87: DPH | O87: J. Nh [h] | P87: Nh celkem [h] | Q87: J. hmotnost [t] | R87: Hmotnost celkem [t] | S87: J. suť [t] | T87: Suť Celkem [t]
C88: Náklady soupisu celkem | J88: =BK88 -> 0 | P88: =P89+P100+P110 -> 0 | R88: =R89+R100+R110 -> 0 | T88: =T89+T100+T110 -> 0 | AT88: D | AU88: -1 | BK88: =BK89+BK100+BK110 -> 0
D89: D | E89: 01 | F89: PZTS | J89: =BK89 -> 0 | P89: =SUM(P90:P99) -> 0 | R89: =SUM(R90:R99) -> 0 | T89: =SUM(T90:T99) -> 0 | AR89: 2 | AT89: D | AU89: 0 | AY89: ROZPOCET | BK89: =SUM(BK90:BK99) -> 0
C90: 1 | D90: K | E90: 01 | F90: Box velký 80VA, tamper zámek | G90: kus | H90: 0 | J90: =ROUND(I90*H90,2) -> 0 | N90: základní | P90: =O90*H90 -> 0 | Q90: 0 | R90: =Q90*H90 -> 0 | S90: 0 | T90: =S90*H90 -> 0 | AR90: 4 | AT90: K | AU90: 1 | AY90: ROZPOCET | BE90: =IF(N90="základní",J90,0) -> 0 | BF90: =IF(N90="snížená",J90,0) -> 0 | BG90: =IF(N90="zákl. přenesená",J90,0) -> 0 | BH90: =IF(N90="sníž. přenesená",J90,0) -> 0 | BI90: =IF(N90="nulová",J90,0) -> 0 | BJ90: 1 | BK90: =ROUND(I90*H90,2) -> 0 | BL90: 4 | BM90: 1366605333
C91: 2 | D91: K | E91: 02 | F91: Napájecí zdroj 4A BUS zálohovaný | G91: kus | H91: 0 | J91: =ROUND(I91*H91,2) -> 0 | N91: základní | P91: =O91*H91 -> 0 | Q91: 0 | R91: =Q91*H91 -> 0 | S91: 0 | T91: =S91*H91 -> 0 | AR91: 4 | AT91: K | AU91: 1 | AY91: ROZPOCET | BE91: =IF(N91="základní",J91,0) -> 0 | BF91: =IF(N91="snížená",J91,0) -> 0 | BG91: =IF(N91="zákl. přenesená",J91,0) -> 0 | BH91: =IF(N91="sníž. přenesená",J91,0) -> 0 | BI91: =IF(N91="nulová",J91,0) -> 0 | BJ91: 1 | BK91: =ROUND(I91*H91,2) -> 0 | BL91: 4 | BM91: -1856763583
C92: 3 | D92: K | E92: 03 | F92: Akumulátor 12V 18Ah | G92: kus | H92: 0 | J92: =ROUND(I92*H92,2) -> 0 | N92: základní | P92: =O92*H92 -> 0 | Q92: 0 | R92: =Q92*H92 -> 0 | S92: 0 | T92: =S92*H92 -> 0 | AR92: 4 | AT92: K | AU92: 1 | AY92: ROZPOCET | BE92: =IF(N92="základní",J92,0) -> 0 | BF92: =IF(N92="snížená",J92,0) -> 0 | BG92: =IF(N92="zákl. přenesená",J92,0) -> 0 | BH92: =IF(N92="sníž. přenesená",J92,0) -> 0 | BI92: =IF(N92="nulová",J92,0) -> 0 | BJ92: 1 | BK92: =ROUND(I92*H92,2) -> 0 | BL92: 4 | BM92: 946788901
C93: 4 | D93: K | E93: 04 | F93: PIR detektor dual BUS | G93: kus | H93: 0 | J93: =ROUND(I93*H93,2) -> 0 | N93: základní | P93: =O93*H93 -> 0 | Q93: 0 | R93: =Q93*H93 -> 0 | S93: 0 | T93: =S93*H93 -> 0 | AR93: 4 | AT93: K | AU93: 1 | AY93: ROZPOCET | BE93: =IF(N93="základní",J93,0) -> 0 | BF93: =IF(N93="snížená",J93,0) -> 0 | BG93: =IF(N93="zákl. přenesená",J93,0) -> 0 | BH93: =IF(N93="sníž. přenesená",J93,0) -> 0 | BI93: =IF(N93="nulová",J93,0) -> 0 | BJ93: 1 | BK93: =ROUND(I93*H93,2) -> 0 | BL93: 4 | BM93: 1520550396
C94: 5 | D94: K | E94: 05 | F94: Opticko-kouřový/tepelný hlásič s paticí | G94: kus | H94: 0 | J94: =ROUND(I94*H94,2) -> 0 | N94: základní | P94: =O94*H94 -> 0 | Q94: 0 | R94: =Q94*H94 -> 0 | S94: 0 | T94: =S94*H94 -> 0 | AR94: 4 | AT94: K | AU94: 1 | AY94: ROZPOCET | BE94: =IF(N94="základní",J94,0) -> 0 | BF94: =IF(N94="snížená",J94,0) -> 0 | BG94: =IF(N94="zákl. přenesená",J94,0) -> 0 | BH94: =IF(N94="sníž. přenesená",J94,0) -> 0 | BI94: =IF(N94="nulová",J94,0) -> 0 | BJ94: 1 | BK94: =ROUND(I94*H94,2) -> 0 | BL94: 4 | BM94: -1024534351
C95: 6 | D95: K | E95: 06 | F95: Expander 8vts. BUS | G95: kus | H95: 0 | J95: =ROUND(I95*H95,2) -> 0 | N95: základní | P95: =O95*H95 -> 0 | Q95: 0 | R95: =Q95*H95 -> 0 | S95: 0 | T95: =S95*H95 -> 0 | AR95: 4 | AT95: K | AU95: 1 | AY95: ROZPOCET | BE95: =IF(N95="základní",J95,0) -> 0 | BF95: =IF(N95="snížená",J95,0) -> 0 | BG95: =IF(N95="zákl. přenesená",J95,0) -> 0 | BH95: =IF(N95="sníž. přenesená",J95,0) -> 0 | BI95: =IF(N95="nulová",J95,0) -> 0 | BJ95: 1 | BK95: =ROUND(I95*H95,2) -> 0 | BL95: 4 | BM95: 1871831275
C96: 7 | D96: K | E96: 07 | F96: Klávesnice LED CZ BUS | G96: kus | H96: 0 | J96: =ROUND(I96*H96,2) -> 0 | N96: základní | P96: =O96*H96 -> 0 | Q96: 0 | R96: =Q96*H96 -> 0 | S96: 0 | T96: =S96*H96 -> 0 | AR96: 4 | AT96: K | AU96: 1 | AY96: ROZPOCET | BE96: =IF(N96="základní",J96,0) -> 0 | BF96: =IF(N96="snížená",J96,0) -> 0 | BG96: =IF(N96="zákl. přenesená",J96,0) -> 0 | BH96: =IF(N96="sníž. přenesená",J96,0) -> 0 | BI96: =IF(N96="nulová",J96,0) -> 0 | BJ96: 1 | BK96: =ROUND(I96*H96,2) -> 0 | BL96: 4 | BM96: 1216634883
C97: 8 | D97: K | E97: 08 | F97: SYKFY 3x2x05 | G97: m | H97: 150 | J97: =ROUND(I97*H97,2) -> 0 | N97: základní | P97: =O97*H97 -> 0 | Q97: 0 | R97: =Q97*H97 -> 0 | S97: 0 | T97: =S97*H97 -> 0 | AR97: 4 | AT97: K | AU97: 1 | AY97: ROZPOCET | BE97: =IF(N97="základní",J97,0) -> 0 | BF97: =IF(N97="snížená",J97,0) -> 0 | BG97: =IF(N97="zákl. přenesená",J97,0) -> 0 | BH97: =IF(N97="sníž. přenesená",J97,0) -> 0 | BI97: =IF(N97="nulová",J97,0) -> 0 | BJ97: 1 | BK97: =ROUND(I97*H97,2) -> 0 | BL97: 4 | BM97: -833923453
C98: 9 | D98: K | E98: 09 | F98: kabel pro instalaci EPSJ-Y(St)Y 2x2x0,8 PVC | G98: m | H98: 180 | J98: =ROUND(I98*H98,2) -> 0 | N98: základní | P98: =O98*H98 -> 0 | Q98: 0 | R98: =Q98*H98 -> 0 | S98: 0 | T98: =S98*H98 -> 0 | AR98: 4 | AT98: K | AU98: 1 | AY98: ROZPOCET | BE98: =IF(N98="základní",J98,0) -> 0 | BF98: =IF(N98="snížená",J98,0) -> 0 | BG98: =IF(N98="zákl. přenesená",J98,0) -> 0 | BH98: =IF(N98="sníž. přenesená",J98,0) -> 0 | BI98: =IF(N98="nulová",J98,0) -> 0 | BJ98: 1 | BK98: =ROUND(I98*H98,2) -> 0 | BL98: 4 | BM98: 1207908593
C99: 10 | D99: K | E99: 10 | F99: Montáž a SW konfigurace | G99: kus | H99: 0 | J99: =ROUND(I99*H99,2) -> 0 | N99: základní | P99: =O99*H99 -> 0 | Q99: 0 | R99: =Q99*H99 -> 0 | S99: 0 | T99: =S99*H99 -> 0 | AR99: 4 | AT99: K | AU99: 1 | AY99: ROZPOCET | BE99: =IF(N99="základní",J99,0) -> 0 | BF99: =IF(N99="snížená",J99,0) -> 0 | BG99: =IF(N99="zákl. přenesená",J99,0) -> 0 | BH99: =IF(N99="sníž. přenesená",J99,0) -> 0 | BI99: =IF(N99="nulová",J99,0) -> 0 | BJ99: 1 | BK99: =ROUND(I99*H99,2) -> 0 | BL99: 4 | BM99: 697666925
D100: D | E100: 02 | F100: LAN | J100: =BK100 -> 0 | P100: =SUM(P101:P109) -> 0 | R100: =SUM(R101:R109) -> 0 | T100: =SUM(T101:T109) -> 0 | AR100: 2 | AT100: D | AU100: 0 | AY100: ROZPOCET | BK100: =SUM(BK101:BK109) -> 0
C101: 11 | D101: K | E101: 11 | F101: RACK 19" 15U 60x60 | G101: kus | H101: 0 | J101: =ROUND(I101*H101,2) -> 0 | N101: základní | P101: =O101*H101 -> 0 | Q101: 0 | R101: =Q101*H101 -> 0 | S101: 0 | T101: =S101*H101 -> 0 | AR101: 4 | AT101: K | AU101: 1 | AY101: ROZPOCET | BE101: =IF(N101="základní",J101,0) -> 0 | BF101: =IF(N101="snížená",J101,0) -> 0 | BG101: =IF(N101="zákl. přenesená",J101,0) -> 0 | BH101: =IF(N101="sníž. přenesená",J101,0) -> 0 | BI101: =IF(N101="nulová",J101,0) -> 0 | BJ101: 1 | BK101: =ROUND(I101*H101,2) -> 0 | BL101: 4 | BM101: -245297711
C102: 12 | D102: K | E102: 12 | F102: Napájecí panel 1U 8x230V | G102: kus | H102: 0 | J102: =ROUND(I102*H102,2) -> 0 | N102: základní | P102: =O102*H102 -> 0 | Q102: 0 | R102: =Q102*H102 -> 0 | S102: 0 | T102: =S102*H102 -> 0 | AR102: 4 | AT102: K | AU102: 1 | AY102: ROZPOCET | BE102: =IF(N102="základní",J102,0) -> 0 | BF102: =IF(N102="snížená",J102,0) -> 0 | BG102: =IF(N102="zákl. přenesená",J102,0) -> 0 | BH102: =IF(N102="sníž. přenesená",J102,0) -> 0 | BI102: =IF(N102="nulová",J102,0) -> 0 | BJ102: 1 | BK102: =ROUND(I102*H102,2) -> 0 | BL102: 4 | BM102: 1432087575
C103: 13 | D103: K | E103: 13 | F103: Police perforovaná 19" 550 2x | G103: kus | H103: 0 | J103: =ROUND(I103*H103,2) -> 0 | N103: základní | P103: =O103*H103 -> 0 | Q103: 0 | R103: =Q103*H103 -> 0 | S103: 0 | T103: =S103*H103 -> 0 | AR103: 4 | AT103: K | AU103: 1 | AY103: ROZPOCET | BE103: =IF(N103="základní",J103,0) -> 0 | BF103: =IF(N103="snížená",J103,0) -> 0 | BG103: =IF(N103="zákl. přenesená",J103,0) -> 0 | BH103: =IF(N103="sníž. přenesená",J103,0) -> 0 | BI103: =IF(N103="nulová",J103,0) -> 0 | BJ103: 1 | BK103: =ROUND(I103*H103,2) -> 0 | BL103: 4 | BM103: 1742166990
C104: 14 | D104: K | E104: 14 | F104: WiFi router | G104: kus | H104: 0 | J104: =ROUND(I104*H104,2) -> 0 | N104: základní | P104: =O104*H104 -> 0 | Q104: 0 | R104: =Q104*H104 -> 0 | S104: 0 | T104: =S104*H104 -> 0 | AR104: 4 | AT104: K | AU104: 1 | AY104: ROZPOCET | BE104: =IF(N104="základní",J104,0) -> 0 | BF104: =IF(N104="snížená",J104,0) -> 0 | BG104: =IF(N104="zákl. přenesená",J104,0) -> 0 | BH104: =IF(N104="sníž. přenesená",J104,0) -> 0 | BI104: =IF(N104="nulová",J104,0) -> 0 | BJ104: 1 | BK104: =ROUND(I104*H104,2) -> 0 | BL104: 4 | BM104: 1301908992
C105: 15 | D105: K | E105: 15 | F105: UPS APC 750VA | G105: kus | H105: 0 | J105: =ROUND(I105*H105,2) -> 0 | N105: základní | P105: =O105*H105 -> 0 | Q105: 0 | R105: =Q105*H105 -> 0 | S105: 0 | T105: =S105*H105 -> 0 | AR105: 4 | AT105: K | AU105: 1 | AY105: ROZPOCET | BE105: =IF(N105="základní",J105,0) -> 0 | BF105: =IF(N105="snížená",J105,0) -> 0 | BG105: =IF(N105="zákl. přenesená",J105,0) -> 0 | BH105: =IF(N105="sníž. přenesená",J105,0) -> 0 | BI105: =IF(N105="nulová",J105,0) -> 0 | BJ105: 1 | BK105: =ROUND(I105*H105,2) -> 0 | BL105: 4 | BM105: -1689119400
C106: 16 | D106: K | E106: 16 | F106: UTP CaT5E | G106: m | H106: 200 | J106: =ROUND(I106*H106,2) -> 0 | N106: základní | P106: =O106*H106 -> 0 | Q106: 0 | R106: =Q106*H106 -> 0 | S106: 0 | T106: =S106*H106 -> 0 | AR106: 4 | AT106: K | AU106: 1 | AY106: ROZPOCET | BE106: =IF(N106="základní",J106,0) -> 0 | BF106: =IF(N106="snížená",J106,0) -> 0 | BG106: =IF(N106="zákl. přenesená",J106,0) -> 0 | BH106: =IF(N106="sníž. přenesená",J106,0) -> 0 | BI106: =IF(N106="nulová",J106,0) -> 0 | BJ106: 1 | BK106: =ROUND(I106*H106,2) -> 0 | BL106: 4 | BM106: -658622635
C107: 17 | D107: K | E107: 17 | F107: Patch panel 24 plně osazený | G107: kus | H107: 0 | J107: =ROUND(I107*H107,2) -> 0 | N107: základní | P107: =O107*H107 -> 0 | Q107: 0 | R107: =Q107*H107 -> 0 | S107: 0 | T107: =S107*H107 -> 0 | AR107: 4 | AT107: K | AU107: 1 | AY107: ROZPOCET | BE107: =IF(N107="základní",J107,0) -> 0 | BF107: =IF(N107="snížená",J107,0) -> 0 | BG107: =IF(N107="zákl. přenesená",J107,0) -> 0 | BH107: =IF(N107="sníž. přenesená",J107,0) -> 0 | BI107: =IF(N107="nulová",J107,0) -> 0 | BJ107: 1 | BK107: =ROUND(I107*H107,2) -> 0 | BL107: 4 | BM107: -1937299510
C108: 18 | D108: K | E108: 18 | F108: Patchcord 1m | G108: m | H108: 0 | J108: =ROUND(I108*H108,2) -> 0 | N108: základní | P108: =O108*H108 -> 0 | Q108: 0 | R108: =Q108*H108 -> 0 | S108: 0 | T108: =S108*H108 -> 0 | AR108: 4 | AT108: K | AU108: 1 | AY108: ROZPOCET | BE108: =IF(N108="základní",J108,0) -> 0 | BF108: =IF(N108="snížená",J108,0) -> 0 | BG108: =IF(N108="zákl. přenesená",J108,0) -> 0 | BH108: =IF(N108="sníž. přenesená",J108,0) -> 0 | BI108: =IF(N108="nulová",J108,0) -> 0 | BJ108: 1 | BK108: =ROUND(I108*H108,2) -> 0 | BL108: 4 | BM108: 1669276955
C109: 19 | D109: K | E109: 19 | F109: Montáž a SW konfigurace | G109: kus | H109: 0 | J109: =ROUND(I109*H109,2) -> 0 | N109: základní | P109: =O109*H109 -> 0 | Q109: 0 | R109: =Q109*H109 -> 0 | S109: 0 | T109: =S109*H109 -> 0 | AR109: 4 | AT109: K | AU109: 1 | AY109: ROZPOCET | BE109: =IF(N109="základní",J109,0) -> 0 | BF109: =IF(N109="snížená",J109,0) -> 0 | BG109: =IF(N109="zákl. přenesená",J109,0) -> 0 | BH109: =IF(N109="sníž. přenesená",J109,0) -> 0 | BI109: =IF(N109="nulová",J109,0) -> 0 | BJ109: 1 | BK109: =ROUND(I109*H109,2) -> 0 | BL109: 4 | BM109: -110138098
D110: D | E110: 03 | F110: Ozvučení | J110: =BK110 -> 0 | P110: =SUM(P111:P117) -> 0 | R110: =SUM(R111:R117) -> 0 | T110: =SUM(T111:T117) -> 0 | AR110: 2 | AT110: D | AU110: 0 | AY110: ROZPOCET | BK110: =SUM(BK111:BK117) -> 0
C111: 20 | D111: K | E111: 20 | F111: Rozhlasová ústředna 6 zón 1 mic/line + 2 line + 1 emg vstupy | G111: kus | H111: 0 | J111: =ROUND(I111*H111,2) -> 0 | N111: základní | P111: =O111*H111 -> 0 | Q111: 0 | R111: =Q111*H111 -> 0 | S111: 0 | T111: =S111*H111 -> 0 | AR111: 4 | AT111: K | AU111: 1 | AY111: ROZPOCET | BE111: =IF(N111="základní",J111,0) -> 0 | BF111: =IF(N111="snížená",J111,0) -> 0 | BG111: =IF(N111="zákl. přenesená",J111,0) -> 0 | BH111: =IF(N111="sníž. přenesená",J111,0) -> 0 | BI111: =IF(N111="nulová",J111,0) -> 0 | BJ111: 1 | BK111: =ROUND(I111*H111,2) -> 0 | BL111: 4 | BM111: 118232046
C112: 21 | D112: K | E112: 21 | F112: Instalační box do stěny | G112: kus | H112: 0 | J112: =ROUND(I112*H112,2) -> 0 | N112: základní | P112: =O112*H112 -> 0 | Q112: 0 | R112: =Q112*H112 -> 0 | S112: 0 | T112: =S112*H112 -> 0 | AR112: 4 | AT112: K | AU112: 1 | AY112: ROZPOCET | BE112: =IF(N112="základní",J112,0) -> 0 | BF112: =IF(N112="snížená",J112,0) -> 0 | BG112: =IF(N112="zákl. přenesená",J112,0) -> 0 | BH112: =IF(N112="sníž. přenesená",J112,0) -> 0 | BI112: =IF(N112="nulová",J112,0) -> 0 | BJ112: 1 | BK112: =ROUND(I112*H112,2) -> 0 | BL112: 4 | BM112: -492902026
C113: 22 | D113: K | E113: 22 | F113: Vestavný hifi, 60W/ 8Ω, 88 dB, 35-20 000 Hz, reproduktor 2 pásma | G113: kus | H113: 0 | J113: =ROUND(I113*H113,2) -> 0 | N113: základní | P113: =O113*H113 -> 0 | Q113: 0 | R113: =Q113*H113 -> 0 | S113: 0 | T113: =S113*H113 -> 0 | AR113: 4 | AT113: K | AU113: 1 | AY113: ROZPOCET | BE113: =IF(N113="základní",J113,0) -> 0 | BF113: =IF(N113="snížená",J113,0) -> 0 | BG113: =IF(N113="zákl. přenesená",J113,0) -> 0 | BH113: =IF(N113="sníž. přenesená",J113,0) -> 0 | BI113: =IF(N113="nulová",J113,0) -> 0 | BJ113: 1 | BK113: =ROUND(I113*H113,2) -> 0 | BL113: 4 | BM113: 1145538710
C114: 23 | D114: K | E114: 23 | F114: Podhledový reproduktor hifi, 60W/ 8Ω, 90 dB, 40-20 000 Hz, reproduktor 2 pásma | G114: kus | H114: 0 | J114: =ROUND(I114*H114,2) -> 0 | N114: základní | P114: =O114*H114 -> 0 | Q114: 0 | R114: =Q114*H114 -> 0 | S114: 0 | T114: =S114*H114 -> 0 | AR114: 4 | AT114: K | AU114: 1 | AY114: ROZPOCET | BE114: =IF(N114="základní",J114,0) -> 0 | BF114: =IF(N114="snížená",J114,0) -> 0 | BG114: =IF(N114="zákl. přenesená",J114,0) -> 0 | BH114: =IF(N114="sníž. přenesená",J114,0) -> 0 | BI114: =IF(N114="nulová",J114,0) -> 0 | BJ114: 1 | BK114: =ROUND(I114*H114,2) -> 0 | BL114: 4 | BM114: -300152459
C115: 24 | D115: K | E115: 24 | F115: Kabel pro reproduktory dvoulinka 2x4 mm2 | G115: m | H115: 150 | J115: =ROUND(I115*H115,2) -> 0 | N115: základní | P115: =O115*H115 -> 0 | Q115: 0 | R115: =Q115*H115 -> 0 | S115: 0 | T115: =S115*H115 -> 0 | AR115: 4 | AT115: K | AU115: 1 | AY115: ROZPOCET | BE115: =IF(N115="základní",J115,0) -> 0 | BF115: =IF(N115="snížená",J115,0) -> 0 | BG115: =IF(N115="zákl. přenesená",J115,0) -> 0 | BH115: =IF(N115="sníž. přenesená",J115,0) -> 0 | BI115: =IF(N115="nulová",J115,0) -> 0 | BJ115: 1 | BK115: =ROUND(I115*H115,2) -> 0 | BL115: 4 | BM115: -1012949909
C116: 25 | D116: K | E116: 25 | F116: Montáž a SW konfigurace | G116: kus | H116: 0 | J116: =ROUND(I116*H116,2) -> 0 | N116: základní | P116: =O116*H116 -> 0 | Q116: 0 | R116: =Q116*H116 -> 0 | S116: 0 | T116: =S116*H116 -> 0 | AR116: 4 | AT116: K | AU116: 1 | AY116: ROZPOCET | BE116: =IF(N116="základní",J116,0) -> 0 | BF116: =IF(N116="snížená",J116,0) -> 0 | BG116: =IF(N116="zákl. přenesená",J116,0) -> 0 | BH116: =IF(N116="sníž. přenesená",J116,0) -> 0 | BI116: =IF(N116="nulová",J116,0) -> 0 | BJ116: 1 | BK116: =ROUND(I116*H116,2) -> 0 | BL116: 4 | BM116: -343588775
C117: 26 | D117: K | E117: 26 | F117: Elektroinstalační ohebná chránička kabelu 25/18,3 mm | G117: m | H117: 200 | J117: =ROUND(I117*H117,2) -> 0 | N117: základní | P117: =O117*H117 -> 0 | Q117: 0 | R117: =Q117*H117 -> 0 | S117: 0 | T117: =S117*H117 -> 0 | AR117: 4 | AT117: K | AU117: 1 | AY117: ROZPOCET | BE117: =IF(N117="základní",J117,0) -> 0 | BF117: =IF(N117="snížená",J117,0) -> 0 | BG117: =IF(N117="zákl. přenesená",J117,0) -> 0 | BH117: =IF(N117="sníž. přenesená",J117,0) -> 0 | BI117: =IF(N117="nulová",J117,0) -> 0 | BJ117: 1 | BK117: =ROUND(I117*H117,2) -> 0 | BL117: 4 | BM117: -1068844778

Sheet VRN - Vedlejší rozpočtové...
AT2: {f581d15f-cf4e-4bfc-9afb-24a105e15001}
AT3: 2
D4: KRYCÍ LIST SOUPISU PRACÍ | M4: v --- níže se nacházejí doplnkové a pomocné údaje k sestavám --- v | AT4: False
D6: Stavba:
E7: ='Rekapitulace stavby'!K6 -> Stavební úpravy objektu č.p. 104 a 105, Café Herzog, Broumov - 1. etapa
D8: Objekt:
E9: VRN - Vedlejší rozpočtové náklady
D11: KSO: | I11: CC-CZ:
D12: Místo: | F12: k. ú. Broumov | I12: Datum: | J12: ='Rekapitulace stavby'!AN8 -> 10. 10. 2022
D14: Zadavatel: | I14: IČ:
I15: DIČ:
D17: Uchazeč: | I17: IČ: | J17: ='Rekapitulace stavby'!AN13 -> Vyplň údaj
E18: ='Rekapitulace stavby'!E14 -> Vyplň údaj | I18: DIČ: | J18: ='Rekapitulace stavby'!AN14 -> Vyplň údaj
D20: Projektant: | I20: IČ: | J20: 60109971
E21: INS spol. s r.o. | I21: DIČ: | J21: CZ60109971
D23: Zpracovatel: | I23: IČ:
E24: Ing. Michaela Hůlková | I24: DIČ:
D26: Poznámka:
D30: Cena bez DPH | J30: =ROUND(J84, 2) -> 0
F32: Základ daně | I32: Sazba daně | J32: Výše daně
D33: DPH | E33: základní | F33: =ROUND((SUM(BE84:BE95)), 2) -> 0 | I33: 0.21 | J33: =ROUND(((SUM(BE84:BE95))*I33), 2) -> 0
E34: snížená | F34: =ROUND((SUM(BF84:BF95)), 2) -> 0 | I34: 0.15 | J34: =ROUND(((SUM(BF84:BF95))*I34), 2) -> 0
E35: zákl. přenesená | F35: =ROUND((SUM(BG84:BG95)), 2) -> 0 | I35: 0.21 | J35: =0 -> 0
E36: sníž. přenesená | F36: =ROUND((SUM(BH84:BH95)), 2) -> 0 | I36: 0.15 | J36: =0 -> 0
E37: nulová | F37: =ROUND((SUM(BI84:BI95)), 2) -> 0 | I37: 0 | J37: =0 -> 0
D39: Cena s DPH | G39: v | H39: CZK | J39: =SUM(J30:J37) -> 0
C45: REKAPITULACE ČLENĚNÍ SOUPISU PRACÍ
C47: Stavba:
E48: =E7 -> Stavební úpravy objektu č.p. 104 a 105, Café Herzog, Broumov - 1. etapa
C49: Objekt:
E50: =E9 -> VRN - Vedlejší rozpočtové náklady
C52: Místo: | F52: =F12 -> k. ú. Broumov | I52: Datum: | J52: =IF(J12="","",J12) -> 10. 10. 2022
C54: Zadavatel: | F54: =E15 | I54: Projektant: | J54: =E21 -> INS spol. s r.o.
C55: Uchazeč: | F55: =IF(E18="","",E18) -> Vyplň údaj | I55: Zpracovatel: | J55: =E24 -> Ing. Michaela Hůlková
C57: Kód dílu - Popis | J57: Cena celkem [CZK]
C59: Náklady stavby celkem | J59: =J84 -> 0 | AU59: -1
D60: VRN - Vedlejší rozpočtové náklady | J60: =J85 -> 0
D61: VRN1 - Průzkumné, geodetické a projektové práce | J61: =J86 -> 0
D62: VRN3 - Zařízení staveniště | J62: =J88 -> 0
D63: VRN4 - Inženýrská činnost | J63: =J90 -> 0
D64: VRN7 - Provozní vlivy | J64: =J93 -> 0
C71: SOUPIS PRACÍ
C73: Stavba:
E74: =E7 -> Stavební úpravy objektu č.p. 104 a 105, Café Herzog, Broumov - 1. etapa
C75: Objekt:
E76: =E9 -> VRN - Vedlejší rozpočtové náklady
C78: Místo: | F78: =F12 -> k. ú. Broumov | I78: Datum: | J78: =IF(J12="","",J12) -> 10. 10. 2022
C80: Zadavatel: | F80: =E15 | I80: Projektant: | J80: =E21 -> INS spol. s r.o.
C81: Uchazeč: | F81: =IF(E18="","",E18) -> Vyplň údaj | I81: Zpracovatel: | J81: =E24 -> Ing. Michaela Hůlková
C83: PČ | D83: Typ | E83: Kód | F83: Popis | G83: MJ | H83: Množství | I83: J.cena [CZK] | J83: Cena celkem [CZK] | K83: Cenová soustava | N83: DPH | O83: J. Nh [h] | P83: Nh celkem [h] | Q83: J. hmotnost [t] | R83: Hmotnost celkem [t] | S83: J. suť [t] | T83: Suť Celkem [t]
C84: Náklady soupisu celkem | J84: =BK84 -> 0 | P84: =P85 -> 0 | R84: =R85 -> 0 | T84: =T85 -> 0 | AT84: D | AU84: -1 | BK84: =BK85 -> 0
D85: D | E85: VRN | F85: Vedlejší rozpočtové náklady | J85: =BK85 -> 0 | P85: =P86+P88+P90+P93 -> 0 | R85: =R86+R88+R90+R93 -> 0 | T85: =T86+T88+T90+T93 -> 0 | AR85: 5 | AT85: D | AU85: 0 | AY85: ROZPOCET | BK85: =BK86+BK88+BK90+BK93 -> 0
D86: D | E86: VRN1 | F86: Průzkumné, geodetické a projektové práce | J86: =BK86 -> 0 | P86: =P87 -> 0 | R86: =R87 -> 0 | T86: =T87 -> 0 | AR86: 5 | AT86: D | AU86: 1 | AY86: ROZPOCET | BK86: =BK87 -> 0
C87: 1 | D87: K | E87: VRN10101R | F87: Dokumentace skutečného provedení stavby, zpracování a kompletace projektové dokumentace skutečného provedení stavby se zakreslením změn | G87: komplet | H87: 0 | J87: =ROUND(I87*H87,2) -> 0 | N87: základní | P87: =O87*H87 -> 0 | Q87: 0 | R87: =Q87*H87 -> 0 | S87: 0 | T87: =S87*H87 -> 0 | AR87: 1024 | AT87: K | AU87: 2 | AY87: ROZPOCET | BE87: =IF(N87="základní",J87,0) -> 0 | BF87: =IF(N87="snížená",J87,0) -> 0 | BG87: =IF(N87="zákl. přenesená",J87,0) -> 0 | BH87: =IF(N87="sníž. přenesená",J87,0) -> 0 | BI87: =IF(N87="nulová",J87,0) -> 0 | BJ87: 1 | BK87: =ROUND(I87*H87,2) -> 0 | BL87: 1024 | BM87: -188211913
D88: D | E88: VRN3 | F88: Zařízení staveniště | J88: =BK88 -> 0 | P88: =P89 -> 0 | R88: =R89 -> 0 | T88: =T89 -> 0 | AR88: 5 | AT88: D | AU88: 1 | AY88: ROZPOCET | BK88: =BK89 -> 0
C89: 2 | D89: K | E89: VRN30101R | F89: Zařízení staveniště, související práce pro zařízení staveniště, vybavení staveniště, připojení na inženýrské sítě, zabezpečení, pronájmy ploch, objektů, zařízení, likvidace zařízení staveniště | G89: komplet | H89: 1 | J89: =ROUND(I89*H89,2) -> 0 | N89: základní | P89: =O89*H89 -> 0 | Q89: 0 | R89: =Q89*H89 -> 0 | S89: 0 | T89: =S89*H89 -> 0 | AR89: 4 | AT89: K | AU89: 2 | AY89: ROZPOCET | BE89: =IF(N89="základní",J89,0) -> 0 | BF89: =IF(N89="snížená",J89,0) -> 0 | BG89: =IF(N89="zákl. přenesená",J89,0) -> 0 | BH89: =IF(N89="sníž. přenesená",J89,0) -> 0 | BI89: =IF(N89="nulová",J89,0) -> 0 | BJ89: 1 | BK89: =ROUND(I89*H89,2) -> 0 | BL89: 4 | BM89: 40856443
D90: D | E90: VRN4 | F90: Inženýrská činnost | J90: =BK90 -> 0 | P90: =SUM(P91:P92) -> 0 | R90: =SUM(R91:R92) -> 0 | T90: =SUM(T91:T92) -> 0 | AR90: 5 | AT90: D | AU90: 1 | AY90: ROZPOCET | BK90: =SUM(BK91:BK92) -> 0
C91: 3 | D91: K | E91: VRN40101R | F91: Kompletační a koordinační činnost, kompletace atestů, certifikátů, revizních zpráv a ostatních dokladů potřebných k předání a kolaudaci stavby vyplývajících z SOD | G91: komplet | H91: 0 | J91: =ROUND(I91*H91,2) -> 0 | N91: základní | P91: =O91*H91 -> 0 | Q91: 0 | R91: =Q91*H91 -> 0 | S91: 0 | T91: =S91*H91 -> 0 | AR91: 1024 | AT91: K | AU91: 2 | AY91: ROZPOCET | BE91: =IF(N91="základní",J91,0) -> 0 | BF91: =IF(N91="snížená",J91,0) -> 0 | BG91: =IF(N91="zákl. přenesená",J91,0) -> 0 | BH91: =IF(N91="sníž. přenesená",J91,0) -> 0 | BI91: =IF(N91="nulová",J91,0) -> 0 | BJ91: 1 | BK91: =ROUND(I91*H91,2) -> 0 | BL91: 1024 | BM91: 882593683
C92: 4 | D92: K | E92: VRN40201R | F92: Spolupráce statika při provádění stavby | G92: hod | H92: 20 | J92: =ROUND(I92*H92,2) -> 0 | N92: základní | P92: =O92*H92 -> 0 | Q92: 0 | R92: =Q92*H92 -> 0 | S92: 0 | T92: =S92*H92 -> 0 | AR92: 1024 | AT92: K | AU92: 2 | AY92: ROZPOCET | BE92: =IF(N92="základní",J92,0) -> 0 | BF92: =IF(N92="snížená",J92,0) -> 0 | BG92: =IF(N92="zákl. přenesená",J92,0) -> 0 | BH92: =IF(N92="sníž. přenesená",J92,0) -> 0 | BI92: =IF(N92="nulová",J92,0) -> 0 | BJ92: 1 | BK92: =ROUND(I92*H92,2) -> 0 | BL92: 1024 | BM92: 1334792475
D93: D | E93: VRN7 | F93: Provozní vlivy | J93: =BK93 -> 0 | P93: =SUM(P94:P95) -> 0 | R93: =SUM(R94:R95) -> 0 | T93: =SUM(T94:T95) -> 0 | AR93: 5 | AT93: D | AU93: 1 | AY93: ROZPOCET | BK93: =SUM(BK94:BK95) -> 0
C94: 5 | D94: K | E94: VRN70101R | F94: Provoz investora, třetích osob (provádění stavby za provozu) | G94: komplet | H94: 1 | J94: =ROUND(I94*H94,2) -> 0 | N94: základní | P94: =O94*H94 -> 0 | Q94: 0 | R94: =Q94*H94 -> 0 | S94: 0 | T94: =S94*H94 -> 0 | AR94: 4 | AT94: K | AU94: 2 | AY94: ROZPOCET | BE94: =IF(N94="základní",J94,0) -> 0 | BF94: =IF(N94="snížená",J94,0) -> 0 | BG94: =IF(N94="zákl. přenesená",J94,0) -> 0 | BH94: =IF(N94="sníž. přenesená",J94,0) -> 0 | BI94: =IF(N94="nulová",J94,0) -> 0 | BJ94: 1 | BK94: =ROUND(I94*H94,2) -> 0 | BL94: 4 | BM94: -2061279264
C95: 6 | D95: K | E95: VRN70102R | F95: Ochrana stávající fasády, oken a dalších rekonstruovaných částí | G95: komplet | H95: 1 | J95: =ROUND(I95*H95,2) -> 0 | N95: základní | P95: =O95*H95 -> 0 | Q95: 0 | R95: =Q95*H95 -> 0 | S95: 0 | T95: =S95*H95 -> 0 | AR95: 4 | AT95: K | AU95: 2 | AY95: ROZPOCET | BE95: =IF(N95="základní",J95,0) -> 0 | BF95: =IF(N95="snížená",J95,0) -> 0 | BG95: =IF(N95="zákl. přenesená",J95,0) -> 0 | BH95: =IF(N95="sníž. přenesená",J95,0) -> 0 | BI95: =IF(N95="nulová",J95,0) -> 0 | BJ95: 1 | BK95: =ROUND(I95*H95,2) -> 0 | BL95: 4 | BM95: 1383688535

Sheet Pokyny pro vyplnění
C3: Struktura údajů, formát souboru a metodika pro zpracování
C4: Struktura
C6: Soubor je složen ze záložky Rekapitulace stavby a záložek s názvem soupisu prací pro jednotlivé objekty ve formátu XLSX. Každá ze záložek přitom obsahuje
C7: ještě samostatné sestavy vymezené orámovaním a nadpisem sestavy.
C9: Rekapitulace stavby obsahuje sestavu Rekapitulace stavby a Rekapitulace objektů stavby a soupisů prací.
D10: V sestavě Rekapitulace stavby jsou uvedeny informace identifikující předmět veřejné zakázky na stavební práce, KSO, CC-CZ, CZ-CPV, CZ-CPA a rekapitulaci
D11: celkové nabídkové ceny uchazeče.
D13: Termínem "uchazeč" (resp. zhotovitel) se myslí "účastník zadávacího řízení" ve smyslu zákona o zadávání veřejných zakázek.
D15: V sestavě Rekapitulace objektů stavby a soupisů prací je uvedena rekapitulace stavebních objektů, inženýrských objektů, provozních souborů,
D16: vedlejších a ostatních nákladů a ostatních nákladů s rekapitulací nabídkové ceny za jednotlivé soupisy prací. Na základě údaje Typ je možné
D17: identifikovat, zda se jedná o objekt nebo soupis prací pro daný objekt:
E18: STA | F18: Stavební objekt pozemní
E19: ING | F19: Stavební objekt inženýrský
E20: PRO | F20: Provozní soubor
E21: VON | F21: Vedlejší a ostatní náklady
E22: OST | F22: Ostatní
E23: Soupis | F23: Soupis prací pro daný typ objektu
C25: Soupis prací pro jednotlivé objekty obsahuje sestavy Krycí list soupisu prací, Rekapitulace členění soupisu prací, Soupis prací. Za soupis prací může být považován
C26: i objekt stavby v případě, že neobsahuje podřízenou zakázku.
D27: Krycí list soupisu obsahuje rekapitulaci informací o předmětu veřejné zakázky ze sestavy Rekapitulace stavby, informaci o zařazení objektu do KSO,
D28: CC-CZ, CZ-CPV, CZ-CPA a rekapitulaci celkové nabídkové ceny uchazeče za aktuální soupis prací.
D30: Rekapitulace členění soupisu prací obsahuje rekapitulaci soupisu prací ve všech úrovních členění soupisu tak, jak byla tato členění použita (např.
D31: stavební díly, funkční díly, případně jiné členění) s rekapitulací nabídkové ceny.
D33: Soupis prací obsahuje položky veškerých stavebních nebo montážních prací, dodávek materiálů a služeb nezbytných pro zhotovení stavebního objektu,
D34: inženýrského objektu, provozního souboru, vedlejších a ostatních nákladů.
D35: Pro položky soupisu prací se zobrazují následující informace:
E36: PČ | G36: Pořadové číslo položky v aktuálním soupisu
E37: TYP | G37: Typ položky: K - konstrukce, M - materiál, PP - plný popis, PSC - poznámka k souboru cen, P - poznámka k položce, VV - výkaz výměr
E38: Kód | G38: Kód položky
E39: Popis | G39: Zkrácený popis položky
E40: MJ | G40: Měrná jednotka položky
E41: Množství | G41: Množství v měrné jednotce
E42: J.cena | G42: Jednotková cena položky. Zadaní může obsahovat namísto J.ceny sloupce J.materiál a J.montáž, jejichž součet definuje
G43: J.cenu položky.
E44: Cena celkem | G44: Celková cena položky daná jako součin množství a j.ceny
E45: Cenová soustava | G45: Příslušnost položky do cenové soustavy
D47: Ke každé položce soupisu prací se na samostatných řádcích může zobrazovat:
E48: Plný popis položky
E49: Poznámka k souboru cen a poznámka zadavatele
E50: Výkaz výměr
D51: Pokud je k řádku výkazu výměr evidovaný údaj ve sloupci Kód, jedná se o definovaný odkaz, na který se může odvolávat výkaz výměr z jiné položky.
C52: Metodika pro zpracování
C54: Jednotlivé sestavy jsou v souboru provázány. Editovatelné pole jsou zvýrazněny žlutým podbarvením, ostatní pole neslouží k editaci a nesmí být jakkoliv
C55: modifikovány.
C57: Uchazeč je pro podání nabídky povinen vyplnit žlutě podbarvená pole:
D58: Pole Uchazeč v sestavě Rekapitulace stavby - zde uchazeč vyplní svůj název (název subjektu)
D59: Pole IČ a DIČ v sestavě Rekapitulace stavby - zde uchazeč vyplní svoje IČ a DIČ
D60: Datum v sestavě Rekapitulace stavby - zde uchazeč vyplní datum vytvoření nabídky
D61: J.cena = jednotková cena v sestavě Soupis prací o maximálním počtu desetinných míst uvedených v poli
D62: - pokud sestavy soupisů prací obsahují pole J.cena, měla by být všechna tato pole vyplněna nenulovými
D63: Poznámka - nepovinný údaj pro položku soupisu
D65: V případě, že sestavy soupisů prací neobsahují pole J.cena, potom ve všech soupisech prací obsahují pole:
D66: - J.materiál - jednotková cena materiálu
D67: - J.montáž - jednotková cena montáže
D68: Uchazeč v tomto případě by měl vyplnit všechna pole J.materiál a pole J.montáž nenulovými kladnými číslicemi. V případech, kdy položka
D69: neobsahuje žádný materiál je přípustné, aby pole J.materiál bylo vyplněno nulou. V případech, kdy položka neobsahuje žádnou montáž je přípustné,
D70: aby pole J.montáž bylo vyplněno nulou. Obě pole - J.materiál, J.Montáž u jedné položky by však neměly být vyplněny nulou.
C75: Rekapitulace stavby
C76: Název | F76: Povinný | H76: Popis | I76: Typ | J76: Max. počet
C77: atributu | F77: (A/N) | J77: znaků
C79: Kód | F79: A | H79: Kód stavby | I79: String | J79: 20
C80: Stavba | F80: A | H80: Název stavby | I80: String | J80: 120
C81: Místo | F81: N | H81: Místo stavby | I81: String | J81: 50
C82: Datum | F82: A | H82: Datum vykonaného exportu | I82: Date
C83: KSO | F83: N | H83: Klasifikace stavebního objektu | I83: String | J83: 15
C84: CC-CZ | F84: N | H84: Klasifikace stavbeních děl | I84: String | J84: 15
C85: CZ-CPV | F85: N | H85: Společný slovník pro veřejné zakázky | I85: String | J85: 20
C86: CZ-CPA | F86: N | H86: Klasifikace produkce podle činností | I86: String | J86: 20
C87: Zadavatel | F87: N | H87: Zadavatel zadaní | I87: String | J87: 50
C88: IČ | F88: N | H88: IČ zadavatele zadaní | I88: String | J88: 20
C89: DIČ | F89: N | H89: DIČ zadavatele zadaní | I89: String | J89: 20
C90: Uchazeč | F90: N | H90: Uchazeč veřejné zakázky | I90: String | J90: 50
C91: Projektant | F91: N | H91: Projektant | I91: String | J91: 50
C92: Poznámka | F92: N | H92: Poznámka k zadání | I92: String | J92: 255
C93: Sazba DPH | F93: A | H93: Rekapitulace sazeb DPH u položek soupisů | I93: eGSazbaDph
C94: Základna DPH | F94: A | H94: Základna DPH určena součtem celkové ceny z položek soupisů | I94: Double
C95: Hodnota DPH | F95: A | H95: Hodnota DPH | I95: Double
C96: Cena bez DPH | F96: A | H96: Celková cena bez DPH za celou stavbu. Sčítává se ze všech listů. | I96: Double
C97: Cena s DPH | F97: A | H97: Celková cena s DPH za celou stavbu | I97: Double
C102: Rekapitulace objektů stavby a soupisů prací
C103: Název | F103: Povinný | H103: Popis | I103: Typ | J103: Max. počet
C104: atributu | F104: (A/N) | J104: znaků
C106: Kód | F106: A | H106: Přebírá se z Rekapitulace stavby | I106: String | J106: 20
C107: Stavba | F107: A | H107: Přebírá se z Rekapitulace stavby | I107: String | J107: 120
C108: Místo | F108: N | H108: Přebírá se z Rekapitulace stavby | I108: String | J108: 50
C109: Datum | F109: A | H109: Přebírá se z Rekapitulace stavby | I109: Date
C110: Zadavatel | F110: N | H110: Přebírá se z Rekapitulace stavby | I110: String | J110: 50
C111: Projektant | F111: N | H111: Přebírá se z Rekapitulace stavby | I111: String | J111: 50
C112: Uchazeč | F112: N | H112: Přebírá se z Rekapitulace stavby | I112: String | J112: 50
C113: Kód | F113: A | H113: Kód objektu | I113: String | J113: 20
C114: Objektu, Soupis prací | F114: A | H114: Název objektu | I114: String | J114: 120
C115: Cena bez DPH | F115: A | H115: Cena bez DPH za daný objekt | I115: Double
C116: Cena s DPH | F116: A | H116: Cena spolu s DPH za daný objekt | I116: Double
C117: Typ | F117: A | H117: Typ zakázky | I117: eGTypZakazky
C122: Krycí list soupisu
C123: Název | F123: Povinný | H123: Popis | I123: Typ | J123: Max. počet
C124: atributu | F124: (A/N) | J124: znaků
C126: Stavba | F126: A | H126: Přebírá se z Rekapitulace stavby | I126: String | J126: 120
C127: Objekt | F127: A | H127: Kód a název objektu | I127: String | J127: 20 + 120
C128: Soupis | F128: A | H128: Kód a název soupisu | I128: String | J128: 20 + 120
...
