Workbook

Sheet Rekapitulace stavby
A1: Export Komplet | AZ1: VZ | BA1: 2.0 | BB1: ZAMOK | BT1: False | BU1: False | BV1: {3c8a26f4-8082-459f-bee6-8f2d752bf610}
BS2: 0,01 | BT2: 21
BS3: 0,01 | BT3: 15
D4: REKAPITULACE STAVBY | AS4: v --- níže se nacházejí doplnkové a pomocné údaje k sestavám --- v | BE4: Návod na vyplnění | BS4: 0,001
D5: Kód: | K5: 1488-03-16 | BE5: Měnit lze pouze buňky se žlutým podbarvením!_x000D_ _x000D_ 1) v Rekapitulaci stavby vyplňte údaje o Uchazeči (přenesou se do ostatních sestav i v jiných listech)_x000D_ _x000D_ 2) na vybraných listech vyplňte v sestavě Soupis prací ceny u položek | BS5: 0,01
D6: Stavba: | K6: Stavební úpravy objektu č.p. 104 a 105, Café Herzog, Broumov - 1. etapa | BS6: 0,01
D7: KSO: | AK7: CC-CZ: | BS7: 0,01
D8: Místo: | K8: k. ú. Broumov | AK8: Datum: | AN8: 10. 10. 2022 | BS8: 0,01
BS9: 0,01
D10: Zadavatel: | AK10: IČ: | BS10: 0,01
AK11: DIČ: | BS11: 0,01
BS12: 0,01
D13: Uchazeč: | AK13: IČ: | AN13: Vyplň údaj | BS13: 0,01
E14: Vyplň údaj | AK14: DIČ: | AN14: Vyplň údaj | BS14: 0,01
BS15: False
D16: Projektant: | AK16: IČ: | AN16: 60109971 | BS16: False
E17: INS spol. s r.o. | AK17: DIČ: | AN17: CZ60109971 | BS17: True
BS18: 0,01
D19: Zpracovatel: | AK19: IČ: | BS19: 0,01
E20: Ing. Michaela Hůlková | AK20: DIČ: | BS20: False
D22: Poznámka:
E23: Položky označené červeně, s nulovým množstvím, nejsou předmětem plnění této etapy!_x000D_ _x000D_ Soupis prací je sestaven s využitím Cenové soustavy ÚRS. Položky, které pochází z této cenové soustavy, jsou ve sloupci 'Cenová soustava' označeny popisem 'CS ÚRS' a úrovní příslušného kalendářního pololetí. Veškeré další informace vymezující popis a podmínky použití těchto položek z Cenové soustavy, které nejsou uvedeny přímo v soupisu prací, jsou neomezeně dálkově k dispozici na webu podminky.urs.cz.
D26: Cena bez DPH | AK26: =ROUND(AG54,2) -> 0
L28: Sazba daně | W28: Základ daně | AK28: Výše daně
D29: DPH | F29: základní | L29: 0.21 | W29: =ROUND(AZ54, 2) -> 0 | AK29: =ROUND(AV54, 2) -> 0
F30: snížená | L30: 0.15 | W30: =ROUND(BA54, 2) -> 0 | AK30: =ROUND(AW54, 2) -> 0
F31: zákl. přenesená | L31: 0.21 | W31: =ROUND(BB54, 2) -> 0 | AK31: 0
F32: sníž. přenesená | L32: 0.15 | W32: =ROUND(BC54, 2) -> 0 | AK32: 0
F33: nulová | L33: 0 | W33: =ROUND(BD54, 2) -> 0 | AK33: 0
D35: Cena s DPH | T35: v | X35: CZK | AK35: =SUM(AK26:AK33) -> 0
C42: REKAPITULACE OBJEKTŮ STAVBY A SOUPISŮ PRACÍ
C44: Kód: | L44: =K5 -> 1488-03-16
C45: Stavba: | L45: =K6 -> Stavební úpravy objektu č.p. 104 a 105, Café Herzog, Broumov - 1. etapa
C47: Místo: | L47: =IF(K8="","",K8) -> k. ú. Broumov | AI47: Datum: | AM47: =IF(AN8= "","",AN8) -> 10. 10. 2022
C49: Zadavatel: | L49: =IF(E11= "","",E11) | AI49: Projektant: | AM49: =IF(E17="","",E17) -> INS spol. s r.o. | AS49: Informatívní údaje z listů zakázek
C50: Uchazeč: | L50: =IF(E14= "Vyplň údaj","",E14) | AI50: Zpracovatel: | AM50: =IF(E20="","",E20) -> Ing. Michaela Hůlková
C52: Kód | I52: Popis | AG52: Cena bez DPH [CZK] | AN52: Cena s DPH [CZK] | AQ52: Typ | AS52: z toho Ostat._x000D_ náklady [CZK] | AT52: DPH [CZK] | AU52: Normohodiny [h] | AV52: DPH základní [CZK] | AW52: DPH snížená [CZK] | AX52: DPH základní přenesená_x000D_ [CZK] | AY52: DPH snížená přenesená_x000D_ [CZK] | AZ52: Základna_x000D_ DPH základní | BA52: Základna_x000D_ DPH snížená | BB52: Základna_x000D_ DPH zákl. přenesená | BC52: Základna_x000D_ DPH sníž. přenesená | BD52: Základna_x000D_ DPH nulová
C54: Náklady stavby celkem | AG54: =ROUND(AG55+AG63,2) -> 0 | AN54: =SUM(AG54,AT54) -> 0 | AS54: =ROUND(AS55+AS63,2) -> 0 | AT54: =ROUND(SUM(AV54:AW54),2) -> 0 | AU54: =ROUND(AU55+AU63,5) -> 0 | AV54: =ROUND(AZ54*L29,2) -> 0 | AW54: =ROUND(BA54*L30,2) -> 0 | AX54: =ROUND(BB54*L29,2) -> 0 | AY54: =ROUND(BC54*L30,2) -> 0 | AZ54: =ROUND(AZ55+AZ63,2) -> 0 | BA54: =ROUND(BA55+BA63,2) -> 0 | BB54: =ROUND(BB55+BB63,2) -> 0 | BC54: =ROUND(BC55+BC63,2) -> 0 | BD54: =ROUND(BD55+BD63,2) -> 0 | BS54: D | BT54: 0 | BU54: ###NOIMPORT### | BV54: IMPORT | BW54: {3c8a26f4-8082-459f-bee6-8f2d752bf610} | BX54: {00000000-0000-0000-0000-000000000000}
D55: SO 01 | J55: Hlavní objekt | AG55: =ROUND(SUM(AG56:AG62),2) -> 0 | AN55: =SUM(AG55,AT55) -> 0 | AQ55: STA | AS55: =ROUND(SUM(AS56:AS62),2) -> 0 | AT55: =ROUND(SUM(AV55:AW55),2) -> 0 | AU55: =ROUND(SUM(AU56:AU62),5) -> 0 | AV55: =ROUND(AZ55*L29,2) -> 0 | AW55: =ROUND(BA55*L30,2) -> 0 | AX55: =ROUND(BB55*L29,2) -> 0 | AY55: =ROUND(BC55*L30,2) -> 0 | AZ55: =ROUND(SUM(AZ56:AZ62),2) -> 0 | BA55: =ROUND(SUM(BA56:BA62),2) -> 0 | BB55: =ROUND(SUM(BB56:BB62),2) -> 0 | BC55: =ROUND(SUM(BC56:BC62),2) -> 0 | BD55: =ROUND(SUM(BD56:BD62),2) -> 0 | BS55: D | BT55: 1 | BU55: ###NOIMPORT### | BV55: IMPORT | BW55: {1a7b7116-9c28-469d-9671-9231401d2465} | BX55: {3c8a26f4-8082-459f-bee6-8f2d752bf610} | CM55: 2
A56: / | E56: 1.1 | K56: Architektonické a stavebně-technické řešení | AG56: ='1.1 - Architektonické a s...'!J32 -> 0 | AN56: =SUM(AG56,AT56) -> 0 | AQ56: Soupis | AS56: 0 | AT56: =ROUND(SUM(AV56:AW56),2) -> 0 | AU56: ='1.1 - Architektonické a s...'!P118 -> 0 | AV56: ='1.1 - Architektonické a s...'!J35 -> 0 | AW56: ='1.1 - Architektonické a s...'!J36 -> 0 | AX56: ='1.1 - Architektonické a s...'!J37 -> 0 | AY56: ='1.1 - Architektonické a s...'!J38 -> 0 | AZ56: ='1.1 - Architektonické a s...'!F35 -> 0 | BA56: ='1.1 - Architektonické a s...'!F36 -> 0 | BB56: ='1.1 - Architektonické a s...'!F37 -> 0 | BC56: ='1.1 - Architektonické a s...'!F38 -> 0 | BD56: ='1.1 - Architektonické a s...'!F39 -> 0 | BT56: 2 | BV56: IMPORT | BW56: {106c7763-2d71-44ab-9d01-0588b2b42573} | BX56: {1a7b7116-9c28-469d-9671-9231401d2465}
...

Sheet 1.1 - Architektonické a s...
AT2: {106c7763-2d71-44ab-9d01-0588b2b42573}
AT3: 2
D4: KRYCÍ LIST SOUPISU PRACÍ | M4: v --- níže se nacházejí doplnkové a pomocné údaje k sestavám --- v | AT4: False
D6: Stavba:
E7: ='Rekapitulace stavby'!K6 -> Stavební úpravy objektu č.p. 104 a 105, Café Herzog, Broumov - 1. etapa
D8: Objekt:
E9: SO 01 - Hlavní objekt
D10: Soupis:
E11: 1.1 - Architektonické a stavebně-technické řešení
D13: KSO: | I13: CC-CZ:
D14: Místo: | F14: k. ú. Broumov | I14: Datum: | J14: ='Rekapitulace stavby'!AN8 -> 10. 10. 2022
D16: Zadavatel: | I16: IČ:
I17: DIČ:
D19: Uchazeč: | I19: IČ: | J19: ='Rekapitulace stavby'!AN13 -> Vyplň údaj
E20: ='Rekapitulace stavby'!E14 -> Vyplň údaj | I20: DIČ: | J20: ='Rekapitulace stavby'!AN14 -> Vyplň údaj
D22: Projektant: | I22: IČ: | J22: 60109971
E23: INS spol. s r.o. | I23: DIČ: | J23: CZ60109971
D25: Zpracovatel: | I25: IČ:
E26: Ing. Michaela Hůlková | I26: DIČ:
D28: Poznámka:
D32: Cena bez DPH | J32: =ROUND(J118, 2) -> 0
F34: Základ daně | I34: Sazba daně | J34: Výše daně
D35: DPH | E35: základní | F35: =ROUND((SUM(BE118:BE443)), 2) -> 0 | I35: 0.21 | J35: =ROUND(((SUM(BE118:BE443))*I35), 2) -> 0
E36: snížená | F36: =ROUND((SUM(BF118:BF443)), 2) -> 0 | I36: 0.15 | J36: =ROUND(((SUM(BF118:BF443))*I36), 2) -> 0
E37: zákl. přenesená | F37: =ROUND((SUM(BG118:BG443)), 2) -> 0 | I37: 0.21 | J37: =0 -> 0
E38: sníž. přenesená | F38: =ROUND((SUM(BH118:BH443)), 2) -> 0 | I38: 0.15 | J38: =0 -> 0
E39: nulová | F39: =ROUND((SUM(BI118:BI443)), 2) -> 0 | I39: 0 | J39: =0 -> 0
D41: Cena s DPH | G41: v | H41: CZK | J41: =SUM(J32:J39) -> 0
C47: REKAPITULACE ČLENĚNÍ SOUPISU PRACÍ
C49: Stavba:
E50: =E7 -> Stavební úpravy objektu č.p. 104 a 105, Café Herzog, Broumov - 1. etapa
C51: Objekt:
E52: SO 01 - Hlavní objekt
C53: Soupis:
E54: =E11 -> 1.1 - Architektonické a stavebně-technické řešení
C56: Místo: | F56: =F14 -> k. ú. Broumov | I56: Datum: | J56: =IF(J14="","",J14) -> 10. 10. 2022
C58: Zadavatel: | F58: =E17 | I58: Projektant: | J58: =E23 -> INS spol. s r.o.
C59: Uchazeč: | F59: =IF(E20="","",E20) -> Vyplň údaj | I59: Zpracovatel: | J59: =E26 -> Ing. Michaela Hůlková
C61: Kód dílu - Popis | J61: Cena celkem [CZK]
C63: Náklady stavby celkem | J63: =J118 -> 0 | AU63: -1
...

Sheet 1.2 - Stavebně-kontrukční...
AT2: {05f4dec2-ea39-4f5f-b60e-10f7b2c0d740}
AT3: 2
D4: KRYCÍ LIST SOUPISU PRACÍ | M4: v --- níže se nacházejí doplnkové a pomocné údaje k sestavám --- v | AT4: False
D6: Stavba:
E7: ='Rekapitulace stavby'!K6 -> Stavební úpravy objektu č.p. 104 a 105, Café Herzog, Broumov - 1. etapa
D8: Objekt:
E9: SO 01 - Hlavní objekt
D10: Soupis:
E11: 1.2 - Stavebně-kontrukční řešení
D13: KSO: | I13: CC-CZ:
D14: Místo: | F14: k. ú. Broumov | I14: Datum: | J14: ='Rekapitulace stavby'!AN8 -> 10. 10. 2022
D16: Zadavatel: | I16: IČ:
I17: DIČ:
D19: Uchazeč: | I19: IČ: | J19: ='Rekapitulace stavby'!AN13 -> Vyplň údaj
E20: ='Rekapitulace stavby'!E14 -> Vyplň údaj | I20: DIČ: | J20: ='Rekapitulace stavby'!AN14 -> Vyplň údaj
D22: Projektant: | I22: IČ: | J22: 60109971
E23: INS spol. s r.o. | I23: DIČ: | J23: CZ60109971
D25: Zpracovatel: | I25: IČ:
E26: Ing. Michaela Hůlková | I26: DIČ:
D28: Poznámka:
D32: Cena bez DPH | J32: =ROUND(J102, 2) -> 0
F34: Základ daně | I34: Sazba daně | J34: Výše daně
D35: DPH | E35: základní | F35: =ROUND((SUM(BE102:BE165)), 2) -> 0 | I35: 0.21 | J35: =ROUND(((SUM(BE102:BE165))*I35), 2) -> 0
E36: snížená | F36: =ROUND((SUM(BF102:BF165)), 2) -> 0 | I36: 0.15 | J36: =ROUND(((SUM(BF102:BF165))*I36), 2) -> 0
E37: zákl. přenesená | F37: =ROUND((SUM(BG102:BG165)), 2) -> 0 | I37: 0.21 | J37: =0 -> 0
E38: sníž. přenesená | F38: =ROUND((SUM(BH102:BH165)), 2) -> 0 | I38: 0.15 | J38: =0 -> 0
E39: nulová | F39: =ROUND((SUM(BI102:BI165)), 2) -> 0 | I39: 0 | J39: =0 -> 0
D41: Cena s DPH | G41: v | H41: CZK | J41: =SUM(J32:J39) -> 0
C47: REKAPITULACE ČLENĚNÍ SOUPISU PRACÍ
C49: Stavba:
E50: =E7 -> Stavební úpravy objektu č.p. 104 a 105, Café Herzog, Broumov - 1. etapa
C51: Objekt:
E52: SO 01 - Hlavní objekt
C53: Soupis:
E54: =E11 -> 1.2 - Stavebně-kontrukční řešení
C56: Místo: | F56: =F14 -> k. ú. Broumov | I56: Datum: | J56: =IF(J14="","",J14) -> 10. 10. 2022
C58: Zadavatel: | F58: =E17 | I58: Projektant: | J58: =E23 -> INS spol. s r.o.
C59: Uchazeč: | F59: =IF(E20="","",E20) -> Vyplň údaj | I59: Zpracovatel: | J59: =E26 -> Ing. Michaela Hůlková
C61: Kód dílu - Popis | J61: Cena celkem [CZK]
C63: Náklady stavby celkem | J63: =J102 -> 0 | AU63: -1
...

Sheet 1.4 - Zdravotní technika
AT2: {cd7456ac-34b6-4532-a630-3789b43cefd7}
AT3: 2
D4: KRYCÍ LIST SOUPISU PRACÍ | M4: v --- níže se nacházejí doplnkové a pomocné údaje k sestavám --- v | AT4: False
D6: Stavba:
E7: ='Rekapitulace stavby'!K6 -> Stavební úpravy objektu č.p. 104 a 105, Café Herzog, Broumov - 1. etapa
D8: Objekt:
E9: SO 01 - Hlavní objekt
D10: Soupis:
E11: 1.4 - Zdravotní technika
D13: KSO: | I13: CC-CZ:
D14: Místo: | F14: k. ú. Broumov | I14: Datum: | J14: ='Rekapitulace stavby'!AN8 -> 10. 10. 2022
D16: Zadavatel: | I16: IČ:
I17: DIČ:
D19: Uchazeč: | I19: IČ: | J19: ='Rekapitulace stavby'!AN13 -> Vyplň údaj
E20: ='Rekapitulace stavby'!E14 -> Vyplň údaj | I20: DIČ: | J20: ='Rekapitulace stavby'!AN14 -> Vyplň údaj
D22: Projektant: | I22: IČ: | J22: 60109971
E23: INS spol. s r.o. | I23: DIČ: | J23: CZ60109971
D25: Zpracovatel: | I25: IČ: | J25: =IF('Rekapitulace stavby'!AN19="","",'Rekapitulace stavby'!AN19)
E26: =IF('Rekapitulace stavby'!E20="","",'Rekapitulace stavby'!E20) -> Ing. Michaela Hůlková | I26: DIČ: | J26: =IF('Rekapitulace stavby'!AN20="","",'Rekapitulace stavby'!AN20)
D28: Poznámka:
D32: Cena bez DPH | J32: =ROUND(J93, 2) -> 0
F34: Základ daně | I34: Sazba daně | J34: Výše daně
D35: DPH | E35: základní | F35: =ROUND((SUM(BE93:BE305)), 2) -> 0 | I35: 0.21 | J35: =ROUND(((SUM(BE93:BE305))*I35), 2) -> 0
E36: snížená | F36: =ROUND((SUM(BF93:BF305)), 2) -> 0 | I36: 0.15 | J36: =ROUND(((SUM(BF93:BF305))*I36), 2) -> 0
E37: zákl. přenesená | F37: =ROUND((SUM(BG93:BG305)), 2) -> 0 | I37: 0.21 | J37: =0 -> 0
E38: sníž. přenesená | F38: =ROUND((SUM(BH93:BH305)), 2) -> 0 | I38: 0.15 | J38: =0 -> 0
E39: nulová | F39: =ROUND((SUM(BI93:BI305)), 2) -> 0 | I39: 0 | J39: =0 -> 0
D41: Cena s DPH | G41: v | H41: CZK | J41: =SUM(J32:J39) -> 0
C47: REKAPITULACE ČLENĚNÍ SOUPISU PRACÍ
C49: Stavba:
E50: =E7 -> Stavební úpravy objektu č.p. 104 a 105, Café Herzog, Broumov - 1. etapa
C51: Objekt:
E52: SO 01 - Hlavní objekt
C53: Soupis:
E54: =E11 -> 1.4 - Zdravotní technika
C56: Místo: | F56: =F14 -> k. ú. Broumov | I56: Datum: | J56: =IF(J14="","",J14) -> 10. 10. 2022
C58: Zadavatel: | F58: =E17 | I58: Projektant: | J58: =E23 -> INS spol. s r.o.
C59: Uchazeč: | F59: =IF(E20="","",E20) -> Vyplň údaj | I59: Zpracovatel: | J59: =E26 -> Ing. Michaela Hůlková
C61: Kód dílu - Popis | J61: Cena celkem [CZK]
C63: Náklady stavby celkem | J63: =J93 -> 0 | AU63: -1
...

Sheet 1.5 - Elektroinstalace si...
AT2: {49d6ce45-a3dc-49dc-af95-c0c3b0289756}
AT3: 2
D4: KRYCÍ LIST SOUPISU PRACÍ | M4: v --- níže se nacházejí doplnkové a pomocné údaje k sestavám --- v | AT4: False
D6: Stavba:
E7: ='Rekapitulace stavby'!K6 -> Stavební úpravy objektu č.p. 104 a 105, Café Herzog, Broumov - 1. etapa
D8: Objekt:
E9: SO 01 - Hlavní objekt
D10: Soupis:
E11: 1.5 - Elektroinstalace silnoproud
D13: KSO: | I13: CC-CZ:
D14: Místo: | F14: k. ú. Broumov | I14: Datum: | J14: ='Rekapitulace stavby'!AN8 -> 10. 10. 2022
D16: Zadavatel: | I16: IČ:
I17: DIČ:
D19: Uchazeč: | I19: IČ: | J19: ='Rekapitulace stavby'!AN13 -> Vyplň údaj
E20: ='Rekapitulace stavby'!E14 -> Vyplň údaj | I20: DIČ: | J20: ='Rekapitulace stavby'!AN14 -> Vyplň údaj
D22: Projektant: | I22: IČ: | J22: 60109971
E23: INS spol. s r.o. | I23: DIČ: | J23: CZ60109971
D25: Zpracovatel: | I25: IČ: | J25: =IF('Rekapitulace stavby'!AN19="","",'Rekapitulace stavby'!AN19)
E26: =IF('Rekapitulace stavby'!E20="","",'Rekapitulace stavby'!E20) -> Ing. Michaela Hůlková | I26: DIČ: | J26: =IF('Rekapitulace stavby'!AN20="","",'Rekapitulace stavby'!AN20)
D28: Poznámka:
D32: Cena bez DPH | J32: =ROUND(J91, 2) -> 0
F34: Základ daně | I34: Sazba daně | J34: Výše daně
D35: DPH | E35: základní | F35: =ROUND((SUM(BE91:BE184)), 2) -> 0 | I35: 0.21 | J35: =ROUND(((SUM(BE91:BE184))*I35), 2) -> 0
E36: snížená | F36: =ROUND((SUM(BF91:BF184)), 2) -> 0 | I36: 0.15 | J36: =ROUND(((SUM(BF91:BF184))*I36), 2) -> 0
E37: zákl. přenesená | F37: =ROUND((SUM(BG91:BG184)), 2) -> 0 | I37: 0.21 | J37: =0 -> 0
E38: sníž. přenesená | F38: =ROUND((SUM(BH91:BH184)), 2) -> 0 | I38: 0.15 | J38: =0 -> 0
E39: nulová | F39: =ROUND((SUM(BI91:BI184)), 2) -> 0 | I39: 0 | J39: =0 -> 0
D41: Cena s DPH | G41: v | H41: CZK | J41: =SUM(J32:J39) -> 0
C47: REKAPITULACE ČLENĚNÍ SOUPISU PRACÍ
C49: Stavba:
E50: =E7 -> Stavební úpravy objektu č.p. 104 a 105, Café Herzog, Broumov - 1. etapa
C51: Objekt:
E52: SO 01 - Hlavní objekt
C53: Soupis:
E54: =E11 -> 1.5 - Elektroinstalace silnoproud
C56: Místo: | F56: =F14 -> k. ú. Broumov | I56: Datum: | J56: =IF(J14="","",J14) -> 10. 10. 2022
C58: Zadavatel: | F58: =E17 | I58: Projektant: | J58: =E23 -> INS spol. s r.o.
C59: Uchazeč: | F59: =IF(E20="","",E20) -> Vyplň údaj | I59: Zpracovatel: | J59: =E26 -> Ing. Michaela Hůlková
C61: Kód dílu - Popis | J61: Cena celkem [CZK]
C63: Náklady stavby celkem | J63: =J91 -> 0 | AU63: -1
...

Sheet 1.6 - Vytápění
AT2: {aa3ad3a1-ab58-4fff-8363-1400df9ff4d5}
AT3: 2
D4: KRYCÍ LIST SOUPISU PRACÍ | M4: v --- níže se nacházejí doplnkové a pomocné údaje k sestavám --- v | AT4: False
D6: Stavba:
E7: ='Rekapitulace stavby'!K6 -> Stavební úpravy objektu č.p. 104 a 105, Café Herzog, Broumov - 1. etapa
D8: Objekt:
E9: SO 01 - Hlavní objekt
D10: Soupis:
E11: 1.6 - Vytápění
D13: KSO: | I13: CC-CZ:
D14: Místo: | F14: k. ú. Broumov | I14: Datum: | J14: ='Rekapitulace stavby'!AN8 -> 10. 10. 2022
D16: Zadavatel: | I16: IČ:
I17: DIČ:
D19: Uchazeč: | I19: IČ: | J19: ='Rekapitulace stavby'!AN13 -> Vyplň údaj
E20: ='Rekapitulace stavby'!E14 -> Vyplň údaj | I20: DIČ: | J20: ='Rekapitulace stavby'!AN14 -> Vyplň údaj
D22: Projektant: | I22: IČ: | J22: 60109971
E23: INS spol. s r.o. | I23: DIČ: | J23: CZ60109971
D25: Zpracovatel: | I25: IČ: | J25: =IF('Rekapitulace stavby'!AN19="","",'Rekapitulace stavby'!AN19)
E26: =IF('Rekapitulace stavby'!E20="","",'Rekapitulace stavby'!E20) -> Ing. Michaela Hůlková | I26: DIČ: | J26: =IF('Rekapitulace stavby'!AN20="","",'Rekapitulace stavby'!AN20)
D28: Poznámka:
D32: Cena bez DPH | J32: =ROUND(J93, 2) -> 0
F34: Základ daně | I34: Sazba daně | J34: Výše daně
D35: DPH | E35: základní | F35: =ROUND((SUM(BE93:BE145)), 2) -> 0 | I35: 0.21 | J35: =ROUND(((SUM(BE93:BE145))*I35), 2) -> 0
E36: snížená | F36: =ROUND((SUM(BF93:BF145)), 2) -> 0 | I36: 0.15 | J36: =ROUND(((SUM(BF93:BF145))*I36), 2) -> 0
E37: zákl. přenesená | F37: =ROUND((SUM(BG93:BG145)), 2) -> 0 | I37: 0.21 | J37: =0 -> 0
E38: sníž. přenesená | F38: =ROUND((SUM(BH93:BH145)), 2) -> 0 | I38: 0.15 | J38: =0 -> 0
E39: nulová | F39: =ROUND((SUM(BI93:BI145)), 2) -> 0 | I39: 0 | J39: =0 -> 0
D41: Cena s DPH | G41: v | H41: CZK | J41: =SUM(J32:J39) -> 0
C47: REKAPITULACE ČLENĚNÍ SOUPISU PRACÍ
C49: Stavba:
E50: =E7 -> Stavební úpravy objektu č.p. 104 a 105, Café Herzog, Broumov - 1. etapa
C51: Objekt:
E52: SO 01 - Hlavní objekt
C53: Soupis:
E54: =E11 -> 1.6 - Vytápění
C56: Místo: | F56: =F14 -> k. ú. Broumov | I56: Datum: | J56: =IF(J14="","",J14) -> 10. 10. 2022
C58: Zadavatel: | F58: =E17 | I58: Projektant: | J58: =E23 -> INS spol. s r.o.
C59: Uchazeč: | F59: =IF(E20="","",E20) -> Vyplň údaj | I59: Zpracovatel: | J59: =E26 -> Ing. Michaela Hůlková
C61: Kód dílu - Popis | J61: Cena celkem [CZK]
C63: Náklady stavby celkem | J63: =J93 -> 0 | AU63: -1
...

Sheet 1.7 - Vzduchotechnika
AT2: {67a0c015-d3c5-40d1-a2f4-7a21162c02b5}
AT3: 2
D4: KRYCÍ LIST SOUPISU PRACÍ | M4: v --- níže se nacházejí doplnkové a pomocné údaje k sestavám --- v | AT4: False
D6: Stavba:
E7: ='Rekapitulace stavby'!K6 -> Stavební úpravy objektu č.p. 104 a 105, Café Herzog, Broumov - 1. etapa
D8: Objekt:
E9: SO 01 - Hlavní objekt
D10: Soupis:
E11: 1.7 - Vzduchotechnika
D13: KSO: | I13: CC-CZ:
D14: Místo: | F14: k. ú. Broumov | I14: Datum: | J14: ='Rekapitulace stavby'!AN8 -> 10. 10. 2022
D16: Zadavatel: | I16: IČ:
I17: DIČ:
D19: Uchazeč: | I19: IČ: | J19: ='Rekapitulace stavby'!AN13 -> Vyplň údaj
E20: ='Rekapitulace stavby'!E14 -> Vyplň údaj | I20: DIČ: | J20: ='Rekapitulace stavby'!AN14 -> Vyplň údaj
D22: Projektant: | I22: IČ: | J22: 60109971
E23: INS spol. s r.o. | I23: DIČ: | J23: CZ60109971
D25: Zpracovatel: | I25: IČ: | J25: =IF('Rekapitulace stavby'!AN19="","",'Rekapitulace stavby'!AN19)
E26: =IF('Rekapitulace stavby'!E20="","",'Rekapitulace stavby'!E20) -> Ing. Michaela Hůlková | I26: DIČ: | J26: =IF('Rekapitulace stavby'!AN20="","",'Rekapitulace stavby'!AN20)
D28: Poznámka:
D32: Cena bez DPH | J32: =ROUND(J89, 2) -> 0
F34: Základ daně | I34: Sazba daně | J34: Výše daně
D35: DPH | E35: základní | F35: =ROUND((SUM(BE89:BE129)), 2) -> 0 | I35: 0.21 | J35: =ROUND(((SUM(BE89:BE129))*I35), 2) -> 0
E36: snížená | F36: =ROUND((SUM(BF89:BF129)), 2) -> 0 | I36: 0.15 | J36: =ROUND(((SUM(BF89:BF129))*I36), 2) -> 0
E37: zákl. přenesená | F37: =ROUND((SUM(BG89:BG129)), 2) -> 0 | I37: 0.21 | J37: =0 -> 0
E38: sníž. přenesená | F38: =ROUND((SUM(BH89:BH129)), 2) -> 0 | I38: 0.15 | J38: =0 -> 0
E39: nulová | F39: =ROUND((SUM(BI89:BI129)), 2) -> 0 | I39: 0 | J39: =0 -> 0
D41: Cena s DPH | G41: v | H41: CZK | J41: =SUM(J32:J39) -> 0
C47: REKAPITULACE ČLENĚNÍ SOUPISU PRACÍ
C49: Stavba:
E50: =E7 -> Stavební úpravy objektu č.p. 104 a 105, Café Herzog, Broumov - 1. etapa
C51: Objekt:
E52: SO 01 - Hlavní objekt
C53: Soupis:
E54: =E11 -> 1.7 - Vzduchotechnika
C56: Místo: | F56: =F14 -> k. ú. Broumov | I56: Datum: | J56: =IF(J14="","",J14) -> 10. 10. 2022
C58: Zadavatel: | F58: =E17 | I58: Projektant: | J58: =E23 -> INS spol. s r.o.
C59: Uchazeč: | F59: =IF(E20="","",E20) -> Vyplň údaj | I59: Zpracovatel: | J59: =E26 -> Ing. Michaela Hůlková
C61: Kód dílu - Popis | J61: Cena celkem [CZK]
C63: Náklady stavby celkem | J63: =J89 -> 0 | AU63: -1
...

Sheet 1.8 - Elektroinstalce sla...
AT2: {34d51934-601a-4a79-bbae-718ee9176f20}
AT3: 2
D4: KRYCÍ LIST SOUPISU PRACÍ | M4: v --- níže se nacházejí doplnkové a pomocné údaje k sestavám --- v | AT4: False
D6: Stavba:
E7: ='Rekapitulace stavby'!K6 -> Stavební úpravy objektu č.p. 104 a 105, Café Herzog, Broumov - 1. etapa
D8: Objekt:
E9: SO 01 - Hlavní objekt
D10: Soupis:
E11: 1.8 - Elektroinstalce slaboproud
D13: KSO: | I13: CC-CZ:
D14: Místo: | F14: k. ú. Broumov | I14: Datum: | J14: ='Rekapitulace stavby'!AN8 -> 10. 10. 2022
D16: Zadavatel: | I16: IČ:
I17: DIČ:
D19: Uchazeč: | I19: IČ: | J19: ='Rekapitulace stavby'!AN13 -> Vyplň údaj
E20: ='Rekapitulace stavby'!E14 -> Vyplň údaj | I20: DIČ: | J20: ='Rekapitulace stavby'!AN14 -> Vyplň údaj
D22: Projektant: | I22: IČ: | J22: 60109971
E23: INS spol. s r.o. | I23: DIČ: | J23: CZ60109971
D25: Zpracovatel: | I25: IČ: | J25: =IF('Rekapitulace stavby'!AN19="","",'Rekapitulace stavby'!AN19)
E26: =IF('Rekapitulace stavby'!E20="","",'Rekapitulace stavby'!E20) -> Ing. Michaela Hůlková | I26: DIČ: | J26: =IF('Rekapitulace stavby'!AN20="","",'Rekapitulace stavby'!AN20)
D28: Poznámka:
D32: Cena bez DPH | J32: =ROUND(J88, 2) -> 0
F34: Základ daně | I34: Sazba daně | J34: Výše daně
D35: DPH | E35: základní | F35: =ROUND((SUM(BE88:BE117)), 2) -> 0 | I35: 0.21 | J35: =ROUND(((SUM(BE88:BE117))*I35), 2) -> 0
E36: snížená | F36: =ROUND((SUM(BF88:BF117)), 2) -> 0 | I36: 0.15 | J36: =ROUND(((SUM(BF88:BF117))*I36), 2) -> 0
E37: zákl. přenesená | F37: =ROUND((SUM(BG88:BG117)), 2) -> 0 | I37: 0.21 | J37: =0 -> 0
E38: sníž. přenesená | F38: =ROUND((SUM(BH88:BH117)), 2) -> 0 | I38: 0.15 | J38: =0 -> 0
E39: nulová | F39: =ROUND((SUM(BI88:BI117)), 2) -> 0 | I39: 0 | J39: =0 -> 0
D41: Cena s DPH | G41: v | H41: CZK | J41: =SUM(J32:J39) -> 0
C47: REKAPITULACE ČLENĚNÍ SOUPISU PRACÍ
C49: Stavba:
E50: =E7 -> Stavební úpravy objektu č.p. 104 a 105, Café Herzog, Broumov - 1. etapa
C51: Objekt:
E52: SO 01 - Hlavní objekt
C53: Soupis:
E54: =E11 -> 1.8 - Elektroinstalce slaboproud
C56: Místo: | F56: =F14 -> k. ú. Broumov | I56: Datum: | J56: =IF(J14="","",J14) -> 10. 10. 2022
C58: Zadavatel: | F58: =E17 | I58: Projektant: | J58: =E23 -> INS spol. s r.o.
C59: Uchazeč: | F59: =IF(E20="","",E20) -> Vyplň údaj | I59: Zpracovatel: | J59: =E26 -> Ing. Michaela Hůlková
C61: Kód dílu - Popis | J61: Cena celkem [CZK]
C63: Náklady stavby celkem | J63: =J88 -> 0 | AU63: -1
...

Sheet VRN - Vedlejší rozpočtové...
AT2: {f581d15f-cf4e-4bfc-9afb-24a105e15001}
AT3: 2
D4: KRYCÍ LIST SOUPISU PRACÍ | M4: v --- níže se nacházejí doplnkové a pomocné údaje k sestavám --- v | AT4: False
D6: Stavba:
E7: ='Rekapitulace stavby'!K6 -> Stavební úpravy objektu č.p. 104 a 105, Café Herzog, Broumov - 1. etapa
D8: Objekt:
E9: VRN - Vedlejší rozpočtové náklady
D11: KSO: | I11: CC-CZ:
D12: Místo: | F12: k. ú. Broumov | I12: Datum: | J12: ='Rekapitulace stavby'!AN8 -> 10. 10. 2022
D14: Zadavatel: | I14: IČ:
I15: DIČ:
D17: Uchazeč: | I17: IČ: | J17: ='Rekapitulace stavby'!AN13 -> Vyplň údaj
E18: ='Rekapitulace stavby'!E14 -> Vyplň údaj | I18: DIČ: | J18: ='Rekapitulace stavby'!AN14 -> Vyplň údaj
D20: Projektant: | I20: IČ: | J20: 60109971
E21: INS spol. s r.o. | I21: DIČ: | J21: CZ60109971
D23: Zpracovatel: | I23: IČ:
E24: Ing. Michaela Hůlková | I24: DIČ:
D26: Poznámka:
D30: Cena bez DPH | J30: =ROUND(J84, 2) -> 0
F32: Základ daně | I32: Sazba daně | J32: Výše daně
D33: DPH | E33: základní | F33: =ROUND((SUM(BE84:BE95)), 2) -> 0 | I33: 0.21 | J33: =ROUND(((SUM(BE84:BE95))*I33), 2) -> 0
E34: snížená | F34: =ROUND((SUM(BF84:BF95)), 2) -> 0 | I34: 0.15 | J34: =ROUND(((SUM(BF84:BF95))*I34), 2) -> 0
E35: zákl. přenesená | F35: =ROUND((SUM(BG84:BG95)), 2) -> 0 | I35: 0.21 | J35: =0 -> 0
E36: sníž. přenesená | F36: =ROUND((SUM(BH84:BH95)), 2) -> 0 | I36: 0.15 | J36: =0 -> 0
E37: nulová | F37: =ROUND((SUM(BI84:BI95)), 2) -> 0 | I37: 0 | J37: =0 -> 0
D39: Cena s DPH | G39: v | H39: CZK | J39: =SUM(J30:J37) -> 0
C45: REKAPITULACE ČLENĚNÍ SOUPISU PRACÍ
C47: Stavba:
E48: =E7 -> Stavební úpravy objektu č.p. 104 a 105, Café Herzog, Broumov - 1. etapa
C49: Objekt:
E50: =E9 -> VRN - Vedlejší rozpočtové náklady
C52: Místo: | F52: =F12 -> k. ú. Broumov | I52: Datum: | J52: =IF(J12="","",J12) -> 10. 10. 2022
C54: Zadavatel: | F54: =E15 | I54: Projektant: | J54: =E21 -> INS spol. s r.o.
C55: Uchazeč: | F55: =IF(E18="","",E18) -> Vyplň údaj | I55: Zpracovatel: | J55: =E24 -> Ing. Michaela Hůlková
C57: Kód dílu - Popis | J57: Cena celkem [CZK]
C59: Náklady stavby celkem | J59: =J84 -> 0 | AU59: -1
D60: VRN - Vedlejší rozpočtové náklady | J60: =J85 -> 0
D61: VRN1 - Průzkumné, geodetické a projektové práce | J61: =J86 -> 0
D62: VRN3 - Zařízení staveniště | J62: =J88 -> 0
D63: VRN4 - Inženýrská činnost | J63: =J90 -> 0
...

Sheet Pokyny pro vyplnění
C3: Struktura údajů, formát souboru a metodika pro zpracování
C4: Struktura
C6: Soubor je složen ze záložky Rekapitulace stavby a záložek s názvem soupisu prací pro jednotlivé objekty ve formátu XLSX. Každá ze záložek přitom obsahuje
C7: ještě samostatné sestavy vymezené orámovaním a nadpisem sestavy.
C9: Rekapitulace stavby obsahuje sestavu Rekapitulace stavby a Rekapitulace objektů stavby a soupisů prací.
D10: V sestavě Rekapitulace stavby jsou uvedeny informace identifikující předmět veřejné zakázky na stavební práce, KSO, CC-CZ, CZ-CPV, CZ-CPA a rekapitulaci
D11: celkové nabídkové ceny uchazeče.
D13: Termínem "uchazeč" (resp. zhotovitel) se myslí "účastník zadávacího řízení" ve smyslu zákona o zadávání veřejných zakázek.
D15: V sestavě Rekapitulace objektů stavby a soupisů prací je uvedena rekapitulace stavebních objektů, inženýrských objektů, provozních souborů,
D16: vedlejších a ostatních nákladů a ostatních nákladů s rekapitulací nabídkové ceny za jednotlivé soupisy prací. Na základě údaje Typ je možné
D17: identifikovat, zda se jedná o objekt nebo soupis prací pro daný objekt:
E18: STA | F18: Stavební objekt pozemní
E19: ING | F19: Stavební objekt inženýrský
E20: PRO | F20: Provozní soubor
E21: VON | F21: Vedlejší a ostatní náklady
E22: OST | F22: Ostatní
E23: Soupis | F23: Soupis prací pro daný typ objektu
C25: Soupis prací pro jednotlivé objekty obsahuje sestavy Krycí list soupisu prací, Rekapitulace členění soupisu prací, Soupis prací. Za soupis prací může být považován
C26: i objekt stavby v případě, že neobsahuje podřízenou zakázku.
D27: Krycí list soupisu obsahuje rekapitulaci informací o předmětu veřejné zakázky ze sestavy Rekapitulace stavby, informaci o zařazení objektu do KSO,
D28: CC-CZ, CZ-CPV, CZ-CPA a rekapitulaci celkové nabídkové ceny uchazeče za aktuální soupis prací.
D30: Rekapitulace členění soupisu prací obsahuje rekapitulaci soupisu prací ve všech úrovních členění soupisu tak, jak byla tato členění použita (např.
D31: stavební díly, funkční díly, případně jiné členění) s rekapitulací nabídkové ceny.
D33: Soupis prací obsahuje položky veškerých stavebních nebo montážních prací, dodávek materiálů a služeb nezbytných pro zhotovení stavebního objektu,
D34: inženýrského objektu, provozního souboru, vedlejších a ostatních nákladů.
D35: Pro položky soupisu prací se zobrazují následující informace:
E36: PČ | G36: Pořadové číslo položky v aktuálním soupisu
E37: TYP | G37: Typ položky: K - konstrukce, M - materiál, PP - plný popis, PSC - poznámka k souboru cen, P - poznámka k položce, VV - výkaz výměr
E38: Kód | G38: Kód položky
E39: Popis | G39: Zkrácený popis položky
E40: MJ | G40: Měrná jednotka položky
E41: Množství | G41: Množství v měrné jednotce
E42: J.cena | G42: Jednotková cena položky. Zadaní může obsahovat namísto J.ceny sloupce J.materiál a J.montáž, jejichž součet definuje
G43: J.cenu položky.
E44: Cena celkem | G44: Celková cena položky daná jako součin množství a j.ceny
E45: Cenová soustava | G45: Příslušnost položky do cenové soustavy
D47: Ke každé položce soupisu prací se na samostatných řádcích může zobrazovat:
E48: Plný popis položky
E49: Poznámka k souboru cen a poznámka zadavatele
E50: Výkaz výměr
...
