Workbook
Name CelkemObjekty: Stavba!$F$39
Name CisloStavby: Stavba!$D$5
Name dadresa: Stavba!$D$8
Name DIČ: Stavba!$K$8
Name dmisto: Stavba!$D$9
Name dpsc: Stavba!$C$9
Name IČO: Stavba!$K$7
Name NazevObjektu: Stavba!$C$29
Name NazevStavby: Stavba!$E$5
Name Objednatel: Stavba!$D$11
Name Objekt: Stavba!$B$29
Name odic: Stavba!$K$12
Name oico: Stavba!$K$11
Name omisto: Stavba!$D$13
Name onazev: Stavba!$D$12
Name opsc: Stavba!$C$13
Name SazbaDPH1: Stavba!$D$19
Name SazbaDPH2: Stavba!$D$21
Name SoucetDilu: Stavba!$F$91:$J$91
Name StavbaCelkem: Stavba!$H$39
Name Zhotovitel: Stavba!$D$7

Sheet Stavba
C2: Slepý rozpočet stavby | H2: Datum:
C5: Stavba : | D5: 01 | E5: Zateplení budovy muzea Brumov-Bylnice
C7: Objednatel : | D7: Město Brumov-Bylnice | H7: IČO :
D8: Nám.H.Synkové 942 | H8: DIČ :
D9: 763 31 Brumov-Bylnice
C11: Zhotovitel : | D11: Ing. Tomáš Kročil | H11: IČO :
D12: Družstevní 980 (areál Zálesí Kovo) | H12: DIČ :
D13: 763 26 Luhačovice
C14: Za zhotovitele : | H14: Za objednatele :
C16: _______________ | H16: _______________
J18: Rozpočtové náklady
B19: Základ pro DPH | D19: 15 | E19: % | I19: =ROUND(G39,0) -> 0
B20: DPH | D20: =SazbaDPH1 -> 15 | E20: % | I20: =ROUND(I19*D20/100,0) -> 0
B21: Základ pro DPH | D21: 21 | E21: % | I21: =ROUND(H39,0) -> 0
B22: DPH | D22: =SazbaDPH2 -> 21 | E22: % | I22: =ROUND(I21*D21/100,0) -> 0
B23: Cena celkem za stavbu | I23: =SUM(I19:I22) -> 0
B27: Rekapitulace stavebních objektů a provozních souborů
B29: Číslo a název objektu / provozního souboru | F29: Cena celkem | G29: =CONCATENATE("Základ DPH ",SazbaDPH1," %") -> Základ DPH 15 % | H29: =CONCATENATE("Základ DPH ",SazbaDPH2," %") -> Základ DPH 21 % | I29: DPH celkem | J29: %
B30: ON 00 | C30: Vedlejší a ostatní náklady | F30: =G30+H30+I30 -> 0 | G30: 0 | H30: 0 | I30: =(G30*SazbaDPH1)/100+(H30*SazbaDPH2)/100 -> 0 | J30: =IF(CelkemObjekty=0,"",F30/CelkemObjekty*100)
B31: SO 01 | C31: Výměna oken a dveří | F31: =G31+H31+I31 -> 0 | G31: 0 | H31: 0 | I31: =(G31*SazbaDPH1)/100+(H31*SazbaDPH2)/100 -> 0 | J31: =IF(CelkemObjekty=0,"",F31/CelkemObjekty*100)
B32: SO 02 | C32: Zateplení fasády | F32: =G32+H32+I32 -> 0 | G32: 0 | H32: 0 | I32: =(G32*SazbaDPH1)/100+(H32*SazbaDPH2)/100 -> 0 | J32: =IF(CelkemObjekty=0,"",F32/CelkemObjekty*100)
B33: SO 03 | C33: Zateplení ploché střechy | F33: =G33+H33+I33 -> 0 | G33: 0 | H33: 0 | I33: =(G33*SazbaDPH1)/100+(H33*SazbaDPH2)/100 -> 0 | J33: =IF(CelkemObjekty=0,"",F33/CelkemObjekty*100)
B34: SO 04 | C34: Zateplení půdních prostor | F34: =G34+H34+I34 -> 0 | G34: 0 | H34: 0 | I34: =(G34*SazbaDPH1)/100+(H34*SazbaDPH2)/100 -> 0 | J34: =IF(CelkemObjekty=0,"",F34/CelkemObjekty*100)
B35: SO 05 | C35: Elektroinstalace | F35: =G35+H35+I35 -> 0 | G35: 0 | H35: 0 | I35: =(G35*SazbaDPH1)/100+(H35*SazbaDPH2)/100 -> 0 | J35: =IF(CelkemObjekty=0,"",F35/CelkemObjekty*100)
B36: SO 06 | C36: Hromosvod | F36: =G36+H36+I36 -> 0 | G36: 0 | H36: 0 | I36: =(G36*SazbaDPH1)/100+(H36*SazbaDPH2)/100 -> 0 | J36: =IF(CelkemObjekty=0,"",F36/CelkemObjekty*100)
B37: SO 07 | C37: Demolice bočního přístavku | F37: =G37+H37+I37 -> 0 | G37: 0 | H37: 0 | I37: =(G37*SazbaDPH1)/100+(H37*SazbaDPH2)/100 -> 0 | J37: =IF(CelkemObjekty=0,"",F37/CelkemObjekty*100)
B38: SO 08 | C38: Přeložka plyn.potrubí | F38: =G38+H38+I38 -> 0 | G38: 0 | H38: 0 | I38: =(G38*SazbaDPH1)/100+(H38*SazbaDPH2)/100 -> 0 | J38: =IF(CelkemObjekty=0,"",F38/CelkemObjekty*100)
B39: Celkem za stavbu | F39: =SUM(F30:F38) -> 0 | G39: =SUM(G30:G38) -> 0 | H39: =SUM(H30:H38) -> 0 | I39: =SUM(I30:I38) -> 0 | J39: =IF(CelkemObjekty=0,"",F39/CelkemObjekty*100)
B43: Rekapitulace stavebních rozpočtů
B45: Číslo objektu | C45: Číslo a název rozpočtu | F45: Cena celkem | G45: =CONCATENATE("Základ DPH ",SazbaDPH1," %") -> Základ DPH 15 % | H45: =CONCATENATE("Základ DPH ",SazbaDPH2," %") -> Základ DPH 21 % | I45: DPH celkem | J45: %
B46: ON 00 | C46: ON 00 Vedlejší a ostatní náklady | F46: =G46+H46+I46 -> 0 | G46: 0 | H46: 0 | I46: =(G46*SazbaDPH1)/100+(H46*SazbaDPH2)/100 -> 0 | J46: =IF(CelkemObjekty=0,"",F46/CelkemObjekty*100)
B47: SO 01 | C47: SO 01 Výměna oken a dveří | F47: =G47+H47+I47 -> 0 | G47: 0 | H47: 0 | I47: =(G47*SazbaDPH1)/100+(H47*SazbaDPH2)/100 -> 0 | J47: =IF(CelkemObjekty=0,"",F47/CelkemObjekty*100)
B48: SO 02 | C48: SO 02.2 Zateplení fasády | F48: =G48+H48+I48 -> 0 | G48: 0 | H48: 0 | I48: =(G48*SazbaDPH1)/100+(H48*SazbaDPH2)/100 -> 0 | J48: =IF(CelkemObjekty=0,"",F48/CelkemObjekty*100)
B49: SO 03 | C49: SO 03 Zateplení ploché střechy | F49: =G49+H49+I49 -> 0 | G49: 0 | H49: 0 | I49: =(G49*SazbaDPH1)/100+(H49*SazbaDPH2)/100 -> 0 | J49: =IF(CelkemObjekty=0,"",F49/CelkemObjekty*100)
B50: SO 04 | C50: SO 04 Zateplení půdních prostor | F50: =G50+H50+I50 -> 0 | G50: 0 | H50: 0 | I50: =(G50*SazbaDPH1)/100+(H50*SazbaDPH2)/100 -> 0 | J50: =IF(CelkemObjekty=0,"",F50/CelkemObjekty*100)
B51: SO 05 | C51: SO 05 Elektroinstalace | F51: =G51+H51+I51 -> 0 | G51: 0 | H51: 0 | I51: =(G51*SazbaDPH1)/100+(H51*SazbaDPH2)/100 -> 0 | J51: =IF(CelkemObjekty=0,"",F51/CelkemObjekty*100)
B52: SO 06 | C52: SO 06 Hromosvod | F52: =G52+H52+I52 -> 0 | G52: 0 | H52: 0 | I52: =(G52*SazbaDPH1)/100+(H52*SazbaDPH2)/100 -> 0 | J52: =IF(CelkemObjekty=0,"",F52/CelkemObjekty*100)
B53: SO 07 | C53: SO 07 Demolice bočního přístavku | F53: =G53+H53+I53 -> 0 | G53: 0 | H53: 0 | I53: =(G53*SazbaDPH1)/100+(H53*SazbaDPH2)/100 -> 0 | J53: =IF(CelkemObjekty=0,"",F53/CelkemObjekty*100)
B54: SO 08 | C54: SO 08 Přeložka plyn.potrubí | F54: =G54+H54+I54 -> 0 | G54: 0 | H54: 0 | I54: =(G54*SazbaDPH1)/100+(H54*SazbaDPH2)/100 -> 0 | J54: =IF(CelkemObjekty=0,"",F54/CelkemObjekty*100)
B55: Celkem za stavbu | F55: =SUM(F46:F54) -> 0 | G55: =SUM(G46:G54) -> 0 | H55: =SUM(H46:H54) -> 0 | I55: =SUM(I46:I54) -> 0 | J55: =IF(CelkemObjekty=0,"",F55/CelkemObjekty*100)
...

Sheet ON 00 ON 00 KL
A1: SLEPÝ ROZPOČET
A2: Rozpočet | C2: ON 00 | D2: Vedlejší a ostatní náklady | F2: JKSO
A4: Objekt | F4: SKP
A5: ON 00 | C5: Vedlejší a ostatní náklady | F5: Měrná jednotka
A6: Stavba | F6: Počet jednotek
A7: 01 | C7: Zateplení budovy muzea Brumov-Bylnice | F7: Náklady na m.j. | G7: =IF(G6=0,,ROUND((F30+F32)/G6,1)) -> 0
A8: Projektant | F8: Typ rozpočtu
A9: Zpracovatel projektu
A10: Objednatel
A11: Dodavatel | F11: Zakázkové číslo
A12: Rozpočtoval | F12: Počet listů
A13: ROZPOČTOVÉ NÁKLADY
A14: Základní rozpočtové náklady | D14: Ostatní rozpočtové náklady
B15: HSV celkem | C15: ='ON 00 ON 00 Rek'!E9 -> 0 | D15: ='ON 00 ON 00 Rek'!A14 -> Ztížené výrobní podmínky | G15: ='ON 00 ON 00 Rek'!I14 -> 0
A16: Z | B16: PSV celkem | C16: ='ON 00 ON 00 Rek'!F9 -> 0 | D16: ='ON 00 ON 00 Rek'!A15 -> Oborová přirážka | G16: ='ON 00 ON 00 Rek'!I15 -> 0
A17: R | B17: M práce celkem | C17: ='ON 00 ON 00 Rek'!H9 -> 0 | D17: ='ON 00 ON 00 Rek'!A16 -> Přesun stavebních kapacit | G17: ='ON 00 ON 00 Rek'!I16 -> 0
A18: N | B18: M dodávky celkem | C18: ='ON 00 ON 00 Rek'!G9 -> 0 | D18: ='ON 00 ON 00 Rek'!A17 -> Mimostaveništní doprava | G18: ='ON 00 ON 00 Rek'!I17 -> 0
A19: ZRN celkem | C19: =SUM(C15:C18) -> 0 | D19: ='ON 00 ON 00 Rek'!A18 -> Zařízení staveniště | G19: ='ON 00 ON 00 Rek'!I18 -> 0
D20: ='ON 00 ON 00 Rek'!A19 -> Provoz investora | G20: ='ON 00 ON 00 Rek'!I19 -> 0
A21: HZS | C21: ='ON 00 ON 00 Rek'!I9 -> 0 | D21: ='ON 00 ON 00 Rek'!A20 -> Kompletační činnost (IČD) | G21: ='ON 00 ON 00 Rek'!I20 -> 0
A22: ZRN+HZS | C22: =C19+C21 -> 0 | D22: Ostatní náklady neuvedené | G22: =G23-SUM(G15:G21) -> 0
A23: ZRN+ost.náklady+HZS | C23: =C22+G23 -> 0 | D23: Ostatní náklady celkem | G23: ='ON 00 ON 00 Rek'!H22 -> 0
A24: Vypracoval | D24: Za zhotovitele | F24: Za objednatele
A25: Jméno : | D25: Jméno : | F25: Jméno :
A26: Datum : | D26: Datum : | F26: Datum :
A28: Podpis : | D28: Podpis: | F28: Podpis:
A30: Základ pro DPH | C30: 21 | D30: % | F30: =C23-F32 -> 0
A31: DPH | C31: =C30 -> 21 | D31: % | F31: =ROUND(PRODUCT(F30,C31/100),0) -> 0
A32: Základ pro DPH | C32: 0 | D32: % | F32: 0
A33: DPH | C33: =C32 -> 0 | D33: % | F33: =ROUND(PRODUCT(F32,C33/100),0) -> 0
A34: CENA ZA OBJEKT CELKEM | F34: =ROUND(SUM(F30:F33),0) -> 0
A36: Poznámka :
B37: V souvislosti s provedením stavby je povinností dodavatele provést nebo zabezpečit další související činnsoti vyplývající z charakteru a sruhu prováděné stavby, zejména s nutnou koordinací provedení všech částí stavby a rovněž z obchodních podmínke stanovených zadavatelem.Tyto náklady jsou uvedeny a popsány v samostatném soupisu stavebních prací, dodávek a služeb, s tím, že je dodavatel povinen v rámci těchto nákladů ocenit všechny definované náklady a to pro celou stavbu společně (obvykle procentickým podílem z hodnoty stavebbních prací, ale je na dodavateli jakým způsobem nebo metodou požadovanou položku ocení).

Sheet ON 00 ON 00 Rek
A1: Stavba : | C1: 01 Zateplení budovy muzea Brumov-Bylnice | G1: Rozpočet : | H1: ON 00
A2: Objekt : | C2: ON 00 Vedlejší a ostatní náklady | G2: Vedlejší a ostatní náklady
A4: REKAPITULACE STAVEBNÍCH DÍLŮ
B6: Stavební díl | E6: HSV | F6: PSV | G6: Dodávka | H6: Montáž | I6: HZS
A7: ='ON 00 ON 00 Pol'!B7 -> ON | B7: ='ON 00 ON 00 Pol'!C7 -> Ostatní náklady | E7: ='ON 00 ON 00 Pol'!BA16 -> 0 | F7: ='ON 00 ON 00 Pol'!BB16 -> 0 | G7: ='ON 00 ON 00 Pol'!BC16 -> 0 | H7: ='ON 00 ON 00 Pol'!BD16 -> 0 | I7: ='ON 00 ON 00 Pol'!BE16 -> 0
A8: ='ON 00 ON 00 Pol'!B17 -> VN | B8: ='ON 00 ON 00 Pol'!C17 -> Vedlejší náklady | E8: ='ON 00 ON 00 Pol'!BA26 -> 0 | F8: ='ON 00 ON 00 Pol'!BB26 -> 0 | G8: ='ON 00 ON 00 Pol'!BC26 -> 0 | H8: ='ON 00 ON 00 Pol'!BD26 -> 0 | I8: ='ON 00 ON 00 Pol'!BE26 -> 0
B9: CELKEM OBJEKT | E9: =SUM(E7:E8) -> 0 | F9: =SUM(F7:F8) -> 0 | G9: =SUM(G7:G8) -> 0 | H9: =SUM(H7:H8) -> 0 | I9: =SUM(I7:I8) -> 0
A11: VEDLEJŠÍ ROZPOČTOVÉ NÁKLADY
A13: Název VRN | E13: Kč | F13: % | G13: Základna | I13: Kč
A14: Ztížené výrobní podmínky | G14: 0 | I14: =E14+F14*G14/100 -> 0 | BA14: 0
A15: Oborová přirážka | G15: 0 | I15: =E15+F15*G15/100 -> 0 | BA15: 0
A16: Přesun stavebních kapacit | G16: 0 | I16: =E16+F16*G16/100 -> 0 | BA16: 0
A17: Mimostaveništní doprava | G17: 0 | I17: =E17+F17*G17/100 -> 0 | BA17: 0
A18: Zařízení staveniště | G18: 0 | I18: =E18+F18*G18/100 -> 0 | BA18: 1
A19: Provoz investora | G19: 0 | I19: =E19+F19*G19/100 -> 0 | BA19: 1
A20: Kompletační činnost (IČD) | G20: 0 | I20: =E20+F20*G20/100 -> 0 | BA20: 2
A21: Rezerva rozpočtu | G21: 0 | I21: =E21+F21*G21/100 -> 0 | BA21: 2
B22: CELKEM VRN | H22: =SUM(I14:I21) -> 0

Sheet ON 00 ON 00 Pol
A1: Slepý rozpočet
A3: Stavba : | C3: 01 Zateplení budovy muzea Brumov-Bylnice | E3: Rozpočet: | F3: ='ON 00 ON 00 Rek'!H1 -> ON 00
A4: Objekt : | C4: ON 00 Vedlejší a ostatní náklady | E4: ='ON 00 ON 00 Rek'!G2 -> Vedlejší a ostatní náklady
A6: P.č. | B6: Číslo položky | C6: Název položky | D6: MJ | E6: množství | F6: cena / MJ | G6: celkem (Kč) | H6: Jednotková hmotnost | I6: Celková hmotnost | J6: Jednotková dem.hmot. | K6: Celková dem.hmot.
A7: Díl: | B7: ON | C7: Ostatní náklady | O7: 1
A8: 1 | B8: 005122010R | C8: Provoz investora | D8: komple | E8: 1 | F8: 0 | G8: =E8*F8 -> 0 | H8: 0 | I8: =E8*H8 -> 0 | K8: =E8*J8 -> 0 | O8: 2 | AA8: 12 | AB8: 0 | AC8: 6 | AZ8: 1 | BA8: =IF(AZ8=1,G8,0) -> 0 | BB8: =IF(AZ8=2,G8,0) -> 0 | BC8: =IF(AZ8=3,G8,0) -> 0 | BD8: =IF(AZ8=4,G8,0) -> 0 | BE8: =IF(AZ8=5,G8,0) -> 0 | CA8: 12 | CB8: 0
A9: 2 | B9: 005211020 | C9: Bezpečnostní a hygienická opatření na staveništi vstup třetích osob a práce ve výškách | D9: komple | E9: 1 | F9: 0 | G9: =E9*F9 -> 0 | H9: 0 | I9: =E9*H9 -> 0 | K9: =E9*J9 -> 0 | O9: 2 | AA9: 12 | AB9: 0 | AC9: 7 | AZ9: 1 | BA9: =IF(AZ9=1,G9,0) -> 0 | BB9: =IF(AZ9=2,G9,0) -> 0 | BC9: =IF(AZ9=3,G9,0) -> 0 | BD9: =IF(AZ9=4,G9,0) -> 0 | BE9: =IF(AZ9=5,G9,0) -> 0 | CA9: 12 | CB9: 0
A10: 3 | B10: 005231010 | C10: Odtrhové zkoušky a kotevní plány (obvodový plášť) | D10: komple | E10: 1 | F10: 0 | G10: =E10*F10 -> 0 | H10: 0 | I10: =E10*H10 -> 0 | K10: =E10*J10 -> 0 | O10: 2 | AA10: 12 | AB10: 0 | AC10: 8 | AZ10: 1 | BA10: =IF(AZ10=1,G10,0) -> 0 | BB10: =IF(AZ10=2,G10,0) -> 0 | BC10: =IF(AZ10=3,G10,0) -> 0 | BD10: =IF(AZ10=4,G10,0) -> 0 | BE10: =IF(AZ10=5,G10,0) -> 0 | CA10: 12 | CB10: 0
A11: 4 | B11: 00523101012 | C11: Zajištění všech nezbytných průzkumů nutných pro řádné provádění a dokončení díla | D11: komple | E11: 1 | F11: 0 | G11: =E11*F11 -> 0 | H11: 0 | I11: =E11*H11 -> 0 | K11: =E11*J11 -> 0 | O11: 2 | AA11: 12 | AB11: 0 | AC11: 9 | AZ11: 1 | BA11: =IF(AZ11=1,G11,0) -> 0 | BB11: =IF(AZ11=2,G11,0) -> 0 | BC11: =IF(AZ11=3,G11,0) -> 0 | BD11: =IF(AZ11=4,G11,0) -> 0 | BE11: =IF(AZ11=5,G11,0) -> 0 | CA11: 12 | CB11: 0
A12: 5 | B12: 005241010R | C12: Předání a převzetí dokumentace skutečného provedení stavby | D12: komple | E12: 1 | F12: 0 | G12: =E12*F12 -> 0 | H12: 0 | I12: =E12*H12 -> 0 | K12: =E12*J12 -> 0 | O12: 2 | AA12: 12 | AB12: 0 | AC12: 10 | AZ12: 1 | BA12: =IF(AZ12=1,G12,0) -> 0 | BB12: =IF(AZ12=2,G12,0) -> 0 | BC12: =IF(AZ12=3,G12,0) -> 0 | BD12: =IF(AZ12=4,G12,0) -> 0 | BE12: =IF(AZ12=5,G12,0) -> 0 | CA12: 12 | CB12: 0
A13: 6 | B13: 005241010R2 | C13: Vyhotovení dílenské, výrobní dokumentace tam, kde je potřeba | D13: komple | E13: 1 | F13: 0 | G13: =E13*F13 -> 0 | H13: 0 | I13: =E13*H13 -> 0 | K13: =E13*J13 -> 0 | O13: 2 | AA13: 12 | AB13: 0 | AC13: 11 | AZ13: 1 | BA13: =IF(AZ13=1,G13,0) -> 0 | BB13: =IF(AZ13=2,G13,0) -> 0 | BC13: =IF(AZ13=3,G13,0) -> 0 | BD13: =IF(AZ13=4,G13,0) -> 0 | BE13: =IF(AZ13=5,G13,0) -> 0 | CA13: 12 | CB13: 0
A14: 7 | B14: 005261010R | C14: Pojištění odpovědnosti za škodu způsobenou třetí osobě činností dodavatele | D14: komple | E14: 1 | F14: 0 | G14: =E14*F14 -> 0 | H14: 0 | I14: =E14*H14 -> 0 | K14: =E14*J14 -> 0 | O14: 2 | AA14: 12 | AB14: 0 | AC14: 12 | AZ14: 1 | BA14: =IF(AZ14=1,G14,0) -> 0 | BB14: =IF(AZ14=2,G14,0) -> 0 | BC14: =IF(AZ14=3,G14,0) -> 0 | BD14: =IF(AZ14=4,G14,0) -> 0 | BE14: =IF(AZ14=5,G14,0) -> 0 | CA14: 12 | CB14: 0
A15: 8 | B15: ON CP001 | C15: Dočasná dopravní/provozní opatření | D15: komple | E15: 1 | F15: 0 | G15: =E15*F15 -> 0 | H15: 0 | I15: =E15*H15 -> 0 | K15: =E15*J15 -> 0 | O15: 2 | AA15: 12 | AB15: 0 | AC15: 1 | AZ15: 1 | BA15: =IF(AZ15=1,G15,0) -> 0 | BB15: =IF(AZ15=2,G15,0) -> 0 | BC15: =IF(AZ15=3,G15,0) -> 0 | BD15: =IF(AZ15=4,G15,0) -> 0 | BE15: =IF(AZ15=5,G15,0) -> 0 | CA15: 12 | CB15: 0
B16: Celkem za | C16: ON Ostatní náklady | G16: =SUM(G7:G15) -> 0 | I16: =SUM(I7:I15) -> 0 | K16: =SUM(K7:K15) -> 0 | O16: 4 | BA16: =SUM(BA7:BA15) -> 0 | BB16: =SUM(BB7:BB15) -> 0 | BC16: =SUM(BC7:BC15) -> 0 | BD16: =SUM(BD7:BD15) -> 0 | BE16: =SUM(BE7:BE15) -> 0
A17: Díl: | B17: VN | C17: Vedlejší náklady | O17: 1
A18: 9 | B18: 005124010 | C18: Kompletační a koordinační činnost | D18: komple | E18: 1 | F18: 0 | G18: =E18*F18 -> 0 | H18: 0 | I18: =E18*H18 -> 0 | J18: 0 | K18: =E18*J18 -> 0 | O18: 2 | AA18: 1 | AB18: 1 | AC18: 1 | AZ18: 1 | BA18: =IF(AZ18=1,G18,0) -> 0 | BB18: =IF(AZ18=2,G18,0) -> 0 | BC18: =IF(AZ18=3,G18,0) -> 0 | BD18: =IF(AZ18=4,G18,0) -> 0 | BE18: =IF(AZ18=5,G18,0) -> 0 | CA18: 1 | CB18: 1
A19: 10 | B19: VNCP006 | C19: Provedení veškerých předepsaných zkoušek revizí | D19: komple | E19: 1 | F19: 0 | G19: =E19*F19 -> 0 | H19: 0 | I19: =E19*H19 -> 0 | J19: 0 | K19: =E19*J19 -> 0 | O19: 2 | AA19: 1 | AB19: 1 | AC19: 1 | AZ19: 1 | BA19: =IF(AZ19=1,G19,0) -> 0 | BB19: =IF(AZ19=2,G19,0) -> 0 | BC19: =IF(AZ19=3,G19,0) -> 0 | BD19: =IF(AZ19=4,G19,0) -> 0 | BE19: =IF(AZ19=5,G19,0) -> 0 | CA19: 1 | CB19: 1
A20: 11 | B20: 005211010 | C20: Předání a převzetí staveniště | D20: komple | E20: 1 | F20: 0 | G20: =E20*F20 -> 0 | H20: 0 | I20: =E20*H20 -> 0 | K20: =E20*J20 -> 0 | O20: 2 | AA20: 12 | AB20: 0 | AC20: 15 | AZ20: 1 | BA20: =IF(AZ20=1,G20,0) -> 0 | BB20: =IF(AZ20=2,G20,0) -> 0 | BC20: =IF(AZ20=3,G20,0) -> 0 | BD20: =IF(AZ20=4,G20,0) -> 0 | BE20: =IF(AZ20=5,G20,0) -> 0 | CA20: 12 | CB20: 0
A21: 12 | B21: VN CP001 | C21: Vybudování zařízení staveniště | D21: komple | E21: 1 | F21: 0 | G21: =E21*F21 -> 0 | H21: 0 | I21: =E21*H21 -> 0 | K21: =E21*J21 -> 0 | O21: 2 | AA21: 12 | AB21: 0 | AC21: 2 | AZ21: 1 | BA21: =IF(AZ21=1,G21,0) -> 0 | BB21: =IF(AZ21=2,G21,0) -> 0 | BC21: =IF(AZ21=3,G21,0) -> 0 | BD21: =IF(AZ21=4,G21,0) -> 0 | BE21: =IF(AZ21=5,G21,0) -> 0 | CA21: 12 | CB21: 0
A22: 13 | B22: VN CP002 | C22: Provoz zařízení staveniště | D22: komple | E22: 1 | F22: 0 | G22: =E22*F22 -> 0 | H22: 0 | I22: =E22*H22 -> 0 | K22: =E22*J22 -> 0 | O22: 2 | AA22: 12 | AB22: 0 | AC22: 3 | AZ22: 1 | BA22: =IF(AZ22=1,G22,0) -> 0 | BB22: =IF(AZ22=2,G22,0) -> 0 | BC22: =IF(AZ22=3,G22,0) -> 0 | BD22: =IF(AZ22=4,G22,0) -> 0 | BE22: =IF(AZ22=5,G22,0) -> 0 | CA22: 12 | CB22: 0
A23: 14 | B23: VN CP003 | C23: Odstranění zařízení staveniště vč.uvedení všech povrchů dotčených stavbou do původního stavu | D23: komple | E23: 1 | F23: 0 | G23: =E23*F23 -> 0 | H23: 0 | I23: =E23*H23 -> 0 | K23: =E23*J23 -> 0 | O23: 2 | AA23: 12 | AB23: 0 | AC23: 18 | AZ23: 1 | BA23: =IF(AZ23=1,G23,0) -> 0 | BB23: =IF(AZ23=2,G23,0) -> 0 | BC23: =IF(AZ23=3,G23,0) -> 0 | BD23: =IF(AZ23=4,G23,0) -> 0 | BE23: =IF(AZ23=5,G23,0) -> 0 | CA23: 12 | CB23: 0
A24: 15 | B24: VN CP004 | C24: Rezerva rozpočtu - počítáno 5% z celkové ceny SO 01 až SO 08 | D24: komple | E24: 1 | F24: 0 | G24: =E24*F24 -> 0 | H24: 0 | I24: =E24*H24 -> 0 | K24: =E24*J24 -> 0 | O24: 2 | AA24: 12 | AB24: 0 | AC24: 5 | AZ24: 1 | BA24: =IF(AZ24=1,G24,0) -> 0 | BB24: =IF(AZ24=2,G24,0) -> 0 | BC24: =IF(AZ24=3,G24,0) -> 0 | BD24: =IF(AZ24=4,G24,0) -> 0 | BE24: =IF(AZ24=5,G24,0) -> 0 | CA24: 12 | CB24: 0
A25: 16 | B25: VN CP005 | C25: Úklid staveniště před protokolárním předáním a převzetím díla | D25: komple | E25: 1 | F25: 0 | G25: =E25*F25 -> 0 | H25: 0 | I25: =E25*H25 -> 0 | K25: =E25*J25 -> 0 | O25: 2 | AA25: 12 | AB25: 0 | AC25: 19 | AZ25: 1 | BA25: =IF(AZ25=1,G25,0) -> 0 | BB25: =IF(AZ25=2,G25,0) -> 0 | BC25: =IF(AZ25=3,G25,0) -> 0 | BD25: =IF(AZ25=4,G25,0) -> 0 | BE25: =IF(AZ25=5,G25,0) -> 0 | CA25: 12 | CB25: 0
B26: Celkem za | C26: VN Vedlejší náklady | G26: =SUM(G17:G25) -> 0 | I26: =SUM(I17:I25) -> 0 | K26: =SUM(K17:K25) -> 0 | O26: 4 | BA26: =SUM(BA17:BA25) -> 0 | BB26: =SUM(BB17:BB25) -> 0 | BC26: =SUM(BC17:BC25) -> 0 | BD26: =SUM(BD17:BD25) -> 0 | BE26: =SUM(BE17:BE25) -> 0

Sheet SO 01 SO 01 KL
A1: SLEPÝ ROZPOČET
A2: Rozpočet | C2: SO 01 | D2: Výměna oken a dveří | F2: JKSO
A4: Objekt | F4: SKP
A5: SO 01 | C5: Výměna oken a dveří | F5: Měrná jednotka
A6: Stavba | F6: Počet jednotek
A7: 01 | C7: Zateplení budovy muzea Brumov-Bylnice | F7: Náklady na m.j. | G7: =IF(G6=0,,ROUND((F30+F32)/G6,1)) -> 0
A8: Projektant | F8: Typ rozpočtu
A9: Zpracovatel projektu
A10: Objednatel
A11: Dodavatel | F11: Zakázkové číslo
A12: Rozpočtoval | F12: Počet listů
A13: ROZPOČTOVÉ NÁKLADY
A14: Základní rozpočtové náklady | D14: Ostatní rozpočtové náklady
B15: HSV celkem | C15: ='SO 01 SO 01 Rek'!E18 -> 0 | D15: ='SO 01 SO 01 Rek'!A23 -> Ztížené výrobní podmínky | G15: ='SO 01 SO 01 Rek'!I23 -> 0
A16: Z | B16: PSV celkem | C16: ='SO 01 SO 01 Rek'!F18 -> 0 | D16: ='SO 01 SO 01 Rek'!A24 -> Oborová přirážka | G16: ='SO 01 SO 01 Rek'!I24 -> 0
A17: R | B17: M práce celkem | C17: ='SO 01 SO 01 Rek'!H18 -> 0 | D17: ='SO 01 SO 01 Rek'!A25 -> Přesun stavebních kapacit | G17: ='SO 01 SO 01 Rek'!I25 -> 0
A18: N | B18: M dodávky celkem | C18: ='SO 01 SO 01 Rek'!G18 -> 0 | D18: ='SO 01 SO 01 Rek'!A26 -> Mimostaveništní doprava | G18: ='SO 01 SO 01 Rek'!I26 -> 0
A19: ZRN celkem | C19: =SUM(C15:C18) -> 0 | D19: ='SO 01 SO 01 Rek'!A27 -> Zařízení staveniště | G19: ='SO 01 SO 01 Rek'!I27 -> 0
D20: ='SO 01 SO 01 Rek'!A28 -> Provoz investora | G20: ='SO 01 SO 01 Rek'!I28 -> 0
A21: HZS | C21: ='SO 01 SO 01 Rek'!I18 -> 0 | D21: ='SO 01 SO 01 Rek'!A29 -> Kompletační činnost (IČD) | G21: ='SO 01 SO 01 Rek'!I29 -> 0
A22: ZRN+HZS | C22: =C19+C21 -> 0 | D22: Ostatní náklady neuvedené | G22: =G23-SUM(G15:G21) -> 0
A23: ZRN+ost.náklady+HZS | C23: =C22+G23 -> 0 | D23: Ostatní náklady celkem | G23: ='SO 01 SO 01 Rek'!H31 -> 0
A24: Vypracoval | D24: Za zhotovitele | F24: Za objednatele
A25: Jméno : | D25: Jméno : | F25: Jméno :
A26: Datum : | D26: Datum : | F26: Datum :
A28: Podpis : | D28: Podpis: | F28: Podpis:
A30: Základ pro DPH | C30: 21 | D30: % | F30: =C23-F32 -> 0
A31: DPH | C31: =C30 -> 21 | D31: % | F31: =ROUND(PRODUCT(F30,C31/100),0) -> 0
A32: Základ pro DPH | C32: 0 | D32: % | F32: 0
A33: DPH | C33: =C32 -> 0 | D33: % | F33: =ROUND(PRODUCT(F32,C33/100),0) -> 0
A34: CENA ZA OBJEKT CELKEM | F34: =ROUND(SUM(F30:F33),0) -> 0
A36: Poznámka :
B37: Nedílnou součástí PD je výkresová část s technickou zprávou a výpisy prvků jednotlivých částí. Cena stanovena dle RTS. Před objednáním nebo zadáním všech výplní vnitřních otvorů do výroby dojde k přeměření a přepočítání všech uvažovaných otvorů, toto provede dodavatel výše uvedených výrobků. Okno jako výrobek musí splňovat požadavky ČSN 73 0540, ČSN 73 0532 a TNI 74 6077. dodávka oken a dveří včetně pomocných konstrukcí a systémového napojení na obvodový plášť! Pokud je kdekoliv v projektové dokumentaci (technická zpráva, výkaz výměr, výkresová část) uveden součinitel prostupu tepla U pro celou výplň otvoru, je součinitelem prostupu tepla myšlen vždy součinitel výplně otvoru normového rozměru dle normy EN 14351-1 Okna a dveře.

Sheet SO 01 SO 01 Rek
A1: Stavba : | C1: 01 Zateplení budovy muzea Brumov-Bylnice | G1: Rozpočet : | H1: SO 01
A2: Objekt : | C2: SO 01 Výměna oken a dveří | G2: Výměna oken a dveří
A4: REKAPITULACE STAVEBNÍCH DÍLŮ
B6: Stavební díl | E6: HSV | F6: PSV | G6: Dodávka | H6: Montáž | I6: HZS
A7: ='SO 01 SO 01 Pol'!B7 -> 61 | B7: ='SO 01 SO 01 Pol'!C7 -> Upravy povrchů vnitřní | E7: ='SO 01 SO 01 Pol'!BA32 -> 0 | F7: ='SO 01 SO 01 Pol'!BB32 -> 0 | G7: ='SO 01 SO 01 Pol'!BC32 -> 0 | H7: ='SO 01 SO 01 Pol'!BD32 -> 0 | I7: ='SO 01 SO 01 Pol'!BE32 -> 0
A8: ='SO 01 SO 01 Pol'!B33 -> 62 | B8: ='SO 01 SO 01 Pol'!C33 -> Úpravy povrchů vnější | E8: ='SO 01 SO 01 Pol'!BA46 -> 0 | F8: ='SO 01 SO 01 Pol'!BB46 -> 0 | G8: ='SO 01 SO 01 Pol'!BC46 -> 0 | H8: ='SO 01 SO 01 Pol'!BD46 -> 0 | I8: ='SO 01 SO 01 Pol'!BE46 -> 0
A9: ='SO 01 SO 01 Pol'!B47 -> 64 | B9: ='SO 01 SO 01 Pol'!C47 -> Výplně otvorů | E9: ='SO 01 SO 01 Pol'!BA155 -> 0 | F9: ='SO 01 SO 01 Pol'!BB155 -> 0 | G9: ='SO 01 SO 01 Pol'!BC155 -> 0 | H9: ='SO 01 SO 01 Pol'!BD155 -> 0 | I9: ='SO 01 SO 01 Pol'!BE155 -> 0
A10: ='SO 01 SO 01 Pol'!B156 -> 95 | B10: ='SO 01 SO 01 Pol'!C156 -> Dokončovací konstrukce na pozemních stavbách | E10: ='SO 01 SO 01 Pol'!BA181 -> 0 | F10: ='SO 01 SO 01 Pol'!BB181 -> 0 | G10: ='SO 01 SO 01 Pol'!BC181 -> 0 | H10: ='SO 01 SO 01 Pol'!BD181 -> 0 | I10: ='SO 01 SO 01 Pol'!BE181 -> 0
A11: ='SO 01 SO 01 Pol'!B182 -> 96 | B11: ='SO 01 SO 01 Pol'!C182 -> Bourání konstrukcí | E11: ='SO 01 SO 01 Pol'!BA279 -> 0 | F11: ='SO 01 SO 01 Pol'!BB279 -> 0 | G11: ='SO 01 SO 01 Pol'!BC279 -> 0 | H11: ='SO 01 SO 01 Pol'!BD279 -> 0 | I11: ='SO 01 SO 01 Pol'!BE279 -> 0
A12: ='SO 01 SO 01 Pol'!B280 -> 99 | B12: ='SO 01 SO 01 Pol'!C280 -> Staveništní přesun hmot | E12: ='SO 01 SO 01 Pol'!BA282 -> 0 | F12: ='SO 01 SO 01 Pol'!BB282 -> 0 | G12: ='SO 01 SO 01 Pol'!BC282 -> 0 | H12: ='SO 01 SO 01 Pol'!BD282 -> 0 | I12: ='SO 01 SO 01 Pol'!BE282 -> 0
A13: ='SO 01 SO 01 Pol'!B283 -> 764 | B13: ='SO 01 SO 01 Pol'!C283 -> Konstrukce klempířské | E13: ='SO 01 SO 01 Pol'!BA313 -> 0 | F13: ='SO 01 SO 01 Pol'!BB313 -> 0 | G13: ='SO 01 SO 01 Pol'!BC313 -> 0 | H13: ='SO 01 SO 01 Pol'!BD313 -> 0 | I13: ='SO 01 SO 01 Pol'!BE313 -> 0
A14: ='SO 01 SO 01 Pol'!B314 -> 766 | B14: ='SO 01 SO 01 Pol'!C314 -> Konstrukce truhlářské | E14: ='SO 01 SO 01 Pol'!BA339 -> 0 | F14: ='SO 01 SO 01 Pol'!BB339 -> 0 | G14: ='SO 01 SO 01 Pol'!BC339 -> 0 | H14: ='SO 01 SO 01 Pol'!BD339 -> 0 | I14: ='SO 01 SO 01 Pol'!BE339 -> 0
A15: ='SO 01 SO 01 Pol'!B340 -> 767 | B15: ='SO 01 SO 01 Pol'!C340 -> Konstrukce zámečnické | E15: ='SO 01 SO 01 Pol'!BA377 -> 0 | F15: ='SO 01 SO 01 Pol'!BB377 -> 0 | G15: ='SO 01 SO 01 Pol'!BC377 -> 0 | H15: ='SO 01 SO 01 Pol'!BD377 -> 0 | I15: ='SO 01 SO 01 Pol'!BE377 -> 0
A16: ='SO 01 SO 01 Pol'!B378 -> 784 | B16: ='SO 01 SO 01 Pol'!C378 -> Malby | E16: ='SO 01 SO 01 Pol'!BA427 -> 0 | F16: ='SO 01 SO 01 Pol'!BB427 -> 0 | G16: ='SO 01 SO 01 Pol'!BC427 -> 0 | H16: ='SO 01 SO 01 Pol'!BD427 -> 0 | I16: ='SO 01 SO 01 Pol'!BE427 -> 0
A17: ='SO 01 SO 01 Pol'!B428 -> D96 | B17: ='SO 01 SO 01 Pol'!C428 -> Přesuny suti a vybouraných hmot | E17: ='SO 01 SO 01 Pol'!BA434 -> 0 | F17: ='SO 01 SO 01 Pol'!BB434 -> 0 | G17: ='SO 01 SO 01 Pol'!BC434 -> 0 | H17: ='SO 01 SO 01 Pol'!BD434 -> 0 | I17: ='SO 01 SO 01 Pol'!BE434 -> 0
B18: CELKEM OBJEKT | E18: =SUM(E7:E17) -> 0 | F18: =SUM(F7:F17) -> 0 | G18: =SUM(G7:G17) -> 0 | H18: =SUM(H7:H17) -> 0 | I18: =SUM(I7:I17) -> 0
A20: VEDLEJŠÍ ROZPOČTOVÉ NÁKLADY
A22: Název VRN | E22: Kč | F22: % | G22: Základna | I22: Kč
A23: Ztížené výrobní podmínky | G23: 0 | I23: =E23+F23*G23/100 -> 0 | BA23: 0
A24: Oborová přirážka | G24: 0 | I24: =E24+F24*G24/100 -> 0 | BA24: 0
A25: Přesun stavebních kapacit | G25: 0 | I25: =E25+F25*G25/100 -> 0 | BA25: 0
A26: Mimostaveništní doprava | G26: 0 | I26: =E26+F26*G26/100 -> 0 | BA26: 0
A27: Zařízení staveniště | G27: 0 | I27: =E27+F27*G27/100 -> 0 | BA27: 1
A28: Provoz investora | G28: 0 | I28: =E28+F28*G28/100 -> 0 | BA28: 1
A29: Kompletační činnost (IČD) | G29: 0 | I29: =E29+F29*G29/100 -> 0 | BA29: 2
A30: Rezerva rozpočtu | G30: 0 | I30: =E30+F30*G30/100 -> 0 | BA30: 2
B31: CELKEM VRN | H31: =SUM(I23:I30) -> 0

Sheet SO 01 SO 01 Pol
A1: Slepý rozpočet
A3: Stavba : | C3: 01 Zateplení budovy muzea Brumov-Bylnice | E3: Rozpočet: | F3: ='SO 01 SO 01 Rek'!H1 -> SO 01
A4: Objekt : | C4: SO 01 Výměna oken a dveří | E4: ='SO 01 SO 01 Rek'!G2 -> Výměna oken a dveří
A6: P.č. | B6: Číslo položky | C6: Název položky | D6: MJ | E6: množství | F6: cena / MJ | G6: celkem (Kč) | H6: Jednotková hmotnost | I6: Celková hmotnost | J6: Jednotková dem.hmot. | K6: Celková dem.hmot.
A7: Díl: | B7: 61 | C7: Upravy povrchů vnitřní | O7: 1
A8: 1 | B8: 612425931R00 | C8: Omítka vápenná vnitřního ostění - štuková | D8: m2 | E8: 120.4276 | F8: 0 | G8: =E8*F8 -> 0 | H8: 0.057 | I8: =E8*H8 -> 6.8643732 | J8: 0 | K8: =E8*J8 -> 0 | O8: 2 | AA8: 1 | AB8: 1 | AC8: 1 | AZ8: 1 | BA8: =IF(AZ8=1,G8,0) -> 0 | BB8: =IF(AZ8=2,G8,0) -> 0 | BC8: =IF(AZ8=3,G8,0) -> 0 | BD8: =IF(AZ8=4,G8,0) -> 0 | BE8: =IF(AZ8=5,G8,0) -> 0 | CA8: 1 | CB8: 1
C9: T1:(2,28+1,30)*2*5*0,45 | E9: 16.11 | M9: T1:(2,28+1,30)*2*5*0,45
C10: T2:(1,20+1,35)*2*2*0,45 | E10: 4.59 | M10: T2:(1,20+1,35)*2*2*0,45
C11: T3:(0,56+0,95)*2*2*0,45 | E11: 2.718 | M11: T3:(0,56+0,95)*2*2*0,45
C12: T4:(0,72+1,00)*2*4*0,45 | E12: 6.192 | M12: T4:(0,72+1,00)*2*4*0,45
C13: T5:(1,38+1,30)*2*1*0,45 | E13: 2.412 | M13: T5:(1,38+1,30)*2*1*0,45
C14: T6:(1,17+2,10)*2*1*0,45 | E14: 2.943 | M14: T6:(1,17+2,10)*2*1*0,45
C15: T7:(1,00+2,10)*2*1*0,45 | E15: 2.79 | M15: T7:(1,00+2,10)*2*1*0,45
C16: T8:(2,01+1,84)*4*0,45 | E16: 6.93 | M16: T8:(2,01+1,84)*4*0,45
C17: T9:(1,44*1,84)*2*4*0,45 | E17: 9.5386 | M17: T9:(1,44*1,84)*2*4*0,45
C18: T10:(1,18+1,57)*2*2*0,45 | E18: 4.95 | M18: T10:(1,18+1,57)*2*2*0,45
C19: T11:(1,73+1,00)*2*2*0,45 | E19: 4.914 | M19: T11:(1,73+1,00)*2*2*0,45
C20: T12:(1,22+1,00)*2*2*0,45 | E20: 3.996 | M20: T12:(1,22+1,00)*2*2*0,45
... C31: T23:(2,25+0,60)*2*1*0,45 | E31: 2.565 | M31: T23:(2,25+0,60)*2*1*0,45
B32: Celkem za | C32: 61 Upravy povrchů vnitřní | G32: =SUM(G7:G31) -> 0 | I32: =SUM(I7:I31) -> 6.8643732 | K32: =SUM(K7:K31) -> 0 | O32: 4 | BA32: =SUM(BA7:BA31) -> 0 | BB32: =SUM(BB7:BB31) -> 0 | BC32: =SUM(BC7:BC31) -> 0 | BD32: =SUM(BD7:BD31) -> 0 | BE32: =SUM(BE7:BE31) -> 0
A33: Díl: | B33: 62 | C33: Úpravy povrchů vnější | O33: 1
A34: 2 | B34: 629451112R00 | C34: Vyrovnávací vrstva MC šířky do 50 cm | D34: m | E34: 60.39 | F34: 0 | G34: =E34*F34 -> 0 | H34: 0.0212 | I34: =E34*H34 -> 1.280268 | J34: 0 | K34: =E34*J34 -> 0 | O34: 2 | AA34: 1 | AB34: 0 | AC34: 0 | AZ34: 1 | BA34: =IF(AZ34=1,G34,0) -> 0 | BB34: =IF(AZ34=2,G34,0) -> 0 | BC34: =IF(AZ34=3,G34,0) -> 0 | BD34: =IF(AZ34=4,G34,0) -> 0 | BE34: =IF(AZ34=5,G34,0) -> 0 | CA34: 1 | CB34: 0
C35: T51:2,28*5 | E35: 11.4 | M35: T51:2,28*5
C36: T52:1,20*7 | E36: 8.4 | M36: T52:1,20*7
C37: T53:0,56*2 | E37: 1.12 | M37: T53:0,56*2
C38: T54:0,72*4 | E38: 2.88 | M38: T54:0,72*4
C39: T55:1,38*1 | E39: 1.38 | M39: T55:1,38*1
C40: T56:2,01*4 | E40: 8.04 | M40: T56:2,01*4
C41: T57:1,44*4 | E41: 5.76 | M41: T57:1,44*4
C42: T58:1,73*2 | E42: 3.46 | M42: T58:1,73*2
C43: T59:1,30*4 | E43: 5.2 | M43: T59:1,30*4
C44: T60:1,25*3 | E44: 3.75 | M44: T60:1,25*3
C45: T61:2,25*4 | E45: 9 | M45: T61:2,25*4
B46: Celkem za | C46: 62 Úpravy povrchů vnější | G46: =SUM(G33:G45) -> 0 | I46: =SUM(I33:I45) -> 1.280268 | K46: =SUM(K33:K45) -> 0 | O46: 4 | BA46: =SUM(BA33:BA45) -> 0 | BB46: =SUM(BB33:BB45) -> 0 | BC46: =SUM(BC33:BC45) -> 0 | BD46: =SUM(BD33:BD45) -> 0 | BE46: =SUM(BE33:BE45) -> 0
A47: Díl: | B47: 64 | C47: Výplně otvorů | O47: 1
A48: 3 | B48: 641952211R00 | C48: Osazení rámů okenních dřevěných, vč.vnitř.. a venk napojení na obv.plášť | D48: kus | E48: 44 | F48: 0 | G48: =E48*F48 -> 0 | H48: 0.04128 | I48: =E48*H48 -> 1.81632 | J48: 0 | K48: =E48*J48 -> 0 | O48: 2 | AA48: 1 | AB48: 1 | AC48: 1 | AZ48: 1 | BA48: =IF(AZ48=1,G48,0) -> 0 | BB48: =IF(AZ48=2,G48,0) -> 0 | BC48: =IF(AZ48=3,G48,0) -> 0 | BD48: =IF(AZ48=4,G48,0) -> 0 | BE48: =IF(AZ48=5,G48,0) -> 0 | CA48: 1 | CB48: 1
C49: T1:5 | E49: 5 | M49: T1:5
C50: T2:2 | E50: 2 | M50: T2:2
C51: T3:2 | E51: 2 | M51: T3:2
C52: T4:4 | E52: 4 | M52: T4:4
...

Sheet SO 02 SO 02.2 KL
A1: SLEPÝ ROZPOČET
A2: Rozpočet | C2: SO 02.2 | D2: Zateplení fasády | F2: JKSO
A4: Objekt | F4: SKP
A5: SO 02 | C5: Zateplení fasády | F5: Měrná jednotka
A6: Stavba | F6: Počet jednotek
A7: 01 | C7: Zateplení budovy muzea Brumov-Bylnice | F7: Náklady na m.j. | G7: =IF(G6=0,,ROUND((F30+F32)/G6,1)) -> 0
A8: Projektant | F8: Typ rozpočtu
A9: Zpracovatel projektu
A10: Objednatel
A11: Dodavatel | F11: Zakázkové číslo
A12: Rozpočtoval | F12: Počet listů
A13: ROZPOČTOVÉ NÁKLADY
A14: Základní rozpočtové náklady | D14: Ostatní rozpočtové náklady
B15: HSV celkem | C15: ='SO 02 SO 02.2 Rek'!E20 -> 0 | D15: ='SO 02 SO 02.2 Rek'!A25 -> Ztížené výrobní podmínky | G15: ='SO 02 SO 02.2 Rek'!I25 -> 0
A16: Z | B16: PSV celkem | C16: ='SO 02 SO 02.2 Rek'!F20 -> 0 | D16: ='SO 02 SO 02.2 Rek'!A26 -> Oborová přirážka | G16: ='SO 02 SO 02.2 Rek'!I26 -> 0
A17: R | B17: M práce celkem | C17: ='SO 02 SO 02.2 Rek'!H20 -> 0 | D17: ='SO 02 SO 02.2 Rek'!A27 -> Přesun stavebních kapacit | G17: ='SO 02 SO 02.2 Rek'!I27 -> 0
A18: N | B18: M dodávky celkem | C18: ='SO 02 SO 02.2 Rek'!G20 -> 0 | D18: ='SO 02 SO 02.2 Rek'!A28 -> Mimostaveništní doprava | G18: ='SO 02 SO 02.2 Rek'!I28 -> 0
A19: ZRN celkem | C19: =SUM(C15:C18) -> 0 | D19: ='SO 02 SO 02.2 Rek'!A29 -> Zařízení staveniště | G19: ='SO 02 SO 02.2 Rek'!I29 -> 0
D20: ='SO 02 SO 02.2 Rek'!A30 -> Provoz investora | G20: ='SO 02 SO 02.2 Rek'!I30 -> 0
A21: HZS | C21: ='SO 02 SO 02.2 Rek'!I20 -> 0 | D21: ='SO 02 SO 02.2 Rek'!A31 -> Kompletační činnost (IČD) | G21: ='SO 02 SO 02.2 Rek'!I31 -> 0
A22: ZRN+HZS | C22: =C19+C21 -> 0 | D22: Ostatní náklady neuvedené | G22: =G23-SUM(G15:G21) -> 0
A23: ZRN+ost.náklady+HZS | C23: =C22+G23 -> 0 | D23: Ostatní náklady celkem | G23: ='SO 02 SO 02.2 Rek'!H33 -> 0
A24: Vypracoval | D24: Za zhotovitele | F24: Za objednatele
A25: Jméno : | D25: Jméno : | F25: Jméno :
A26: Datum : | D26: Datum : | F26: Datum :
A28: Podpis : | D28: Podpis: | F28: Podpis:
A30: Základ pro DPH | C30: 21 | D30: % | F30: =C23-F32 -> 0
A31: DPH | C31: =C30 -> 21 | D31: % | F31: =ROUND(PRODUCT(F30,C31/100),0) -> 0
A32: Základ pro DPH | C32: 0 | D32: % | F32: 0
A33: DPH | C33: =C32 -> 0 | D33: % | F33: =ROUND(PRODUCT(F32,C33/100),0) -> 0
A34: CENA ZA OBJEKT CELKEM | F34: =ROUND(SUM(F30:F33),0) -> 0
A36: Poznámka :
B37: Nedílnou součástí PD je výkresová část s technickou zprávou a výpisy prvků jednotlivých částí. Cena stanovena dle RTS. Je nutné zrealizovat odtrhové zkoušky! Kvalitativní třída ETICS A, kotvy zapuštěné! Dodavatel může použít polystyren (izolant) o vyšší pevnosti než je předepsána a tepelně izolační vlastnosti mohou mít součinitel prostupu tepla lepší než je předepsáno v projektové dokumentaci.

Sheet SO 02 SO 02.2 Rek
A1: Stavba : | C1: 01 Zateplení budovy muzea Brumov-Bylnice | G1: Rozpočet : | H1: SO 02.2
A2: Objekt : | C2: SO 02 Zateplení fasády | G2: Zateplení fasády
A4: REKAPITULACE STAVEBNÍCH DÍLŮ
B6: Stavební díl | E6: HSV | F6: PSV | G6: Dodávka | H6: Montáž | I6: HZS
A7: ='SO 02 SO 02.2 Pol'!B7 -> 3 | B7: ='SO 02 SO 02.2 Pol'!C7 -> Svislé a kompletní konstrukce | E7: ='SO 02 SO 02.2 Pol'!BA13 -> 0 | F7: ='SO 02 SO 02.2 Pol'!BB13 -> 0 | G7: ='SO 02 SO 02.2 Pol'!BC13 -> 0 | H7: ='SO 02 SO 02.2 Pol'!BD13 -> 0 | I7: ='SO 02 SO 02.2 Pol'!BE13 -> 0
A8: ='SO 02 SO 02.2 Pol'!B14 -> 61 | B8: ='SO 02 SO 02.2 Pol'!C14 -> Upravy povrchů vnitřní | E8: ='SO 02 SO 02.2 Pol'!BA17 -> 0 | F8: ='SO 02 SO 02.2 Pol'!BB17 -> 0 | G8: ='SO 02 SO 02.2 Pol'!BC17 -> 0 | H8: ='SO 02 SO 02.2 Pol'!BD17 -> 0 | I8: ='SO 02 SO 02.2 Pol'!BE17 -> 0
A9: ='SO 02 SO 02.2 Pol'!B18 -> 62 | B9: ='SO 02 SO 02.2 Pol'!C18 -> Úpravy povrchů vnější | E9: ='SO 02 SO 02.2 Pol'!BA196 -> 0 | F9: ='SO 02 SO 02.2 Pol'!BB196 -> 0 | G9: ='SO 02 SO 02.2 Pol'!BC196 -> 0 | H9: ='SO 02 SO 02.2 Pol'!BD196 -> 0 | I9: ='SO 02 SO 02.2 Pol'!BE196 -> 0
A10: ='SO 02 SO 02.2 Pol'!B197 -> 94 | B10: ='SO 02 SO 02.2 Pol'!C197 -> Lešení a stavební výtahy | E10: ='SO 02 SO 02.2 Pol'!BA207 -> 0 | F10: ='SO 02 SO 02.2 Pol'!BB207 -> 0 | G10: ='SO 02 SO 02.2 Pol'!BC207 -> 0 | H10: ='SO 02 SO 02.2 Pol'!BD207 -> 0 | I10: ='SO 02 SO 02.2 Pol'!BE207 -> 0
A11: ='SO 02 SO 02.2 Pol'!B208 -> 96 | B11: ='SO 02 SO 02.2 Pol'!C208 -> Bourání konstrukcí | E11: ='SO 02 SO 02.2 Pol'!BA212 -> 0 | F11: ='SO 02 SO 02.2 Pol'!BB212 -> 0 | G11: ='SO 02 SO 02.2 Pol'!BC212 -> 0 | H11: ='SO 02 SO 02.2 Pol'!BD212 -> 0 | I11: ='SO 02 SO 02.2 Pol'!BE212 -> 0
A12: ='SO 02 SO 02.2 Pol'!B213 -> 97 | B12: ='SO 02 SO 02.2 Pol'!C213 -> Prorážení otvorů | E12: ='SO 02 SO 02.2 Pol'!BA218 -> 0 | F12: ='SO 02 SO 02.2 Pol'!BB218 -> 0 | G12: ='SO 02 SO 02.2 Pol'!BC218 -> 0 | H12: ='SO 02 SO 02.2 Pol'!BD218 -> 0 | I12: ='SO 02 SO 02.2 Pol'!BE218 -> 0
A13: ='SO 02 SO 02.2 Pol'!B219 -> 98 | B13: ='SO 02 SO 02.2 Pol'!C219 -> Demolice | E13: ='SO 02 SO 02.2 Pol'!BA221 -> 0 | F13: ='SO 02 SO 02.2 Pol'!BB221 -> 0 | G13: ='SO 02 SO 02.2 Pol'!BC221 -> 0 | H13: ='SO 02 SO 02.2 Pol'!BD221 -> 0 | I13: ='SO 02 SO 02.2 Pol'!BE221 -> 0
A14: ='SO 02 SO 02.2 Pol'!B222 -> 99 | B14: ='SO 02 SO 02.2 Pol'!C222 -> Staveništní přesun hmot | E14: ='SO 02 SO 02.2 Pol'!BA224 -> 0 | F14: ='SO 02 SO 02.2 Pol'!BB224 -> 0 | G14: ='SO 02 SO 02.2 Pol'!BC224 -> 0 | H14: ='SO 02 SO 02.2 Pol'!BD224 -> 0 | I14: ='SO 02 SO 02.2 Pol'!BE224 -> 0
A15: ='SO 02 SO 02.2 Pol'!B225 -> 713 | B15: ='SO 02 SO 02.2 Pol'!C225 -> Izolace tepelné | E15: ='SO 02 SO 02.2 Pol'!BA231 -> 0 | F15: ='SO 02 SO 02.2 Pol'!BB231 -> 0 | G15: ='SO 02 SO 02.2 Pol'!BC231 -> 0 | H15: ='SO 02 SO 02.2 Pol'!BD231 -> 0 | I15: ='SO 02 SO 02.2 Pol'!BE231 -> 0
A16: ='SO 02 SO 02.2 Pol'!B232 -> 764 | B16: ='SO 02 SO 02.2 Pol'!C232 -> Konstrukce klempířské | E16: ='SO 02 SO 02.2 Pol'!BA258 -> 0 | F16: ='SO 02 SO 02.2 Pol'!BB258 -> 0 | G16: ='SO 02 SO 02.2 Pol'!BC258 -> 0 | H16: ='SO 02 SO 02.2 Pol'!BD258 -> 0 | I16: ='SO 02 SO 02.2 Pol'!BE258 -> 0
A17: ='SO 02 SO 02.2 Pol'!B259 -> 767 | B17: ='SO 02 SO 02.2 Pol'!C259 -> Konstrukce zámečnické | E17: ='SO 02 SO 02.2 Pol'!BA271 -> 0 | F17: ='SO 02 SO 02.2 Pol'!BB271 -> 0 | G17: ='SO 02 SO 02.2 Pol'!BC271 -> 0 | H17: ='SO 02 SO 02.2 Pol'!BD271 -> 0 | I17: ='SO 02 SO 02.2 Pol'!BE271 -> 0
A18: ='SO 02 SO 02.2 Pol'!B272 -> 784 | B18: ='SO 02 SO 02.2 Pol'!C272 -> Malby | E18: ='SO 02 SO 02.2 Pol'!BA277 -> 0 | F18: ='SO 02 SO 02.2 Pol'!BB277 -> 0 | G18: ='SO 02 SO 02.2 Pol'!BC277 -> 0 | H18: ='SO 02 SO 02.2 Pol'!BD277 -> 0 | I18: ='SO 02 SO 02.2 Pol'!BE277 -> 0
A19: ='SO 02 SO 02.2 Pol'!B278 -> D96 | B19: ='SO 02 SO 02.2 Pol'!C278 -> Přesuny suti a vybouraných hmot | E19: ='SO 02 SO 02.2 Pol'!BA284 -> 0 | F19: ='SO 02 SO 02.2 Pol'!BB284 -> 0 | G19: ='SO 02 SO 02.2 Pol'!BC284 -> 0 | H19: ='SO 02 SO 02.2 Pol'!BD284 -> 0 | I19: ='SO 02 SO 02.2 Pol'!BE284 -> 0
B20: CELKEM OBJEKT | E20: =SUM(E7:E19) -> 0 | F20: =SUM(F7:F19) -> 0 | G20: =SUM(G7:G19) -> 0 | H20: =SUM(H7:H19) -> 0 | I20: =SUM(I7:I19) -> 0
A22: VEDLEJŠÍ ROZPOČTOVÉ NÁKLADY
A24: Název VRN | E24: Kč | F24: % | G24: Základna | I24: Kč
A25: Ztížené výrobní podmínky | G25: 0 | I25: =E25+F25*G25/100 -> 0 | BA25: 0
A26: Oborová přirážka | G26: 0 | I26: =E26+F26*G26/100 -> 0 | BA26: 0
A27: Přesun stavebních kapacit | G27: 0 | I27: =E27+F27*G27/100 -> 0 | BA27: 0
A28: Mimostaveništní doprava | G28: 0 | I28: =E28+F28*G28/100 -> 0 | BA28: 0
A29: Zařízení staveniště | G29: 0 | I29: =E29+F29*G29/100 -> 0 | BA29: 1
A30: Provoz investora | G30: 0 | I30: =E30+F30*G30/100 -> 0 | BA30: 1
A31: Kompletační činnost (IČD) | G31: 0 | I31: =E31+F31*G31/100 -> 0 | BA31: 2
A32: Rezerva rozpočtu | G32: 0 | I32: =E32+F32*G32/100 -> 0 | BA32: 2
B33: CELKEM VRN | H33: =SUM(I25:I32) -> 0

Sheet SO 02 SO 02.2 Pol
A1: Slepý rozpočet
A3: Stavba : | C3: 01 Zateplení budovy muzea Brumov-Bylnice | E3: Rozpočet: | F3: ='SO 02 SO 02.2 Rek'!H1 -> SO 02.2
A4: Objekt : | C4: SO 02 Zateplení fasády | E4: ='SO 02 SO 02.2 Rek'!G2 -> Zateplení fasády
A6: P.č. | B6: Číslo položky | C6: Název položky | D6: MJ | E6: množství | F6: cena / MJ | G6: celkem (Kč) | H6: Jednotková hmotnost | I6: Celková hmotnost | J6: Jednotková dem.hmot. | K6: Celková dem.hmot.
A7: Díl: | B7: 3 | C7: Svislé a kompletní konstrukce | O7: 1
A8: 1 | B8: 311271858R00 | C8: Zdivo z tvár.pórobet. P3-520 hladkých tl.500 | D8: m2 | E8: 3.5816 | F8: 0 | G8: =E8*F8 -> 0 | H8: 0.40513 | I8: =E8*H8 -> 1.4510136 | J8: 0 | K8: =E8*J8 -> 0 | O8: 2 | AA8: 1 | AB8: 1 | AC8: 1 | AZ8: 1 | BA8: =IF(AZ8=1,G8,0) -> 0 | BB8: =IF(AZ8=2,G8,0) -> 0 | BC8: =IF(AZ8=3,G8,0) -> 0 | BD8: =IF(AZ8=4,G8,0) -> 0 | BE8: =IF(AZ8=5,G8,0) -> 0 | CA8: 1 | CB8: 1
C9: otvory po demontáži výtahové šachty:0,88*1,85*2*1,10 | E9: 3.5816 | M9: otvory po demontáži výtahové šachty:0,88*1,85*2*1,10
A10: 2 | B10: 319201311R00 | C10: Vyrovnání povrchu zdiva maltou | D10: m2 | E10: 339.9539 | F10: 0 | G10: =E10*F10 -> 0 | H10: 0.03767 | I10: =E10*H10 -> 12.806063 | J10: 0 | K10: =E10*J10 -> 0 | O10: 2 | AA10: 1 | AB10: 1 | AC10: 1 | AZ10: 1 | BA10: =IF(AZ10=1,G10,0) -> 0 | BB10: =IF(AZ10=2,G10,0) -> 0 | BC10: =IF(AZ10=3,G10,0) -> 0 | BD10: =IF(AZ10=4,G10,0) -> 0 | BE10: =IF(AZ10=5,G10,0) -> 0 | CA10: 1 | CB10: 1
C11: soklová část obvodové konstrukce:(10,15+6,97+4,46+13,1+17,12+17,56)*1,10*0,40 | E11: 30.5184 | M11: soklová část obvodové konstrukce:(10,15+6,97+4,46+13,1+17,12+17,56)*1,10*0,40
C12: Obvodová konstrukce SO1, SO2, SO3, SO4 vč. 10% prořezu-odhad z 50%:562,61*1,10*0,5 | E12: 309.4355 | M12: Obvodová konstrukce SO1, SO2, SO3, SO4 vč. 10% prořezu-odhad z 50%:562,61*1,10*0,5
B13: Celkem za | C13: 3 Svislé a kompletní konstrukce | G13: =SUM(G7:G12) -> 0 | I13: =SUM(I7:I12) -> 14.257077 | K13: =SUM(K7:K12) -> 0 | O13: 4 | BA13: =SUM(BA7:BA12) -> 0 | BB13: =SUM(BB7:BB12) -> 0 | BC13: =SUM(BC7:BC12) -> 0 | BD13: =SUM(BD7:BD12) -> 0 | BE13: =SUM(BE7:BE12) -> 0
A14: Díl: | B14: 61 | C14: Upravy povrchů vnitřní | O14: 1
A15: 3 | B15: 612421637R00 | C15: Omítka vnitřní zdiva, MVC, štuková | D15: m2 | E15: 3.5816 | F15: 0 | G15: =E15*F15 -> 0 | H15: 0.04766 | I15: =E15*H15 -> 0.17069906 | J15: 0 | K15: =E15*J15 -> 0 | O15: 2 | AA15: 1 | AB15: 1 | AC15: 1 | AZ15: 1 | BA15: =IF(AZ15=1,G15,0) -> 0 | BB15: =IF(AZ15=2,G15,0) -> 0 | BC15: =IF(AZ15=3,G15,0) -> 0 | BD15: =IF(AZ15=4,G15,0) -> 0 | BE15: =IF(AZ15=5,G15,0) -> 0 | CA15: 1 | CB15: 1
C16: otvory po demontáži výtahové šachty:0,88*1,85*2*1,10 | E16: 3.5816 | M16: otvory po demontáži výtahové šachty:0,88*1,85*2*1,10
B17: Celkem za | C17: 61 Upravy povrchů vnitřní | G17: =SUM(G14:G16) -> 0 | I17: =SUM(I14:I16) -> 0.17069906 | K17: =SUM(K14:K16) -> 0 | O17: 4 | BA17: =SUM(BA14:BA16) -> 0 | BB17: =SUM(BB14:BB16) -> 0 | BC17: =SUM(BC14:BC16) -> 0 | BD17: =SUM(BD14:BD16) -> 0 | BE17: =SUM(BE14:BE16) -> 0
A18: Díl: | B18: 62 | C18: Úpravy povrchů vnější | O18: 1
A19: 4 | B19: 620471811U00 | C19: Nátěr základní penetrační | D19: m2 | E19: 649.3894 | F19: 0 | G19: =E19*F19 -> 0 | H19: 0.00025 | I19: =E19*H19 -> 0.16234735 | J19: 0 | K19: =E19*J19 -> 0 | O19: 2 | AA19: 1 | AB19: 1 | AC19: 1 | AZ19: 1 | BA19: =IF(AZ19=1,G19,0) -> 0 | BB19: =IF(AZ19=2,G19,0) -> 0 | BC19: =IF(AZ19=3,G19,0) -> 0 | BD19: =IF(AZ19=4,G19,0) -> 0 | BE19: =IF(AZ19=5,G19,0) -> 0 | CA19: 1 | CB19: 1
C20: Obvodová konstrukce SO1, SO2, SO3, SO4 vč. 10% prořezu:562,61*1,10 | E20: 618.871 | M20: Obvodová konstrukce SO1, SO2, SO3, SO4 vč. 10% prořezu:562,61*1,10
C21: soklová část obvodové konstrukce:(10,15+6,97+4,46+13,1+17,12+17,56)*1,10*0,40 | E21: 30.5184 | M21: soklová část obvodové konstrukce:(10,15+6,97+4,46+13,1+17,12+17,56)*1,10*0,40
A22: 5 | B22: 620991121R00 | C22: Zakrývání výplní vnějších otvorů z lešení | D22: m2 | E22: 105.3144 | F22: 0 | G22: =E22*F22 -> 0 | H22: 0 | I22: =E22*H22 -> 0 | J22: 0 | K22: =E22*J22 -> 0 | O22: 2 | AA22: 1 | AB22: 1 | AC22: 1 | AZ22: 1 | BA22: =IF(AZ22=1,G22,0) -> 0 | BB22: =IF(AZ22=2,G22,0) -> 0 | BC22: =IF(AZ22=3,G22,0) -> 0 | BD22: =IF(AZ22=4,G22,0) -> 0 | BE22: =IF(AZ22=5,G22,0) -> 0 | CA22: 1 | CB22: 1
C23: T1:2,28*1,30*5 | E23: 14.82 | M23: T1:2,28*1,30*5
C24: T2:1,20*1,35*2 | E24: 3.24 | M24: T2:1,20*1,35*2
C25: T3:0,56*0,95*2 | E25: 1.064 | M25: T3:0,56*0,95*2
C26: T4:0,72*1,00*4 | E26: 2.88 | M26: T4:0,72*1,00*4
C27: T5:1,38*1,30*1 | E27: 1.794 | M27: T5:1,38*1,30*1
C28: T6:1,17*2,10*1 | E28: 2.457 | M28: T6:1,17*2,10*1
C29: T7:1,00*2,10*1 | E29: 2.1 | M29: T7:1,00*2,10*1
C30: T8:2,01*1,84*4 | E30: 14.7936 | M30: T8:2,01*1,84*4
C31: T9:1,44*1,84*4 | E31: 10.5984 | M31: T9:1,44*1,84*4
C32: T10:1,18*1,57*2 | E32: 3.7052 | M32: T10:1,18*1,57*2
C33: T11:1,73*1,00*2 | E33: 3.46 | M33: T11:1,73*1,00*2
C34: T12:1,22*1,00*2 | E34: 2.44 | M34: T12:1,22*1,00*2
... C45: T23:2,25*0,60*1 | E45: 1.35 | M45: T23:2,25*0,60*1
A46: 6 | B46: 622319014R00 | C46: Soklová lišta hliník tl. 140 mm | D46: m | E46: 76.296 | F46: 0 | G46: =E46*F46 -> 0 | H46: 0.0008 | I46: =E46*H46 -> 0.0610368 | J46: 0 | K46: =E46*J46 -> 0 | O46: 2 | AA46: 1 | AB46: 1 | AC46: 1 | AZ46: 1 | BA46: =IF(AZ46=1,G46,0) -> 0 | BB46: =IF(AZ46=2,G46,0) -> 0 | BC46: =IF(AZ46=3,G46,0) -> 0 | BD46: =IF(AZ46=4,G46,0) -> 0 | BE46: =IF(AZ46=5,G46,0) -> 0 | CA46: 1 | CB46: 1
C47: (10,15+6,97+4,46+13,1+17,12+17,56)*1,10 | E47: 76.296 | M47: (10,15+6,97+4,46+13,1+17,12+17,56)*1,10
A48: 7 | B48: 622319154R00 | C48: Zateplovací systém, ostění, EPS 70 F (šedý) t40 mm s omíkovinou dle TZ, lambda 0,032, probarvená | D48: m2 | E48: 46.352 | F48: 0 | G48: =E48*F48 -> 0 | H48: 0.0138 | I48: =E48*H48 -> 0.6396576 | J48: 0 | K48: =E48*J48 -> 0 | O48: 2 | AA48: 1 | AB48: 1 | AC48: 1 | AZ48: 1 | BA48: =IF(AZ48=1,G48,0) -> 0 | BB48: =IF(AZ48=2,G48,0) -> 0 | BC48: =IF(AZ48=3,G48,0) -> 0 | BD48: =IF(AZ48=4,G48,0) -> 0 | BE48: =IF(AZ48=5,G48,0) -> 0 | CA48: 1 | CB48: 1
C49: T1:(2,28*1+2*1,30)*5*0,2 | E49: 4.88 | M49: T1:(2,28*1+2*1,30)*5*0,2
C50: T2:(1,20*1+2*1,35)*2*0,2 | E50: 1.56 | M50: T2:(1,20*1+2*1,35)*2*0,2
C51: T3:(0,56*1+2*0,95)*2*0,2 | E51: 0.984 | M51: T3:(0,56*1+2*0,95)*2*0,2
C52: T4:(0,72*1+2*1,00)*4*0,2 | E52: 2.176 | M52: T4:(0,72*1+2*1,00)*4*0,2
...

Sheet SO 03 SO 03 KL
A1: SLEPÝ ROZPOČET
A2: Rozpočet | C2: SO 03 | D2: Zateplení ploché střechy | F2: JKSO
A4: Objekt | F4: SKP
A5: SO 03 | C5: Zateplení ploché střechy | F5: Měrná jednotka
A6: Stavba | F6: Počet jednotek
A7: 01 | C7: Zateplení budovy muzea Brumov-Bylnice | F7: Náklady na m.j. | G7: =IF(G6=0,,ROUND((F30+F32)/G6,1)) -> 0
A8: Projektant | F8: Typ rozpočtu
A9: Zpracovatel projektu
A10: Objednatel
A11: Dodavatel | F11: Zakázkové číslo
A12: Rozpočtoval | F12: Počet listů
A13: ROZPOČTOVÉ NÁKLADY
A14: Základní rozpočtové náklady | D14: Ostatní rozpočtové náklady
B15: HSV celkem | C15: ='SO 03 SO 03 Rek'!E15 -> 0 | D15: ='SO 03 SO 03 Rek'!A20 -> Ztížené výrobní podmínky | G15: ='SO 03 SO 03 Rek'!I20 -> 0
A16: Z | B16: PSV celkem | C16: ='SO 03 SO 03 Rek'!F15 -> 0 | D16: ='SO 03 SO 03 Rek'!A21 -> Oborová přirážka | G16: ='SO 03 SO 03 Rek'!I21 -> 0
A17: R | B17: M práce celkem | C17: ='SO 03 SO 03 Rek'!H15 -> 0 | D17: ='SO 03 SO 03 Rek'!A22 -> Přesun stavebních kapacit | G17: ='SO 03 SO 03 Rek'!I22 -> 0
A18: N | B18: M dodávky celkem | C18: ='SO 03 SO 03 Rek'!G15 -> 0 | D18: ='SO 03 SO 03 Rek'!A23 -> Mimostaveništní doprava | G18: ='SO 03 SO 03 Rek'!I23 -> 0
A19: ZRN celkem | C19: =SUM(C15:C18) -> 0 | D19: ='SO 03 SO 03 Rek'!A24 -> Zařízení staveniště | G19: ='SO 03 SO 03 Rek'!I24 -> 0
D20: ='SO 03 SO 03 Rek'!A25 -> Provoz investora | G20: ='SO 03 SO 03 Rek'!I25 -> 0
A21: HZS | C21: ='SO 03 SO 03 Rek'!I15 -> 0 | D21: ='SO 03 SO 03 Rek'!A26 -> Kompletační činnost (IČD) | G21: ='SO 03 SO 03 Rek'!I26 -> 0
A22: ZRN+HZS | C22: =C19+C21 -> 0 | D22: Ostatní náklady neuvedené | G22: =G23-SUM(G15:G21) -> 0
A23: ZRN+ost.náklady+HZS | C23: =C22+G23 -> 0 | D23: Ostatní náklady celkem | G23: ='SO 03 SO 03 Rek'!H28 -> 0
A24: Vypracoval | D24: Za zhotovitele | F24: Za objednatele
A25: Jméno : | D25: Jméno : | F25: Jméno :
A26: Datum : | D26: Datum : | F26: Datum :
A28: Podpis : | D28: Podpis: | F28: Podpis:
A30: Základ pro DPH | C30: 21 | D30: % | F30: =C23-F32 -> 0
A31: DPH | C31: =C30 -> 21 | D31: % | F31: =ROUND(PRODUCT(F30,C31/100),0) -> 0
A32: Základ pro DPH | C32: 0 | D32: % | F32: 0
A33: DPH | C33: =C32 -> 0 | D33: % | F33: =ROUND(PRODUCT(F32,C33/100),0) -> 0
A34: CENA ZA OBJEKT CELKEM | F34: =ROUND(SUM(F30:F33),0) -> 0
A36: Poznámka :
B37: Nedílnou součástí PD je výkresová část s technickou zprávou a výpisy prvků jednotlivých částí. Cena stanovena dle RTS. Veškeré střešní vtoky systémové. Je nutné zrealizovat odtrhové zkoušky! Dodavatel může použít polystyren (izolant) o vyšší pevnosti než je předepsána a tepelně izolační vlastnosti mohou mít součinitel prostupu tepla lepší než je předepsáno v projektové dokumentaci.

Sheet SO 03 SO 03 Rek
A1: Stavba : | C1: 01 Zateplení budovy muzea Brumov-Bylnice | G1: Rozpočet : | H1: SO 03
A2: Objekt : | C2: SO 03 Zateplení ploché střechy | G2: Zateplení ploché střechy
A4: REKAPITULACE STAVEBNÍCH DÍLŮ
B6: Stavební díl | E6: HSV | F6: PSV | G6: Dodávka | H6: Montáž | I6: HZS
A7: ='SO 03 SO 03 Pol'!B7 -> 62 | B7: ='SO 03 SO 03 Pol'!C7 -> Úpravy povrchů vnější | E7: ='SO 03 SO 03 Pol'!BA20 -> 0 | F7: ='SO 03 SO 03 Pol'!BB20 -> 0 | G7: ='SO 03 SO 03 Pol'!BC20 -> 0 | H7: ='SO 03 SO 03 Pol'!BD20 -> 0 | I7: ='SO 03 SO 03 Pol'!BE20 -> 0
A8: ='SO 03 SO 03 Pol'!B21 -> 711 | B8: ='SO 03 SO 03 Pol'!C21 -> Izolace proti vodě | E8: ='SO 03 SO 03 Pol'!BA25 -> 0 | F8: ='SO 03 SO 03 Pol'!BB25 -> 0 | G8: ='SO 03 SO 03 Pol'!BC25 -> 0 | H8: ='SO 03 SO 03 Pol'!BD25 -> 0 | I8: ='SO 03 SO 03 Pol'!BE25 -> 0
A9: ='SO 03 SO 03 Pol'!B26 -> 712 | B9: ='SO 03 SO 03 Pol'!C26 -> Živičné krytiny | E9: ='SO 03 SO 03 Pol'!BA40 -> 0 | F9: ='SO 03 SO 03 Pol'!BB40 -> 0 | G9: ='SO 03 SO 03 Pol'!BC40 -> 0 | H9: ='SO 03 SO 03 Pol'!BD40 -> 0 | I9: ='SO 03 SO 03 Pol'!BE40 -> 0
A10: ='SO 03 SO 03 Pol'!B41 -> 713 | B10: ='SO 03 SO 03 Pol'!C41 -> Izolace tepelné | E10: ='SO 03 SO 03 Pol'!BA60 -> 0 | F10: ='SO 03 SO 03 Pol'!BB60 -> 0 | G10: ='SO 03 SO 03 Pol'!BC60 -> 0 | H10: ='SO 03 SO 03 Pol'!BD60 -> 0 | I10: ='SO 03 SO 03 Pol'!BE60 -> 0
A11: ='SO 03 SO 03 Pol'!B61 -> 721 | B11: ='SO 03 SO 03 Pol'!C61 -> Vnitřní kanalizace | E11: ='SO 03 SO 03 Pol'!BA64 -> 0 | F11: ='SO 03 SO 03 Pol'!BB64 -> 0 | G11: ='SO 03 SO 03 Pol'!BC64 -> 0 | H11: ='SO 03 SO 03 Pol'!BD64 -> 0 | I11: ='SO 03 SO 03 Pol'!BE64 -> 0
A12: ='SO 03 SO 03 Pol'!B65 -> 764 | B12: ='SO 03 SO 03 Pol'!C65 -> Konstrukce klempířské | E12: ='SO 03 SO 03 Pol'!BA74 -> 0 | F12: ='SO 03 SO 03 Pol'!BB74 -> 0 | G12: ='SO 03 SO 03 Pol'!BC74 -> 0 | H12: ='SO 03 SO 03 Pol'!BD74 -> 0 | I12: ='SO 03 SO 03 Pol'!BE74 -> 0
A13: ='SO 03 SO 03 Pol'!B75 -> 771 | B13: ='SO 03 SO 03 Pol'!C75 -> Podlahy z dlaždic a obklady | E13: ='SO 03 SO 03 Pol'!BA81 -> 0 | F13: ='SO 03 SO 03 Pol'!BB81 -> 0 | G13: ='SO 03 SO 03 Pol'!BC81 -> 0 | H13: ='SO 03 SO 03 Pol'!BD81 -> 0 | I13: ='SO 03 SO 03 Pol'!BE81 -> 0
A14: ='SO 03 SO 03 Pol'!B82 -> D96 | B14: ='SO 03 SO 03 Pol'!C82 -> Přesuny suti a vybouraných hmot | E14: ='SO 03 SO 03 Pol'!BA87 -> 0 | F14: ='SO 03 SO 03 Pol'!BB87 -> 0 | G14: ='SO 03 SO 03 Pol'!BC87 -> 0 | H14: ='SO 03 SO 03 Pol'!BD87 -> 0 | I14: ='SO 03 SO 03 Pol'!BE87 -> 0
B15: CELKEM OBJEKT | E15: =SUM(E7:E14) -> 0 | F15: =SUM(F7:F14) -> 0 | G15: =SUM(G7:G14) -> 0 | H15: =SUM(H7:H14) -> 0 | I15: =SUM(I7:I14) -> 0
A17: VEDLEJŠÍ ROZPOČTOVÉ NÁKLADY
A19: Název VRN | E19: Kč | F19: % | G19: Základna | I19: Kč
A20: Ztížené výrobní podmínky | G20: 0 | I20: =E20+F20*G20/100 -> 0 | BA20: 0
A21: Oborová přirážka | G21: 0 | I21: =E21+F21*G21/100 -> 0 | BA21: 0
A22: Přesun stavebních kapacit | G22: 0 | I22: =E22+F22*G22/100 -> 0 | BA22: 0
A23: Mimostaveništní doprava | G23: 0 | I23: =E23+F23*G23/100 -> 0 | BA23: 0
A24: Zařízení staveniště | G24: 0 | I24: =E24+F24*G24/100 -> 0 | BA24: 1
A25: Provoz investora | G25: 0 | I25: =E25+F25*G25/100 -> 0 | BA25: 1
A26: Kompletační činnost (IČD) | G26: 0 | I26: =E26+F26*G26/100 -> 0 | BA26: 2
A27: Rezerva rozpočtu | G27: 0 | I27: =E27+F27*G27/100 -> 0 | BA27: 2
B28: CELKEM VRN | H28: =SUM(I20:I27) -> 0

Sheet SO 03 SO 03 Pol
A1: Slepý rozpočet
A3: Stavba : | C3: 01 Zateplení budovy muzea Brumov-Bylnice | E3: Rozpočet: | F3: ='SO 03 SO 03 Rek'!H1 -> SO 03
A4: Objekt : | C4: SO 03 Zateplení ploché střechy | E4: ='SO 03 SO 03 Rek'!G2 -> Zateplení ploché střechy
A6: P.č. | B6: Číslo položky | C6: Název položky | D6: MJ | E6: množství | F6: cena / MJ | G6: celkem (Kč) | H6: Jednotková hmotnost | I6: Celková hmotnost | J6: Jednotková dem.hmot. | K6: Celková dem.hmot.
A7: Díl: | B7: 62 | C7: Úpravy povrchů vnější | O7: 1
A8: 1 | B8: 620471811U00 | C8: Nátěr základní penetrační | D8: m2 | E8: 18.7957 | F8: 0 | G8: =E8*F8 -> 0 | H8: 0.00025 | I8: =E8*H8 -> 0.004698925 | J8: 0 | K8: =E8*J8 -> 0 | O8: 2 | AA8: 1 | AB8: 1 | AC8: 1 | AZ8: 1 | BA8: =IF(AZ8=1,G8,0) -> 0 | BB8: =IF(AZ8=2,G8,0) -> 0 | BC8: =IF(AZ8=3,G8,0) -> 0 | BD8: =IF(AZ8=4,G8,0) -> 0 | BE8: =IF(AZ8=5,G8,0) -> 0 | CA8: 1 | CB8: 1
C9: atikové(zábradlí) zdivo vč.10% prořezu:((10,15+2*4,23)*0,7+10,15*0,4)*1,10 | E9: 18.7957 | M9: atikové(zábradlí) zdivo vč.10% prořezu:((10,15+2*4,23)*0,7+10,15*0,4)*1,10
A10: 2 | B10: 622422131R00 | C10: Oprava vnějších omítek vápen. drásan. II. do 10 % | D10: m2 | E10: 18.7957 | F10: 0 | G10: =E10*F10 -> 0 | H10: 0.01029 | I10: =E10*H10 -> 0.19340775 | J10: 0 | K10: =E10*J10 -> 0 | O10: 2 | AA10: 1 | AB10: 0 | AC10: 0 | AZ10: 1 | BA10: =IF(AZ10=1,G10,0) -> 0 | BB10: =IF(AZ10=2,G10,0) -> 0 | BC10: =IF(AZ10=3,G10,0) -> 0 | BD10: =IF(AZ10=4,G10,0) -> 0 | BE10: =IF(AZ10=5,G10,0) -> 0 | CA10: 1 | CB10: 0
C11: atikové(zábradlí) zdivo vč.10% prořezu:((10,15+2*4,23)*0,7+10,15*0,4)*1,10 | E11: 18.7957 | M11: atikové(zábradlí) zdivo vč.10% prořezu:((10,15+2*4,23)*0,7+10,15*0,4)*1,10
A12: 3 | B12: 622432112R00 | C12: Omítka stěn dekorativní | D12: m2 | E12: 18.7957 | F12: 0 | G12: =E12*F12 -> 0 | H12: 0.00618 | I12: =E12*H12 -> 0.11615743 | J12: 0 | K12: =E12*J12 -> 0 | O12: 2 | AA12: 1 | AB12: 1 | AC12: 1 | AZ12: 1 | BA12: =IF(AZ12=1,G12,0) -> 0 | BB12: =IF(AZ12=2,G12,0) -> 0 | BC12: =IF(AZ12=3,G12,0) -> 0 | BD12: =IF(AZ12=4,G12,0) -> 0 | BE12: =IF(AZ12=5,G12,0) -> 0 | CA12: 1 | CB12: 1
C13: atikové(zábradlí) zdivo vč.10% prořezu:((10,15+2*4,23)*0,7+10,15*0,4)*1,10 | E13: 18.7957 | M13: atikové(zábradlí) zdivo vč.10% prořezu:((10,15+2*4,23)*0,7+10,15*0,4)*1,10
A14: 4 | B14: 622471312R00 | C14: Nátěr stěn barvou složitost 1, 2 dle barevného řešení fasád | D14: m2 | E14: 18.7957 | F14: 0 | G14: =E14*F14 -> 0 | H14: 0.00093 | I14: =E14*H14 -> 0.017480001 | J14: 0 | K14: =E14*J14 -> 0 | O14: 2 | AA14: 1 | AB14: 1 | AC14: 1 | AZ14: 1 | BA14: =IF(AZ14=1,G14,0) -> 0 | BB14: =IF(AZ14=2,G14,0) -> 0 | BC14: =IF(AZ14=3,G14,0) -> 0 | BD14: =IF(AZ14=4,G14,0) -> 0 | BE14: =IF(AZ14=5,G14,0) -> 0 | CA14: 1 | CB14: 1
C15: atikové(zábradlí) zdivo vč.10% prořezu:((10,15+2*4,23)*0,7+10,15*0,4)*1,10 | E15: 18.7957 | M15: atikové(zábradlí) zdivo vč.10% prořezu:((10,15+2*4,23)*0,7+10,15*0,4)*1,10
A16: 5 | B16: 622481211R00 | C16: Montáž výztužné sítě (perlinky) do stěrky-stěny vč.fixace | D16: m2 | E16: 18.7957 | F16: 0 | G16: =E16*F16 -> 0 | H16: 0 | I16: =E16*H16 -> 0 | J16: 0 | K16: =E16*J16 -> 0 | O16: 2 | AA16: 1 | AB16: 1 | AC16: 1 | AZ16: 1 | BA16: =IF(AZ16=1,G16,0) -> 0 | BB16: =IF(AZ16=2,G16,0) -> 0 | BC16: =IF(AZ16=3,G16,0) -> 0 | BD16: =IF(AZ16=4,G16,0) -> 0 | BE16: =IF(AZ16=5,G16,0) -> 0 | CA16: 1 | CB16: 1
C17: atikové(zábradlí) zdivo vč.10% prořezu:((10,15+2*4,23)*0,7+10,15*0,4)*1,10 | E17: 18.7957 | M17: atikové(zábradlí) zdivo vč.10% prořezu:((10,15+2*4,23)*0,7+10,15*0,4)*1,10
A18: 6 | B18: 622903110U00 | C18: Mytí vně omítek slož 1-2 tlak.vodou | D18: m2 | E18: 18.7957 | F18: 0 | G18: =E18*F18 -> 0 | H18: 0.0001 | I18: =E18*H18 -> 0.00187957 | J18: 0 | K18: =E18*J18 -> 0 | O18: 2 | AA18: 1 | AB18: 1 | AC18: 1 | AZ18: 1 | BA18: =IF(AZ18=1,G18,0) -> 0 | BB18: =IF(AZ18=2,G18,0) -> 0 | BC18: =IF(AZ18=3,G18,0) -> 0 | BD18: =IF(AZ18=4,G18,0) -> 0 | BE18: =IF(AZ18=5,G18,0) -> 0 | CA18: 1 | CB18: 1
C19: atikové(zábradlí) zdivo vč.10% prořezu:((10,15+2*4,23)*0,7+10,15*0,4)*1,10 | E19: 18.7957 | M19: atikové(zábradlí) zdivo vč.10% prořezu:((10,15+2*4,23)*0,7+10,15*0,4)*1,10
B20: Celkem za | C20: 62 Úpravy povrchů vnější | G20: =SUM(G7:G19) -> 0 | I20: =SUM(I7:I19) -> 0.33362368 | K20: =SUM(K7:K19) -> 0 | O20: 4 | BA20: =SUM(BA7:BA19) -> 0 | BB20: =SUM(BB7:BB19) -> 0 | BC20: =SUM(BC7:BC19) -> 0 | BD20: =SUM(BD7:BD19) -> 0 | BE20: =SUM(BE7:BE19) -> 0
A21: Díl: | B21: 711 | C21: Izolace proti vodě | O21: 1
A22: 7 | B22: 711111001RZ1 | C22: Izolace proti vlhkosti vodor. nátěr ALP za studena 1x nátěr - včetně dodávky penetračního laku ALP | D22: m2 | E22: 48.015 | F22: 0 | G22: =E22*F22 -> 0 | H22: 0.0002 | I22: =E22*H22 -> 0.009603 | J22: 0 | K22: =E22*J22 -> 0 | O22: 2 | AA22: 1 | AB22: 7 | AC22: 7 | AZ22: 2 | BA22: =IF(AZ22=1,G22,0) -> 0 | BB22: =IF(AZ22=2,G22,0) -> 0 | BC22: =IF(AZ22=3,G22,0) -> 0 | BD22: =IF(AZ22=4,G22,0) -> 0 | BE22: =IF(AZ22=5,G22,0) -> 0 | CA22: 1 | CB22: 7
C23: 43,65*1,10 | E23: 48.015 | M23: 43,65*1,10
A24: 8 | B24: 998711101R00 | C24: Přesun hmot pro izolace proti vodě, výšky do 6 m | D24: t | E24: 0.009603 | F24: 0 | G24: =E24*F24 -> 0 | H24: 0 | I24: =E24*H24 -> 0 | K24: =E24*J24 -> 0 | O24: 2 | AA24: 7 | AB24: 1001 | AC24: 5 | AZ24: 2 | BA24: =IF(AZ24=1,G24,0) -> 0 | BB24: =IF(AZ24=2,G24,0) -> 0 | BC24: =IF(AZ24=3,G24,0) -> 0 | BD24: =IF(AZ24=4,G24,0) -> 0 | BE24: =IF(AZ24=5,G24,0) -> 0 | CA24: 7 | CB24: 1001
B25: Celkem za | C25: 711 Izolace proti vodě | G25: =SUM(G21:G24) -> 0 | I25: =SUM(I21:I24) -> 0.009603 | K25: =SUM(K21:K24) -> 0 | O25: 4 | BA25: =SUM(BA21:BA24) -> 0 | BB25: =SUM(BB21:BB24) -> 0 | BC25: =SUM(BC21:BC24) -> 0 | BD25: =SUM(BD21:BD24) -> 0 | BE25: =SUM(BE21:BE24) -> 0
A26: Díl: | B26: 712 | C26: Živičné krytiny | O26: 1
A27: 9 | B27: 712341559RT2 | C27: Povlaková krytina střech do 10°, přitavením 2 vrstvy - materiál ve spec. (první vrstva lepená) | D27: m2 | E27: 48.015 | F27: 0 | G27: =E27*F27 -> 0 | H27: 0.0007 | I27: =E27*H27 -> 0.0336105 | J27: 0 | K27: =E27*J27 -> 0 | O27: 2 | AA27: 1 | AB27: 7 | AC27: 7 | AZ27: 2 | BA27: =IF(AZ27=1,G27,0) -> 0 | BB27: =IF(AZ27=2,G27,0) -> 0 | BC27: =IF(AZ27=3,G27,0) -> 0 | BD27: =IF(AZ27=4,G27,0) -> 0 | BE27: =IF(AZ27=5,G27,0) -> 0 | CA27: 1 | CB27: 7
C28: 43,65*1,10 | E28: 48.015 | M28: 43,65*1,10
A29: 10 | B29: 712341659RT1 | C29: Povlaková krytina střech do 10°, bodově 1 vrstva - materiál ve specifikaci | D29: m2 | E29: 48.015 | F29: 0 | G29: =E29*F29 -> 0 | H29: 0.00036 | I29: =E29*H29 -> 0.0172854 | J29: 0 | K29: =E29*J29 -> 0 | O29: 2 | AA29: 1 | AB29: 7 | AC29: 7 | AZ29: 2 | BA29: =IF(AZ29=1,G29,0) -> 0 | BB29: =IF(AZ29=2,G29,0) -> 0 | BC29: =IF(AZ29=3,G29,0) -> 0 | BD29: =IF(AZ29=4,G29,0) -> 0 | BE29: =IF(AZ29=5,G29,0) -> 0 | CA29: 1 | CB29: 7
C30: 43,65*1,10 | E30: 48.015 | M30: 43,65*1,10
A31: 11 | B31: 712CP001 | C31: Položení ochranné textílie, filtrační včetně dodávky textílie 200 g/m2 | D31: m2 | E31: 48.015 | F31: 0 | G31: =E31*F31 -> 0 | H31: 1e-05 | I31: =E31*H31 -> 0.00048015 | J31: 0 | K31: =E31*J31 -> 0 | O31: 2 | AA31: 1 | AB31: 0 | AC31: 0 | AZ31: 2 | BA31: =IF(AZ31=1,G31,0) -> 0 | BB31: =IF(AZ31=2,G31,0) -> 0 | BC31: =IF(AZ31=3,G31,0) -> 0 | BD31: =IF(AZ31=4,G31,0) -> 0 | BE31: =IF(AZ31=5,G31,0) -> 0 | CA31: 1 | CB31: 0
C32: 43,65*1,10 | E32: 48.015 | M32: 43,65*1,10
A33: 12 | B33: 62833159 | C33: Pás asfaltovaný těžký | D33: m2 | E33: 48.015 | F33: 0 | G33: =E33*F33 -> 0 | H33: 0.0045 | I33: =E33*H33 -> 0.2160675 | K33: =E33*J33 -> 0 | O33: 2 | AA33: 3 | AB33: 7 | AC33: 62833159 | AZ33: 2 | BA33: =IF(AZ33=1,G33,0) -> 0 | BB33: =IF(AZ33=2,G33,0) -> 0 | BC33: =IF(AZ33=3,G33,0) -> 0 | BD33: =IF(AZ33=4,G33,0) -> 0 | BE33: =IF(AZ33=5,G33,0) -> 0 | CA33: 3 | CB33: 7
C34: 43,65*1,10 | E34: 48.015 | M34: 43,65*1,10
A35: 13 | B35: 628522504 | C35: Pás modif. asfalt dekor červený | D35: m2 | E35: 48.015 | F35: 0 | G35: =E35*F35 -> 0 | H35: 0.0055 | I35: =E35*H35 -> 0.2640825 | K35: =E35*J35 -> 0 | O35: 2 | AA35: 3 | AB35: 7 | AC35: 628522504 | AZ35: 2 | BA35: =IF(AZ35=1,G35,0) -> 0 | BB35: =IF(AZ35=2,G35,0) -> 0 | BC35: =IF(AZ35=3,G35,0) -> 0 | BD35: =IF(AZ35=4,G35,0) -> 0 | BE35: =IF(AZ35=5,G35,0) -> 0 | CA35: 3 | CB35: 7
C36: 43,65*1,10 | E36: 48.015 | M36: 43,65*1,10
A37: 14 | B37: 62852265 | C37: Pás modifikovaný asfalt mineral | D37: m2 | E37: 48.015 | F37: 0 | G37: =E37*F37 -> 0 | H37: 0.004 | I37: =E37*H37 -> 0.19206 | K37: =E37*J37 -> 0 | O37: 2 | AA37: 3 | AB37: 1 | AC37: 62852265 | AZ37: 2 | BA37: =IF(AZ37=1,G37,0) -> 0 | BB37: =IF(AZ37=2,G37,0) -> 0 | BC37: =IF(AZ37=3,G37,0) -> 0 | BD37: =IF(AZ37=4,G37,0) -> 0 | BE37: =IF(AZ37=5,G37,0) -> 0 | CA37: 3 | CB37: 1
C38: 43,65*1,10 | E38: 48.015 | M38: 43,65*1,10
A39: 15 | B39: 998712101R00 | C39: Přesun hmot pro povlakové krytiny, výšky do 6 m | D39: t | E39: 0.72358605 | F39: 0 | G39: =E39*F39 -> 0 | H39: 0 | I39: =E39*H39 -> 0 | K39: =E39*J39 -> 0 | O39: 2 | AA39: 7 | AB39: 1001 | AC39: 5 | AZ39: 2 | BA39: =IF(AZ39=1,G39,0) -> 0 | BB39: =IF(AZ39=2,G39,0) -> 0 | BC39: =IF(AZ39=3,G39,0) -> 0 | BD39: =IF(AZ39=4,G39,0) -> 0 | BE39: =IF(AZ39=5,G39,0) -> 0 | CA39: 7 | CB39: 1001
B40: Celkem za | C40: 712 Živičné krytiny | G40: =SUM(G26:G39) -> 0 | I40: =SUM(I26:I39) -> 0.72358605 | K40: =SUM(K26:K39) -> 0 | O40: 4 | BA40: =SUM(BA26:BA39) -> 0 | BB40: =SUM(BB26:BB39) -> 0 | BC40: =SUM(BC26:BC39) -> 0 | BD40: =SUM(BD26:BD39) -> 0 | BE40: =SUM(BE26:BE39) -> 0
A41: Díl: | B41: 713 | C41: Izolace tepelné | O41: 1
A42: 16 | B42: 713111111RT1 | C42: Izolace tepelné stropů vrchem kladené volně 2 vrstva - materiál ve specifikaci - spádový klín | D42: m2 | E42: 48.015 | F42: 0 | G42: =E42*F42 -> 0 | H42: 0 | I42: =E42*H42 -> 0 | J42: 0 | K42: =E42*J42 -> 0 | O42: 2 | AA42: 1 | AB42: 0 | AC42: 0 | AZ42: 2 | BA42: =IF(AZ42=1,G42,0) -> 0 | BB42: =IF(AZ42=2,G42,0) -> 0 | BC42: =IF(AZ42=3,G42,0) -> 0 | BD42: =IF(AZ42=4,G42,0) -> 0 | BE42: =IF(AZ42=5,G42,0) -> 0 | CA42: 1 | CB42: 0
...

Sheet SO 04 SO 04 KL
A1: SLEPÝ ROZPOČET
A2: Rozpočet | C2: SO 04 | D2: Zateplení půdních prostor | F2: JKSO
A4: Objekt | F4: SKP
A5: SO 04 | C5: Zateplení půdních prostor | F5: Měrná jednotka
A6: Stavba | F6: Počet jednotek
A7: 01 | C7: Zateplení budovy muzea Brumov-Bylnice | F7: Náklady na m.j. | G7: =IF(G6=0,,ROUND((F30+F32)/G6,1)) -> 0
A8: Projektant | F8: Typ rozpočtu
A9: Zpracovatel projektu
A10: Objednatel
A11: Dodavatel | F11: Zakázkové číslo
A12: Rozpočtoval | F12: Počet listů
A13: ROZPOČTOVÉ NÁKLADY
A14: Základní rozpočtové náklady | D14: Ostatní rozpočtové náklady
B15: HSV celkem | C15: ='SO 04 SO 04 Rek'!E21 -> 0 | D15: ='SO 04 SO 04 Rek'!A26 -> Ztížené výrobní podmínky | G15: ='SO 04 SO 04 Rek'!I26 -> 0
A16: Z | B16: PSV celkem | C16: ='SO 04 SO 04 Rek'!F21 -> 0 | D16: ='SO 04 SO 04 Rek'!A27 -> Oborová přirážka | G16: ='SO 04 SO 04 Rek'!I27 -> 0
