Workbook
Name CelkemObjekty: Stavba!$F$39
Name CisloStavby: Stavba!$D$5
Name dadresa: Stavba!$D$8
Name DIČ: Stavba!$K$8
Name dmisto: Stavba!$D$9
Name dpsc: Stavba!$C$9
Name IČO: Stavba!$K$7
Name NazevObjektu: Stavba!$C$29
Name NazevStavby: Stavba!$E$5
Name Objednatel: Stavba!$D$11
Name Objekt: Stavba!$B$29
Name odic: Stavba!$K$12
Name oico: Stavba!$K$11
Name omisto: Stavba!$D$13
Name onazev: Stavba!$D$12
Name opsc: Stavba!$C$13
Name SazbaDPH1: Stavba!$D$19
Name SazbaDPH2: Stavba!$D$21
Name SoucetDilu: Stavba!$F$91:$J$91
Name StavbaCelkem: Stavba!$H$39
Name Zhotovitel: Stavba!$D$7

Sheet Stavba
C2: Slepý rozpočet stavby | H2: Datum:
C5: Stavba : | D5: 01 | E5: Zateplení budovy muzea Brumov-Bylnice
C7: Objednatel : | D7: Město Brumov-Bylnice | H7: IČO :
D8: Nám.H.Synkové 942 | H8: DIČ :
D9: 763 31 Brumov-Bylnice
C11: Zhotovitel : | D11: Ing. Tomáš Kročil | H11: IČO :
D12: Družstevní 980 (areál Zálesí Kovo) | H12: DIČ :
D13: 763 26 Luhačovice
C14: Za zhotovitele : | H14: Za objednatele :
C16: _______________ | H16: _______________
J18: Rozpočtové náklady
B19: Základ pro DPH | D19: 15 | E19: % | I19: =ROUND(G39,0) -> 0
B20: DPH | D20: =SazbaDPH1 -> 15 | E20: % | I20: =ROUND(I19*D20/100,0) -> 0
B21: Základ pro DPH | D21: 21 | E21: % | I21: =ROUND(H39,0) -> 0
B22: DPH | D22: =SazbaDPH2 -> 21 | E22: % | I22: =ROUND(I21*D21/100,0) -> 0
B23: Cena celkem za stavbu | I23: =SUM(I19:I22) -> 0
B27: Rekapitulace stavebních objektů a provozních souborů
B29: Číslo a název objektu / provozního souboru | F29: Cena celkem | G29: =CONCATENATE("Základ DPH ",SazbaDPH1," %") -> Základ DPH 15 % | H29: =CONCATENATE("Základ DPH ",SazbaDPH2," %") -> Základ DPH 21 % | I29: DPH celkem | J29: %
B30: ON 00 | C30: Vedlejší a ostatní náklady | F30: =G30+H30+I30 -> 0 | G30: 0 | H30: 0 | I30: =(G30*SazbaDPH1)/100+(H30*SazbaDPH2)/100 -> 0 | J30: =IF(CelkemObjekty=0,"",F30/CelkemObjekty*100)
B31: SO 01 | C31: Výměna oken a dveří | F31: =G31+H31+I31 -> 0 | G31: 0 | H31: 0 | I31: =(G31*SazbaDPH1)/100+(H31*SazbaDPH2)/100 -> 0 | J31: =IF(CelkemObjekty=0,"",F31/CelkemObjekty*100)
B32: SO 02 | C32: Zateplení fasády | F32: =G32+H32+I32 -> 0 | G32: 0 | H32: 0 | I32: =(G32*SazbaDPH1)/100+(H32*SazbaDPH2)/100 -> 0 | J32: =IF(CelkemObjekty=0,"",F32/CelkemObjekty*100)
B33: SO 03 | C33: Zateplení ploché střechy | F33: =G33+H33+I33 -> 0 | G33: 0 | H33: 0 | I33: =(G33*SazbaDPH1)/100+(H33*SazbaDPH2)/100 -> 0 | J33: =IF(CelkemObjekty=0,"",F33/CelkemObjekty*100)
B34: SO 04 | C34: Zateplení půdních prostor | F34: =G34+H34+I34 -> 0 | G34: 0 | H34: 0 | I34: =(G34*SazbaDPH1)/100+(H34*SazbaDPH2)/100 -> 0 | J34: =IF(CelkemObjekty=0,"",F34/CelkemObjekty*100)
B35: SO 05 | C35: Elektroinstalace | F35: =G35+H35+I35 -> 0 | G35: 0 | H35: 0 | I35: =(G35*SazbaDPH1)/100+(H35*SazbaDPH2)/100 -> 0 | J35: =IF(CelkemObjekty=0,"",F35/CelkemObjekty*100)
B36: SO 06 | C36: Hromosvod | F36: =G36+H36+I36 -> 0 | G36: 0 | H36: 0 | I36: =(G36*SazbaDPH1)/100+(H36*SazbaDPH2)/100 -> 0 | J36: =IF(CelkemObjekty=0,"",F36/CelkemObjekty*100)
B37: SO 07 | C37: Demolice bočního přístavku | F37: =G37+H37+I37 -> 0 | G37: 0 | H37: 0 | I37: =(G37*SazbaDPH1)/100+(H37*SazbaDPH2)/100 -> 0 | J37: =IF(CelkemObjekty=0,"",F37/CelkemObjekty*100)
B38: SO 08 | C38: Přeložka plyn.potrubí | F38: =G38+H38+I38 -> 0 | G38: 0 | H38: 0 | I38: =(G38*SazbaDPH1)/100+(H38*SazbaDPH2)/100 -> 0 | J38: =IF(CelkemObjekty=0,"",F38/CelkemObjekty*100)
B39: Celkem za stavbu | F39: =SUM(F30:F38) -> 0 | G39: =SUM(G30:G38) -> 0 | H39: =SUM(H30:H38) -> 0 | I39: =SUM(I30:I38) -> 0 | J39: =IF(CelkemObjekty=0,"",F39/CelkemObjekty*100)
B43: Rekapitulace stavebních rozpočtů
B45: Číslo objektu | C45: Číslo a název rozpočtu | F45: Cena celkem | G45: =CONCATENATE("Základ DPH ",SazbaDPH1," %") -> Základ DPH 15 % | H45: =CONCATENATE("Základ DPH ",SazbaDPH2," %") -> Základ DPH 21 % | I45: DPH celkem | J45: %
B46: ON 00 | C46: ON 00 Vedlejší a ostatní náklady | F46: =G46+H46+I46 -> 0 | G46: 0 | H46: 0 | I46: =(G46*SazbaDPH1)/100+(H46*SazbaDPH2)/100 -> 0 | J46: =IF(CelkemObjekty=0,"",F46/CelkemObjekty*100)
B47: SO 01 | C47: SO 01 Výměna oken a dveří | F47: =G47+H47+I47 -> 0 | G47: 0 | H47: 0 | I47: =(G47*SazbaDPH1)/100+(H47*SazbaDPH2)/100 -> 0 | J47: =IF(CelkemObjekty=0,"",F47/CelkemObjekty*100)
B48: SO 02 | C48: SO 02.2 Zateplení fasády | F48: =G48+H48+I48 -> 0 | G48: 0 | H48: 0 | I48: =(G48*SazbaDPH1)/100+(H48*SazbaDPH2)/100 -> 0 | J48: =IF(CelkemObjekty=0,"",F48/CelkemObjekty*100)
B49: SO 03 | C49: SO 03 Zateplení ploché střechy | F49: =G49+H49+I49 -> 0 | G49: 0 | H49: 0 | I49: =(G49*SazbaDPH1)/100+(H49*SazbaDPH2)/100 -> 0 | J49: =IF(CelkemObjekty=0,"",F49/CelkemObjekty*100)
B50: SO 04 | C50: SO 04 Zateplení půdních prostor | F50: =G50+H50+I50 -> 0 | G50: 0 | H50: 0 | I50: =(G50*SazbaDPH1)/100+(H50*SazbaDPH2)/100 -> 0 | J50: =IF(CelkemObjekty=0,"",F50/CelkemObjekty*100)
B51: SO 05 | C51: SO 05 Elektroinstalace | F51: =G51+H51+I51 -> 0 | G51: 0 | H51: 0 | I51: =(G51*SazbaDPH1)/100+(H51*SazbaDPH2)/100 -> 0 | J51: =IF(CelkemObjekty=0,"",F51/CelkemObjekty*100)
B52: SO 06 | C52: SO 06 Hromosvod | F52: =G52+H52+I52 -> 0 | G52: 0 | H52: 0 | I52: =(G52*SazbaDPH1)/100+(H52*SazbaDPH2)/100 -> 0 | J52: =IF(CelkemObjekty=0,"",F52/CelkemObjekty*100)
B53: SO 07 | C53: SO 07 Demolice bočního přístavku | F53: =G53+H53+I53 -> 0 | G53: 0 | H53: 0 | I53: =(G53*SazbaDPH1)/100+(H53*SazbaDPH2)/100 -> 0 | J53: =IF(CelkemObjekty=0,"",F53/CelkemObjekty*100)
B54: SO 08 | C54: SO 08 Přeložka plyn.potrubí | F54: =G54+H54+I54 -> 0 | G54: 0 | H54: 0 | I54: =(G54*SazbaDPH1)/100+(H54*SazbaDPH2)/100 -> 0 | J54: =IF(CelkemObjekty=0,"",F54/CelkemObjekty*100)
B55: Celkem za stavbu | F55: =SUM(F46:F54) -> 0 | G55: =SUM(G46:G54) -> 0 | H55: =SUM(H46:H54) -> 0 | I55: =SUM(I46:I54) -> 0 | J55: =IF(CelkemObjekty=0,"",F55/CelkemObjekty*100)
B60: Rekapitulace stavebních dílů
B62: Číslo a název dílu | E62: % | F62: HSV | G62: PSV | H62: Dodávka | I62: Montáž | J62: HZS
B63: 3 | C63: Svislé a kompletní konstrukce | E63: =IF(SUM(SoucetDilu)=0,"",SUM(F63:J63)/SUM(SoucetDilu)*100) | F63: 0 | G63: 0 | H63: 0 | I63: 0 | J63: 0
B64: 4 | C64: Vodorovné konstrukce | E64: =IF(SUM(SoucetDilu)=0,"",SUM(F64:J64)/SUM(SoucetDilu)*100) | F64: 0 | G64: 0 | H64: 0 | I64: 0 | J64: 0
B65: 61 | C65: Upravy povrchů vnitřní | E65: =IF(SUM(SoucetDilu)=0,"",SUM(F65:J65)/SUM(SoucetDilu)*100) | F65: 0 | G65: 0 | H65: 0 | I65: 0 | J65: 0
B66: 62 | C66: Úpravy povrchů vnější | E66: =IF(SUM(SoucetDilu)=0,"",SUM(F66:J66)/SUM(SoucetDilu)*100) | F66: 0 | G66: 0 | H66: 0 | I66: 0 | J66: 0
B67: 64 | C67: Výplně otvorů | E67: =IF(SUM(SoucetDilu)=0,"",SUM(F67:J67)/SUM(SoucetDilu)*100) | F67: 0 | G67: 0 | H67: 0 | I67: 0 | J67: 0
B68: 711 | C68: Izolace proti vodě | E68: =IF(SUM(SoucetDilu)=0,"",SUM(F68:J68)/SUM(SoucetDilu)*100) | F68: 0 | G68: 0 | H68: 0 | I68: 0 | J68: 0
B69: 712 | C69: Živičné krytiny | E69: =IF(SUM(SoucetDilu)=0,"",SUM(F69:J69)/SUM(SoucetDilu)*100) | F69: 0 | G69: 0 | H69: 0 | I69: 0 | J69: 0
B70: 713 | C70: Izolace tepelné | E70: =IF(SUM(SoucetDilu)=0,"",SUM(F70:J70)/SUM(SoucetDilu)*100) | F70: 0 | G70: 0 | H70: 0 | I70: 0 | J70: 0
B71: 721 | C71: Vnitřní kanalizace | E71: =IF(SUM(SoucetDilu)=0,"",SUM(F71:J71)/SUM(SoucetDilu)*100) | F71: 0 | G71: 0 | H71: 0 | I71: 0 | J71: 0
B72: 723 | C72: Vnitřní plynovod | E72: =IF(SUM(SoucetDilu)=0,"",SUM(F72:J72)/SUM(SoucetDilu)*100) | F72: 0 | G72: 0 | H72: 0 | I72: 0 | J72: 0
B73: 762 | C73: Konstrukce tesařské | E73: =IF(SUM(SoucetDilu)=0,"",SUM(F73:J73)/SUM(SoucetDilu)*100) | F73: 0 | G73: 0 | H73: 0 | I73: 0 | J73: 0
B74: 764 | C74: Konstrukce klempířské | E74: =IF(SUM(SoucetDilu)=0,"",SUM(F74:J74)/SUM(SoucetDilu)*100) | F74: 0 | G74: 0 | H74: 0 | I74: 0 | J74: 0
... B90: VN | C90: Vedlejší náklady | E90: =IF(SUM(SoucetDilu)=0,"",SUM(F90:J90)/SUM(SoucetDilu)*100) | F90: 0 | G90: 0 | H90: 0 | I90: 0 | J90: 0
B91: Celkem za stavbu | E91: =IF(SUM(SoucetDilu)=0,"",SUM(F91:J91)/SUM(SoucetDilu)*100) | F91: =SUM(F63:F90) -> 0 | G91: =SUM(G63:G90) -> 0 | H91: =SUM(H63:H90) -> 0 | I91: =SUM(I63:I90) -> 0 | J91: =SUM(J63:J90) -> 0
B98: Rekapitulace vedlejších rozpočtových nákladů
B100: Název vedlejšího nákladu | H100: Cena celkem
B101: Ztížené výrobní podmínky | H101: 0
B102: Oborová přirážka | H102: 0
B103: Přesun stavebních kapacit | H103: 0
B104: Mimostaveništní doprava | H104: 0
B105: Zařízení staveniště | H105: 0
B106: Provoz investora | H106: 0
B107: Kompletační činnost (IČD) | H107: 0
B108: Rezerva rozpočtu | H108: 0
B109: Celkem za stavbu | H109: =SUM(H101:H108) -> 0

Sheet ON 00 ON 00 KL
A1: SLEPÝ ROZPOČET
A2: Rozpočet | C2: ON 00 | D2: Vedlejší a ostatní náklady | F2: JKSO
A4: Objekt | F4: SKP
A5: ON 00 | C5: Vedlejší a ostatní náklady | F5: Měrná jednotka
A6: Stavba | F6: Počet jednotek
A7: 01 | C7: Zateplení budovy muzea Brumov-Bylnice | F7: Náklady na m.j. | G7: =IF(G6=0,,ROUND((F30+F32)/G6,1)) -> 0
A8: Projektant | F8: Typ rozpočtu
A9: Zpracovatel projektu
A10: Objednatel
A11: Dodavatel | F11: Zakázkové číslo
A12: Rozpočtoval | F12: Počet listů
A13: ROZPOČTOVÉ NÁKLADY
A14: Základní rozpočtové náklady | D14: Ostatní rozpočtové náklady
B15: HSV celkem | C15: ='ON 00 ON 00 Rek'!E9 -> 0 | D15: ='ON 00 ON 00 Rek'!A14 -> Ztížené výrobní podmínky | G15: ='ON 00 ON 00 Rek'!I14 -> 0
A16: Z | B16: PSV celkem | C16: ='ON 00 ON 00 Rek'!F9 -> 0 | D16: ='ON 00 ON 00 Rek'!A15 -> Oborová přirážka | G16: ='ON 00 ON 00 Rek'!I15 -> 0
A17: R | B17: M práce celkem | C17: ='ON 00 ON 00 Rek'!H9 -> 0 | D17: ='ON 00 ON 00 Rek'!A16 -> Přesun stavebních kapacit | G17: ='ON 00 ON 00 Rek'!I16 -> 0
A18: N | B18: M dodávky celkem | C18: ='ON 00 ON 00 Rek'!G9 -> 0 | D18: ='ON 00 ON 00 Rek'!A17 -> Mimostaveništní doprava | G18: ='ON 00 ON 00 Rek'!I17 -> 0
A19: ZRN celkem | C19: =SUM(C15:C18) -> 0 | D19: ='ON 00 ON 00 Rek'!A18 -> Zařízení staveniště | G19: ='ON 00 ON 00 Rek'!I18 -> 0
D20: ='ON 00 ON 00 Rek'!A19 -> Provoz investora | G20: ='ON 00 ON 00 Rek'!I19 -> 0
A21: HZS | C21: ='ON 00 ON 00 Rek'!I9 -> 0 | D21: ='ON 00 ON 00 Rek'!A20 -> Kompletační činnost (IČD) | G21: ='ON 00 ON 00 Rek'!I20 -> 0
A22: ZRN+HZS | C22: =C19+C21 -> 0 | D22: Ostatní náklady neuvedené | G22: =G23-SUM(G15:G21) -> 0
A23: ZRN+ost.náklady+HZS | C23: =C22+G23 -> 0 | D23: Ostatní náklady celkem | G23: ='ON 00 ON 00 Rek'!H22 -> 0
A24: Vypracoval | D24: Za zhotovitele | F24: Za objednatele
A25: Jméno : | D25: Jméno : | F25: Jméno :
A26: Datum : | D26: Datum : | F26: Datum :
A28: Podpis : | D28: Podpis: | F28: Podpis:
A30: Základ pro DPH | C30: 21 | D30: % | F30: =C23-F32 -> 0
A31: DPH | C31: =C30 -> 21 | D31: % | F31: =ROUND(PRODUCT(F30,C31/100),0) -> 0
A32: Základ pro DPH | C32: 0 | D32: % | F32: 0
A33: DPH | C33: =C32 -> 0 | D33: % | F33: =ROUND(PRODUCT(F32,C33/100),0) -> 0
A34: CENA ZA OBJEKT CELKEM | F34: =ROUND(SUM(F30:F33),0) -> 0
A36: Poznámka :
B37: V souvislosti s provedením stavby je povinností dodavatele provést nebo zabezpečit další související činnsoti vyplývající z charakteru a sruhu prováděné stavby, zejména s nutnou koordinací provedení všech částí stavby a rovněž z obchodních podmínke stanovených zadavatelem.Tyto náklady jsou uvedeny a popsány v samostatném soupisu stavebních prací, dodávek a služeb, s tím, že je dodavatel povinen v rámci těchto nákladů ocenit všechny definované náklady a to pro celou stavbu společně (obvykle procentickým podílem z hodnoty stavebbních prací, ale je na dodavateli jakým způsobem nebo metodou požadovanou položku ocení).

Sheet ON 00 ON 00 Rek
A1: Stavba : | C1: 01 Zateplení budovy muzea Brumov-Bylnice | G1: Rozpočet : | H1: ON 00
A2: Objekt : | C2: ON 00 Vedlejší a ostatní náklady | G2: Vedlejší a ostatní náklady
A4: REKAPITULACE STAVEBNÍCH DÍLŮ
B6: Stavební díl | E6: HSV | F6: PSV | G6: Dodávka | H6: Montáž | I6: HZS
A7: ='ON 00 ON 00 Pol'!B7 -> ON | B7: ='ON 00 ON 00 Pol'!C7 -> Ostatní náklady | E7: ='ON 00 ON 00 Pol'!BA16 -> 0 | F7: ='ON 00 ON 00 Pol'!BB16 -> 0 | G7: ='ON 00 ON 00 Pol'!BC16 -> 0 | H7: ='ON 00 ON 00 Pol'!BD16 -> 0 | I7: ='ON 00 ON 00 Pol'!BE16 -> 0
A8: ='ON 00 ON 00 Pol'!B17 -> VN | B8: ='ON 00 ON 00 Pol'!C17 -> Vedlejší náklady | E8: ='ON 00 ON 00 Pol'!BA26 -> 0 | F8: ='ON 00 ON 00 Pol'!BB26 -> 0 | G8: ='ON 00 ON 00 Pol'!BC26 -> 0 | H8: ='ON 00 ON 00 Pol'!BD26 -> 0 | I8: ='ON 00 ON 00 Pol'!BE26 -> 0
B9: CELKEM OBJEKT | E9: =SUM(E7:E8) -> 0 | F9: =SUM(F7:F8) -> 0 | G9: =SUM(G7:G8) -> 0 | H9: =SUM(H7:H8) -> 0 | I9: =SUM(I7:I8) -> 0
A11: VEDLEJŠÍ ROZPOČTOVÉ NÁKLADY
A13: Název VRN | E13: Kč | F13: % | G13: Základna | I13: Kč
A14: Ztížené výrobní podmínky | G14: 0 | I14: =E14+F14*G14/100 -> 0 | BA14: 0
A15: Oborová přirážka | G15: 0 | I15: =E15+F15*G15/100 -> 0 | BA15: 0
A16: Přesun stavebních kapacit | G16: 0 | I16: =E16+F16*G16/100 -> 0 | BA16: 0
A17: Mimostaveništní doprava | G17: 0 | I17: =E17+F17*G17/100 -> 0 | BA17: 0
A18: Zařízení staveniště | G18: 0 | I18: =E18+F18*G18/100 -> 0 | BA18: 1
A19: Provoz investora | G19: 0 | I19: =E19+F19*G19/100 -> 0 | BA19: 1
A20: Kompletační činnost (IČD) | G20: 0 | I20: =E20+F20*G20/100 -> 0 | BA20: 2
A21: Rezerva rozpočtu | G21: 0 | I21: =E21+F21*G21/100 -> 0 | BA21: 2
B22: CELKEM VRN | H22: =SUM(I14:I21) -> 0

Sheet ON 00 ON 00 Pol
A1: Slepý rozpočet
A3: Stavba : | C3: 01 Zateplení budovy muzea Brumov-Bylnice | E3: Rozpočet: | F3: ='ON 00 ON 00 Rek'!H1 -> ON 00
A4: Objekt : | C4: ON 00 Vedlejší a ostatní náklady | E4: ='ON 00 ON 00 Rek'!G2 -> Vedlejší a ostatní náklady
A6: P.č. | B6: Číslo položky | C6: Název položky | D6: MJ | E6: množství | F6: cena / MJ | G6: celkem (Kč) | H6: Jednotková hmotnost | I6: Celková hmotnost | J6: Jednotková dem.hmot. | K6: Celková dem.hmot.
A7: Díl: | B7: ON | C7: Ostatní náklady | O7: 1
A8: 1 | B8: 005122010R | C8: Provoz investora | D8: komple | E8: 1 | F8: 0 | G8: =E8*F8 -> 0 | H8: 0 | I8: =E8*H8 -> 0 | K8: =E8*J8 -> 0 | O8: 2 | AA8: 12 | AB8: 0 | AC8: 6 | AZ8: 1 | BA8: =IF(AZ8=1,G8,0) -> 0 | BB8: =IF(AZ8=2,G8,0) -> 0 | BC8: =IF(AZ8=3,G8,0) -> 0 | BD8: =IF(AZ8=4,G8,0) -> 0 | BE8: =IF(AZ8=5,G8,0) -> 0 | CA8: 12 | CB8: 0
A9: 2 | B9: 005211020 | C9: Bezpečnostní a hygienická opatření na staveništi vstup třetích osob a práce ve výškách | D9: komple | E9: 1 | F9: 0 | G9: =E9*F9 -> 0 | H9: 0 | I9: =E9*H9 -> 0 | K9: =E9*J9 -> 0 | O9: 2 | AA9: 12 | AB9: 0 | AC9: 7 | AZ9: 1 | BA9: =IF(AZ9=1,G9,0) -> 0 | BB9: =IF(AZ9=2,G9,0) -> 0 | BC9: =IF(AZ9=3,G9,0) -> 0 | BD9: =IF(AZ9=4,G9,0) -> 0 | BE9: =IF(AZ9=5,G9,0) -> 0 | CA9: 12 | CB9: 0
A10: 3 | B10: 005231010 | C10: Odtrhové zkoušky a kotevní plány (obvodový plášť) | D10: komple | E10: 1 | F10: 0 | G10: =E10*F10 -> 0 | H10: 0 | I10: =E10*H10 -> 0 | K10: =E10*J10 -> 0 | O10: 2 | AA10: 12 | AB10: 0 | AC10: 8 | AZ10: 1 | BA10: =IF(AZ10=1,G10,0) -> 0 | BB10: =IF(AZ10=2,G10,0) -> 0 | BC10: =IF(AZ10=3,G10,0) -> 0 | BD10: =IF(AZ10=4,G10,0) -> 0 | BE10: =IF(AZ10=5,G10,0) -> 0 | CA10: 12 | CB10: 0
A11: 4 | B11: 00523101012 | C11: Zajištění všech nezbytných průzkumů nutných pro řádné provádění a dokončení díla | D11: komple | E11: 1 | F11: 0 | G11: =E11*F11 -> 0 | H11: 0 | I11: =E11*H11 -> 0 | K11: =E11*J11 -> 0 | O11: 2 | AA11: 12 | AB11: 0 | AC11: 9 | AZ11: 1 | BA11: =IF(AZ11=1,G11,0) -> 0 | BB11: =IF(AZ11=2,G11,0) -> 0 | BC11: =IF(AZ11=3,G11,0) -> 0 | BD11: =IF(AZ11=4,G11,0) -> 0 | BE11: =IF(AZ11=5,G11,0) -> 0 | CA11: 12 | CB11: 0
A12: 5 | B12: 005241010R | C12: Předání a převzetí dokumentace skutečného provedení stavby | D12: komple | E12: 1 | F12: 0 | G12: =E12*F12 -> 0 | H12: 0 | I12: =E12*H12 -> 0 | K12: =E12*J12 -> 0 | O12: 2 | AA12: 12 | AB12: 0 | AC12: 10 | AZ12: 1 | BA12: =IF(AZ12=1,G12,0) -> 0 | BB12: =IF(AZ12=2,G12,0) -> 0 | BC12: =IF(AZ12=3,G12,0) -> 0 | BD12: =IF(AZ12=4,G12,0) -> 0 | BE12: =IF(AZ12=5,G12,0) -> 0 | CA12: 12 | CB12: 0
A13: 6 | B13: 005241010R2 | C13: Vyhotovení dílenské, výrobní dokumentace tam, kde je potřeba | D13: komple | E13: 1 | F13: 0 | G13: =E13*F13 -> 0 | H13: 0 | I13: =E13*H13 -> 0 | K13: =E13*J13 -> 0 | O13: 2 | AA13: 12 | AB13: 0 | AC13: 11 | AZ13: 1 | BA13: =IF(AZ13=1,G13,0) -> 0 | BB13: =IF(AZ13=2,G13,0) -> 0 | BC13: =IF(AZ13=3,G13,0) -> 0 | BD13: =IF(AZ13=4,G13,0) -> 0 | BE13: =IF(AZ13=5,G13,0) -> 0 | CA13: 12 | CB13: 0
A14: 7 | B14: 005261010R | C14: Pojištění odpovědnosti za škodu způsobenou třetí osobě činností dodavatele | D14: komple | E14: 1 | F14: 0 | G14: =E14*F14 -> 0 | H14: 0 | I14: =E14*H14 -> 0 | K14: =E14*J14 -> 0 | O14: 2 | AA14: 12 | AB14: 0 | AC14: 12 | AZ14: 1 | BA14: =IF(AZ14=1,G14,0) -> 0 | BB14: =IF(AZ14=2,G14,0) -> 0 | BC14: =IF(AZ14=3,G14,0) -> 0 | BD14: =IF(AZ14=4,G14,0) -> 0 | BE14: =IF(AZ14=5,G14,0) -> 0 | CA14: 12 | CB14: 0
A15: 8 | B15: ON CP001 | C15: Dočasná dopravní/provozní opatření | D15: komple | E15: 1 | F15: 0 | G15: =E15*F15 -> 0 | H15: 0 | I15: =E15*H15 -> 0 | K15: =E15*J15 -> 0 | O15: 2 | AA15: 12 | AB15: 0 | AC15: 1 | AZ15: 1 | BA15: =IF(AZ15=1,G15,0) -> 0 | BB15: =IF(AZ15=2,G15,0) -> 0 | BC15: =IF(AZ15=3,G15,0) -> 0 | BD15: =IF(AZ15=4,G15,0) -> 0 | BE15: =IF(AZ15=5,G15,0) -> 0 | CA15: 12 | CB15: 0
B16: Celkem za | C16: ON Ostatní náklady | G16: =SUM(G7:G15) -> 0 | I16: =SUM(I7:I15) -> 0 | K16: =SUM(K7:K15) -> 0 | O16: 4 | BA16: =SUM(BA7:BA15) -> 0 | BB16: =SUM(BB7:BB15) -> 0 | BC16: =SUM(BC7:BC15) -> 0 | BD16: =SUM(BD7:BD15) -> 0 | BE16: =SUM(BE7:BE15) -> 0
A17: Díl: | B17: VN | C17: Vedlejší náklady | O17: 1
A18: 9 | B18: 005124010 | C18: Kompletační a koordinační činnost | D18: komple | E18: 1 | F18: 0 | G18: =E18*F18 -> 0 | H18: 0 | I18: =E18*H18 -> 0 | J18: 0 | K18: =E18*J18 -> 0 | O18: 2 | AA18: 1 | AB18: 1 | AC18: 1 | AZ18: 1 | BA18: =IF(AZ18=1,G18,0) -> 0 | BB18: =IF(AZ18=2,G18,0) -> 0 | BC18: =IF(AZ18=3,G18,0) -> 0 | BD18: =IF(AZ18=4,G18,0) -> 0 | BE18: =IF(AZ18=5,G18,0) -> 0 | CA18: 1 | CB18: 1
A19: 10 | B19: VNCP006 | C19: Provedení veškerých předepsaných zkoušek revizí | D19: komple | E19: 1 | F19: 0 | G19: =E19*F19 -> 0 | H19: 0 | I19: =E19*H19 -> 0 | J19: 0 | K19: =E19*J19 -> 0 | O19: 2 | AA19: 1 | AB19: 1 | AC19: 1 | AZ19: 1 | BA19: =IF(AZ19=1,G19,0) -> 0 | BB19: =IF(AZ19=2,G19,0) -> 0 | BC19: =IF(AZ19=3,G19,0) -> 0 | BD19: =IF(AZ19=4,G19,0) -> 0 | BE19: =IF(AZ19=5,G19,0) -> 0 | CA19: 1 | CB19: 1
A20: 11 | B20: 005211010 | C20: Předání a převzetí staveniště | D20: komple | E20: 1 | F20: 0 | G20: =E20*F20 -> 0 | H20: 0 | I20: =E20*H20 -> 0 | K20: =E20*J20 -> 0 | O20: 2 | AA20: 12 | AB20: 0 | AC20: 15 | AZ20: 1 | BA20: =IF(AZ20=1,G20,0) -> 0 | BB20: =IF(AZ20=2,G20,0) -> 0 | BC20: =IF(AZ20=3,G20,0) -> 0 | BD20: =IF(AZ20=4,G20,0) -> 0 | BE20: =IF(AZ20=5,G20,0) -> 0 | CA20: 12 | CB20: 0
A21: 12 | B21: VN CP001 | C21: Vybudování zařízení staveniště | D21: komple | E21: 1 | F21: 0 | G21: =E21*F21 -> 0 | H21: 0 | I21: =E21*H21 -> 0 | K21: =E21*J21 -> 0 | O21: 2 | AA21: 12 | AB21: 0 | AC21: 2 | AZ21: 1 | BA21: =IF(AZ21=1,G21,0) -> 0 | BB21: =IF(AZ21=2,G21,0) -> 0 | BC21: =IF(AZ21=3,G21,0) -> 0 | BD21: =IF(AZ21=4,G21,0) -> 0 | BE21: =IF(AZ21=5,G21,0) -> 0 | CA21: 12 | CB21: 0
A22: 13 | B22: VN CP002 | C22: Provoz zařízení staveniště | D22: komple | E22: 1 | F22: 0 | G22: =E22*F22 -> 0 | H22: 0 | I22: =E22*H22 -> 0 | K22: =E22*J22 -> 0 | O22: 2 | AA22: 12 | AB22: 0 | AC22: 3 | AZ22: 1 | BA22: =IF(AZ22=1,G22,0) -> 0 | BB22: =IF(AZ22=2,G22,0) -> 0 | BC22: =IF(AZ22=3,G22,0) -> 0 | BD22: =IF(AZ22=4,G22,0) -> 0 | BE22: =IF(AZ22=5,G22,0) -> 0 | CA22: 12 | CB22: 0
A23: 14 | B23: VN CP003 | C23: Odstranění zařízení staveniště vč.uvedení všech povrchů dotčených stavbou do původního stavu | D23: komple | E23: 1 | F23: 0 | G23: =E23*F23 -> 0 | H23: 0 | I23: =E23*H23 -> 0 | K23: =E23*J23 -> 0 | O23: 2 | AA23: 12 | AB23: 0 | AC23: 18 | AZ23: 1 | BA23: =IF(AZ23=1,G23,0) -> 0 | BB23: =IF(AZ23=2,G23,0) -> 0 | BC23: =IF(AZ23=3,G23,0) -> 0 | BD23: =IF(AZ23=4,G23,0) -> 0 | BE23: =IF(AZ23=5,G23,0) -> 0 | CA23: 12 | CB23: 0
A24: 15 | B24: VN CP004 | C24: Rezerva rozpočtu - počítáno 5% z celkové ceny SO 01 až SO 08 | D24: komple | E24: 1 | F24: 0 | G24: =E24*F24 -> 0 | H24: 0 | I24: =E24*H24 -> 0 | K24: =E24*J24 -> 0 | O24: 2 | AA24: 12 | AB24: 0 | AC24: 5 | AZ24: 1 | BA24: =IF(AZ24=1,G24,0) -> 0 | BB24: =IF(AZ24=2,G24,0) -> 0 | BC24: =IF(AZ24=3,G24,0) -> 0 | BD24: =IF(AZ24=4,G24,0) -> 0 | BE24: =IF(AZ24=5,G24,0) -> 0 | CA24: 12 | CB24: 0
A25: 16 | B25: VN CP005 | C25: Úklid staveniště před protokolárním předáním a převzetím díla | D25: komple | E25: 1 | F25: 0 | G25: =E25*F25 -> 0 | H25: 0 | I25: =E25*H25 -> 0 | K25: =E25*J25 -> 0 | O25: 2 | AA25: 12 | AB25: 0 | AC25: 19 | AZ25: 1 | BA25: =IF(AZ25=1,G25,0) -> 0 | BB25: =IF(AZ25=2,G25,0) -> 0 | BC25: =IF(AZ25=3,G25,0) -> 0 | BD25: =IF(AZ25=4,G25,0) -> 0 | BE25: =IF(AZ25=5,G25,0) -> 0 | CA25: 12 | CB25: 0
B26: Celkem za | C26: VN Vedlejší náklady | G26: =SUM(G17:G25) -> 0 | I26: =SUM(I17:I25) -> 0 | K26: =SUM(K17:K25) -> 0 | O26: 4 | BA26: =SUM(BA17:BA25) -> 0 | BB26: =SUM(BB17:BB25) -> 0 | BC26: =SUM(BC17:BC25) -> 0 | BD26: =SUM(BD17:BD25) -> 0 | BE26: =SUM(BE17:BE25) -> 0

Sheet SO 01 SO 01 KL
A1: SLEPÝ ROZPOČET
A2: Rozpočet | C2: SO 01 | D2: Výměna oken a dveří | F2: JKSO
A4: Objekt | F4: SKP
A5: SO 01 | C5: Výměna oken a dveří | F5: Měrná jednotka
A6: Stavba | F6: Počet jednotek
A7: 01 | C7: Zateplení budovy muzea Brumov-Bylnice | F7: Náklady na m.j. | G7: =IF(G6=0,,ROUND((F30+F32)/G6,1)) -> 0
A8: Projektant | F8: Typ rozpočtu
A9: Zpracovatel projektu
A10: Objednatel
A11: Dodavatel | F11: Zakázkové číslo
A12: Rozpočtoval | F12: Počet listů
A13: ROZPOČTOVÉ NÁKLADY
A14: Základní rozpočtové náklady | D14: Ostatní rozpočtové náklady
B15: HSV celkem | C15: ='SO 01 SO 01 Rek'!E18 -> 0 | D15: ='SO 01 SO 01 Rek'!A23 -> Ztížené výrobní podmínky | G15: ='SO 01 SO 01 Rek'!I23 -> 0
A16: Z | B16: PSV celkem | C16: ='SO 01 SO 01 Rek'!F18 -> 0 | D16: ='SO 01 SO 01 Rek'!A24 -> Oborová přirážka | G16: ='SO 01 SO 01 Rek'!I24 -> 0
A17: R | B17: M práce celkem | C17: ='SO 01 SO 01 Rek'!H18 -> 0 | D17: ='SO 01 SO 01 Rek'!A25 -> Přesun stavebních kapacit | G17: ='SO 01 SO 01 Rek'!I25 -> 0
A18: N | B18: M dodávky celkem | C18: ='SO 01 SO 01 Rek'!G18 -> 0 | D18: ='SO 01 SO 01 Rek'!A26 -> Mimostaveništní doprava | G18: ='SO 01 SO 01 Rek'!I26 -> 0
A19: ZRN celkem | C19: =SUM(C15:C18) -> 0 | D19: ='SO 01 SO 01 Rek'!A27 -> Zařízení staveniště | G19: ='SO 01 SO 01 Rek'!I27 -> 0
D20: ='SO 01 SO 01 Rek'!A28 -> Provoz investora | G20: ='SO 01 SO 01 Rek'!I28 -> 0
A21: HZS | C21: ='SO 01 SO 01 Rek'!I18 -> 0 | D21: ='SO 01 SO 01 Rek'!A29 -> Kompletační činnost (IČD) | G21: ='SO 01 SO 01 Rek'!I29 -> 0
A22: ZRN+HZS | C22: =C19+C21 -> 0 | D22: Ostatní náklady neuvedené | G22: =G23-SUM(G15:G21) -> 0
A23: ZRN+ost.náklady+HZS | C23: =C22+G23 -> 0 | D23: Ostatní náklady celkem | G23: ='SO 01 SO 01 Rek'!H31 -> 0
A24: Vypracoval | D24: Za zhotovitele | F24: Za objednatele
A25: Jméno : | D25: Jméno : | F25: Jméno :
A26: Datum : | D26: Datum : | F26: Datum :
A28: Podpis : | D28: Podpis: | F28: Podpis:
A30: Základ pro DPH | C30: 21 | D30: % | F30: =C23-F32 -> 0
A31: DPH | C31: =C30 -> 21 | D31: % | F31: =ROUND(PRODUCT(F30,C31/100),0) -> 0
A32: Základ pro DPH | C32: 0 | D32: % | F32: 0
A33: DPH | C33: =C32 -> 0 | D33: % | F33: =ROUND(PRODUCT(F32,C33/100),0) -> 0
A34: CENA ZA OBJEKT CELKEM | F34: =ROUND(SUM(F30:F33),0) -> 0
A36: Poznámka :
B37: Nedílnou součástí PD je výkresová část s technickou zprávou a výpisy prvků jednotlivých částí. Cena stanovena dle RTS. Před objednáním nebo zadáním všech výplní vnitřních otvorů do výroby dojde k přeměření a přepočítání všech uvažovaných otvorů, toto provede dodavatel výše uvedených výrobků. Okno jako výrobek musí splňovat požadavky ČSN 73 0540, ČSN 73 0532 a TNI 74 6077. dodávka oken a dveří včetně pomocných konstrukcí a systémového napojení na obvodový plášť! Pokud je kdekoliv v projektové dokumentaci (technická zpráva, výkaz výměr, výkresová část) uveden součinitel prostupu tepla U pro celou výplň otvoru, je součinitelem prostupu tepla myšlen vždy součinitel výplně otvoru normového rozměru dle normy EN 14351-1 Okna a dveře.

Sheet SO 01 SO 01 Rek
A1: Stavba : | C1: 01 Zateplení budovy muzea Brumov-Bylnice | G1: Rozpočet : | H1: SO 01
A2: Objekt : | C2: SO 01 Výměna oken a dveří | G2: Výměna oken a dveří
A4: REKAPITULACE STAVEBNÍCH DÍLŮ
B6: Stavební díl | E6: HSV | F6: PSV | G6: Dodávka | H6: Montáž | I6: HZS
A7: ='SO 01 SO 01 Pol'!B7 -> 61 | B7: ='SO 01 SO 01 Pol'!C7 -> Upravy povrchů vnitřní | E7: ='SO 01 SO 01 Pol'!BA32 -> 0 | F7: ='SO 01 SO 01 Pol'!BB32 -> 0 | G7: ='SO 01 SO 01 Pol'!BC32 -> 0 | H7: ='SO 01 SO 01 Pol'!BD32 -> 0 | I7: ='SO 01 SO 01 Pol'!BE32 -> 0
A8: ='SO 01 SO 01 Pol'!B33 -> 62 | B8: ='SO 01 SO 01 Pol'!C33 -> Úpravy povrchů vnější | E8: ='SO 01 SO 01 Pol'!BA46 -> 0 | F8: ='SO 01 SO 01 Pol'!BB46 -> 0 | G8: ='SO 01 SO 01 Pol'!BC46 -> 0 | H8: ='SO 01 SO 01 Pol'!BD46 -> 0 | I8: ='SO 01 SO 01 Pol'!BE46 -> 0
A9: ='SO 01 SO 01 Pol'!B47 -> 64 | B9: ='SO 01 SO 01 Pol'!C47 -> Výplně otvorů | E9: ='SO 01 SO 01 Pol'!BA155 -> 0 | F9: ='SO 01 SO 01 Pol'!BB155 -> 0 | G9: ='SO 01 SO 01 Pol'!BC155 -> 0 | H9: ='SO 01 SO 01 Pol'!BD155 -> 0 | I9: ='SO 01 SO 01 Pol'!BE155 -> 0
A10: ='SO 01 SO 01 Pol'!B156 -> 95 | B10: ='SO 01 SO 01 Pol'!C156 -> Dokončovací konstrukce na pozemních stavbách | E10: ='SO 01 SO 01 Pol'!BA181 -> 0 | F10: ='SO 01 SO 01 Pol'!BB181 -> 0 | G10: ='SO 01 SO 01 Pol'!BC181 -> 0 | H10: ='SO 01 SO 01 Pol'!BD181 -> 0 | I10: ='SO 01 SO 01 Pol'!BE181 -> 0
A11: ='SO 01 SO 01 Pol'!B182 -> 96 | B11: ='SO 01 SO 01 Pol'!C182 -> Bourání konstrukcí | E11: ='SO 01 SO 01 Pol'!BA279 -> 0 | F11: ='SO 01 SO 01 Pol'!BB279 -> 0 | G11: ='SO 01 SO 01 Pol'!BC279 -> 0 | H11: ='SO 01 SO 01 Pol'!BD279 -> 0 | I11: ='SO 01 SO 01 Pol'!BE279 -> 0
A12: ='SO 01 SO 01 Pol'!B280 -> 99 | B12: ='SO 01 SO 01 Pol'!C280 -> Staveništní přesun hmot | E12: ='SO 01 SO 01 Pol'!BA282 -> 0 | F12: ='SO 01 SO 01 Pol'!BB282 -> 0 | G12: ='SO 01 SO 01 Pol'!BC282 -> 0 | H12: ='SO 01 SO 01 Pol'!BD282 -> 0 | I12: ='SO 01 SO 01 Pol'!BE282 -> 0
A13: ='SO 01 SO 01 Pol'!B283 -> 764 | B13: ='SO 01 SO 01 Pol'!C283 -> Konstrukce klempířské | E13: ='SO 01 SO 01 Pol'!BA313 -> 0 | F13: ='SO 01 SO 01 Pol'!BB313 -> 0 | G13: ='SO 01 SO 01 Pol'!BC313 -> 0 | H13: ='SO 01 SO 01 Pol'!BD313 -> 0 | I13: ='SO 01 SO 01 Pol'!BE313 -> 0
A14: ='SO 01 SO 01 Pol'!B314 -> 766 | B14: ='SO 01 SO 01 Pol'!C314 -> Konstrukce truhlářské | E14: ='SO 01 SO 01 Pol'!BA339 -> 0 | F14: ='SO 01 SO 01 Pol'!BB339 -> 0 | G14: ='SO 01 SO 01 Pol'!BC339 -> 0 | H14: ='SO 01 SO 01 Pol'!BD339 -> 0 | I14: ='SO 01 SO 01 Pol'!BE339 -> 0
A15: ='SO 01 SO 01 Pol'!B340 -> 767 | B15: ='SO 01 SO 01 Pol'!C340 -> Konstrukce zámečnické | E15: ='SO 01 SO 01 Pol'!BA377 -> 0 | F15: ='SO 01 SO 01 Pol'!BB377 -> 0 | G15: ='SO 01 SO 01 Pol'!BC377 -> 0 | H15: ='SO 01 SO 01 Pol'!BD377 -> 0 | I15: ='SO 01 SO 01 Pol'!BE377 -> 0
A16: ='SO 01 SO 01 Pol'!B378 -> 784 | B16: ='SO 01 SO 01 Pol'!C378 -> Malby | E16: ='SO 01 SO 01 Pol'!BA427 -> 0 | F16: ='SO 01 SO 01 Pol'!BB427 -> 0 | G16: ='SO 01 SO 01 Pol'!BC427 -> 0 | H16: ='SO 01 SO 01 Pol'!BD427 -> 0 | I16: ='SO 01 SO 01 Pol'!BE427 -> 0
A17: ='SO 01 SO 01 Pol'!B428 -> D96 | B17: ='SO 01 SO 01 Pol'!C428 -> Přesuny suti a vybouraných hmot | E17: ='SO 01 SO 01 Pol'!BA434 -> 0 | F17: ='SO 01 SO 01 Pol'!BB434 -> 0 | G17: ='SO 01 SO 01 Pol'!BC434 -> 0 | H17: ='SO 01 SO 01 Pol'!BD434 -> 0 | I17: ='SO 01 SO 01 Pol'!BE434 -> 0
B18: CELKEM OBJEKT | E18: =SUM(E7:E17) -> 0 | F18: =SUM(F7:F17) -> 0 | G18: =SUM(G7:G17) -> 0 | H18: =SUM(H7:H17) -> 0 | I18: =SUM(I7:I17) -> 0
A20: VEDLEJŠÍ ROZPOČTOVÉ NÁKLADY
A22: Název VRN | E22: Kč | F22: % | G22: Základna | I22: Kč
A23: Ztížené výrobní podmínky | G23: 0 | I23: =E23+F23*G23/100 -> 0 | BA23: 0
A24: Oborová přirážka | G24: 0 | I24: =E24+F24*G24/100 -> 0 | BA24: 0
A25: Přesun stavebních kapacit | G25: 0 | I25: =E25+F25*G25/100 -> 0 | BA25: 0
A26: Mimostaveništní doprava | G26: 0 | I26: =E26+F26*G26/100 -> 0 | BA26: 0
A27: Zařízení staveniště | G27: 0 | I27: =E27+F27*G27/100 -> 0 | BA27: 1
A28: Provoz investora | G28: 0 | I28: =E28+F28*G28/100 -> 0 | BA28: 1
A29: Kompletační činnost (IČD) | G29: 0 | I29: =E29+F29*G29/100 -> 0 | BA29: 2
A30: Rezerva rozpočtu | G30: 0 | I30: =E30+F30*G30/100 -> 0 | BA30: 2
B31: CELKEM VRN | H31: =SUM(I23:I30) -> 0

Sheet SO 01 SO 01 Pol
A1: Slepý rozpočet
A3: Stavba : | C3: 01 Zateplení budovy muzea Brumov-Bylnice | E3: Rozpočet: | F3: ='SO 01 SO 01 Rek'!H1 -> SO 01
A4: Objekt : | C4: SO 01 Výměna oken a dveří | E4: ='SO 01 SO 01 Rek'!G2 -> Výměna oken a dveří
A6: P.č. | B6: Číslo položky | C6: Název položky | D6: MJ | E6: množství | F6: cena / MJ | G6: celkem (Kč) | H6: Jednotková hmotnost | I6: Celková hmotnost | J6: Jednotková dem.hmot. | K6: Celková dem.hmot.
A7: Díl: | B7: 61 | C7: Upravy povrchů vnitřní | O7: 1
A8: 1 | B8: 612425931R00 | C8: Omítka vápenná vnitřního ostění - štuková | D8: m2 | E8: 120.4276 | F8: 0 | G8: =E8*F8 -> 0 | H8: 0.057 | I8: =E8*H8 -> 6.8643732 | J8: 0 | K8: =E8*J8 -> 0 | O8: 2 | AA8: 1 | AB8: 1 | AC8: 1 | AZ8: 1 | BA8: =IF(AZ8=1,G8,0) -> 0 | BB8: =IF(AZ8=2,G8,0) -> 0 | BC8: =IF(AZ8=3,G8,0) -> 0 | BD8: =IF(AZ8=4,G8,0) -> 0 | BE8: =IF(AZ8=5,G8,0) -> 0 | CA8: 1 | CB8: 1
C9: T1:(2,28+1,30)*2*5*0,45 | E9: 16.11 | M9: T1:(2,28+1,30)*2*5*0,45
C10: T2:(1,20+1,35)*2*2*0,45 | E10: 4.59 | M10: T2:(1,20+1,35)*2*2*0,45
C11: T3:(0,56+0,95)*2*2*0,45 | E11: 2.718 | M11: T3:(0,56+0,95)*2*2*0,45
C12: T4:(0,72+1,00)*2*4*0,45 | E12: 6.192 | M12: T4:(0,72+1,00)*2*4*0,45
C13: T5:(1,38+1,30)*2*1*0,45 | E13: 2.412 | M13: T5:(1,38+1,30)*2*1*0,45
C14: T6:(1,17+2,10)*2*1*0,45 | E14: 2.943 | M14: T6:(1,17+2,10)*2*1*0,45
C15: T7:(1,00+2,10)*2*1*0,45 | E15: 2.79 | M15: T7:(1,00+2,10)*2*1*0,45
C16: T8:(2,01+1,84)*4*0,45 | E16: 6.93 | M16: T8:(2,01+1,84)*4*0,45
C17: T9:(1,44*1,84)*2*4*0,45 | E17: 9.5386 | M17: T9:(1,44*1,84)*2*4*0,45
C18: T10:(1,18+1,57)*2*2*0,45 | E18: 4.95 | M18: T10:(1,18+1,57)*2*2*0,45
C19: T11:(1,73+1,00)*2*2*0,45 | E19: 4.914 | M19: T11:(1,73+1,00)*2*2*0,45
C20: T12:(1,22+1,00)*2*2*0,45 | E20: 3.996 | M20: T12:(1,22+1,00)*2*2*0,45
... C31: T23:(2,25+0,60)*2*1*0,45 | E31: 2.565 | M31: T23:(2,25+0,60)*2*1*0,45
B32: Celkem za | C32: 61 Upravy povrchů vnitřní | G32: =SUM(G7:G31) -> 0 | I32: =SUM(I7:I31) -> 6.8643732 | K32: =SUM(K7:K31) -> 0 | O32: 4 | BA32: =SUM(BA7:BA31) -> 0 | BB32: =SUM(BB7:BB31) -> 0 | BC32: =SUM(BC7:BC31) -> 0 | BD32: =SUM(BD7:BD31) -> 0 | BE32: =SUM(BE7:BE31) -> 0
A33: Díl: | B33: 62 | C33: Úpravy povrchů vnější | O33: 1
A34: 2 | B34: 629451112R00 | C34: Vyrovnávací vrstva MC šířky do 50 cm | D34: m | E34: 60.39 | F34: 0 | G34: =E34*F34 -> 0 | H34: 0.0212 | I34: =E34*H34 -> 1.280268 | J34: 0 | K34: =E34*J34 -> 0 | O34: 2 | AA34: 1 | AB34: 0 | AC34: 0 | AZ34: 1 | BA34: =IF(AZ34=1,G34,0) -> 0 | BB34: =IF(AZ34=2,G34,0) -> 0 | BC34: =IF(AZ34=3,G34,0) -> 0 | BD34: =IF(AZ34=4,G34,0) -> 0 | BE34: =IF(AZ34=5,G34,0) -> 0 | CA34: 1 | CB34: 0
C35: T51:2,28*5 | E35: 11.4 | M35: T51:2,28*5
C36: T52:1,20*7 | E36: 8.4 | M36: T52:1,20*7
C37: T53:0,56*2 | E37: 1.12 | M37: T53:0,56*2
C38: T54:0,72*4 | E38: 2.88 | M38: T54:0,72*4
C39: T55:1,38*1 | E39: 1.38 | M39: T55:1,38*1
C40: T56:2,01*4 | E40: 8.04 | M40: T56:2,01*4
C41: T57:1,44*4 | E41: 5.76 | M41: T57:1,44*4
C42: T58:1,73*2 | E42: 3.46 | M42: T58:1,73*2
C43: T59:1,30*4 | E43: 5.2 | M43: T59:1,30*4
C44: T60:1,25*3 | E44: 3.75 | M44: T60:1,25*3
C45: T61:2,25*4 | E45: 9 | M45: T61:2,25*4
B46: Celkem za | C46: 62 Úpravy povrchů vnější | G46: =SUM(G33:G45) -> 0 | I46: =SUM(I33:I45) -> 1.280268 | K46: =SUM(K33:K45) -> 0 | O46: 4 | BA46: =SUM(BA33:BA45) -> 0 | BB46: =SUM(BB33:BB45) -> 0 | BC46: =SUM(BC33:BC45) -> 0 | BD46: =SUM(BD33:BD45) -> 0 | BE46: =SUM(BE33:BE45) -> 0
A47: Díl: | B47: 64 | C47: Výplně otvorů | O47: 1
A48: 3 | B48: 641952211R00 | C48: Osazení rámů okenních dřevěných, vč.vnitř.. a venk napojení na obv.plášť | D48: kus | E48: 44 | F48: 0 | G48: =E48*F48 -> 0 | H48: 0.04128 | I48: =E48*H48 -> 1.81632 | J48: 0 | K48: =E48*J48 -> 0 | O48: 2 | AA48: 1 | AB48: 1 | AC48: 1 | AZ48: 1 | BA48: =IF(AZ48=1,G48,0) -> 0 | BB48: =IF(AZ48=2,G48,0) -> 0 | BC48: =IF(AZ48=3,G48,0) -> 0 | BD48: =IF(AZ48=4,G48,0) -> 0 | BE48: =IF(AZ48=5,G48,0) -> 0 | CA48: 1 | CB48: 1
C49: T1:5 | E49: 5 | M49: T1:5
C50: T2:2 | E50: 2 | M50: T2:2
C51: T3:2 | E51: 2 | M51: T3:2
C52: T4:4 | E52: 4 | M52: T4:4
C53: T5:1 | E53: 1 | M53: T5:1
C54: T6:0 | E54: 0 | M54: T6:0
C55: T7:0 | E55: 0 | M55: T7:0
C56: T8:4 | E56: 4 | M56: T8:4
C57: T9:4 | E57: 4 | M57: T9:4
C58: T10:2 | E58: 2 | M58: T10:2
C59: T11:2 | E59: 2 | M59: T11:2
C60: T12:2 | E60: 2 | M60: T12:2
... C71: T23:1 | E71: 1 | M71: T23:1
A72: 4 | B72: 641960000R00 | C72: Těsnění spár otvorových prvků PU pěnou | D72: m | E72: 287.58 | F72: 0 | G72: =E72*F72 -> 0 | H72: 0.0001 | I72: =E72*H72 -> 0.028758 | J72: 0 | K72: =E72*J72 -> 0 | O72: 2 | AA72: 1 | AB72: 1 | AC72: 1 | AZ72: 1 | BA72: =IF(AZ72=1,G72,0) -> 0 | BB72: =IF(AZ72=2,G72,0) -> 0 | BC72: =IF(AZ72=3,G72,0) -> 0 | BD72: =IF(AZ72=4,G72,0) -> 0 | BE72: =IF(AZ72=5,G72,0) -> 0 | CA72: 1 | CB72: 1
C73: T1:(2,28*2+2*1,30)*5 | E73: 35.8 | M73: T1:(2,28*2+2*1,30)*5
C74: T2:(1,20*2+2*1,35)*2 | E74: 10.2 | M74: T2:(1,20*2+2*1,35)*2
C75: T3:(0,56*2+2*0,95)*2 | E75: 6.04 | M75: T3:(0,56*2+2*0,95)*2
C76: T4:(0,72*2+2*1,00)*4 | E76: 13.76 | M76: T4:(0,72*2+2*1,00)*4
C77: T5:(1,38*2+2*1,30)*1 | E77: 5.36 | M77: T5:(1,38*2+2*1,30)*1
C78: T6:(1,17*2+2*2,10)*1 | E78: 6.54 | M78: T6:(1,17*2+2*2,10)*1
C79: T7:(1,00*2+2*2,10)*1 | E79: 6.2 | M79: T7:(1,00*2+2*2,10)*1
C80: T8:(2,01*2+2*1,84)*4 | E80: 30.8 | M80: T8:(2,01*2+2*1,84)*4
C81: T9:(1,44*2+2*1,84)*4 | E81: 26.24 | M81: T9:(1,44*2+2*1,84)*4
C82: T10:(1,18*2+2*1,57)*2 | E82: 11 | M82: T10:(1,18*2+2*1,57)*2
C83: T11:(1,73*2+2*1,00)*2 | E83: 10.92 | M83: T11:(1,73*2+2*1,00)*2
C84: T12:(1,22*2+2*1,00)*2 | E84: 8.88 | M84: T12:(1,22*2+2*1,00)*2
... C95: T23:(2,25*2+2*0,60)*1 | E95: 5.7 | M95: T23:(2,25*2+2*0,60)*1
A96: 5 | B96: 642952110R00 | C96: Osazení zárubní dveřních dřevěných, vč.vnitř.a venk.napojení na obv.plášť | D96: kus | E96: 2 | F96: 0 | G96: =E96*F96 -> 0 | H96: 0.00982 | I96: =E96*H96 -> 0.01964 | J96: 0 | K96: =E96*J96 -> 0 | O96: 2 | AA96: 1 | AB96: 1 | AC96: 1 | AZ96: 1 | BA96: =IF(AZ96=1,G96,0) -> 0 | BB96: =IF(AZ96=2,G96,0) -> 0 | BC96: =IF(AZ96=3,G96,0) -> 0 | BD96: =IF(AZ96=4,G96,0) -> 0 | BE96: =IF(AZ96=5,G96,0) -> 0 | CA96: 1 | CB96: 1
C97: T1:0 | E97: 0 | M97: T1:0
C98: T2:0 | E98: 0 | M98: T2:0
C99: T3:0 | E99: 0 | M99: T3:0
C100: T4:0 | E100: 0 | M100: T4:0
C101: T5:0 | E101: 0 | M101: T5:0
C102: T6:1 | E102: 1 | M102: T6:1
C103: T7:1 | E103: 1 | M103: T7:1
C104: T8:0 | E104: 0 | M104: T8:0
C105: T9:0 | E105: 0 | M105: T9:0
C106: T10:0 | E106: 0 | M106: T10:0
C107: T11:0 | E107: 0 | M107: T11:0
C108: T12:0 | E108: 0 | M108: T12:0
... C119: T23:0 | E119: 0 | M119: T23:0
A120: 6 | B120: 648991113RT3 | C120: Osazení parapetních desek š.nad 20 cm včetně dodávky par. desky a dmtž stávající | D120: m | E120: 60.39 | F120: 0 | G120: =E120*F120 -> 0 | H120: 0.01318 | I120: =E120*H120 -> 0.7959402 | J120: 0 | K120: =E120*J120 -> 0 | O120: 2 | AA120: 1 | AB120: 1 | AC120: 1 | AZ120: 1 | BA120: =IF(AZ120=1,G120,0) -> 0 | BB120: =IF(AZ120=2,G120,0) -> 0 | BC120: =IF(AZ120=3,G120,0) -> 0 | BD120: =IF(AZ120=4,G120,0) -> 0 | BE120: =IF(AZ120=5,G120,0) -> 0 | CA120: 1 | CB120: 1
C121: T51:2,28*5 | E121: 11.4 | M121: T51:2,28*5
C122: T52:1,20*7 | E122: 8.4 | M122: T52:1,20*7
C123: T53:0,56*2 | E123: 1.12 | M123: T53:0,56*2
C124: T54:0,72*4 | E124: 2.88 | M124: T54:0,72*4
C125: T55:1,38*1 | E125: 1.38 | M125: T55:1,38*1
C126: T56:2,01*4 | E126: 8.04 | M126: T56:2,01*4
C127: T57:1,44*4 | E127: 5.76 | M127: T57:1,44*4
C128: T58:1,73*2 | E128: 3.46 | M128: T58:1,73*2
C129: T59:1,30*4 | E129: 5.2 | M129: T59:1,30*4
C130: T60:1,25*3 | E130: 3.75 | M130: T60:1,25*3
C131: T61:2,25*4 | E131: 9 | M131: T61:2,25*4
A132: 7 | B132: 611CP 01 | C132: D+M Okno dřevěné 2280*1300 dle specifikace T01 | D132: kus | E132: 5 | F132: 0 | G132: =E132*F132 -> 0 | H132: 0.09135 | I132: =E132*H132 -> 0.45675 | K132: =E132*J132 -> 0 | O132: 2 | AA132: 3 | AB132: 1 | AC132: 611CP 01 | AZ132: 1 | BA132: =IF(AZ132=1,G132,0) -> 0 | BB132: =IF(AZ132=2,G132,0) -> 0 | BC132: =IF(AZ132=3,G132,0) -> 0 | BD132: =IF(AZ132=4,G132,0) -> 0 | BE132: =IF(AZ132=5,G132,0) -> 0 | CA132: 3 | CB132: 1
A133: 8 | B133: 611CP 02 | C133: D+M Okno dřevěné 1200*1350 dle specifikace T02 | D133: kus | E133: 2 | F133: 0 | G133: =E133*F133 -> 0 | H133: 0.09135 | I133: =E133*H133 -> 0.1827 | K133: =E133*J133 -> 0 | O133: 2 | AA133: 3 | AB133: 1 | AC133: 611CP 02 | AZ133: 1 | BA133: =IF(AZ133=1,G133,0) -> 0 | BB133: =IF(AZ133=2,G133,0) -> 0 | BC133: =IF(AZ133=3,G133,0) -> 0 | BD133: =IF(AZ133=4,G133,0) -> 0 | BE133: =IF(AZ133=5,G133,0) -> 0 | CA133: 3 | CB133: 1
A134: 9 | B134: 611CP 03 | C134: D+M Okno dřevěné 560*950 dle specifikace T03 | D134: kus | E134: 2 | F134: 0 | G134: =E134*F134 -> 0 | H134: 0.09135 | I134: =E134*H134 -> 0.1827 | K134: =E134*J134 -> 0 | O134: 2 | AA134: 3 | AB134: 1 | AC134: 611CP 03 | AZ134: 1 | BA134: =IF(AZ134=1,G134,0) -> 0 | BB134: =IF(AZ134=2,G134,0) -> 0 | BC134: =IF(AZ134=3,G134,0) -> 0 | BD134: =IF(AZ134=4,G134,0) -> 0 | BE134: =IF(AZ134=5,G134,0) -> 0 | CA134: 3 | CB134: 1
A135: 10 | B135: 611CP 04 | C135: D+M Okno dřevěné 720*1000 dle specifikace T04 | D135: kus | E135: 4 | F135: 0 | G135: =E135*F135 -> 0 | H135: 0.09135 | I135: =E135*H135 -> 0.3654 | K135: =E135*J135 -> 0 | O135: 2 | AA135: 3 | AB135: 1 | AC135: 611CP 04 | AZ135: 1 | BA135: =IF(AZ135=1,G135,0) -> 0 | BB135: =IF(AZ135=2,G135,0) -> 0 | BC135: =IF(AZ135=3,G135,0) -> 0 | BD135: =IF(AZ135=4,G135,0) -> 0 | BE135: =IF(AZ135=5,G135,0) -> 0 | CA135: 3 | CB135: 1
A136: 11 | B136: 611CP 05 | C136: D+M Okno dřevěné 1380*1300 dle specifikace T05 | D136: kus | E136: 1 | F136: 0 | G136: =E136*F136 -> 0 | H136: 0.09135 | I136: =E136*H136 -> 0.09135 | K136: =E136*J136 -> 0 | O136: 2 | AA136: 3 | AB136: 1 | AC136: 611CP 05 | AZ136: 1 | BA136: =IF(AZ136=1,G136,0) -> 0 | BB136: =IF(AZ136=2,G136,0) -> 0 | BC136: =IF(AZ136=3,G136,0) -> 0 | BD136: =IF(AZ136=4,G136,0) -> 0 | BE136: =IF(AZ136=5,G136,0) -> 0 | CA136: 3 | CB136: 1
A137: 12 | B137: 611CP 06 | C137: D+M Vstupní dveře dřevěné 1170*2100 dle specifikace T06 | D137: kus | E137: 1 | F137: 0 | G137: =E137*F137 -> 0 | H137: 0.09135 | I137: =E137*H137 -> 0.09135 | K137: =E137*J137 -> 0 | O137: 2 | AA137: 3 | AB137: 1 | AC137: 611CP 06 | AZ137: 1 | BA137: =IF(AZ137=1,G137,0) -> 0 | BB137: =IF(AZ137=2,G137,0) -> 0 | BC137: =IF(AZ137=3,G137,0) -> 0 | BD137: =IF(AZ137=4,G137,0) -> 0 | BE137: =IF(AZ137=5,G137,0) -> 0 | CA137: 3 | CB137: 1
A138: 13 | B138: 611CP 07 | C138: D+M Vstupní dveře dřevěné 1000*2100 dle specifikace T07 | D138: kus | E138: 1 | F138: 0 | G138: =E138*F138 -> 0 | H138: 0.09135 | I138: =E138*H138 -> 0.09135 | K138: =E138*J138 -> 0 | O138: 2 | AA138: 3 | AB138: 1 | AC138: 611CP 07 | AZ138: 1 | BA138: =IF(AZ138=1,G138,0) -> 0 | BB138: =IF(AZ138=2,G138,0) -> 0 | BC138: =IF(AZ138=3,G138,0) -> 0 | BD138: =IF(AZ138=4,G138,0) -> 0 | BE138: =IF(AZ138=5,G138,0) -> 0 | CA138: 3 | CB138: 1
A139: 14 | B139: 611CP 08 | C139: D+M Okno dřevěné 2010*1840 dle specifikace T08 | D139: kus | E139: 4 | F139: 0 | G139: =E139*F139 -> 0 | H139: 0.09135 | I139: =E139*H139 -> 0.3654 | K139: =E139*J139 -> 0 | O139: 2 | AA139: 3 | AB139: 1 | AC139: 611CP 08 | AZ139: 1 | BA139: =IF(AZ139=1,G139,0) -> 0 | BB139: =IF(AZ139=2,G139,0) -> 0 | BC139: =IF(AZ139=3,G139,0) -> 0 | BD139: =IF(AZ139=4,G139,0) -> 0 | BE139: =IF(AZ139=5,G139,0) -> 0 | CA139: 3 | CB139: 1
A140: 15 | B140: 611CP 09 | C140: D+M Okno dřevěné 1440*1840 dle specifikace T09 | D140: kus | E140: 4 | F140: 0 | G140: =E140*F140 -> 0 | H140: 0.09135 | I140: =E140*H140 -> 0.3654 | K140: =E140*J140 -> 0 | O140: 2 | AA140: 3 | AB140: 1 | AC140: 611CP 09 | AZ140: 1 | BA140: =IF(AZ140=1,G140,0) -> 0 | BB140: =IF(AZ140=2,G140,0) -> 0 | BC140: =IF(AZ140=3,G140,0) -> 0 | BD140: =IF(AZ140=4,G140,0) -> 0 | BE140: =IF(AZ140=5,G140,0) -> 0 | CA140: 3 | CB140: 1
A141: 16 | B141: 611CP 10 | C141: D+M Okno dřevěné 1180*1570 dle specifikace T10 | D141: kus | E141: 2 | F141: 0 | G141: =E141*F141 -> 0 | H141: 0.09135 | I141: =E141*H141 -> 0.1827 | K141: =E141*J141 -> 0 | O141: 2 | AA141: 3 | AB141: 1 | AC141: 611CP 10 | AZ141: 1 | BA141: =IF(AZ141=1,G141,0) -> 0 | BB141: =IF(AZ141=2,G141,0) -> 0 | BC141: =IF(AZ141=3,G141,0) -> 0 | BD141: =IF(AZ141=4,G141,0) -> 0 | BE141: =IF(AZ141=5,G141,0) -> 0 | CA141: 3 | CB141: 1
A142: 17 | B142: 611CP 11 | C142: D+M Okno dřevěné 1730*1000 dle specifikace T11 | D142: kus | E142: 2 | F142: 0 | G142: =E142*F142 -> 0 | H142: 0.09135 | I142: =E142*H142 -> 0.1827 | K142: =E142*J142 -> 0 | O142: 2 | AA142: 3 | AB142: 1 | AC142: 611CP 11 | AZ142: 1 | BA142: =IF(AZ142=1,G142,0) -> 0 | BB142: =IF(AZ142=2,G142,0) -> 0 | BC142: =IF(AZ142=3,G142,0) -> 0 | BD142: =IF(AZ142=4,G142,0) -> 0 | BE142: =IF(AZ142=5,G142,0) -> 0 | CA142: 3 | CB142: 1
...

Sheet SO 02 SO 02.2 KL
A1: SLEPÝ ROZPOČET
A2: Rozpočet | C2: SO 02.2 | D2: Zateplení fasády | F2: JKSO
A4: Objekt | F4: SKP
A5: SO 02 | C5: Zateplení fasády | F5: Měrná jednotka
A6: Stavba | F6: Počet jednotek
A7: 01 | C7: Zateplení budovy muzea Brumov-Bylnice | F7: Náklady na m.j. | G7: =IF(G6=0,,ROUND((F30+F32)/G6,1)) -> 0
A8: Projektant | F8: Typ rozpočtu
A9: Zpracovatel projektu
A10: Objednatel
A11: Dodavatel | F11: Zakázkové číslo
A12: Rozpočtoval | F12: Počet listů
A13: ROZPOČTOVÉ NÁKLADY
A14: Základní rozpočtové náklady | D14: Ostatní rozpočtové náklady
B15: HSV celkem | C15: ='SO 02 SO 02.2 Rek'!E20 -> 0 | D15: ='SO 02 SO 02.2 Rek'!A25 -> Ztížené výrobní podmínky | G15: ='SO 02 SO 02.2 Rek'!I25 -> 0
A16: Z | B16: PSV celkem | C16: ='SO 02 SO 02.2 Rek'!F20 -> 0 | D16: ='SO 02 SO 02.2 Rek'!A26 -> Oborová přirážka | G16: ='SO 02 SO 02.2 Rek'!I26 -> 0
A17: R | B17: M práce celkem | C17: ='SO 02 SO 02.2 Rek'!H20 -> 0 | D17: ='SO 02 SO 02.2 Rek'!A27 -> Přesun stavebních kapacit | G17: ='SO 02 SO 02.2 Rek'!I27 -> 0
A18: N | B18: M dodávky celkem | C18: ='SO 02 SO 02.2 Rek'!G20 -> 0 | D18: ='SO 02 SO 02.2 Rek'!A28 -> Mimostaveništní doprava | G18: ='SO 02 SO 02.2 Rek'!I28 -> 0
A19: ZRN celkem | C19: =SUM(C15:C18) -> 0 | D19: ='SO 02 SO 02.2 Rek'!A29 -> Zařízení staveniště | G19: ='SO 02 SO 02.2 Rek'!I29 -> 0
D20: ='SO 02 SO 02.2 Rek'!A30 -> Provoz investora | G20: ='SO 02 SO 02.2 Rek'!I30 -> 0
A21: HZS | C21: ='SO 02 SO 02.2 Rek'!I20 -> 0 | D21: ='SO 02 SO 02.2 Rek'!A31 -> Kompletační činnost (IČD) | G21: ='SO 02 SO 02.2 Rek'!I31 -> 0
A22: ZRN+HZS | C22: =C19+C21 -> 0 | D22: Ostatní náklady neuvedené | G22: =G23-SUM(G15:G21) -> 0
A23: ZRN+ost.náklady+HZS | C23: =C22+G23 -> 0 | D23: Ostatní náklady celkem | G23: ='SO 02 SO 02.2 Rek'!H33 -> 0
A24: Vypracoval | D24: Za zhotovitele | F24: Za objednatele
A25: Jméno : | D25: Jméno : | F25: Jméno :
A26: Datum : | D26: Datum : | F26: Datum :
A28: Podpis : | D28: Podpis: | F28: Podpis:
A30: Základ pro DPH | C30: 21 | D30: % | F30: =C23-F32 -> 0
A31: DPH | C31: =C30 -> 21 | D31: % | F31: =ROUND(PRODUCT(F30,C31/100),0) -> 0
A32: Základ pro DPH | C32: 0 | D32: % | F32: 0
A33: DPH | C33: =C32 -> 0 | D33: % | F33: =ROUND(PRODUCT(F32,C33/100),0) -> 0
A34: CENA ZA OBJEKT CELKEM | F34: =ROUND(SUM(F30:F33),0) -> 0
A36: Poznámka :
B37: Nedílnou součástí PD je výkresová část s technickou zprávou a výpisy prvků jednotlivých částí. Cena stanovena dle RTS. Je nutné zrealizovat odtrhové zkoušky! Kvalitativní třída ETICS A, kotvy zapuštěné! Dodavatel může použít polystyren (izolant) o vyšší pevnosti než je předepsána a tepelně izolační vlastnosti mohou mít součinitel prostupu tepla lepší než je předepsáno v projektové dokumentaci.

Sheet SO 02 SO 02.2 Rek
A1: Stavba : | C1: 01 Zateplení budovy muzea Brumov-Bylnice | G1: Rozpočet : | H1: SO 02.2
A2: Objekt : | C2: SO 02 Zateplení fasády | G2: Zateplení fasády
A4: REKAPITULACE STAVEBNÍCH DÍLŮ
B6: Stavební díl | E6: HSV | F6: PSV | G6: Dodávka | H6: Montáž | I6: HZS
A7: ='SO 02 SO 02.2 Pol'!B7 -> 3 | B7: ='SO 02 SO 02.2 Pol'!C7 -> Svislé a kompletní konstrukce | E7: ='SO 02 SO 02.2 Pol'!BA13 -> 0 | F7: ='SO 02 SO 02.2 Pol'!BB13 -> 0 | G7: ='SO 02 SO 02.2 Pol'!BC13 -> 0 | H7: ='SO 02 SO 02.2 Pol'!BD13 -> 0 | I7: ='SO 02 SO 02.2 Pol'!BE13 -> 0
A8: ='SO 02 SO 02.2 Pol'!B14 -> 61 | B8: ='SO 02 SO 02.2 Pol'!C14 -> Upravy povrchů vnitřní | E8: ='SO 02 SO 02.2 Pol'!BA17 -> 0 | F8: ='SO 02 SO 02.2 Pol'!BB17 -> 0 | G8: ='SO 02 SO 02.2 Pol'!BC17 -> 0 | H8: ='SO 02 SO 02.2 Pol'!BD17 -> 0 | I8: ='SO 02 SO 02.2 Pol'!BE17 -> 0
A9: ='SO 02 SO 02.2 Pol'!B18 -> 62 | B9: ='SO 02 SO 02.2 Pol'!C18 -> Úpravy povrchů vnější | E9: ='SO 02 SO 02.2 Pol'!BA196 -> 0 | F9: ='SO 02 SO 02.2 Pol'!BB196 -> 0 | G9: ='SO 02 SO 02.2 Pol'!BC196 -> 0 | H9: ='SO 02 SO 02.2 Pol'!BD196 -> 0 | I9: ='SO 02 SO 02.2 Pol'!BE196 -> 0
A10: ='SO 02 SO 02.2 Pol'!B197 -> 94 | B10: ='SO 02 SO 02.2 Pol'!C197 -> Lešení a stavební výtahy | E10: ='SO 02 SO 02.2 Pol'!BA207 -> 0 | F10: ='SO 02 SO 02.2 Pol'!BB207 -> 0 | G10: ='SO 02 SO 02.2 Pol'!BC207 -> 0 | H10: ='SO 02 SO 02.2 Pol'!BD207 -> 0 | I10: ='SO 02 SO 02.2 Pol'!BE207 -> 0
A11: ='SO 02 SO 02.2 Pol'!B208 -> 96 | B11: ='SO 02 SO 02.2 Pol'!C208 -> Bourání konstrukcí | E11: ='SO 02 SO 02.2 Pol'!BA212 -> 0 | F11: ='SO 02 SO 02.2 Pol'!BB212 -> 0 | G11: ='SO 02 SO 02.2 Pol'!BC212 -> 0 | H11: ='SO 02 SO 02.2 Pol'!BD212 -> 0 | I11: ='SO 02 SO 02.2 Pol'!BE212 -> 0
A12: ='SO 02 SO 02.2 Pol'!B213 -> 97 | B12: ='SO 02 SO 02.2 Pol'!C213 -> Prorážení otvorů | E12: ='SO 02 SO 02.2 Pol'!BA218 -> 0 | F12: ='SO 02 SO 02.2 Pol'!BB218 -> 0 | G12: ='SO 02 SO 02.2 Pol'!BC218 -> 0 | H12: ='SO 02 SO 02.2 Pol'!BD218 -> 0 | I12: ='SO 02 SO 02.2 Pol'!BE218 -> 0
A13: ='SO 02 SO 02.2 Pol'!B219 -> 98 | B13: ='SO 02 SO 02.2 Pol'!C219 -> Demolice | E13: ='SO 02 SO 02.2 Pol'!BA221 -> 0 | F13: ='SO 02 SO 02.2 Pol'!BB221 -> 0 | G13: ='SO 02 SO 02.2 Pol'!BC221 -> 0 | H13: ='SO 02 SO 02.2 Pol'!BD221 -> 0 | I13: ='SO 02 SO 02.2 Pol'!BE221 -> 0
A14: ='SO 02 SO 02.2 Pol'!B222 -> 99 | B14: ='SO 02 SO 02.2 Pol'!C222 -> Staveništní přesun hmot | E14: ='SO 02 SO 02.2 Pol'!BA224 -> 0 | F14: ='SO 02 SO 02.2 Pol'!BB224 -> 0 | G14: ='SO 02 SO 02.2 Pol'!BC224 -> 0 | H14: ='SO 02 SO 02.2 Pol'!BD224 -> 0 | I14: ='SO 02 SO 02.2 Pol'!BE224 -> 0
A15: ='SO 02 SO 02.2 Pol'!B225 -> 713 | B15: ='SO 02 SO 02.2 Pol'!C225 -> Izolace tepelné | E15: ='SO 02 SO 02.2 Pol'!BA231 -> 0 | F15: ='SO 02 SO 02.2 Pol'!BB231 -> 0 | G15: ='SO 02 SO 02.2 Pol'!BC231 -> 0 | H15: ='SO 02 SO 02.2 Pol'!BD231 -> 0 | I15: ='SO 02 SO 02.2 Pol'!BE231 -> 0
A16: ='SO 02 SO 02.2 Pol'!B232 -> 764 | B16: ='SO 02 SO 02.2 Pol'!C232 -> Konstrukce klempířské | E16: ='SO 02 SO 02.2 Pol'!BA258 -> 0 | F16: ='SO 02 SO 02.2 Pol'!BB258 -> 0 | G16: ='SO 02 SO 02.2 Pol'!BC258 -> 0 | H16: ='SO 02 SO 02.2 Pol'!BD258 -> 0 | I16: ='SO 02 SO 02.2 Pol'!BE258 -> 0
A17: ='SO 02 SO 02.2 Pol'!B259 -> 767 | B17: ='SO 02 SO 02.2 Pol'!C259 -> Konstrukce zámečnické | E17: ='SO 02 SO 02.2 Pol'!BA271 -> 0 | F17: ='SO 02 SO 02.2 Pol'!BB271 -> 0 | G17: ='SO 02 SO 02.2 Pol'!BC271 -> 0 | H17: ='SO 02 SO 02.2 Pol'!BD271 -> 0 | I17: ='SO 02 SO 02.2 Pol'!BE271 -> 0
A18: ='SO 02 SO 02.2 Pol'!B272 -> 784 | B18: ='SO 02 SO 02.2 Pol'!C272 -> Malby | E18: ='SO 02 SO 02.2 Pol'!BA277 -> 0 | F18: ='SO 02 SO 02.2 Pol'!BB277 -> 0 | G18: ='SO 02 SO 02.2 Pol'!BC277 -> 0 | H18: ='SO 02 SO 02.2 Pol'!BD277 -> 0 | I18: ='SO 02 SO 02.2 Pol'!BE277 -> 0
A19: ='SO 02 SO 02.2 Pol'!B278 -> D96 | B19: ='SO 02 SO 02.2 Pol'!C278 -> Přesuny suti a vybouraných hmot | E19: ='SO 02 SO 02.2 Pol'!BA284 -> 0 | F19: ='SO 02 SO 02.2 Pol'!BB284 -> 0 | G19: ='SO 02 SO 02.2 Pol'!BC284 -> 0 | H19: ='SO 02 SO 02.2 Pol'!BD284 -> 0 | I19: ='SO 02 SO 02.2 Pol'!BE284 -> 0
B20: CELKEM OBJEKT | E20: =SUM(E7:E19) -> 0 | F20: =SUM(F7:F19) -> 0 | G20: =SUM(G7:G19) -> 0 | H20: =SUM(H7:H19) -> 0 | I20: =SUM(I7:I19) -> 0
A22: VEDLEJŠÍ ROZPOČTOVÉ NÁKLADY
A24: Název VRN | E24: Kč | F24: % | G24: Základna | I24: Kč
A25: Ztížené výrobní podmínky | G25: 0 | I25: =E25+F25*G25/100 -> 0 | BA25: 0
A26: Oborová přirážka | G26: 0 | I26: =E26+F26*G26/100 -> 0 | BA26: 0
A27: Přesun stavebních kapacit | G27: 0 | I27: =E27+F27*G27/100 -> 0 | BA27: 0
A28: Mimostaveništní doprava | G28: 0 | I28: =E28+F28*G28/100 -> 0 | BA28: 0
A29: Zařízení staveniště | G29: 0 | I29: =E29+F29*G29/100 -> 0 | BA29: 1
A30: Provoz investora | G30: 0 | I30: =E30+F30*G30/100 -> 0 | BA30: 1
A31: Kompletační činnost (IČD) | G31: 0 | I31: =E31+F31*G31/100 -> 0 | BA31: 2
A32: Rezerva rozpočtu | G32: 0 | I32: =E32+F32*G32/100 -> 0 | BA32: 2
B33: CELKEM VRN | H33: =SUM(I25:I32) -> 0

Sheet SO 02 SO 02.2 Pol
A1: Slepý rozpočet
A3: Stavba : | C3: 01 Zateplení budovy muzea Brumov-Bylnice | E3: Rozpočet: | F3: ='SO 02 SO 02.2 Rek'!H1 -> SO 02.2
A4: Objekt : | C4: SO 02 Zateplení fasády | E4: ='SO 02 SO 02.2 Rek'!G2 -> Zateplení fasády
A6: P.č. | B6: Číslo položky | C6: Název položky | D6: MJ | E6: množství | F6: cena / MJ | G6: celkem (Kč) | H6: Jednotková hmotnost | I6: Celková hmotnost | J6: Jednotková dem.hmot. | K6: Celková dem.hmot.
A7: Díl: | B7: 3 | C7: Svislé a kompletní konstrukce | O7: 1
A8: 1 | B8: 311271858R00 | C8: Zdivo z tvár.pórobet. P3-520 hladkých tl.500 | D8: m2 | E8: 3.5816 | F8: 0 | G8: =E8*F8 -> 0 | H8: 0.40513 | I8: =E8*H8 -> 1.4510136 | J8: 0 | K8: =E8*J8 -> 0 | O8: 2 | AA8: 1 | AB8: 1 | AC8: 1 | AZ8: 1 | BA8: =IF(AZ8=1,G8,0) -> 0 | BB8: =IF(AZ8=2,G8,0) -> 0 | BC8: =IF(AZ8=3,G8,0) -> 0 | BD8: =IF(AZ8=4,G8,0) -> 0 | BE8: =IF(AZ8=5,G8,0) -> 0 | CA8: 1 | CB8: 1
C9: otvory po demontáži výtahové šachty:0,88*1,85*2*1,10 | E9: 3.5816 | M9: otvory po demontáži výtahové šachty:0,88*1,85*2*1,10
A10: 2 | B10: 319201311R00 | C10: Vyrovnání povrchu zdiva maltou | D10: m2 | E10: 339.9539 | F10: 0 | G10: =E10*F10 -> 0 | H10: 0.03767 | I10: =E10*H10 -> 12.806063 | J10: 0 | K10: =E10*J10 -> 0 | O10: 2 | AA10: 1 | AB10: 1 | AC10: 1 | AZ10: 1 | BA10: =IF(AZ10=1,G10,0) -> 0 | BB10: =IF(AZ10=2,G10,0) -> 0 | BC10: =IF(AZ10=3,G10,0) -> 0 | BD10: =IF(AZ10=4,G10,0) -> 0 | BE10: =IF(AZ10=5,G10,0) -> 0 | CA10: 1 | CB10: 1
C11: soklová část obvodové konstrukce:(10,15+6,97+4,46+13,1+17,12+17,56)*1,10*0,40 | E11: 30.5184 | M11: soklová část obvodové konstrukce:(10,15+6,97+4,46+13,1+17,12+17,56)*1,10*0,40
C12: Obvodová konstrukce SO1, SO2, SO3, SO4 vč. 10% prořezu-odhad z 50%:562,61*1,10*0,5 | E12: 309.4355 | M12: Obvodová konstrukce SO1, SO2, SO3, SO4 vč. 10% prořezu-odhad z 50%:562,61*1,10*0,5
B13: Celkem za | C13: 3 Svislé a kompletní konstrukce | G13: =SUM(G7:G12) -> 0 | I13: =SUM(I7:I12) -> 14.257077 | K13: =SUM(K7:K12) -> 0 | O13: 4 | BA13: =SUM(BA7:BA12) -> 0 | BB13: =SUM(BB7:BB12) -> 0 | BC13: =SUM(BC7:BC12) -> 0 | BD13: =SUM(BD7:BD12) -> 0 | BE13: =SUM(BE7:BE12) -> 0
A14: Díl: | B14: 61 | C14: Upravy povrchů vnitřní | O14: 1
A15: 3 | B15: 612421637R00 | C15: Omítka vnitřní zdiva, MVC, štuková | D15: m2 | E15: 3.5816 | F15: 0 | G15: =E15*F15 -> 0 | H15: 0.04766 | I15: =E15*H15 -> 0.17069906 | J15: 0 | K15: =E15*J15 -> 0 | O15: 2 | AA15: 1 | AB15: 1 | AC15: 1 | AZ15: 1 | BA15: =IF(AZ15=1,G15,0) -> 0 | BB15: =IF(AZ15=2,G15,0) -> 0 | BC15: =IF(AZ15=3,G15,0) -> 0 | BD15: =IF(AZ15=4,G15,0) -> 0 | BE15: =IF(AZ15=5,G15,0) -> 0 | CA15: 1 | CB15: 1
C16: otvory po demontáži výtahové šachty:0,88*1,85*2*1,10 | E16: 3.5816 | M16: otvory po demontáži výtahové šachty:0,88*1,85*2*1,10
B17: Celkem za | C17: 61 Upravy povrchů vnitřní | G17: =SUM(G14:G16) -> 0 | I17: =SUM(I14:I16) -> 0.17069906 | K17: =SUM(K14:K16) -> 0 | O17: 4 | BA17: =SUM(BA14:BA16) -> 0 | BB17: =SUM(BB14:BB16) -> 0 | BC17: =SUM(BC14:BC16) -> 0 | BD17: =SUM(BD14:BD16) -> 0 | BE17: =SUM(BE14:BE16) -> 0
A18: Díl: | B18: 62 | C18: Úpravy povrchů vnější | O18: 1
A19: 4 | B19: 620471811U00 | C19: Nátěr základní penetrační | D19: m2 | E19: 649.3894 | F19: 0 | G19: =E19*F19 -> 0 | H19: 0.00025 | I19: =E19*H19 -> 0.16234735 | J19: 0 | K19: =E19*J19 -> 0 | O19: 2 | AA19: 1 | AB19: 1 | AC19: 1 | AZ19: 1 | BA19: =IF(AZ19=1,G19,0) -> 0 | BB19: =IF(AZ19=2,G19,0) -> 0 | BC19: =IF(AZ19=3,G19,0) -> 0 | BD19: =IF(AZ19=4,G19,0) -> 0 | BE19: =IF(AZ19=5,G19,0) -> 0 | CA19: 1 | CB19: 1
C20: Obvodová konstrukce SO1, SO2, SO3, SO4 vč. 10% prořezu:562,61*1,10 | E20: 618.871 | M20: Obvodová konstrukce SO1, SO2, SO3, SO4 vč. 10% prořezu:562,61*1,10
C21: soklová část obvodové konstrukce:(10,15+6,97+4,46+13,1+17,12+17,56)*1,10*0,40 | E21: 30.5184 | M21: soklová část obvodové konstrukce:(10,15+6,97+4,46+13,1+17,12+17,56)*1,10*0,40
A22: 5 | B22: 620991121R00 | C22: Zakrývání výplní vnějších otvorů z lešení | D22: m2 | E22: 105.3144 | F22: 0 | G22: =E22*F22 -> 0 | H22: 0 | I22: =E22*H22 -> 0 | J22: 0 | K22: =E22*J22 -> 0 | O22: 2 | AA22: 1 | AB22: 1 | AC22: 1 | AZ22: 1 | BA22: =IF(AZ22=1,G22,0) -> 0 | BB22: =IF(AZ22=2,G22,0) -> 0 | BC22: =IF(AZ22=3,G22,0) -> 0 | BD22: =IF(AZ22=4,G22,0) -> 0 | BE22: =IF(AZ22=5,G22,0) -> 0 | CA22: 1 | CB22: 1
C23: T1:2,28*1,30*5 | E23: 14.82 | M23: T1:2,28*1,30*5
C24: T2:1,20*1,35*2 | E24: 3.24 | M24: T2:1,20*1,35*2
C25: T3:0,56*0,95*2 | E25: 1.064 | M25: T3:0,56*0,95*2
C26: T4:0,72*1,00*4 | E26: 2.88 | M26: T4:0,72*1,00*4
C27: T5:1,38*1,30*1 | E27: 1.794 | M27: T5:1,38*1,30*1
C28: T6:1,17*2,10*1 | E28: 2.457 | M28: T6:1,17*2,10*1
C29: T7:1,00*2,10*1 | E29: 2.1 | M29: T7:1,00*2,10*1
C30: T8:2,01*1,84*4 | E30: 14.7936 | M30: T8:2,01*1,84*4
C31: T9:1,44*1,84*4 | E31: 10.5984 | M31: T9:1,44*1,84*4
C32: T10:1,18*1,57*2 | E32: 3.7052 | M32: T10:1,18*1,57*2
C33: T11:1,73*1,00*2 | E33: 3.46 | M33: T11:1,73*1,00*2
C34: T12:1,22*1,00*2 | E34: 2.44 | M34: T12:1,22*1,00*2
... C45: T23:2,25*0,60*1 | E45: 1.35 | M45: T23:2,25*0,60*1
A46: 6 | B46: 622319014R00 | C46: Soklová lišta hliník tl. 140 mm | D46: m | E46: 76.296 | F46: 0 | G46: =E46*F46 -> 0 | H46: 0.0008 | I46: =E46*H46 -> 0.0610368 | J46: 0 | K46: =E46*J46 -> 0 | O46: 2 | AA46: 1 | AB46: 1 | AC46: 1 | AZ46: 1 | BA46: =IF(AZ46=1,G46,0) -> 0 | BB46: =IF(AZ46=2,G46,0) -> 0 | BC46: =IF(AZ46=3,G46,0) -> 0 | BD46: =IF(AZ46=4,G46,0) -> 0 | BE46: =IF(AZ46=5,G46,0) -> 0 | CA46: 1 | CB46: 1
C47: (10,15+6,97+4,46+13,1+17,12+17,56)*1,10 | E47: 76.296 | M47: (10,15+6,97+4,46+13,1+17,12+17,56)*1,10
A48: 7 | B48: 622319154R00 | C48: Zateplovací systém, ostění, EPS 70 F (šedý) t40 mm s omíkovinou dle TZ, lambda 0,032, probarvená | D48: m2 | E48: 46.352 | F48: 0 | G48: =E48*F48 -> 0 | H48: 0.0138 | I48: =E48*H48 -> 0.6396576 | J48: 0 | K48: =E48*J48 -> 0 | O48: 2 | AA48: 1 | AB48: 1 | AC48: 1 | AZ48: 1 | BA48: =IF(AZ48=1,G48,0) -> 0 | BB48: =IF(AZ48=2,G48,0) -> 0 | BC48: =IF(AZ48=3,G48,0) -> 0 | BD48: =IF(AZ48=4,G48,0) -> 0 | BE48: =IF(AZ48=5,G48,0) -> 0 | CA48: 1 | CB48: 1
C49: T1:(2,28*1+2*1,30)*5*0,2 | E49: 4.88 | M49: T1:(2,28*1+2*1,30)*5*0,2
C50: T2:(1,20*1+2*1,35)*2*0,2 | E50: 1.56 | M50: T2:(1,20*1+2*1,35)*2*0,2
C51: T3:(0,56*1+2*0,95)*2*0,2 | E51: 0.984 | M51: T3:(0,56*1+2*0,95)*2*0,2
C52: T4:(0,72*1+2*1,00)*4*0,2 | E52: 2.176 | M52: T4:(0,72*1+2*1,00)*4*0,2
C53: T5:(1,38*1+2*1,30)*1*0,2 | E53: 0.796 | M53: T5:(1,38*1+2*1,30)*1*0,2
C54: T6:(1,17*1+2*2,10)*1*0,2 | E54: 1.074 | M54: T6:(1,17*1+2*2,10)*1*0,2
C55: T7:(1,00*1+2*2,10)*1*0,2 | E55: 1.04 | M55: T7:(1,00*1+2*2,10)*1*0,2
C56: T8:(2,01*1+2*1,84)*4*0,2 | E56: 4.552 | M56: T8:(2,01*1+2*1,84)*4*0,2
C57: T9:(1,44*1+2*1,84)*4*0,2 | E57: 4.096 | M57: T9:(1,44*1+2*1,84)*4*0,2
C58: T10:(1,18*1+2*1,57)*2*0,2 | E58: 1.728 | M58: T10:(1,18*1+2*1,57)*2*0,2
C59: T11:(1,73*1+2*1,00)*2*0,2 | E59: 1.492 | M59: T11:(1,73*1+2*1,00)*2*0,2
C60: T12:(1,22*1+2*1,00)*2*0,2 | E60: 1.288 | M60: T12:(1,22*1+2*1,00)*2*0,2
... C71: T23:(2,25*1+2*0,60)*1 | E71: 3.45 | M71: T23:(2,25*1+2*0,60)*1
A72: 8 | B72: 622319164R00 | C72: Zateplovací systém, parapet, XPS tl. 40 mm | D72: m2 | E72: 18.784 | F72: 0 | G72: =E72*F72 -> 0 | H72: 0.00937 | I72: =E72*H72 -> 0.17600608 | J72: 0 | K72: =E72*J72 -> 0 | O72: 2 | AA72: 1 | AB72: 0 | AC72: 0 | AZ72: 1 | BA72: =IF(AZ72=1,G72,0) -> 0 | BB72: =IF(AZ72=2,G72,0) -> 0 | BC72: =IF(AZ72=3,G72,0) -> 0 | BD72: =IF(AZ72=4,G72,0) -> 0 | BE72: =IF(AZ72=5,G72,0) -> 0 | CA72: 1 | CB72: 0
C73: T1:(2,28*1)*5*0,2 | E73: 2.28 | M73: T1:(2,28*1)*5*0,2
C74: T2:(1,20*1)*2*0,2 | E74: 0.48 | M74: T2:(1,20*1)*2*0,2
C75: T3:(0,56*1)*2*0,2 | E75: 0.224 | M75: T3:(0,56*1)*2*0,2
C76: T4:(0,72*1)*4*0,2 | E76: 0.576 | M76: T4:(0,72*1)*4*0,2
C77: T5:(1,38*1)*1*0,2 | E77: 0.276 | M77: T5:(1,38*1)*1*0,2
C78: T6:(1,17*1)*1*0,2 | E78: 0.234 | M78: T6:(1,17*1)*1*0,2
C79: T7:(1,00*1)*1*0,2 | E79: 0.2 | M79: T7:(1,00*1)*1*0,2
C80: T8:(2,01*1)*4*0,2 | E80: 1.608 | M80: T8:(2,01*1)*4*0,2
C81: T9:(1,44*1)*4*0,2 | E81: 1.152 | M81: T9:(1,44*1)*4*0,2
C82: T10:(1,18*1)*2*0,2 | E82: 0.472 | M82: T10:(1,18*1)*2*0,2
C83: T11:(1,73*1)*2*0,2 | E83: 0.692 | M83: T11:(1,73*1)*2*0,2
C84: T12:(1,22*1)*2*0,2 | E84: 0.488 | M84: T12:(1,22*1)*2*0,2
... C95: T23:(2,25*1)*1 | E95: 2.25 | M95: T23:(2,25*1)*1
A96: 9 | B96: 622391123R00 | C96: Příplatek za hmoždinky 10 ks/m2 | D96: m2 | E96: 649.3894 | F96: 0 | G96: =E96*F96 -> 0 | H96: 0 | I96: =E96*H96 -> 0 | J96: 0 | K96: =E96*J96 -> 0 | O96: 2 | AA96: 1 | AB96: 1 | AC96: 1 | AZ96: 1 | BA96: =IF(AZ96=1,G96,0) -> 0 | BB96: =IF(AZ96=2,G96,0) -> 0 | BC96: =IF(AZ96=3,G96,0) -> 0 | BD96: =IF(AZ96=4,G96,0) -> 0 | BE96: =IF(AZ96=5,G96,0) -> 0 | CA96: 1 | CB96: 1
C97: Obvodová konstrukce SO1, SO2, SO3, SO4 vč. 10% prořezu:562,61*1,10 | E97: 618.871 | M97: Obvodová konstrukce SO1, SO2, SO3, SO4 vč. 10% prořezu:562,61*1,10
C98: soklová část obvodové konstrukce:(10,15+6,97+4,46+13,1+17,12+17,56)*1,10*0,40 | E98: 30.5184 | M98: soklová část obvodové konstrukce:(10,15+6,97+4,46+13,1+17,12+17,56)*1,10*0,40
A99: 10 | B99: 622401939R00 | C99: Příplatek za provedení styku 2 a více odstínů omítek, vč.barevného řešení (znaků) | D99: m2 | E99: 696.0014 | F99: 0 | G99: =E99*F99 -> 0 | H99: 8e-05 | I99: =E99*H99 -> 0.055680112 | J99: 0 | K99: =E99*J99 -> 0 | O99: 2 | AA99: 1 | AB99: 1 | AC99: 1 | AZ99: 1 | BA99: =IF(AZ99=1,G99,0) -> 0 | BB99: =IF(AZ99=2,G99,0) -> 0 | BC99: =IF(AZ99=3,G99,0) -> 0 | BD99: =IF(AZ99=4,G99,0) -> 0 | BE99: =IF(AZ99=5,G99,0) -> 0 | CA99: 1 | CB99: 1
C100: Obvodová konstrukce SO1, SO2, SO3, SO4 vč. 10% prořezu:562,61*1,10 | E100: 618.871 | M100: Obvodová konstrukce SO1, SO2, SO3, SO4 vč. 10% prořezu:562,61*1,10
C101: soklová část obvodové konstrukce:(10,15+6,97+4,46+13,1+17,12+17,56)*1,10*0,40 | E101: 30.5184 | M101: soklová část obvodové konstrukce:(10,15+6,97+4,46+13,1+17,12+17,56)*1,10*0,40
C102: ostění: | E102: 0 | M102: ostění:
C103: T1:(2,38*1+2*1,30)*5*0,2 | E103: 4.98 | M103: T1:(2,38*1+2*1,30)*5*0,2
C104: T2:(1,20*1+2*1,35)*2*0,2 | E104: 1.56 | M104: T2:(1,20*1+2*1,35)*2*0,2
C105: T3:(0,56*1+2*0,95)*2*0,2 | E105: 0.984 | M105: T3:(0,56*1+2*0,95)*2*0,2
C106: T4:(0,72*1+2*1,00)*4*0,2 | E106: 2.176 | M106: T4:(0,72*1+2*1,00)*4*0,2
C107: T5:(1,38*1+2*1,30)*1*0,2 | E107: 0.796 | M107: T5:(1,38*1+2*1,30)*1*0,2
C108: T6:(1,17*1+2*2,10)*1*0,2 | E108: 1.074 | M108: T6:(1,17*1+2*2,10)*1*0,2
C109: T7:(1,00*1+2*2,10)*1*0,2 | E109: 1.04 | M109: T7:(1,00*1+2*2,10)*1*0,2
C110: T8:(2,21*1+2*1,84)*4*0,2 | E110: 4.712 | M110: T8:(2,21*1+2*1,84)*4*0,2
C111: T9:(1,44*1+2*1,84)*4*0,2 | E111: 4.096 | M111: T9:(1,44*1+2*1,84)*4*0,2
... C125: T23:(2,25*1+2*0,60)*1 | E125: 3.45 | M125: T23:(2,25*1+2*0,60)*1
A126: 11 | B126: 622401971R00 | C126: Příplatek k omítce vnějš. stěn, zvýšení přilnavos. | D126: m2 | E126: 649.3894 | F126: 0 | G126: =E126*F126 -> 0 | H126: 0.00014 | I126: =E126*H126 -> 0.090914516 | J126: 0 | K126: =E126*J126 -> 0 | O126: 2 | AA126: 1 | AB126: 1 | AC126: 1 | AZ126: 1 | BA126: =IF(AZ126=1,G126,0) -> 0 | BB126: =IF(AZ126=2,G126,0) -> 0 | BC126: =IF(AZ126=3,G126,0) -> 0 | BD126: =IF(AZ126=4,G126,0) -> 0 | BE126: =IF(AZ126=5,G126,0) -> 0 | CA126: 1 | CB126: 1
C127: Obvodová konstrukce SO1, SO2, SO3, SO4 vč. 10% prořezu:562,61*1,10 | E127: 618.871 | M127: Obvodová konstrukce SO1, SO2, SO3, SO4 vč. 10% prořezu:562,61*1,10
C128: soklová část obvodové konstrukce:(10,15+6,97+4,46+13,1+17,12+17,56)*1,10*0,40 | E128: 30.5184 | M128: soklová část obvodové konstrukce:(10,15+6,97+4,46+13,1+17,12+17,56)*1,10*0,40
A129: 12 | B129: 622405921U00 | C129: KZS dilatační lišta průběžná | D129: m | E129: 7.96 | F129: 0 | G129: =E129*F129 -> 0 | H129: 0.0005 | I129: =E129*H129 -> 0.00398 | J129: 0 | K129: =E129*J129 -> 0 | O129: 2 | AA129: 1 | AB129: 1 | AC129: 1 | AZ129: 1 | BA129: =IF(AZ129=1,G129,0) -> 0 | BB129: =IF(AZ129=2,G129,0) -> 0 | BC129: =IF(AZ129=3,G129,0) -> 0 | BD129: =IF(AZ129=4,G129,0) -> 0 | BE129: =IF(AZ129=5,G129,0) -> 0 | CA129: 1 | CB129: 1
C130: 3,98*2 | E130: 7.96 | M130: 3,98*2
A131: 13 | B131: 622405941U00 | C131: KZS začišťovací okenní lišta | D131: m | E131: 287.58 | F131: 0 | G131: =E131*F131 -> 0 | H131: 0.0003 | I131: =E131*H131 -> 0.086274 | J131: 0 | K131: =E131*J131 -> 0 | O131: 2 | AA131: 1 | AB131: 1 | AC131: 1 | AZ131: 1 | BA131: =IF(AZ131=1,G131,0) -> 0 | BB131: =IF(AZ131=2,G131,0) -> 0 | BC131: =IF(AZ131=3,G131,0) -> 0 | BD131: =IF(AZ131=4,G131,0) -> 0 | BE131: =IF(AZ131=5,G131,0) -> 0 | CA131: 1 | CB131: 1
C132: T1:(2,28*2+2*1,30)*5 | E132: 35.8 | M132: T1:(2,28*2+2*1,30)*5
C133: T2:(1,20*2+2*1,35)*2 | E133: 10.2 | M133: T2:(1,20*2+2*1,35)*2
C134: T3:(0,56*2+2*0,95)*2 | E134: 6.04 | M134: T3:(0,56*2+2*0,95)*2
C135: T4:(0,72*2+2*1,00)*4 | E135: 13.76 | M135: T4:(0,72*2+2*1,00)*4
C136: T5:(1,38*2+2*1,30)*1 | E136: 5.36 | M136: T5:(1,38*2+2*1,30)*1
C137: T6:(1,17*2+2*2,10)*1 | E137: 6.54 | M137: T6:(1,17*2+2*2,10)*1
C138: T7:(1,00*2+2*2,10)*1 | E138: 6.2 | M138: T7:(1,00*2+2*2,10)*1
C139: T8:(2,01*2+2*1,84)*4 | E139: 30.8 | M139: T8:(2,01*2+2*1,84)*4
C140: T9:(1,44*2+2*1,84)*4 | E140: 26.24 | M140: T9:(1,44*2+2*1,84)*4
C141: T10:(1,18*2+2*1,57)*2 | E141: 11 | M141: T10:(1,18*2+2*1,57)*2
C142: T11:(1,73*2+2*1,00)*2 | E142: 10.92 | M142: T11:(1,73*2+2*1,00)*2
C143: T12:(1,22*2+2*1,00)*2 | E143: 8.88 | M143: T12:(1,22*2+2*1,00)*2
... C154: T23:(2,25*2+2*0,60)*1 | E154: 5.7 | M154: T23:(2,25*2+2*0,60)*1
A155: 14 | B155: 622421131R00 | C155: Omítka vnější stěn, MVC, hladká, složitost 1-2 | D155: m2 | E155: 43.5006 | F155: 0 | G155: =E155*F155 -> 0 | H155: 0.04817 | I155: =E155*H155 -> 2.0954239 | J155: 0 | K155: =E155*J155 -> 0 | O155: 2 | AA155: 1 | AB155: 1 | AC155: 1 | AZ155: 1 | BA155: =IF(AZ155=1,G155,0) -> 0 | BB155: =IF(AZ155=2,G155,0) -> 0 | BC155: =IF(AZ155=3,G155,0) -> 0 | BD155: =IF(AZ155=4,G155,0) -> 0 | BE155: =IF(AZ155=5,G155,0) -> 0 | CA155: 1 | CB155: 1
...

Sheet SO 03 SO 03 KL
A1: SLEPÝ ROZPOČET
A2: Rozpočet | C2: SO 03 | D2: Zateplení ploché střechy | F2: JKSO
A4: Objekt | F4: SKP
A5: SO 03 | C5: Zateplení ploché střechy | F5: Měrná jednotka
A6: Stavba | F6: Počet jednotek
A7: 01 | C7: Zateplení budovy muzea Brumov-Bylnice | F7: Náklady na m.j. | G7: =IF(G6=0,,ROUND((F30+F32)/G6,1)) -> 0
A8: Projektant | F8: Typ rozpočtu
A9: Zpracovatel projektu
A10: Objednatel
A11: Dodavatel | F11: Zakázkové číslo
A12: Rozpočtoval | F12: Počet listů
A13: ROZPOČTOVÉ NÁKLADY
A14: Základní rozpočtové náklady | D14: Ostatní rozpočtové náklady
B15: HSV celkem | C15: ='SO 03 SO 03 Rek'!E15 -> 0 | D15: ='SO 03 SO 03 Rek'!A20 -> Ztížené výrobní podmínky | G15: ='SO 03 SO 03 Rek'!I20 -> 0
A16: Z | B16: PSV celkem | C16: ='SO 03 SO 03 Rek'!F15 -> 0 | D16: ='SO 03 SO 03 Rek'!A21 -> Oborová přirážka | G16: ='SO 03 SO 03 Rek'!I21 -> 0
A17: R | B17: M práce celkem | C17: ='SO 03 SO 03 Rek'!H15 -> 0 | D17: ='SO 03 SO 03 Rek'!A22 -> Přesun stavebních kapacit | G17: ='SO 03 SO 03 Rek'!I22 -> 0
A18: N | B18: M dodávky celkem | C18: ='SO 03 SO 03 Rek'!G15 -> 0 | D18: ='SO 03 SO 03 Rek'!A23 -> Mimostaveništní doprava | G18: ='SO 03 SO 03 Rek'!I23 -> 0
A19: ZRN celkem | C19: =SUM(C15:C18) -> 0 | D19: ='SO 03 SO 03 Rek'!A24 -> Zařízení staveniště | G19: ='SO 03 SO 03 Rek'!I24 -> 0
D20: ='SO 03 SO 03 Rek'!A25 -> Provoz investora | G20: ='SO 03 SO 03 Rek'!I25 -> 0
A21: HZS | C21: ='SO 03 SO 03 Rek'!I15 -> 0 | D21: ='SO 03 SO 03 Rek'!A26 -> Kompletační činnost (IČD) | G21: ='SO 03 SO 03 Rek'!I26 -> 0
A22: ZRN+HZS | C22: =C19+C21 -> 0 | D22: Ostatní náklady neuvedené | G22: =G23-SUM(G15:G21) -> 0
A23: ZRN+ost.náklady+HZS | C23: =C22+G23 -> 0 | D23: Ostatní náklady celkem | G23: ='SO 03 SO 03 Rek'!H28 -> 0
A24: Vypracoval | D24: Za zhotovitele | F24: Za objednatele
A25: Jméno : | D25: Jméno : | F25: Jméno :
A26: Datum : | D26: Datum : | F26: Datum :
A28: Podpis : | D28: Podpis: | F28: Podpis:
A30: Základ pro DPH | C30: 21 | D30: % | F30: =C23-F32 -> 0
A31: DPH | C31: =C30 -> 21 | D31: % | F31: =ROUND(PRODUCT(F30,C31/100),0) -> 0
A32: Základ pro DPH | C32: 0 | D32: % | F32: 0
A33: DPH | C33: =C32 -> 0 | D33: % | F33: =ROUND(PRODUCT(F32,C33/100),0) -> 0
A34: CENA ZA OBJEKT CELKEM | F34: =ROUND(SUM(F30:F33),0) -> 0
A36: Poznámka :
B37: Nedílnou součástí PD je výkresová část s technickou zprávou a výpisy prvků jednotlivých částí. Cena stanovena dle RTS. Veškeré střešní vtoky systémové. Je nutné zrealizovat odtrhové zkoušky! Dodavatel může použít polystyren (izolant) o vyšší pevnosti než je předepsána a tepelně izolační vlastnosti mohou mít součinitel prostupu tepla lepší než je předepsáno v projektové dokumentaci.

Sheet SO 03 SO 03 Rek
A1: Stavba : | C1: 01 Zateplení budovy muzea Brumov-Bylnice | G1: Rozpočet : | H1: SO 03
A2: Objekt : | C2: SO 03 Zateplení ploché střechy | G2: Zateplení ploché střechy
A4: REKAPITULACE STAVEBNÍCH DÍLŮ
B6: Stavební díl | E6: HSV | F6: PSV | G6: Dodávka | H6: Montáž | I6: HZS
A7: ='SO 03 SO 03 Pol'!B7 -> 62 | B7: ='SO 03 SO 03 Pol'!C7 -> Úpravy povrchů vnější | E7: ='SO 03 SO 03 Pol'!BA20 -> 0 | F7: ='SO 03 SO 03 Pol'!BB20 -> 0 | G7: ='SO 03 SO 03 Pol'!BC20 -> 0 | H7: ='SO 03 SO 03 Pol'!BD20 -> 0 | I7: ='SO 03 SO 03 Pol'!BE20 -> 0
A8: ='SO 03 SO 03 Pol'!B21 -> 711 | B8: ='SO 03 SO 03 Pol'!C21 -> Izolace proti vodě | E8: ='SO 03 SO 03 Pol'!BA25 -> 0 | F8: ='SO 03 SO 03 Pol'!BB25 -> 0 | G8: ='SO 03 SO 03 Pol'!BC25 -> 0 | H8: ='SO 03 SO 03 Pol'!BD25 -> 0 | I8: ='SO 03 SO 03 Pol'!BE25 -> 0
A9: ='SO 03 SO 03 Pol'!B26 -> 712 | B9: ='SO 03 SO 03 Pol'!C26 -> Živičné krytiny | E9: ='SO 03 SO 03 Pol'!BA40 -> 0 | F9: ='SO 03 SO 03 Pol'!BB40 -> 0 | G9: ='SO 03 SO 03 Pol'!BC40 -> 0 | H9: ='SO 03 SO 03 Pol'!BD40 -> 0 | I9: ='SO 03 SO 03 Pol'!BE40 -> 0
A10: ='SO 03 SO 03 Pol'!B41 -> 713 | B10: ='SO 03 SO 03 Pol'!C41 -> Izolace tepelné | E10: ='SO 03 SO 03 Pol'!BA60 -> 0 | F10: ='SO 03 SO 03 Pol'!BB60 -> 0 | G10: ='SO 03 SO 03 Pol'!BC60 -> 0 | H10: ='SO 03 SO 03 Pol'!BD60 -> 0 | I10: ='SO 03 SO 03 Pol'!BE60 -> 0
A11: ='SO 03 SO 03 Pol'!B61 -> 721 | B11: ='SO 03 SO 03 Pol'!C61 -> Vnitřní kanalizace | E11: ='SO 03 SO 03 Pol'!BA64 -> 0 | F11: ='SO 03 SO 03 Pol'!BB64 -> 0 | G11: ='SO 03 SO 03 Pol'!BC64 -> 0 | H11: ='SO 03 SO 03 Pol'!BD64 -> 0 | I11: ='SO 03 SO 03 Pol'!BE64 -> 0
A12: ='SO 03 SO 03 Pol'!B65 -> 764 | B12: ='SO 03 SO 03 Pol'!C65 -> Konstrukce klempířské | E12: ='SO 03 SO 03 Pol'!BA74 -> 0 | F12: ='SO 03 SO 03 Pol'!BB74 -> 0 | G12: ='SO 03 SO 03 Pol'!BC74 -> 0 | H12: ='SO 03 SO 03 Pol'!BD74 -> 0 | I12: ='SO 03 SO 03 Pol'!BE74 -> 0
A13: ='SO 03 SO 03 Pol'!B75 -> 771 | B13: ='SO 03 SO 03 Pol'!C75 -> Podlahy z dlaždic a obklady | E13: ='SO 03 SO 03 Pol'!BA81 -> 0 | F13: ='SO 03 SO 03 Pol'!BB81 -> 0 | G13: ='SO 03 SO 03 Pol'!BC81 -> 0 | H13: ='SO 03 SO 03 Pol'!BD81 -> 0 | I13: ='SO 03 SO 03 Pol'!BE81 -> 0
A14: ='SO 03 SO 03 Pol'!B82 -> D96 | B14: ='SO 03 SO 03 Pol'!C82 -> Přesuny suti a vybouraných hmot | E14: ='SO 03 SO 03 Pol'!BA87 -> 0 | F14: ='SO 03 SO 03 Pol'!BB87 -> 0 | G14: ='SO 03 SO 03 Pol'!BC87 -> 0 | H14: ='SO 03 SO 03 Pol'!BD87 -> 0 | I14: ='SO 03 SO 03 Pol'!BE87 -> 0
B15: CELKEM OBJEKT | E15: =SUM(E7:E14) -> 0 | F15: =SUM(F7:F14) -> 0 | G15: =SUM(G7:G14) -> 0 | H15: =SUM(H7:H14) -> 0 | I15: =SUM(I7:I14) -> 0
A17: VEDLEJŠÍ ROZPOČTOVÉ NÁKLADY
A19: Název VRN | E19: Kč | F19: % | G19: Základna | I19: Kč
A20: Ztížené výrobní podmínky | G20: 0 | I20: =E20+F20*G20/100 -> 0 | BA20: 0
A21: Oborová přirážka | G21: 0 | I21: =E21+F21*G21/100 -> 0 | BA21: 0
A22: Přesun stavebních kapacit | G22: 0 | I22: =E22+F22*G22/100 -> 0 | BA22: 0
A23: Mimostaveništní doprava | G23: 0 | I23: =E23+F23*G23/100 -> 0 | BA23: 0
A24: Zařízení staveniště | G24: 0 | I24: =E24+F24*G24/100 -> 0 | BA24: 1
A25: Provoz investora | G25: 0 | I25: =E25+F25*G25/100 -> 0 | BA25: 1
A26: Kompletační činnost (IČD) | G26: 0 | I26: =E26+F26*G26/100 -> 0 | BA26: 2
A27: Rezerva rozpočtu | G27: 0 | I27: =E27+F27*G27/100 -> 0 | BA27: 2
B28: CELKEM VRN | H28: =SUM(I20:I27) -> 0

Sheet SO 03 SO 03 Pol
A1: Slepý rozpočet
A3: Stavba : | C3: 01 Zateplení budovy muzea Brumov-Bylnice | E3: Rozpočet: | F3: ='SO 03 SO 03 Rek'!H1 -> SO 03
A4: Objekt : | C4: SO 03 Zateplení ploché střechy | E4: ='SO 03 SO 03 Rek'!G2 -> Zateplení ploché střechy
A6: P.č. | B6: Číslo položky | C6: Název položky | D6: MJ | E6: množství | F6: cena / MJ | G6: celkem (Kč) | H6: Jednotková hmotnost | I6: Celková hmotnost | J6: Jednotková dem.hmot. | K6: Celková dem.hmot.
A7: Díl: | B7: 62 | C7: Úpravy povrchů vnější | O7: 1
A8: 1 | B8: 620471811U00 | C8: Nátěr základní penetrační | D8: m2 | E8: 18.7957 | F8: 0 | G8: =E8*F8 -> 0 | H8: 0.00025 | I8: =E8*H8 -> 0.004698925 | J8: 0 | K8: =E8*J8 -> 0 | O8: 2 | AA8: 1 | AB8: 1 | AC8: 1 | AZ8: 1 | BA8: =IF(AZ8=1,G8,0) -> 0 | BB8: =IF(AZ8=2,G8,0) -> 0 | BC8: =IF(AZ8=3,G8,0) -> 0 | BD8: =IF(AZ8=4,G8,0) -> 0 | BE8: =IF(AZ8=5,G8,0) -> 0 | CA8: 1 | CB8: 1
C9: atikové(zábradlí) zdivo vč.10% prořezu:((10,15+2*4,23)*0,7+10,15*0,4)*1,10 | E9: 18.7957 | M9: atikové(zábradlí) zdivo vč.10% prořezu:((10,15+2*4,23)*0,7+10,15*0,4)*1,10
A10: 2 | B10: 622422131R00 | C10: Oprava vnějších omítek vápen. drásan. II. do 10 % | D10: m2 | E10: 18.7957 | F10: 0 | G10: =E10*F10 -> 0 | H10: 0.01029 | I10: =E10*H10 -> 0.19340775 | J10: 0 | K10: =E10*J10 -> 0 | O10: 2 | AA10: 1 | AB10: 0 | AC10: 0 | AZ10: 1 | BA10: =IF(AZ10=1,G10,0) -> 0 | BB10: =IF(AZ10=2,G10,0) -> 0 | BC10: =IF(AZ10=3,G10,0) -> 0 | BD10: =IF(AZ10=4,G10,0) -> 0 | BE10: =IF(AZ10=5,G10,0) -> 0 | CA10: 1 | CB10: 0
C11: atikové(zábradlí) zdivo vč.10% prořezu:((10,15+2*4,23)*0,7+10,15*0,4)*1,10 | E11: 18.7957 | M11: atikové(zábradlí) zdivo vč.10% prořezu:((10,15+2*4,23)*0,7+10,15*0,4)*1,10
A12: 3 | B12: 622432112R00 | C12: Omítka stěn dekorativní | D12: m2 | E12: 18.7957 | F12: 0 | G12: =E12*F12 -> 0 | H12: 0.00618 | I12: =E12*H12 -> 0.11615743 | J12: 0 | K12: =E12*J12 -> 0 | O12: 2 | AA12: 1 | AB12: 1 | AC12: 1 | AZ12: 1 | BA12: =IF(AZ12=1,G12,0) -> 0 | BB12: =IF(AZ12=2,G12,0) -> 0 | BC12: =IF(AZ12=3,G12,0) -> 0 | BD12: =IF(AZ12=4,G12,0) -> 0 | BE12: =IF(AZ12=5,G12,0) -> 0 | CA12: 1 | CB12: 1
C13: atikové(zábradlí) zdivo vč.10% prořezu:((10,15+2*4,23)*0,7+10,15*0,4)*1,10 | E13: 18.7957 | M13: atikové(zábradlí) zdivo vč.10% prořezu:((10,15+2*4,23)*0,7+10,15*0,4)*1,10
A14: 4 | B14: 622471312R00 | C14: Nátěr stěn barvou složitost 1, 2 dle barevného řešení fasád | D14: m2 | E14: 18.7957 | F14: 0 | G14: =E14*F14 -> 0 | H14: 0.00093 | I14: =E14*H14 -> 0.017480001 | J14: 0 | K14: =E14*J14 -> 0 | O14: 2 | AA14: 1 | AB14: 1 | AC14: 1 | AZ14: 1 | BA14: =IF(AZ14=1,G14,0) -> 0 | BB14: =IF(AZ14=2,G14,0) -> 0 | BC14: =IF(AZ14=3,G14,0) -> 0 | BD14: =IF(AZ14=4,G14,0) -> 0 | BE14: =IF(AZ14=5,G14,0) -> 0 | CA14: 1 | CB14: 1
C15: atikové(zábradlí) zdivo vč.10% prořezu:((10,15+2*4,23)*0,7+10,15*0,4)*1,10 | E15: 18.7957 | M15: atikové(zábradlí) zdivo vč.10% prořezu:((10,15+2*4,23)*0,7+10,15*0,4)*1,10
A16: 5 | B16: 622481211R00 | C16: Montáž výztužné sítě (perlinky) do stěrky-stěny vč.fixace | D16: m2 | E16: 18.7957 | F16: 0 | G16: =E16*F16 -> 0 | H16: 0 | I16: =E16*H16 -> 0 | J16: 0 | K16: =E16*J16 -> 0 | O16: 2 | AA16: 1 | AB16: 1 | AC16: 1 | AZ16: 1 | BA16: =IF(AZ16=1,G16,0) -> 0 | BB16: =IF(AZ16=2,G16,0) -> 0 | BC16: =IF(AZ16=3,G16,0) -> 0 | BD16: =IF(AZ16=4,G16,0) -> 0 | BE16: =IF(AZ16=5,G16,0) -> 0 | CA16: 1 | CB16: 1
C17: atikové(zábradlí) zdivo vč.10% prořezu:((10,15+2*4,23)*0,7+10,15*0,4)*1,10 | E17: 18.7957 | M17: atikové(zábradlí) zdivo vč.10% prořezu:((10,15+2*4,23)*0,7+10,15*0,4)*1,10
A18: 6 | B18: 622903110U00 | C18: Mytí vně omítek slož 1-2 tlak.vodou | D18: m2 | E18: 18.7957 | F18: 0 | G18: =E18*F18 -> 0 | H18: 0.0001 | I18: =E18*H18 -> 0.00187957 | J18: 0 | K18: =E18*J18 -> 0 | O18: 2 | AA18: 1 | AB18: 1 | AC18: 1 | AZ18: 1 | BA18: =IF(AZ18=1,G18,0) -> 0 | BB18: =IF(AZ18=2,G18,0) -> 0 | BC18: =IF(AZ18=3,G18,0) -> 0 | BD18: =IF(AZ18=4,G18,0) -> 0 | BE18: =IF(AZ18=5,G18,0) -> 0 | CA18: 1 | CB18: 1
C19: atikové(zábradlí) zdivo vč.10% prořezu:((10,15+2*4,23)*0,7+10,15*0,4)*1,10 | E19: 18.7957 | M19: atikové(zábradlí) zdivo vč.10% prořezu:((10,15+2*4,23)*0,7+10,15*0,4)*1,10
B20: Celkem za | C20: 62 Úpravy povrchů vnější | G20: =SUM(G7:G19) -> 0 | I20: =SUM(I7:I19) -> 0.33362368 | K20: =SUM(K7:K19) -> 0 | O20: 4 | BA20: =SUM(BA7:BA19) -> 0 | BB20: =SUM(BB7:BB19) -> 0 | BC20: =SUM(BC7:BC19) -> 0 | BD20: =SUM(BD7:BD19) -> 0 | BE20: =SUM(BE7:BE19) -> 0
A21: Díl: | B21: 711 | C21: Izolace proti vodě | O21: 1
A22: 7 | B22: 711111001RZ1 | C22: Izolace proti vlhkosti vodor. nátěr ALP za studena 1x nátěr - včetně dodávky penetračního laku ALP | D22: m2 | E22: 48.015 | F22: 0 | G22: =E22*F22 -> 0 | H22: 0.0002 | I22: =E22*H22 -> 0.009603 | J22: 0 | K22: =E22*J22 -> 0 | O22: 2 | AA22: 1 | AB22: 7 | AC22: 7 | AZ22: 2 | BA22: =IF(AZ22=1,G22,0) -> 0 | BB22: =IF(AZ22=2,G22,0) -> 0 | BC22: =IF(AZ22=3,G22,0) -> 0 | BD22: =IF(AZ22=4,G22,0) -> 0 | BE22: =IF(AZ22=5,G22,0) -> 0 | CA22: 1 | CB22: 7
C23: 43,65*1,10 | E23: 48.015 | M23: 43,65*1,10
A24: 8 | B24: 998711101R00 | C24: Přesun hmot pro izolace proti vodě, výšky do 6 m | D24: t | E24: 0.009603 | F24: 0 | G24: =E24*F24 -> 0 | H24: 0 | I24: =E24*H24 -> 0 | K24: =E24*J24 -> 0 | O24: 2 | AA24: 7 | AB24: 1001 | AC24: 5 | AZ24: 2 | BA24: =IF(AZ24=1,G24,0) -> 0 | BB24: =IF(AZ24=2,G24,0) -> 0 | BC24: =IF(AZ24=3,G24,0) -> 0 | BD24: =IF(AZ24=4,G24,0) -> 0 | BE24: =IF(AZ24=5,G24,0) -> 0 | CA24: 7 | CB24: 1001
B25: Celkem za | C25: 711 Izolace proti vodě | G25: =SUM(G21:G24) -> 0 | I25: =SUM(I21:I24) -> 0.009603 | K25: =SUM(K21:K24) -> 0 | O25: 4 | BA25: =SUM(BA21:BA24) -> 0 | BB25: =SUM(BB21:BB24) -> 0 | BC25: =SUM(BC21:BC24) -> 0 | BD25: =SUM(BD21:BD24) -> 0 | BE25: =SUM(BE21:BE24) -> 0
A26: Díl: | B26: 712 | C26: Živičné krytiny | O26: 1
A27: 9 | B27: 712341559RT2 | C27: Povlaková krytina střech do 10°, přitavením 2 vrstvy - materiál ve spec. (první vrstva lepená) | D27: m2 | E27: 48.015 | F27: 0 | G27: =E27*F27 -> 0 | H27: 0.0007 | I27: =E27*H27 -> 0.0336105 | J27: 0 | K27: =E27*J27 -> 0 | O27: 2 | AA27: 1 | AB27: 7 | AC27: 7 | AZ27: 2 | BA27: =IF(AZ27=1,G27,0) -> 0 | BB27: =IF(AZ27=2,G27,0) -> 0 | BC27: =IF(AZ27=3,G27,0) -> 0 | BD27: =IF(AZ27=4,G27,0) -> 0 | BE27: =IF(AZ27=5,G27,0) -> 0 | CA27: 1 | CB27: 7
C28: 43,65*1,10 | E28: 48.015 | M28: 43,65*1,10
A29: 10 | B29: 712341659RT1 | C29: Povlaková krytina střech do 10°, bodově 1 vrstva - materiál ve specifikaci | D29: m2 | E29: 48.015 | F29: 0 | G29: =E29*F29 -> 0 | H29: 0.00036 | I29: =E29*H29 -> 0.0172854 | J29: 0 | K29: =E29*J29 -> 0 | O29: 2 | AA29: 1 | AB29: 7 | AC29: 7 | AZ29: 2 | BA29: =IF(AZ29=1,G29,0) -> 0 | BB29: =IF(AZ29=2,G29,0) -> 0 | BC29: =IF(AZ29=3,G29,0) -> 0 | BD29: =IF(AZ29=4,G29,0) -> 0 | BE29: =IF(AZ29=5,G29,0) -> 0 | CA29: 1 | CB29: 7
C30: 43,65*1,10 | E30: 48.015 | M30: 43,65*1,10
A31: 11 | B31: 712CP001 | C31: Položení ochranné textílie, filtrační včetně dodávky textílie 200 g/m2 | D31: m2 | E31: 48.015 | F31: 0 | G31: =E31*F31 -> 0 | H31: 1e-05 | I31: =E31*H31 -> 0.00048015 | J31: 0 | K31: =E31*J31 -> 0 | O31: 2 | AA31: 1 | AB31: 0 | AC31: 0 | AZ31: 2 | BA31: =IF(AZ31=1,G31,0) -> 0 | BB31: =IF(AZ31=2,G31,0) -> 0 | BC31: =IF(AZ31=3,G31,0) -> 0 | BD31: =IF(AZ31=4,G31,0) -> 0 | BE31: =IF(AZ31=5,G31,0) -> 0 | CA31: 1 | CB31: 0
C32: 43,65*1,10 | E32: 48.015 | M32: 43,65*1,10
A33: 12 | B33: 62833159 | C33: Pás asfaltovaný těžký | D33: m2 | E33: 48.015 | F33: 0 | G33: =E33*F33 -> 0 | H33: 0.0045 | I33: =E33*H33 -> 0.2160675 | K33: =E33*J33 -> 0 | O33: 2 | AA33: 3 | AB33: 7 | AC33: 62833159 | AZ33: 2 | BA33: =IF(AZ33=1,G33,0) -> 0 | BB33: =IF(AZ33=2,G33,0) -> 0 | BC33: =IF(AZ33=3,G33,0) -> 0 | BD33: =IF(AZ33=4,G33,0) -> 0 | BE33: =IF(AZ33=5,G33,0) -> 0 | CA33: 3 | CB33: 7
C34: 43,65*1,10 | E34: 48.015 | M34: 43,65*1,10
A35: 13 | B35: 628522504 | C35: Pás modif. asfalt dekor červený | D35: m2 | E35: 48.015 | F35: 0 | G35: =E35*F35 -> 0 | H35: 0.0055 | I35: =E35*H35 -> 0.2640825 | K35: =E35*J35 -> 0 | O35: 2 | AA35: 3 | AB35: 7 | AC35: 628522504 | AZ35: 2 | BA35: =IF(AZ35=1,G35,0) -> 0 | BB35: =IF(AZ35=2,G35,0) -> 0 | BC35: =IF(AZ35=3,G35,0) -> 0 | BD35: =IF(AZ35=4,G35,0) -> 0 | BE35: =IF(AZ35=5,G35,0) -> 0 | CA35: 3 | CB35: 7
C36: 43,65*1,10 | E36: 48.015 | M36: 43,65*1,10
A37: 14 | B37: 62852265 | C37: Pás modifikovaný asfalt mineral | D37: m2 | E37: 48.015 | F37: 0 | G37: =E37*F37 -> 0 | H37: 0.004 | I37: =E37*H37 -> 0.19206 | K37: =E37*J37 -> 0 | O37: 2 | AA37: 3 | AB37: 1 | AC37: 62852265 | AZ37: 2 | BA37: =IF(AZ37=1,G37,0) -> 0 | BB37: =IF(AZ37=2,G37,0) -> 0 | BC37: =IF(AZ37=3,G37,0) -> 0 | BD37: =IF(AZ37=4,G37,0) -> 0 | BE37: =IF(AZ37=5,G37,0) -> 0 | CA37: 3 | CB37: 1
C38: 43,65*1,10 | E38: 48.015 | M38: 43,65*1,10
A39: 15 | B39: 998712101R00 | C39: Přesun hmot pro povlakové krytiny, výšky do 6 m | D39: t | E39: 0.72358605 | F39: 0 | G39: =E39*F39 -> 0 | H39: 0 | I39: =E39*H39 -> 0 | K39: =E39*J39 -> 0 | O39: 2 | AA39: 7 | AB39: 1001 | AC39: 5 | AZ39: 2 | BA39: =IF(AZ39=1,G39,0) -> 0 | BB39: =IF(AZ39=2,G39,0) -> 0 | BC39: =IF(AZ39=3,G39,0) -> 0 | BD39: =IF(AZ39=4,G39,0) -> 0 | BE39: =IF(AZ39=5,G39,0) -> 0 | CA39: 7 | CB39: 1001
B40: Celkem za | C40: 712 Živičné krytiny | G40: =SUM(G26:G39) -> 0 | I40: =SUM(I26:I39) -> 0.72358605 | K40: =SUM(K26:K39) -> 0 | O40: 4 | BA40: =SUM(BA26:BA39) -> 0 | BB40: =SUM(BB26:BB39) -> 0 | BC40: =SUM(BC26:BC39) -> 0 | BD40: =SUM(BD26:BD39) -> 0 | BE40: =SUM(BE26:BE39) -> 0
A41: Díl: | B41: 713 | C41: Izolace tepelné | O41: 1
A42: 16 | B42: 713111111RT1 | C42: Izolace tepelné stropů vrchem kladené volně 2 vrstva - materiál ve specifikaci - spádový klín | D42: m2 | E42: 48.015 | F42: 0 | G42: =E42*F42 -> 0 | H42: 0 | I42: =E42*H42 -> 0 | J42: 0 | K42: =E42*J42 -> 0 | O42: 2 | AA42: 1 | AB42: 0 | AC42: 0 | AZ42: 2 | BA42: =IF(AZ42=1,G42,0) -> 0 | BB42: =IF(AZ42=2,G42,0) -> 0 | BC42: =IF(AZ42=3,G42,0) -> 0 | BD42: =IF(AZ42=4,G42,0) -> 0 | BE42: =IF(AZ42=5,G42,0) -> 0 | CA42: 1 | CB42: 0
C43: vč.10%přesahu a prořezu:43,65*1,10 | E43: 48.015 | M43: vč.10%přesahu a prořezu:43,65*1,10
A44: 17 | B44: 713131131R00 | C44: Izolace tepelná stěn lepením | D44: m2 | E44: 18.7957 | F44: 0 | G44: =E44*F44 -> 0 | H44: 0 | I44: =E44*H44 -> 0 | J44: 0 | K44: =E44*J44 -> 0 | O44: 2 | AA44: 1 | AB44: 7 | AC44: 7 | AZ44: 2 | BA44: =IF(AZ44=1,G44,0) -> 0 | BB44: =IF(AZ44=2,G44,0) -> 0 | BC44: =IF(AZ44=3,G44,0) -> 0 | BD44: =IF(AZ44=4,G44,0) -> 0 | BE44: =IF(AZ44=5,G44,0) -> 0 | CA44: 1 | CB44: 7
C45: atikové(zábradlí) zdivo vč.10% prořezu:((10,15+2*4,23)*0,7+10,15*0,4)*1,10 | E45: 18.7957 | M45: atikové(zábradlí) zdivo vč.10% prořezu:((10,15+2*4,23)*0,7+10,15*0,4)*1,10
A46: 18 | B46: 713141211U00 | C46: Izol tep střech pl volně atik klín | D46: m | E46: 31.636 | F46: 0 | G46: =E46*F46 -> 0 | H46: 0 | I46: =E46*H46 -> 0 | J46: 0 | K46: =E46*J46 -> 0 | O46: 2 | AA46: 1 | AB46: 7 | AC46: 7 | AZ46: 2 | BA46: =IF(AZ46=1,G46,0) -> 0 | BB46: =IF(AZ46=2,G46,0) -> 0 | BC46: =IF(AZ46=3,G46,0) -> 0 | BD46: =IF(AZ46=4,G46,0) -> 0 | BE46: =IF(AZ46=5,G46,0) -> 0 | CA46: 1 | CB46: 7
C47: (10,15+4,23)*1,10*2 | E47: 31.636 | M47: (10,15+4,23)*1,10*2
A48: 19 | B48: 28375766.A | C48: Deska polystyrén samozhášivý EPS 100 S tl. 140 mm | D48: m3 | E48: 6.7221 | F48: 0 | G48: =E48*F48 -> 0 | H48: 0.02 | I48: =E48*H48 -> 0.134442 | K48: =E48*J48 -> 0 | O48: 2 | AA48: 3 | AB48: 7 | AC48: 28375766.A | AZ48: 2 | BA48: =IF(AZ48=1,G48,0) -> 0 | BB48: =IF(AZ48=2,G48,0) -> 0 | BC48: =IF(AZ48=3,G48,0) -> 0 | BD48: =IF(AZ48=4,G48,0) -> 0 | BE48: =IF(AZ48=5,G48,0) -> 0 | CA48: 3 | CB48: 7
C49: 43,65*1,10*0,14 | E49: 6.7221 | M49: 43,65*1,10*0,14
A50: 20 | B50: 2837576625 | C50: Deska polystyrén samozhášivý EPS 100 S tl. 120 mm | D50: m3 | E50: 5.7618 | F50: 0 | G50: =E50*F50 -> 0 | H50: 0.02 | I50: =E50*H50 -> 0.115236 | K50: =E50*J50 -> 0 | O50: 2 | AA50: 3 | AB50: 7 | AC50: 2837576625 | AZ50: 2 | BA50: =IF(AZ50=1,G50,0) -> 0 | BB50: =IF(AZ50=2,G50,0) -> 0 | BC50: =IF(AZ50=3,G50,0) -> 0 | BD50: =IF(AZ50=4,G50,0) -> 0 | BE50: =IF(AZ50=5,G50,0) -> 0 | CA50: 3 | CB50: 7
C51: 43,65*1,10*0,12 | E51: 5.7618 | M51: 43,65*1,10*0,12
A52: 21 | B52: 283758902 | C52: Deska izolační polystyrenová tl. 60 mm dle specifikace v PD | D52: m2 | E52: 18.7957 | F52: 0 | G52: =E52*F52 -> 0 | H52: 0.00198 | I52: =E52*H52 -> 0.037215486 | K52: =E52*J52 -> 0 | O52: 2 | AA52: 3 | AB52: 7 | AC52: 283758902 | AZ52: 2 | BA52: =IF(AZ52=1,G52,0) -> 0 | BB52: =IF(AZ52=2,G52,0) -> 0 | BC52: =IF(AZ52=3,G52,0) -> 0 | BD52: =IF(AZ52=4,G52,0) -> 0 | BE52: =IF(AZ52=5,G52,0) -> 0 | CA52: 3 | CB52: 7
C53: atikové(zábradlí) zdivo vč.10% prořezu:((10,15+2*4,23)*0,7+10,15*0,4)*1,10 | E53: 18.7957 | M53: atikové(zábradlí) zdivo vč.10% prořezu:((10,15+2*4,23)*0,7+10,15*0,4)*1,10
A54: 22 | B54: 28375971 | C54: Deska - klín spádový EPS 100 S | D54: m3 | E54: 3.121 | F54: 0 | G54: =E54*F54 -> 0 | H54: 0.02 | I54: =E54*H54 -> 0.06242 | K54: =E54*J54 -> 0 | O54: 2 | AA54: 3 | AB54: 7 | AC54: 28375971 | AZ54: 2 | BA54: =IF(AZ54=1,G54,0) -> 0 | BB54: =IF(AZ54=2,G54,0) -> 0 | BC54: =IF(AZ54=3,G54,0) -> 0 | BD54: =IF(AZ54=4,G54,0) -> 0 | BE54: =IF(AZ54=5,G54,0) -> 0 | CA54: 3 | CB54: 7
C55: 43,65*1,10*0,065 | E55: 3.121 | M55: 43,65*1,10*0,065
A56: 23 | B56: 63152902 | C56: Klín atikový přechodový 50x50x1000 mm | D56: m | E56: 31.636 | F56: 0 | G56: =E56*F56 -> 0 | H56: 0.00038 | I56: =E56*H56 -> 0.01202168 | K56: =E56*J56 -> 0 | O56: 2 | AA56: 3 | AB56: 7 | AC56: 63152902 | AZ56: 2 | BA56: =IF(AZ56=1,G56,0) -> 0 | BB56: =IF(AZ56=2,G56,0) -> 0 | BC56: =IF(AZ56=3,G56,0) -> 0 | BD56: =IF(AZ56=4,G56,0) -> 0 | BE56: =IF(AZ56=5,G56,0) -> 0 | CA56: 3 | CB56: 7
C57: (10,15+4,23)*1,10*2 | E57: 31.636 | M57: (10,15+4,23)*1,10*2
A58: 24 | B58: 998713101R00 | C58: Přesun hmot pro izolace tepelné, výšky do 6 m | D58: t | E58: 0.36133517 | F58: 0 | G58: =E58*F58 -> 0 | H58: 0 | I58: =E58*H58 -> 0 | K58: =E58*J58 -> 0 | O58: 2 | AA58: 7 | AB58: 1001 | AC58: 5 | AZ58: 2 | BA58: =IF(AZ58=1,G58,0) -> 0 | BB58: =IF(AZ58=2,G58,0) -> 0 | BC58: =IF(AZ58=3,G58,0) -> 0 | BD58: =IF(AZ58=4,G58,0) -> 0 | BE58: =IF(AZ58=5,G58,0) -> 0 | CA58: 7 | CB58: 1001
A59: 25 | B59: 998713102R00 | C59: Přesun hmot pro izolace tepelné, výšky do 12 m | D59: t | E59: 0.36133517 | F59: 0 | G59: =E59*F59 -> 0 | H59: 0 | I59: =E59*H59 -> 0 | K59: =E59*J59 -> 0 | O59: 2 | AA59: 7 | AB59: 1001 | AC59: 5 | AZ59: 2 | BA59: =IF(AZ59=1,G59,0) -> 0 | BB59: =IF(AZ59=2,G59,0) -> 0 | BC59: =IF(AZ59=3,G59,0) -> 0 | BD59: =IF(AZ59=4,G59,0) -> 0 | BE59: =IF(AZ59=5,G59,0) -> 0 | CA59: 7 | CB59: 1001
B60: Celkem za | C60: 713 Izolace tepelné | G60: =SUM(G41:G59) -> 0 | I60: =SUM(I41:I59) -> 0.36133517 | K60: =SUM(K41:K59) -> 0 | O60: 4 | BA60: =SUM(BA41:BA59) -> 0 | BB60: =SUM(BB41:BB59) -> 0 | BC60: =SUM(BC41:BC59) -> 0 | BD60: =SUM(BD41:BD59) -> 0 | BE60: =SUM(BE41:BE59) -> 0
A61: Díl: | B61: 721 | C61: Vnitřní kanalizace | O61: 1
A62: 26 | B62: 721234104RT1 | C62: Vtok střešní pro plochou střechu živičný pás, záchytný koš DN 75 až 150 | D62: kus | E62: 1 | F62: 0 | G62: =E62*F62 -> 0 | H62: 0.00197 | I62: =E62*H62 -> 0.00197 | J62: 0 | K62: =E62*J62 -> 0 | O62: 2 | AA62: 1 | AB62: 7 | AC62: 7 | AZ62: 2 | BA62: =IF(AZ62=1,G62,0) -> 0 | BB62: =IF(AZ62=2,G62,0) -> 0 | BC62: =IF(AZ62=3,G62,0) -> 0 | BD62: =IF(AZ62=4,G62,0) -> 0 | BE62: =IF(AZ62=5,G62,0) -> 0 | CA62: 1 | CB62: 7
A63: 27 | B63: 998721102R00 | C63: Přesun hmot pro vnitřní kanalizaci, výšky do 12 m | D63: t | E63: 0.00197 | F63: 0 | G63: =E63*F63 -> 0 | H63: 0 | I63: =E63*H63 -> 0 | K63: =E63*J63 -> 0 | O63: 2 | AA63: 7 | AB63: 1001 | AC63: 5 | AZ63: 2 | BA63: =IF(AZ63=1,G63,0) -> 0 | BB63: =IF(AZ63=2,G63,0) -> 0 | BC63: =IF(AZ63=3,G63,0) -> 0 | BD63: =IF(AZ63=4,G63,0) -> 0 | BE63: =IF(AZ63=5,G63,0) -> 0 | CA63: 7 | CB63: 1001
B64: Celkem za | C64: 721 Vnitřní kanalizace | G64: =SUM(G61:G63) -> 0 | I64: =SUM(I61:I63) -> 0.00197 | K64: =SUM(K61:K63) -> 0 | O64: 4 | BA64: =SUM(BA61:BA63) -> 0 | BB64: =SUM(BB61:BB63) -> 0 | BC64: =SUM(BC61:BC63) -> 0 | BD64: =SUM(BD61:BD63) -> 0 | BE64: =SUM(BE61:BE63) -> 0
A65: Díl: | B65: 764 | C65: Konstrukce klempířské | O65: 1
A66: 28 | B66: 762952101U12 | C66: Krycí a přítlačná lišta u izolace střechy | D66: m | E66: 18.48 | F66: 0 | G66: =E66*F66 -> 0 | H66: 0.0011 | I66: =E66*H66 -> 0.020328 | J66: 0 | K66: =E66*J66 -> 0 | O66: 2 | AA66: 1 | AB66: 7 | AC66: 7 | AZ66: 2 | BA66: =IF(AZ66=1,G66,0) -> 0 | BB66: =IF(AZ66=2,G66,0) -> 0 | BC66: =IF(AZ66=3,G66,0) -> 0 | BD66: =IF(AZ66=4,G66,0) -> 0 | BE66: =IF(AZ66=5,G66,0) -> 0 | CA66: 1 | CB66: 7
C67: K23:17,6*1,05 | E67: 18.48 | M67: K23:17,6*1,05
A68: 29 | B68: 764321820R12 | C68: Demontáž oplechování atiky, rš 500 mm, | D68: m | E68: 19.9 | F68: 0 | G68: =E68*F68 -> 0 | H68: 0 | I68: =E68*H68 -> 0 | J68: -0.00426 | K68: =E68*J68 -> -0.084774 | O68: 2 | AA68: 1 | AB68: 7 | AC68: 7 | AZ68: 2 | BA68: =IF(AZ68=1,G68,0) -> 0 | BB68: =IF(AZ68=2,G68,0) -> 0 | BC68: =IF(AZ68=3,G68,0) -> 0 | BD68: =IF(AZ68=4,G68,0) -> 0 | BE68: =IF(AZ68=5,G68,0) -> 0 | CA68: 1 | CB68: 7
C69: K19:10,7+4,7+4,5 | E69: 19.9 | M69: K19:10,7+4,7+4,5
A70: 30 | B70: 764530460RT2 | C70: Oplechování zdí z Ti Zn plechu, rš 750 mm | D70: m | E70: 20.895 | F70: 0 | G70: =E70*F70 -> 0 | H70: 0.00698 | I70: =E70*H70 -> 0.1458471 | J70: 0 | K70: =E70*J70 -> 0 | O70: 2 | AA70: 1 | AB70: 7 | AC70: 7 | AZ70: 2 | BA70: =IF(AZ70=1,G70,0) -> 0 | BB70: =IF(AZ70=2,G70,0) -> 0 | BC70: =IF(AZ70=3,G70,0) -> 0 | BD70: =IF(AZ70=4,G70,0) -> 0 | BE70: =IF(AZ70=5,G70,0) -> 0 | CA70: 1 | CB70: 7
C71: K19:(10,7+4,70+4,50)*1,05 | E71: 20.895 | M71: K19:(10,7+4,70+4,50)*1,05
A72: 31 | B72: 764CP001 | C72: D+M chrlič-dn 40 mm vč.vyvrtání prostupu skrz zdivo tl. do 300 mm | D72: ks | E72: 1 | F72: 0 | G72: =E72*F72 -> 0 | H72: 0.00387 | I72: =E72*H72 -> 0.00387 | J72: 0 | K72: =E72*J72 -> 0 | O72: 2 | AA72: 1 | AB72: 7 | AC72: 7 | AZ72: 2 | BA72: =IF(AZ72=1,G72,0) -> 0 | BB72: =IF(AZ72=2,G72,0) -> 0 | BC72: =IF(AZ72=3,G72,0) -> 0 | BD72: =IF(AZ72=4,G72,0) -> 0 | BE72: =IF(AZ72=5,G72,0) -> 0 | CA72: 1 | CB72: 7
A73: 32 | B73: 998764101R00 | C73: Přesun hmot pro klempířské konstr., výšky do 6 m | D73: t | E73: 0.1700451 | F73: 0 | G73: =E73*F73 -> 0 | H73: 0 | I73: =E73*H73 -> 0 | K73: =E73*J73 -> 0 | O73: 2 | AA73: 7 | AB73: 1001 | AC73: 5 | AZ73: 2 | BA73: =IF(AZ73=1,G73,0) -> 0 | BB73: =IF(AZ73=2,G73,0) -> 0 | BC73: =IF(AZ73=3,G73,0) -> 0 | BD73: =IF(AZ73=4,G73,0) -> 0 | BE73: =IF(AZ73=5,G73,0) -> 0 | CA73: 7 | CB73: 1001
B74: Celkem za | C74: 764 Konstrukce klempířské | G74: =SUM(G65:G73) -> 0 | I74: =SUM(I65:I73) -> 0.1700451 | K74: =SUM(K65:K73) -> -0.084774 | O74: 4 | BA74: =SUM(BA65:BA73) -> 0 | BB74: =SUM(BB65:BB73) -> 0 | BC74: =SUM(BC65:BC73) -> 0 | BD74: =SUM(BD65:BD73) -> 0 | BE74: =SUM(BE65:BE73) -> 0
A75: Díl: | B75: 771 | C75: Podlahy z dlaždic a obklady | O75: 1
A76: 33 | B76: 771551020R00 | C76: Montáž podlah z dlaždic teracových na terče 30x30 cm, vč.dodávky rektifačních terčů | D76: m2 | E76: 48.015 | F76: 0 | G76: =E76*F76 -> 0 | H76: 0.05855 | I76: =E76*H76 -> 2.8112782 | J76: 0 | K76: =E76*J76 -> 0 | O76: 2 | AA76: 1 | AB76: 7 | AC76: 7 | AZ76: 2 | BA76: =IF(AZ76=1,G76,0) -> 0 | BB76: =IF(AZ76=2,G76,0) -> 0 | BC76: =IF(AZ76=3,G76,0) -> 0 | BD76: =IF(AZ76=4,G76,0) -> 0 | BE76: =IF(AZ76=5,G76,0) -> 0 | CA76: 1 | CB76: 7
C77: 43,65*1,10 | E77: 48.015 | M77: 43,65*1,10
A78: 34 | B78: 59247240 | C78: Dlaždice teracové 30x30x5 cm | D78: m2 | E78: 48.015 | F78: 0 | G78: =E78*F78 -> 0 | H78: 0.07 | I78: =E78*H78 -> 3.36105 | K78: =E78*J78 -> 0 | O78: 2 | AA78: 3 | AB78: 7 | AC78: 59247240 | AZ78: 2 | BA78: =IF(AZ78=1,G78,0) -> 0 | BB78: =IF(AZ78=2,G78,0) -> 0 | BC78: =IF(AZ78=3,G78,0) -> 0 | BD78: =IF(AZ78=4,G78,0) -> 0 | BE78: =IF(AZ78=5,G78,0) -> 0 | CA78: 3 | CB78: 7
C79: 43,65*1,10 | E79: 48.015 | M79: 43,65*1,10
A80: 35 | B80: 998771101R00 | C80: Přesun hmot pro podlahy z dlaždic, výšky do 6 m | D80: t | E80: 6.1723282 | F80: 0 | G80: =E80*F80 -> 0 | H80: 0 | I80: =E80*H80 -> 0 | K80: =E80*J80 -> 0 | O80: 2 | AA80: 7 | AB80: 1001 | AC80: 5 | AZ80: 2 | BA80: =IF(AZ80=1,G80,0) -> 0 | BB80: =IF(AZ80=2,G80,0) -> 0 | BC80: =IF(AZ80=3,G80,0) -> 0 | BD80: =IF(AZ80=4,G80,0) -> 0 | BE80: =IF(AZ80=5,G80,0) -> 0 | CA80: 7 | CB80: 1001
B81: Celkem za | C81: 771 Podlahy z dlaždic a obklady | G81: =SUM(G75:G80) -> 0 | I81: =SUM(I75:I80) -> 6.1723283 | K81: =SUM(K75:K80) -> 0 | O81: 4 | BA81: =SUM(BA75:BA80) -> 0 | BB81: =SUM(BB75:BB80) -> 0 | BC81: =SUM(BC75:BC80) -> 0 | BD81: =SUM(BD75:BD80) -> 0 | BE81: =SUM(BE75:BE80) -> 0
A82: Díl: | B82: D96 | C82: Přesuny suti a vybouraných hmot | O82: 1
A83: 36 | B83: 979081111R00 | C83: Odvoz suti a vybour. hmot na skládku do 1 km | D83: t | E83: 0.084774 | F83: 0 | G83: =E83*F83 -> 0 | H83: 0 | I83: =E83*H83 -> 0 | K83: =E83*J83 -> 0 | O83: 2 | AA83: 8 | AB83: 1 | AC83: 3 | AZ83: 1 | BA83: =IF(AZ83=1,G83,0) -> 0 | BB83: =IF(AZ83=2,G83,0) -> 0 | BC83: =IF(AZ83=3,G83,0) -> 0 | BD83: =IF(AZ83=4,G83,0) -> 0 | BE83: =IF(AZ83=5,G83,0) -> 0 | CA83: 8 | CB83: 1
A84: 37 | B84: 979081121R00 | C84: Příplatek k odvozu za každý další 1 km | D84: t | E84: 1.27161 | F84: 0 | G84: =E84*F84 -> 0 | H84: 0 | I84: =E84*H84 -> 0 | K84: =E84*J84 -> 0 | O84: 2 | AA84: 8 | AB84: 1 | AC84: 3 | AZ84: 1 | BA84: =IF(AZ84=1,G84,0) -> 0 | BB84: =IF(AZ84=2,G84,0) -> 0 | BC84: =IF(AZ84=3,G84,0) -> 0 | BD84: =IF(AZ84=4,G84,0) -> 0 | BE84: =IF(AZ84=5,G84,0) -> 0 | CA84: 8 | CB84: 1
A85: 38 | B85: 979087112R00 | C85: Nakládání suti na dopravní prostředky | D85: t | E85: 0.084774 | F85: 0 | G85: =E85*F85 -> 0 | H85: 0 | I85: =E85*H85 -> 0 | K85: =E85*J85 -> 0 | O85: 2 | AA85: 8 | AB85: 0 | AC85: 3 | AZ85: 1 | BA85: =IF(AZ85=1,G85,0) -> 0 | BB85: =IF(AZ85=2,G85,0) -> 0 | BC85: =IF(AZ85=3,G85,0) -> 0 | BD85: =IF(AZ85=4,G85,0) -> 0 | BE85: =IF(AZ85=5,G85,0) -> 0 | CA85: 8 | CB85: 0
A86: 39 | B86: 979990001R00 | C86: Poplatek za skládku stavební suti | D86: t | E86: 0.084774 | F86: 0 | G86: =E86*F86 -> 0 | H86: 0 | I86: =E86*H86 -> 0 | K86: =E86*J86 -> 0 | O86: 2 | AA86: 8 | AB86: 1 | AC86: 3 | AZ86: 1 | BA86: =IF(AZ86=1,G86,0) -> 0 | BB86: =IF(AZ86=2,G86,0) -> 0 | BC86: =IF(AZ86=3,G86,0) -> 0 | BD86: =IF(AZ86=4,G86,0) -> 0 | BE86: =IF(AZ86=5,G86,0) -> 0 | CA86: 8 | CB86: 1
B87: Celkem za | C87: D96 Přesuny suti a vybouraných hmot | G87: =SUM(G82:G86) -> 0 | I87: =SUM(I82:I86) -> 0 | K87: =SUM(K82:K86) -> 0 | O87: 4 | BA87: =SUM(BA82:BA86) -> 0 | BB87: =SUM(BB82:BB86) -> 0 | BC87: =SUM(BC82:BC86) -> 0 | BD87: =SUM(BD82:BD86) -> 0 | BE87: =SUM(BE82:BE86) -> 0

Sheet SO 04 SO 04 KL
A1: SLEPÝ ROZPOČET
A2: Rozpočet | C2: SO 04 | D2: Zateplení půdních prostor | F2: JKSO
A4: Objekt | F4: SKP
A5: SO 04 | C5: Zateplení půdních prostor | F5: Měrná jednotka
A6: Stavba | F6: Počet jednotek
A7: 01 | C7: Zateplení budovy muzea Brumov-Bylnice | F7: Náklady na m.j. | G7: =IF(G6=0,,ROUND((F30+F32)/G6,1)) -> 0
A8: Projektant | F8: Typ rozpočtu
A9: Zpracovatel projektu
A10: Objednatel
A11: Dodavatel | F11: Zakázkové číslo
A12: Rozpočtoval | F12: Počet listů
A13: ROZPOČTOVÉ NÁKLADY
A14: Základní rozpočtové náklady | D14: Ostatní rozpočtové náklady
B15: HSV celkem | C15: ='SO 04 SO 04 Rek'!E21 -> 0 | D15: ='SO 04 SO 04 Rek'!A26 -> Ztížené výrobní podmínky | G15: ='SO 04 SO 04 Rek'!I26 -> 0
A16: Z | B16: PSV celkem | C16: ='SO 04 SO 04 Rek'!F21 -> 0 | D16: ='SO 04 SO 04 Rek'!A27 -> Oborová přirážka | G16: ='SO 04 SO 04 Rek'!I27 -> 0
A17: R | B17: M práce celkem | C17: ='SO 04 SO 04 Rek'!H21 -> 0 | D17: ='SO 04 SO 04 Rek'!A28 -> Přesun stavebních kapacit | G17: ='SO 04 SO 04 Rek'!I28 -> 0
A18: N | B18: M dodávky celkem | C18: ='SO 04 SO 04 Rek'!G21 -> 0 | D18: ='SO 04 SO 04 Rek'!A29 -> Mimostaveništní doprava | G18: ='SO 04 SO 04 Rek'!I29 -> 0
A19: ZRN celkem | C19: =SUM(C15:C18) -> 0 | D19: ='SO 04 SO 04 Rek'!A30 -> Zařízení staveniště | G19: ='SO 04 SO 04 Rek'!I30 -> 0
D20: ='SO 04 SO 04 Rek'!A31 -> Provoz investora | G20: ='SO 04 SO 04 Rek'!I31 -> 0
A21: HZS | C21: ='SO 04 SO 04 Rek'!I21 -> 0 | D21: ='SO 04 SO 04 Rek'!A32 -> Kompletační činnost (IČD) | G21: ='SO 04 SO 04 Rek'!I32 -> 0
A22: ZRN+HZS | C22: =C19+C21 -> 0 | D22: Ostatní náklady neuvedené | G22: =G23-SUM(G15:G21) -> 0
A23: ZRN+ost.náklady+HZS | C23: =C22+G23 -> 0 | D23: Ostatní náklady celkem | G23: ='SO 04 SO 04 Rek'!H34 -> 0
A24: Vypracoval | D24: Za zhotovitele | F24: Za objednatele
A25: Jméno : | D25: Jméno : | F25: Jméno :
A26: Datum : | D26: Datum : | F26: Datum :
A28: Podpis : | D28: Podpis: | F28: Podpis:
A30: Základ pro DPH | C30: 21 | D30: % | F30: =C23-F32 -> 0
A31: DPH | C31: =C30 -> 21 | D31: % | F31: =ROUND(PRODUCT(F30,C31/100),0) -> 0
A32: Základ pro DPH | C32: 0 | D32: % | F32: 0
A33: DPH | C33: =C32 -> 0 | D33: % | F33: =ROUND(PRODUCT(F32,C33/100),0) -> 0
A34: CENA ZA OBJEKT CELKEM | F34: =ROUND(SUM(F30:F33),0) -> 0
A36: Poznámka :
B37: Nedílnou součástí PD je výkresová část s technickou zprávou a výpisy prvků jednotlivých částí. Cena stanovena dle RTS. Je nutné zrealizovat odtrhové zkoušky! Kvalitativní třída ETICS A, kotvy zapuštěné! Dodavatel může použít polystyren (izolant) o vyšší pevnosti než je předepsána a tepelně izolační vlastnosti mohou mít součinitel prostupu tepla lepší než je předepsáno v projektové dokumentaci.

Sheet SO 04 SO 04 Rek
A1: Stavba : | C1: 01 Zateplení budovy muzea Brumov-Bylnice | G1: Rozpočet : | H1: SO 04
A2: Objekt : | C2: SO 04 Zateplení půdních prostor | G2: Zateplení půdních prostor
A4: REKAPITULACE STAVEBNÍCH DÍLŮ
B6: Stavební díl | E6: HSV | F6: PSV | G6: Dodávka | H6: Montáž | I6: HZS
A7: ='SO 04 SO 04 Pol'!B7 -> 3 | B7: ='SO 04 SO 04 Pol'!C7 -> Svislé a kompletní konstrukce | E7: ='SO 04 SO 04 Pol'!BA13 -> 0 | F7: ='SO 04 SO 04 Pol'!BB13 -> 0 | G7: ='SO 04 SO 04 Pol'!BC13 -> 0 | H7: ='SO 04 SO 04 Pol'!BD13 -> 0 | I7: ='SO 04 SO 04 Pol'!BE13 -> 0
A8: ='SO 04 SO 04 Pol'!B14 -> 4 | B8: ='SO 04 SO 04 Pol'!C14 -> Vodorovné konstrukce | E8: ='SO 04 SO 04 Pol'!BA18 -> 0 | F8: ='SO 04 SO 04 Pol'!BB18 -> 0 | G8: ='SO 04 SO 04 Pol'!BC18 -> 0 | H8: ='SO 04 SO 04 Pol'!BD18 -> 0 | I8: ='SO 04 SO 04 Pol'!BE18 -> 0
A9: ='SO 04 SO 04 Pol'!B19 -> 61 | B9: ='SO 04 SO 04 Pol'!C19 -> Upravy povrchů vnitřní | E9: ='SO 04 SO 04 Pol'!BA25 -> 0 | F9: ='SO 04 SO 04 Pol'!BB25 -> 0 | G9: ='SO 04 SO 04 Pol'!BC25 -> 0 | H9: ='SO 04 SO 04 Pol'!BD25 -> 0 | I9: ='SO 04 SO 04 Pol'!BE25 -> 0
A10: ='SO 04 SO 04 Pol'!B26 -> 94 | B10: ='SO 04 SO 04 Pol'!C26 -> Lešení a stavební výtahy | E10: ='SO 04 SO 04 Pol'!BA29 -> 0 | F10: ='SO 04 SO 04 Pol'!BB29 -> 0 | G10: ='SO 04 SO 04 Pol'!BC29 -> 0 | H10: ='SO 04 SO 04 Pol'!BD29 -> 0 | I10: ='SO 04 SO 04 Pol'!BE29 -> 0
A11: ='SO 04 SO 04 Pol'!B30 -> 95 | B11: ='SO 04 SO 04 Pol'!C30 -> Dokončovací konstrukce na pozemních stavbách | E11: ='SO 04 SO 04 Pol'!BA33 -> 0 | F11: ='SO 04 SO 04 Pol'!BB33 -> 0 | G11: ='SO 04 SO 04 Pol'!BC33 -> 0 | H11: ='SO 04 SO 04 Pol'!BD33 -> 0 | I11: ='SO 04 SO 04 Pol'!BE33 -> 0
A12: ='SO 04 SO 04 Pol'!B34 -> 96 | B12: ='SO 04 SO 04 Pol'!C34 -> Bourání konstrukcí | E12: ='SO 04 SO 04 Pol'!BA36 -> 0 | F12: ='SO 04 SO 04 Pol'!BB36 -> 0 | G12: ='SO 04 SO 04 Pol'!BC36 -> 0 | H12: ='SO 04 SO 04 Pol'!BD36 -> 0 | I12: ='SO 04 SO 04 Pol'!BE36 -> 0
A13: ='SO 04 SO 04 Pol'!B37 -> 99 | B13: ='SO 04 SO 04 Pol'!C37 -> Staveništní přesun hmot | E13: ='SO 04 SO 04 Pol'!BA39 -> 0 | F13: ='SO 04 SO 04 Pol'!BB39 -> 0 | G13: ='SO 04 SO 04 Pol'!BC39 -> 0 | H13: ='SO 04 SO 04 Pol'!BD39 -> 0 | I13: ='SO 04 SO 04 Pol'!BE39 -> 0
A14: ='SO 04 SO 04 Pol'!B40 -> 713 | B14: ='SO 04 SO 04 Pol'!C40 -> Izolace tepelné | E14: ='SO 04 SO 04 Pol'!BA72 -> 0 | F14: ='SO 04 SO 04 Pol'!BB72 -> 0 | G14: ='SO 04 SO 04 Pol'!BC72 -> 0 | H14: ='SO 04 SO 04 Pol'!BD72 -> 0 | I14: ='SO 04 SO 04 Pol'!BE72 -> 0
A15: ='SO 04 SO 04 Pol'!B73 -> 762 | B15: ='SO 04 SO 04 Pol'!C73 -> Konstrukce tesařské | E15: ='SO 04 SO 04 Pol'!BA114 -> 0 | F15: ='SO 04 SO 04 Pol'!BB114 -> 0 | G15: ='SO 04 SO 04 Pol'!BC114 -> 0 | H15: ='SO 04 SO 04 Pol'!BD114 -> 0 | I15: ='SO 04 SO 04 Pol'!BE114 -> 0
A16: ='SO 04 SO 04 Pol'!B115 -> 764 | B16: ='SO 04 SO 04 Pol'!C115 -> Konstrukce klempířské | E16: ='SO 04 SO 04 Pol'!BA120 -> 0 | F16: ='SO 04 SO 04 Pol'!BB120 -> 0 | G16: ='SO 04 SO 04 Pol'!BC120 -> 0 | H16: ='SO 04 SO 04 Pol'!BD120 -> 0 | I16: ='SO 04 SO 04 Pol'!BE120 -> 0
A17: ='SO 04 SO 04 Pol'!B121 -> 766 | B17: ='SO 04 SO 04 Pol'!C121 -> Konstrukce truhlářské | E17: ='SO 04 SO 04 Pol'!BA134 -> 0 | F17: ='SO 04 SO 04 Pol'!BB134 -> 0 | G17: ='SO 04 SO 04 Pol'!BC134 -> 0 | H17: ='SO 04 SO 04 Pol'!BD134 -> 0 | I17: ='SO 04 SO 04 Pol'!BE134 -> 0
A18: ='SO 04 SO 04 Pol'!B135 -> 783 | B18: ='SO 04 SO 04 Pol'!C135 -> Nátěry | E18: ='SO 04 SO 04 Pol'!BA138 -> 0 | F18: ='SO 04 SO 04 Pol'!BB138 -> 0 | G18: ='SO 04 SO 04 Pol'!BC138 -> 0 | H18: ='SO 04 SO 04 Pol'!BD138 -> 0 | I18: ='SO 04 SO 04 Pol'!BE138 -> 0
A19: ='SO 04 SO 04 Pol'!B139 -> 784 | B19: ='SO 04 SO 04 Pol'!C139 -> Malby | E19: ='SO 04 SO 04 Pol'!BA149 -> 0 | F19: ='SO 04 SO 04 Pol'!BB149 -> 0 | G19: ='SO 04 SO 04 Pol'!BC149 -> 0 | H19: ='SO 04 SO 04 Pol'!BD149 -> 0 | I19: ='SO 04 SO 04 Pol'!BE149 -> 0
A20: ='SO 04 SO 04 Pol'!B150 -> D96 | B20: ='SO 04 SO 04 Pol'!C150 -> Přesuny suti a vybouraných hmot | E20: ='SO 04 SO 04 Pol'!BA155 -> 0 | F20: ='SO 04 SO 04 Pol'!BB155 -> 0 | G20: ='SO 04 SO 04 Pol'!BC155 -> 0 | H20: ='SO 04 SO 04 Pol'!BD155 -> 0 | I20: ='SO 04 SO 04 Pol'!BE155 -> 0
B21: CELKEM OBJEKT | E21: =SUM(E7:E20) -> 0 | F21: =SUM(F7:F20) -> 0 | G21: =SUM(G7:G20) -> 0 | H21: =SUM(H7:H20) -> 0 | I21: =SUM(I7:I20) -> 0
A23: VEDLEJŠÍ ROZPOČTOVÉ NÁKLADY
A25: Název VRN | E25: Kč | F25: % | G25: Základna | I25: Kč
A26: Ztížené výrobní podmínky | G26: 0 | I26: =E26+F26*G26/100 -> 0 | BA26: 0
A27: Oborová přirážka | G27: 0 | I27: =E27+F27*G27/100 -> 0 | BA27: 0
A28: Přesun stavebních kapacit | G28: 0 | I28: =E28+F28*G28/100 -> 0 | BA28: 0
A29: Mimostaveništní doprava | G29: 0 | I29: =E29+F29*G29/100 -> 0 | BA29: 0
A30: Zařízení staveniště | G30: 0 | I30: =E30+F30*G30/100 -> 0 | BA30: 1
A31: Provoz investora | G31: 0 | I31: =E31+F31*G31/100 -> 0 | BA31: 1
A32: Kompletační činnost (IČD) | G32: 0 | I32: =E32+F32*G32/100 -> 0 | BA32: 2
A33: Rezerva rozpočtu | G33: 0 | I33: =E33+F33*G33/100 -> 0 | BA33: 2
B34: CELKEM VRN | H34: =SUM(I26:I33) -> 0

Sheet SO 04 SO 04 Pol
A1: Slepý rozpočet
A3: Stavba : | C3: 01 Zateplení budovy muzea Brumov-Bylnice | E3: Rozpočet: | F3: ='SO 04 SO 04 Rek'!H1 -> SO 04
A4: Objekt : | C4: SO 04 Zateplení půdních prostor | E4: ='SO 04 SO 04 Rek'!G2 -> Zateplení půdních prostor
A6: P.č. | B6: Číslo položky | C6: Název položky | D6: MJ | E6: množství | F6: cena / MJ | G6: celkem (Kč) | H6: Jednotková hmotnost | I6: Celková hmotnost | J6: Jednotková dem.hmot. | K6: Celková dem.hmot.
A7: Díl: | B7: 3 | C7: Svislé a kompletní konstrukce | O7: 1
A8: 1 | B8: 311271858R00 | C8: Zdivo z tvár.pórobet. P3-520 hladkých tl.500 | D8: m2 | E8: 0.858 | F8: 0 | G8: =E8*F8 -> 0 | H8: 0.40513 | I8: =E8*H8 -> 0.34760154 | J8: 0 | K8: =E8*J8 -> 0 | O8: 2 | AA8: 1 | AB8: 1 | AC8: 1 | AZ8: 1 | BA8: =IF(AZ8=1,G8,0) -> 0 | BB8: =IF(AZ8=2,G8,0) -> 0 | BC8: =IF(AZ8=3,G8,0) -> 0 | BD8: =IF(AZ8=4,G8,0) -> 0 | BE8: =IF(AZ8=5,G8,0) -> 0 | CA8: 1 | CB8: 1
C9: (0,6*0,3+0,6*0,30+0,6*0,3+0,8*0,3)*1,10 | E9: 0.858 | M9: (0,6*0,3+0,6*0,30+0,6*0,3+0,8*0,3)*1,10
A10: 2 | B10: 347011001R00 | C10: Předstěna SDK,lepená,1x opl., tl. 25mm, tl.12,5 mm vč.parozábrany | D10: m2 | E10: 152.317 | F10: 0 | G10: =E10*F10 -> 0 | H10: 0.01406 | I10: =E10*H10 -> 2.141577 | J10: 0 | K10: =E10*J10 -> 0 | O10: 2 | AA10: 1 | AB10: 1 | AC10: 1 | AZ10: 1 | BA10: =IF(AZ10=1,G10,0) -> 0 | BB10: =IF(AZ10=2,G10,0) -> 0 | BC10: =IF(AZ10=3,G10,0) -> 0 | BD10: =IF(AZ10=4,G10,0) -> 0 | BE10: =IF(AZ10=5,G10,0) -> 0 | CA10: 1 | CB10: 1
C11: SN1, SN2, SN3, vč.10%prořezu:107,87*1,10 | E11: 118.657 | M11: SN1, SN2, SN3, vč.10%prořezu:107,87*1,10
C12: SO 05 vč.10% prořezu:1,7*2,25*8*1,10 | E12: 33.66 | M12: SO 05 vč.10% prořezu:1,7*2,25*8*1,10
B13: Celkem za | C13: 3 Svislé a kompletní konstrukce | G13: =SUM(G7:G12) -> 0 | I13: =SUM(I7:I12) -> 2.4891786 | K13: =SUM(K7:K12) -> 0 | O13: 4 | BA13: =SUM(BA7:BA12) -> 0 | BB13: =SUM(BB7:BB12) -> 0 | BC13: =SUM(BC7:BC12) -> 0 | BD13: =SUM(BD7:BD12) -> 0 | BE13: =SUM(BE7:BE12) -> 0
A14: Díl: | B14: 4 | C14: Vodorovné konstrukce | O14: 1
A15: 3 | B15: 416020113R00 | C15: Podhledy SDK, kovová kce.HUT 1x deska tl. 12,5 mm | D15: m2 | E15: 49.973 | F15: 0 | G15: =E15*F15 -> 0 | H15: 0.01131 | I15: =E15*H15 -> 0.56519463 | J15: 0 | K15: =E15*J15 -> 0 | O15: 2 | AA15: 1 | AB15: 1 | AC15: 1 | AZ15: 1 | BA15: =IF(AZ15=1,G15,0) -> 0 | BB15: =IF(AZ15=2,G15,0) -> 0 | BC15: =IF(AZ15=3,G15,0) -> 0 | BD15: =IF(AZ15=4,G15,0) -> 0 | BE15: =IF(AZ15=5,G15,0) -> 0 | CA15: 1 | CB15: 1
C16: SCH2 vč.10%přesahu:42,92*1,10 | E16: 47.212 | M16: SCH2 vč.10%přesahu:42,92*1,10
C17: 2,51*1,10 | E17: 2.761 | M17: 2,51*1,10
B18: Celkem za | C18: 4 Vodorovné konstrukce | G18: =SUM(G14:G17) -> 0 | I18: =SUM(I14:I17) -> 0.56519463 | K18: =SUM(K14:K17) -> 0 | O18: 4 | BA18: =SUM(BA14:BA17) -> 0 | BB18: =SUM(BB14:BB17) -> 0 | BC18: =SUM(BC14:BC17) -> 0 | BD18: =SUM(BD14:BD17) -> 0 | BE18: =SUM(BE14:BE17) -> 0
A19: Díl: | B19: 61 | C19: Upravy povrchů vnitřní | O19: 1
A20: 4 | B20: 612445104R00 | C20: Stěrka sádrová, penetrace, tl. 4 mm | D20: m2 | E20: 202.29 | F20: 0 | G20: =E20*F20 -> 0 | H20: 0.00363 | I20: =E20*H20 -> 0.7343127 | J20: 0 | K20: =E20*J20 -> 0 | O20: 2 | AA20: 1 | AB20: 1 | AC20: 1 | AZ20: 1 | BA20: =IF(AZ20=1,G20,0) -> 0 | BB20: =IF(AZ20=2,G20,0) -> 0 | BC20: =IF(AZ20=3,G20,0) -> 0 | BD20: =IF(AZ20=4,G20,0) -> 0 | BE20: =IF(AZ20=5,G20,0) -> 0 | CA20: 1 | CB20: 1
C21: SN1, SN2, SN3, vč.10%prořezu:107,87*1,10 | E21: 118.657 | M21: SN1, SN2, SN3, vč.10%prořezu:107,87*1,10
C22: SO 05 vč.10% prořezu:1,7*2,25*8*1,10 | E22: 33.66 | M22: SO 05 vč.10% prořezu:1,7*2,25*8*1,10
C23: SCH2 vč.10%přesahu:42,92*1,10 | E23: 47.212 | M23: SCH2 vč.10%přesahu:42,92*1,10
C24: 2,51*1,10 | E24: 2.761 | M24: 2,51*1,10
B25: Celkem za | C25: 61 Upravy povrchů vnitřní | G25: =SUM(G19:G24) -> 0 | I25: =SUM(I19:I24) -> 0.7343127 | K25: =SUM(K19:K24) -> 0 | O25: 4 | BA25: =SUM(BA19:BA24) -> 0 | BB25: =SUM(BB19:BB24) -> 0 | BC25: =SUM(BC19:BC24) -> 0 | BD25: =SUM(BD19:BD24) -> 0 | BE25: =SUM(BE19:BE24) -> 0
A26: Díl: | B26: 94 | C26: Lešení a stavební výtahy | O26: 1
A27: 5 | B27: 941955001R00 | C27: Lešení lehké pomocné, výška podlahy do 1,2 m | D27: m2 | E27: 164.55 | F27: 0 | G27: =E27*F27 -> 0 | H27: 0.00121 | I27: =E27*H27 -> 0.1991055 | J27: 0 | K27: =E27*J27 -> 0 | O27: 2 | AA27: 1 | AB27: 1 | AC27: 1 | AZ27: 1 | BA27: =IF(AZ27=1,G27,0) -> 0 | BB27: =IF(AZ27=2,G27,0) -> 0 | BC27: =IF(AZ27=3,G27,0) -> 0 | BD27: =IF(AZ27=4,G27,0) -> 0 | BE27: =IF(AZ27=5,G27,0) -> 0 | CA27: 1 | CB27: 1
C28: 8,20+19,09+27+5,34+19,68+11,87+13,44+19,37+16,87+4,81+15,74+1,65+1,49 | E28: 164.55 | M28: 8,20+19,09+27+5,34+19,68+11,87+13,44+19,37+16,87+4,81+15,74+1,65+1,49
B29: Celkem za | C29: 94 Lešení a stavební výtahy | G29: =SUM(G26:G28) -> 0 | I29: =SUM(I26:I28) -> 0.1991055 | K29: =SUM(K26:K28) -> 0 | O29: 4 | BA29: =SUM(BA26:BA28) -> 0 | BB29: =SUM(BB26:BB28) -> 0 | BC29: =SUM(BC26:BC28) -> 0 | BD29: =SUM(BD26:BD28) -> 0 | BE29: =SUM(BE26:BE28) -> 0
A30: Díl: | B30: 95 | C30: Dokončovací konstrukce na pozemních stavbách | O30: 1
A31: 6 | B31: 952901111R00 | C31: Vyčištění budov o výšce podlaží do 4 m | D31: m2 | E31: 164.55 | F31: 0 | G31: =E31*F31 -> 0 | H31: 4e-05 | I31: =E31*H31 -> 0.006582 | J31: 0 | K31: =E31*J31 -> 0 | O31: 2 | AA31: 1 | AB31: 1 | AC31: 1 | AZ31: 1 | BA31: =IF(AZ31=1,G31,0) -> 0 | BB31: =IF(AZ31=2,G31,0) -> 0 | BC31: =IF(AZ31=3,G31,0) -> 0 | BD31: =IF(AZ31=4,G31,0) -> 0 | BE31: =IF(AZ31=5,G31,0) -> 0 | CA31: 1 | CB31: 1
C32: 8,20+19,09+27+5,34+19,68+11,87+13,44+19,37+16,87+4,81+15,74+1,65+1,49 | E32: 164.55 | M32: 8,20+19,09+27+5,34+19,68+11,87+13,44+19,37+16,87+4,81+15,74+1,65+1,49
B33: Celkem za | C33: 95 Dokončovací konstrukce na pozemních stavbách | G33: =SUM(G30:G32) -> 0 | I33: =SUM(I30:I32) -> 0.006582 | K33: =SUM(K30:K32) -> 0 | O33: 4 | BA33: =SUM(BA30:BA32) -> 0 | BB33: =SUM(BB30:BB32) -> 0 | BC33: =SUM(BC30:BC32) -> 0 | BD33: =SUM(BD30:BD32) -> 0 | BE33: =SUM(BE30:BE32) -> 0
A34: Díl: | B34: 96 | C34: Bourání konstrukcí | O34: 1
A35: 7 | B35: 968061125R00 | C35: Vyvěšení dřevěných dveřních křídel pl. do 2 m2 vč.zárubně | D35: kus | E35: 7 | F35: 0 | G35: =E35*F35 -> 0 | H35: 0 | I35: =E35*H35 -> 0 | J35: -0.0385 | K35: =E35*J35 -> -0.2695 | O35: 2 | AA35: 1 | AB35: 1 | AC35: 1 | AZ35: 1 | BA35: =IF(AZ35=1,G35,0) -> 0 | BB35: =IF(AZ35=2,G35,0) -> 0 | BC35: =IF(AZ35=3,G35,0) -> 0 | BD35: =IF(AZ35=4,G35,0) -> 0 | BE35: =IF(AZ35=5,G35,0) -> 0 | CA35: 1 | CB35: 1
B36: Celkem za | C36: 96 Bourání konstrukcí | G36: =SUM(G34:G35) -> 0 | I36: =SUM(I34:I35) -> 0 | K36: =SUM(K34:K35) -> -0.2695 | O36: 4 | BA36: =SUM(BA34:BA35) -> 0 | BB36: =SUM(BB34:BB35) -> 0 | BC36: =SUM(BC34:BC35) -> 0 | BD36: =SUM(BD34:BD35) -> 0 | BE36: =SUM(BE34:BE35) -> 0
A37: Díl: | B37: 99 | C37: Staveništní přesun hmot | O37: 1
A38: 8 | B38: 998011002R00 | C38: Přesun hmot pro budovy zděné výšky do 12 m | D38: t | E38: 3.9943734 | F38: 0 | G38: =E38*F38 -> 0 | H38: 0 | I38: =E38*H38 -> 0 | K38: =E38*J38 -> 0 | O38: 2 | AA38: 7 | AB38: 1 | AC38: 2 | AZ38: 1 | BA38: =IF(AZ38=1,G38,0) -> 0 | BB38: =IF(AZ38=2,G38,0) -> 0 | BC38: =IF(AZ38=3,G38,0) -> 0 | BD38: =IF(AZ38=4,G38,0) -> 0 | BE38: =IF(AZ38=5,G38,0) -> 0 | CA38: 7 | CB38: 1
B39: Celkem za | C39: 99 Staveništní přesun hmot | G39: =SUM(G37:G38) -> 0 | I39: =SUM(I37:I38) -> 0 | K39: =SUM(K37:K38) -> 0 | O39: 4 | BA39: =SUM(BA37:BA38) -> 0 | BB39: =SUM(BB37:BB38) -> 0 | BC39: =SUM(BC37:BC38) -> 0 | BD39: =SUM(BD37:BD38) -> 0 | BE39: =SUM(BE37:BE38) -> 0
A40: Díl: | B40: 713 | C40: Izolace tepelné | O40: 1
A41: 9 | B41: 713111111RT2 | C41: Izolace tepelné stropů vrchem kladené volně 2 vrstvy - materiál ve specifikaci | D41: m2 | E41: 188.782 | F41: 0 | G41: =E41*F41 -> 0 | H41: 0 | I41: =E41*H41 -> 0 | J41: 0 | K41: =E41*J41 -> 0 | O41: 2 | AA41: 1 | AB41: 7 | AC41: 7 | AZ41: 2 | BA41: =IF(AZ41=1,G41,0) -> 0 | BB41: =IF(AZ41=2,G41,0) -> 0 | BC41: =IF(AZ41=3,G41,0) -> 0 | BD41: =IF(AZ41=4,G41,0) -> 0 | BE41: =IF(AZ41=5,G41,0) -> 0 | CA41: 1 | CB41: 7
C42: STR 1 a STR 2, vč.10% prořezu:171,62*1,10 | E42: 188.782 | M42: STR 1 a STR 2, vč.10% prořezu:171,62*1,10
A43: 10 | B43: 713111130RT2 | C43: Izolace tepelné stropů, 2 vrstvy, mezi krokve, pod krokve - materiál ve specifikaci | D43: m2 | E43: 49.973 | F43: 0 | G43: =E43*F43 -> 0 | H43: 0.00053 | I43: =E43*H43 -> 0.02648569 | J43: 0 | K43: =E43*J43 -> 0 | O43: 2 | AA43: 1 | AB43: 7 | AC43: 7 | AZ43: 2 | BA43: =IF(AZ43=1,G43,0) -> 0 | BB43: =IF(AZ43=2,G43,0) -> 0 | BC43: =IF(AZ43=3,G43,0) -> 0 | BD43: =IF(AZ43=4,G43,0) -> 0 | BE43: =IF(AZ43=5,G43,0) -> 0 | CA43: 1 | CB43: 7
C44: SCH2 vč.10%přesahu:42,92*1,10 | E44: 47.212 | M44: SCH2 vč.10%přesahu:42,92*1,10
C45: 2,51*1,10 | E45: 2.761 | M45: 2,51*1,10
A46: 11 | B46: 713111211RK6 | C46: Montáž parozábrany spodem s přelepením spojů vč.parozábrany a pásky | D46: m2 | E46: 238.304 | F46: 0 | G46: =E46*F46 -> 0 | H46: 0.0002 | I46: =E46*H46 -> 0.0476608 | J46: 0 | K46: =E46*J46 -> 0 | O46: 2 | AA46: 1 | AB46: 0 | AC46: 0 | AZ46: 2 | BA46: =IF(AZ46=1,G46,0) -> 0 | BB46: =IF(AZ46=2,G46,0) -> 0 | BC46: =IF(AZ46=3,G46,0) -> 0 | BD46: =IF(AZ46=4,G46,0) -> 0 | BE46: =IF(AZ46=5,G46,0) -> 0 | CA46: 1 | CB46: 0
C47: STR 1 a STR 2, vč.10% prořezu:171,62*1,10 | E47: 188.782 | M47: STR 1 a STR 2, vč.10% prořezu:171,62*1,10
C48: SCH2 vč.10%přesahu:42,92*1,10 | E48: 47.212 | M48: SCH2 vč.10%přesahu:42,92*1,10
C49: 2,1*1,10 | E49: 2.31 | M49: 2,1*1,10
A50: 12 | B50: 713131130R00 | C50: Izolace tepelná stěn vložením do konstrukce | D50: m2 | E50: 152.317 | F50: 0 | G50: =E50*F50 -> 0 | H50: 0.00023 | I50: =E50*H50 -> 0.03503291 | J50: 0 | K50: =E50*J50 -> 0 | O50: 2 | AA50: 1 | AB50: 7 | AC50: 7 | AZ50: 2 | BA50: =IF(AZ50=1,G50,0) -> 0 | BB50: =IF(AZ50=2,G50,0) -> 0 | BC50: =IF(AZ50=3,G50,0) -> 0 | BD50: =IF(AZ50=4,G50,0) -> 0 | BE50: =IF(AZ50=5,G50,0) -> 0 | CA50: 1 | CB50: 7
C51: SN1, SN2, SN3, vč.10%prořezu:107,87*1,10 | E51: 118.657 | M51: SN1, SN2, SN3, vč.10%prořezu:107,87*1,10
C52: SO 05 vč.10% prořezu:1,7*2,25*8*1,10 | E52: 33.66 | M52: SO 05 vč.10% prořezu:1,7*2,25*8*1,10
A53: 13 | B53: 63150800210 | C53: Minerální plsť tl. 160 mm, mezi krokve lambda = 0,036 | D53: m2 | E53: 49.973 | F53: 0 | G53: =E53*F53 -> 0 | H53: 0.0017 | I53: =E53*H53 -> 0.0849541 | K53: =E53*J53 -> 0 | O53: 2 | AA53: 3 | AB53: 7 | AC53: 63150800210 | AZ53: 2 | BA53: =IF(AZ53=1,G53,0) -> 0 | BB53: =IF(AZ53=2,G53,0) -> 0 | BC53: =IF(AZ53=3,G53,0) -> 0 | BD53: =IF(AZ53=4,G53,0) -> 0 | BE53: =IF(AZ53=5,G53,0) -> 0 | CA53: 3 | CB53: 7
C54: SCH2 vč.10%přesahu:42,92*1,10 | E54: 47.212 | M54: SCH2 vč.10%přesahu:42,92*1,10
C55: 2,51*1,10 | E55: 2.761 | M55: 2,51*1,10
A56: 14 | B56: 631508002101 | C56: Minerální plsť tl. 160 mm, lambda = 0,036 | D56: m2 | E56: 33.66 | F56: 0 | G56: =E56*F56 -> 0 | H56: 0.0017 | I56: =E56*H56 -> 0.057222 | K56: =E56*J56 -> 0 | O56: 2 | AA56: 3 | AB56: 7 | AC56: 631508002101 | AZ56: 2 | BA56: =IF(AZ56=1,G56,0) -> 0 | BB56: =IF(AZ56=2,G56,0) -> 0 | BC56: =IF(AZ56=3,G56,0) -> 0 | BD56: =IF(AZ56=4,G56,0) -> 0 | BE56: =IF(AZ56=5,G56,0) -> 0 | CA56: 3 | CB56: 7
C57: SO 05 vč.10% prořezu:1,7*2,25*8*1,10 | E57: 33.66 | M57: SO 05 vč.10% prořezu:1,7*2,25*8*1,10
A58: 15 | B58: 6315080021012 | C58: Minerální plsť tl. 140 mm lambda = 0,036, do kce | D58: m2 | E58: 118.657 | F58: 0 | G58: =E58*F58 -> 0 | H58: 0.0017 | I58: =E58*H58 -> 0.2017169 | K58: =E58*J58 -> 0 | O58: 2 | AA58: 3 | AB58: 7 | AC58: 6315080021012 | AZ58: 2 | BA58: =IF(AZ58=1,G58,0) -> 0 | BB58: =IF(AZ58=2,G58,0) -> 0 | BC58: =IF(AZ58=3,G58,0) -> 0 | BD58: =IF(AZ58=4,G58,0) -> 0 | BE58: =IF(AZ58=5,G58,0) -> 0 | CA58: 3 | CB58: 7
C59: SN1, SN2, SN3, vč.10%prořezu:107,87*1,10 | E59: 118.657 | M59: SN1, SN2, SN3, vč.10%prořezu:107,87*1,10
A60: 16 | B60: 631508011 | C60: Minerální plsť tl. 120 mm lambda = 0,036 | D60: m2 | E60: 377.564 | F60: 0 | G60: =E60*F60 -> 0 | H60: 0.0015 | I60: =E60*H60 -> 0.566346 | K60: =E60*J60 -> 0 | O60: 2 | AA60: 3 | AB60: 7 | AC60: 631508011 | AZ60: 2 | BA60: =IF(AZ60=1,G60,0) -> 0 | BB60: =IF(AZ60=2,G60,0) -> 0 | BC60: =IF(AZ60=3,G60,0) -> 0 | BD60: =IF(AZ60=4,G60,0) -> 0 | BE60: =IF(AZ60=5,G60,0) -> 0 | CA60: 3 | CB60: 7
C61: STR 1 a STR 2, vč.10% prořezu:171,62*2*1,10 | E61: 377.564 | M61: STR 1 a STR 2, vč.10% prořezu:171,62*2*1,10
C62: 2 vrtsvy do kříže: | E62: 0 | M62: 2 vrtsvy do kříže:
A63: 17 | B63: 631508013 | C63: Minerální plsť tl. 80 mm, pod krokve lambda = 0,036 | D63: m2 | E63: 33.66 | F63: 0 | G63: =E63*F63 -> 0 | H63: 0.0015 | I63: =E63*H63 -> 0.05049 | K63: =E63*J63 -> 0 | O63: 2 | AA63: 3 | AB63: 7 | AC63: 631508013 | AZ63: 2 | BA63: =IF(AZ63=1,G63,0) -> 0 | BB63: =IF(AZ63=2,G63,0) -> 0 | BC63: =IF(AZ63=3,G63,0) -> 0 | BD63: =IF(AZ63=4,G63,0) -> 0 | BE63: =IF(AZ63=5,G63,0) -> 0 | CA63: 3 | CB63: 7
C64: SO 05 vč.10% prořezu:1,7*2,25*8*1,10 | E64: 33.66 | M64: SO 05 vč.10% prořezu:1,7*2,25*8*1,10
A65: 18 | B65: 6315080132 | C65: Minerální plsť tl. 100 mm, do kce lambda = 0,036 | D65: m2 | E65: 118.657 | F65: 0 | G65: =E65*F65 -> 0 | H65: 0.0015 | I65: =E65*H65 -> 0.1779855 | K65: =E65*J65 -> 0 | O65: 2 | AA65: 3 | AB65: 7 | AC65: 6315080132 | AZ65: 2 | BA65: =IF(AZ65=1,G65,0) -> 0 | BB65: =IF(AZ65=2,G65,0) -> 0 | BC65: =IF(AZ65=3,G65,0) -> 0 | BD65: =IF(AZ65=4,G65,0) -> 0 | BE65: =IF(AZ65=5,G65,0) -> 0 | CA65: 3 | CB65: 7
C66: SN1, SN2, SN3, vč.10%prořezu:107,87*1,10 | E66: 118.657 | M66: SN1, SN2, SN3, vč.10%prořezu:107,87*1,10
A67: 19 | B67: 6315080136 | C67: Minerální plsť tl. 140 mm, pod krokve lambda = 0,036 | D67: m2 | E67: 49.973 | F67: 0 | G67: =E67*F67 -> 0 | H67: 0.0015 | I67: =E67*H67 -> 0.0749595 | K67: =E67*J67 -> 0 | O67: 2 | AA67: 3 | AB67: 7 | AC67: 6315080136 | AZ67: 2 | BA67: =IF(AZ67=1,G67,0) -> 0 | BB67: =IF(AZ67=2,G67,0) -> 0 | BC67: =IF(AZ67=3,G67,0) -> 0 | BD67: =IF(AZ67=4,G67,0) -> 0 | BE67: =IF(AZ67=5,G67,0) -> 0 | CA67: 3 | CB67: 7
C68: SCH2 vč.10%přesahu:42,92*1,10 | E68: 47.212 | M68: SCH2 vč.10%přesahu:42,92*1,10
C69: 2,51*1,10 | E69: 2.761 | M69: 2,51*1,10
A70: 20 | B70: 998713102R00 | C70: Přesun hmot pro izolace tepelné, výšky do 12 m | D70: t | E70: 1.3228534 | F70: 0 | G70: =E70*F70 -> 0 | H70: 0 | I70: =E70*H70 -> 0 | K70: =E70*J70 -> 0 | O70: 2 | AA70: 7 | AB70: 1001 | AC70: 5 | AZ70: 2 | BA70: =IF(AZ70=1,G70,0) -> 0 | BB70: =IF(AZ70=2,G70,0) -> 0 | BC70: =IF(AZ70=3,G70,0) -> 0 | BD70: =IF(AZ70=4,G70,0) -> 0 | BE70: =IF(AZ70=5,G70,0) -> 0 | CA70: 7 | CB70: 1001
A71: 21 | B71: 900 R00 | C71: Hzs - nezmeřitelné práce, stížené pracovní podmínky v rámci prací v podkrovním prostoru | D71: h | E71: 60 | F71: 0 | G71: =E71*F71 -> 0 | H71: 0 | I71: =E71*H71 -> 0 | K71: =E71*J71 -> 0 | O71: 2 | AA71: 10 | AB71: 0 | AC71: 8 | AZ71: 5 | BA71: =IF(AZ71=1,G71,0) -> 0 | BB71: =IF(AZ71=2,G71,0) -> 0 | BC71: =IF(AZ71=3,G71,0) -> 0 | BD71: =IF(AZ71=4,G71,0) -> 0 | BE71: =IF(AZ71=5,G71,0) -> 0 | CA71: 10 | CB71: 0
B72: Celkem za | C72: 713 Izolace tepelné | G72: =SUM(G40:G71) -> 0 | I72: =SUM(I40:I71) -> 1.3228534 | K72: =SUM(K40:K71) -> 0 | O72: 4 | BA72: =SUM(BA40:BA71) -> 0 | BB72: =SUM(BB40:BB71) -> 0 | BC72: =SUM(BC40:BC71) -> 0 | BD72: =SUM(BD40:BD71) -> 0 | BE72: =SUM(BE40:BE71) -> 0
A73: Díl: | B73: 762 | C73: Konstrukce tesařské | O73: 1
A74: 22 | B74: 762081252U00 | C74: Hoblování dílna 4str hranoly-224cm2 | D74: m | E74: 217.08 | F74: 0 | G74: =E74*F74 -> 0 | H74: 0 | I74: =E74*H74 -> 0 | J74: 0 | K74: =E74*J74 -> 0 | O74: 2 | AA74: 1 | AB74: 0 | AC74: 0 | AZ74: 2 | BA74: =IF(AZ74=1,G74,0) -> 0 | BB74: =IF(AZ74=2,G74,0) -> 0 | BC74: =IF(AZ74=3,G74,0) -> 0 | BD74: =IF(AZ74=4,G74,0) -> 0 | BE74: =IF(AZ74=5,G74,0) -> 0 | CA74: 1 | CB74: 0
C75: Začátek provozního součtu | E75: 0 | M75: Začátek provozního součtu
C76: pomocné trámky do kce:(8,4+9,6+25,8)*1,10/0,6 | E76: 80.3 | M76: pomocné trámky do kce:(8,4+9,6+25,8)*1,10/0,6
C77: Konec provozního součtu | E77: 80.3 | M77: Konec provozního součtu
C78: 81*2,68 | E78: 217.08 | M78: 81*2,68
A79: 23 | B79: 762083122U00 | C79: Impregnace dřevo hmyz+houba+plís | D79: m3 | E79: 2.2614 | F79: 0 | G79: =E79*F79 -> 0 | H79: 0.00189 | I79: =E79*H79 -> 0.004274046 | J79: 0 | K79: =E79*J79 -> 0 | O79: 2 | AA79: 1 | AB79: 7 | AC79: 7 | AZ79: 2 | BA79: =IF(AZ79=1,G79,0) -> 0 | BB79: =IF(AZ79=2,G79,0) -> 0 | BC79: =IF(AZ79=3,G79,0) -> 0 | BD79: =IF(AZ79=4,G79,0) -> 0 | BE79: =IF(AZ79=5,G79,0) -> 0 | CA79: 1 | CB79: 7
C80: Začátek provozního součtu | E80: 0 | M80: Začátek provozního součtu
C81: pomocné trámky do kce:(8,4+9,6+25,8)*1,10/0,6 | E81: 80.3 | M81: pomocné trámky do kce:(8,4+9,6+25,8)*1,10/0,6
C82: Konec provozního součtu | E82: 80.3 | M82: Konec provozního součtu
C83: 81*2,68*0,08*0,12 | E83: 2.084 | M83: 81*2,68*0,08*0,12
C84: po demontovaném výtahu vč.10%prořezu:1,4*3,60*1,10*0,032 | E84: 0.1774 | M84: po demontovaném výtahu vč.10%prořezu:1,4*3,60*1,10*0,032
A85: 24 | B85: 762131124RT3 | C85: Montáž bednění stěn, prkna hrubá do 32 mm, na sraz včetně dodávky řeziva, prkna tl. 24 mm | D85: m2 | E85: 5.544 | F85: 0 | G85: =E85*F85 -> 0 | H85: 0.01468 | I85: =E85*H85 -> 0.08138592 | J85: 0 | K85: =E85*J85 -> 0 | O85: 2 | AA85: 1 | AB85: 7 | AC85: 7 | AZ85: 2 | BA85: =IF(AZ85=1,G85,0) -> 0 | BB85: =IF(AZ85=2,G85,0) -> 0 | BC85: =IF(AZ85=3,G85,0) -> 0 | BD85: =IF(AZ85=4,G85,0) -> 0 | BE85: =IF(AZ85=5,G85,0) -> 0 | CA85: 1 | CB85: 7
C86: po demontovaném výtahu vč.10%prořezu:1,4*3,60*1,10 | E86: 5.544 | M86: po demontovaném výtahu vč.10%prořezu:1,4*3,60*1,10
A87: 25 | B87: 762131811R00 | C87: Demontáž bednění stěn z hrubých prken, latí | D87: m2 | E87: 83.633 | F87: 0 | G87: =E87*F87 -> 0 | H87: 0.00016 | I87: =E87*H87 -> 0.01338128 | J87: -0.014 | K87: =E87*J87 -> -1.170862 | O87: 2 | AA87: 1 | AB87: 7 | AC87: 7 | AZ87: 2 | BA87: =IF(AZ87=1,G87,0) -> 0 | BB87: =IF(AZ87=2,G87,0) -> 0 | BC87: =IF(AZ87=3,G87,0) -> 0 | BD87: =IF(AZ87=4,G87,0) -> 0 | BE87: =IF(AZ87=5,G87,0) -> 0 | CA87: 1 | CB87: 7
C88: SCH2 vč.10%přesahu:42,92*1,10 | E88: 47.212 | M88: SCH2 vč.10%přesahu:42,92*1,10
C89: 2,51*1,10 | E89: 2.761 | M89: 2,51*1,10
C90: SO 05 vč.10% prořezu:1,7*2,25*8*1,10 | E90: 33.66 | M90: SO 05 vč.10% prořezu:1,7*2,25*8*1,10
A91: 26 | B91: 762712120R00 | C91: Montáž vázaných konstrukcí hraněných do 224 cm2 | D91: m | E91: 217.08 | F91: 0 | G91: =E91*F91 -> 0 | H91: 0.00255 | I91: =E91*H91 -> 0.553554 | J91: 0 | K91: =E91*J91 -> 0 | O91: 2 | AA91: 1 | AB91: 7 | AC91: 7 | AZ91: 2 | BA91: =IF(AZ91=1,G91,0) -> 0 | BB91: =IF(AZ91=2,G91,0) -> 0 | BC91: =IF(AZ91=3,G91,0) -> 0 | BD91: =IF(AZ91=4,G91,0) -> 0 | BE91: =IF(AZ91=5,G91,0) -> 0 | CA91: 1 | CB91: 7
C92: Začátek provozního součtu | E92: 0 | M92: Začátek provozního součtu
C93: pomocné trámky do kce:(8,4+9,6+25,8)*1,10/0,6 | E93: 80.3 | M93: pomocné trámky do kce:(8,4+9,6+25,8)*1,10/0,6
C94: Konec provozního součtu | E94: 80.3 | M94: Konec provozního součtu
C95: 81*2,68 | E95: 217.08 | M95: 81*2,68
A96: 27 | B96: 762811100R00 | C96: Montáž záklopu, vrchní přesahovaný, materiál ve specifikaci | D96: m2 | E96: 188.782 | F96: 0 | G96: =E96*F96 -> 0 | H96: 0 | I96: =E96*H96 -> 0 | J96: 0 | K96: =E96*J96 -> 0 | O96: 2 | AA96: 1 | AB96: 7 | AC96: 7 | AZ96: 2 | BA96: =IF(AZ96=1,G96,0) -> 0 | BB96: =IF(AZ96=2,G96,0) -> 0 | BC96: =IF(AZ96=3,G96,0) -> 0 | BD96: =IF(AZ96=4,G96,0) -> 0 | BE96: =IF(AZ96=5,G96,0) -> 0 | CA96: 1 | CB96: 7
C97: STR 1 a STR 2, vč.10% prořezu:171,62*1,10 | E97: 188.782 | M97: STR 1 a STR 2, vč.10% prořezu:171,62*1,10
A98: 28 | B98: 762CP000 | C98: Spojovací prostředky | D98: m3 | E98: 2.2614 | F98: 0 | G98: =E98*F98 -> 0 | H98: 0.0291 | I98: =E98*H98 -> 0.06580674 | J98: 0 | K98: =E98*J98 -> 0 | O98: 2 | AA98: 1 | AB98: 0 | AC98: 0 | AZ98: 2 | BA98: =IF(AZ98=1,G98,0) -> 0 | BB98: =IF(AZ98=2,G98,0) -> 0 | BC98: =IF(AZ98=3,G98,0) -> 0 | BD98: =IF(AZ98=4,G98,0) -> 0 | BE98: =IF(AZ98=5,G98,0) -> 0 | CA98: 1 | CB98: 0
C99: Začátek provozního součtu | E99: 0 | M99: Začátek provozního součtu
C100: pomocné trámky do kce:(8,4+9,6+25,8)*1,10/0,6 | E100: 80.3 | M100: pomocné trámky do kce:(8,4+9,6+25,8)*1,10/0,6
C101: Konec provozního součtu | E101: 80.3 | M101: Konec provozního součtu
C102: 81*2,68*0,08*0,12 | E102: 2.084 | M102: 81*2,68*0,08*0,12
...

Sheet SO 05 SO 05 KL
A1: SLEPÝ ROZPOČET
A2: Rozpočet | C2: SO 05 | D2: Elektroinstalace | F2: JKSO
A4: Objekt | F4: SKP
A5: SO 05 | C5: Elektroinstalace | F5: Měrná jednotka
A6: Stavba | F6: Počet jednotek
A7: 01 | C7: Zateplení budovy muzea Brumov-Bylnice | F7: Náklady na m.j. | G7: =IF(G6=0,,ROUND((F30+F32)/G6,1)) -> 0
A8: Projektant | F8: Typ rozpočtu
A9: Zpracovatel projektu
A10: Objednatel
A11: Dodavatel | F11: Zakázkové číslo
A12: Rozpočtoval | F12: Počet listů
A13: ROZPOČTOVÉ NÁKLADY
A14: Základní rozpočtové náklady | D14: Ostatní rozpočtové náklady
B15: HSV celkem | C15: ='SO 05 SO 05 Rek'!E8 -> 0 | D15: ='SO 05 SO 05 Rek'!A13 -> Ztížené výrobní podmínky | G15: ='SO 05 SO 05 Rek'!I13 -> 0
A16: Z | B16: PSV celkem | C16: ='SO 05 SO 05 Rek'!F8 -> 0 | D16: ='SO 05 SO 05 Rek'!A14 -> Oborová přirážka | G16: ='SO 05 SO 05 Rek'!I14 -> 0
A17: R | B17: M práce celkem | C17: ='SO 05 SO 05 Rek'!H8 -> 0 | D17: ='SO 05 SO 05 Rek'!A15 -> Přesun stavebních kapacit | G17: ='SO 05 SO 05 Rek'!I15 -> 0
A18: N | B18: M dodávky celkem | C18: ='SO 05 SO 05 Rek'!G8 -> 0 | D18: ='SO 05 SO 05 Rek'!A16 -> Mimostaveništní doprava | G18: ='SO 05 SO 05 Rek'!I16 -> 0
A19: ZRN celkem | C19: =SUM(C15:C18) -> 0 | D19: ='SO 05 SO 05 Rek'!A17 -> Zařízení staveniště | G19: ='SO 05 SO 05 Rek'!I17 -> 0
D20: ='SO 05 SO 05 Rek'!A18 -> Provoz investora | G20: ='SO 05 SO 05 Rek'!I18 -> 0
A21: HZS | C21: ='SO 05 SO 05 Rek'!I8 -> 0 | D21: ='SO 05 SO 05 Rek'!A19 -> Kompletační činnost (IČD) | G21: ='SO 05 SO 05 Rek'!I19 -> 0
A22: ZRN+HZS | C22: =C19+C21 -> 0 | D22: Ostatní náklady neuvedené | G22: =G23-SUM(G15:G21) -> 0
A23: ZRN+ost.náklady+HZS | C23: =C22+G23 -> 0 | D23: Ostatní náklady celkem | G23: ='SO 05 SO 05 Rek'!H21 -> 0
A24: Vypracoval | D24: Za zhotovitele | F24: Za objednatele
A25: Jméno : | D25: Jméno : | F25: Jméno :
A26: Datum : | D26: Datum : | F26: Datum :
A28: Podpis : | D28: Podpis: | F28: Podpis:
A30: Základ pro DPH | C30: 21 | D30: % | F30: =C23-F32 -> 0
A31: DPH | C31: =C30 -> 21 | D31: % | F31: =ROUND(PRODUCT(F30,C31/100),0) -> 0
A32: Základ pro DPH | C32: 0 | D32: % | F32: 0
A33: DPH | C33: =C32 -> 0 | D33: % | F33: =ROUND(PRODUCT(F32,C33/100),0) -> 0
A34: CENA ZA OBJEKT CELKEM | F34: =ROUND(SUM(F30:F33),0) -> 0
A36: Poznámka :

Sheet SO 05 SO 05 Rek
A1: Stavba : | C1: 01 Zateplení budovy muzea Brumov-Bylnice | G1: Rozpočet : | H1: SO 05
A2: Objekt : | C2: SO 05 Elektroinstalace | G2: Elektroinstalace
A4: REKAPITULACE STAVEBNÍCH DÍLŮ
B6: Stavební díl | E6: HSV | F6: PSV | G6: Dodávka | H6: Montáž | I6: HZS
A7: ='SO 05 SO 05 Pol'!B7 -> M21 | B7: ='SO 05 SO 05 Pol'!C7 -> Elektromontáže | E7: ='SO 05 SO 05 Pol'!BA9 -> 0 | F7: ='SO 05 SO 05 Pol'!BB9 -> 0 | G7: ='SO 05 SO 05 Pol'!BC9 -> 0 | H7: ='SO 05 SO 05 Pol'!BD9 -> 0 | I7: ='SO 05 SO 05 Pol'!BE9 -> 0
B8: CELKEM OBJEKT | E8: =SUM(E7:E7) -> 0 | F8: =SUM(F7:F7) -> 0 | G8: =SUM(G7:G7) -> 0 | H8: =SUM(H7:H7) -> 0 | I8: =SUM(I7:I7) -> 0
A10: VEDLEJŠÍ ROZPOČTOVÉ NÁKLADY
A12: Název VRN | E12: Kč | F12: % | G12: Základna | I12: Kč
A13: Ztížené výrobní podmínky | G13: 0 | I13: =E13+F13*G13/100 -> 0 | BA13: 0
A14: Oborová přirážka | G14: 0 | I14: =E14+F14*G14/100 -> 0 | BA14: 0
A15: Přesun stavebních kapacit | G15: 0 | I15: =E15+F15*G15/100 -> 0 | BA15: 0
A16: Mimostaveništní doprava | G16: 0 | I16: =E16+F16*G16/100 -> 0 | BA16: 0
A17: Zařízení staveniště | G17: 0 | I17: =E17+F17*G17/100 -> 0 | BA17: 1
A18: Provoz investora | G18: 0 | I18: =E18+F18*G18/100 -> 0 | BA18: 1
A19: Kompletační činnost (IČD) | G19: 0 | I19: =E19+F19*G19/100 -> 0 | BA19: 2
A20: Rezerva rozpočtu | G20: 0 | I20: =E20+F20*G20/100 -> 0 | BA20: 2
B21: CELKEM VRN | H21: =SUM(I13:I20) -> 0

Sheet SO 05 SO 05 Pol
A1: Slepý rozpočet
A3: Stavba : | C3: 01 Zateplení budovy muzea Brumov-Bylnice | E3: Rozpočet: | F3: ='SO 05 SO 05 Rek'!H1 -> SO 05
A4: Objekt : | C4: SO 05 Elektroinstalace | E4: ='SO 05 SO 05 Rek'!G2 -> Elektroinstalace
A6: P.č. | B6: Číslo položky | C6: Název položky | D6: MJ | E6: množství | F6: cena / MJ | G6: celkem (Kč) | H6: Jednotková hmotnost | I6: Celková hmotnost | J6: Jednotková dem.hmot. | K6: Celková dem.hmot.
A7: Díl: | B7: M21 | C7: Elektromontáže | O7: 1
A8: 1 | B8: M21 CP001 | C8: Elektroinstalace - viz. samostatný ripzočet/výkaz | D8: komple | E8: 1 | F8: 0 | G8: =E8*F8 -> 0 | H8: 0 | I8: =E8*H8 -> 0 | J8: 0 | K8: =E8*J8 -> 0 | O8: 2 | AA8: 1 | AB8: 9 | AC8: 9 | AZ8: 4 | BA8: =IF(AZ8=1,G8,0) -> 0 | BB8: =IF(AZ8=2,G8,0) -> 0 | BC8: =IF(AZ8=3,G8,0) -> 0 | BD8: =IF(AZ8=4,G8,0) -> 0 | BE8: =IF(AZ8=5,G8,0) -> 0 | CA8: 1 | CB8: 9
B9: Celkem za | C9: M21 Elektromontáže | G9: =SUM(G7:G8) -> 0 | I9: =SUM(I7:I8) -> 0 | K9: =SUM(K7:K8) -> 0 | O9: 4 | BA9: =SUM(BA7:BA8) -> 0 | BB9: =SUM(BB7:BB8) -> 0 | BC9: =SUM(BC7:BC8) -> 0 | BD9: =SUM(BD7:BD8) -> 0 | BE9: =SUM(BE7:BE8) -> 0

Sheet SO 06 SO 06 KL
A1: SLEPÝ ROZPOČET
A2: Rozpočet | C2: SO 06 | D2: Hromosvod | F2: JKSO
A4: Objekt | F4: SKP
A5: SO 06 | C5: Hromosvod | F5: Měrná jednotka
A6: Stavba | F6: Počet jednotek
A7: 01 | C7: Zateplení budovy muzea Brumov-Bylnice | F7: Náklady na m.j. | G7: =IF(G6=0,,ROUND((F30+F32)/G6,1)) -> 0
A8: Projektant | F8: Typ rozpočtu
A9: Zpracovatel projektu
A10: Objednatel
A11: Dodavatel | F11: Zakázkové číslo
A12: Rozpočtoval | F12: Počet listů
A13: ROZPOČTOVÉ NÁKLADY
A14: Základní rozpočtové náklady | D14: Ostatní rozpočtové náklady
B15: HSV celkem | C15: ='SO 06 SO 06 Rek'!E8 -> 0 | D15: ='SO 06 SO 06 Rek'!A13 -> Ztížené výrobní podmínky | G15: ='SO 06 SO 06 Rek'!I13 -> 0
A16: Z | B16: PSV celkem | C16: ='SO 06 SO 06 Rek'!F8 -> 0 | D16: ='SO 06 SO 06 Rek'!A14 -> Oborová přirážka | G16: ='SO 06 SO 06 Rek'!I14 -> 0
A17: R | B17: M práce celkem | C17: ='SO 06 SO 06 Rek'!H8 -> 0 | D17: ='SO 06 SO 06 Rek'!A15 -> Přesun stavebních kapacit | G17: ='SO 06 SO 06 Rek'!I15 -> 0
A18: N | B18: M dodávky celkem | C18: ='SO 06 SO 06 Rek'!G8 -> 0 | D18: ='SO 06 SO 06 Rek'!A16 -> Mimostaveništní doprava | G18: ='SO 06 SO 06 Rek'!I16 -> 0
A19: ZRN celkem | C19: =SUM(C15:C18) -> 0 | D19: ='SO 06 SO 06 Rek'!A17 -> Zařízení staveniště | G19: ='SO 06 SO 06 Rek'!I17 -> 0
D20: ='SO 06 SO 06 Rek'!A18 -> Provoz investora | G20: ='SO 06 SO 06 Rek'!I18 -> 0
A21: HZS | C21: ='SO 06 SO 06 Rek'!I8 -> 0 | D21: ='SO 06 SO 06 Rek'!A19 -> Kompletační činnost (IČD) | G21: ='SO 06 SO 06 Rek'!I19 -> 0
A22: ZRN+HZS | C22: =C19+C21 -> 0 | D22: Ostatní náklady neuvedené | G22: =G23-SUM(G15:G21) -> 0
A23: ZRN+ost.náklady+HZS | C23: =C22+G23 -> 0 | D23: Ostatní náklady celkem | G23: ='SO 06 SO 06 Rek'!H21 -> 0
A24: Vypracoval | D24: Za zhotovitele | F24: Za objednatele
A25: Jméno : | D25: Jméno : | F25: Jméno :
A26: Datum : | D26: Datum : | F26: Datum :
A28: Podpis : | D28: Podpis: | F28: Podpis:
A30: Základ pro DPH | C30: 21 | D30: % | F30: =C23-F32 -> 0
A31: DPH | C31: =C30 -> 21 | D31: % | F31: =ROUND(PRODUCT(F30,C31/100),0) -> 0
A32: Základ pro DPH | C32: 0 | D32: % | F32: 0
A33: DPH | C33: =C32 -> 0 | D33: % | F33: =ROUND(PRODUCT(F32,C33/100),0) -> 0
A34: CENA ZA OBJEKT CELKEM | F34: =ROUND(SUM(F30:F33),0) -> 0
A36: Poznámka :

Sheet SO 06 SO 06 Rek
A1: Stavba : | C1: 01 Zateplení budovy muzea Brumov-Bylnice | G1: Rozpočet : | H1: SO 06
A2: Objekt : | C2: SO 06 Hromosvod | G2: Hromosvod
A4: REKAPITULACE STAVEBNÍCH DÍLŮ
B6: Stavební díl | E6: HSV | F6: PSV | G6: Dodávka | H6: Montáž | I6: HZS
A7: ='SO 06 SO 06 Pol'!B7 -> M21 | B7: ='SO 06 SO 06 Pol'!C7 -> Elektromontáže | E7: ='SO 06 SO 06 Pol'!BA9 -> 0 | F7: ='SO 06 SO 06 Pol'!BB9 -> 0 | G7: ='SO 06 SO 06 Pol'!BC9 -> 0 | H7: ='SO 06 SO 06 Pol'!BD9 -> 0 | I7: ='SO 06 SO 06 Pol'!BE9 -> 0
B8: CELKEM OBJEKT | E8: =SUM(E7:E7) -> 0 | F8: =SUM(F7:F7) -> 0 | G8: =SUM(G7:G7) -> 0 | H8: =SUM(H7:H7) -> 0 | I8: =SUM(I7:I7) -> 0
A10: VEDLEJŠÍ ROZPOČTOVÉ NÁKLADY
A12: Název VRN | E12: Kč | F12: % | G12: Základna | I12: Kč
A13: Ztížené výrobní podmínky | G13: 0 | I13: =E13+F13*G13/100 -> 0 | BA13: 0
A14: Oborová přirážka | G14: 0 | I14: =E14+F14*G14/100 -> 0 | BA14: 0
A15: Přesun stavebních kapacit | G15: 0 | I15: =E15+F15*G15/100 -> 0 | BA15: 0
A16: Mimostaveništní doprava | G16: 0 | I16: =E16+F16*G16/100 -> 0 | BA16: 0
A17: Zařízení staveniště | G17: 0 | I17: =E17+F17*G17/100 -> 0 | BA17: 1
A18: Provoz investora | G18: 0 | I18: =E18+F18*G18/100 -> 0 | BA18: 1
A19: Kompletační činnost (IČD) | G19: 0 | I19: =E19+F19*G19/100 -> 0 | BA19: 2
A20: Rezerva rozpočtu | G20: 0 | I20: =E20+F20*G20/100 -> 0 | BA20: 2
B21: CELKEM VRN | H21: =SUM(I13:I20) -> 0

Sheet SO 06 SO 06 Pol
A1: Slepý rozpočet
A3: Stavba : | C3: 01 Zateplení budovy muzea Brumov-Bylnice | E3: Rozpočet: | F3: ='SO 06 SO 06 Rek'!H1 -> SO 06
A4: Objekt : | C4: SO 06 Hromosvod | E4: ='SO 06 SO 06 Rek'!G2 -> Hromosvod
A6: P.č. | B6: Číslo položky | C6: Název položky | D6: MJ | E6: množství | F6: cena / MJ | G6: celkem (Kč) | H6: Jednotková hmotnost | I6: Celková hmotnost | J6: Jednotková dem.hmot. | K6: Celková dem.hmot.
A7: Díl: | B7: M21 | C7: Elektromontáže | O7: 1
A8: 1 | B8: M21CP 001 | C8: Hromosvod - viz.samostatný rozpočet/výkaz | D8: komple | E8: 1 | F8: 0 | G8: =E8*F8 -> 0 | H8: 0 | I8: =E8*H8 -> 0 | J8: 0 | K8: =E8*J8 -> 0 | O8: 2 | AA8: 1 | AB8: 9 | AC8: 9 | AZ8: 4 | BA8: =IF(AZ8=1,G8,0) -> 0 | BB8: =IF(AZ8=2,G8,0) -> 0 | BC8: =IF(AZ8=3,G8,0) -> 0 | BD8: =IF(AZ8=4,G8,0) -> 0 | BE8: =IF(AZ8=5,G8,0) -> 0 | CA8: 1 | CB8: 9
B9: Celkem za | C9: M21 Elektromontáže | G9: =SUM(G7:G8) -> 0 | I9: =SUM(I7:I8) -> 0 | K9: =SUM(K7:K8) -> 0 | O9: 4 | BA9: =SUM(BA7:BA8) -> 0 | BB9: =SUM(BB7:BB8) -> 0 | BC9: =SUM(BC7:BC8) -> 0 | BD9: =SUM(BD7:BD8) -> 0 | BE9: =SUM(BE7:BE8) -> 0

Sheet SO 07 SO 07 KL
A1: SLEPÝ ROZPOČET
A2: Rozpočet | C2: SO 07 | D2: Demolice bočního přístavku | F2: JKSO
A4: Objekt | F4: SKP
A5: SO 07 | C5: Demolice bočního přístavku | F5: Měrná jednotka
A6: Stavba | F6: Počet jednotek
A7: 01 | C7: Zateplení budovy muzea Brumov-Bylnice | F7: Náklady na m.j. | G7: =IF(G6=0,,ROUND((F30+F32)/G6,1)) -> 0
A8: Projektant | F8: Typ rozpočtu
A9: Zpracovatel projektu
A10: Objednatel
A11: Dodavatel | F11: Zakázkové číslo
A12: Rozpočtoval | F12: Počet listů
A13: ROZPOČTOVÉ NÁKLADY
A14: Základní rozpočtové náklady | D14: Ostatní rozpočtové náklady
B15: HSV celkem | C15: ='SO 07 SO 07 Rek'!E16 -> 0 | D15: ='SO 07 SO 07 Rek'!A21 -> Ztížené výrobní podmínky | G15: ='SO 07 SO 07 Rek'!I21 -> 0
A16: Z | B16: PSV celkem | C16: ='SO 07 SO 07 Rek'!F16 -> 0 | D16: ='SO 07 SO 07 Rek'!A22 -> Oborová přirážka | G16: ='SO 07 SO 07 Rek'!I22 -> 0
A17: R | B17: M práce celkem | C17: ='SO 07 SO 07 Rek'!H16 -> 0 | D17: ='SO 07 SO 07 Rek'!A23 -> Přesun stavebních kapacit | G17: ='SO 07 SO 07 Rek'!I23 -> 0
A18: N | B18: M dodávky celkem | C18: ='SO 07 SO 07 Rek'!G16 -> 0 | D18: ='SO 07 SO 07 Rek'!A24 -> Mimostaveništní doprava | G18: ='SO 07 SO 07 Rek'!I24 -> 0
A19: ZRN celkem | C19: =SUM(C15:C18) -> 0 | D19: ='SO 07 SO 07 Rek'!A25 -> Zařízení staveniště | G19: ='SO 07 SO 07 Rek'!I25 -> 0
D20: ='SO 07 SO 07 Rek'!A26 -> Provoz investora | G20: ='SO 07 SO 07 Rek'!I26 -> 0
A21: HZS | C21: ='SO 07 SO 07 Rek'!I16 -> 0 | D21: ='SO 07 SO 07 Rek'!A27 -> Kompletační činnost (IČD) | G21: ='SO 07 SO 07 Rek'!I27 -> 0
A22: ZRN+HZS | C22: =C19+C21 -> 0 | D22: Ostatní náklady neuvedené | G22: =G23-SUM(G15:G21) -> 0
A23: ZRN+ost.náklady+HZS | C23: =C22+G23 -> 0 | D23: Ostatní náklady celkem | G23: ='SO 07 SO 07 Rek'!H29 -> 0
A24: Vypracoval | D24: Za zhotovitele | F24: Za objednatele
A25: Jméno : | D25: Jméno : | F25: Jméno :
A26: Datum : | D26: Datum : | F26: Datum :
A28: Podpis : | D28: Podpis: | F28: Podpis:
A30: Základ pro DPH | C30: 21 | D30: % | F30: =C23-F32 -> 0
A31: DPH | C31: =C30 -> 21 | D31: % | F31: =ROUND(PRODUCT(F30,C31/100),0) -> 0
A32: Základ pro DPH | C32: 0 | D32: % | F32: 0
A33: DPH | C33: =C32 -> 0 | D33: % | F33: =ROUND(PRODUCT(F32,C33/100),0) -> 0
A34: CENA ZA OBJEKT CELKEM | F34: =ROUND(SUM(F30:F33),0) -> 0
A36: Poznámka :

Sheet SO 07 SO 07 Rek
A1: Stavba : | C1: 01 Zateplení budovy muzea Brumov-Bylnice | G1: Rozpočet : | H1: SO 07
A2: Objekt : | C2: SO 07 Demolice bočního přístavku | G2: Demolice bočního přístavku
A4: REKAPITULACE STAVEBNÍCH DÍLŮ
B6: Stavební díl | E6: HSV | F6: PSV | G6: Dodávka | H6: Montáž | I6: HZS
A7: ='SO 07 SO 07 Pol'!B7 -> 94 | B7: ='SO 07 SO 07 Pol'!C7 -> Lešení a stavební výtahy | E7: ='SO 07 SO 07 Pol'!BA10 -> 0 | F7: ='SO 07 SO 07 Pol'!BB10 -> 0 | G7: ='SO 07 SO 07 Pol'!BC10 -> 0 | H7: ='SO 07 SO 07 Pol'!BD10 -> 0 | I7: ='SO 07 SO 07 Pol'!BE10 -> 0
A8: ='SO 07 SO 07 Pol'!B11 -> 96 | B8: ='SO 07 SO 07 Pol'!C11 -> Bourání konstrukcí | E8: ='SO 07 SO 07 Pol'!BA22 -> 0 | F8: ='SO 07 SO 07 Pol'!BB22 -> 0 | G8: ='SO 07 SO 07 Pol'!BC22 -> 0 | H8: ='SO 07 SO 07 Pol'!BD22 -> 0 | I8: ='SO 07 SO 07 Pol'!BE22 -> 0
A9: ='SO 07 SO 07 Pol'!B23 -> 99 | B9: ='SO 07 SO 07 Pol'!C23 -> Staveništní přesun hmot | E9: ='SO 07 SO 07 Pol'!BA25 -> 0 | F9: ='SO 07 SO 07 Pol'!BB25 -> 0 | G9: ='SO 07 SO 07 Pol'!BC25 -> 0 | H9: ='SO 07 SO 07 Pol'!BD25 -> 0 | I9: ='SO 07 SO 07 Pol'!BE25 -> 0
A10: ='SO 07 SO 07 Pol'!B26 -> 712 | B10: ='SO 07 SO 07 Pol'!C26 -> Živičné krytiny | E10: ='SO 07 SO 07 Pol'!BA30 -> 0 | F10: ='SO 07 SO 07 Pol'!BB30 -> 0 | G10: ='SO 07 SO 07 Pol'!BC30 -> 0 | H10: ='SO 07 SO 07 Pol'!BD30 -> 0 | I10: ='SO 07 SO 07 Pol'!BE30 -> 0
A11: ='SO 07 SO 07 Pol'!B31 -> 713 | B11: ='SO 07 SO 07 Pol'!C31 -> Izolace tepelné | E11: ='SO 07 SO 07 Pol'!BA35 -> 0 | F11: ='SO 07 SO 07 Pol'!BB35 -> 0 | G11: ='SO 07 SO 07 Pol'!BC35 -> 0 | H11: ='SO 07 SO 07 Pol'!BD35 -> 0 | I11: ='SO 07 SO 07 Pol'!BE35 -> 0
A12: ='SO 07 SO 07 Pol'!B36 -> 762 | B12: ='SO 07 SO 07 Pol'!C36 -> Konstrukce tesařské | E12: ='SO 07 SO 07 Pol'!BA43 -> 0 | F12: ='SO 07 SO 07 Pol'!BB43 -> 0 | G12: ='SO 07 SO 07 Pol'!BC43 -> 0 | H12: ='SO 07 SO 07 Pol'!BD43 -> 0 | I12: ='SO 07 SO 07 Pol'!BE43 -> 0
A13: ='SO 07 SO 07 Pol'!B44 -> 764 | B13: ='SO 07 SO 07 Pol'!C44 -> Konstrukce klempířské | E13: ='SO 07 SO 07 Pol'!BA51 -> 0 | F13: ='SO 07 SO 07 Pol'!BB51 -> 0 | G13: ='SO 07 SO 07 Pol'!BC51 -> 0 | H13: ='SO 07 SO 07 Pol'!BD51 -> 0 | I13: ='SO 07 SO 07 Pol'!BE51 -> 0
A14: ='SO 07 SO 07 Pol'!B52 -> 776 | B14: ='SO 07 SO 07 Pol'!C52 -> Podlahy povlakové | E14: ='SO 07 SO 07 Pol'!BA55 -> 0 | F14: ='SO 07 SO 07 Pol'!BB55 -> 0 | G14: ='SO 07 SO 07 Pol'!BC55 -> 0 | H14: ='SO 07 SO 07 Pol'!BD55 -> 0 | I14: ='SO 07 SO 07 Pol'!BE55 -> 0
A15: ='SO 07 SO 07 Pol'!B56 -> D96 | B15: ='SO 07 SO 07 Pol'!C56 -> Přesuny suti a vybouraných hmot | E15: ='SO 07 SO 07 Pol'!BA62 -> 0 | F15: ='SO 07 SO 07 Pol'!BB62 -> 0 | G15: ='SO 07 SO 07 Pol'!BC62 -> 0 | H15: ='SO 07 SO 07 Pol'!BD62 -> 0 | I15: ='SO 07 SO 07 Pol'!BE62 -> 0
B16: CELKEM OBJEKT | E16: =SUM(E7:E15) -> 0 | F16: =SUM(F7:F15) -> 0 | G16: =SUM(G7:G15) -> 0 | H16: =SUM(H7:H15) -> 0 | I16: =SUM(I7:I15) -> 0
A18: VEDLEJŠÍ ROZPOČTOVÉ NÁKLADY
A20: Název VRN | E20: Kč | F20: % | G20: Základna | I20: Kč
A21: Ztížené výrobní podmínky | G21: 0 | I21: =E21+F21*G21/100 -> 0 | BA21: 0
A22: Oborová přirážka | G22: 0 | I22: =E22+F22*G22/100 -> 0 | BA22: 0
A23: Přesun stavebních kapacit | G23: 0 | I23: =E23+F23*G23/100 -> 0 | BA23: 0
A24: Mimostaveništní doprava | G24: 0 | I24: =E24+F24*G24/100 -> 0 | BA24: 0
A25: Zařízení staveniště | G25: 0 | I25: =E25+F25*G25/100 -> 0 | BA25: 1
A26: Provoz investora | G26: 0 | I26: =E26+F26*G26/100 -> 0 | BA26: 1
A27: Kompletační činnost (IČD) | G27: 0 | I27: =E27+F27*G27/100 -> 0 | BA27: 2
A28: Rezerva rozpočtu | G28: 0 | I28: =E28+F28*G28/100 -> 0 | BA28: 2
B29: CELKEM VRN | H29: =SUM(I21:I28) -> 0

Sheet SO 07 SO 07 Pol
A1: Slepý rozpočet
A3: Stavba : | C3: 01 Zateplení budovy muzea Brumov-Bylnice | E3: Rozpočet: | F3: ='SO 07 SO 07 Rek'!H1 -> SO 07
A4: Objekt : | C4: SO 07 Demolice bočního přístavku | E4: ='SO 07 SO 07 Rek'!G2 -> Demolice bočního přístavku
A6: P.č. | B6: Číslo položky | C6: Název položky | D6: MJ | E6: množství | F6: cena / MJ | G6: celkem (Kč) | H6: Jednotková hmotnost | I6: Celková hmotnost | J6: Jednotková dem.hmot. | K6: Celková dem.hmot.
A7: Díl: | B7: 94 | C7: Lešení a stavební výtahy | O7: 1
A8: 1 | B8: 941955002R00 | C8: Lešení lehké pomocné, výška podlahy do 1,9 m | D8: m2 | E8: 61.95 | F8: 0 | G8: =E8*F8 -> 0 | H8: 0.00158 | I8: =E8*H8 -> 0.097881 | J8: 0 | K8: =E8*J8 -> 0 | O8: 2 | AA8: 1 | AB8: 1 | AC8: 1 | AZ8: 1 | BA8: =IF(AZ8=1,G8,0) -> 0 | BB8: =IF(AZ8=2,G8,0) -> 0 | BC8: =IF(AZ8=3,G8,0) -> 0 | BD8: =IF(AZ8=4,G8,0) -> 0 | BE8: =IF(AZ8=5,G8,0) -> 0 | CA8: 1 | CB8: 1
C9: 5,9*10,5 | E9: 61.95 | M9: 5,9*10,5
B10: Celkem za | C10: 94 Lešení a stavební výtahy | G10: =SUM(G7:G9) -> 0 | I10: =SUM(I7:I9) -> 0.097881 | K10: =SUM(K7:K9) -> 0 | O10: 4 | BA10: =SUM(BA7:BA9) -> 0 | BB10: =SUM(BB7:BB9) -> 0 | BC10: =SUM(BC7:BC9) -> 0 | BD10: =SUM(BD7:BD9) -> 0 | BE10: =SUM(BE7:BE9) -> 0
A11: Díl: | B11: 96 | C11: Bourání konstrukcí | O11: 1
A12: 2 | B12: 961044111R00 | C12: Bourání základů z betonu prostého | D12: m3 | E12: 19.6308 | F12: 0 | G12: =E12*F12 -> 0 | H12: 0 | I12: =E12*H12 -> 0 | J12: -2 | K12: =E12*J12 -> -39.2616 | O12: 2 | AA12: 1 | AB12: 1 | AC12: 1 | AZ12: 1 | BA12: =IF(AZ12=1,G12,0) -> 0 | BB12: =IF(AZ12=2,G12,0) -> 0 | BC12: =IF(AZ12=3,G12,0) -> 0 | BD12: =IF(AZ12=4,G12,0) -> 0 | BE12: =IF(AZ12=5,G12,0) -> 0 | CA12: 1 | CB12: 1
C13: (5,9*2+10,5*2)*0,6*0,95*1,05 | E13: 19.6308 | M13: (5,9*2+10,5*2)*0,6*0,95*1,05
A14: 3 | B14: 965042141R00 | C14: Bourání mazanin betonových tl. 10 cm, nad 4 m2 | D14: m3 | E14: 6.195 | F14: 0 | G14: =E14*F14 -> 0 | H14: 0 | I14: =E14*H14 -> 0 | J14: -2.2 | K14: =E14*J14 -> -13.629 | O14: 2 | AA14: 1 | AB14: 1 | AC14: 1 | AZ14: 1 | BA14: =IF(AZ14=1,G14,0) -> 0 | BB14: =IF(AZ14=2,G14,0) -> 0 | BC14: =IF(AZ14=3,G14,0) -> 0 | BD14: =IF(AZ14=4,G14,0) -> 0 | BE14: =IF(AZ14=5,G14,0) -> 0 | CA14: 1 | CB14: 1
C15: 5,9*10,5*0,1 | E15: 6.195 | M15: 5,9*10,5*0,1
A16: 4 | B16: 965043441R00 | C16: Bourání podkladů bet., potěr tl. 15 cm, nad 4 m2 | D16: m3 | E16: 9.7571 | F16: 0 | G16: =E16*F16 -> 0 | H16: 0 | I16: =E16*H16 -> 0 | J16: -2.2 | K16: =E16*J16 -> -21.46562 | O16: 2 | AA16: 1 | AB16: 1 | AC16: 1 | AZ16: 1 | BA16: =IF(AZ16=1,G16,0) -> 0 | BB16: =IF(AZ16=2,G16,0) -> 0 | BC16: =IF(AZ16=3,G16,0) -> 0 | BD16: =IF(AZ16=4,G16,0) -> 0 | BE16: =IF(AZ16=5,G16,0) -> 0 | CA16: 1 | CB16: 1
C17: 5,9*10,5*0,15*1,05 | E17: 9.7571 | M17: 5,9*10,5*0,15*1,05
A18: 5 | B18: 968061112R00 | C18: Vyvěšení dřevěných okenních křídel pl. do 1,5 m2 | D18: kus | E18: 5 | F18: 0 | G18: =E18*F18 -> 0 | H18: 0 | I18: =E18*H18 -> 0 | J18: 0 | K18: =E18*J18 -> 0 | O18: 2 | AA18: 1 | AB18: 1 | AC18: 1 | AZ18: 1 | BA18: =IF(AZ18=1,G18,0) -> 0 | BB18: =IF(AZ18=2,G18,0) -> 0 | BC18: =IF(AZ18=3,G18,0) -> 0 | BD18: =IF(AZ18=4,G18,0) -> 0 | BE18: =IF(AZ18=5,G18,0) -> 0 | CA18: 1 | CB18: 1
A19: 6 | B19: 968062357R00 | C19: Vybourání dřevěných rámů oken dvojitých nad 4 m2 | D19: m2 | E19: 10.208 | F19: 0 | G19: =E19*F19 -> 0 | H19: 0.00082 | I19: =E19*H19 -> 0.00837056 | J19: -0.047 | K19: =E19*J19 -> -0.479776 | O19: 2 | AA19: 1 | AB19: 1 | AC19: 1 | AZ19: 1 | BA19: =IF(AZ19=1,G19,0) -> 0 | BB19: =IF(AZ19=2,G19,0) -> 0 | BC19: =IF(AZ19=3,G19,0) -> 0 | BD19: =IF(AZ19=4,G19,0) -> 0 | BE19: =IF(AZ19=5,G19,0) -> 0 | CA19: 1 | CB19: 1
C20: 2,38*1,6*1 | E20: 3.808 | M20: 2,38*1,6*1
C21: 1,0*1,6*4 | E21: 6.4 | M21: 1,0*1,6*4
B22: Celkem za | C22: 96 Bourání konstrukcí | G22: =SUM(G11:G21) -> 0 | I22: =SUM(I11:I21) -> 0.00837056 | K22: =SUM(K11:K21) -> -74.835996 | O22: 4 | BA22: =SUM(BA11:BA21) -> 0 | BB22: =SUM(BB11:BB21) -> 0 | BC22: =SUM(BC11:BC21) -> 0 | BD22: =SUM(BD11:BD21) -> 0 | BE22: =SUM(BE11:BE21) -> 0
A23: Díl: | B23: 99 | C23: Staveništní přesun hmot | O23: 1
A24: 7 | B24: 999281111R00 | C24: Přesun hmot pro opravy a údržbu do výšky 25 m | D24: t | E24: 0.10625156 | F24: 0 | G24: =E24*F24 -> 0 | H24: 0 | I24: =E24*H24 -> 0 | K24: =E24*J24 -> 0 | O24: 2 | AA24: 7 | AB24: 1 | AC24: 2 | AZ24: 1 | BA24: =IF(AZ24=1,G24,0) -> 0 | BB24: =IF(AZ24=2,G24,0) -> 0 | BC24: =IF(AZ24=3,G24,0) -> 0 | BD24: =IF(AZ24=4,G24,0) -> 0 | BE24: =IF(AZ24=5,G24,0) -> 0 | CA24: 7 | CB24: 1
B25: Celkem za | C25: 99 Staveništní přesun hmot | G25: =SUM(G23:G24) -> 0 | I25: =SUM(I23:I24) -> 0 | K25: =SUM(K23:K24) -> 0 | O25: 4 | BA25: =SUM(BA23:BA24) -> 0 | BB25: =SUM(BB23:BB24) -> 0 | BC25: =SUM(BC23:BC24) -> 0 | BD25: =SUM(BD23:BD24) -> 0 | BE25: =SUM(BE23:BE24) -> 0
A26: Díl: | B26: 712 | C26: Živičné krytiny | O26: 1
A27: 8 | B27: 712300833R00 | C27: Odstranění živičné krytiny střech do 10° 3vrstvé | D27: m2 | E27: 65.0475 | F27: 0 | G27: =E27*F27 -> 0 | H27: 0.014 | I27: =E27*H27 -> 0.910665 | J27: -0.014 | K27: =E27*J27 -> -0.910665 | O27: 2 | AA27: 1 | AB27: 7 | AC27: 7 | AZ27: 2 | BA27: =IF(AZ27=1,G27,0) -> 0 | BB27: =IF(AZ27=2,G27,0) -> 0 | BC27: =IF(AZ27=3,G27,0) -> 0 | BD27: =IF(AZ27=4,G27,0) -> 0 | BE27: =IF(AZ27=5,G27,0) -> 0 | CA27: 1 | CB27: 7
C28: 5,9*10,5*1,05 | E28: 65.0475 | M28: 5,9*10,5*1,05
A29: 9 | B29: 998712101R00 | C29: Přesun hmot pro povlakové krytiny, výšky do 6 m | D29: t | E29: 0.910665 | F29: 0 | G29: =E29*F29 -> 0 | H29: 0 | I29: =E29*H29 -> 0 | K29: =E29*J29 -> 0 | O29: 2 | AA29: 7 | AB29: 1001 | AC29: 5 | AZ29: 2 | BA29: =IF(AZ29=1,G29,0) -> 0 | BB29: =IF(AZ29=2,G29,0) -> 0 | BC29: =IF(AZ29=3,G29,0) -> 0 | BD29: =IF(AZ29=4,G29,0) -> 0 | BE29: =IF(AZ29=5,G29,0) -> 0 | CA29: 7 | CB29: 1001
B30: Celkem za | C30: 712 Živičné krytiny | G30: =SUM(G26:G29) -> 0 | I30: =SUM(I26:I29) -> 0.910665 | K30: =SUM(K26:K29) -> -0.910665 | O30: 4 | BA30: =SUM(BA26:BA29) -> 0 | BB30: =SUM(BB26:BB29) -> 0 | BC30: =SUM(BC26:BC29) -> 0 | BD30: =SUM(BD26:BD29) -> 0 | BE30: =SUM(BE26:BE29) -> 0
A31: Díl: | B31: 713 | C31: Izolace tepelné | O31: 1
A32: 10 | B32: 713100813R00 | C32: Odstranění tepelné izolace, polystyrén tl. nad 5cm | D32: m2 | E32: 65.0475 | F32: 0 | G32: =E32*F32 -> 0 | H32: 0.0022 | I32: =E32*H32 -> 0.1431045 | J32: -0.0022 | K32: =E32*J32 -> -0.1431045 | O32: 2 | AA32: 1 | AB32: 7 | AC32: 7 | AZ32: 2 | BA32: =IF(AZ32=1,G32,0) -> 0 | BB32: =IF(AZ32=2,G32,0) -> 0 | BC32: =IF(AZ32=3,G32,0) -> 0 | BD32: =IF(AZ32=4,G32,0) -> 0 | BE32: =IF(AZ32=5,G32,0) -> 0 | CA32: 1 | CB32: 7
C33: 5,9*10,5*1,05 | E33: 65.0475 | M33: 5,9*10,5*1,05
A34: 11 | B34: 998713101R00 | C34: Přesun hmot pro izolace tepelné, výšky do 6 m | D34: t | E34: 0.1431045 | F34: 0 | G34: =E34*F34 -> 0 | H34: 0 | I34: =E34*H34 -> 0 | K34: =E34*J34 -> 0 | O34: 2 | AA34: 7 | AB34: 1001 | AC34: 5 | AZ34: 2 | BA34: =IF(AZ34=1,G34,0) -> 0 | BB34: =IF(AZ34=2,G34,0) -> 0 | BC34: =IF(AZ34=3,G34,0) -> 0 | BD34: =IF(AZ34=4,G34,0) -> 0 | BE34: =IF(AZ34=5,G34,0) -> 0 | CA34: 7 | CB34: 1001
B35: Celkem za | C35: 713 Izolace tepelné | G35: =SUM(G31:G34) -> 0 | I35: =SUM(I31:I34) -> 0.1431045 | K35: =SUM(K31:K34) -> -0.1431045 | O35: 4 | BA35: =SUM(BA31:BA34) -> 0 | BB35: =SUM(BB31:BB34) -> 0 | BC35: =SUM(BC31:BC34) -> 0 | BD35: =SUM(BD31:BD34) -> 0 | BE35: =SUM(BE31:BE34) -> 0
A36: Díl: | B36: 762 | C36: Konstrukce tesařské | O36: 1
A37: 12 | B37: 762CP001 | C37: Demontáž obvodových stěn likusáku vč. oplechování a všech nosných kce. | D37: m2 | E37: 85.4648 | F37: 0 | G37: =E37*F37 -> 0 | H37: 0.00016 | I37: =E37*H37 -> 0.013674368 | J37: -0.022 | K37: =E37*J37 -> -1.8802256 | O37: 2 | AA37: 1 | AB37: 7 | AC37: 7 | AZ37: 2 | BA37: =IF(AZ37=1,G37,0) -> 0 | BB37: =IF(AZ37=2,G37,0) -> 0 | BC37: =IF(AZ37=3,G37,0) -> 0 | BD37: =IF(AZ37=4,G37,0) -> 0 | BE37: =IF(AZ37=5,G37,0) -> 0 | CA37: 1 | CB37: 7
C38: 5,9*2*3,65*1,05 | E38: 45.2235 | M38: 5,9*2*3,65*1,05
C39: 10,5*1*3,65*1,05 | E39: 40.2413 | M39: 10,5*1*3,65*1,05
A40: 13 | B40: 762CP002 | C40: Demontáž stropu/střechy likusáku | D40: m2 | E40: 65.0475 | F40: 0 | G40: =E40*F40 -> 0 | H40: 0 | I40: =E40*H40 -> 0 | J40: -0.028 | K40: =E40*J40 -> -1.82133 | O40: 2 | AA40: 1 | AB40: 7 | AC40: 7 | AZ40: 2 | BA40: =IF(AZ40=1,G40,0) -> 0 | BB40: =IF(AZ40=2,G40,0) -> 0 | BC40: =IF(AZ40=3,G40,0) -> 0 | BD40: =IF(AZ40=4,G40,0) -> 0 | BE40: =IF(AZ40=5,G40,0) -> 0 | CA40: 1 | CB40: 7
C41: 5,9*10,5*1,05 | E41: 65.0475 | M41: 5,9*10,5*1,05
A42: 14 | B42: 998762102R00 | C42: Přesun hmot pro tesařské konstrukce, výšky do 12 m | D42: t | E42: 0.013674368 | F42: 0 | G42: =E42*F42 -> 0 | H42: 0 | I42: =E42*H42 -> 0 | K42: =E42*J42 -> 0 | O42: 2 | AA42: 7 | AB42: 1001 | AC42: 5 | AZ42: 2 | BA42: =IF(AZ42=1,G42,0) -> 0 | BB42: =IF(AZ42=2,G42,0) -> 0 | BC42: =IF(AZ42=3,G42,0) -> 0 | BD42: =IF(AZ42=4,G42,0) -> 0 | BE42: =IF(AZ42=5,G42,0) -> 0 | CA42: 7 | CB42: 1001
B43: Celkem za | C43: 762 Konstrukce tesařské | G43: =SUM(G36:G42) -> 0 | I43: =SUM(I36:I42) -> 0.013674368 | K43: =SUM(K36:K42) -> -3.7015556 | O43: 4 | BA43: =SUM(BA36:BA42) -> 0 | BB43: =SUM(BB36:BB42) -> 0 | BC43: =SUM(BC36:BC42) -> 0 | BD43: =SUM(BD36:BD42) -> 0 | BE43: =SUM(BE36:BE42) -> 0
A44: Díl: | B44: 764 | C44: Konstrukce klempířské | O44: 1
A45: 15 | B45: 764317800R00 | C45: Demontáž krytiny hladké železobetonových desek | D45: m2 | E45: 65.0475 | F45: 0 | G45: =E45*F45 -> 0 | H45: 0.00742 | I45: =E45*H45 -> 0.48265245 | J45: -0.00742 | K45: =E45*J45 -> -0.48265245 | O45: 2 | AA45: 1 | AB45: 7 | AC45: 7 | AZ45: 2 | BA45: =IF(AZ45=1,G45,0) -> 0 | BB45: =IF(AZ45=2,G45,0) -> 0 | BC45: =IF(AZ45=3,G45,0) -> 0 | BD45: =IF(AZ45=4,G45,0) -> 0 | BE45: =IF(AZ45=5,G45,0) -> 0 | CA45: 1 | CB45: 7
C46: 5,9*10,5*1,05 | E46: 65.0475 | M46: 5,9*10,5*1,05
A47: 16 | B47: 764352831R00 | C47: Demontáž žlabů půlkruh. oblouk., rš 250 mm, do 45° | D47: m | E47: 10.5 | F47: 0 | G47: =E47*F47 -> 0 | H47: 0.00286 | I47: =E47*H47 -> 0.03003 | J47: -0.00286 | K47: =E47*J47 -> -0.03003 | O47: 2 | AA47: 1 | AB47: 7 | AC47: 7 | AZ47: 2 | BA47: =IF(AZ47=1,G47,0) -> 0 | BB47: =IF(AZ47=2,G47,0) -> 0 | BC47: =IF(AZ47=3,G47,0) -> 0 | BD47: =IF(AZ47=4,G47,0) -> 0 | BE47: =IF(AZ47=5,G47,0) -> 0 | CA47: 1 | CB47: 7
A48: 17 | B48: 764454801R00 | C48: Demontáž odpadních trub kruhových,D 75 a 100 mm | D48: m | E48: 7 | F48: 0 | G48: =E48*F48 -> 0 | H48: 0.00226 | I48: =E48*H48 -> 0.01582 | J48: -0.00226 | K48: =E48*J48 -> -0.01582 | O48: 2 | AA48: 1 | AB48: 7 | AC48: 7 | AZ48: 2 | BA48: =IF(AZ48=1,G48,0) -> 0 | BB48: =IF(AZ48=2,G48,0) -> 0 | BC48: =IF(AZ48=3,G48,0) -> 0 | BD48: =IF(AZ48=4,G48,0) -> 0 | BE48: =IF(AZ48=5,G48,0) -> 0 | CA48: 1 | CB48: 7
C49: 2*3,5 | E49: 7 | M49: 2*3,5
A50: 18 | B50: 998764101R00 | C50: Přesun hmot pro klempířské konstr., výšky do 6 m | D50: t | E50: 0.52850245 | F50: 0 | G50: =E50*F50 -> 0 | H50: 0 | I50: =E50*H50 -> 0 | K50: =E50*J50 -> 0 | O50: 2 | AA50: 7 | AB50: 1001 | AC50: 5 | AZ50: 2 | BA50: =IF(AZ50=1,G50,0) -> 0 | BB50: =IF(AZ50=2,G50,0) -> 0 | BC50: =IF(AZ50=3,G50,0) -> 0 | BD50: =IF(AZ50=4,G50,0) -> 0 | BE50: =IF(AZ50=5,G50,0) -> 0 | CA50: 7 | CB50: 1001
B51: Celkem za | C51: 764 Konstrukce klempířské | G51: =SUM(G44:G50) -> 0 | I51: =SUM(I44:I50) -> 0.52850245 | K51: =SUM(K44:K50) -> -0.52850245 | O51: 4 | BA51: =SUM(BA44:BA50) -> 0 | BB51: =SUM(BB44:BB50) -> 0 | BC51: =SUM(BC44:BC50) -> 0 | BD51: =SUM(BD44:BD50) -> 0 | BE51: =SUM(BE44:BE50) -> 0
A52: Díl: | B52: 776 | C52: Podlahy povlakové | O52: 1
A53: 19 | B53: 776511820R00 | C53: Odstranění PVC a koberců lepených s podložkou | D53: m2 | E53: 61.95 | F53: 0 | G53: =E53*F53 -> 0 | H53: 0 | I53: =E53*H53 -> 0 | J53: -0.001 | K53: =E53*J53 -> -0.06195 | O53: 2 | AA53: 1 | AB53: 7 | AC53: 7 | AZ53: 2 | BA53: =IF(AZ53=1,G53,0) -> 0 | BB53: =IF(AZ53=2,G53,0) -> 0 | BC53: =IF(AZ53=3,G53,0) -> 0 | BD53: =IF(AZ53=4,G53,0) -> 0 | BE53: =IF(AZ53=5,G53,0) -> 0 | CA53: 1 | CB53: 7
C54: 5,9*10,5 | E54: 61.95 | M54: 5,9*10,5
B55: Celkem za | C55: 776 Podlahy povlakové | G55: =SUM(G52:G54) -> 0 | I55: =SUM(I52:I54) -> 0 | K55: =SUM(K52:K54) -> -0.06195 | O55: 4 | BA55: =SUM(BA52:BA54) -> 0 | BB55: =SUM(BB52:BB54) -> 0 | BC55: =SUM(BC52:BC54) -> 0 | BD55: =SUM(BD52:BD54) -> 0 | BE55: =SUM(BE52:BE54) -> 0
A56: Díl: | B56: D96 | C56: Přesuny suti a vybouraných hmot | O56: 1
A57: 20 | B57: 979011111R00 | C57: Svislá doprava suti a vybour. hmot za 2.NP a 1.PP | D57: t | E57: 80.181774 | F57: 0 | G57: =E57*F57 -> 0 | H57: 0 | I57: =E57*H57 -> 0 | K57: =E57*J57 -> 0 | O57: 2 | AA57: 8 | AB57: 1 | AC57: 3 | AZ57: 1 | BA57: =IF(AZ57=1,G57,0) -> 0 | BB57: =IF(AZ57=2,G57,0) -> 0 | BC57: =IF(AZ57=3,G57,0) -> 0 | BD57: =IF(AZ57=4,G57,0) -> 0 | BE57: =IF(AZ57=5,G57,0) -> 0 | CA57: 8 | CB57: 1
A58: 21 | B58: 979081111R00 | C58: Odvoz suti a vybour. hmot na skládku do 1 km | D58: t | E58: 80.181774 | F58: 0 | G58: =E58*F58 -> 0 | H58: 0 | I58: =E58*H58 -> 0 | K58: =E58*J58 -> 0 | O58: 2 | AA58: 8 | AB58: 1 | AC58: 3 | AZ58: 1 | BA58: =IF(AZ58=1,G58,0) -> 0 | BB58: =IF(AZ58=2,G58,0) -> 0 | BC58: =IF(AZ58=3,G58,0) -> 0 | BD58: =IF(AZ58=4,G58,0) -> 0 | BE58: =IF(AZ58=5,G58,0) -> 0 | CA58: 8 | CB58: 1
A59: 22 | B59: 979081121R00 | C59: Příplatek k odvozu za každý další 1 km | D59: t | E59: 1202.7266 | F59: 0 | G59: =E59*F59 -> 0 | H59: 0 | I59: =E59*H59 -> 0 | K59: =E59*J59 -> 0 | O59: 2 | AA59: 8 | AB59: 1 | AC59: 3 | AZ59: 1 | BA59: =IF(AZ59=1,G59,0) -> 0 | BB59: =IF(AZ59=2,G59,0) -> 0 | BC59: =IF(AZ59=3,G59,0) -> 0 | BD59: =IF(AZ59=4,G59,0) -> 0 | BE59: =IF(AZ59=5,G59,0) -> 0 | CA59: 8 | CB59: 1
A60: 23 | B60: 979087112R00 | C60: Nakládání suti na dopravní prostředky | D60: t | E60: 80.181774 | F60: 0 | G60: =E60*F60 -> 0 | H60: 0 | I60: =E60*H60 -> 0 | K60: =E60*J60 -> 0 | O60: 2 | AA60: 8 | AB60: 0 | AC60: 3 | AZ60: 1 | BA60: =IF(AZ60=1,G60,0) -> 0 | BB60: =IF(AZ60=2,G60,0) -> 0 | BC60: =IF(AZ60=3,G60,0) -> 0 | BD60: =IF(AZ60=4,G60,0) -> 0 | BE60: =IF(AZ60=5,G60,0) -> 0 | CA60: 8 | CB60: 0
A61: 24 | B61: 979990001R00 | C61: Poplatek za skládku stavební suti | D61: t | E61: 80.181774 | F61: 0 | G61: =E61*F61 -> 0 | H61: 0 | I61: =E61*H61 -> 0 | K61: =E61*J61 -> 0 | O61: 2 | AA61: 8 | AB61: 1 | AC61: 3 | AZ61: 1 | BA61: =IF(AZ61=1,G61,0) -> 0 | BB61: =IF(AZ61=2,G61,0) -> 0 | BC61: =IF(AZ61=3,G61,0) -> 0 | BD61: =IF(AZ61=4,G61,0) -> 0 | BE61: =IF(AZ61=5,G61,0) -> 0 | CA61: 8 | CB61: 1
B62: Celkem za | C62: D96 Přesuny suti a vybouraných hmot | G62: =SUM(G56:G61) -> 0 | I62: =SUM(I56:I61) -> 0 | K62: =SUM(K56:K61) -> 0 | O62: 4 | BA62: =SUM(BA56:BA61) -> 0 | BB62: =SUM(BB56:BB61) -> 0 | BC62: =SUM(BC56:BC61) -> 0 | BD62: =SUM(BD56:BD61) -> 0 | BE62: =SUM(BE56:BE61) -> 0

Sheet SO 08 SO 08 KL
A1: SLEPÝ ROZPOČET
A2: Rozpočet | C2: SO 08 | D2: Přeložka plyn.potrubí | F2: JKSO
A4: Objekt | F4: SKP
A5: SO 08 | C5: Přeložka plyn.potrubí | F5: Měrná jednotka
A6: Stavba | F6: Počet jednotek
A7: 01 | C7: Zateplení budovy muzea Brumov-Bylnice | F7: Náklady na m.j. | G7: =IF(G6=0,,ROUND((F30+F32)/G6,1)) -> 0
A8: Projektant | F8: Typ rozpočtu
A9: Zpracovatel projektu
A10: Objednatel
A11: Dodavatel | F11: Zakázkové číslo
A12: Rozpočtoval | F12: Počet listů
A13: ROZPOČTOVÉ NÁKLADY
A14: Základní rozpočtové náklady | D14: Ostatní rozpočtové náklady
B15: HSV celkem | C15: ='SO 08 SO 08 Rek'!E8 -> 0 | D15: ='SO 08 SO 08 Rek'!A13 -> Ztížené výrobní podmínky | G15: ='SO 08 SO 08 Rek'!I13 -> 0
A16: Z | B16: PSV celkem | C16: ='SO 08 SO 08 Rek'!F8 -> 0 | D16: ='SO 08 SO 08 Rek'!A14 -> Oborová přirážka | G16: ='SO 08 SO 08 Rek'!I14 -> 0
A17: R | B17: M práce celkem | C17: ='SO 08 SO 08 Rek'!H8 -> 0 | D17: ='SO 08 SO 08 Rek'!A15 -> Přesun stavebních kapacit | G17: ='SO 08 SO 08 Rek'!I15 -> 0
A18: N | B18: M dodávky celkem | C18: ='SO 08 SO 08 Rek'!G8 -> 0 | D18: ='SO 08 SO 08 Rek'!A16 -> Mimostaveništní doprava | G18: ='SO 08 SO 08 Rek'!I16 -> 0
A19: ZRN celkem | C19: =SUM(C15:C18) -> 0 | D19: ='SO 08 SO 08 Rek'!A17 -> Zařízení staveniště | G19: ='SO 08 SO 08 Rek'!I17 -> 0
D20: ='SO 08 SO 08 Rek'!A18 -> Provoz investora | G20: ='SO 08 SO 08 Rek'!I18 -> 0
A21: HZS | C21: ='SO 08 SO 08 Rek'!I8 -> 0 | D21: ='SO 08 SO 08 Rek'!A19 -> Kompletační činnost (IČD) | G21: ='SO 08 SO 08 Rek'!I19 -> 0
A22: ZRN+HZS | C22: =C19+C21 -> 0 | D22: Ostatní náklady neuvedené | G22: =G23-SUM(G15:G21) -> 0
A23: ZRN+ost.náklady+HZS | C23: =C22+G23 -> 0 | D23: Ostatní náklady celkem | G23: ='SO 08 SO 08 Rek'!H21 -> 0
A24: Vypracoval | D24: Za zhotovitele | F24: Za objednatele
A25: Jméno : | D25: Jméno : | F25: Jméno :
A26: Datum : | D26: Datum : | F26: Datum :
A28: Podpis : | D28: Podpis: | F28: Podpis:
A30: Základ pro DPH | C30: 21 | D30: % | F30: =C23-F32 -> 0
A31: DPH | C31: =C30 -> 21 | D31: % | F31: =ROUND(PRODUCT(F30,C31/100),0) -> 0
A32: Základ pro DPH | C32: 0 | D32: % | F32: 0
A33: DPH | C33: =C32 -> 0 | D33: % | F33: =ROUND(PRODUCT(F32,C33/100),0) -> 0
A34: CENA ZA OBJEKT CELKEM | F34: =ROUND(SUM(F30:F33),0) -> 0
A36: Poznámka :

Sheet SO 08 SO 08 Rek
A1: Stavba : | C1: 01 Zateplení budovy muzea Brumov-Bylnice | G1: Rozpočet : | H1: SO 08
A2: Objekt : | C2: SO 08 Přeložka plyn.potrubí | G2: Přeložka plyn.potrubí
A4: REKAPITULACE STAVEBNÍCH DÍLŮ
B6: Stavební díl | E6: HSV | F6: PSV | G6: Dodávka | H6: Montáž | I6: HZS
A7: ='SO 08 SO 08 Pol'!B7 -> 723 | B7: ='SO 08 SO 08 Pol'!C7 -> Vnitřní plynovod | E7: ='SO 08 SO 08 Pol'!BA9 -> 0 | F7: ='SO 08 SO 08 Pol'!BB9 -> 0 | G7: ='SO 08 SO 08 Pol'!BC9 -> 0 | H7: ='SO 08 SO 08 Pol'!BD9 -> 0 | I7: ='SO 08 SO 08 Pol'!BE9 -> 0
B8: CELKEM OBJEKT | E8: =SUM(E7:E7) -> 0 | F8: =SUM(F7:F7) -> 0 | G8: =SUM(G7:G7) -> 0 | H8: =SUM(H7:H7) -> 0 | I8: =SUM(I7:I7) -> 0
A10: VEDLEJŠÍ ROZPOČTOVÉ NÁKLADY
A12: Název VRN | E12: Kč | F12: % | G12: Základna | I12: Kč
A13: Ztížené výrobní podmínky | G13: 0 | I13: =E13+F13*G13/100 -> 0 | BA13: 0
A14: Oborová přirážka | G14: 0 | I14: =E14+F14*G14/100 -> 0 | BA14: 0
A15: Přesun stavebních kapacit | G15: 0 | I15: =E15+F15*G15/100 -> 0 | BA15: 0
A16: Mimostaveništní doprava | G16: 0 | I16: =E16+F16*G16/100 -> 0 | BA16: 0
A17: Zařízení staveniště | G17: 0 | I17: =E17+F17*G17/100 -> 0 | BA17: 1
A18: Provoz investora | G18: 0 | I18: =E18+F18*G18/100 -> 0 | BA18: 1
A19: Kompletační činnost (IČD) | G19: 0 | I19: =E19+F19*G19/100 -> 0 | BA19: 2
A20: Rezerva rozpočtu | G20: 0 | I20: =E20+F20*G20/100 -> 0 | BA20: 2
B21: CELKEM VRN | H21: =SUM(I13:I20) -> 0

Sheet SO 08 SO 08 Pol
A1: Slepý rozpočet
A3: Stavba : | C3: 01 Zateplení budovy muzea Brumov-Bylnice | E3: Rozpočet: | F3: ='SO 08 SO 08 Rek'!H1 -> SO 08
A4: Objekt : | C4: SO 08 Přeložka plyn.potrubí | E4: ='SO 08 SO 08 Rek'!G2 -> Přeložka plyn.potrubí
A6: P.č. | B6: Číslo položky | C6: Název položky | D6: MJ | E6: množství | F6: cena / MJ | G6: celkem (Kč) | H6: Jednotková hmotnost | I6: Celková hmotnost | J6: Jednotková dem.hmot. | K6: Celková dem.hmot.
A7: Díl: | B7: 723 | C7: Vnitřní plynovod | O7: 1
A8: 1 | B8: 723CP001 | C8: D+M přeložky plyn.potrubí-viz.samostatný rozpočet/výkaz | D8: komple | E8: 1 | F8: 0 | G8: =E8*F8 -> 0 | H8: 0 | I8: =E8*H8 -> 0 | J8: 0 | K8: =E8*J8 -> 0 | O8: 2 | AA8: 1 | AB8: 7 | AC8: 7 | AZ8: 2 | BA8: =IF(AZ8=1,G8,0) -> 0 | BB8: =IF(AZ8=2,G8,0) -> 0 | BC8: =IF(AZ8=3,G8,0) -> 0 | BD8: =IF(AZ8=4,G8,0) -> 0 | BE8: =IF(AZ8=5,G8,0) -> 0 | CA8: 1 | CB8: 7
B9: Celkem za | C9: 723 Vnitřní plynovod | G9: =SUM(G7:G8) -> 0 | I9: =SUM(I7:I8) -> 0 | K9: =SUM(K7:K8) -> 0 | O9: 4 | BA9: =SUM(BA7:BA8) -> 0 | BB9: =SUM(BB7:BB8) -> 0 | BC9: =SUM(BC7:BC8) -> 0 | BD9: =SUM(BD7:BD8) -> 0 | BE9: =SUM(BE7:BE8) -> 0
