Workbook

Sheet Rekapitulace stavby
A1: Export VZ | D1: List obsahuje: | K1: 1) Rekapitulace stavby | W1: 2) Rekapitulace objektů stavby a soupisů prací | BA1: 3.0 | BB1: ZAMOK | BT1: False | BU1: False | BV1: {29d6876a-e372-4632-b540-125152389ab9}
BS2: 0,01 | BT2: 21
BS3: 0,01 | BT3: 15
D4: REKAPITULACE STAVBY | AS4: v --- níže se nacházejí doplnkové a pomocné údaje k sestavám --- v | BE4: Návod na vyplnění | BS4: 0,001
D5: Kód: | K5: 12345 | BE5: Měnit lze pouze buňky se žlutým podbarvením!_x000D_ _x000D_ 1) v Rekapitulaci stavby vyplňte údaje o Uchazeči (přenesou se do ostatních sestav i v jiných listech)_x000D_ _x000D_ 2) na vybraných listech vyplňte v sestavě Soupis prací ceny u položek_x000D_ _x000D_ Podrobnosti k vyplnění naleznete na poslední záložce s Pokyny pro vyplnění | BS5: 0,01
D6: Stavba: | K6: Regenerace sídliště 9.května - II. Etapa | BS6: 0,1
D7: KSO: | AK7: CC-CZ: | BS7: 1
D8: Místo: | AK8: Datum: | AN8: 13. 1. 2017 | BS8: 10
BS9: 100
D10: Zadavatel: | AK10: IČ: | BS10: 0,1
AK11: DIČ: | BS11: 0,1
BS12: 0,1
D13: Uchazeč: | AK13: IČ: | AN13: Vyplň údaj | BS13: 0,1
E14: Vyplň údaj | AK14: DIČ: | AN14: Vyplň údaj | BS14: 0,1
BS15: False
D16: Projektant: | AK16: IČ: | BS16: False
AK17: DIČ: | BS17: True
BS18: 0,01
D19: Poznámka: | BS19: 0,01
BS20: False
D23: Cena bez DPH | AK23: =ROUND(AG51,2) -> 0
L25: Sazba daně | W25: Základ daně | AK25: Výše daně
D26: DPH | F26: základní | L26: 0.21 | W26: =ROUND(AZ51,2) -> 0 | AK26: =ROUND(AV51,2) -> 0
F27: snížená | L27: 0.15 | W27: =ROUND(BA51,2) -> 0 | AK27: =ROUND(AW51,2) -> 0
F28: zákl. přenesená | L28: 0.21 | W28: =ROUND(BB51,2) -> 0 | AK28: 0
F29: sníž. přenesená | L29: 0.15 | W29: =ROUND(BC51,2) -> 0 | AK29: 0
F30: nulová | L30: 0 | W30: =ROUND(BD51,2) -> 0 | AK30: 0
D32: Cena s DPH | T32: v | X32: CZK | AK32: =SUM(AK23:AK30) -> 0
C39: REKAPITULACE OBJEKTŮ STAVBY A SOUPISŮ PRACÍ
C41: Kód: | L41: =K5 -> 12345
C42: Stavba: | L42: =K6 -> Regenerace sídliště 9.května - II. Etapa
C44: Místo: | L44: =IF(K8="","",K8) | AI44: Datum: | AM44: =IF(AN8= "","",AN8) -> 13. 1. 2017
C46: Zadavatel: | L46: =IF(E11= "","",E11) | AI46: Projektant: | AM46: =IF(E17="","",E17) | AS46: Informatívní údaje z listů zakázek
C47: Uchazeč: | L47: =IF(E14= "Vyplň údaj","",E14)
C49: Kód | I49: Objekt, Soupis prací | AG49: Cena bez DPH [CZK] | AN49: Cena s DPH [CZK] | AQ49: Typ | AS49: z toho Ostat._x000D_ náklady [CZK] | AT49: DPH [CZK] | AU49: Normohodiny [h] | AV49: DPH základní [CZK] | AW49: DPH snížená [CZK] | AX49: DPH základní přenesená_x000D_ [CZK] | AY49: DPH snížená přenesená_x000D_ [CZK] | AZ49: Základna_x000D_ DPH základní | BA49: Základna_x000D_ DPH snížená | BB49: Základna_x000D_ DPH zákl. přenesená | BC49: Základna_x000D_ DPH sníž. přenesená | BD49: Základna_x000D_ DPH nulová
C51: Náklady stavby celkem | AG51: =ROUND(SUM(AG52:AG56),2) -> 0 | AN51: =SUM(AG51,AT51) -> 0 | AS51: =ROUND(SUM(AS52:AS56),2) -> 0 | AT51: =ROUND(SUM(AV51:AW51),2) -> 0 | AU51: =ROUND(SUM(AU52:AU56),5) -> 0 | AV51: =ROUND(AZ51*L26,2) -> 0 | AW51: =ROUND(BA51*L27,2) -> 0 | AX51: =ROUND(BB51*L26,2) -> 0 | AY51: =ROUND(BC51*L27,2) -> 0 | AZ51: =ROUND(SUM(AZ52:AZ56),2) -> 0 | BA51: =ROUND(SUM(BA52:BA56),2) -> 0 | BB51: =ROUND(SUM(BB52:BB56),2) -> 0 | BC51: =ROUND(SUM(BC52:BC56),2) -> 0 | BD51: =ROUND(SUM(BD52:BD56),2) -> 0 | BS51: D | BT51: 0 | BU51: ###NOIMPORT### | BV51: IMPORT | BW51: {29d6876a-e372-4632-b540-125152389ab9} | BX51: {00000000-0000-0000-0000-000000000000}
A52: / | D52: SO 101 | J52: Rekonstrukce místních komunikací a zpevněných ploch | AG52: ='SO 101 - Rekonstrukce mís...'!J27 -> 0 | AN52: =SUM(AG52,AT52) -> 0 | AQ52: STA | AS52: 0 | AT52: =ROUND(SUM(AV52:AW52),2) -> 0 | AU52: ='SO 101 - Rekonstrukce mís...'!P83 -> 0 | AV52: ='SO 101 - Rekonstrukce mís...'!J30 -> 0 | AW52: ='SO 101 - Rekonstrukce mís...'!J31 -> 0 | AX52: ='SO 101 - Rekonstrukce mís...'!J32 -> 0 | AY52: ='SO 101 - Rekonstrukce mís...'!J33 -> 0 | AZ52: ='SO 101 - Rekonstrukce mís...'!F30 -> 0 | BA52: ='SO 101 - Rekonstrukce mís...'!F31 -> 0 | BB52: ='SO 101 - Rekonstrukce mís...'!F32 -> 0 | BC52: ='SO 101 - Rekonstrukce mís...'!F33 -> 0 | BD52: ='SO 101 - Rekonstrukce mís...'!F34 -> 0 | BT52: 1 | BV52: IMPORT | BW52: {3175b65d-047e-4d1c-850d-445df84b7b57} | BX52: {29d6876a-e372-4632-b540-125152389ab9} | CM52: 2
A53: / | D53: SO 401 | J53: Veřejné osvětlení | AG53: ='SO 401 - Veřejné osvětlení'!J27 -> 0 | AN53: =SUM(AG53,AT53) -> 0 | AQ53: STA | AS53: 0 | AT53: =ROUND(SUM(AV53:AW53),2) -> 0 | AU53: ='SO 401 - Veřejné osvětlení'!P76 -> 0 | AV53: ='SO 401 - Veřejné osvětlení'!J30 -> 0 | AW53: ='SO 401 - Veřejné osvětlení'!J31 -> 0 | AX53: ='SO 401 - Veřejné osvětlení'!J32 -> 0 | AY53: ='SO 401 - Veřejné osvětlení'!J33 -> 0 | AZ53: ='SO 401 - Veřejné osvětlení'!F30 -> 0 | BA53: ='SO 401 - Veřejné osvětlení'!F31 -> 0 | BB53: ='SO 401 - Veřejné osvětlení'!F32 -> 0 | BC53: ='SO 401 - Veřejné osvětlení'!F33 -> 0 | BD53: ='SO 401 - Veřejné osvětlení'!F34 -> 0 | BT53: 1 | BV53: IMPORT | BW53: {197c937c-df41-4486-b9e5-b251eaad785e} | BX53: {29d6876a-e372-4632-b540-125152389ab9} | CM53: 2
A54: / | D54: SO 801 | J54: Sadové úpravy | AG54: ='SO 801 - Sadové úpravy'!J27 -> 0 | AN54: =SUM(AG54,AT54) -> 0 | AQ54: STA | AS54: 0 | AT54: =ROUND(SUM(AV54:AW54),2) -> 0 | AU54: ='SO 801 - Sadové úpravy'!P79 -> 0 | AV54: ='SO 801 - Sadové úpravy'!J30 -> 0 | AW54: ='SO 801 - Sadové úpravy'!J31 -> 0 | AX54: ='SO 801 - Sadové úpravy'!J32 -> 0 | AY54: ='SO 801 - Sadové úpravy'!J33 -> 0 | AZ54: ='SO 801 - Sadové úpravy'!F30 -> 0 | BA54: ='SO 801 - Sadové úpravy'!F31 -> 0 | BB54: ='SO 801 - Sadové úpravy'!F32 -> 0 | BC54: ='SO 801 - Sadové úpravy'!F33 -> 0 | BD54: ='SO 801 - Sadové úpravy'!F34 -> 0 | BT54: 1 | BV54: IMPORT | BW54: {748483b5-3a60-46d6-942a-48a931c0084b} | BX54: {29d6876a-e372-4632-b540-125152389ab9} | CM54: 2
A55: / | D55: SO 901 | J55: Plochy pro denní rekreaci obyvatel | AG55: ='SO 901 - Plochy pro denní...'!J27 -> 0 | AN55: =SUM(AG55,AT55) -> 0 | AQ55: STA | AS55: 0 | AT55: =ROUND(SUM(AV55:AW55),2) -> 0 | AU55: ='SO 901 - Plochy pro denní...'!P78 -> 0 | AV55: ='SO 901 - Plochy pro denní...'!J30 -> 0 | AW55: ='SO 901 - Plochy pro denní...'!J31 -> 0 | AX55: ='SO 901 - Plochy pro denní...'!J32 -> 0 | AY55: ='SO 901 - Plochy pro denní...'!J33 -> 0 | AZ55: ='SO 901 - Plochy pro denní...'!F30 -> 0 | BA55: ='SO 901 - Plochy pro denní...'!F31 -> 0 | BB55: ='SO 901 - Plochy pro denní...'!F32 -> 0 | BC55: ='SO 901 - Plochy pro denní...'!F33 -> 0 | BD55: ='SO 901 - Plochy pro denní...'!F34 -> 0 | BT55: 1 | BV55: IMPORT | BW55: {6b8677f3-4f69-4029-960c-e20b5fb52dee} | BX55: {29d6876a-e372-4632-b540-125152389ab9} | CM55: 2
...

Sheet SO 101 - Rekonstrukce mís...
D1: List obsahuje: | F1: 1) Krycí list soupisu | G1: 2) Rekapitulace | J1: 3) Soupis prací | K1: Zpět na list: | L1: Rekapitulace stavby
AT2: {3175b65d-047e-4d1c-850d-445df84b7b57} | AZ2: bour_dlazeb | BC2: 1963,19 | BD2: 2
AT3: 2 | AZ3: bourani_obrubiku_1 | BC3: 1862 | BD3: 2
D4: KRYCÍ LIST SOUPISU | M4: v --- níže se nacházejí doplnkové a pomocné údaje k sestavám --- v | AT4: False | AZ4: Dlažba_60 | BB4: m2 | BC4: 1741,29 | BD4: 2
AZ5: dlažba_80 | BC5: 847,1 | BD5: 2
D6: Stavba: | AZ6: DN150 | BC6: 19,85 | BD6: 2
E7: ='Rekapitulace stavby'!K6 -> Regenerace sídliště 9.května - II. Etapa | AZ7: Frez_asfalt | BC7: 2648,5 | BD7: 2
D8: Objekt: | AZ8: chod_predlaz | BC8: 1857,44 | BD8: 2
E9: SO 101 - Rekonstrukce místních komunikací a zpevněných ploch | AZ9: Násyp | BC9: 12 | BD9: 2
AZ10: obrub_novy | BC10: 1474,3 | BD10: 2
D11: KSO: | I11: CC-CZ: | AZ11: Odhumusování | BB11: m3 | BC11: 45,5 | BD11: 2
D12: Místo: | I12: Datum: | J12: ='Rekapitulace stavby'!AN8 -> 13. 1. 2017 | AZ12: Odkop | BB12: m3 | BC12: 604,156 | BD12: 2
AZ13: Odkop3 | BB13: m3 | BC13: 362,494 | BD13: 2
D14: Zadavatel: | I14: IČ: | J14: =IF('Rekapitulace stavby'!AN10="","",'Rekapitulace stavby'!AN10) | AZ14: Odkop4 | BC14: 241,662 | BD14: 2
E15: =IF('Rekapitulace stavby'!E11="","",'Rekapitulace stavby'!E11) | I15: DIČ: | J15: =IF('Rekapitulace stavby'!AN11="","",'Rekapitulace stavby'!AN11) | AZ15: Ohumus_rovina | BB15: m2 | BC15: 34 | BD15: 2
AZ16: Ohumus_svah | BB16: m2 | BC16: 19,7 | BD16: 2
D17: Uchazeč: | I17: IČ: | J17: =IF('Rekapitulace stavby'!AN13="Vyplň údaj","",IF('Rekapitulace stavby'!AN13="","",'Rekapitulace stavby'!AN13)) | AZ17: Rýhy | BC17: 22,255 | BD17: 2
E18: =IF('Rekapitulace stavby'!E14="Vyplň údaj","",IF('Rekapitulace stavby'!E14="","",'Rekapitulace stavby'!E14)) | I18: DIČ: | J18: =IF('Rekapitulace stavby'!AN14="Vyplň údaj","",IF('Rekapitulace stavby'!AN14="","",'Rekapitulace stavby'!AN14)) | AZ18: Rýhy3 | BC18: 13,353 | BD18: 2
AZ19: Rýhy4 | BC19: 8,902 | BD19: 2
D20: Projektant: | I20: IČ: | J20: =IF('Rekapitulace stavby'!AN16="","",'Rekapitulace stavby'!AN16) | AZ20: Sil_obruby | BC20: 603,5 | BD20: 2
E21: =IF('Rekapitulace stavby'!E17="","",'Rekapitulace stavby'!E17) | I21: DIČ: | J21: =IF('Rekapitulace stavby'!AN17="","",'Rekapitulace stavby'!AN17) | AZ21: Suť | BB21: t | BC21: 2328,127 | BD21: 2
AZ22: Vodorov_znač125 | BC22: 58,3 | BD22: 2
D23: Poznámka: | AZ23: Vodorov_znač500 | BC23: 14,5 | BD23: 2
AZ24: Vpusti | BC24: 7 | BD24: 2
D27: Cena bez DPH | J27: =ROUND(J83,2) -> 0
F29: Základ daně | I29: Sazba daně | J29: Výše daně
D30: DPH | E30: základní | F30: =ROUND(SUM(BE83:BE466), 2) -> 0 | I30: 0.21 | J30: =ROUND(ROUND((SUM(BE83:BE466)), 2)*I30, 2) -> 0
E31: snížená | F31: =ROUND(SUM(BF83:BF466), 2) -> 0 | I31: 0.15 | J31: =ROUND(ROUND((SUM(BF83:BF466)), 2)*I31, 2) -> 0
E32: zákl. přenesená | F32: =ROUND(SUM(BG83:BG466), 2) -> 0 | I32: 0.21 | J32: 0
E33: sníž. přenesená | F33: =ROUND(SUM(BH83:BH466), 2) -> 0 | I33: 0.15 | J33: 0
E34: nulová | F34: =ROUND(SUM(BI83:BI466), 2) -> 0 | I34: 0 | J34: 0
D36: Cena s DPH | G36: v | H36: CZK | J36: =SUM(J27:J34) -> 0
C42: REKAPITULACE ČLENĚNÍ SOUPISU PRACÍ
C44: Stavba:
E45: =E7 -> Regenerace sídliště 9.května - II. Etapa
C46: Objekt:
E47: =E9 -> SO 101 - Rekonstrukce místních komunikací a zpevněných ploch
C49: Místo: | F49: =F12 | I49: Datum: | J49: =IF(J12="","",J12) -> 13. 1. 2017
C51: Zadavatel: | F51: =E15 | I51: Projektant: | J51: =E21
C52: Uchazeč: | F52: =IF(E18="","",E18)
...

Sheet SO 401 - Veřejné osvětlení
D1: List obsahuje: | F1: 1) Krycí list soupisu | G1: 2) Rekapitulace | J1: 3) Soupis prací | K1: Zpět na list: | L1: Rekapitulace stavby
AT2: {197c937c-df41-4486-b9e5-b251eaad785e}
AT3: 2
D4: KRYCÍ LIST SOUPISU | M4: v --- níže se nacházejí doplnkové a pomocné údaje k sestavám --- v | AT4: False
D6: Stavba:
E7: ='Rekapitulace stavby'!K6 -> Regenerace sídliště 9.května - II. Etapa
D8: Objekt:
E9: SO 401 - Veřejné osvětlení
D11: KSO: | I11: CC-CZ:
D12: Místo: | I12: Datum: | J12: ='Rekapitulace stavby'!AN8 -> 13. 1. 2017
D14: Zadavatel: | I14: IČ: | J14: =IF('Rekapitulace stavby'!AN10="","",'Rekapitulace stavby'!AN10)
E15: =IF('Rekapitulace stavby'!E11="","",'Rekapitulace stavby'!E11) | I15: DIČ: | J15: =IF('Rekapitulace stavby'!AN11="","",'Rekapitulace stavby'!AN11)
D17: Uchazeč: | I17: IČ: | J17: =IF('Rekapitulace stavby'!AN13="Vyplň údaj","",IF('Rekapitulace stavby'!AN13="","",'Rekapitulace stavby'!AN13))
E18: =IF('Rekapitulace stavby'!E14="Vyplň údaj","",IF('Rekapitulace stavby'!E14="","",'Rekapitulace stavby'!E14)) | I18: DIČ: | J18: =IF('Rekapitulace stavby'!AN14="Vyplň údaj","",IF('Rekapitulace stavby'!AN14="","",'Rekapitulace stavby'!AN14))
D20: Projektant: | I20: IČ: | J20: =IF('Rekapitulace stavby'!AN16="","",'Rekapitulace stavby'!AN16)
E21: =IF('Rekapitulace stavby'!E17="","",'Rekapitulace stavby'!E17) | I21: DIČ: | J21: =IF('Rekapitulace stavby'!AN17="","",'Rekapitulace stavby'!AN17)
D23: Poznámka:
D27: Cena bez DPH | J27: =ROUND(J76,2) -> 0
F29: Základ daně | I29: Sazba daně | J29: Výše daně
D30: DPH | E30: základní | F30: =ROUND(SUM(BE76:BE78), 2) -> 0 | I30: 0.21 | J30: =ROUND(ROUND((SUM(BE76:BE78)), 2)*I30, 2) -> 0
E31: snížená | F31: =ROUND(SUM(BF76:BF78), 2) -> 0 | I31: 0.15 | J31: =ROUND(ROUND((SUM(BF76:BF78)), 2)*I31, 2) -> 0
E32: zákl. přenesená | F32: =ROUND(SUM(BG76:BG78), 2) -> 0 | I32: 0.21 | J32: 0
E33: sníž. přenesená | F33: =ROUND(SUM(BH76:BH78), 2) -> 0 | I33: 0.15 | J33: 0
E34: nulová | F34: =ROUND(SUM(BI76:BI78), 2) -> 0 | I34: 0 | J34: 0
D36: Cena s DPH | G36: v | H36: CZK | J36: =SUM(J27:J34) -> 0
C42: REKAPITULACE ČLENĚNÍ SOUPISU PRACÍ
C44: Stavba:
E45: =E7 -> Regenerace sídliště 9.května - II. Etapa
C46: Objekt:
E47: =E9 -> SO 401 - Veřejné osvětlení
C49: Místo: | F49: =F12 | I49: Datum: | J49: =IF(J12="","",J12) -> 13. 1. 2017
C51: Zadavatel: | F51: =E15 | I51: Projektant: | J51: =E21
C52: Uchazeč: | F52: =IF(E18="","",E18)
C54: Kód dílu - Popis | J54: Cena celkem [CZK]
C56: Náklady soupisu celkem | J56: =J76 -> 0 | AU56: -1
C63: SOUPIS PRACÍ
C65: Stavba:
E66: =E7 -> Regenerace sídliště 9.května - II. Etapa
C67: Objekt:
E68: =E9 -> SO 401 - Veřejné osvětlení
...

Sheet SO 801 - Sadové úpravy
D1: List obsahuje: | F1: 1) Krycí list soupisu | G1: 2) Rekapitulace | J1: 3) Soupis prací | K1: Zpět na list: | L1: Rekapitulace stavby
AT2: {748483b5-3a60-46d6-942a-48a931c0084b}
AT3: 2
D4: KRYCÍ LIST SOUPISU | M4: v --- níže se nacházejí doplnkové a pomocné údaje k sestavám --- v | AT4: False
D6: Stavba:
E7: ='Rekapitulace stavby'!K6 -> Regenerace sídliště 9.května - II. Etapa
D8: Objekt:
E9: SO 801 - Sadové úpravy
D11: KSO: | I11: CC-CZ:
D12: Místo: | I12: Datum: | J12: ='Rekapitulace stavby'!AN8 -> 13. 1. 2017
D14: Zadavatel: | I14: IČ: | J14: =IF('Rekapitulace stavby'!AN10="","",'Rekapitulace stavby'!AN10)
E15: =IF('Rekapitulace stavby'!E11="","",'Rekapitulace stavby'!E11) | I15: DIČ: | J15: =IF('Rekapitulace stavby'!AN11="","",'Rekapitulace stavby'!AN11)
D17: Uchazeč: | I17: IČ: | J17: =IF('Rekapitulace stavby'!AN13="Vyplň údaj","",IF('Rekapitulace stavby'!AN13="","",'Rekapitulace stavby'!AN13))
E18: =IF('Rekapitulace stavby'!E14="Vyplň údaj","",IF('Rekapitulace stavby'!E14="","",'Rekapitulace stavby'!E14)) | I18: DIČ: | J18: =IF('Rekapitulace stavby'!AN14="Vyplň údaj","",IF('Rekapitulace stavby'!AN14="","",'Rekapitulace stavby'!AN14))
D20: Projektant: | I20: IČ: | J20: =IF('Rekapitulace stavby'!AN16="","",'Rekapitulace stavby'!AN16)
E21: =IF('Rekapitulace stavby'!E17="","",'Rekapitulace stavby'!E17) | I21: DIČ: | J21: =IF('Rekapitulace stavby'!AN17="","",'Rekapitulace stavby'!AN17)
D23: Poznámka:
D27: Cena bez DPH | J27: =ROUND(J79,2) -> 0
F29: Základ daně | I29: Sazba daně | J29: Výše daně
D30: DPH | E30: základní | F30: =ROUND(SUM(BE79:BE162), 2) -> 0 | I30: 0.21 | J30: =ROUND(ROUND((SUM(BE79:BE162)), 2)*I30, 2) -> 0
E31: snížená | F31: =ROUND(SUM(BF79:BF162), 2) -> 0 | I31: 0.15 | J31: =ROUND(ROUND((SUM(BF79:BF162)), 2)*I31, 2) -> 0
E32: zákl. přenesená | F32: =ROUND(SUM(BG79:BG162), 2) -> 0 | I32: 0.21 | J32: 0
E33: sníž. přenesená | F33: =ROUND(SUM(BH79:BH162), 2) -> 0 | I33: 0.15 | J33: 0
E34: nulová | F34: =ROUND(SUM(BI79:BI162), 2) -> 0 | I34: 0 | J34: 0
D36: Cena s DPH | G36: v | H36: CZK | J36: =SUM(J27:J34) -> 0
C42: REKAPITULACE ČLENĚNÍ SOUPISU PRACÍ
C44: Stavba:
E45: =E7 -> Regenerace sídliště 9.května - II. Etapa
C46: Objekt:
E47: =E9 -> SO 801 - Sadové úpravy
C49: Místo: | F49: =F12 | I49: Datum: | J49: =IF(J12="","",J12) -> 13. 1. 2017
C51: Zadavatel: | F51: =E15 | I51: Projektant: | J51: =E21
C52: Uchazeč: | F52: =IF(E18="","",E18)
C54: Kód dílu - Popis | J54: Cena celkem [CZK]
C56: Náklady soupisu celkem | J56: =J79 -> 0 | AU56: -1
D57: HSV - Práce a dodávky HSV | J57: =J80 -> 0
D58: 1 - Zemní práce | J58: =J81 -> 0
D59: 998 - Přesun hmot | J59: =J161 -> 0
C66: SOUPIS PRACÍ
C68: Stavba:
...

Sheet SO 901 - Plochy pro denní...
D1: List obsahuje: | F1: 1) Krycí list soupisu | G1: 2) Rekapitulace | J1: 3) Soupis prací | K1: Zpět na list: | L1: Rekapitulace stavby
AT2: {6b8677f3-4f69-4029-960c-e20b5fb52dee}
AT3: 2
D4: KRYCÍ LIST SOUPISU | M4: v --- níže se nacházejí doplnkové a pomocné údaje k sestavám --- v | AT4: False
D6: Stavba:
E7: ='Rekapitulace stavby'!K6 -> Regenerace sídliště 9.května - II. Etapa
D8: Objekt:
E9: SO 901 - Plochy pro denní rekreaci obyvatel
D11: KSO: | I11: CC-CZ:
D12: Místo: | I12: Datum: | J12: ='Rekapitulace stavby'!AN8 -> 13. 1. 2017
D14: Zadavatel: | I14: IČ: | J14: =IF('Rekapitulace stavby'!AN10="","",'Rekapitulace stavby'!AN10)
E15: =IF('Rekapitulace stavby'!E11="","",'Rekapitulace stavby'!E11) | I15: DIČ: | J15: =IF('Rekapitulace stavby'!AN11="","",'Rekapitulace stavby'!AN11)
D17: Uchazeč: | I17: IČ: | J17: =IF('Rekapitulace stavby'!AN13="Vyplň údaj","",IF('Rekapitulace stavby'!AN13="","",'Rekapitulace stavby'!AN13))
E18: =IF('Rekapitulace stavby'!E14="Vyplň údaj","",IF('Rekapitulace stavby'!E14="","",'Rekapitulace stavby'!E14)) | I18: DIČ: | J18: =IF('Rekapitulace stavby'!AN14="Vyplň údaj","",IF('Rekapitulace stavby'!AN14="","",'Rekapitulace stavby'!AN14))
D20: Projektant: | I20: IČ: | J20: =IF('Rekapitulace stavby'!AN16="","",'Rekapitulace stavby'!AN16)
E21: =IF('Rekapitulace stavby'!E17="","",'Rekapitulace stavby'!E17) | I21: DIČ: | J21: =IF('Rekapitulace stavby'!AN17="","",'Rekapitulace stavby'!AN17)
D23: Poznámka:
D27: Cena bez DPH | J27: =ROUND(J78,2) -> 0
F29: Základ daně | I29: Sazba daně | J29: Výše daně
D30: DPH | E30: základní | F30: =ROUND(SUM(BE78:BE100), 2) -> 0 | I30: 0.21 | J30: =ROUND(ROUND((SUM(BE78:BE100)), 2)*I30, 2) -> 0
E31: snížená | F31: =ROUND(SUM(BF78:BF100), 2) -> 0 | I31: 0.15 | J31: =ROUND(ROUND((SUM(BF78:BF100)), 2)*I31, 2) -> 0
E32: zákl. přenesená | F32: =ROUND(SUM(BG78:BG100), 2) -> 0 | I32: 0.21 | J32: 0
E33: sníž. přenesená | F33: =ROUND(SUM(BH78:BH100), 2) -> 0 | I33: 0.15 | J33: 0
E34: nulová | F34: =ROUND(SUM(BI78:BI100), 2) -> 0 | I34: 0 | J34: 0
D36: Cena s DPH | G36: v | H36: CZK | J36: =SUM(J27:J34) -> 0
C42: REKAPITULACE ČLENĚNÍ SOUPISU PRACÍ
C44: Stavba:
E45: =E7 -> Regenerace sídliště 9.května - II. Etapa
C46: Objekt:
E47: =E9 -> SO 901 - Plochy pro denní rekreaci obyvatel
C49: Místo: | F49: =F12 | I49: Datum: | J49: =IF(J12="","",J12) -> 13. 1. 2017
C51: Zadavatel: | F51: =E15 | I51: Projektant: | J51: =E21
C52: Uchazeč: | F52: =IF(E18="","",E18)
C54: Kód dílu - Popis | J54: Cena celkem [CZK]
C56: Náklady soupisu celkem | J56: =J78 -> 0 | AU56: -1
D57: HSV - Práce a dodávky HSV | J57: =J79 -> 0
D58: 9 - Ostatní konstrukce a práce-bourání | J58: =J80 -> 0
C65: SOUPIS PRACÍ
C67: Stavba:
E68: =E7 -> Regenerace sídliště 9.května - II. Etapa
...

Sheet VRN - Vedlejší rozpočtové...
D1: List obsahuje: | F1: 1) Krycí list soupisu | G1: 2) Rekapitulace | J1: 3) Soupis prací | K1: Zpět na list: | L1: Rekapitulace stavby
AT2: {33f0890b-4e64-4523-b306-ea0d2e0551e2}
AT3: 2
D4: KRYCÍ LIST SOUPISU | M4: v --- níže se nacházejí doplnkové a pomocné údaje k sestavám --- v | AT4: False
D6: Stavba:
E7: ='Rekapitulace stavby'!K6 -> Regenerace sídliště 9.května - II. Etapa
D8: Objekt:
E9: VRN - Vedlejší rozpočtové náklady
D11: KSO: | I11: CC-CZ:
D12: Místo: | I12: Datum: | J12: ='Rekapitulace stavby'!AN8 -> 13. 1. 2017
D14: Zadavatel: | I14: IČ: | J14: =IF('Rekapitulace stavby'!AN10="","",'Rekapitulace stavby'!AN10)
E15: =IF('Rekapitulace stavby'!E11="","",'Rekapitulace stavby'!E11) | I15: DIČ: | J15: =IF('Rekapitulace stavby'!AN11="","",'Rekapitulace stavby'!AN11)
D17: Uchazeč: | I17: IČ: | J17: =IF('Rekapitulace stavby'!AN13="Vyplň údaj","",IF('Rekapitulace stavby'!AN13="","",'Rekapitulace stavby'!AN13))
E18: =IF('Rekapitulace stavby'!E14="Vyplň údaj","",IF('Rekapitulace stavby'!E14="","",'Rekapitulace stavby'!E14)) | I18: DIČ: | J18: =IF('Rekapitulace stavby'!AN14="Vyplň údaj","",IF('Rekapitulace stavby'!AN14="","",'Rekapitulace stavby'!AN14))
D20: Projektant: | I20: IČ: | J20: =IF('Rekapitulace stavby'!AN16="","",'Rekapitulace stavby'!AN16)
E21: =IF('Rekapitulace stavby'!E17="","",'Rekapitulace stavby'!E17) | I21: DIČ: | J21: =IF('Rekapitulace stavby'!AN17="","",'Rekapitulace stavby'!AN17)
D23: Poznámka:
D27: Cena bez DPH | J27: =ROUND(J80,2) -> 0
F29: Základ daně | I29: Sazba daně | J29: Výše daně
D30: DPH | E30: základní | F30: =ROUND(SUM(BE80:BE125), 2) -> 0 | I30: 0.21 | J30: =ROUND(ROUND((SUM(BE80:BE125)), 2)*I30, 2) -> 0
E31: snížená | F31: =ROUND(SUM(BF80:BF125), 2) -> 0 | I31: 0.15 | J31: =ROUND(ROUND((SUM(BF80:BF125)), 2)*I31, 2) -> 0
E32: zákl. přenesená | F32: =ROUND(SUM(BG80:BG125), 2) -> 0 | I32: 0.21 | J32: 0
E33: sníž. přenesená | F33: =ROUND(SUM(BH80:BH125), 2) -> 0 | I33: 0.15 | J33: 0
E34: nulová | F34: =ROUND(SUM(BI80:BI125), 2) -> 0 | I34: 0 | J34: 0
D36: Cena s DPH | G36: v | H36: CZK | J36: =SUM(J27:J34) -> 0
C42: REKAPITULACE ČLENĚNÍ SOUPISU PRACÍ
C44: Stavba:
E45: =E7 -> Regenerace sídliště 9.května - II. Etapa
C46: Objekt:
E47: =E9 -> VRN - Vedlejší rozpočtové náklady
C49: Místo: | F49: =F12 | I49: Datum: | J49: =IF(J12="","",J12) -> 13. 1. 2017
C51: Zadavatel: | F51: =E15 | I51: Projektant: | J51: =E21
C52: Uchazeč: | F52: =IF(E18="","",E18)
C54: Kód dílu - Popis | J54: Cena celkem [CZK]
C56: Náklady soupisu celkem | J56: =J80 -> 0 | AU56: -1
D57: HSV - HSV | J57: =J81 -> 0
D58: ORN - Ostatní rozpočtové náklady | J58: =J82 -> 0
D59: VRN - Vedlejší rozpočtové náklady | J59: =J104 -> 0
D60: VRN1 - Průzkumné, geodetické a projektové práce | J60: =J105 -> 0
C67: SOUPIS PRACÍ
...

Sheet Pokyny pro vyplnění
C3: Struktura údajů, formát souboru a metodika pro zpracování
C4: Struktura
C6: Soubor je složen ze záložky Rekapitulace stavby a záložek s názvem soupisu prací pro jednotlivé objekty ve formátu XLSX. Každá ze záložek přitom obsahuje
C7: ještě samostatné sestavy vymezené orámovaním a nadpisem sestavy.
C9: Rekapitulace stavby obsahuje sestavu Rekapitulace stavby a Rekapitulace objektů stavby a soupisů prací.
D10: V sestavě Rekapitulace stavby jsou uvedeny informace identifikující předmět veřejné zakázky na stavební práce, KSO, CC-CZ, CZ-CPV, CZ-CPA a rekapitulaci
D11: celkové nabídkové ceny uchazeče.
D13: V sestavě Rekapitulace objektů stavby a soupisů prací je uvedena rekapitulace stavebních objektů, inženýrských objektů, provozních souborů,
D14: vedlejších a ostatních nákladů a ostatních nákladů s rekapitulací nabídkové ceny za jednotlivé soupisy prací. Na základě údaje Typ je možné
D15: identifikovat, zda se jedná o objekt nebo soupis prací pro daný objekt:
E16: STA | F16: Stavební objekt pozemní
E17: ING | F17: Stavební objekt inženýrský
E18: PRO | F18: Provozní soubor
E19: VON | F19: Vedlejší a ostatní náklady
E20: OST | F20: Ostatní
E21: Soupis | F21: Soupis prací pro daný typ objektu
C23: Soupis prací pro jednotlivé objekty obsahuje sestavy Krycí list soupisu, Rekapitulace členění soupisu prací, Soupis prací. Za soupis prací může být považován
C24: i objekt stavby v případě, že neobsahuje podřízenou zakázku.
D25: Krycí list soupisu obsahuje rekapitulaci informací o předmětu veřejné zakázky ze sestavy Rekapitulace stavby, informaci o zařazení objektu do KSO,
D26: CC-CZ, CZ-CPV, CZ-CPA a rekapitulaci celkové nabídkové ceny uchazeče za aktuální soupis prací.
D28: Rekapitulace členění soupisu prací obsahuje rekapitulaci soupisu prací ve všech úrovních členění soupisu tak, jak byla tato členění použita (např.
D29: stavební díly, funkční díly, případně jiné členění) s rekapitulací nabídkové ceny.
D31: Soupis prací obsahuje položky veškerých stavebních nebo montážních prací, dodávek materiálů a služeb nezbytných pro zhotovení stavebního objektu,
D32: inženýrského objektu, provozního souboru, vedlejších a ostatních nákladů.
D33: Pro položky soupisu prací se zobrazují následující informace:
E34: PČ | G34: Pořadové číslo položky v aktuálním soupisu
E35: TYP | G35: Typ položky: K - konstrukce, M - materiál, PP - plný popis, PSC - poznámka k souboru cen, P - poznámka k položce, VV - výkaz výměr
E36: Kód | G36: Kód položky
E37: Popis | G37: Zkrácený popis položky
E38: MJ | G38: Měrná jednotka položky
E39: Množství | G39: Množství v měrné jednotce
E40: J.cena | G40: Jednotková cena položky. Zadaní může obsahovat namísto J.ceny sloupce J.materiál a J.montáž, jejichž součet definuje
G41: J.cenu položky.
E42: Cena celkem | G42: Celková cena položky daná jako součin množství a j.ceny
E43: Cenová soustava | G43: Příslušnost položky do cenové soustavy
D45: Ke každé položce soupisu prací se na samostatných řádcích může zobrazovat:
E46: Plný popis položky
E47: Poznámka k souboru cen a poznámka zadavatele
E48: Výkaz výměr
D49: Pokud je k řádku výkazu výměr evidovaný údaj ve sloupci Kód, jedná se o definovaný odkaz, na který se může odvolávat výkaz výměr z jiné položky.
...
