Workbook

Sheet Rekapitulace stavby
A1: Export VZ | D1: List obsahuje: | K1: 1) Rekapitulace stavby | W1: 2) Rekapitulace objektů stavby a soupisů prací | BA1: 3.0 | BB1: ZAMOK | BT1: False | BU1: False | BV1: {29d6876a-e372-4632-b540-125152389ab9}
BS2: 0,01 | BT2: 21
BS3: 0,01 | BT3: 15
D4: REKAPITULACE STAVBY | AS4: v --- níže se nacházejí doplnkové a pomocné údaje k sestavám --- v | BE4: Návod na vyplnění | BS4: 0,001
D5: Kód: | K5: 12345 | BE5: Měnit lze pouze buňky se žlutým podbarvením!_x000D_ _x000D_ 1) v Rekapitulaci stavby vyplňte údaje o Uchazeči (přenesou se do ostatních sestav i v jiných listech)_x000D_ _x000D_ 2) na vybraných listech vyplňte v sestavě Soupis prací ceny u položek_x000D_ _x000D_ Podrobnosti k vyplnění naleznete na poslední záložce s Pokyny pro vyplnění | BS5: 0,01
D6: Stavba: | K6: Regenerace sídliště 9.května - II. Etapa | BS6: 0,1
D7: KSO: | AK7: CC-CZ: | BS7: 1
D8: Místo: | AK8: Datum: | AN8: 13. 1. 2017 | BS8: 10
BS9: 100
D10: Zadavatel: | AK10: IČ: | BS10: 0,1
AK11: DIČ: | BS11: 0,1
BS12: 0,1
D13: Uchazeč: | AK13: IČ: | AN13: Vyplň údaj | BS13: 0,1
E14: Vyplň údaj | AK14: DIČ: | AN14: Vyplň údaj | BS14: 0,1
BS15: False
D16: Projektant: | AK16: IČ: | BS16: False
AK17: DIČ: | BS17: True
BS18: 0,01
D19: Poznámka: | BS19: 0,01
BS20: False
D23: Cena bez DPH | AK23: =ROUND(AG51,2) -> 0
L25: Sazba daně | W25: Základ daně | AK25: Výše daně
D26: DPH | F26: základní | L26: 0.21 | W26: =ROUND(AZ51,2) -> 0 | AK26: =ROUND(AV51,2) -> 0
F27: snížená | L27: 0.15 | W27: =ROUND(BA51,2) -> 0 | AK27: =ROUND(AW51,2) -> 0
F28: zákl. přenesená | L28: 0.21 | W28: =ROUND(BB51,2) -> 0 | AK28: 0
F29: sníž. přenesená | L29: 0.15 | W29: =ROUND(BC51,2) -> 0 | AK29: 0
F30: nulová | L30: 0 | W30: =ROUND(BD51,2) -> 0 | AK30: 0
D32: Cena s DPH | T32: v | X32: CZK | AK32: =SUM(AK23:AK30) -> 0
C39: REKAPITULACE OBJEKTŮ STAVBY A SOUPISŮ PRACÍ
C41: Kód: | L41: =K5 -> 12345
C42: Stavba: | L42: =K6 -> Regenerace sídliště 9.května - II. Etapa
C44: Místo: | L44: =IF(K8="","",K8) | AI44: Datum: | AM44: =IF(AN8= "","",AN8) -> 13. 1. 2017
C46: Zadavatel: | L46: =IF(E11= "","",E11) | AI46: Projektant: | AM46: =IF(E17="","",E17) | AS46: Informatívní údaje z listů zakázek
C47: Uchazeč: | L47: =IF(E14= "Vyplň údaj","",E14)
C49: Kód | I49: Objekt, Soupis prací | AG49: Cena bez DPH [CZK] | AN49: Cena s DPH [CZK] | AQ49: Typ | AS49: z toho Ostat._x000D_ náklady [CZK] | AT49: DPH [CZK] | AU49: Normohodiny [h] | AV49: DPH základní [CZK] | AW49: DPH snížená [CZK] | AX49: DPH základní přenesená_x000D_ [CZK] | AY49: DPH snížená přenesená_x000D_ [CZK] | AZ49: Základna_x000D_ DPH základní | BA49: Základna_x000D_ DPH snížená | BB49: Základna_x000D_ DPH zákl. přenesená | BC49: Základna_x000D_ DPH sníž. přenesená | BD49: Základna_x000D_ DPH nulová
C51: Náklady stavby celkem | AG51: =ROUND(SUM(AG52:AG56),2) -> 0 | AN51: =SUM(AG51,AT51) -> 0 | AS51: =ROUND(SUM(AS52:AS56),2) -> 0 | AT51: =ROUND(SUM(AV51:AW51),2) -> 0 | AU51: =ROUND(SUM(AU52:AU56),5) -> 0 | AV51: =ROUND(AZ51*L26,2) -> 0 | AW51: =ROUND(BA51*L27,2) -> 0 | AX51: =ROUND(BB51*L26,2) -> 0 | AY51: =ROUND(BC51*L27,2) -> 0 | AZ51: =ROUND(SUM(AZ52:AZ56),2) -> 0 | BA51: =ROUND(SUM(BA52:BA56),2) -> 0 | BB51: =ROUND(SUM(BB52:BB56),2) -> 0 | BC51: =ROUND(SUM(BC52:BC56),2) -> 0 | BD51: =ROUND(SUM(BD52:BD56),2) -> 0 | BS51: D | BT51: 0 | BU51: ###NOIMPORT### | BV51: IMPORT | BW51: {29d6876a-e372-4632-b540-125152389ab9} | BX51: {00000000-0000-0000-0000-000000000000}
A52: / | D52: SO 101 | J52: Rekonstrukce místních komunikací a zpevněných ploch | AG52: ='SO 101 - Rekonstrukce mís...'!J27 -> 0 | AN52: =SUM(AG52,AT52) -> 0 | AQ52: STA | AS52: 0 | AT52: =ROUND(SUM(AV52:AW52),2) -> 0 | AU52: ='SO 101 - Rekonstrukce mís...'!P83 -> 0 | AV52: ='SO 101 - Rekonstrukce mís...'!J30 -> 0 | AW52: ='SO 101 - Rekonstrukce mís...'!J31 -> 0 | AX52: ='SO 101 - Rekonstrukce mís...'!J32 -> 0 | AY52: ='SO 101 - Rekonstrukce mís...'!J33 -> 0 | AZ52: ='SO 101 - Rekonstrukce mís...'!F30 -> 0 | BA52: ='SO 101 - Rekonstrukce mís...'!F31 -> 0 | BB52: ='SO 101 - Rekonstrukce mís...'!F32 -> 0 | BC52: ='SO 101 - Rekonstrukce mís...'!F33 -> 0 | BD52: ='SO 101 - Rekonstrukce mís...'!F34 -> 0 | BT52: 1 | BV52: IMPORT | BW52: {3175b65d-047e-4d1c-850d-445df84b7b57} | BX52: {29d6876a-e372-4632-b540-125152389ab9} | CM52: 2
A53: / | D53: SO 401 | J53: Veřejné osvětlení | AG53: ='SO 401 - Veřejné osvětlení'!J27 -> 0 | AN53: =SUM(AG53,AT53) -> 0 | AQ53: STA | AS53: 0 | AT53: =ROUND(SUM(AV53:AW53),2) -> 0 | AU53: ='SO 401 - Veřejné osvětlení'!P76 -> 0 | AV53: ='SO 401 - Veřejné osvětlení'!J30 -> 0 | AW53: ='SO 401 - Veřejné osvětlení'!J31 -> 0 | AX53: ='SO 401 - Veřejné osvětlení'!J32 -> 0 | AY53: ='SO 401 - Veřejné osvětlení'!J33 -> 0 | AZ53: ='SO 401 - Veřejné osvětlení'!F30 -> 0 | BA53: ='SO 401 - Veřejné osvětlení'!F31 -> 0 | BB53: ='SO 401 - Veřejné osvětlení'!F32 -> 0 | BC53: ='SO 401 - Veřejné osvětlení'!F33 -> 0 | BD53: ='SO 401 - Veřejné osvětlení'!F34 -> 0 | BT53: 1 | BV53: IMPORT | BW53: {197c937c-df41-4486-b9e5-b251eaad785e} | BX53: {29d6876a-e372-4632-b540-125152389ab9} | CM53: 2
A54: / | D54: SO 801 | J54: Sadové úpravy | AG54: ='SO 801 - Sadové úpravy'!J27 -> 0 | AN54: =SUM(AG54,AT54) -> 0 | AQ54: STA | AS54: 0 | AT54: =ROUND(SUM(AV54:AW54),2) -> 0 | AU54: ='SO 801 - Sadové úpravy'!P79 -> 0 | AV54: ='SO 801 - Sadové úpravy'!J30 -> 0 | AW54: ='SO 801 - Sadové úpravy'!J31 -> 0 | AX54: ='SO 801 - Sadové úpravy'!J32 -> 0 | AY54: ='SO 801 - Sadové úpravy'!J33 -> 0 | AZ54: ='SO 801 - Sadové úpravy'!F30 -> 0 | BA54: ='SO 801 - Sadové úpravy'!F31 -> 0 | BB54: ='SO 801 - Sadové úpravy'!F32 -> 0 | BC54: ='SO 801 - Sadové úpravy'!F33 -> 0 | BD54: ='SO 801 - Sadové úpravy'!F34 -> 0 | BT54: 1 | BV54: IMPORT | BW54: {748483b5-3a60-46d6-942a-48a931c0084b} | BX54: {29d6876a-e372-4632-b540-125152389ab9} | CM54: 2
A55: / | D55: SO 901 | J55: Plochy pro denní rekreaci obyvatel | AG55: ='SO 901 - Plochy pro denní...'!J27 -> 0 | AN55: =SUM(AG55,AT55) -> 0 | AQ55: STA | AS55: 0 | AT55: =ROUND(SUM(AV55:AW55),2) -> 0 | AU55: ='SO 901 - Plochy pro denní...'!P78 -> 0 | AV55: ='SO 901 - Plochy pro denní...'!J30 -> 0 | AW55: ='SO 901 - Plochy pro denní...'!J31 -> 0 | AX55: ='SO 901 - Plochy pro denní...'!J32 -> 0 | AY55: ='SO 901 - Plochy pro denní...'!J33 -> 0 | AZ55: ='SO 901 - Plochy pro denní...'!F30 -> 0 | BA55: ='SO 901 - Plochy pro denní...'!F31 -> 0 | BB55: ='SO 901 - Plochy pro denní...'!F32 -> 0 | BC55: ='SO 901 - Plochy pro denní...'!F33 -> 0 | BD55: ='SO 901 - Plochy pro denní...'!F34 -> 0 | BT55: 1 | BV55: IMPORT | BW55: {6b8677f3-4f69-4029-960c-e20b5fb52dee} | BX55: {29d6876a-e372-4632-b540-125152389ab9} | CM55: 2
A56: / | D56: VRN | J56: Vedlejší rozpočtové náklady | AG56: ='VRN - Vedlejší rozpočtové...'!J27 -> 0 | AN56: =SUM(AG56,AT56) -> 0 | AQ56: STA | AS56: 0 | AT56: =ROUND(SUM(AV56:AW56),2) -> 0 | AU56: ='VRN - Vedlejší rozpočtové...'!P80 -> 0 | AV56: ='VRN - Vedlejší rozpočtové...'!J30 -> 0 | AW56: ='VRN - Vedlejší rozpočtové...'!J31 -> 0 | AX56: ='VRN - Vedlejší rozpočtové...'!J32 -> 0 | AY56: ='VRN - Vedlejší rozpočtové...'!J33 -> 0 | AZ56: ='VRN - Vedlejší rozpočtové...'!F30 -> 0 | BA56: ='VRN - Vedlejší rozpočtové...'!F31 -> 0 | BB56: ='VRN - Vedlejší rozpočtové...'!F32 -> 0 | BC56: ='VRN - Vedlejší rozpočtové...'!F33 -> 0 | BD56: ='VRN - Vedlejší rozpočtové...'!F34 -> 0 | BT56: 1 | BV56: IMPORT | BW56: {33f0890b-4e64-4523-b306-ea0d2e0551e2} | BX56: {29d6876a-e372-4632-b540-125152389ab9} | CM56: 2

Sheet SO 101 - Rekonstrukce mís...
D1: List obsahuje: | F1: 1) Krycí list soupisu | G1: 2) Rekapitulace | J1: 3) Soupis prací | K1: Zpět na list: | L1: Rekapitulace stavby
AT2: {3175b65d-047e-4d1c-850d-445df84b7b57} | AZ2: bour_dlazeb | BC2: 1963,19 | BD2: 2
AT3: 2 | AZ3: bourani_obrubiku_1 | BC3: 1862 | BD3: 2
D4: KRYCÍ LIST SOUPISU | M4: v --- níže se nacházejí doplnkové a pomocné údaje k sestavám --- v | AT4: False | AZ4: Dlažba_60 | BB4: m2 | BC4: 1741,29 | BD4: 2
AZ5: dlažba_80 | BC5: 847,1 | BD5: 2
D6: Stavba: | AZ6: DN150 | BC6: 19,85 | BD6: 2
E7: ='Rekapitulace stavby'!K6 -> Regenerace sídliště 9.května - II. Etapa | AZ7: Frez_asfalt | BC7: 2648,5 | BD7: 2
D8: Objekt: | AZ8: chod_predlaz | BC8: 1857,44 | BD8: 2
E9: SO 101 - Rekonstrukce místních komunikací a zpevněných ploch | AZ9: Násyp | BC9: 12 | BD9: 2
AZ10: obrub_novy | BC10: 1474,3 | BD10: 2
D11: KSO: | I11: CC-CZ: | AZ11: Odhumusování | BB11: m3 | BC11: 45,5 | BD11: 2
D12: Místo: | I12: Datum: | J12: ='Rekapitulace stavby'!AN8 -> 13. 1. 2017 | AZ12: Odkop | BB12: m3 | BC12: 604,156 | BD12: 2
AZ13: Odkop3 | BB13: m3 | BC13: 362,494 | BD13: 2
D14: Zadavatel: | I14: IČ: | J14: =IF('Rekapitulace stavby'!AN10="","",'Rekapitulace stavby'!AN10) | AZ14: Odkop4 | BC14: 241,662 | BD14: 2
E15: =IF('Rekapitulace stavby'!E11="","",'Rekapitulace stavby'!E11) | I15: DIČ: | J15: =IF('Rekapitulace stavby'!AN11="","",'Rekapitulace stavby'!AN11) | AZ15: Ohumus_rovina | BB15: m2 | BC15: 34 | BD15: 2
AZ16: Ohumus_svah | BB16: m2 | BC16: 19,7 | BD16: 2
D17: Uchazeč: | I17: IČ: | J17: =IF('Rekapitulace stavby'!AN13="Vyplň údaj","",IF('Rekapitulace stavby'!AN13="","",'Rekapitulace stavby'!AN13)) | AZ17: Rýhy | BC17: 22,255 | BD17: 2
E18: =IF('Rekapitulace stavby'!E14="Vyplň údaj","",IF('Rekapitulace stavby'!E14="","",'Rekapitulace stavby'!E14)) | I18: DIČ: | J18: =IF('Rekapitulace stavby'!AN14="Vyplň údaj","",IF('Rekapitulace stavby'!AN14="","",'Rekapitulace stavby'!AN14)) | AZ18: Rýhy3 | BC18: 13,353 | BD18: 2
AZ19: Rýhy4 | BC19: 8,902 | BD19: 2
D20: Projektant: | I20: IČ: | J20: =IF('Rekapitulace stavby'!AN16="","",'Rekapitulace stavby'!AN16) | AZ20: Sil_obruby | BC20: 603,5 | BD20: 2
E21: =IF('Rekapitulace stavby'!E17="","",'Rekapitulace stavby'!E17) | I21: DIČ: | J21: =IF('Rekapitulace stavby'!AN17="","",'Rekapitulace stavby'!AN17) | AZ21: Suť | BB21: t | BC21: 2328,127 | BD21: 2
AZ22: Vodorov_znač125 | BC22: 58,3 | BD22: 2
D23: Poznámka: | AZ23: Vodorov_znač500 | BC23: 14,5 | BD23: 2
AZ24: Vpusti | BC24: 7 | BD24: 2
D27: Cena bez DPH | J27: =ROUND(J83,2) -> 0
F29: Základ daně | I29: Sazba daně | J29: Výše daně
D30: DPH | E30: základní | F30: =ROUND(SUM(BE83:BE466), 2) -> 0 | I30: 0.21 | J30: =ROUND(ROUND((SUM(BE83:BE466)), 2)*I30, 2) -> 0
E31: snížená | F31: =ROUND(SUM(BF83:BF466), 2) -> 0 | I31: 0.15 | J31: =ROUND(ROUND((SUM(BF83:BF466)), 2)*I31, 2) -> 0
E32: zákl. přenesená | F32: =ROUND(SUM(BG83:BG466), 2) -> 0 | I32: 0.21 | J32: 0
E33: sníž. přenesená | F33: =ROUND(SUM(BH83:BH466), 2) -> 0 | I33: 0.15 | J33: 0
E34: nulová | F34: =ROUND(SUM(BI83:BI466), 2) -> 0 | I34: 0 | J34: 0
D36: Cena s DPH | G36: v | H36: CZK | J36: =SUM(J27:J34) -> 0
C42: REKAPITULACE ČLENĚNÍ SOUPISU PRACÍ
C44: Stavba:
E45: =E7 -> Regenerace sídliště 9.května - II. Etapa
C46: Objekt:
E47: =E9 -> SO 101 - Rekonstrukce místních komunikací a zpevněných ploch
C49: Místo: | F49: =F12 | I49: Datum: | J49: =IF(J12="","",J12) -> 13. 1. 2017
C51: Zadavatel: | F51: =E15 | I51: Projektant: | J51: =E21
C52: Uchazeč: | F52: =IF(E18="","",E18)
C54: Kód dílu - Popis | J54: Cena celkem [CZK]
C56: Náklady soupisu celkem | J56: =J83 -> 0 | AU56: -1
D57: HSV - Práce a dodávky HSV | J57: =J84 -> 0
D58: 1 - Zemní práce | J58: =J85 -> 0
D59: 4 - Vodorovné konstrukce | J59: =J225 -> 0
D60: 5 - Komunikace | J60: =J231 -> 0
D61: 8 - Trubní vedení | J61: =J344 -> 0
D62: 9 - Ostatní konstrukce a práce-bourání | J62: =J373 -> 0
D63: 997 - Přesun sutě | J63: =J459 -> 0
C70: SOUPIS PRACÍ
C72: Stavba:
E73: =E7 -> Regenerace sídliště 9.května - II. Etapa
C74: Objekt:
E75: =E9 -> SO 101 - Rekonstrukce místních komunikací a zpevněných ploch
C77: Místo: | F77: =F12 | I77: Datum: | J77: =IF(J12="","",J12) -> 13. 1. 2017
C79: Zadavatel: | F79: =E15 | I79: Projektant: | J79: =E21
C80: Uchazeč: | F80: =IF(E18="","",E18)
C82: PČ | D82: Typ | E82: Kód | F82: Popis | G82: MJ | H82: Množství | I82: J.cena [CZK] | J82: Cena celkem [CZK] | K82: Cenová soustava | M82: Poznámka | N82: DPH | O82: J. Nh [h] | P82: Nh celkem [h] | Q82: J. hmotnost_x000D_ [t] | R82: Hmotnost_x000D_ celkem [t] | S82: J. suť [t] | T82: Suť Celkem [t]
C83: Náklady soupisu celkem | J83: =BK83 -> 0 | P83: =P84 -> 0 | R83: =R84 -> 5084.1459 | T83: =T84 -> 3203.247 | AT83: D | AU83: -1 | BK83: =BK84 -> 0
D84: D | E84: HSV | F84: Práce a dodávky HSV | J84: =BK84 -> 0 | P84: =P85+P225+P231+P344+P373+P459 -> 0 | R84: =R85+R225+R231+R344+R373+R459 -> 5084.1459 | T84: =T85+T225+T231+T344+T373+T459 -> 3203.247 | AR84: 1 | AT84: D | AU84: 0 | AY84: ROZPOCET | BK84: =BK85+BK225+BK231+BK344+BK373+BK459 -> 0
D85: D | E85: 1 | F85: Zemní práce | J85: =BK85 -> 0 | P85: =SUM(P86:P224) -> 0 | R85: =SUM(R86:R224) -> 30.577165 | T85: =SUM(T86:T224) -> 3150.277 | AR85: 1 | AT85: D | AU85: 1 | AY85: ROZPOCET | BK85: =SUM(BK86:BK224) -> 0
C86: 1 | D86: K | E86: 113106121 | F86: Rozebrání dlažeb a dílců komunikací pro pěší, vozovek a ploch s přemístěním hmot na skládku na vzdálenost do 3 m nebo s naložením na dopravní prostředek komunikací pro pěší s ložem z kameniva nebo živice a s výplní spár z betonových nebo kameninových dlaždic, desek nebo tvarovek | G86: m2 | H86: 1963.19 | J86: =ROUND(I86*H86,2) -> 0 | K86: CS ÚRS 2016 01 | N86: základní | P86: =O86*H86 -> 0 | Q86: 0 | R86: =Q86*H86 -> 0 | S86: 0.255 | T86: =S86*H86 -> 500.61345 | AR86: 4 | AT86: K | AU86: 2 | AY86: ROZPOCET | BE86: =IF(N86="základní",J86,0) -> 0 | BF86: =IF(N86="snížená",J86,0) -> 0 | BG86: =IF(N86="zákl. přenesená",J86,0) -> 0 | BH86: =IF(N86="sníž. přenesená",J86,0) -> 0 | BI86: =IF(N86="nulová",J86,0) -> 0 | BJ86: 1 | BK86: =ROUND(I86*H86,2) -> 0 | BL86: 4 | BM86: 1997537883
D87: PSC | F87: Poznámka k souboru cen:_x000D_ 1. Ceny jsou určeny pro rozebrání dlažeb a dílců včetně odstranění lože. 2. Ceny nelze použít pro rozebrání dlažeb uložených do betonového lože nebo do cementové malty, které se oceňují cenami -7130, -7131, -7132, -7170, -7171, -7172, -7230, -7231 a -7232 Odstranění podkladů nebo krytů z betonu prostého; pro volbu těchto cen je rozhodující tloušťka bourané dlažby včetně lože nebo podkladu. 3. U komunikací pro pěší a u vozovek a ploch menších než 50 m2 jsou ceny určeny pro ruční rozebrání, u vozovek a ploch větších než 50 m2 pro rozebrání strojní. 4. V cenách nejsou započteny náklady na popř. nutné očištění: a) dlažebních nebo mozaikových kostek, které se oceňuje cenami souboru cen 979 07-11 Očištění vybouraných dlažebních kostek části C01 tohoto ceníku, b) betonových, kameninových nebo kamenných desek nebo dlaždic, které se oceňuje cenami souboru cen 979 0 . - . . Očištění vybouraných obrubníků, krajníků, desek nebo dílců části C01 tohoto ceníku. 5. Přemístění vybourané dlažby včetně materiálu z lože a spár na vzdálenost přes 3 m se oceňuje cenami souborů cen 997 22-1 Vodorovná doprava suti a vybouraných hmot. | AT87: PSC | AU87: 2
D88: VV | F88: "Rozebrání stávající plochy podél ulice Mahenova ze zatravňovacích dlaždic" | AT88: VV | AU88: 2 | AV88: 1 | AW88: True | AX88: 0 | AY88: ROZPOCET
D89: VV | F89: 23,5*4,5 | H89: 105.75 | AT89: VV | AU89: 2 | AV89: 2 | AW89: True | AX89: 0 | AY89: ROZPOCET
D90: VV | F90: "Rozebrání stávajícíhc dlážděných ploch" | AT90: VV | AU90: 2 | AV90: 1 | AW90: True | AX90: 0 | AY90: ROZPOCET
D91: VV | E91: chod_predlaz | F91: 1361,44+496 | H91: 1857.44 | AT91: VV | AU91: 2 | AV91: 2 | AW91: True | AX91: 0 | AY91: ROZPOCET
D92: VV | F92: Součet | H92: 1963.19 | AT92: VV | AU92: 2 | AV92: 4 | AW92: True | AX92: 1 | AY92: ROZPOCET
C93: 2 | D93: K | E93: 113107212 | F93: Odstranění podkladů nebo krytů s přemístěním hmot na skládku na vzdálenost do 20 m nebo s naložením na dopravní prostředek v ploše jednotlivě přes 200 m2 z kameniva těženého, o tl. vrstvy přes 100 do 200 mm | G93: m2 | H93: 1857.44 | J93: =ROUND(I93*H93,2) -> 0 | K93: CS ÚRS 2016 01 | N93: základní | P93: =O93*H93 -> 0 | Q93: 0 | R93: =Q93*H93 -> 0 | S93: 0.24 | T93: =S93*H93 -> 445.7856 | AR93: 4 | AT93: K | AU93: 2 | AY93: ROZPOCET | BE93: =IF(N93="základní",J93,0) -> 0 | BF93: =IF(N93="snížená",J93,0) -> 0 | BG93: =IF(N93="zákl. přenesená",J93,0) -> 0 | BH93: =IF(N93="sníž. přenesená",J93,0) -> 0 | BI93: =IF(N93="nulová",J93,0) -> 0 | BJ93: 1 | BK93: =ROUND(I93*H93,2) -> 0 | BL93: 4 | BM93: 2131058469
D94: PSC | F94: Poznámka k souboru cen:_x000D_ 1. Pro volbu cen z hlediska množství se uvažuje každá souvisle odstraňovaná plocha krytu nebo podkladu stejného druhu samostatně. Odstraňuje-li se několik vrstev vozovky najednou, jednotlivé vrstvy se oceňují každá samostatně. 2. U ploch menších než 50 m2 jsou ceny určeny pro ruční odstranění podkladu nebo krytu, u ploch větších než 50 m2 pro odstranění strojní. 3. Ceny a) –7111 až –7113, –7151 až -7153 a -7211 až -7213 lze použít i pro odstranění podkladů nebo krytů ze štěrkopísku, škváry, strusky nebo z mechanicky zpevněných zemin, b) –7121 až 7125, –7161 až -7165 a -7221 až -7225 lze použít i pro odstranění podkladů nebo krytů ze zemin stabilizovaných vápnem, c) –7130 až -7132, –7170 až -7172 a –7230 až -7232 lze použít i pro odstranění dlažeb uložených do betonového lože a dlažeb z mozaiky uložených do cementové malty nebo podkladu ze zemin stabilizovaných cementem. 4. Ceny lze použít i pro odstranění podkladů nebo krytů opatřených živičnými postřiky nebo nátěry. 5. Ceny odlišené podle tloušťky (např. do 100 mm, do 200 mm) jsou určeny vždy pro celou tloušťku jednotlivých konstrukcí. 6. V cenách nejsou započteny náklady na zarovnání styčných ploch betonových nebo živičných podkladů nebo krytů, které se oceňuje cenami souboru cen 919 73- Zarovnání styčné plochy části C 01 tohoto ceníku. Množství suti získané ze zarovnání styčných ploch podkladů nebo krytů se zvlášť nevykazuje. 7. Přemístění vybouraného materiálu na vzdálenost přes 3 m u cen –7111 až –7146 a přes 20 m u cen -7151 až –7246 se oceňuje cenami souborů cen 997 22-1 Vodorovná doprava suti. 8. Ceny -714 . , -718 . a –724 . nelze použít pro odstranění podkladu nebo krytu frézováním. | AT94: PSC | AU94: 2
D95: VV | F95: "Odstranění stávajícího podklau pod předlážděnými chodníky" | AT95: VV | AU95: 2 | AV95: 1 | AW95: True | AX95: 0 | AY95: ROZPOCET
D96: VV | F96: chod_predlaz | H96: 1857.44 | AT96: VV | AU96: 2 | AV96: 2 | AW96: True | AX96: 1 | AY96: ROZPOCET
C97: 3 | D97: K | E97: 113107224 | F97: Odstranění podkladů nebo krytů s přemístěním hmot na skládku na vzdálenost do 20 m nebo s naložením na dopravní prostředek v ploše jednotlivě přes 200 m2 z kameniva hrubého drceného, o tl. vrstvy přes 300 do 400 mm | G97: m2 | H97: 2648.5 | J97: =ROUND(I97*H97,2) -> 0 | K97: CS ÚRS 2016 01 | N97: základní | P97: =O97*H97 -> 0 | Q97: 0 | R97: =Q97*H97 -> 0 | S97: 0.56 | T97: =S97*H97 -> 1483.16 | AR97: 4 | AT97: K | AU97: 2 | AY97: ROZPOCET | BE97: =IF(N97="základní",J97,0) -> 0 | BF97: =IF(N97="snížená",J97,0) -> 0 | BG97: =IF(N97="zákl. přenesená",J97,0) -> 0 | BH97: =IF(N97="sníž. přenesená",J97,0) -> 0 | BI97: =IF(N97="nulová",J97,0) -> 0 | BJ97: 1 | BK97: =ROUND(I97*H97,2) -> 0 | BL97: 4 | BM97: -233910383
D98: PSC | F98: Poznámka k souboru cen:_x000D_ 1. Pro volbu cen z hlediska množství se uvažuje každá souvisle odstraňovaná plocha krytu nebo podkladu stejného druhu samostatně. Odstraňuje-li se několik vrstev vozovky najednou, jednotlivé vrstvy se oceňují každá samostatně. 2. U ploch menších než 50 m2 jsou ceny určeny pro ruční odstranění podkladu nebo krytu, u ploch větších než 50 m2 pro odstranění strojní. 3. Ceny a) –7111 až –7113, –7151 až -7153 a -7211 až -7213 lze použít i pro odstranění podkladů nebo krytů ze štěrkopísku, škváry, strusky nebo z mechanicky zpevněných zemin, b) –7121 až 7125, –7161 až -7165 a -7221 až -7225 lze použít i pro odstranění podkladů nebo krytů ze zemin stabilizovaných vápnem, c) –7130 až -7132, –7170 až -7172 a –7230 až -7232 lze použít i pro odstranění dlažeb uložených do betonového lože a dlažeb z mozaiky uložených do cementové malty nebo podkladu ze zemin stabilizovaných cementem. 4. Ceny lze použít i pro odstranění podkladů nebo krytů opatřených živičnými postřiky nebo nátěry. 5. Ceny odlišené podle tloušťky (např. do 100 mm, do 200 mm) jsou určeny vždy pro celou tloušťku jednotlivých konstrukcí. 6. V cenách nejsou započteny náklady na zarovnání styčných ploch betonových nebo živičných podkladů nebo krytů, které se oceňuje cenami souboru cen 919 73- Zarovnání styčné plochy části C 01 tohoto ceníku. Množství suti získané ze zarovnání styčných ploch podkladů nebo krytů se zvlášť nevykazuje. 7. Přemístění vybouraného materiálu na vzdálenost přes 3 m u cen –7111 až –7146 a přes 20 m u cen -7151 až –7246 se oceňuje cenami souborů cen 997 22-1 Vodorovná doprava suti. 8. Ceny -714 . , -718 . a –724 . nelze použít pro odstranění podkladu nebo krytu frézováním. | AT98: PSC | AU98: 2
D99: VV | F99: "Ul. Boženy Němcové (2318,50 m²)"2318,50 | H99: 2318.5 | AT99: VV | AU99: 2 | AV99: 2 | AW99: True | AX99: 0 | AY99: ROZPOCET
D100: VV | F100: "Ul. Vaškova (330 m²)"330 | H100: 330 | AT100: VV | AU100: 2 | AV100: 2 | AW100: True | AX100: 0 | AY100: ROZPOCET
D101: VV | E101: Odstr_podkl_kom | F101: Součet | H101: 2648.5 | AT101: VV | AU101: 2 | AV101: 4 | AW101: True | AX101: 1 | AY101: ROZPOCET
C102: 4 | D102: K | E102: 113154323 | F102: Frézování živičného podkladu nebo krytu s naložením na dopravní prostředek plochy přes 1 000 do 10 000 m2 bez překážek v trase pruhu šířky do 1 m, tloušťky vrstvy 50 mm | G102: m2 | H102: 2648.5 | J102: =ROUND(I102*H102,2) -> 0 | K102: CS ÚRS 2016 01 | N102: základní | P102: =O102*H102 -> 0 | Q102: 5e-05 | R102: =Q102*H102 -> 0.132425 | S102: 0.128 | T102: =S102*H102 -> 339.008 | AR102: 4 | AT102: K | AU102: 2 | AY102: ROZPOCET | BE102: =IF(N102="základní",J102,0) -> 0 | BF102: =IF(N102="snížená",J102,0) -> 0 | BG102: =IF(N102="zákl. přenesená",J102,0) -> 0 | BH102: =IF(N102="sníž. přenesená",J102,0) -> 0 | BI102: =IF(N102="nulová",J102,0) -> 0 | BJ102: 1 | BK102: =ROUND(I102*H102,2) -> 0 | BL102: 4 | BM102: -414887064
D103: VV | F103: "Ul. Boženy Němcové (2318,50 m²)"2318,50 | H103: 2318.5 | AT103: VV | AU103: 2 | AV103: 2 | AW103: True | AX103: 0 | AY103: ROZPOCET
D104: VV | F104: "Ul. Vaškova (330 m²)"330 | H104: 330 | AT104: VV | AU104: 2 | AV104: 2 | AW104: True | AX104: 0 | AY104: ROZPOCET
D105: VV | E105: Frez_asfalt | F105: Součet | H105: 2648.5 | AT105: VV | AU105: 2 | AV105: 4 | AW105: True | AX105: 1 | AY105: ROZPOCET
C106: 5 | D106: K | E106: 113202111 | F106: Vytrhání obrub s vybouráním lože, s přemístěním hmot na skládku na vzdálenost do 3 m nebo s naložením na dopravní prostředek z krajníků nebo obrubníků stojatých | G106: m | H106: 1862 | J106: =ROUND(I106*H106,2) -> 0 | K106: CS ÚRS 2016 01 | N106: základní | P106: =O106*H106 -> 0 | Q106: 0 | R106: =Q106*H106 -> 0 | S106: 0.205 | T106: =S106*H106 -> 381.71 | AR106: 4 | AT106: K | AU106: 2 | AY106: ROZPOCET | BE106: =IF(N106="základní",J106,0) -> 0 | BF106: =IF(N106="snížená",J106,0) -> 0 | BG106: =IF(N106="zákl. přenesená",J106,0) -> 0 | BH106: =IF(N106="sníž. přenesená",J106,0) -> 0 | BI106: =IF(N106="nulová",J106,0) -> 0 | BJ106: 1 | BK106: =ROUND(I106*H106,2) -> 0 | BL106: 4 | BM106: -822719119
D107: VV | F107: "vytrhání stávajících obrubníku chodníkových" | AT107: VV | AU107: 2 | AV107: 1 | AW107: True | AX107: 0 | AY107: ROZPOCET
D108: VV | F108: "planimetrováno " | AT108: VV | AU108: 2 | AV108: 1 | AW108: True | AX108: 0 | AY108: ROZPOCET
D109: VV | F109: (496+249+96+110+60+105+45+110) | H109: 1271 | AT109: VV | AU109: 2 | AV109: 2 | AW109: True | AX109: 0 | AY109: ROZPOCET
D110: VV | F110: "vytrhání obrubníků silničních" | AT110: VV | AU110: 2 | AV110: 1 | AW110: True | AX110: 0 | AY110: ROZPOCET
D111: VV | F111: "podél ulice Mahenova" | AT111: VV | AU111: 2 | AV111: 1 | AW111: True | AX111: 0 | AY111: ROZPOCET
D112: VV | F112: 93*2 | H112: 186 | AT112: VV | AU112: 2 | AV112: 2 | AW112: True | AX112: 0 | AY112: ROZPOCET
D113: VV | F113: "podél ulice Vaškova" | AT113: VV | AU113: 2 | AV113: 1 | AW113: True | AX113: 0 | AY113: ROZPOCET
D114: VV | F114: 110 | H114: 110 | AT114: VV | AU114: 2 | AV114: 2 | AW114: True | AX114: 0 | AY114: ROZPOCET
D115: VV | F115: "podél ulice Boženy Němcové" | AT115: VV | AU115: 2 | AV115: 1 | AW115: True | AX115: 0 | AY115: ROZPOCET
D116: VV | F116: 295 | H116: 295 | AT116: VV | AU116: 2 | AV116: 2 | AW116: True | AX116: 0 | AY116: ROZPOCET
D117: VV | E117: bourani_obrubiku_1 | F117: Součet | H117: 1862 | AT117: VV | AU117: 2 | AV117: 4 | AW117: True | AX117: 1 | AY117: ROZPOCET
C118: 6 | D118: K | E118: 122102202 | F118: Odkopávky a prokopávky nezapažené pro silnice objemu do 1000 m3 v hornině tř. 1 a 2 | G118: m3 | H118: 45.5 | J118: =ROUND(I118*H118,2) -> 0 | N118: základní | P118: =O118*H118 -> 0 | Q118: 0 | R118: =Q118*H118 -> 0 | S118: 0 | T118: =S118*H118 -> 0 | AR118: 4 | AT118: K | AU118: 2 | AY118: ROZPOCET | BE118: =IF(N118="základní",J118,0) -> 0 | BF118: =IF(N118="snížená",J118,0) -> 0 | BG118: =IF(N118="zákl. přenesená",J118,0) -> 0 | BH118: =IF(N118="sníž. přenesená",J118,0) -> 0 | BI118: =IF(N118="nulová",J118,0) -> 0 | BJ118: 1 | BK118: =ROUND(I118*H118,2) -> 0 | BL118: 4 | BM118: 61549172
D119: VV | F119: "odhumusování pro nové chodníky - tl. 200mm" | AT119: VV | AU119: 2 | AV119: 1 | AW119: True | AX119: 0 | AY119: ROZPOCET
D120: VV | F120: "CHK1-3" 22,5 | H120: 22.5 | AT120: VV | AU120: 2 | AV120: 2 | AW120: True | AX120: 0 | AY120: ROZPOCET
D121: VV | F121: "CH-F1" 23,0 | H121: 23 | AT121: VV | AU121: 2 | AV121: 2 | AW121: True | AX121: 0 | AY121: ROZPOCET
D122: VV | E122: Odhumusování | F122: Součet | H122: 45.5 | AT122: VV | AU122: 2 | AV122: 4 | AW122: True | AX122: 1 | AY122: ROZPOCET
C123: 7 | D123: K | E123: 122202202 | F123: Odkopávky a prokopávky nezapažené pro silnice objemu do 1000 m3 v hornině tř. 3 | G123: m3 | H123: 362.494 | J123: =ROUND(I123*H123,2) -> 0 | N123: základní | P123: =O123*H123 -> 0 | Q123: 0 | R123: =Q123*H123 -> 0 | S123: 0 | T123: =S123*H123 -> 0 | AR123: 4 | AT123: K | AU123: 2 | AY123: ROZPOCET | BE123: =IF(N123="základní",J123,0) -> 0 | BF123: =IF(N123="snížená",J123,0) -> 0 | BG123: =IF(N123="zákl. přenesená",J123,0) -> 0 | BH123: =IF(N123="sníž. přenesená",J123,0) -> 0 | BI123: =IF(N123="nulová",J123,0) -> 0 | BJ123: 1 | BK123: =ROUND(I123*H123,2) -> 0 | BL123: 4 | BM123: -929517131
D124: VV | F124: "odkopávky pro nové konstrukce netrasované" | AT124: VV | AU124: 2 | AV124: 1 | AW124: True | AX124: 0 | AY124: ROZPOCET
...

Sheet SO 401 - Veřejné osvětlení
D1: List obsahuje: | F1: 1) Krycí list soupisu | G1: 2) Rekapitulace | J1: 3) Soupis prací | K1: Zpět na list: | L1: Rekapitulace stavby
AT2: {197c937c-df41-4486-b9e5-b251eaad785e}
AT3: 2
D4: KRYCÍ LIST SOUPISU | M4: v --- níže se nacházejí doplnkové a pomocné údaje k sestavám --- v | AT4: False
D6: Stavba:
E7: ='Rekapitulace stavby'!K6 -> Regenerace sídliště 9.května - II. Etapa
D8: Objekt:
E9: SO 401 - Veřejné osvětlení
D11: KSO: | I11: CC-CZ:
D12: Místo: | I12: Datum: | J12: ='Rekapitulace stavby'!AN8 -> 13. 1. 2017
D14: Zadavatel: | I14: IČ: | J14: =IF('Rekapitulace stavby'!AN10="","",'Rekapitulace stavby'!AN10)
E15: =IF('Rekapitulace stavby'!E11="","",'Rekapitulace stavby'!E11) | I15: DIČ: | J15: =IF('Rekapitulace stavby'!AN11="","",'Rekapitulace stavby'!AN11)
D17: Uchazeč: | I17: IČ: | J17: =IF('Rekapitulace stavby'!AN13="Vyplň údaj","",IF('Rekapitulace stavby'!AN13="","",'Rekapitulace stavby'!AN13))
E18: =IF('Rekapitulace stavby'!E14="Vyplň údaj","",IF('Rekapitulace stavby'!E14="","",'Rekapitulace stavby'!E14)) | I18: DIČ: | J18: =IF('Rekapitulace stavby'!AN14="Vyplň údaj","",IF('Rekapitulace stavby'!AN14="","",'Rekapitulace stavby'!AN14))
D20: Projektant: | I20: IČ: | J20: =IF('Rekapitulace stavby'!AN16="","",'Rekapitulace stavby'!AN16)
E21: =IF('Rekapitulace stavby'!E17="","",'Rekapitulace stavby'!E17) | I21: DIČ: | J21: =IF('Rekapitulace stavby'!AN17="","",'Rekapitulace stavby'!AN17)
D23: Poznámka:
D27: Cena bez DPH | J27: =ROUND(J76,2) -> 0
F29: Základ daně | I29: Sazba daně | J29: Výše daně
D30: DPH | E30: základní | F30: =ROUND(SUM(BE76:BE78), 2) -> 0 | I30: 0.21 | J30: =ROUND(ROUND((SUM(BE76:BE78)), 2)*I30, 2) -> 0
E31: snížená | F31: =ROUND(SUM(BF76:BF78), 2) -> 0 | I31: 0.15 | J31: =ROUND(ROUND((SUM(BF76:BF78)), 2)*I31, 2) -> 0
E32: zákl. přenesená | F32: =ROUND(SUM(BG76:BG78), 2) -> 0 | I32: 0.21 | J32: 0
E33: sníž. přenesená | F33: =ROUND(SUM(BH76:BH78), 2) -> 0 | I33: 0.15 | J33: 0
E34: nulová | F34: =ROUND(SUM(BI76:BI78), 2) -> 0 | I34: 0 | J34: 0
D36: Cena s DPH | G36: v | H36: CZK | J36: =SUM(J27:J34) -> 0
C42: REKAPITULACE ČLENĚNÍ SOUPISU PRACÍ
C44: Stavba:
E45: =E7 -> Regenerace sídliště 9.května - II. Etapa
C46: Objekt:
E47: =E9 -> SO 401 - Veřejné osvětlení
C49: Místo: | F49: =F12 | I49: Datum: | J49: =IF(J12="","",J12) -> 13. 1. 2017
C51: Zadavatel: | F51: =E15 | I51: Projektant: | J51: =E21
C52: Uchazeč: | F52: =IF(E18="","",E18)
C54: Kód dílu - Popis | J54: Cena celkem [CZK]
C56: Náklady soupisu celkem | J56: =J76 -> 0 | AU56: -1
C63: SOUPIS PRACÍ
C65: Stavba:
E66: =E7 -> Regenerace sídliště 9.května - II. Etapa
C67: Objekt:
E68: =E9 -> SO 401 - Veřejné osvětlení
C70: Místo: | F70: =F12 | I70: Datum: | J70: =IF(J12="","",J12) -> 13. 1. 2017
C72: Zadavatel: | F72: =E15 | I72: Projektant: | J72: =E21
C73: Uchazeč: | F73: =IF(E18="","",E18)
C75: PČ | D75: Typ | E75: Kód | F75: Popis | G75: MJ | H75: Množství | I75: J.cena [CZK] | J75: Cena celkem [CZK] | K75: Cenová soustava | M75: Poznámka | N75: DPH | O75: J. Nh [h] | P75: Nh celkem [h] | Q75: J. hmotnost_x000D_ [t] | R75: Hmotnost_x000D_ celkem [t] | S75: J. suť [t] | T75: Suť Celkem [t]
C76: Náklady soupisu celkem | J76: =BK76 -> 0 | P76: =SUM(P77:P78) -> 0 | R76: =SUM(R77:R78) -> 0 | T76: =SUM(T77:T78) -> 0 | AT76: D | AU76: -1 | BK76: =SUM(BK77:BK78) -> 0
C77: 1 | D77: K | E77: R 1 | F77: Kompletní stavební úpravy VO (viz. samostatný výkaz výměr) | H77: 1 | J77: =ROUND(I77*H77,2) -> 0 | N77: základní | P77: =O77*H77 -> 0 | Q77: 0 | R77: =Q77*H77 -> 0 | S77: 0 | T77: =S77*H77 -> 0 | AR77: 4 | AT77: K | AU77: 0 | AY77: ROZPOCET | BE77: =IF(N77="základní",J77,0) -> 0 | BF77: =IF(N77="snížená",J77,0) -> 0 | BG77: =IF(N77="zákl. přenesená",J77,0) -> 0 | BH77: =IF(N77="sníž. přenesená",J77,0) -> 0 | BI77: =IF(N77="nulová",J77,0) -> 0 | BJ77: 1 | BK77: =ROUND(I77*H77,2) -> 0 | BL77: 4 | BM77: 381831752
D78: VV | F78: 1 | H78: 1 | AT78: VV | AU78: 0 | AV78: 2 | AW78: True | AX78: 1 | AY78: ROZPOCET

Sheet SO 801 - Sadové úpravy
D1: List obsahuje: | F1: 1) Krycí list soupisu | G1: 2) Rekapitulace | J1: 3) Soupis prací | K1: Zpět na list: | L1: Rekapitulace stavby
AT2: {748483b5-3a60-46d6-942a-48a931c0084b}
AT3: 2
D4: KRYCÍ LIST SOUPISU | M4: v --- níže se nacházejí doplnkové a pomocné údaje k sestavám --- v | AT4: False
D6: Stavba:
E7: ='Rekapitulace stavby'!K6 -> Regenerace sídliště 9.května - II. Etapa
D8: Objekt:
E9: SO 801 - Sadové úpravy
D11: KSO: | I11: CC-CZ:
D12: Místo: | I12: Datum: | J12: ='Rekapitulace stavby'!AN8 -> 13. 1. 2017
D14: Zadavatel: | I14: IČ: | J14: =IF('Rekapitulace stavby'!AN10="","",'Rekapitulace stavby'!AN10)
E15: =IF('Rekapitulace stavby'!E11="","",'Rekapitulace stavby'!E11) | I15: DIČ: | J15: =IF('Rekapitulace stavby'!AN11="","",'Rekapitulace stavby'!AN11)
D17: Uchazeč: | I17: IČ: | J17: =IF('Rekapitulace stavby'!AN13="Vyplň údaj","",IF('Rekapitulace stavby'!AN13="","",'Rekapitulace stavby'!AN13))
E18: =IF('Rekapitulace stavby'!E14="Vyplň údaj","",IF('Rekapitulace stavby'!E14="","",'Rekapitulace stavby'!E14)) | I18: DIČ: | J18: =IF('Rekapitulace stavby'!AN14="Vyplň údaj","",IF('Rekapitulace stavby'!AN14="","",'Rekapitulace stavby'!AN14))
D20: Projektant: | I20: IČ: | J20: =IF('Rekapitulace stavby'!AN16="","",'Rekapitulace stavby'!AN16)
E21: =IF('Rekapitulace stavby'!E17="","",'Rekapitulace stavby'!E17) | I21: DIČ: | J21: =IF('Rekapitulace stavby'!AN17="","",'Rekapitulace stavby'!AN17)
D23: Poznámka:
D27: Cena bez DPH | J27: =ROUND(J79,2) -> 0
F29: Základ daně | I29: Sazba daně | J29: Výše daně
D30: DPH | E30: základní | F30: =ROUND(SUM(BE79:BE162), 2) -> 0 | I30: 0.21 | J30: =ROUND(ROUND((SUM(BE79:BE162)), 2)*I30, 2) -> 0
E31: snížená | F31: =ROUND(SUM(BF79:BF162), 2) -> 0 | I31: 0.15 | J31: =ROUND(ROUND((SUM(BF79:BF162)), 2)*I31, 2) -> 0
E32: zákl. přenesená | F32: =ROUND(SUM(BG79:BG162), 2) -> 0 | I32: 0.21 | J32: 0
E33: sníž. přenesená | F33: =ROUND(SUM(BH79:BH162), 2) -> 0 | I33: 0.15 | J33: 0
E34: nulová | F34: =ROUND(SUM(BI79:BI162), 2) -> 0 | I34: 0 | J34: 0
D36: Cena s DPH | G36: v | H36: CZK | J36: =SUM(J27:J34) -> 0
C42: REKAPITULACE ČLENĚNÍ SOUPISU PRACÍ
C44: Stavba:
E45: =E7 -> Regenerace sídliště 9.května - II. Etapa
C46: Objekt:
E47: =E9 -> SO 801 - Sadové úpravy
C49: Místo: | F49: =F12 | I49: Datum: | J49: =IF(J12="","",J12) -> 13. 1. 2017
C51: Zadavatel: | F51: =E15 | I51: Projektant: | J51: =E21
C52: Uchazeč: | F52: =IF(E18="","",E18)
C54: Kód dílu - Popis | J54: Cena celkem [CZK]
C56: Náklady soupisu celkem | J56: =J79 -> 0 | AU56: -1
D57: HSV - Práce a dodávky HSV | J57: =J80 -> 0
D58: 1 - Zemní práce | J58: =J81 -> 0
D59: 998 - Přesun hmot | J59: =J161 -> 0
C66: SOUPIS PRACÍ
C68: Stavba:
E69: =E7 -> Regenerace sídliště 9.května - II. Etapa
C70: Objekt:
E71: =E9 -> SO 801 - Sadové úpravy
C73: Místo: | F73: =F12 | I73: Datum: | J73: =IF(J12="","",J12) -> 13. 1. 2017
C75: Zadavatel: | F75: =E15 | I75: Projektant: | J75: =E21
C76: Uchazeč: | F76: =IF(E18="","",E18)
C78: PČ | D78: Typ | E78: Kód | F78: Popis | G78: MJ | H78: Množství | I78: J.cena [CZK] | J78: Cena celkem [CZK] | K78: Cenová soustava | M78: Poznámka | N78: DPH | O78: J. Nh [h] | P78: Nh celkem [h] | Q78: J. hmotnost_x000D_ [t] | R78: Hmotnost_x000D_ celkem [t] | S78: J. suť [t] | T78: Suť Celkem [t]
C79: Náklady soupisu celkem | J79: =BK79 -> 0 | P79: =P80 -> 0 | R79: =R80 -> 0.02738 | T79: =T80 -> 0 | AT79: D | AU79: -1 | BK79: =BK80 -> 0
D80: D | E80: HSV | F80: Práce a dodávky HSV | J80: =BK80 -> 0 | P80: =P81+P161 -> 0 | R80: =R81+R161 -> 0.02738 | T80: =T81+T161 -> 0 | AR80: 1 | AT80: D | AU80: 0 | AY80: ROZPOCET | BK80: =BK81+BK161 -> 0
D81: D | E81: 1 | F81: Zemní práce | J81: =BK81 -> 0 | P81: =SUM(P82:P160) -> 0 | R81: =SUM(R82:R160) -> 0.02738 | T81: =SUM(T82:T160) -> 0 | AR81: 1 | AT81: D | AU81: 1 | AY81: ROZPOCET | BK81: =SUM(BK82:BK160) -> 0
C82: 1 | D82: K | E82: 111251111 | F82: Drcení ořezaných větví strojně - (štěpkování) o průměru větví do 100 mm | G82: m3 | H82: 48 | J82: =ROUND(I82*H82,2) -> 0 | K82: CS ÚRS 2017 01 | N82: základní | P82: =O82*H82 -> 0 | Q82: 0 | R82: =Q82*H82 -> 0 | S82: 0 | T82: =S82*H82 -> 0 | AR82: 4 | AT82: K | AU82: 2 | AY82: ROZPOCET | BE82: =IF(N82="základní",J82,0) -> 0 | BF82: =IF(N82="snížená",J82,0) -> 0 | BG82: =IF(N82="zákl. přenesená",J82,0) -> 0 | BH82: =IF(N82="sníž. přenesená",J82,0) -> 0 | BI82: =IF(N82="nulová",J82,0) -> 0 | BJ82: 1 | BK82: =ROUND(I82*H82,2) -> 0 | BL82: 4 | BM82: -686826563
D83: VV | F83: "Štěkování větví na místě a jejich následný odvoz na místo určené investorem" | AT83: VV | AU83: 2 | AV83: 1 | AW83: True | AX83: 0 | AY83: ROZPOCET
D84: VV | F84: "- do areálu Tech. SLužeb Jeseník" | AT84: VV | AU84: 2 | AV84: 1 | AW84: True | AX84: 0 | AY84: ROZPOCET
D85: VV | F85: 24*2 | H85: 48 | AT85: VV | AU85: 2 | AV85: 2 | AW85: True | AX85: 1 | AY85: ROZPOCET
C86: 2 | D86: K | E86: 112151118 | F86: Pokácení stromu směrové v celku s odřezáním kmene a s odvětvením průměru kmene do 900 mm | G86: kus | H86: 24 | J86: =ROUND(I86*H86,2) -> 0 | K86: CS ÚRS 2017 01 | N86: základní | P86: =O86*H86 -> 0 | Q86: 0 | R86: =Q86*H86 -> 0 | S86: 0 | T86: =S86*H86 -> 0 | AR86: 4 | AT86: K | AU86: 2 | AY86: ROZPOCET | BE86: =IF(N86="základní",J86,0) -> 0 | BF86: =IF(N86="snížená",J86,0) -> 0 | BG86: =IF(N86="zákl. přenesená",J86,0) -> 0 | BH86: =IF(N86="sníž. přenesená",J86,0) -> 0 | BI86: =IF(N86="nulová",J86,0) -> 0 | BJ86: 1 | BK86: =ROUND(I86*H86,2) -> 0 | BL86: 4 | BM86: 460625512
D87: VV | F87: "kácení tromů v rámyi etapy č.II"24 | H87: 24 | AT87: VV | AU87: 2 | AV87: 2 | AW87: True | AX87: 1 | AY87: ROZPOCET
C88: 3 | D88: K | E88: 112201118 | F88: Odstranění pařezu v rovině nebo na svahu do 1:5 o průměru pařezu na řezné ploše do 900 mm | G88: kus | H88: 24 | J88: =ROUND(I88*H88,2) -> 0 | K88: CS ÚRS 2017 01 | N88: základní | P88: =O88*H88 -> 0 | Q88: 0 | R88: =Q88*H88 -> 0 | S88: 0 | T88: =S88*H88 -> 0 | AR88: 4 | AT88: K | AU88: 2 | AY88: ROZPOCET | BE88: =IF(N88="základní",J88,0) -> 0 | BF88: =IF(N88="snížená",J88,0) -> 0 | BG88: =IF(N88="zákl. přenesená",J88,0) -> 0 | BH88: =IF(N88="sníž. přenesená",J88,0) -> 0 | BI88: =IF(N88="nulová",J88,0) -> 0 | BJ88: 1 | BK88: =ROUND(I88*H88,2) -> 0 | BL88: 4 | BM88: -469117929
D89: VV | F89: 24 | H89: 24 | AT89: VV | AU89: 2 | AV89: 2 | AW89: True | AX89: 1 | AY89: ROZPOCET
C90: 4 | D90: K | E90: 162301414 | F90: Vodorovné přemístění větví, kmenů nebo pařezů s naložením, složením a dopravou do 5000 m kmenů stromů listnatých, průměru do 900 mm | G90: kus | H90: 24 | J90: =ROUND(I90*H90,2) -> 0 | K90: CS ÚRS 2017 01 | N90: základní | P90: =O90*H90 -> 0 | Q90: 0 | R90: =Q90*H90 -> 0 | S90: 0 | T90: =S90*H90 -> 0 | AR90: 4 | AT90: K | AU90: 2 | AY90: ROZPOCET | BE90: =IF(N90="základní",J90,0) -> 0 | BF90: =IF(N90="snížená",J90,0) -> 0 | BG90: =IF(N90="zákl. přenesená",J90,0) -> 0 | BH90: =IF(N90="sníž. přenesená",J90,0) -> 0 | BI90: =IF(N90="nulová",J90,0) -> 0 | BJ90: 1 | BK90: =ROUND(I90*H90,2) -> 0 | BL90: 4 | BM90: -722644787
D91: VV | F91: 24 | H91: 24 | AT91: VV | AU91: 2 | AV91: 2 | AW91: True | AX91: 1 | AY91: ROZPOCET
C92: 5 | D92: K | E92: 162301424 | F92: Vodorovné přemístění větví, kmenů nebo pařezů s naložením, složením a dopravou do 5000 m pařezů kmenů, průměru do 900 mm | G92: kus | H92: 24 | J92: =ROUND(I92*H92,2) -> 0 | K92: CS ÚRS 2017 01 | N92: základní | P92: =O92*H92 -> 0 | Q92: 0 | R92: =Q92*H92 -> 0 | S92: 0 | T92: =S92*H92 -> 0 | AR92: 4 | AT92: K | AU92: 2 | AY92: ROZPOCET | BE92: =IF(N92="základní",J92,0) -> 0 | BF92: =IF(N92="snížená",J92,0) -> 0 | BG92: =IF(N92="zákl. přenesená",J92,0) -> 0 | BH92: =IF(N92="sníž. přenesená",J92,0) -> 0 | BI92: =IF(N92="nulová",J92,0) -> 0 | BJ92: 1 | BK92: =ROUND(I92*H92,2) -> 0 | BL92: 4 | BM92: 1580485927
D93: VV | F93: 24 | H93: 24 | AT93: VV | AU93: 2 | AV93: 2 | AW93: True | AX93: 1 | AY93: ROZPOCET
C94: 6 | D94: K | E94: 162301914 | F94: Vodorovné přemístění větví, kmenů nebo pařezů s naložením, složením a dopravou Příplatek k cenám za každých dalších i započatých 5000 m přes 5000 m kmenů stromů listnatých, o průměru do 900 mm | G94: kus | H94: 24 | J94: =ROUND(I94*H94,2) -> 0 | K94: CS ÚRS 2017 01 | N94: základní | P94: =O94*H94 -> 0 | Q94: 0 | R94: =Q94*H94 -> 0 | S94: 0 | T94: =S94*H94 -> 0 | AR94: 4 | AT94: K | AU94: 2 | AY94: ROZPOCET | BE94: =IF(N94="základní",J94,0) -> 0 | BF94: =IF(N94="snížená",J94,0) -> 0 | BG94: =IF(N94="zákl. přenesená",J94,0) -> 0 | BH94: =IF(N94="sníž. přenesená",J94,0) -> 0 | BI94: =IF(N94="nulová",J94,0) -> 0 | BJ94: 1 | BK94: =ROUND(I94*H94,2) -> 0 | BL94: 4 | BM94: 709148459
D95: VV | F95: 24 | H95: 24 | AT95: VV | AU95: 2 | AV95: 2 | AW95: True | AX95: 1 | AY95: ROZPOCET
C96: 7 | D96: K | E96: 162301924 | F96: Vodorovné přemístění větví, kmenů nebo pařezů s naložením, složením a dopravou Příplatek k cenám za každých dalších i započatých 5000 m přes 5000 m pařezů kmenů, průměru do 900 mm | G96: kus | H96: 24 | J96: =ROUND(I96*H96,2) -> 0 | K96: CS ÚRS 2017 01 | N96: základní | P96: =O96*H96 -> 0 | Q96: 0 | R96: =Q96*H96 -> 0 | S96: 0 | T96: =S96*H96 -> 0 | AR96: 4 | AT96: K | AU96: 2 | AY96: ROZPOCET | BE96: =IF(N96="základní",J96,0) -> 0 | BF96: =IF(N96="snížená",J96,0) -> 0 | BG96: =IF(N96="zákl. přenesená",J96,0) -> 0 | BH96: =IF(N96="sníž. přenesená",J96,0) -> 0 | BI96: =IF(N96="nulová",J96,0) -> 0 | BJ96: 1 | BK96: =ROUND(I96*H96,2) -> 0 | BL96: 4 | BM96: -502885222
D97: VV | F97: 24 | H97: 24 | AT97: VV | AU97: 2 | AV97: 2 | AW97: True | AX97: 1 | AY97: ROZPOCET
C98: 8 | D98: K | E98: 162601102 | F98: Vodorovné přemístění výkopku nebo sypaniny po suchu na obvyklém dopravním prostředku, bez naložení výkopku, avšak se složením bez rozhrnutí z horniny tř. 1 až 4 na vzdálenost přes 4 000 do 5 000 m | G98: m3 | H98: 22.5 | J98: =ROUND(I98*H98,2) -> 0 | K98: CS ÚRS 2016 01 | N98: základní | P98: =O98*H98 -> 0 | Q98: 0 | R98: =Q98*H98 -> 0 | S98: 0 | T98: =S98*H98 -> 0 | AR98: 4 | AT98: K | AU98: 2 | AY98: ROZPOCET | BE98: =IF(N98="základní",J98,0) -> 0 | BF98: =IF(N98="snížená",J98,0) -> 0 | BG98: =IF(N98="zákl. přenesená",J98,0) -> 0 | BH98: =IF(N98="sníž. přenesená",J98,0) -> 0 | BI98: =IF(N98="nulová",J98,0) -> 0 | BJ98: 1 | BK98: =ROUND(I98*H98,2) -> 0 | BL98: 4 | BM98: -1788735089
D99: PSC | F99: Poznámka k souboru cen:_x000D_ 1. Ceny nelze použít, předepisuje-li projekt přemístit výkopek na místo nepřístupné obvyklým dopravním prostředkům; toto přemístění se oceňuje individuálně. 2. V cenách jsou započteny i náhrady za jízdu loženého vozidla v terénu ve výkopišti nebo na násypišti. 3. V cenách nejsou započteny náklady na rozhrnutí výkopku na násypišti; toto rozhrnutí se oceňuje cenami souboru cen 171 . 0- . . Uložení sypaniny do násypů a 171 20-1201Uložení sypaniny na skládky. 4. Je-li na dopravní dráze pro vodorovné přemístění nějaká překážka, pro kterou je nutno překládat výkopek z jednoho obvyklého dopravního prostředku na jiný obvyklý dopravní prostředek, oceňuje se toto lomené vodorovné přemístění výkopku v každém úseku samostatně příslušnou cenou tohoto souboru cen a překládání výkopku cenami souboru cen 167 10-3 . Nakládání neulehlého výkopku z hromad s ohledem na ustanovení pozn. číslo 5. 5. Přemísťuje-li se výkopek z dočasných skládek vzdálených do 50 m, neoceňuje se nakládání výkopku, i když se provádí. Toto ustanovení neplatí, vylučuje-li projekt použití dozeru. 6. V cenách vodorovného přemístění sypaniny nejsou započteny náklady na dodávku materiálu, tyto se oceňují ve specifikaci. | AT99: PSC | AU99: 2
D100: VV | F100: "Dovoz ornice z mezideponie" | AT100: VV | AU100: 2 | AV100: 1 | AW100: True | AX100: 0 | AY100: ROZPOCET
D101: VV | F101: 150*0,15 | H101: 22.5 | AT101: VV | AU101: 2 | AV101: 2 | AW101: True | AX101: 1 | AY101: ROZPOCET
C102: 9 | D102: K | E102: 167101101 | F102: Nakládání, skládání a překládání neulehlého výkopku nebo sypaniny nakládání, množství do 100 m3, z hornin tř. 1 až 4 | G102: m3 | H102: 22.5 | J102: =ROUND(I102*H102,2) -> 0 | K102: CS ÚRS 2016 01 | N102: základní | P102: =O102*H102 -> 0 | Q102: 0 | R102: =Q102*H102 -> 0 | S102: 0 | T102: =S102*H102 -> 0 | AR102: 4 | AT102: K | AU102: 2 | AY102: ROZPOCET | BE102: =IF(N102="základní",J102,0) -> 0 | BF102: =IF(N102="snížená",J102,0) -> 0 | BG102: =IF(N102="zákl. přenesená",J102,0) -> 0 | BH102: =IF(N102="sníž. přenesená",J102,0) -> 0 | BI102: =IF(N102="nulová",J102,0) -> 0 | BJ102: 1 | BK102: =ROUND(I102*H102,2) -> 0 | BL102: 4 | BM102: 1152803671
D103: PSC | F103: Poznámka k souboru cen:_x000D_ 1. Ceny -1101, -1151, -1102, -1152, -1103, -1153, jsou určeny pro nakládání, skládání a překládání na obvyklý nebo z obvyklého dopravního prostředku. Pro nakládání z lodi nebo na loď jsou určeny ceny -1105 a -1155. 2. Ceny -1105 a -1155 jsou určeny pro nakládání, překládání a vykládání na vzdálenost a) do 20 m vodorovně; vodorovná vzdálenost se měří od těžnice lodi k těžnici druhé lodi, nebo k těžišti hromady na břehu nebo k těžišti dopravního prostředku na suchu, b) do 4 m svisle; svislá vzdálenost se měří od pracovní hladiny vody k úrovni srovna- ného terénu v místě hromady nebo v místě dopravní plochy pro dopravní prostředek na suchu. Uvedenou svislou vzdálenost 4 m lze zvětšit, a to nejvýše do 6 m, jestliže je vodorovná vzdálenost uvedená v bodu a) kratší než 20 m nejméně o trojnásobek zvětšení výšky přes 4 m. 3. Množství měrných jednotek se určí v rostlém stavu horniny. | AT103: PSC | AU103: 2
D104: VV | F104: "Nakládání ornice pro zpětný dovoz" | AT104: VV | AU104: 2 | AV104: 1 | AW104: True | AX104: 0 | AY104: ROZPOCET
D105: VV | F105: 150*0,15 | H105: 22.5 | AT105: VV | AU105: 2 | AV105: 2 | AW105: True | AX105: 1 | AY105: ROZPOCET
C106: 10 | D106: K | E106: 181301102 | F106: Rozprostření a urovnání ornice v rovině nebo ve svahu sklonu do 1:5 při souvislé ploše do 500 m2, tl. vrstvy přes 100 do 150 mm | G106: m2 | H106: 150 | J106: =ROUND(I106*H106,2) -> 0 | K106: CS ÚRS 2016 01 | N106: základní | P106: =O106*H106 -> 0 | Q106: 0 | R106: =Q106*H106 -> 0 | S106: 0 | T106: =S106*H106 -> 0 | AR106: 4 | AT106: K | AU106: 2 | AY106: ROZPOCET | BE106: =IF(N106="základní",J106,0) -> 0 | BF106: =IF(N106="snížená",J106,0) -> 0 | BG106: =IF(N106="zákl. přenesená",J106,0) -> 0 | BH106: =IF(N106="sníž. přenesená",J106,0) -> 0 | BI106: =IF(N106="nulová",J106,0) -> 0 | BJ106: 1 | BK106: =ROUND(I106*H106,2) -> 0 | BL106: 4 | BM106: -639418621
D107: PSC | F107: Poznámka k souboru cen:_x000D_ 1. V ceně jsou započteny i náklady na případné nutné přemístění hromad nebo dočasných skládek na místo spotřeby ze vzdálenosti do 30 m. 2. V ceně nejsou započteny náklady na získání ornice; toto získání se oceňuje cenami souboru cen 121 10-11 Sejmutí ornice. 3. Případné nakládání ornice, v souvislosti s pozn. č. 3 se oceňuje cenami souboru cen 167 10-11 Nakládání, skládání a překládání neulehlého výkopku nebo sypaniny. 4. Jsou-li hromady nebo dočasné skládky ornice umístěny podle projektu ve vzdálenosti přes 30 m od místa spotřeby, oceňuje se její přemístění cenami souboru cen 162 . 0-1 . Vodorovné přemístění výkopku, přičemž se vzdálenost 30 m, uvedená v popisu cen, neodečítá. | AT107: PSC | AU107: 2
D108: VV | F108: 150 | H108: 150 | AT108: VV | AU108: 2 | AV108: 2 | AW108: True | AX108: 1 | AY108: ROZPOCET
C109: 11 | D109: K | E109: 181411131 | F109: Založení trávníku na půdě předem připravené plochy do 1000 m2 výsevem včetně utažení parkového v rovině nebo na svahu do 1:5 | G109: m2 | H109: 150 | J109: =ROUND(I109*H109,2) -> 0 | K109: CS ÚRS 2016 01 | N109: základní | P109: =O109*H109 -> 0 | Q109: 0 | R109: =Q109*H109 -> 0 | S109: 0 | T109: =S109*H109 -> 0 | AR109: 4 | AT109: K | AU109: 2 | AY109: ROZPOCET | BE109: =IF(N109="základní",J109,0) -> 0 | BF109: =IF(N109="snížená",J109,0) -> 0 | BG109: =IF(N109="zákl. přenesená",J109,0) -> 0 | BH109: =IF(N109="sníž. přenesená",J109,0) -> 0 | BI109: =IF(N109="nulová",J109,0) -> 0 | BJ109: 1 | BK109: =ROUND(I109*H109,2) -> 0 | BL109: 4 | BM109: -1748695487
D110: PSC | F110: Poznámka k souboru cen:_x000D_ 1. V cenách jsou započteny i náklady na pokosení, naložení a odvoz odpadu do 20 km se složením. 2. V cenách -1161 až -1164 nejsou započteny i náklady na zatravňovací textilii. 3. V cenách nejsou započteny náklady na: a) přípravu půdy, b) travní semeno, tyto náklady se oceňují ve specifikaci, c) vypletí a zalévání; tyto práce se oceňují cenami části C02 souborů cen 185 80-42 Vypletí a 185 80-43 Zalití rostlin vodou, d) srovnání terénu, tyto práce se oceňují souborem cen 181 1.-..Plošná úprava terénu. 4. V cenách o sklonu svahu přes 1:1 jsou uvažovány podmínky pro svahy běžně schůdné; bez použití lezeckých technik. V případě použití lezeckých technik se tyto náklady oceňují individuálně. | AT110: PSC | AU110: 2
D111: VV | F111: "Zatravnění ploch" | AT111: VV | AU111: 2 | AV111: 1 | AW111: True | AX111: 0 | AY111: ROZPOCET
D112: VV | F112: 150 | H112: 150 | AT112: VV | AU112: 2 | AV112: 2 | AW112: True | AX112: 1 | AY112: ROZPOCET
C113: 12 | D113: M | E113: 005724100 | F113: Osiva pícnin směsi travní balení obvykle 25 kg parková | G113: kg | H113: 2.25 | J113: =ROUND(I113*H113,2) -> 0 | K113: CS ÚRS 2016 01 | N113: základní | P113: =O113*H113 -> 0 | Q113: 0.001 | R113: =Q113*H113 -> 0.00225 | S113: 0 | T113: =S113*H113 -> 0 | AR113: 8 | AT113: M | AU113: 2 | AY113: ROZPOCET | BE113: =IF(N113="základní",J113,0) -> 0 | BF113: =IF(N113="snížená",J113,0) -> 0 | BG113: =IF(N113="zákl. přenesená",J113,0) -> 0 | BH113: =IF(N113="sníž. přenesená",J113,0) -> 0 | BI113: =IF(N113="nulová",J113,0) -> 0 | BJ113: 1 | BK113: =ROUND(I113*H113,2) -> 0 | BL113: 4 | BM113: 1712753990
D114: VV | F114: 150*0,015 'Přepočtené koeficientem množství | H114: 2.25 | AT114: VV | AU114: 2 | AV114: 2 | AW114: False | AX114: 1 | AY114: ROZPOCET
C115: 13 | D115: K | E115: 183101315 | F115: Hloubení jamek pro vysazování rostlin v zemině tř.1 až 4 s výměnou půdy z 100% v rovině nebo na svahu do 1:5, objemu přes 0,125 do 0,40 m3 | G115: kus | H115: 0.512 | J115: =ROUND(I115*H115,2) -> 0 | K115: CS ÚRS 2014 02 | N115: základní | P115: =O115*H115 -> 0 | Q115: 0 | R115: =Q115*H115 -> 0 | S115: 0 | T115: =S115*H115 -> 0 | AR115: 4 | AT115: K | AU115: 2 | AY115: ROZPOCET | BE115: =IF(N115="základní",J115,0) -> 0 | BF115: =IF(N115="snížená",J115,0) -> 0 | BG115: =IF(N115="zákl. přenesená",J115,0) -> 0 | BH115: =IF(N115="sníž. přenesená",J115,0) -> 0 | BI115: =IF(N115="nulová",J115,0) -> 0 | BJ115: 1 | BK115: =ROUND(I115*H115,2) -> 0 | BL115: 4 | BM115: -63850396
D116: PSC | F116: Poznámka k souboru cen:_x000D_ 1. V cenách jsou započteny i náklady na případné naložení přebytečných výkopků na dopravní prostředek, odvoz na vzdálenost do 20 km a složení výkopků. 2. V cenách nejsou započteny náklady na: a) substrát, tyto náklady se oceňují ve specifikaci, b) uložení odpadu na skládku. 3. V cenách o sklonu svahu přes 1:1 jsou uvažovány podmínky pro svahy běžně schůdné; bez použití lezeckých technik. V případě použití lezeckých technik se tyto náklady oceňují individuálně. | AT116: PSC | AU116: 2
D117: VV | F117: "Jamky pro výsadbu keřů" | AT117: VV | AU117: 2 | AV117: 1 | AW117: True | AX117: 0 | AY117: ROZPOCET
D118: VV | F118: "na ploše - bude vysazeno 2ks soliterních keřů" | AT118: VV | AU118: 2 | AV118: 1 | AW118: True | AX118: 0 | AY118: ROZPOCET
D119: VV | F119: 2*(0,8*0,8*0,4) | H119: 0.512 | AT119: VV | AU119: 2 | AV119: 2 | AW119: True | AX119: 1 | AY119: ROZPOCET
C120: 14 | D120: M | E120: R04-1 | F120: Kůrový substrát (fermentovaná kůra) v poměru 2 : 1. | G120: m3 | H120: 0.512 | J120: =ROUND(I120*H120,2) -> 0 | N120: základní | P120: =O120*H120 -> 0 | Q120: 0 | R120: =Q120*H120 -> 0 | S120: 0 | T120: =S120*H120 -> 0 | AR120: 8 | AT120: M | AU120: 2 | AY120: ROZPOCET | BE120: =IF(N120="základní",J120,0) -> 0 | BF120: =IF(N120="snížená",J120,0) -> 0 | BG120: =IF(N120="zákl. přenesená",J120,0) -> 0 | BH120: =IF(N120="sníž. přenesená",J120,0) -> 0 | BI120: =IF(N120="nulová",J120,0) -> 0 | BJ120: 1 | BK120: =ROUND(I120*H120,2) -> 0 | BL120: 4 | BM120: 1104158737
D121: VV | F121: 2*(0,8*0,8*0,4) | H121: 0.512 | AT121: VV | AU121: 2 | AV121: 2 | AW121: True | AX121: 1 | AY121: ROZPOCET
C122: 15 | D122: M | E122: R04-2 | F122: Rozpusté zásobní hnojivo v dávce 300g/keř. | G122: kg | H122: 0.6 | J122: =ROUND(I122*H122,2) -> 0 | N122: základní | P122: =O122*H122 -> 0 | Q122: 0 | R122: =Q122*H122 -> 0 | S122: 0 | T122: =S122*H122 -> 0 | AR122: 8 | AT122: M | AU122: 2 | AY122: ROZPOCET | BE122: =IF(N122="základní",J122,0) -> 0 | BF122: =IF(N122="snížená",J122,0) -> 0 | BG122: =IF(N122="zákl. přenesená",J122,0) -> 0 | BH122: =IF(N122="sníž. přenesená",J122,0) -> 0 | BI122: =IF(N122="nulová",J122,0) -> 0 | BJ122: 1 | BK122: =ROUND(I122*H122,2) -> 0 | BL122: 4 | BM122: -1896573288
D123: VV | F123: 2*0,3 | H123: 0.6 | AT123: VV | AU123: 2 | AV123: 2 | AW123: True | AX123: 1 | AY123: ROZPOCET
C124: 16 | D124: K | E124: 183101323 | F124: Hloubení jamek pro vysazování rostlin v zemině tř.1 až 4 s výměnou půdy z 100% v rovině nebo na svahu do 1:5, objemu přes 2,00 do 3,00 m3 | G124: kus | H124: 9 | J124: =ROUND(I124*H124,2) -> 0 | K124: CS ÚRS 2014 02 | N124: základní | P124: =O124*H124 -> 0 | Q124: 0 | R124: =Q124*H124 -> 0 | S124: 0 | T124: =S124*H124 -> 0 | AR124: 4 | AT124: K | AU124: 2 | AY124: ROZPOCET | BE124: =IF(N124="základní",J124,0) -> 0 | BF124: =IF(N124="snížená",J124,0) -> 0 | BG124: =IF(N124="zákl. přenesená",J124,0) -> 0 | BH124: =IF(N124="sníž. přenesená",J124,0) -> 0 | BI124: =IF(N124="nulová",J124,0) -> 0 | BJ124: 1 | BK124: =ROUND(I124*H124,2) -> 0 | BL124: 4 | BM124: -781233382
D125: PSC | F125: Poznámka k souboru cen:_x000D_ 1. V cenách jsou započteny i náklady na případné naložení přebytečných výkopků na dopravní prostředek, odvoz na vzdálenost do 20 km a složení výkopků. 2. V cenách nejsou započteny náklady na: a) substrát, tyto náklady se oceňují ve specifikaci, b) uložení odpadu na skládku. 3. V cenách o sklonu svahu přes 1:1 jsou uvažovány podmínky pro svahy běžně schůdné; bez použití lezeckých technik. V případě použití lezeckých technik se tyto náklady oceňují individuálně. | AT125: PSC | AU125: 2
D126: VV | F126: "Náhardní výsadba bude vysazena do jamek | AT126: VV | AU126: 2 | AV126: 1 | AW126: True | AX126: 0 | AY126: ROZPOCET
D127: VV | F127: o rozměru 1,8 m a hloubce 0,7m" | AT127: VV | AU127: 2 | AV127: 1 | AW127: True | AX127: 0 | AY127: ROZPOCET
D128: VV | F128: 9 | H128: 9 | AT128: VV | AU128: 2 | AV128: 2 | AW128: True | AX128: 1 | AY128: ROZPOCET
C129: 17 | D129: M | E129: R02-1 | F129: Kvalitní podornice se štěrkopískem v poměru 3 : 1 | G129: m3 | H129: 10.206 | J129: =ROUND(I129*H129,2) -> 0 | N129: základní | P129: =O129*H129 -> 0 | Q129: 0 | R129: =Q129*H129 -> 0 | S129: 0 | T129: =S129*H129 -> 0 | AR129: 8 | AT129: M | AU129: 2 | AY129: ROZPOCET | BE129: =IF(N129="základní",J129,0) -> 0 | BF129: =IF(N129="snížená",J129,0) -> 0 | BG129: =IF(N129="zákl. přenesená",J129,0) -> 0 | BH129: =IF(N129="sníž. přenesená",J129,0) -> 0 | BI129: =IF(N129="nulová",J129,0) -> 0 | BJ129: 1 | BK129: =ROUND(I129*H129,2) -> 0 | BL129: 4 | BM129: -453812377
D130: VV | F130: "Spodní vrstva výpně jámy pro zasazení stromů" | AT130: VV | AU130: 2 | AV130: 1 | AW130: True | AX130: 0 | AY130: ROZPOCET
D131: VV | F131: 1,134*9 | H131: 10.206 | AT131: VV | AU131: 2 | AV131: 2 | AW131: True | AX131: 1 | AY131: ROZPOCET
...

Sheet SO 901 - Plochy pro denní...
D1: List obsahuje: | F1: 1) Krycí list soupisu | G1: 2) Rekapitulace | J1: 3) Soupis prací | K1: Zpět na list: | L1: Rekapitulace stavby
AT2: {6b8677f3-4f69-4029-960c-e20b5fb52dee}
AT3: 2
D4: KRYCÍ LIST SOUPISU | M4: v --- níže se nacházejí doplnkové a pomocné údaje k sestavám --- v | AT4: False
D6: Stavba:
E7: ='Rekapitulace stavby'!K6 -> Regenerace sídliště 9.května - II. Etapa
D8: Objekt:
E9: SO 901 - Plochy pro denní rekreaci obyvatel
D11: KSO: | I11: CC-CZ:
D12: Místo: | I12: Datum: | J12: ='Rekapitulace stavby'!AN8 -> 13. 1. 2017
D14: Zadavatel: | I14: IČ: | J14: =IF('Rekapitulace stavby'!AN10="","",'Rekapitulace stavby'!AN10)
E15: =IF('Rekapitulace stavby'!E11="","",'Rekapitulace stavby'!E11) | I15: DIČ: | J15: =IF('Rekapitulace stavby'!AN11="","",'Rekapitulace stavby'!AN11)
D17: Uchazeč: | I17: IČ: | J17: =IF('Rekapitulace stavby'!AN13="Vyplň údaj","",IF('Rekapitulace stavby'!AN13="","",'Rekapitulace stavby'!AN13))
E18: =IF('Rekapitulace stavby'!E14="Vyplň údaj","",IF('Rekapitulace stavby'!E14="","",'Rekapitulace stavby'!E14)) | I18: DIČ: | J18: =IF('Rekapitulace stavby'!AN14="Vyplň údaj","",IF('Rekapitulace stavby'!AN14="","",'Rekapitulace stavby'!AN14))
D20: Projektant: | I20: IČ: | J20: =IF('Rekapitulace stavby'!AN16="","",'Rekapitulace stavby'!AN16)
E21: =IF('Rekapitulace stavby'!E17="","",'Rekapitulace stavby'!E17) | I21: DIČ: | J21: =IF('Rekapitulace stavby'!AN17="","",'Rekapitulace stavby'!AN17)
D23: Poznámka:
D27: Cena bez DPH | J27: =ROUND(J78,2) -> 0
F29: Základ daně | I29: Sazba daně | J29: Výše daně
D30: DPH | E30: základní | F30: =ROUND(SUM(BE78:BE100), 2) -> 0 | I30: 0.21 | J30: =ROUND(ROUND((SUM(BE78:BE100)), 2)*I30, 2) -> 0
E31: snížená | F31: =ROUND(SUM(BF78:BF100), 2) -> 0 | I31: 0.15 | J31: =ROUND(ROUND((SUM(BF78:BF100)), 2)*I31, 2) -> 0
E32: zákl. přenesená | F32: =ROUND(SUM(BG78:BG100), 2) -> 0 | I32: 0.21 | J32: 0
E33: sníž. přenesená | F33: =ROUND(SUM(BH78:BH100), 2) -> 0 | I33: 0.15 | J33: 0
E34: nulová | F34: =ROUND(SUM(BI78:BI100), 2) -> 0 | I34: 0 | J34: 0
D36: Cena s DPH | G36: v | H36: CZK | J36: =SUM(J27:J34) -> 0
C42: REKAPITULACE ČLENĚNÍ SOUPISU PRACÍ
C44: Stavba:
E45: =E7 -> Regenerace sídliště 9.května - II. Etapa
C46: Objekt:
E47: =E9 -> SO 901 - Plochy pro denní rekreaci obyvatel
C49: Místo: | F49: =F12 | I49: Datum: | J49: =IF(J12="","",J12) -> 13. 1. 2017
C51: Zadavatel: | F51: =E15 | I51: Projektant: | J51: =E21
C52: Uchazeč: | F52: =IF(E18="","",E18)
C54: Kód dílu - Popis | J54: Cena celkem [CZK]
C56: Náklady soupisu celkem | J56: =J78 -> 0 | AU56: -1
D57: HSV - Práce a dodávky HSV | J57: =J79 -> 0
D58: 9 - Ostatní konstrukce a práce-bourání | J58: =J80 -> 0
C65: SOUPIS PRACÍ
C67: Stavba:
E68: =E7 -> Regenerace sídliště 9.května - II. Etapa
C69: Objekt:
E70: =E9 -> SO 901 - Plochy pro denní rekreaci obyvatel
C72: Místo: | F72: =F12 | I72: Datum: | J72: =IF(J12="","",J12) -> 13. 1. 2017
C74: Zadavatel: | F74: =E15 | I74: Projektant: | J74: =E21
C75: Uchazeč: | F75: =IF(E18="","",E18)
C77: PČ | D77: Typ | E77: Kód | F77: Popis | G77: MJ | H77: Množství | I77: J.cena [CZK] | J77: Cena celkem [CZK] | K77: Cenová soustava | M77: Poznámka | N77: DPH | O77: J. Nh [h] | P77: Nh celkem [h] | Q77: J. hmotnost_x000D_ [t] | R77: Hmotnost_x000D_ celkem [t] | S77: J. suť [t] | T77: Suť Celkem [t]
C78: Náklady soupisu celkem | J78: =BK78 -> 0 | P78: =P79 -> 0 | R78: =R79 -> 12.74974 | T78: =T79 -> 0 | AT78: D | AU78: -1 | BK78: =BK79 -> 0
D79: D | E79: HSV | F79: Práce a dodávky HSV | J79: =BK79 -> 0 | P79: =P80 -> 0 | R79: =R80 -> 12.74974 | T79: =T80 -> 0 | AR79: 1 | AT79: D | AU79: 0 | AY79: ROZPOCET | BK79: =BK80 -> 0
D80: D | E80: 9 | F80: Ostatní konstrukce a práce-bourání | J80: =BK80 -> 0 | P80: =SUM(P81:P100) -> 0 | R80: =SUM(R81:R100) -> 12.74974 | T80: =SUM(T81:T100) -> 0 | AR80: 1 | AT80: D | AU80: 1 | AY80: ROZPOCET | BK80: =SUM(BK81:BK100) -> 0
C81: 1 | D81: K | E81: 936104211 | F81: Montáž odpadkového koše do betonové patky (do ceny jsou započítány veškeré náklady na montáž a osazení košů, včetně odvozů a všech poplatků)_x000D_ _x000D_ Odpadkový koš se stříškou_x000D_ ocelové tělo, opláštění dřevěnými lamelami, popelník s nerezovým zhášečem cigaret; 70l_x000D_ _x000D_ Varianty:tropické dřevo_x000D_ Charakter konstrukce: ocelová konstrukce s dřevěnými lamelami připojenými pomocí šroubových spojů z nerezu_x000D_ Povrchová úprava: ocelová konstrukce je opatřena ochrannou vrstvou zinku a práškovým vypalovacím lakem_x000D_ Nosná kostra: svařenec z výpalků z ocelového plechu tloušťky 4 mm a ocelové trubky 102 × 3,6 mm_x000D_ Opláštění: 28 lamel z masivního dřeva obdélníkového průřezu 35 × 20 mm_x000D_ Vnitřní nádoba: ohýbaný pozinkovaný plech tloušťky 0,8 mm, objem 70 l_x000D_ Další vybavení: nerezový zhášeč cigaret a popelník vestavěný ve vnitřní nádobě, objem 0,5 l_x000D_ zámek s trojhranem 9 mm_x000D_ Kotvení: kotvení pod dlažbu nebo ve zhutněném terénu do betonového základu pomocí závitových tyčí M16_x000D_ Všechny prvky městského mobiliáře musí být řádně ukotveny podle podkladů výrobce, v opačném případě hrozí při neopatrném užívání převrhnutí výrobku, za jehož následky nenese výrobce žádnou odpovědnost._x000D_ Hmotnost: 44 kg_x000D_ Opce: jiná než standardní barva | G81: kus | H81: 9 | J81: =ROUND(I81*H81,2) -> 0 | K81: CS ÚRS 2014 02 | N81: základní | P81: =O81*H81 -> 0 | Q81: 0.07287 | R81: =Q81*H81 -> 0.65583 | S81: 0 | T81: =S81*H81 -> 0 | AR81: 4 | AT81: K | AU81: 2 | AY81: ROZPOCET | BE81: =IF(N81="základní",J81,0) -> 0 | BF81: =IF(N81="snížená",J81,0) -> 0 | BG81: =IF(N81="zákl. přenesená",J81,0) -> 0 | BH81: =IF(N81="sníž. přenesená",J81,0) -> 0 | BI81: =IF(N81="nulová",J81,0) -> 0 | BJ81: 1 | BK81: =ROUND(I81*H81,2) -> 0 | BL81: 4 | BM81: -1042307530
D82: PSC | F82: Poznámka k souboru cen:_x000D_ 1. V ceně-4211 jsou započteny i náklady na zemní práce. 2. V cenách -4212 a -4213 jsou započteny i náklady na upevňovací materiál. 3. V cenách nejsou započteny náklady na dodání odpadkového koše, tyto se oceňují ve specifikaci. | AT82: PSC | AU82: 2
D83: VV | F83: "Koše na odpadky rozmístěné podél chodníků a zpevněných ploch Etapy II. a v klidovém zákoutí" | AT83: VV | AU83: 2 | AV83: 1 | AW83: True | AX83: 0 | AY83: ROZPOCET
D84: VV | F84: "Přesné umístění jednotlivých košů bude upřesněno investorem při stavbě" | AT84: VV | AU84: 2 | AV84: 1 | AW84: True | AX84: 0 | AY84: ROZPOCET
D85: VV | F85: 9 | H85: 9 | AT85: VV | AU85: 2 | AV85: 2 | AW85: True | AX85: 0 | AY85: ROZPOCET
D86: VV | F86: Součet | H86: 9 | AT86: VV | AU86: 2 | AV86: 4 | AW86: True | AX86: 1 | AY86: ROZPOCET
C87: 2 | D87: M | E87: R 005 | F87: Odpadkové koše s oběmem min. 70l | G87: kus | H87: 9 | J87: =ROUND(I87*H87,2) -> 0 | N87: základní | P87: =O87*H87 -> 0 | Q87: 0.07287 | R87: =Q87*H87 -> 0.65583 | S87: 0 | T87: =S87*H87 -> 0 | AR87: 8 | AT87: M | AU87: 2 | AY87: ROZPOCET | BE87: =IF(N87="základní",J87,0) -> 0 | BF87: =IF(N87="snížená",J87,0) -> 0 | BG87: =IF(N87="zákl. přenesená",J87,0) -> 0 | BH87: =IF(N87="sníž. přenesená",J87,0) -> 0 | BI87: =IF(N87="nulová",J87,0) -> 0 | BJ87: 1 | BK87: =ROUND(I87*H87,2) -> 0 | BL87: 4 | BM87: -93362752
C88: 3 | D88: K | E88: 936124112 | F88: Montáž lavičky parkové stabilní se zabetonováním noh, Do ceny jsou započítány veškeré náklady na osazení lavičkek._x000D_ Do ceny jsou započítány i náklady na odstranění stávajííc lavičky a její odvoz na skládku (včetně případného poplatku za uložení na skládku), v případě že se bude jednat o výměnu lavičky. _x000D_ _x000D_ Montáž lavičky parkové stabilní se zabetonováním noh, Do ceny jsou započítány veškeré náklady na osazení lavičkek, jejich dodávku a ukotvení._x000D_ Do ceny jsou započítány i náklady na odstranění stávajííc lavičky a její odvoz na skládku (včetně případného poplatku za uložení na skládku), v případě že se bude jednat o výměnu lavičky. _x000D_ _x000D_ Zinkovaná ocelová nosná kostra opatřena práškovým vypalovacím lakem. Sedák i opěradlo tvoří desky z masivního dřeva nebo úzké lamely ze stejného materiálu, jež jsou skrytě a přitom pevně spojeny s nosnou kostrou, nebo rošt z ocelových či nerezových kulatin. Všechny čtyři nohy lze elegantně kotvit do podkladu._x000D_ _x000D_ Lavička s opěradlem délky 1,5 m_x000D_ _x000D_ Varianty: tropické dřevo_x000D_ Charakter konstrukce: ocelová konstrukce spojená s dřevěnými deskami pomocí šroubových spojů z nerezu_x000D_ Povrchová úprava: ocelová konstrukce bočnic je opatřena ochrannou vrstvou zinku a práškovým vypalovacím lakem_x000D_ Nosná kostra: dvě bočnice svařené z ocelových trubek čtvercového profilu 40 × 40 mm a 20 × 20 mm a výpalků z ocelového plechu tloušťky 5 mm_x000D_ Sedák: 3 desky z masivního dřeva obdélníkového průřezu (110x33 mm) délky 1418 mm_x000D_ Opěradlo: 2 desky z masivního dřeva obdélníkového průřezu (110 x 33mm) délky 1500 mm_x000D_ Kotvení: kotvení pod dlažbu do betonového základu pomocí závitových tyčí M8_x000D_ Všechny prvky městského mobiliáře musí být řádně ukotveny podle podkladů výrobce, v opačném případě hrozí při neopatrném užívání převrhnutí výrobku, za jehož následky nenese výrobce žádnou odpovědnost._x000D_ Hmotnost: 31 kg_x000D_ Opce: jiná než standardní barva_x000D_ | G88: kus | H88: 16 | J88: =ROUND(I88*H88,2) -> 0 | K88: CS ÚRS 2014 02 | N88: základní | P88: =O88*H88 -> 0 | Q88: 0.35744 | R88: =Q88*H88 -> 5.71904 | S88: 0 | T88: =S88*H88 -> 0 | AR88: 4 | AT88: K | AU88: 2 | AY88: ROZPOCET | BE88: =IF(N88="základní",J88,0) -> 0 | BF88: =IF(N88="snížená",J88,0) -> 0 | BG88: =IF(N88="zákl. přenesená",J88,0) -> 0 | BH88: =IF(N88="sníž. přenesená",J88,0) -> 0 | BI88: =IF(N88="nulová",J88,0) -> 0 | BJ88: 1 | BK88: =ROUND(I88*H88,2) -> 0 | BL88: 4 | BM88: -2066430712
D89: PSC | F89: Poznámka k souboru cen:_x000D_ 1. V cenách -4111 a -4112 jsou započteny i náklady na zemní práce s odhozem výkopku na vzdálenost do 3 m. 2. V cenách nejsou započteny náklady na: a) vysekání otvorů pro osazení noh do stávajících konstrukcí; tyto práce se oceňují cenami souboru cen 974 04-25 Vysekání rýh částí B01 katalogu 801-3 Budovy a haly – bourání konstrukcí, b) dodání lavičky, tyto se oceňují ve specifikaci, c) odklizení výkopku, tyto se oceňují cenami části A 01 katalogu 800-1 Zemní práce. | AT89: PSC | AU89: 2
D90: VV | F90: "Zřízení laviček, případná výměna stávaících v rámci etapy č.II a v klidových zákoutích" | AT90: VV | AU90: 2 | AV90: 1 | AW90: True | AX90: 0 | AY90: ROZPOCET
D91: VV | F91: "jednotlivé umístění laviček bude upřesněno při realizaci stavby investorem" | AT91: VV | AU91: 2 | AV91: 1 | AW91: True | AX91: 0 | AY91: ROZPOCET
D92: VV | F92: 16 | H92: 16 | AT92: VV | AU92: 2 | AV92: 2 | AW92: True | AX92: 1 | AY92: ROZPOCET
C93: 4 | D93: M | E93: R 006 | F93: Do ceny jsou započítány i náklady na dodání laviček. | G93: kus | H93: 16 | J93: =ROUND(I93*H93,2) -> 0 | N93: základní | P93: =O93*H93 -> 0 | Q93: 0.35744 | R93: =Q93*H93 -> 5.71904 | S93: 0 | T93: =S93*H93 -> 0 | AR93: 8 | AT93: M | AU93: 2 | AY93: ROZPOCET | BE93: =IF(N93="základní",J93,0) -> 0 | BF93: =IF(N93="snížená",J93,0) -> 0 | BG93: =IF(N93="zákl. přenesená",J93,0) -> 0 | BH93: =IF(N93="sníž. přenesená",J93,0) -> 0 | BI93: =IF(N93="nulová",J93,0) -> 0 | BJ93: 1 | BK93: =ROUND(I93*H93,2) -> 0 | BL93: 4 | BM93: 1709598274
D94: VV | F94: 16 | H94: 16 | AT94: VV | AU94: 2 | AV94: 2 | AW94: True | AX94: 1 | AY94: ROZPOCET
C95: 5 | D95: K | E95: R001 | F95: Do ceny jsou započítány veškeré náklady na osazení lavičky (výkop pro patky, zabetonování patek, odvozy, uložení na skládky, manipulace v rámci stvaby atd.)_x000D_ Označení: Stromová lavice_x000D_ _x000D_ Popis_x000D_ Lavice ke staršímu nebo nově vysazenému stromu._x000D_ Sedáky i opěradla z hranolů 95 x 45 mm, podstavce_x000D_ z profilu 95 x 95 mm. Tlakově impregnovaný severský_x000D_ smrk, na přání tenkovrstvá lazura v odstínu dřeva._x000D_ Kotvení žárově pozinkovanými ocelovými prvky_x000D_ do malé betonové patky, která slouží pouze jako_x000D_ podpěra. Velikost patky podle možností s ohledem na_x000D_ kořeny stromu (zámrzná hloubka)._x000D_ Maximální průměr kmene stromu je 90 cm._x000D_ Detaily_x000D_ Rozměry (d x š x v):_x000D_ 2,4 x 2,1 x 0,85 m_x000D_ Způsob dodání:_x000D_ montáž na místě_x000D_ Připevnění:_x000D_ zabetonováním | G95: kus | H95: 2 | J95: =ROUND(I95*H95,2) -> 0 | N95: základní | P95: =O95*H95 -> 0 | Q95: 0 | R95: =Q95*H95 -> 0 | S95: 0 | T95: =S95*H95 -> 0 | AR95: 4 | AT95: K | AU95: 2 | AY95: ROZPOCET | BE95: =IF(N95="základní",J95,0) -> 0 | BF95: =IF(N95="snížená",J95,0) -> 0 | BG95: =IF(N95="zákl. přenesená",J95,0) -> 0 | BH95: =IF(N95="sníž. přenesená",J95,0) -> 0 | BI95: =IF(N95="nulová",J95,0) -> 0 | BJ95: 1 | BK95: =ROUND(I95*H95,2) -> 0 | BL95: 4 | BM95: 1098044024
D96: VV | F96: "Stromové lavičky v klidových zákoutích" | AT96: VV | AU96: 2 | AV96: 1 | AW96: True | AX96: 0 | AY96: ROZPOCET
D97: VV | F97: 2 | H97: 2 | AT97: VV | AU97: 2 | AV97: 2 | AW97: True | AX97: 1 | AY97: ROZPOCET
C98: 6 | D98: M | E98: R001-1 | F98: Stromová lavička | G98: kus | H98: 2 | J98: =ROUND(I98*H98,2) -> 0 | N98: základní | P98: =O98*H98 -> 0 | Q98: 0 | R98: =Q98*H98 -> 0 | S98: 0 | T98: =S98*H98 -> 0 | AR98: 8 | AT98: M | AU98: 2 | AY98: ROZPOCET | BE98: =IF(N98="základní",J98,0) -> 0 | BF98: =IF(N98="snížená",J98,0) -> 0 | BG98: =IF(N98="zákl. přenesená",J98,0) -> 0 | BH98: =IF(N98="sníž. přenesená",J98,0) -> 0 | BI98: =IF(N98="nulová",J98,0) -> 0 | BJ98: 1 | BK98: =ROUND(I98*H98,2) -> 0 | BL98: 4 | BM98: 876901175
D99: VV | F99: "Dodávky stromové lavičky" | AT99: VV | AU99: 2 | AV99: 1 | AW99: True | AX99: 0 | AY99: ROZPOCET
D100: VV | F100: 2 | H100: 2 | AT100: VV | AU100: 2 | AV100: 2 | AW100: True | AX100: 1 | AY100: ROZPOCET

Sheet VRN - Vedlejší rozpočtové...
D1: List obsahuje: | F1: 1) Krycí list soupisu | G1: 2) Rekapitulace | J1: 3) Soupis prací | K1: Zpět na list: | L1: Rekapitulace stavby
AT2: {33f0890b-4e64-4523-b306-ea0d2e0551e2}
AT3: 2
D4: KRYCÍ LIST SOUPISU | M4: v --- níže se nacházejí doplnkové a pomocné údaje k sestavám --- v | AT4: False
D6: Stavba:
E7: ='Rekapitulace stavby'!K6 -> Regenerace sídliště 9.května - II. Etapa
D8: Objekt:
E9: VRN - Vedlejší rozpočtové náklady
D11: KSO: | I11: CC-CZ:
D12: Místo: | I12: Datum: | J12: ='Rekapitulace stavby'!AN8 -> 13. 1. 2017
D14: Zadavatel: | I14: IČ: | J14: =IF('Rekapitulace stavby'!AN10="","",'Rekapitulace stavby'!AN10)
E15: =IF('Rekapitulace stavby'!E11="","",'Rekapitulace stavby'!E11) | I15: DIČ: | J15: =IF('Rekapitulace stavby'!AN11="","",'Rekapitulace stavby'!AN11)
D17: Uchazeč: | I17: IČ: | J17: =IF('Rekapitulace stavby'!AN13="Vyplň údaj","",IF('Rekapitulace stavby'!AN13="","",'Rekapitulace stavby'!AN13))
E18: =IF('Rekapitulace stavby'!E14="Vyplň údaj","",IF('Rekapitulace stavby'!E14="","",'Rekapitulace stavby'!E14)) | I18: DIČ: | J18: =IF('Rekapitulace stavby'!AN14="Vyplň údaj","",IF('Rekapitulace stavby'!AN14="","",'Rekapitulace stavby'!AN14))
D20: Projektant: | I20: IČ: | J20: =IF('Rekapitulace stavby'!AN16="","",'Rekapitulace stavby'!AN16)
E21: =IF('Rekapitulace stavby'!E17="","",'Rekapitulace stavby'!E17) | I21: DIČ: | J21: =IF('Rekapitulace stavby'!AN17="","",'Rekapitulace stavby'!AN17)
D23: Poznámka:
D27: Cena bez DPH | J27: =ROUND(J80,2) -> 0
F29: Základ daně | I29: Sazba daně | J29: Výše daně
D30: DPH | E30: základní | F30: =ROUND(SUM(BE80:BE125), 2) -> 0 | I30: 0.21 | J30: =ROUND(ROUND((SUM(BE80:BE125)), 2)*I30, 2) -> 0
E31: snížená | F31: =ROUND(SUM(BF80:BF125), 2) -> 0 | I31: 0.15 | J31: =ROUND(ROUND((SUM(BF80:BF125)), 2)*I31, 2) -> 0
E32: zákl. přenesená | F32: =ROUND(SUM(BG80:BG125), 2) -> 0 | I32: 0.21 | J32: 0
E33: sníž. přenesená | F33: =ROUND(SUM(BH80:BH125), 2) -> 0 | I33: 0.15 | J33: 0
E34: nulová | F34: =ROUND(SUM(BI80:BI125), 2) -> 0 | I34: 0 | J34: 0
D36: Cena s DPH | G36: v | H36: CZK | J36: =SUM(J27:J34) -> 0
C42: REKAPITULACE ČLENĚNÍ SOUPISU PRACÍ
C44: Stavba:
E45: =E7 -> Regenerace sídliště 9.května - II. Etapa
C46: Objekt:
E47: =E9 -> VRN - Vedlejší rozpočtové náklady
C49: Místo: | F49: =F12 | I49: Datum: | J49: =IF(J12="","",J12) -> 13. 1. 2017
C51: Zadavatel: | F51: =E15 | I51: Projektant: | J51: =E21
C52: Uchazeč: | F52: =IF(E18="","",E18)
C54: Kód dílu - Popis | J54: Cena celkem [CZK]
C56: Náklady soupisu celkem | J56: =J80 -> 0 | AU56: -1
D57: HSV - HSV | J57: =J81 -> 0
D58: ORN - Ostatní rozpočtové náklady | J58: =J82 -> 0
D59: VRN - Vedlejší rozpočtové náklady | J59: =J104 -> 0
D60: VRN1 - Průzkumné, geodetické a projektové práce | J60: =J105 -> 0
C67: SOUPIS PRACÍ
C69: Stavba:
E70: =E7 -> Regenerace sídliště 9.května - II. Etapa
C71: Objekt:
E72: =E9 -> VRN - Vedlejší rozpočtové náklady
C74: Místo: | F74: =F12 | I74: Datum: | J74: =IF(J12="","",J12) -> 13. 1. 2017
C76: Zadavatel: | F76: =E15 | I76: Projektant: | J76: =E21
C77: Uchazeč: | F77: =IF(E18="","",E18)
C79: PČ | D79: Typ | E79: Kód | F79: Popis | G79: MJ | H79: Množství | I79: J.cena [CZK] | J79: Cena celkem [CZK] | K79: Cenová soustava | M79: Poznámka | N79: DPH | O79: J. Nh [h] | P79: Nh celkem [h] | Q79: J. hmotnost_x000D_ [t] | R79: Hmotnost_x000D_ celkem [t] | S79: J. suť [t] | T79: Suť Celkem [t]
C80: Náklady soupisu celkem | J80: =BK80 -> 0 | P80: =P81+P104 -> 0 | R80: =R81+R104 -> 0 | T80: =T81+T104 -> 0 | AT80: D | AU80: -1 | BK80: =BK81+BK104 -> 0
D81: D | E81: HSV | F81: HSV | J81: =BK81 -> 0 | P81: =P82 -> 0 | R81: =R82 -> 0 | T81: =T82 -> 0 | AR81: 1 | AT81: D | AU81: 0 | AY81: ROZPOCET | BK81: =BK82 -> 0
D82: D | E82: ORN | F82: Ostatní rozpočtové náklady | J82: =BK82 -> 0 | P82: =SUM(P83:P103) -> 0 | R82: =SUM(R83:R103) -> 0 | T82: =SUM(T83:T103) -> 0 | AR82: 1 | AT82: D | AU82: 1 | AY82: ROZPOCET | BK82: =SUM(BK83:BK103) -> 0
C83: 1 | D83: K | E83: ORN 1 | F83: Hlavní tituly průvodních činností a nákladů průzkumné, geodetické a projektové práce geodetické práce | G83: komplet | H83: 1 | J83: =ROUND(I83*H83,2) -> 0 | N83: základní | P83: =O83*H83 -> 0 | Q83: 0 | R83: =Q83*H83 -> 0 | S83: 0 | T83: =S83*H83 -> 0 | AR83: 1024 | AT83: K | AU83: 2 | AY83: ROZPOCET | BE83: =IF(N83="základní",J83,0) -> 0 | BF83: =IF(N83="snížená",J83,0) -> 0 | BG83: =IF(N83="zákl. přenesená",J83,0) -> 0 | BH83: =IF(N83="sníž. přenesená",J83,0) -> 0 | BI83: =IF(N83="nulová",J83,0) -> 0 | BJ83: 1 | BK83: =ROUND(I83*H83,2) -> 0 | BL83: 1024 | BM83: -595301003
C84: 2 | D84: K | E84: ORN 10 | F84: Zajištění souhlasů se zvláštním užíváním komunikací. | G84: kompl | H84: 1 | J84: =ROUND(I84*H84,2) -> 0 | N84: základní | P84: =O84*H84 -> 0 | Q84: 0 | R84: =Q84*H84 -> 0 | S84: 0 | T84: =S84*H84 -> 0 | AR84: 1024 | AT84: K | AU84: 2 | AY84: ROZPOCET | BE84: =IF(N84="základní",J84,0) -> 0 | BF84: =IF(N84="snížená",J84,0) -> 0 | BG84: =IF(N84="zákl. přenesená",J84,0) -> 0 | BH84: =IF(N84="sníž. přenesená",J84,0) -> 0 | BI84: =IF(N84="nulová",J84,0) -> 0 | BJ84: 1 | BK84: =ROUND(I84*H84,2) -> 0 | BL84: 1024 | BM84: 684682771
C85: 3 | D85: K | E85: ORN 11 | F85: Zajištění veškerých předepsaných atestů, zkoušek a revizí dle příslušných norem a dalších předpisů a nařízení platných v ČR, kterými bude prokázáno dosažení předepsané kvality a parametrů dokončeného díla a které nejsou obsaženy v položkovém seznamu prací. | G85: kompl | H85: 1 | J85: =ROUND(I85*H85,2) -> 0 | N85: základní | P85: =O85*H85 -> 0 | Q85: 0 | R85: =Q85*H85 -> 0 | S85: 0 | T85: =S85*H85 -> 0 | AR85: 1024 | AT85: K | AU85: 2 | AY85: ROZPOCET | BE85: =IF(N85="základní",J85,0) -> 0 | BF85: =IF(N85="snížená",J85,0) -> 0 | BG85: =IF(N85="zákl. přenesená",J85,0) -> 0 | BH85: =IF(N85="sníž. přenesená",J85,0) -> 0 | BI85: =IF(N85="nulová",J85,0) -> 0 | BJ85: 1 | BK85: =ROUND(I85*H85,2) -> 0 | BL85: 1024 | BM85: -1032079906
C86: 4 | D86: K | E86: ORN 12 | F86: Evidence likvidace odpadů ve stanoveném rozsahu dle zákona č. 185/2001 Sb., o odpadech, v platném znění | G86: kompl | H86: 1 | J86: =ROUND(I86*H86,2) -> 0 | N86: základní | P86: =O86*H86 -> 0 | Q86: 0 | R86: =Q86*H86 -> 0 | S86: 0 | T86: =S86*H86 -> 0 | AR86: 1024 | AT86: K | AU86: 2 | AY86: ROZPOCET | BE86: =IF(N86="základní",J86,0) -> 0 | BF86: =IF(N86="snížená",J86,0) -> 0 | BG86: =IF(N86="zákl. přenesená",J86,0) -> 0 | BH86: =IF(N86="sníž. přenesená",J86,0) -> 0 | BI86: =IF(N86="nulová",J86,0) -> 0 | BJ86: 1 | BK86: =ROUND(I86*H86,2) -> 0 | BL86: 1024 | BM86: -878694945
C87: 5 | D87: K | E87: ORN 13 | F87: řed zahájením prací spolupráce s koordinátorem bezpečnosti a ochrany zdraví při práci na staveništi /zajišťuje stavebník/ a vypracování plánu bezpečnosti a ochrany zdraví při práci na staveništi dle aktuálních skutečností. | G87: kompl | H87: 1 | J87: =ROUND(I87*H87,2) -> 0 | N87: základní | P87: =O87*H87 -> 0 | Q87: 0 | R87: =Q87*H87 -> 0 | S87: 0 | T87: =S87*H87 -> 0 | AR87: 1024 | AT87: K | AU87: 2 | AY87: ROZPOCET | BE87: =IF(N87="základní",J87,0) -> 0 | BF87: =IF(N87="snížená",J87,0) -> 0 | BG87: =IF(N87="zákl. přenesená",J87,0) -> 0 | BH87: =IF(N87="sníž. přenesená",J87,0) -> 0 | BI87: =IF(N87="nulová",J87,0) -> 0 | BJ87: 1 | BK87: =ROUND(I87*H87,2) -> 0 | BL87: 1024 | BM87: 740191778
C88: 6 | D88: K | E88: ORN 14 | F88: Fotodokumentace celkového průběhu výstavby, včetně zajištění fotodokumentace veškerých konstrukcí, které budou v průběhu výstavby skryty nebo zakryty. Zajištění fotodokumentace stávajícího stavu přístupových komunikací. | G88: kompl | H88: 1 | J88: =ROUND(I88*H88,2) -> 0 | N88: základní | P88: =O88*H88 -> 0 | Q88: 0 | R88: =Q88*H88 -> 0 | S88: 0 | T88: =S88*H88 -> 0 | AR88: 1024 | AT88: K | AU88: 2 | AY88: ROZPOCET | BE88: =IF(N88="základní",J88,0) -> 0 | BF88: =IF(N88="snížená",J88,0) -> 0 | BG88: =IF(N88="zákl. přenesená",J88,0) -> 0 | BH88: =IF(N88="sníž. přenesená",J88,0) -> 0 | BI88: =IF(N88="nulová",J88,0) -> 0 | BJ88: 1 | BK88: =ROUND(I88*H88,2) -> 0 | BL88: 1024 | BM88: 533971557
C89: 7 | D89: K | E89: ORN 15 | F89: Účast zhotovitele na kontrolních prohídkách, zkouškách, předání a převzetí díla nebo jeho částí, kolaudaci stavby včetně koordinační a kompletační činnosti podkladů celé stavby. Součinnost při zajištění všech kolaudačních souhlasů, povinnosti vyplívající v souvislosti s předáním a převzetím díla nebo jeho části. | G89: kompl | H89: 1 | J89: =ROUND(I89*H89,2) -> 0 | N89: základní | P89: =O89*H89 -> 0 | Q89: 0 | R89: =Q89*H89 -> 0 | S89: 0 | T89: =S89*H89 -> 0 | AR89: 1024 | AT89: K | AU89: 2 | AY89: ROZPOCET | BE89: =IF(N89="základní",J89,0) -> 0 | BF89: =IF(N89="snížená",J89,0) -> 0 | BG89: =IF(N89="zákl. přenesená",J89,0) -> 0 | BH89: =IF(N89="sníž. přenesená",J89,0) -> 0 | BI89: =IF(N89="nulová",J89,0) -> 0 | BJ89: 1 | BK89: =ROUND(I89*H89,2) -> 0 | BL89: 1024 | BM89: 2129518200
D90: VV | F90: 1 | H90: 1 | AT90: VV | AU90: 2 | AV90: 2 | AW90: True | AX90: 1 | AY90: ROZPOCET
C91: 8 | D91: K | E91: ORN 16 | F91: Uvedení dotčených stávajících zelených ploch do původního stavu - vegetační úpravy ohumusováním tl. 50 mm, osetím trávou, zaválcováním, závlaha. | G91: kompl | H91: 1 | J91: =ROUND(I91*H91,2) -> 0 | N91: základní | P91: =O91*H91 -> 0 | Q91: 0 | R91: =Q91*H91 -> 0 | S91: 0 | T91: =S91*H91 -> 0 | AR91: 1024 | AT91: K | AU91: 2 | AY91: ROZPOCET | BE91: =IF(N91="základní",J91,0) -> 0 | BF91: =IF(N91="snížená",J91,0) -> 0 | BG91: =IF(N91="zákl. přenesená",J91,0) -> 0 | BH91: =IF(N91="sníž. přenesená",J91,0) -> 0 | BI91: =IF(N91="nulová",J91,0) -> 0 | BJ91: 1 | BK91: =ROUND(I91*H91,2) -> 0 | BL91: 1024 | BM91: 1801671980
D92: VV | F92: 1 | H92: 1 | AT92: VV | AU92: 2 | AV92: 2 | AW92: True | AX92: 1 | AY92: ROZPOCET
C93: 9 | D93: K | E93: ORN 17 | F93: Náklady zhotovitele spojené s pojištěním proti škodám způsobených jeho činností při výstavbě včetně pojištění díla proti všem možným rizikům (živly, krádež, atd.) po dobu výstavby až do celkové hodnoty díla. Rozsah a podmínky pojištění dle SoD. | G93: kompl | H93: 1 | J93: =ROUND(I93*H93,2) -> 0 | N93: základní | P93: =O93*H93 -> 0 | Q93: 0 | R93: =Q93*H93 -> 0 | S93: 0 | T93: =S93*H93 -> 0 | AR93: 1024 | AT93: K | AU93: 2 | AY93: ROZPOCET | BE93: =IF(N93="základní",J93,0) -> 0 | BF93: =IF(N93="snížená",J93,0) -> 0 | BG93: =IF(N93="zákl. přenesená",J93,0) -> 0 | BH93: =IF(N93="sníž. přenesená",J93,0) -> 0 | BI93: =IF(N93="nulová",J93,0) -> 0 | BJ93: 1 | BK93: =ROUND(I93*H93,2) -> 0 | BL93: 1024 | BM93: -917119673
C94: 10 | D94: K | E94: ORN 18 | F94: Náklady spojené se zabezpečením a poskytnutím zajišťovacích bankovních záruk v rozsahu dle SoD. | G94: kompl | H94: 1 | J94: =ROUND(I94*H94,2) -> 0 | N94: základní | P94: =O94*H94 -> 0 | Q94: 0 | R94: =Q94*H94 -> 0 | S94: 0 | T94: =S94*H94 -> 0 | AR94: 1024 | AT94: K | AU94: 2 | AY94: ROZPOCET | BE94: =IF(N94="základní",J94,0) -> 0 | BF94: =IF(N94="snížená",J94,0) -> 0 | BG94: =IF(N94="zákl. přenesená",J94,0) -> 0 | BH94: =IF(N94="sníž. přenesená",J94,0) -> 0 | BI94: =IF(N94="nulová",J94,0) -> 0 | BJ94: 1 | BK94: =ROUND(I94*H94,2) -> 0 | BL94: 1024 | BM94: 466149875
C95: 11 | D95: K | E95: ORN 2 | F95: Zpracování havarijního plánu dle §39 odst. 2. písm. a) zákona č. 254/2001 Sb. po dobu výstavby. | G95: kompl | H95: 1 | J95: =ROUND(I95*H95,2) -> 0 | N95: základní | P95: =O95*H95 -> 0 | Q95: 0 | R95: =Q95*H95 -> 0 | S95: 0 | T95: =S95*H95 -> 0 | AR95: 1024 | AT95: K | AU95: 2 | AY95: ROZPOCET | BE95: =IF(N95="základní",J95,0) -> 0 | BF95: =IF(N95="snížená",J95,0) -> 0 | BG95: =IF(N95="zákl. přenesená",J95,0) -> 0 | BH95: =IF(N95="sníž. přenesená",J95,0) -> 0 | BI95: =IF(N95="nulová",J95,0) -> 0 | BJ95: 1 | BK95: =ROUND(I95*H95,2) -> 0 | BL95: 1024 | BM95: -666422036
C96: 12 | D96: K | E96: ORN 3 | F96: Náklady na vypracování potřebné dokumentace pro provoz staveniště z hlediska požární ochrany (požární řád a poplachová směrnice) a z hlediska provozu staveniště (provozně dopravní řád). | G96: kompl | H96: 1 | J96: =ROUND(I96*H96,2) -> 0 | N96: základní | P96: =O96*H96 -> 0 | Q96: 0 | R96: =Q96*H96 -> 0 | S96: 0 | T96: =S96*H96 -> 0 | AR96: 1024 | AT96: K | AU96: 2 | AY96: ROZPOCET | BE96: =IF(N96="základní",J96,0) -> 0 | BF96: =IF(N96="snížená",J96,0) -> 0 | BG96: =IF(N96="zákl. přenesená",J96,0) -> 0 | BH96: =IF(N96="sníž. přenesená",J96,0) -> 0 | BI96: =IF(N96="nulová",J96,0) -> 0 | BJ96: 1 | BK96: =ROUND(I96*H96,2) -> 0 | BL96: 1024 | BM96: 1404889557
D97: VV | F97: 1 | H97: 1 | AT97: VV | AU97: 2 | AV97: 2 | AW97: True | AX97: 1 | AY97: ROZPOCET
C98: 13 | D98: K | E98: ORN 4 | F98: Zajištění publicity dle poskytovatele dotace - instalace informační tabule. Výrobu si zajišťuje zadavatel. | G98: kompl | H98: 1 | J98: =ROUND(I98*H98,2) -> 0 | N98: základní | P98: =O98*H98 -> 0 | Q98: 0 | R98: =Q98*H98 -> 0 | S98: 0 | T98: =S98*H98 -> 0 | AR98: 1024 | AT98: K | AU98: 2 | AY98: ROZPOCET | BE98: =IF(N98="základní",J98,0) -> 0 | BF98: =IF(N98="snížená",J98,0) -> 0 | BG98: =IF(N98="zákl. přenesená",J98,0) -> 0 | BH98: =IF(N98="sníž. přenesená",J98,0) -> 0 | BI98: =IF(N98="nulová",J98,0) -> 0 | BJ98: 1 | BK98: =ROUND(I98*H98,2) -> 0 | BL98: 1024 | BM98: -867565595
C99: 14 | D99: K | E99: ORN 5 | F99: Geodetické zaměření skutečného provedení díla včetně výškopisu a polohopisu a nově položených IS, v rozsahu nezbytném pro zápis změn do katastru nemovitostí. | G99: kompl | H99: 1 | J99: =ROUND(I99*H99,2) -> 0 | N99: základní | P99: =O99*H99 -> 0 | Q99: 0 | R99: =Q99*H99 -> 0 | S99: 0 | T99: =S99*H99 -> 0 | AR99: 1024 | AT99: K | AU99: 2 | AY99: ROZPOCET | BE99: =IF(N99="základní",J99,0) -> 0 | BF99: =IF(N99="snížená",J99,0) -> 0 | BG99: =IF(N99="zákl. přenesená",J99,0) -> 0 | BH99: =IF(N99="sníž. přenesená",J99,0) -> 0 | BI99: =IF(N99="nulová",J99,0) -> 0 | BJ99: 1 | BK99: =ROUND(I99*H99,2) -> 0 | BL99: 1024 | BM99: 367080847
C100: 15 | D100: K | E100: ORN 6 | F100: Pořízení geometrických plánů včetně zajištění odsouhlasení příslušným katastrálním úřadem. | G100: kompl | H100: 1 | J100: =ROUND(I100*H100,2) -> 0 | N100: základní | P100: =O100*H100 -> 0 | Q100: 0 | R100: =Q100*H100 -> 0 | S100: 0 | T100: =S100*H100 -> 0 | AR100: 1024 | AT100: K | AU100: 2 | AY100: ROZPOCET | BE100: =IF(N100="základní",J100,0) -> 0 | BF100: =IF(N100="snížená",J100,0) -> 0 | BG100: =IF(N100="zákl. přenesená",J100,0) -> 0 | BH100: =IF(N100="sníž. přenesená",J100,0) -> 0 | BI100: =IF(N100="nulová",J100,0) -> 0 | BJ100: 1 | BK100: =ROUND(I100*H100,2) -> 0 | BL100: 1024 | BM100: 285669403
C101: 16 | D101: K | E101: ORN 7 | F101: Vytýčení stávajících inženýrských sítí a objektů, jejich ochrana po dobu výstavby, případná aktualizace příslušných vyjádření správců sítí. | G101: kompl | H101: 1 | J101: =ROUND(I101*H101,2) -> 0 | N101: základní | P101: =O101*H101 -> 0 | Q101: 0 | R101: =Q101*H101 -> 0 | S101: 0 | T101: =S101*H101 -> 0 | AR101: 1024 | AT101: K | AU101: 2 | AY101: ROZPOCET | BE101: =IF(N101="základní",J101,0) -> 0 | BF101: =IF(N101="snížená",J101,0) -> 0 | BG101: =IF(N101="zákl. přenesená",J101,0) -> 0 | BH101: =IF(N101="sníž. přenesená",J101,0) -> 0 | BI101: =IF(N101="nulová",J101,0) -> 0 | BJ101: 1 | BK101: =ROUND(I101*H101,2) -> 0 | BL101: 1024 | BM101: 312716238
C102: 17 | D102: K | E102: ORN 8 | F102: Dopravně inženýrská opatření po dobu stavby - zajištění povolení zvláštního užívání komunikací a povolení uzavírek komunikací dotčených stavbou, včetně projednání s ODSH a Policií ČR. Zajištění zřízení a likvidace dopravního značení - dodání dopravních značek a jejich rozmisťování a přemisťování a údržba v průběhu výstavby. | G102: kompl | H102: 1 | J102: =ROUND(I102*H102,2) -> 0 | N102: základní | P102: =O102*H102 -> 0 | Q102: 0 | R102: =Q102*H102 -> 0 | S102: 0 | T102: =S102*H102 -> 0 | AR102: 1024 | AT102: K | AU102: 2 | AY102: ROZPOCET | BE102: =IF(N102="základní",J102,0) -> 0 | BF102: =IF(N102="snížená",J102,0) -> 0 | BG102: =IF(N102="zákl. přenesená",J102,0) -> 0 | BH102: =IF(N102="sníž. přenesená",J102,0) -> 0 | BI102: =IF(N102="nulová",J102,0) -> 0 | BJ102: 1 | BK102: =ROUND(I102*H102,2) -> 0 | BL102: 1024 | BM102: -1643877635
C103: 18 | D103: K | E103: ORN 9 | F103: Čištění přilehlých komunikací a prostor dotčených výstavbou. | G103: kompl | H103: 1 | J103: =ROUND(I103*H103,2) -> 0 | N103: základní | P103: =O103*H103 -> 0 | Q103: 0 | R103: =Q103*H103 -> 0 | S103: 0 | T103: =S103*H103 -> 0 | AR103: 1024 | AT103: K | AU103: 2 | AY103: ROZPOCET | BE103: =IF(N103="základní",J103,0) -> 0 | BF103: =IF(N103="snížená",J103,0) -> 0 | BG103: =IF(N103="zákl. přenesená",J103,0) -> 0 | BH103: =IF(N103="sníž. přenesená",J103,0) -> 0 | BI103: =IF(N103="nulová",J103,0) -> 0 | BJ103: 1 | BK103: =ROUND(I103*H103,2) -> 0 | BL103: 1024 | BM103: -867456671
D104: D | E104: VRN | F104: Vedlejší rozpočtové náklady | J104: =BK104 -> 0 | P104: =P105 -> 0 | R104: =R105 -> 0 | T104: =T105 -> 0 | AR104: 5 | AT104: D | AU104: 0 | AY104: ROZPOCET | BK104: =BK105 -> 0
D105: D | E105: VRN1 | F105: Průzkumné, geodetické a projektové práce | J105: =BK105 -> 0 | P105: =SUM(P106:P125) -> 0 | R105: =SUM(R106:R125) -> 0 | T105: =SUM(T106:T125) -> 0 | AR105: 5 | AT105: D | AU105: 1 | AY105: ROZPOCET | BK105: =SUM(BK106:BK125) -> 0
C106: 19 | D106: K | E106: 1 | F106: Hlavní tituly průvodních činností a nákladů průzkumné, geodetické a projektové práce geodetické práce | G106: kompl | H106: 1 | J106: =ROUND(I106*H106,2) -> 0 | N106: základní | P106: =O106*H106 -> 0 | Q106: 0 | R106: =Q106*H106 -> 0 | S106: 0 | T106: =S106*H106 -> 0 | AR106: 1024 | AT106: K | AU106: 2 | AY106: ROZPOCET | BE106: =IF(N106="základní",J106,0) -> 0 | BF106: =IF(N106="snížená",J106,0) -> 0 | BG106: =IF(N106="zákl. přenesená",J106,0) -> 0 | BH106: =IF(N106="sníž. přenesená",J106,0) -> 0 | BI106: =IF(N106="nulová",J106,0) -> 0 | BJ106: 1 | BK106: =ROUND(I106*H106,2) -> 0 | BL106: 1024 | BM106: -429763614
D107: VV | F107: "do ceny jsou započítány náklady na vytyčení stavby" | AT107: VV | AU107: 2 | AV107: 1 | AW107: True | AX107: 0 | AY107: ROZPOCET
D108: VV | F108: 1 | H108: 1 | AT108: VV | AU108: 2 | AV108: 2 | AW108: True | AX108: 1 | AY108: ROZPOCET
C109: 20 | D109: K | E109: 2 | F109: Náklady se zřízením přípojek energií k objektům zařízení staveniště, vybudování případných měřících odběrných míst a zřízení, případná příprava území pro objekty zařízení staveniště a vlastní vybudování objektů zařízení staveniště, náklady spojené s předáním a převzetím staveniště. | G109: kompl | H109: 1 | J109: =ROUND(I109*H109,2) -> 0 | N109: základní | P109: =O109*H109 -> 0 | Q109: 0 | R109: =Q109*H109 -> 0 | S109: 0 | T109: =S109*H109 -> 0 | AR109: 1024 | AT109: K | AU109: 2 | AY109: ROZPOCET | BE109: =IF(N109="základní",J109,0) -> 0 | BF109: =IF(N109="snížená",J109,0) -> 0 | BG109: =IF(N109="zákl. přenesená",J109,0) -> 0 | BH109: =IF(N109="sníž. přenesená",J109,0) -> 0 | BI109: =IF(N109="nulová",J109,0) -> 0 | BJ109: 1 | BK109: =ROUND(I109*H109,2) -> 0 | BL109: 1024 | BM109: -650332166
D110: VV | F110: 1 | H110: 1 | AT110: VV | AU110: 2 | AV110: 2 | AW110: True | AX110: 1 | AY110: ROZPOCET
C111: 21 | D111: K | E111: 3 | F111: Vybavení objektů zařízení staveniště, náklady na energie spotřebované dodavatelem v rámci provozu zařízení staveniště, osvětlení staveniště, náklady na potřebný úklid v prostorách zařízení staveniště, náklady na nutnou údržbu a opravy na objektech zařízení staveniště a na přípojkách energií. | G111: kompl | H111: 1 | J111: =ROUND(I111*H111,2) -> 0 | N111: základní | P111: =O111*H111 -> 0 | Q111: 0 | R111: =Q111*H111 -> 0 | S111: 0 | T111: =S111*H111 -> 0 | AR111: 1024 | AT111: K | AU111: 2 | AY111: ROZPOCET | BE111: =IF(N111="základní",J111,0) -> 0 | BF111: =IF(N111="snížená",J111,0) -> 0 | BG111: =IF(N111="zákl. přenesená",J111,0) -> 0 | BH111: =IF(N111="sníž. přenesená",J111,0) -> 0 | BI111: =IF(N111="nulová",J111,0) -> 0 | BJ111: 1 | BK111: =ROUND(I111*H111,2) -> 0 | BL111: 1024 | BM111: -1901748064
D112: VV | F112: 1 | H112: 1 | AT112: VV | AU112: 2 | AV112: 2 | AW112: True | AX112: 1 | AY112: ROZPOCET
C113: 22 | D113: K | E113: 4 | F113: Do této položky patří odstranění objektů zařízení staveniště včetně přípojek energií a jejich odvoz. Položka zahrnuje i náklady na úpravu povrchů po odstranění zařízení staveniště a úklid ploch, na kterých bylo zařízení staveniště provozováno. | G113: kompl | H113: 1 | J113: =ROUND(I113*H113,2) -> 0 | N113: základní | P113: =O113*H113 -> 0 | Q113: 0 | R113: =Q113*H113 -> 0 | S113: 0 | T113: =S113*H113 -> 0 | AR113: 1024 | AT113: K | AU113: 2 | AY113: ROZPOCET | BE113: =IF(N113="základní",J113,0) -> 0 | BF113: =IF(N113="snížená",J113,0) -> 0 | BG113: =IF(N113="zákl. přenesená",J113,0) -> 0 | BH113: =IF(N113="sníž. přenesená",J113,0) -> 0 | BI113: =IF(N113="nulová",J113,0) -> 0 | BJ113: 1 | BK113: =ROUND(I113*H113,2) -> 0 | BL113: 1024 | BM113: -176570622
D114: VV | F114: "Cena zahrnuje náklady na pořízení fotodokumentace průběhu | AT114: VV | AU114: 2 | AV114: 1 | AW114: True | AX114: 0 | AY114: ROZPOCET
D115: VV | F115: výstavby" | AT115: VV | AU115: 2 | AV115: 1 | AW115: True | AX115: 0 | AY115: ROZPOCET
D116: VV | F116: 1 | H116: 1 | AT116: VV | AU116: 2 | AV116: 2 | AW116: True | AX116: 1 | AY116: ROZPOCET
C117: 23 | D117: K | E117: 5 | F117: Zajištění oplocení prostoru ZS po dobu výstavby, montáž a demontáž. | G117: kompl | H117: 1 | J117: =ROUND(I117*H117,2) -> 0 | N117: základní | P117: =O117*H117 -> 0 | Q117: 0 | R117: =Q117*H117 -> 0 | S117: 0 | T117: =S117*H117 -> 0 | AR117: 1024 | AT117: K | AU117: 2 | AY117: ROZPOCET | BE117: =IF(N117="základní",J117,0) -> 0 | BF117: =IF(N117="snížená",J117,0) -> 0 | BG117: =IF(N117="zákl. přenesená",J117,0) -> 0 | BH117: =IF(N117="sníž. přenesená",J117,0) -> 0 | BI117: =IF(N117="nulová",J117,0) -> 0 | BJ117: 1 | BK117: =ROUND(I117*H117,2) -> 0 | BL117: 1024 | BM117: 1208129304
D118: VV | F118: 1 | H118: 1 | AT118: VV | AU118: 2 | AV118: 2 | AW118: True | AX118: 1 | AY118: ROZPOCET
C119: 24 | D119: K | E119: 6 | F119: Zajištění ostrahy stavby a staveniště po dobu realizace stavby. | G119: kopml | H119: 1 | J119: =ROUND(I119*H119,2) -> 0 | N119: základní | P119: =O119*H119 -> 0 | Q119: 0 | R119: =Q119*H119 -> 0 | S119: 0 | T119: =S119*H119 -> 0 | AR119: 1024 | AT119: K | AU119: 2 | AY119: ROZPOCET | BE119: =IF(N119="základní",J119,0) -> 0 | BF119: =IF(N119="snížená",J119,0) -> 0 | BG119: =IF(N119="zákl. přenesená",J119,0) -> 0 | BH119: =IF(N119="sníž. přenesená",J119,0) -> 0 | BI119: =IF(N119="nulová",J119,0) -> 0 | BJ119: 1 | BK119: =ROUND(I119*H119,2) -> 0 | BL119: 1024 | BM119: 975506539
D120: VV | F120: 1 | H120: 1 | AT120: VV | AU120: 2 | AV120: 2 | AW120: True | AX120: 1 | AY120: ROZPOCET
C121: 25 | D121: K | E121: 7 | F121: Zřízení všech potřebných dočasných přístupů a příjezdů včetně jejich následného odstranění. | G121: kompl | H121: 1 | J121: =ROUND(I121*H121,2) -> 0 | N121: základní | P121: =O121*H121 -> 0 | Q121: 0 | R121: =Q121*H121 -> 0 | S121: 0 | T121: =S121*H121 -> 0 | AR121: 1024 | AT121: K | AU121: 2 | AY121: ROZPOCET | BE121: =IF(N121="základní",J121,0) -> 0 | BF121: =IF(N121="snížená",J121,0) -> 0 | BG121: =IF(N121="zákl. přenesená",J121,0) -> 0 | BH121: =IF(N121="sníž. přenesená",J121,0) -> 0 | BI121: =IF(N121="nulová",J121,0) -> 0 | BJ121: 1 | BK121: =ROUND(I121*H121,2) -> 0 | BL121: 1024 | BM121: -583673583
D122: VV | F122: 1 | H122: 1 | AT122: VV | AU122: 2 | AV122: 2 | AW122: True | AX122: 1 | AY122: ROZPOCET
C123: 26 | D123: K | E123: 8 | F123: Dílenská dokumentace | G123: kompl | H123: 2 | J123: =ROUND(I123*H123,2) -> 0 | N123: základní | P123: =O123*H123 -> 0 | Q123: 0 | R123: =Q123*H123 -> 0 | S123: 0 | T123: =S123*H123 -> 0 | AR123: 1024 | AT123: K | AU123: 2 | AY123: ROZPOCET | BE123: =IF(N123="základní",J123,0) -> 0 | BF123: =IF(N123="snížená",J123,0) -> 0 | BG123: =IF(N123="zákl. přenesená",J123,0) -> 0 | BH123: =IF(N123="sníž. přenesená",J123,0) -> 0 | BI123: =IF(N123="nulová",J123,0) -> 0 | BJ123: 1 | BK123: =ROUND(I123*H123,2) -> 0 | BL123: 1024 | BM123: -634730796
D124: VV | F124: "Náklady na vyhotovení dílenské dokumenatce přístřešků pro kontejnery" | AT124: VV | AU124: 2 | AV124: 1 | AW124: True | AX124: 0 | AY124: ROZPOCET
D125: VV | F125: 2 | H125: 2 | AT125: VV | AU125: 2 | AV125: 2 | AW125: True | AX125: 1 | AY125: ROZPOCET

Sheet Pokyny pro vyplnění
C3: Struktura údajů, formát souboru a metodika pro zpracování
C4: Struktura
C6: Soubor je složen ze záložky Rekapitulace stavby a záložek s názvem soupisu prací pro jednotlivé objekty ve formátu XLSX. Každá ze záložek přitom obsahuje
C7: ještě samostatné sestavy vymezené orámovaním a nadpisem sestavy.
C9: Rekapitulace stavby obsahuje sestavu Rekapitulace stavby a Rekapitulace objektů stavby a soupisů prací.
D10: V sestavě Rekapitulace stavby jsou uvedeny informace identifikující předmět veřejné zakázky na stavební práce, KSO, CC-CZ, CZ-CPV, CZ-CPA a rekapitulaci
D11: celkové nabídkové ceny uchazeče.
D13: V sestavě Rekapitulace objektů stavby a soupisů prací je uvedena rekapitulace stavebních objektů, inženýrských objektů, provozních souborů,
D14: vedlejších a ostatních nákladů a ostatních nákladů s rekapitulací nabídkové ceny za jednotlivé soupisy prací. Na základě údaje Typ je možné
D15: identifikovat, zda se jedná o objekt nebo soupis prací pro daný objekt:
E16: STA | F16: Stavební objekt pozemní
E17: ING | F17: Stavební objekt inženýrský
E18: PRO | F18: Provozní soubor
E19: VON | F19: Vedlejší a ostatní náklady
E20: OST | F20: Ostatní
E21: Soupis | F21: Soupis prací pro daný typ objektu
C23: Soupis prací pro jednotlivé objekty obsahuje sestavy Krycí list soupisu, Rekapitulace členění soupisu prací, Soupis prací. Za soupis prací může být považován
C24: i objekt stavby v případě, že neobsahuje podřízenou zakázku.
D25: Krycí list soupisu obsahuje rekapitulaci informací o předmětu veřejné zakázky ze sestavy Rekapitulace stavby, informaci o zařazení objektu do KSO,
D26: CC-CZ, CZ-CPV, CZ-CPA a rekapitulaci celkové nabídkové ceny uchazeče za aktuální soupis prací.
D28: Rekapitulace členění soupisu prací obsahuje rekapitulaci soupisu prací ve všech úrovních členění soupisu tak, jak byla tato členění použita (např.
D29: stavební díly, funkční díly, případně jiné členění) s rekapitulací nabídkové ceny.
D31: Soupis prací obsahuje položky veškerých stavebních nebo montážních prací, dodávek materiálů a služeb nezbytných pro zhotovení stavebního objektu,
D32: inženýrského objektu, provozního souboru, vedlejších a ostatních nákladů.
D33: Pro položky soupisu prací se zobrazují následující informace:
E34: PČ | G34: Pořadové číslo položky v aktuálním soupisu
E35: TYP | G35: Typ položky: K - konstrukce, M - materiál, PP - plný popis, PSC - poznámka k souboru cen, P - poznámka k položce, VV - výkaz výměr
E36: Kód | G36: Kód položky
E37: Popis | G37: Zkrácený popis položky
E38: MJ | G38: Měrná jednotka položky
E39: Množství | G39: Množství v měrné jednotce
E40: J.cena | G40: Jednotková cena položky. Zadaní může obsahovat namísto J.ceny sloupce J.materiál a J.montáž, jejichž součet definuje
G41: J.cenu položky.
E42: Cena celkem | G42: Celková cena položky daná jako součin množství a j.ceny
E43: Cenová soustava | G43: Příslušnost položky do cenové soustavy
D45: Ke každé položce soupisu prací se na samostatných řádcích může zobrazovat:
E46: Plný popis položky
E47: Poznámka k souboru cen a poznámka zadavatele
E48: Výkaz výměr
D49: Pokud je k řádku výkazu výměr evidovaný údaj ve sloupci Kód, jedná se o definovaný odkaz, na který se může odvolávat výkaz výměr z jiné položky.
C50: Metodika pro zpracování
C52: Jednotlivé sestavy jsou v souboru provázány. Editovatelné pole jsou zvýrazněny žlutým podbarvením, ostatní pole neslouží k editaci a nesmí být jakkoliv
C53: modifikovány.
C55: Uchazeč je pro podání nabídky povinen vyplnit žlutě podbarvená pole:
D56: Pole Uchazeč v sestavě Rekapitulace stavby - zde uchazeč vyplní svůj název (název subjektu)
D57: Pole IČ a DIČ v sestavě Rekapitulace stavby - zde uchazeč vyplní svoje IČ a DIČ
D58: Datum v sestavě Rekapitulace stavby - zde uchazeč vyplní datum vytvoření nabídky
D59: J.cena = jednotková cena v sestavě Soupis prací o maximálním počtu desetinných míst uvedených v poli
D60: - pokud sestavy soupisů prací obsahují pole J.cena, musí být všechna tato pole vyplněna nenulovými kladnými číslicemi
D61: Poznámka - nepovinný údaj pro položku soupisu
D63: V případě, že sestavy soupisů prací neobsahují pole J.cena, potom ve všech soupisech prací obsahují pole:
D64: - J.materiál - jednotková cena materiálu
D65: - J.montáž - jednotková cena montáže
D66: Uchazeč je v tomto případě povinen vyplnit všechna pole J.materiál a pole J.montáž nenulovými kladnými číslicemi. V případech, kdy položka
D67: neobsahuje žádný materiál je přípustné, aby pole J.materiál bylo vyplněno nulou. V případech, kdy položka neobsahuje žádnou montáž je přípustné,
D68: aby pole J.montáž bylo vyplněno nulou. Není však přípustné, aby obě pole - J.materiál, J.Montáž byly u jedné položky vyplněny nulou.
C73: Rekapitulace stavby
C74: Název | F74: Povinný | H74: Popis | I74: Typ | J74: Max. počet
C75: atributu | F75: (A/N) | J75: znaků
C77: Kód | F77: A | H77: Kód stavby | I77: String | J77: 20
C78: Stavba | F78: A | H78: Název stavby | I78: String | J78: 120
C79: Místo | F79: N | H79: Místo stavby | I79: String | J79: 50
C80: Datum | F80: A | H80: Datum vykonaného exportu | I80: Date
C81: KSO | F81: N | H81: Klasifikace stavebního objektu | I81: String | J81: 15
C82: CC-CZ | F82: N | H82: Klasifikace stavbeních děl | I82: String | J82: 15
C83: CZ-CPV | F83: N | H83: Společný slovník pro veřejné zakázky | I83: String | J83: 20
C84: CZ-CPA | F84: N | H84: Klasifikace produkce podle činností | I84: String | J84: 20
C85: Zadavatel | F85: N | H85: Zadavatel zadaní | I85: String | J85: 50
C86: IČ | F86: N | H86: IČ zadavatele zadaní | I86: String | J86: 20
C87: DIČ | F87: N | H87: DIČ zadavatele zadaní | I87: String | J87: 20
C88: Uchazeč | F88: N | H88: Uchazeč veřejné zakázky | I88: String | J88: 50
C89: Projektant | F89: N | H89: Projektant | I89: String | J89: 50
C90: Poznámka | F90: N | H90: Poznámka k zadání | I90: String | J90: 255
C91: Sazba DPH | F91: A | H91: Rekapitulace sazeb DPH u položek soupisů | I91: eGSazbaDph
C92: Základna DPH | F92: A | H92: Základna DPH určena součtem celkové ceny z položek soupisů | I92: Double
C93: Hodnota DPH | F93: A | H93: Hodnota DPH | I93: Double
C94: Cena bez DPH | F94: A | H94: Celková cena bez DPH za celou stavbu. Sčítává se ze všech listů. | I94: Double
C95: Cena s DPH | F95: A | H95: Celková cena s DPH za celou stavbu | I95: Double
C100: Rekapitulace objektů stavby a soupisů prací
C101: Název | F101: Povinný | H101: Popis | I101: Typ | J101: Max. počet
C102: atributu | F102: (A/N) | J102: znaků
C104: Kód | F104: A | H104: Přebírá se z Rekapitulace stavby | I104: String | J104: 20
C105: Stavba | F105: A | H105: Přebírá se z Rekapitulace stavby | I105: String | J105: 120
C106: Místo | F106: N | H106: Přebírá se z Rekapitulace stavby | I106: String | J106: 50
C107: Datum | F107: A | H107: Přebírá se z Rekapitulace stavby | I107: Date
C108: Zadavatel | F108: N | H108: Přebírá se z Rekapitulace stavby | I108: String | J108: 50
C109: Projektant | F109: N | H109: Přebírá se z Rekapitulace stavby | I109: String | J109: 50
C110: Uchazeč | F110: N | H110: Přebírá se z Rekapitulace stavby | I110: String | J110: 50
C111: Kód | F111: A | H111: Kód objektu | I111: String | J111: 20
C112: Objektu, Soupis prací | F112: A | H112: Název objektu | I112: String | J112: 120
C113: Cena bez DPH | F113: A | H113: Cena bez DPH za daný objekt | I113: Double
C114: Cena s DPH | F114: A | H114: Cena spolu s DPH za daný objekt | I114: Double
C115: Typ | F115: A | H115: Typ zakázky | I115: eGTypZakazky
C120: Krycí list soupisu
C121: Název | F121: Povinný | H121: Popis | I121: Typ | J121: Max. počet
C122: atributu | F122: (A/N) | J122: znaků
C124: Stavba | F124: A | H124: Přebírá se z Rekapitulace stavby | I124: String | J124: 120
C125: Objekt | F125: A | H125: Kód a název objektu | I125: String | J125: 20 + 120
C126: Soupis | F126: A | H126: Kód a název soupisu | I126: String | J126: 20 + 120
C127: KSO | F127: N | H127: Klasifikace stavebního objektu | I127: String | J127: 15
...
