Workbook

Sheet Rekapitulace stavby
A1: Export VZ | D1: List obsahuje: | K1: 1) Rekapitulace stavby | W1: 2) Rekapitulace objektů stavby a soupisů prací | BA1: 3.0 | BB1: ZAMOK | BT1: False | BU1: False | BV1: {1a338de4-acb3-4f3c-9440-7c8911ff1179}
BS2: 0,01 | BT2: 21
BS3: 0,01 | BT3: 15
D4: REKAPITULACE STAVBY | AS4: v --- níže se nacházejí doplnkové a pomocné údaje k sestavám --- v | BE4: Návod na vyplnění | BS4: 0,001
D5: Kód: | K5: N16-206-R6 | BE5: Měnit lze pouze buňky se žlutým podbarvením!_x000D_ _x000D_ 1) v Rekapitulaci stavby vyplňte údaje o Uchazeči (přenesou se do ostatních sestav i v jiných listech)_x000D_ _x000D_ 2) na vybraných listech vyplňte v sestavě Soupis prací ceny u položek_x000D_ _x000D_ Podrobnosti k vyplnění naleznete na poslední záložce s Pokyny pro vyplnění | BS5: 0,01
D6: Stavba: | K6: CENTRUM SPOLEČNÝCH AKTIVIT JESENÍK | BS6: 0,01
D7: KSO: | K7: 801 4 | AK7: CC-CZ: | AN7: 1261 | BS7: 0,01
D8: Místo: | K8: Jeseník | AK8: Datum: | AN8: 11.10.2016 | BS8: 0,01
D9: CZ-CPV: | K9: 45000000-7 | AK9: CZ-CPA: | AN9: 41.00.20 | BS9: 0,01
D10: Zadavatel: | AK10: IČ: | BS10: 0,01
E11: MĚSTO JESENÍK | AK11: DIČ: | BS11: 0,01
BS12: 0,01
D13: Uchazeč: | AK13: IČ: | AN13: Vyplň údaj | BS13: 0,01
E14: Vyplň údaj | AK14: DIČ: | AN14: Vyplň údaj | BS14: 0,01
BS15: False
D16: Projektant: | AK16: IČ: | BS16: False
E17: KANIA a.s. , Ostrava | AK17: DIČ: | BS17: True
BS18: 0,01
D19: Poznámka: | BS19: 0,01
E20: Soupis prací je sestaven za využití položek Cenové soustavy ÚRS. Cenové a technické podmínky položek CS ÚRS, které nejsou uvedeny v soupisu prací (tzv. úvodní části katalogů) jsou neomezeně dálkově k dispozici na www.cs-urs.cz. Položky soupisu prací, které nemají ve sloupci „Cenová soustava“ uveden žádný údaj, nepochází z Cenové soustavy ÚRS (takové položky soupisu prací mají Cenovou soustavu „VLASTNÍ“). Ocenění "vlastní" položky:na základě odborných znalostí a zkušeností projektanta při realizaci obdobných zakázek za období 5-ti let. nebo na základě cen v místě a čase obvyklých). Nedílnou součástí soupisu prací je projektová dokumentace vč. textových příloh, na kterou se položky soupisu prací plně odkazují. | BS20: True
D23: Cena bez DPH | AK23: =ROUND(AG51,2) -> 0
L25: Sazba daně | W25: Základ daně | AK25: Výše daně
D26: DPH | F26: základní | L26: 0.21 | W26: =ROUND(AZ51,2) -> 0 | AK26: =ROUND(AV51,2) -> 0
F27: snížená | L27: 0.15 | W27: =ROUND(BA51,2) -> 0 | AK27: =ROUND(AW51,2) -> 0
F28: zákl. přenesená | L28: 0.21 | W28: =ROUND(BB51,2) -> 0 | AK28: 0
F29: sníž. přenesená | L29: 0.15 | W29: =ROUND(BC51,2) -> 0 | AK29: 0
F30: nulová | L30: 0 | W30: =ROUND(BD51,2) -> 0 | AK30: 0
D32: Cena s DPH | T32: v | X32: CZK | AK32: =SUM(AK23:AK30) -> 0
C39: REKAPITULACE OBJEKTŮ STAVBY A SOUPISŮ PRACÍ
C41: Kód: | L41: =K5 -> N16-206-R6
C42: Stavba: | L42: =K6 -> CENTRUM SPOLEČNÝCH AKTIVIT JESENÍK
C44: Místo: | L44: =IF(K8="","",K8) -> Jeseník | AI44: Datum: | AM44: =IF(AN8= "","",AN8) -> 11.10.2016
C46: Zadavatel: | L46: =IF(E11= "","",E11) -> MĚSTO JESENÍK | AI46: Projektant: | AM46: =IF(E17="","",E17) -> KANIA a.s. , Ostrava | AS46: Informatívní údaje z listů zakázek
C47: Uchazeč: | L47: =IF(E14= "Vyplň údaj","",E14)
C49: Kód | I49: Objekt, Soupis prací | AG49: Cena bez DPH [CZK] | AN49: Cena s DPH [CZK] | AQ49: Typ | AS49: z toho Ostat._x000D_ náklady [CZK] | AT49: DPH [CZK] | AU49: Normohodiny [h] | AV49: DPH základní [CZK] | AW49: DPH snížená [CZK] | AX49: DPH základní přenesená_x000D_ [CZK] | AY49: DPH snížená přenesená_x000D_ [CZK] | AZ49: Základna_x000D_ DPH základní | BA49: Základna_x000D_ DPH snížená | BB49: Základna_x000D_ DPH zákl. přenesená | BC49: Základna_x000D_ DPH sníž. přenesená | BD49: Základna_x000D_ DPH nulová
C51: Náklady stavby celkem | AG51: =ROUND(AG52+AG53+AG71,2) -> 0 | AN51: =SUM(AG51,AT51) -> 0 | AS51: =ROUND(AS52+AS53+AS71,2) -> 0 | AT51: =ROUND(SUM(AV51:AW51),2) -> 0 | AU51: =ROUND(AU52+AU53+AU71,5) -> 0 | AV51: =ROUND(AZ51*L26,2) -> 0 | AW51: =ROUND(BA51*L27,2) -> 0 | AX51: =ROUND(BB51*L26,2) -> 0 | AY51: =ROUND(BC51*L27,2) -> 0 | AZ51: =ROUND(AZ52+AZ53+AZ71,2) -> 0 | BA51: =ROUND(BA52+BA53+BA71,2) -> 0 | BB51: =ROUND(BB52+BB53+BB71,2) -> 0 | BC51: =ROUND(BC52+BC53+BC71,2) -> 0 | BD51: =ROUND(BD52+BD53+BD71,2) -> 0 | BS51: D | BT51: 0 | BU51: ###NOIMPORT### | BV51: IMPORT | BW51: {1a338de4-acb3-4f3c-9440-7c8911ff1179} | BX51: {00000000-0000-0000-0000-000000000000} | CL51: 801 4
A52: / | D52: VON | J52: Vedljší a ostatní náklady | AG52: ='VON - Vedljší a ostatní n...'!J27 -> 0 | AN52: =SUM(AG52,AT52) -> 0 | AQ52: VON | AS52: 0 | AT52: =ROUND(SUM(AV52:AW52),2) -> 0 | AU52: ='VON - Vedljší a ostatní n...'!P79 -> 0 | AV52: ='VON - Vedljší a ostatní n...'!J30 -> 0 | AW52: ='VON - Vedljší a ostatní n...'!J31 -> 0 | AX52: ='VON - Vedljší a ostatní n...'!J32 -> 0 | AY52: ='VON - Vedljší a ostatní n...'!J33 -> 0 | AZ52: ='VON - Vedljší a ostatní n...'!F30 -> 0 | BA52: ='VON - Vedljší a ostatní n...'!F31 -> 0 | BB52: ='VON - Vedljší a ostatní n...'!F32 -> 0 | BC52: ='VON - Vedljší a ostatní n...'!F33 -> 0 | BD52: ='VON - Vedljší a ostatní n...'!F34 -> 0 | BT52: 1 | BV52: IMPORT | BW52: {4f7f998a-7aeb-4a64-8b3a-24f356f02121} | BX52: {1a338de4-acb3-4f3c-9440-7c8911ff1179} | CM52: 2
D53: SO 01 | J53: CENTRUM SPOLEČNÝCH AKTIVIT | AG53: =ROUND(AG54+SUM(AG55:AG57),2) -> 0 | AN53: =SUM(AG53,AT53) -> 0 | AQ53: STA | AS53: =ROUND(AS54+SUM(AS55:AS57),2) -> 0 | AT53: =ROUND(SUM(AV53:AW53),2) -> 0 | AU53: =ROUND(AU54+SUM(AU55:AU57),5) -> 0 | AV53: =ROUND(AZ53*L26,2) -> 0 | AW53: =ROUND(BA53*L27,2) -> 0 | AX53: =ROUND(BB53*L26,2) -> 0 | AY53: =ROUND(BC53*L27,2) -> 0 | AZ53: =ROUND(AZ54+SUM(AZ55:AZ57),2) -> 0 | BA53: =ROUND(BA54+SUM(BA55:BA57),2) -> 0 | BB53: =ROUND(BB54+SUM(BB55:BB57),2) -> 0 | BC53: =ROUND(BC54+SUM(BC55:BC57),2) -> 0 | BD53: =ROUND(BD54+SUM(BD55:BD57),2) -> 0 | BS53: D | BT53: 1 | BU53: ###NOIMPORT### | BV53: IMPORT | BW53: {b6ff9fc1-ed04-443f-b2ca-4f173fb1ed6c} | BX53: {1a338de4-acb3-4f3c-9440-7c8911ff1179} | CM53: 2
A54: / | E54: D.1.1 | K54: Architektonicko- stavební řešení | AG54: ='D.1.1 - Architektonicko- ...'!J29 -> 0 | AN54: =SUM(AG54,AT54) -> 0 | AQ54: Soupis | AS54: 0 | AT54: =ROUND(SUM(AV54:AW54),2) -> 0 | AU54: ='D.1.1 - Architektonicko- ...'!P112 -> 0 | AV54: ='D.1.1 - Architektonicko- ...'!J32 -> 0 | AW54: ='D.1.1 - Architektonicko- ...'!J33 -> 0 | AX54: ='D.1.1 - Architektonicko- ...'!J34 -> 0 | AY54: ='D.1.1 - Architektonicko- ...'!J35 -> 0 | AZ54: ='D.1.1 - Architektonicko- ...'!F32 -> 0 | BA54: ='D.1.1 - Architektonicko- ...'!F33 -> 0 | BB54: ='D.1.1 - Architektonicko- ...'!F34 -> 0 | BC54: ='D.1.1 - Architektonicko- ...'!F35 -> 0 | BD54: ='D.1.1 - Architektonicko- ...'!F36 -> 0 | BT54: 2 | BV54: IMPORT | BW54: {6e68bff3-e655-4033-ade6-95dca6e7a4bf} | BX54: {b6ff9fc1-ed04-443f-b2ca-4f173fb1ed6c}
A55: / | E55: D.1.2 | K55: Stavebně konstrukční řešení | AG55: ='D.1.2 - Stavebně konstruk...'!J29 -> 0 | AN55: =SUM(AG55,AT55) -> 0 | AQ55: Soupis | AS55: 0 | AT55: =ROUND(SUM(AV55:AW55),2) -> 0 | AU55: ='D.1.2 - Stavebně konstruk...'!P91 -> 0 | AV55: ='D.1.2 - Stavebně konstruk...'!J32 -> 0 | AW55: ='D.1.2 - Stavebně konstruk...'!J33 -> 0 | AX55: ='D.1.2 - Stavebně konstruk...'!J34 -> 0 | AY55: ='D.1.2 - Stavebně konstruk...'!J35 -> 0 | AZ55: ='D.1.2 - Stavebně konstruk...'!F32 -> 0 | BA55: ='D.1.2 - Stavebně konstruk...'!F33 -> 0 | BB55: ='D.1.2 - Stavebně konstruk...'!F34 -> 0 | BC55: ='D.1.2 - Stavebně konstruk...'!F35 -> 0 | BD55: ='D.1.2 - Stavebně konstruk...'!F36 -> 0 | BT55: 2 | BV55: IMPORT | BW55: {d5c76804-90f9-419b-a120-bb4de9bb389f} | BX55: {b6ff9fc1-ed04-443f-b2ca-4f173fb1ed6c}
...

Sheet VON - Vedljší a ostatní n...
D1: List obsahuje: | F1: 1) Krycí list soupisu | G1: 2) Rekapitulace | J1: 3) Soupis prací | K1: Zpět na list: | L1: Rekapitulace stavby
AT2: {4f7f998a-7aeb-4a64-8b3a-24f356f02121}
AT3: 2
D4: KRYCÍ LIST SOUPISU | M4: v --- níže se nacházejí doplnkové a pomocné údaje k sestavám --- v | AT4: False
D6: Stavba:
E7: ='Rekapitulace stavby'!K6 -> CENTRUM SPOLEČNÝCH AKTIVIT JESENÍK
D8: Objekt:
E9: VON - Vedljší a ostatní náklady
D11: KSO: | I11: CC-CZ:
D12: Místo: | F12: Jeseník | I12: Datum: | J12: ='Rekapitulace stavby'!AN8 -> 11.10.2016
D14: Zadavatel: | I14: IČ:
E15: MĚSTO JESENÍK | I15: DIČ:
D17: Uchazeč: | I17: IČ: | J17: =IF('Rekapitulace stavby'!AN13="Vyplň údaj","",IF('Rekapitulace stavby'!AN13="","",'Rekapitulace stavby'!AN13))
E18: =IF('Rekapitulace stavby'!E14="Vyplň údaj","",IF('Rekapitulace stavby'!E14="","",'Rekapitulace stavby'!E14)) | I18: DIČ: | J18: =IF('Rekapitulace stavby'!AN14="Vyplň údaj","",IF('Rekapitulace stavby'!AN14="","",'Rekapitulace stavby'!AN14))
D20: Projektant: | I20: IČ:
E21: KANIA a.s. , Ostrava | I21: DIČ:
D23: Poznámka:
E24: Soupis prací je sestaven za využití položek Cenové soustavy ÚRS. Cenové a technické podmínky položek CS ÚRS, které nejsou uvedeny v soupisu prací (tzv. úvodní části katalogů) jsou neomezeně dálkově k dispozici na www.cs-urs.cz. Položky soupisu prací, které nemají ve sloupci „Cenová soustava“ uveden žádný údaj, nepochází z Cenové soustavy ÚRS (takové položky soupisu prací mají Cenovou soustavu „VLASTNÍ“). Ocenění "vlastní" položky:na základě odborných znalostí a zkušeností projektanta při realizaci obdobných zakázek za období 5-ti let. nebo na základě cen v místě a čase obvyklých). Nedílnou součástí soupisu prací je projektová dokumentace vč. textových příloh, na kterou se položky soupisu prací plně odkazují.
D27: Cena bez DPH | J27: =ROUND(J79,2) -> 0
F29: Základ daně | I29: Sazba daně | J29: Výše daně
D30: DPH | E30: základní | F30: =ROUND(SUM(BE79:BE134), 2) -> 0 | I30: 0.21 | J30: =ROUND(ROUND((SUM(BE79:BE134)), 2)*I30, 2) -> 0
E31: snížená | F31: =ROUND(SUM(BF79:BF134), 2) -> 0 | I31: 0.15 | J31: =ROUND(ROUND((SUM(BF79:BF134)), 2)*I31, 2) -> 0
E32: zákl. přenesená | F32: =ROUND(SUM(BG79:BG134), 2) -> 0 | I32: 0.21 | J32: 0
E33: sníž. přenesená | F33: =ROUND(SUM(BH79:BH134), 2) -> 0 | I33: 0.15 | J33: 0
E34: nulová | F34: =ROUND(SUM(BI79:BI134), 2) -> 0 | I34: 0 | J34: 0
D36: Cena s DPH | G36: v | H36: CZK | J36: =SUM(J27:J34) -> 0
C42: REKAPITULACE ČLENĚNÍ SOUPISU PRACÍ
C44: Stavba:
E45: =E7 -> CENTRUM SPOLEČNÝCH AKTIVIT JESENÍK
C46: Objekt:
E47: =E9 -> VON - Vedljší a ostatní náklady
C49: Místo: | F49: =F12 -> Jeseník | I49: Datum: | J49: =IF(J12="","",J12) -> 11.10.2016
C51: Zadavatel: | F51: =E15 -> MĚSTO JESENÍK | I51: Projektant: | J51: =E21 -> KANIA a.s. , Ostrava
C52: Uchazeč: | F52: =IF(E18="","",E18)
C54: Kód dílu - Popis | J54: Cena celkem [CZK]
C56: Náklady soupisu celkem | J56: =J79 -> 0 | AU56: -1
D57: VRN - VRN | J57: =J80 -> 0
D58: VRN11 - VEDLEJŠÍ NÁKLADY STAVBY | J58: =J81 -> 0
D59: VRN91 - OSTATNÍ NÁKLADY STAVBY | J59: =J98 -> 0
C66: SOUPIS PRACÍ
...

Sheet D.1.1 - Architektonicko- ...
D1: List obsahuje: | F1: 1) Krycí list soupisu | G1: 2) Rekapitulace | J1: 3) Soupis prací | K1: Zpět na list: | L1: Rekapitulace stavby
AT2: {6e68bff3-e655-4033-ade6-95dca6e7a4bf}
AT3: 2
D4: KRYCÍ LIST SOUPISU | M4: v --- níže se nacházejí doplnkové a pomocné údaje k sestavám --- v | AT4: False
D6: Stavba:
E7: ='Rekapitulace stavby'!K6 -> CENTRUM SPOLEČNÝCH AKTIVIT JESENÍK
D8: Objekt:
E9: SO 01 - CENTRUM SPOLEČNÝCH AKTIVIT
D10: Soupis:
E11: D.1.1 - Architektonicko- stavební řešení
D13: KSO: | I13: CC-CZ:
D14: Místo: | F14: Jeseník | I14: Datum: | J14: ='Rekapitulace stavby'!AN8 -> 11.10.2016
D16: Zadavatel: | I16: IČ:
E17: MĚSTO JESENÍK | I17: DIČ:
D19: Uchazeč: | I19: IČ: | J19: =IF('Rekapitulace stavby'!AN13="Vyplň údaj","",IF('Rekapitulace stavby'!AN13="","",'Rekapitulace stavby'!AN13))
E20: =IF('Rekapitulace stavby'!E14="Vyplň údaj","",IF('Rekapitulace stavby'!E14="","",'Rekapitulace stavby'!E14)) | I20: DIČ: | J20: =IF('Rekapitulace stavby'!AN14="Vyplň údaj","",IF('Rekapitulace stavby'!AN14="","",'Rekapitulace stavby'!AN14))
D22: Projektant: | I22: IČ:
E23: KANIA a.s. , Ostrava | I23: DIČ:
D25: Poznámka:
E26: Soupis prací je sestaven za využití položek Cenové soustavy ÚRS. Cenové a technické podmínky položek CS ÚRS, které nejsou uvedeny v soupisu prací (tzv. úvodní části katalogů) jsou neomezeně dálkově k dispozici na www.cs-urs.cz. Položky soupisu prací, které nemají ve sloupci „Cenová soustava“ uveden žádný údaj, nepochází z Cenové soustavy ÚRS (takové položky soupisu prací mají Cenovou soustavu „VLASTNÍ“). Ocenění "vlastní" položky:na základě odborných znalostí a zkušeností projektanta při realizaci obdobných zakázek za období 5-ti let. nebo na základě cen v místě a čase obvyklých). Nedílnou součástí soupisu prací je projektová dokumentace vč. textových příloh, na kterou se položky soupisu prací plně odkazují.
D29: Cena bez DPH | J29: =ROUND(J112,2) -> 0
F31: Základ daně | I31: Sazba daně | J31: Výše daně
D32: DPH | E32: základní | F32: =ROUND(SUM(BE112:BE1424), 2) -> 0 | I32: 0.21 | J32: =ROUND(ROUND((SUM(BE112:BE1424)), 2)*I32, 2) -> 0
E33: snížená | F33: =ROUND(SUM(BF112:BF1424), 2) -> 0 | I33: 0.15 | J33: =ROUND(ROUND((SUM(BF112:BF1424)), 2)*I33, 2) -> 0
E34: zákl. přenesená | F34: =ROUND(SUM(BG112:BG1424), 2) -> 0 | I34: 0.21 | J34: 0
E35: sníž. přenesená | F35: =ROUND(SUM(BH112:BH1424), 2) -> 0 | I35: 0.15 | J35: 0
E36: nulová | F36: =ROUND(SUM(BI112:BI1424), 2) -> 0 | I36: 0 | J36: 0
D38: Cena s DPH | G38: v | H38: CZK | J38: =SUM(J29:J36) -> 0
C44: REKAPITULACE ČLENĚNÍ SOUPISU PRACÍ
C46: Stavba:
E47: =E7 -> CENTRUM SPOLEČNÝCH AKTIVIT JESENÍK
C48: Objekt:
E49: SO 01 - CENTRUM SPOLEČNÝCH AKTIVIT
C50: Soupis:
E51: =E11 -> D.1.1 - Architektonicko- stavební řešení
C53: Místo: | F53: =F14 -> Jeseník | I53: Datum: | J53: =IF(J14="","",J14) -> 11.10.2016
C55: Zadavatel: | F55: =E17 -> MĚSTO JESENÍK | I55: Projektant: | J55: =E23 -> KANIA a.s. , Ostrava
C56: Uchazeč: | F56: =IF(E20="","",E20)
C58: Kód dílu - Popis | J58: Cena celkem [CZK]
C60: Náklady soupisu celkem | J60: =J112 -> 0 | AU60: -1
...

Sheet D.1.2 - Stavebně konstruk...
D1: List obsahuje: | F1: 1) Krycí list soupisu | G1: 2) Rekapitulace | J1: 3) Soupis prací | K1: Zpět na list: | L1: Rekapitulace stavby
AT2: {d5c76804-90f9-419b-a120-bb4de9bb389f}
AT3: 2
D4: KRYCÍ LIST SOUPISU | M4: v --- níže se nacházejí doplnkové a pomocné údaje k sestavám --- v | AT4: False
D6: Stavba:
E7: ='Rekapitulace stavby'!K6 -> CENTRUM SPOLEČNÝCH AKTIVIT JESENÍK
D8: Objekt:
E9: SO 01 - CENTRUM SPOLEČNÝCH AKTIVIT
D10: Soupis:
E11: D.1.2 - Stavebně konstrukční řešení
D13: KSO: | I13: CC-CZ:
D14: Místo: | F14: Jeseník | I14: Datum: | J14: ='Rekapitulace stavby'!AN8 -> 11.10.2016
D16: Zadavatel: | I16: IČ:
E17: MĚSTO JESENÍK | I17: DIČ:
D19: Uchazeč: | I19: IČ: | J19: =IF('Rekapitulace stavby'!AN13="Vyplň údaj","",IF('Rekapitulace stavby'!AN13="","",'Rekapitulace stavby'!AN13))
E20: =IF('Rekapitulace stavby'!E14="Vyplň údaj","",IF('Rekapitulace stavby'!E14="","",'Rekapitulace stavby'!E14)) | I20: DIČ: | J20: =IF('Rekapitulace stavby'!AN14="Vyplň údaj","",IF('Rekapitulace stavby'!AN14="","",'Rekapitulace stavby'!AN14))
D22: Projektant: | I22: IČ:
E23: KANIA a.s. , Ostrava | I23: DIČ:
D25: Poznámka:
E26: Soupis prací je sestaven za využití položek Cenové soustavy ÚRS. Cenové a technické podmínky položek CS ÚRS, které nejsou uvedeny v soupisu prací (tzv. úvodní části katalogů) jsou neomezeně dálkově k dispozici na www.cs-urs.cz. Položky soupisu prací, které nemají ve sloupci „Cenová soustava“ uveden žádný údaj, nepochází z Cenové soustavy ÚRS (takové položky soupisu prací mají Cenovou soustavu „VLASTNÍ“). Ocenění "vlastní" položky:na základě odborných znalostí a zkušeností projektanta při realizaci obdobných zakázek za období 5-ti let. nebo na základě cen v místě a čase obvyklých). Nedílnou součástí soupisu prací je projektová dokumentace vč. textových příloh, na kterou se položky soupisu prací plně odkazují.
D29: Cena bez DPH | J29: =ROUND(J91,2) -> 0
F31: Základ daně | I31: Sazba daně | J31: Výše daně
D32: DPH | E32: základní | F32: =ROUND(SUM(BE91:BE229), 2) -> 0 | I32: 0.21 | J32: =ROUND(ROUND((SUM(BE91:BE229)), 2)*I32, 2) -> 0
E33: snížená | F33: =ROUND(SUM(BF91:BF229), 2) -> 0 | I33: 0.15 | J33: =ROUND(ROUND((SUM(BF91:BF229)), 2)*I33, 2) -> 0
E34: zákl. přenesená | F34: =ROUND(SUM(BG91:BG229), 2) -> 0 | I34: 0.21 | J34: 0
E35: sníž. přenesená | F35: =ROUND(SUM(BH91:BH229), 2) -> 0 | I35: 0.15 | J35: 0
E36: nulová | F36: =ROUND(SUM(BI91:BI229), 2) -> 0 | I36: 0 | J36: 0
D38: Cena s DPH | G38: v | H38: CZK | J38: =SUM(J29:J36) -> 0
C44: REKAPITULACE ČLENĚNÍ SOUPISU PRACÍ
C46: Stavba:
E47: =E7 -> CENTRUM SPOLEČNÝCH AKTIVIT JESENÍK
C48: Objekt:
E49: SO 01 - CENTRUM SPOLEČNÝCH AKTIVIT
C50: Soupis:
E51: =E11 -> D.1.2 - Stavebně konstrukční řešení
C53: Místo: | F53: =F14 -> Jeseník | I53: Datum: | J53: =IF(J14="","",J14) -> 11.10.2016
C55: Zadavatel: | F55: =E17 -> MĚSTO JESENÍK | I55: Projektant: | J55: =E23 -> KANIA a.s. , Ostrava
C56: Uchazeč: | F56: =IF(E20="","",E20)
C58: Kód dílu - Popis | J58: Cena celkem [CZK]
C60: Náklady soupisu celkem | J60: =J91 -> 0 | AU60: -1
...

Sheet D.1.3 - Požárně bezpečnos...
D1: List obsahuje: | F1: 1) Krycí list soupisu | G1: 2) Rekapitulace | J1: 3) Soupis prací | K1: Zpět na list: | L1: Rekapitulace stavby
AT2: {41a99c29-cf6f-4db0-a98e-3e658e16e2f2}
AT3: 2
D4: KRYCÍ LIST SOUPISU | M4: v --- níže se nacházejí doplnkové a pomocné údaje k sestavám --- v | AT4: False
D6: Stavba:
E7: ='Rekapitulace stavby'!K6 -> CENTRUM SPOLEČNÝCH AKTIVIT JESENÍK
D8: Objekt:
E9: SO 01 - CENTRUM SPOLEČNÝCH AKTIVIT
D10: Soupis:
E11: D.1.3 - Požárně bezpečnostní řešení
D13: KSO: | I13: CC-CZ:
D14: Místo: | F14: Jeseník | I14: Datum: | J14: ='Rekapitulace stavby'!AN8 -> 11.10.2016
D16: Zadavatel: | I16: IČ:
E17: MĚSTO JESENÍK | I17: DIČ:
D19: Uchazeč: | I19: IČ: | J19: =IF('Rekapitulace stavby'!AN13="Vyplň údaj","",IF('Rekapitulace stavby'!AN13="","",'Rekapitulace stavby'!AN13))
E20: =IF('Rekapitulace stavby'!E14="Vyplň údaj","",IF('Rekapitulace stavby'!E14="","",'Rekapitulace stavby'!E14)) | I20: DIČ: | J20: =IF('Rekapitulace stavby'!AN14="Vyplň údaj","",IF('Rekapitulace stavby'!AN14="","",'Rekapitulace stavby'!AN14))
D22: Projektant: | I22: IČ:
E23: KANIA a.s. , Ostrava | I23: DIČ:
D25: Poznámka:
E26: Soupis prací je sestaven za využití položek Cenové soustavy ÚRS. Cenové a technické podmínky položek CS ÚRS, které nejsou uvedeny v soupisu prací (tzv. úvodní části katalogů) jsou neomezeně dálkově k dispozici na www.cs-urs.cz. Položky soupisu prací, které nemají ve sloupci „Cenová soustava“ uveden žádný údaj, nepochází z Cenové soustavy ÚRS (takové položky soupisu prací mají Cenovou soustavu „VLASTNÍ“). Ocenění "vlastní" položky:na základě odborných znalostí a zkušeností projektanta při realizaci obdobných zakázek za období 5-ti let. nebo na základě cen v místě a čase obvyklých). Nedílnou součástí soupisu prací je projektová dokumentace vč. textových příloh, na kterou se položky soupisu prací plně odkazují.
D29: Cena bez DPH | J29: =ROUND(J83,2) -> 0
F31: Základ daně | I31: Sazba daně | J31: Výše daně
D32: DPH | E32: základní | F32: =ROUND(SUM(BE83:BE104), 2) -> 0 | I32: 0.21 | J32: =ROUND(ROUND((SUM(BE83:BE104)), 2)*I32, 2) -> 0
E33: snížená | F33: =ROUND(SUM(BF83:BF104), 2) -> 0 | I33: 0.15 | J33: =ROUND(ROUND((SUM(BF83:BF104)), 2)*I33, 2) -> 0
E34: zákl. přenesená | F34: =ROUND(SUM(BG83:BG104), 2) -> 0 | I34: 0.21 | J34: 0
E35: sníž. přenesená | F35: =ROUND(SUM(BH83:BH104), 2) -> 0 | I35: 0.15 | J35: 0
E36: nulová | F36: =ROUND(SUM(BI83:BI104), 2) -> 0 | I36: 0 | J36: 0
D38: Cena s DPH | G38: v | H38: CZK | J38: =SUM(J29:J36) -> 0
C44: REKAPITULACE ČLENĚNÍ SOUPISU PRACÍ
C46: Stavba:
E47: =E7 -> CENTRUM SPOLEČNÝCH AKTIVIT JESENÍK
C48: Objekt:
E49: SO 01 - CENTRUM SPOLEČNÝCH AKTIVIT
C50: Soupis:
E51: =E11 -> D.1.3 - Požárně bezpečnostní řešení
C53: Místo: | F53: =F14 -> Jeseník | I53: Datum: | J53: =IF(J14="","",J14) -> 11.10.2016
C55: Zadavatel: | F55: =E17 -> MĚSTO JESENÍK | I55: Projektant: | J55: =E23 -> KANIA a.s. , Ostrava
C56: Uchazeč: | F56: =IF(E20="","",E20)
C58: Kód dílu - Popis | J58: Cena celkem [CZK]
C60: Náklady soupisu celkem | J60: =J83 -> 0 | AU60: -1
...

Sheet D.1.4.1 - Zdravotně techn...
D1: List obsahuje: | F1: 1) Krycí list soupisu | G1: 2) Rekapitulace | J1: 3) Soupis prací | K1: Zpět na list: | L1: Rekapitulace stavby
AT2: {c6b15de3-d851-4a3a-85be-fe437fe97252}
AT3: 2
D4: KRYCÍ LIST SOUPISU | M4: v --- níže se nacházejí doplnkové a pomocné údaje k sestavám --- v | AT4: False
D6: Stavba:
E7: ='Rekapitulace stavby'!K6 -> CENTRUM SPOLEČNÝCH AKTIVIT JESENÍK
D8: Objekt:
E9: SO 01 - CENTRUM SPOLEČNÝCH AKTIVIT
D10: Soupis:
E11: D.1.4 - Technika prostředí budov
D12: Úroveň 3:
E13: D.1.4.1 - Zdravotně technické instalace, plynoinstalace
D15: KSO: | I15: CC-CZ:
D16: Místo: | F16: Jeseník | I16: Datum: | J16: ='Rekapitulace stavby'!AN8 -> 11.10.2016
D18: Zadavatel: | I18: IČ:
E19: Město Jeseník | I19: DIČ:
D21: Uchazeč: | I21: IČ: | J21: =IF('Rekapitulace stavby'!AN13="Vyplň údaj","",IF('Rekapitulace stavby'!AN13="","",'Rekapitulace stavby'!AN13))
E22: =IF('Rekapitulace stavby'!E14="Vyplň údaj","",IF('Rekapitulace stavby'!E14="","",'Rekapitulace stavby'!E14)) | I22: DIČ: | J22: =IF('Rekapitulace stavby'!AN14="Vyplň údaj","",IF('Rekapitulace stavby'!AN14="","",'Rekapitulace stavby'!AN14))
D24: Projektant: | I24: IČ:
E25: Ing. Petr Kudlík | I25: DIČ:
D27: Poznámka:
E28: Soupis prací je sestaven za využití položek Cenové soustavy ÚRS. Cenové a technické podmínky položek CS ÚRS, které nejsou uvedeny v soupisu prací (tzv. úvodní části katalogů) jsou neomezeně dálkově k dispozici na www.cs-urs.cz. Položky soupisu prací, které nemají ve sloupci „Cenová soustava“ uveden žádný údaj, nepochází z Cenové soustavy ÚRS (takové položky soupisu prací mají Cenovou soustavu „VLASTNÍ“). Ocenění "vlastní" položky:na základě odborných znalostí a zkušeností projektanta při realizaci obdobných zakázek za období 5-ti let. nebo na základě cen v místě a čase obvyklých). Nedílnou součástí soupisu prací je projektová dokumentace vč. textových příloh, na kterou se položky soupisu prací plně odkazují.
D31: Cena bez DPH | J31: =ROUND(J109,2) -> 0
F33: Základ daně | I33: Sazba daně | J33: Výše daně
D34: DPH | E34: základní | F34: =ROUND(SUM(BE109:BE1030), 2) -> 0 | I34: 0.21 | J34: =ROUND(ROUND((SUM(BE109:BE1030)), 2)*I34, 2) -> 0
E35: snížená | F35: =ROUND(SUM(BF109:BF1030), 2) -> 0 | I35: 0.15 | J35: =ROUND(ROUND((SUM(BF109:BF1030)), 2)*I35, 2) -> 0
E36: zákl. přenesená | F36: =ROUND(SUM(BG109:BG1030), 2) -> 0 | I36: 0.21 | J36: 0
E37: sníž. přenesená | F37: =ROUND(SUM(BH109:BH1030), 2) -> 0 | I37: 0.15 | J37: 0
E38: nulová | F38: =ROUND(SUM(BI109:BI1030), 2) -> 0 | I38: 0 | J38: 0
D40: Cena s DPH | G40: v | H40: CZK | J40: =SUM(J31:J38) -> 0
C46: REKAPITULACE ČLENĚNÍ SOUPISU PRACÍ
C48: Stavba:
E49: =E7 -> CENTRUM SPOLEČNÝCH AKTIVIT JESENÍK
C50: Objekt:
E51: SO 01 - CENTRUM SPOLEČNÝCH AKTIVIT
C52: Soupis:
E53: D.1.4 - Technika prostředí budov
C54: Úroveň 3:
E55: =E13 -> D.1.4.1 - Zdravotně technické instalace, plynoinstalace
C57: Místo: | F57: =F16 -> Jeseník | I57: Datum: | J57: =IF(J16="","",J16) -> 11.10.2016
...

Sheet D.1.4.2 - Vzduchotechnika...
D1: List obsahuje: | F1: 1) Krycí list soupisu | G1: 2) Rekapitulace | J1: 3) Soupis prací | K1: Zpět na list: | L1: Rekapitulace stavby
AT2: {808ae25b-b175-428c-9c3c-b5abc23010ef}
AT3: 2
D4: KRYCÍ LIST SOUPISU | M4: v --- níže se nacházejí doplnkové a pomocné údaje k sestavám --- v | AT4: False
D6: Stavba:
E7: ='Rekapitulace stavby'!K6 -> CENTRUM SPOLEČNÝCH AKTIVIT JESENÍK
D8: Objekt:
E9: SO 01 - CENTRUM SPOLEČNÝCH AKTIVIT
D10: Soupis:
E11: D.1.4 - Technika prostředí budov
D12: Úroveň 3:
E13: D.1.4.2 - Vzduchotechnika, chlazení
D15: KSO: | I15: CC-CZ:
D16: Místo: | F16: Jeseník | I16: Datum: | J16: ='Rekapitulace stavby'!AN8 -> 11.10.2016
D18: Zadavatel: | I18: IČ:
E19: MĚSTO JESENÍK | I19: DIČ:
D21: Uchazeč: | I21: IČ: | J21: =IF('Rekapitulace stavby'!AN13="Vyplň údaj","",IF('Rekapitulace stavby'!AN13="","",'Rekapitulace stavby'!AN13))
E22: =IF('Rekapitulace stavby'!E14="Vyplň údaj","",IF('Rekapitulace stavby'!E14="","",'Rekapitulace stavby'!E14)) | I22: DIČ: | J22: =IF('Rekapitulace stavby'!AN14="Vyplň údaj","",IF('Rekapitulace stavby'!AN14="","",'Rekapitulace stavby'!AN14))
D24: Projektant: | I24: IČ:
E25: KANIA a.s. , Ostrava | I25: DIČ:
D27: Poznámka:
E28: Soupis prací je sestaven za využití položek Cenové soustavy ÚRS. Cenové a technické podmínky položek CS ÚRS, které nejsou uvedeny v soupisu prací (tzv. úvodní části katalogů) jsou neomezeně dálkově k dispozici na www.cs-urs.cz. Položky soupisu prací, které nemají ve sloupci „Cenová soustava“ uveden žádný údaj, nepochází z Cenové soustavy ÚRS (takové položky soupisu prací mají Cenovou soustavu „VLASTNÍ“). Ocenění "vlastní" položky:na základě odborných znalostí a zkušeností projektanta při realizaci obdobných zakázek za období 5-ti let. nebo na základě cen v místě a čase obvyklých). Nedílnou součástí soupisu prací je projektová dokumentace vč. textových příloh, na kterou se položky soupisu prací plně odkazují.
D31: Cena bez DPH | J31: =ROUND(J100,2) -> 0
F33: Základ daně | I33: Sazba daně | J33: Výše daně
D34: DPH | E34: základní | F34: =ROUND(SUM(BE100:BE217), 2) -> 0 | I34: 0.21 | J34: =ROUND(ROUND((SUM(BE100:BE217)), 2)*I34, 2) -> 0
E35: snížená | F35: =ROUND(SUM(BF100:BF217), 2) -> 0 | I35: 0.15 | J35: =ROUND(ROUND((SUM(BF100:BF217)), 2)*I35, 2) -> 0
E36: zákl. přenesená | F36: =ROUND(SUM(BG100:BG217), 2) -> 0 | I36: 0.21 | J36: 0
E37: sníž. přenesená | F37: =ROUND(SUM(BH100:BH217), 2) -> 0 | I37: 0.15 | J37: 0
E38: nulová | F38: =ROUND(SUM(BI100:BI217), 2) -> 0 | I38: 0 | J38: 0
D40: Cena s DPH | G40: v | H40: CZK | J40: =SUM(J31:J38) -> 0
C46: REKAPITULACE ČLENĚNÍ SOUPISU PRACÍ
C48: Stavba:
E49: =E7 -> CENTRUM SPOLEČNÝCH AKTIVIT JESENÍK
C50: Objekt:
E51: SO 01 - CENTRUM SPOLEČNÝCH AKTIVIT
C52: Soupis:
E53: D.1.4 - Technika prostředí budov
C54: Úroveň 3:
E55: =E13 -> D.1.4.2 - Vzduchotechnika, chlazení
C57: Místo: | F57: =F16 -> Jeseník | I57: Datum: | J57: =IF(J16="","",J16) -> 11.10.2016
...

Sheet D.1.4.3 - Vytápění
D1: List obsahuje: | F1: 1) Krycí list soupisu | G1: 2) Rekapitulace | J1: 3) Soupis prací | K1: Zpět na list: | L1: Rekapitulace stavby
AT2: {cd0c862f-14f7-41bc-a760-da8a038cce88}
AT3: 2
D4: KRYCÍ LIST SOUPISU | M4: v --- níže se nacházejí doplnkové a pomocné údaje k sestavám --- v | AT4: False
D6: Stavba:
E7: ='Rekapitulace stavby'!K6 -> CENTRUM SPOLEČNÝCH AKTIVIT JESENÍK
D8: Objekt:
E9: SO 01 - CENTRUM SPOLEČNÝCH AKTIVIT
D10: Soupis:
E11: D.1.4 - Technika prostředí budov
D12: Úroveň 3:
E13: D.1.4.3 - Vytápění
D15: KSO: | I15: CC-CZ:
D16: Místo: | F16: Jeseník | I16: Datum: | J16: ='Rekapitulace stavby'!AN8 -> 11.10.2016
D18: Zadavatel: | I18: IČ:
E19: MĚSTO JESENÍK | I19: DIČ:
D21: Uchazeč: | I21: IČ: | J21: =IF('Rekapitulace stavby'!AN13="Vyplň údaj","",IF('Rekapitulace stavby'!AN13="","",'Rekapitulace stavby'!AN13))
E22: =IF('Rekapitulace stavby'!E14="Vyplň údaj","",IF('Rekapitulace stavby'!E14="","",'Rekapitulace stavby'!E14)) | I22: DIČ: | J22: =IF('Rekapitulace stavby'!AN14="Vyplň údaj","",IF('Rekapitulace stavby'!AN14="","",'Rekapitulace stavby'!AN14))
D24: Projektant: | I24: IČ:
E25: KANIA, a.s. , Špálova 80/9, Ostrava | I25: DIČ:
D27: Poznámka:
E28: Soupis prací je sestaven za využití položek Cenové soustavy ÚRS. Cenové a technické podmínky položek CS ÚRS, které nejsou uvedeny v soupisu prací (tzv. úvodní části katalogů) jsou neomezeně dálkově k dispozici na www.cs-urs.cz. Položky soupisu prací, které nemají ve sloupci „Cenová soustava“ uveden žádný údaj, nepochází z Cenové soustavy ÚRS (takové položky soupisu prací mají Cenovou soustavu „VLASTNÍ“). Ocenění "vlastní" položky:na základě odborných znalostí a zkušeností projektanta při realizaci obdobných zakázek za období 5-ti let. nebo na základě cen v místě a čase obvyklých). Nedílnou součástí soupisu prací je projektová dokumentace vč. textových příloh, na kterou se položky soupisu prací plně odkazují.
D31: Cena bez DPH | J31: =ROUND(J95,2) -> 0
F33: Základ daně | I33: Sazba daně | J33: Výše daně
D34: DPH | E34: základní | F34: =ROUND(SUM(BE95:BE194), 2) -> 0 | I34: 0.21 | J34: =ROUND(ROUND((SUM(BE95:BE194)), 2)*I34, 2) -> 0
E35: snížená | F35: =ROUND(SUM(BF95:BF194), 2) -> 0 | I35: 0.15 | J35: =ROUND(ROUND((SUM(BF95:BF194)), 2)*I35, 2) -> 0
E36: zákl. přenesená | F36: =ROUND(SUM(BG95:BG194), 2) -> 0 | I36: 0.21 | J36: 0
E37: sníž. přenesená | F37: =ROUND(SUM(BH95:BH194), 2) -> 0 | I37: 0.15 | J37: 0
E38: nulová | F38: =ROUND(SUM(BI95:BI194), 2) -> 0 | I38: 0 | J38: 0
D40: Cena s DPH | G40: v | H40: CZK | J40: =SUM(J31:J38) -> 0
C46: REKAPITULACE ČLENĚNÍ SOUPISU PRACÍ
C48: Stavba:
E49: =E7 -> CENTRUM SPOLEČNÝCH AKTIVIT JESENÍK
C50: Objekt:
E51: SO 01 - CENTRUM SPOLEČNÝCH AKTIVIT
C52: Soupis:
E53: D.1.4 - Technika prostředí budov
C54: Úroveň 3:
E55: =E13 -> D.1.4.3 - Vytápění
C57: Místo: | F57: =F16 -> Jeseník | I57: Datum: | J57: =IF(J16="","",J16) -> 11.10.2016
...

Sheet D.1.4.4 - Měření a regulace
D1: List obsahuje: | F1: 1) Krycí list soupisu | G1: 2) Rekapitulace | J1: 3) Soupis prací | K1: Zpět na list: | L1: Rekapitulace stavby
AT2: {cc52c750-9d41-4603-83f8-91cb7cf7b785}
AT3: 2
D4: KRYCÍ LIST SOUPISU | M4: v --- níže se nacházejí doplnkové a pomocné údaje k sestavám --- v | AT4: False
D6: Stavba:
E7: ='Rekapitulace stavby'!K6 -> CENTRUM SPOLEČNÝCH AKTIVIT JESENÍK
D8: Objekt:
E9: SO 01 - CENTRUM SPOLEČNÝCH AKTIVIT
D10: Soupis:
E11: D.1.4 - Technika prostředí budov
D12: Úroveň 3:
E13: D.1.4.4 - Měření a regulace
D15: KSO: | I15: CC-CZ:
D16: Místo: | F16: Jeseník | I16: Datum: | J16: ='Rekapitulace stavby'!AN8 -> 11.10.2016
D18: Zadavatel: | I18: IČ:
E19: MĚSTO JESENÍK | I19: DIČ:
D21: Uchazeč: | I21: IČ: | J21: =IF('Rekapitulace stavby'!AN13="Vyplň údaj","",IF('Rekapitulace stavby'!AN13="","",'Rekapitulace stavby'!AN13))
E22: =IF('Rekapitulace stavby'!E14="Vyplň údaj","",IF('Rekapitulace stavby'!E14="","",'Rekapitulace stavby'!E14)) | I22: DIČ: | J22: =IF('Rekapitulace stavby'!AN14="Vyplň údaj","",IF('Rekapitulace stavby'!AN14="","",'Rekapitulace stavby'!AN14))
D24: Projektant: | I24: IČ:
E25: KANIA a.s. , Ostrava | I25: DIČ:
D27: Poznámka:
E28: Soupis prací je sestaven za využití položek Cenové soustavy ÚRS. Cenové a technické podmínky položek CS ÚRS, které nejsou uvedeny v soupisu prací (tzv. úvodní části katalogů) jsou neomezeně dálkově k dispozici na www.cs-urs.cz. Položky soupisu prací, které nemají ve sloupci „Cenová soustava“ uveden žádný údaj, nepochází z Cenové soustavy ÚRS (takové položky soupisu prací mají Cenovou soustavu „VLASTNÍ“). Ocenění "vlastní" položky:na základě odborných znalostí a zkušeností projektanta při realizaci obdobných zakázek za období 5-ti let. nebo na základě cen v místě a čase obvyklých). Nedílnou součástí soupisu prací je projektová dokumentace vč. textových příloh, na kterou se položky soupisu prací plně odkazují.
D31: Cena bez DPH | J31: =ROUND(J93,2) -> 0
F33: Základ daně | I33: Sazba daně | J33: Výše daně
D34: DPH | E34: základní | F34: =ROUND(SUM(BE93:BE169), 2) -> 0 | I34: 0.21 | J34: =ROUND(ROUND((SUM(BE93:BE169)), 2)*I34, 2) -> 0
E35: snížená | F35: =ROUND(SUM(BF93:BF169), 2) -> 0 | I35: 0.15 | J35: =ROUND(ROUND((SUM(BF93:BF169)), 2)*I35, 2) -> 0
E36: zákl. přenesená | F36: =ROUND(SUM(BG93:BG169), 2) -> 0 | I36: 0.21 | J36: 0
E37: sníž. přenesená | F37: =ROUND(SUM(BH93:BH169), 2) -> 0 | I37: 0.15 | J37: 0
E38: nulová | F38: =ROUND(SUM(BI93:BI169), 2) -> 0 | I38: 0 | J38: 0
D40: Cena s DPH | G40: v | H40: CZK | J40: =SUM(J31:J38) -> 0
C46: REKAPITULACE ČLENĚNÍ SOUPISU PRACÍ
C48: Stavba:
E49: =E7 -> CENTRUM SPOLEČNÝCH AKTIVIT JESENÍK
C50: Objekt:
E51: SO 01 - CENTRUM SPOLEČNÝCH AKTIVIT
C52: Soupis:
E53: D.1.4 - Technika prostředí budov
C54: Úroveň 3:
E55: =E13 -> D.1.4.4 - Měření a regulace
C57: Místo: | F57: =F16 -> Jeseník | I57: Datum: | J57: =IF(J16="","",J16) -> 11.10.2016
...

Sheet D.1.4.5 - Silnoproudá ele...
D1: List obsahuje: | F1: 1) Krycí list soupisu | G1: 2) Rekapitulace | J1: 3) Soupis prací | K1: Zpět na list: | L1: Rekapitulace stavby
AT2: {fea974e2-36bb-4334-bc71-a40d4e9c247c}
AT3: 2
D4: KRYCÍ LIST SOUPISU | M4: v --- níže se nacházejí doplnkové a pomocné údaje k sestavám --- v | AT4: False
D6: Stavba:
E7: ='Rekapitulace stavby'!K6 -> CENTRUM SPOLEČNÝCH AKTIVIT JESENÍK
D8: Objekt:
E9: SO 01 - CENTRUM SPOLEČNÝCH AKTIVIT
D10: Soupis:
E11: D.1.4 - Technika prostředí budov
D12: Úroveň 3:
E13: D.1.4.5 - Silnoproudá elektrotechnika
D15: KSO: | I15: CC-CZ:
D16: Místo: | F16: Jeseník | I16: Datum: | J16: ='Rekapitulace stavby'!AN8 -> 11.10.2016
D18: Zadavatel: | I18: IČ:
E19: MĚSTO JESENÍK | I19: DIČ:
D21: Uchazeč: | I21: IČ: | J21: =IF('Rekapitulace stavby'!AN13="Vyplň údaj","",IF('Rekapitulace stavby'!AN13="","",'Rekapitulace stavby'!AN13))
E22: =IF('Rekapitulace stavby'!E14="Vyplň údaj","",IF('Rekapitulace stavby'!E14="","",'Rekapitulace stavby'!E14)) | I22: DIČ: | J22: =IF('Rekapitulace stavby'!AN14="Vyplň údaj","",IF('Rekapitulace stavby'!AN14="","",'Rekapitulace stavby'!AN14))
D24: Projektant: | I24: IČ:
E25: KANIA, a.s. , Špálova 80/9, Ostrava | I25: DIČ:
D27: Poznámka:
E28: Soupis prací je sestaven za využití položek Cenové soustavy ÚRS. Cenové a technické podmínky položek CS ÚRS, které nejsou uvedeny v soupisu prací (tzv. úvodní části katalogů) jsou neomezeně dálkově k dispozici na www.cs-urs.cz. Položky soupisu prací, které nemají ve sloupci „Cenová soustava“ uveden žádný údaj, nepochází z Cenové soustavy ÚRS (takové položky soupisu prací mají Cenovou soustavu „VLASTNÍ“). Ocenění "vlastní" položky:na základě odborných znalostí a zkušeností projektanta při realizaci obdobných zakázek za období 5-ti let. nebo na základě cen v místě a čase obvyklých). Nedílnou součástí soupisu prací je projektová dokumentace vč. textových příloh, na kterou se položky soupisu prací plně odkazují.
D31: Cena bez DPH | J31: =ROUND(J103,2) -> 0
F33: Základ daně | I33: Sazba daně | J33: Výše daně
D34: DPH | E34: základní | F34: =ROUND(SUM(BE103:BE308), 2) -> 0 | I34: 0.21 | J34: =ROUND(ROUND((SUM(BE103:BE308)), 2)*I34, 2) -> 0
E35: snížená | F35: =ROUND(SUM(BF103:BF308), 2) -> 0 | I35: 0.15 | J35: =ROUND(ROUND((SUM(BF103:BF308)), 2)*I35, 2) -> 0
E36: zákl. přenesená | F36: =ROUND(SUM(BG103:BG308), 2) -> 0 | I36: 0.21 | J36: 0
E37: sníž. přenesená | F37: =ROUND(SUM(BH103:BH308), 2) -> 0 | I37: 0.15 | J37: 0
E38: nulová | F38: =ROUND(SUM(BI103:BI308), 2) -> 0 | I38: 0 | J38: 0
D40: Cena s DPH | G40: v | H40: CZK | J40: =SUM(J31:J38) -> 0
C46: REKAPITULACE ČLENĚNÍ SOUPISU PRACÍ
C48: Stavba:
E49: =E7 -> CENTRUM SPOLEČNÝCH AKTIVIT JESENÍK
C50: Objekt:
E51: SO 01 - CENTRUM SPOLEČNÝCH AKTIVIT
C52: Soupis:
E53: D.1.4 - Technika prostředí budov
C54: Úroveň 3:
E55: =E13 -> D.1.4.5 - Silnoproudá elektrotechnika
C57: Místo: | F57: =F16 -> Jeseník | I57: Datum: | J57: =IF(J16="","",J16) -> 11.10.2016
...

Sheet SK - Strukturovaná kabeláž
D1: List obsahuje: | F1: 1) Krycí list soupisu | G1: 2) Rekapitulace | J1: 3) Soupis prací | K1: Zpět na list: | L1: Rekapitulace stavby
AT2: {eda48ed8-ad1d-4524-aae8-4538db2091ec}
AT3: 2
D4: KRYCÍ LIST SOUPISU | M4: v --- níže se nacházejí doplnkové a pomocné údaje k sestavám --- v | AT4: False
D6: Stavba:
E7: ='Rekapitulace stavby'!K6 -> CENTRUM SPOLEČNÝCH AKTIVIT JESENÍK
D8: Objekt:
E9: SO 01 - CENTRUM SPOLEČNÝCH AKTIVIT
D10: Soupis:
E11: D.1.4 - Technika prostředí budov
D12: Úroveň 4:
E13: SK - Strukturovaná kabeláž
D15: KSO: | I15: CC-CZ:
D16: Místo: | I16: Datum: | J16: ='Rekapitulace stavby'!AN8 -> 11.10.2016
D18: Zadavatel: | I18: IČ:
E19: MĚSTO JESENÍK | I19: DIČ:
D21: Uchazeč: | I21: IČ: | J21: =IF('Rekapitulace stavby'!AN13="Vyplň údaj","",IF('Rekapitulace stavby'!AN13="","",'Rekapitulace stavby'!AN13))
E22: =IF('Rekapitulace stavby'!E14="Vyplň údaj","",IF('Rekapitulace stavby'!E14="","",'Rekapitulace stavby'!E14)) | I22: DIČ: | J22: =IF('Rekapitulace stavby'!AN14="Vyplň údaj","",IF('Rekapitulace stavby'!AN14="","",'Rekapitulace stavby'!AN14))
D24: Projektant: | I24: IČ:
E25: KANIA a.s. , Ostrava | I25: DIČ:
D27: Poznámka:
E28: Soupis prací je sestaven za využití položek Cenové soustavy ÚRS. Cenové a technické podmínky položek CS ÚRS, které nejsou uvedeny v soupisu prací (tzv. úvodní části katalogů) jsou neomezeně dálkově k dispozici na www.cs-urs.cz. Položky soupisu prací, které nemají ve sloupci „Cenová soustava“ uveden žádný údaj, nepochází z Cenové soustavy ÚRS (takové položky soupisu prací mají Cenovou soustavu „VLASTNÍ“). Ocenění "vlastní" položky:na základě odborných znalostí a zkušeností projektanta při realizaci obdobných zakázek za období 5-ti let. nebo na základě cen v místě a čase obvyklých). Nedílnou součástí soupisu prací je projektová dokumentace vč. textových příloh, na kterou se položky soupisu prací plně odkazují.
D31: Cena bez DPH | J31: =ROUND(J95,2) -> 0
F33: Základ daně | I33: Sazba daně | J33: Výše daně
D34: DPH | E34: základní | F34: =ROUND(SUM(BE95:BE141), 2) -> 0 | I34: 0.21 | J34: =ROUND(ROUND((SUM(BE95:BE141)), 2)*I34, 2) -> 0
E35: snížená | F35: =ROUND(SUM(BF95:BF141), 2) -> 0 | I35: 0.15 | J35: =ROUND(ROUND((SUM(BF95:BF141)), 2)*I35, 2) -> 0
E36: zákl. přenesená | F36: =ROUND(SUM(BG95:BG141), 2) -> 0 | I36: 0.21 | J36: 0
E37: sníž. přenesená | F37: =ROUND(SUM(BH95:BH141), 2) -> 0 | I37: 0.15 | J37: 0
E38: nulová | F38: =ROUND(SUM(BI95:BI141), 2) -> 0 | I38: 0 | J38: 0
D40: Cena s DPH | G40: v | H40: CZK | J40: =SUM(J31:J38) -> 0
C46: REKAPITULACE ČLENĚNÍ SOUPISU PRACÍ
C48: Stavba:
E49: =E7 -> CENTRUM SPOLEČNÝCH AKTIVIT JESENÍK
C50: Objekt:
E51: SO 01 - CENTRUM SPOLEČNÝCH AKTIVIT
C52: Soupis:
E53: D.1.4 - Technika prostředí budov
C54: Úroveň 4:
E55: =E13 -> SK - Strukturovaná kabeláž
C57: Místo: | F57: =F16 | I57: Datum: | J57: =IF(J16="","",J16) -> 11.10.2016
...

Sheet PZTS - Poplachový zabezpe...
D1: List obsahuje: | F1: 1) Krycí list soupisu | G1: 2) Rekapitulace | J1: 3) Soupis prací | K1: Zpět na list: | L1: Rekapitulace stavby
AT2: {3d925d54-683a-4502-b08a-4b4fa27ba83a}
AT3: 2
D4: KRYCÍ LIST SOUPISU | M4: v --- níže se nacházejí doplnkové a pomocné údaje k sestavám --- v | AT4: False
D6: Stavba:
E7: ='Rekapitulace stavby'!K6 -> CENTRUM SPOLEČNÝCH AKTIVIT JESENÍK
D8: Objekt:
E9: SO 01 - CENTRUM SPOLEČNÝCH AKTIVIT
D10: Soupis:
E11: D.1.4 - Technika prostředí budov
D12: Úroveň 4:
E13: PZTS - Poplachový zabezpečovací a tísňový systém
D15: KSO: | I15: CC-CZ:
D16: Místo: | I16: Datum: | J16: ='Rekapitulace stavby'!AN8 -> 11.10.2016
D18: Zadavatel: | I18: IČ:
E19: MĚSTO JESENÍK | I19: DIČ:
D21: Uchazeč: | I21: IČ: | J21: =IF('Rekapitulace stavby'!AN13="Vyplň údaj","",IF('Rekapitulace stavby'!AN13="","",'Rekapitulace stavby'!AN13))
E22: =IF('Rekapitulace stavby'!E14="Vyplň údaj","",IF('Rekapitulace stavby'!E14="","",'Rekapitulace stavby'!E14)) | I22: DIČ: | J22: =IF('Rekapitulace stavby'!AN14="Vyplň údaj","",IF('Rekapitulace stavby'!AN14="","",'Rekapitulace stavby'!AN14))
D24: Projektant: | I24: IČ:
E25: KANIA a.s. , Ostrava | I25: DIČ:
D27: Poznámka:
E28: Soupis prací je sestaven za využití položek Cenové soustavy ÚRS. Cenové a technické podmínky položek CS ÚRS, které nejsou uvedeny v soupisu prací (tzv. úvodní části katalogů) jsou neomezeně dálkově k dispozici na www.cs-urs.cz. Položky soupisu prací, které nemají ve sloupci „Cenová soustava“ uveden žádný údaj, nepochází z Cenové soustavy ÚRS (takové položky soupisu prací mají Cenovou soustavu „VLASTNÍ“). Ocenění "vlastní" položky:na základě odborných znalostí a zkušeností projektanta při realizaci obdobných zakázek za období 5-ti let. nebo na základě cen v místě a čase obvyklých). Nedílnou součástí soupisu prací je projektová dokumentace vč. textových příloh, na kterou se položky soupisu prací plně odkazují.
D31: Cena bez DPH | J31: =ROUND(J91,2) -> 0
F33: Základ daně | I33: Sazba daně | J33: Výše daně
D34: DPH | E34: základní | F34: =ROUND(SUM(BE91:BE121), 2) -> 0 | I34: 0.21 | J34: =ROUND(ROUND((SUM(BE91:BE121)), 2)*I34, 2) -> 0
E35: snížená | F35: =ROUND(SUM(BF91:BF121), 2) -> 0 | I35: 0.15 | J35: =ROUND(ROUND((SUM(BF91:BF121)), 2)*I35, 2) -> 0
E36: zákl. přenesená | F36: =ROUND(SUM(BG91:BG121), 2) -> 0 | I36: 0.21 | J36: 0
E37: sníž. přenesená | F37: =ROUND(SUM(BH91:BH121), 2) -> 0 | I37: 0.15 | J37: 0
E38: nulová | F38: =ROUND(SUM(BI91:BI121), 2) -> 0 | I38: 0 | J38: 0
D40: Cena s DPH | G40: v | H40: CZK | J40: =SUM(J31:J38) -> 0
C46: REKAPITULACE ČLENĚNÍ SOUPISU PRACÍ
C48: Stavba:
E49: =E7 -> CENTRUM SPOLEČNÝCH AKTIVIT JESENÍK
C50: Objekt:
E51: SO 01 - CENTRUM SPOLEČNÝCH AKTIVIT
C52: Soupis:
E53: D.1.4 - Technika prostředí budov
C54: Úroveň 4:
E55: =E13 -> PZTS - Poplachový zabezpečovací a tísňový systém
C57: Místo: | F57: =F16 | I57: Datum: | J57: =IF(J16="","",J16) -> 11.10.2016
...

Sheet CCTV - Kamerový systém
D1: List obsahuje: | F1: 1) Krycí list soupisu | G1: 2) Rekapitulace | J1: 3) Soupis prací | K1: Zpět na list: | L1: Rekapitulace stavby
AT2: {7ce148ef-d905-4a3c-b2e3-ac873c44a1af}
AT3: 2
D4: KRYCÍ LIST SOUPISU | M4: v --- níže se nacházejí doplnkové a pomocné údaje k sestavám --- v | AT4: False
D6: Stavba:
E7: ='Rekapitulace stavby'!K6 -> CENTRUM SPOLEČNÝCH AKTIVIT JESENÍK
D8: Objekt:
E9: SO 01 - CENTRUM SPOLEČNÝCH AKTIVIT
D10: Soupis:
E11: D.1.4 - Technika prostředí budov
D12: Úroveň 4:
E13: CCTV - Kamerový systém
D15: KSO: | I15: CC-CZ:
D16: Místo: | I16: Datum: | J16: ='Rekapitulace stavby'!AN8 -> 11.10.2016
D18: Zadavatel: | I18: IČ:
E19: MĚSTO JESENÍK | I19: DIČ:
D21: Uchazeč: | I21: IČ: | J21: =IF('Rekapitulace stavby'!AN13="Vyplň údaj","",IF('Rekapitulace stavby'!AN13="","",'Rekapitulace stavby'!AN13))
E22: =IF('Rekapitulace stavby'!E14="Vyplň údaj","",IF('Rekapitulace stavby'!E14="","",'Rekapitulace stavby'!E14)) | I22: DIČ: | J22: =IF('Rekapitulace stavby'!AN14="Vyplň údaj","",IF('Rekapitulace stavby'!AN14="","",'Rekapitulace stavby'!AN14))
D24: Projektant: | I24: IČ:
E25: KANIA a.s. , Ostrava | I25: DIČ:
D27: Poznámka:
E28: Soupis prací je sestaven za využití položek Cenové soustavy ÚRS. Cenové a technické podmínky položek CS ÚRS, které nejsou uvedeny v soupisu prací (tzv. úvodní části katalogů) jsou neomezeně dálkově k dispozici na www.cs-urs.cz. Položky soupisu prací, které nemají ve sloupci „Cenová soustava“ uveden žádný údaj, nepochází z Cenové soustavy ÚRS (takové položky soupisu prací mají Cenovou soustavu „VLASTNÍ“). Ocenění "vlastní" položky:na základě odborných znalostí a zkušeností projektanta při realizaci obdobných zakázek za období 5-ti let. nebo na základě cen v místě a čase obvyklých). Nedílnou součástí soupisu prací je projektová dokumentace vč. textových příloh, na kterou se položky soupisu prací plně odkazují.
D31: Cena bez DPH | J31: =ROUND(J91,2) -> 0
F33: Základ daně | I33: Sazba daně | J33: Výše daně
D34: DPH | E34: základní | F34: =ROUND(SUM(BE91:BE109), 2) -> 0 | I34: 0.21 | J34: =ROUND(ROUND((SUM(BE91:BE109)), 2)*I34, 2) -> 0
E35: snížená | F35: =ROUND(SUM(BF91:BF109), 2) -> 0 | I35: 0.15 | J35: =ROUND(ROUND((SUM(BF91:BF109)), 2)*I35, 2) -> 0
E36: zákl. přenesená | F36: =ROUND(SUM(BG91:BG109), 2) -> 0 | I36: 0.21 | J36: 0
E37: sníž. přenesená | F37: =ROUND(SUM(BH91:BH109), 2) -> 0 | I37: 0.15 | J37: 0
E38: nulová | F38: =ROUND(SUM(BI91:BI109), 2) -> 0 | I38: 0 | J38: 0
D40: Cena s DPH | G40: v | H40: CZK | J40: =SUM(J31:J38) -> 0
C46: REKAPITULACE ČLENĚNÍ SOUPISU PRACÍ
C48: Stavba:
E49: =E7 -> CENTRUM SPOLEČNÝCH AKTIVIT JESENÍK
C50: Objekt:
E51: SO 01 - CENTRUM SPOLEČNÝCH AKTIVIT
C52: Soupis:
E53: D.1.4 - Technika prostředí budov
C54: Úroveň 4:
E55: =E13 -> CCTV - Kamerový systém
C57: Místo: | F57: =F16 | I57: Datum: | J57: =IF(J16="","",J16) -> 11.10.2016
...

Sheet DT - Domovní telefon
D1: List obsahuje: | F1: 1) Krycí list soupisu | G1: 2) Rekapitulace | J1: 3) Soupis prací | K1: Zpět na list: | L1: Rekapitulace stavby
AT2: {713864c5-7a2f-4cf8-9764-47402857b126}
AT3: 2
D4: KRYCÍ LIST SOUPISU | M4: v --- níže se nacházejí doplnkové a pomocné údaje k sestavám --- v | AT4: False
D6: Stavba:
E7: ='Rekapitulace stavby'!K6 -> CENTRUM SPOLEČNÝCH AKTIVIT JESENÍK
D8: Objekt:
E9: SO 01 - CENTRUM SPOLEČNÝCH AKTIVIT
D10: Soupis:
E11: D.1.4 - Technika prostředí budov
D12: Úroveň 4:
E13: DT - Domovní telefon
D15: KSO: | I15: CC-CZ:
D16: Místo: | I16: Datum: | J16: ='Rekapitulace stavby'!AN8 -> 11.10.2016
D18: Zadavatel: | I18: IČ:
E19: MĚSTO JESENÍK | I19: DIČ:
D21: Uchazeč: | I21: IČ: | J21: =IF('Rekapitulace stavby'!AN13="Vyplň údaj","",IF('Rekapitulace stavby'!AN13="","",'Rekapitulace stavby'!AN13))
E22: =IF('Rekapitulace stavby'!E14="Vyplň údaj","",IF('Rekapitulace stavby'!E14="","",'Rekapitulace stavby'!E14)) | I22: DIČ: | J22: =IF('Rekapitulace stavby'!AN14="Vyplň údaj","",IF('Rekapitulace stavby'!AN14="","",'Rekapitulace stavby'!AN14))
D24: Projektant: | I24: IČ:
E25: KANIA a.s. , Ostrava | I25: DIČ:
D27: Poznámka:
E28: Soupis prací je sestaven za využití položek Cenové soustavy ÚRS. Cenové a technické podmínky položek CS ÚRS, které nejsou uvedeny v soupisu prací (tzv. úvodní části katalogů) jsou neomezeně dálkově k dispozici na www.cs-urs.cz. Položky soupisu prací, které nemají ve sloupci „Cenová soustava“ uveden žádný údaj, nepochází z Cenové soustavy ÚRS (takové položky soupisu prací mají Cenovou soustavu „VLASTNÍ“). Ocenění "vlastní" položky:na základě odborných znalostí a zkušeností projektanta při realizaci obdobných zakázek za období 5-ti let. nebo na základě cen v místě a čase obvyklých). Nedílnou součástí soupisu prací je projektová dokumentace vč. textových příloh, na kterou se položky soupisu prací plně odkazují.
D31: Cena bez DPH | J31: =ROUND(J91,2) -> 0
F33: Základ daně | I33: Sazba daně | J33: Výše daně
D34: DPH | E34: základní | F34: =ROUND(SUM(BE91:BE106), 2) -> 0 | I34: 0.21 | J34: =ROUND(ROUND((SUM(BE91:BE106)), 2)*I34, 2) -> 0
E35: snížená | F35: =ROUND(SUM(BF91:BF106), 2) -> 0 | I35: 0.15 | J35: =ROUND(ROUND((SUM(BF91:BF106)), 2)*I35, 2) -> 0
E36: zákl. přenesená | F36: =ROUND(SUM(BG91:BG106), 2) -> 0 | I36: 0.21 | J36: 0
E37: sníž. přenesená | F37: =ROUND(SUM(BH91:BH106), 2) -> 0 | I37: 0.15 | J37: 0
E38: nulová | F38: =ROUND(SUM(BI91:BI106), 2) -> 0 | I38: 0 | J38: 0
D40: Cena s DPH | G40: v | H40: CZK | J40: =SUM(J31:J38) -> 0
C46: REKAPITULACE ČLENĚNÍ SOUPISU PRACÍ
C48: Stavba:
E49: =E7 -> CENTRUM SPOLEČNÝCH AKTIVIT JESENÍK
C50: Objekt:
E51: SO 01 - CENTRUM SPOLEČNÝCH AKTIVIT
C52: Soupis:
E53: D.1.4 - Technika prostředí budov
C54: Úroveň 4:
E55: =E13 -> DT - Domovní telefon
C57: Místo: | F57: =F16 | I57: Datum: | J57: =IF(J16="","",J16) -> 11.10.2016
...

Sheet AV - Audio-video technika
D1: List obsahuje: | F1: 1) Krycí list soupisu | G1: 2) Rekapitulace | J1: 3) Soupis prací | K1: Zpět na list: | L1: Rekapitulace stavby
AT2: {9ab366c1-1d11-4b97-8f79-0487f622ed48}
AT3: 2
D4: KRYCÍ LIST SOUPISU | M4: v --- níže se nacházejí doplnkové a pomocné údaje k sestavám --- v | AT4: False
D6: Stavba:
E7: ='Rekapitulace stavby'!K6 -> CENTRUM SPOLEČNÝCH AKTIVIT JESENÍK
D8: Objekt:
E9: SO 01 - CENTRUM SPOLEČNÝCH AKTIVIT
D10: Soupis:
E11: D.1.4 - Technika prostředí budov
D12: Úroveň 4:
E13: AV - Audio/video technika
D15: KSO: | I15: CC-CZ:
D16: Místo: | I16: Datum: | J16: ='Rekapitulace stavby'!AN8 -> 11.10.2016
D18: Zadavatel: | I18: IČ:
E19: MĚSTO JESENÍK | I19: DIČ:
D21: Uchazeč: | I21: IČ: | J21: =IF('Rekapitulace stavby'!AN13="Vyplň údaj","",IF('Rekapitulace stavby'!AN13="","",'Rekapitulace stavby'!AN13))
E22: =IF('Rekapitulace stavby'!E14="Vyplň údaj","",IF('Rekapitulace stavby'!E14="","",'Rekapitulace stavby'!E14)) | I22: DIČ: | J22: =IF('Rekapitulace stavby'!AN14="Vyplň údaj","",IF('Rekapitulace stavby'!AN14="","",'Rekapitulace stavby'!AN14))
D24: Projektant: | I24: IČ:
E25: KANIA a.s. , Ostrava | I25: DIČ:
D27: Poznámka:
E28: Soupis prací je sestaven za využití položek Cenové soustavy ÚRS. Cenové a technické podmínky položek CS ÚRS, které nejsou uvedeny v soupisu prací (tzv. úvodní části katalogů) jsou neomezeně dálkově k dispozici na www.cs-urs.cz. Položky soupisu prací, které nemají ve sloupci „Cenová soustava“ uveden žádný údaj, nepochází z Cenové soustavy ÚRS (takové položky soupisu prací mají Cenovou soustavu „VLASTNÍ“). Ocenění "vlastní" položky:na základě odborných znalostí a zkušeností projektanta při realizaci obdobných zakázek za období 5-ti let. nebo na základě cen v místě a čase obvyklých). Nedílnou součástí soupisu prací je projektová dokumentace vč. textových příloh, na kterou se položky soupisu prací plně odkazují.
D31: Cena bez DPH | J31: =ROUND(J91,2) -> 0
F33: Základ daně | I33: Sazba daně | J33: Výše daně
D34: DPH | E34: základní | F34: =ROUND(SUM(BE91:BE116), 2) -> 0 | I34: 0.21 | J34: =ROUND(ROUND((SUM(BE91:BE116)), 2)*I34, 2) -> 0
E35: snížená | F35: =ROUND(SUM(BF91:BF116), 2) -> 0 | I35: 0.15 | J35: =ROUND(ROUND((SUM(BF91:BF116)), 2)*I35, 2) -> 0
E36: zákl. přenesená | F36: =ROUND(SUM(BG91:BG116), 2) -> 0 | I36: 0.21 | J36: 0
E37: sníž. přenesená | F37: =ROUND(SUM(BH91:BH116), 2) -> 0 | I37: 0.15 | J37: 0
E38: nulová | F38: =ROUND(SUM(BI91:BI116), 2) -> 0 | I38: 0 | J38: 0
D40: Cena s DPH | G40: v | H40: CZK | J40: =SUM(J31:J38) -> 0
C46: REKAPITULACE ČLENĚNÍ SOUPISU PRACÍ
C48: Stavba:
E49: =E7 -> CENTRUM SPOLEČNÝCH AKTIVIT JESENÍK
C50: Objekt:
E51: SO 01 - CENTRUM SPOLEČNÝCH AKTIVIT
C52: Soupis:
E53: D.1.4 - Technika prostředí budov
C54: Úroveň 4:
E55: =E13 -> AV - Audio/video technika
C57: Místo: | F57: =F16 | I57: Datum: | J57: =IF(J16="","",J16) -> 11.10.2016
...

Sheet KT - Kabelové trasy
D1: List obsahuje: | F1: 1) Krycí list soupisu | G1: 2) Rekapitulace | J1: 3) Soupis prací | K1: Zpět na list: | L1: Rekapitulace stavby
AT2: {0b105b6a-2e8d-4560-82a0-6de818914414}
AT3: 2
D4: KRYCÍ LIST SOUPISU | M4: v --- níže se nacházejí doplnkové a pomocné údaje k sestavám --- v | AT4: False
D6: Stavba:
E7: ='Rekapitulace stavby'!K6 -> CENTRUM SPOLEČNÝCH AKTIVIT JESENÍK
D8: Objekt:
E9: SO 01 - CENTRUM SPOLEČNÝCH AKTIVIT
D10: Soupis:
E11: D.1.4 - Technika prostředí budov
D12: Úroveň 4:
E13: KT - Kabelové trasy
D15: KSO: | I15: CC-CZ:
D16: Místo: | I16: Datum: | J16: ='Rekapitulace stavby'!AN8 -> 11.10.2016
D18: Zadavatel: | I18: IČ:
E19: MĚSTO JESENÍK | I19: DIČ:
D21: Uchazeč: | I21: IČ: | J21: =IF('Rekapitulace stavby'!AN13="Vyplň údaj","",IF('Rekapitulace stavby'!AN13="","",'Rekapitulace stavby'!AN13))
E22: =IF('Rekapitulace stavby'!E14="Vyplň údaj","",IF('Rekapitulace stavby'!E14="","",'Rekapitulace stavby'!E14)) | I22: DIČ: | J22: =IF('Rekapitulace stavby'!AN14="Vyplň údaj","",IF('Rekapitulace stavby'!AN14="","",'Rekapitulace stavby'!AN14))
D24: Projektant: | I24: IČ:
E25: KANIA a.s. , Ostrava | I25: DIČ:
D27: Poznámka:
E28: Soupis prací je sestaven za využití položek Cenové soustavy ÚRS. Cenové a technické podmínky položek CS ÚRS, které nejsou uvedeny v soupisu prací (tzv. úvodní části katalogů) jsou neomezeně dálkově k dispozici na www.cs-urs.cz. Položky soupisu prací, které nemají ve sloupci „Cenová soustava“ uveden žádný údaj, nepochází z Cenové soustavy ÚRS (takové položky soupisu prací mají Cenovou soustavu „VLASTNÍ“). Ocenění "vlastní" položky:na základě odborných znalostí a zkušeností projektanta při realizaci obdobných zakázek za období 5-ti let. nebo na základě cen v místě a čase obvyklých). Nedílnou součástí soupisu prací je projektová dokumentace vč. textových příloh, na kterou se položky soupisu prací plně odkazují.
D31: Cena bez DPH | J31: =ROUND(J89,2) -> 0
F33: Základ daně | I33: Sazba daně | J33: Výše daně
D34: DPH | E34: základní | F34: =ROUND(SUM(BE89:BE128), 2) -> 0 | I34: 0.21 | J34: =ROUND(ROUND((SUM(BE89:BE128)), 2)*I34, 2) -> 0
E35: snížená | F35: =ROUND(SUM(BF89:BF128), 2) -> 0 | I35: 0.15 | J35: =ROUND(ROUND((SUM(BF89:BF128)), 2)*I35, 2) -> 0
E36: zákl. přenesená | F36: =ROUND(SUM(BG89:BG128), 2) -> 0 | I36: 0.21 | J36: 0
E37: sníž. přenesená | F37: =ROUND(SUM(BH89:BH128), 2) -> 0 | I37: 0.15 | J37: 0
E38: nulová | F38: =ROUND(SUM(BI89:BI128), 2) -> 0 | I38: 0 | J38: 0
D40: Cena s DPH | G40: v | H40: CZK | J40: =SUM(J31:J38) -> 0
C46: REKAPITULACE ČLENĚNÍ SOUPISU PRACÍ
C48: Stavba:
E49: =E7 -> CENTRUM SPOLEČNÝCH AKTIVIT JESENÍK
C50: Objekt:
E51: SO 01 - CENTRUM SPOLEČNÝCH AKTIVIT
C52: Soupis:
E53: D.1.4 - Technika prostředí budov
C54: Úroveň 4:
E55: =E13 -> KT - Kabelové trasy
C57: Místo: | F57: =F16 | I57: Datum: | J57: =IF(J16="","",J16) -> 11.10.2016
...

Sheet D.1.4.7 - Projekt akustiky
D1: List obsahuje: | F1: 1) Krycí list soupisu | G1: 2) Rekapitulace | J1: 3) Soupis prací | K1: Zpět na list: | L1: Rekapitulace stavby
AT2: {c31549c6-7af8-4e0f-9dc5-816416b8efd1}
AT3: 2
D4: KRYCÍ LIST SOUPISU | M4: v --- níže se nacházejí doplnkové a pomocné údaje k sestavám --- v | AT4: False
D6: Stavba:
E7: ='Rekapitulace stavby'!K6 -> CENTRUM SPOLEČNÝCH AKTIVIT JESENÍK
D8: Objekt:
E9: SO 01 - CENTRUM SPOLEČNÝCH AKTIVIT
D10: Soupis:
E11: D.1.4 - Technika prostředí budov
D12: Úroveň 3:
E13: D.1.4.7 - Projekt akustiky
D15: KSO: | I15: CC-CZ:
D16: Místo: | F16: Jeseník | I16: Datum: | J16: ='Rekapitulace stavby'!AN8 -> 11.10.2016
D18: Zadavatel: | I18: IČ:
E19: MĚSTO JESENÍK | I19: DIČ:
D21: Uchazeč: | I21: IČ: | J21: =IF('Rekapitulace stavby'!AN13="Vyplň údaj","",IF('Rekapitulace stavby'!AN13="","",'Rekapitulace stavby'!AN13))
E22: =IF('Rekapitulace stavby'!E14="Vyplň údaj","",IF('Rekapitulace stavby'!E14="","",'Rekapitulace stavby'!E14)) | I22: DIČ: | J22: =IF('Rekapitulace stavby'!AN14="Vyplň údaj","",IF('Rekapitulace stavby'!AN14="","",'Rekapitulace stavby'!AN14))
D24: Projektant: | I24: IČ:
E25: KANIA a.s. , Ostrava | I25: DIČ:
D27: Poznámka:
E28: Soupis prací je sestaven za využití položek Cenové soustavy ÚRS. Cenové a technické podmínky položek CS ÚRS, které nejsou uvedeny v soupisu prací (tzv. úvodní části katalogů) jsou neomezeně dálkově k dispozici na www.cs-urs.cz. Položky soupisu prací, které nemají ve sloupci „Cenová soustava“ uveden žádný údaj, nepochází z Cenové soustavy ÚRS (takové položky soupisu prací mají Cenovou soustavu „VLASTNÍ“). Ocenění "vlastní" položky:na základě odborných znalostí a zkušeností projektanta při realizaci obdobných zakázek za období 5-ti let. nebo na základě cen v místě a čase obvyklých). Nedílnou součástí soupisu prací je projektová dokumentace vč. textových příloh, na kterou se položky soupisu prací plně odkazují.
D31: Cena bez DPH | J31: =ROUND(J88,2) -> 0
F33: Základ daně | I33: Sazba daně | J33: Výše daně
D34: DPH | E34: základní | F34: =ROUND(SUM(BE88:BE118), 2) -> 0 | I34: 0.21 | J34: =ROUND(ROUND((SUM(BE88:BE118)), 2)*I34, 2) -> 0
E35: snížená | F35: =ROUND(SUM(BF88:BF118), 2) -> 0 | I35: 0.15 | J35: =ROUND(ROUND((SUM(BF88:BF118)), 2)*I35, 2) -> 0
E36: zákl. přenesená | F36: =ROUND(SUM(BG88:BG118), 2) -> 0 | I36: 0.21 | J36: 0
E37: sníž. přenesená | F37: =ROUND(SUM(BH88:BH118), 2) -> 0 | I37: 0.15 | J37: 0
E38: nulová | F38: =ROUND(SUM(BI88:BI118), 2) -> 0 | I38: 0 | J38: 0
D40: Cena s DPH | G40: v | H40: CZK | J40: =SUM(J31:J38) -> 0
C46: REKAPITULACE ČLENĚNÍ SOUPISU PRACÍ
C48: Stavba:
E49: =E7 -> CENTRUM SPOLEČNÝCH AKTIVIT JESENÍK
C50: Objekt:
E51: SO 01 - CENTRUM SPOLEČNÝCH AKTIVIT
C52: Soupis:
E53: D.1.4 - Technika prostředí budov
C54: Úroveň 3:
E55: =E13 -> D.1.4.7 - Projekt akustiky
C57: Místo: | F57: =F16 -> Jeseník | I57: Datum: | J57: =IF(J16="","",J16) -> 11.10.2016
...

Sheet IO 01 - Zpevněné plochy
D1: List obsahuje: | F1: 1) Krycí list soupisu | G1: 2) Rekapitulace | J1: 3) Soupis prací | K1: Zpět na list: | L1: Rekapitulace stavby
AT2: {e3ba5dd0-86a1-405c-8ba7-9fb8098f599d}
AT3: 2
D4: KRYCÍ LIST SOUPISU | M4: v --- níže se nacházejí doplnkové a pomocné údaje k sestavám --- v | AT4: False
D6: Stavba:
E7: ='Rekapitulace stavby'!K6 -> CENTRUM SPOLEČNÝCH AKTIVIT JESENÍK
D8: Objekt:
E9: IO - INŽENÝRSKÉ OBJEKTY
D10: Soupis:
E11: IO 01 - Zpevněné plochy
D13: KSO: | I13: CC-CZ:
D14: Místo: | F14: Jeseník | I14: Datum: | J14: ='Rekapitulace stavby'!AN8 -> 11.10.2016
D16: Zadavatel: | I16: IČ:
E17: MĚSTO JESENÍK | I17: DIČ:
D19: Uchazeč: | I19: IČ: | J19: =IF('Rekapitulace stavby'!AN13="Vyplň údaj","",IF('Rekapitulace stavby'!AN13="","",'Rekapitulace stavby'!AN13))
E20: =IF('Rekapitulace stavby'!E14="Vyplň údaj","",IF('Rekapitulace stavby'!E14="","",'Rekapitulace stavby'!E14)) | I20: DIČ: | J20: =IF('Rekapitulace stavby'!AN14="Vyplň údaj","",IF('Rekapitulace stavby'!AN14="","",'Rekapitulace stavby'!AN14))
D22: Projektant: | I22: IČ:
E23: KANIA a.s. , Ostrava | I23: DIČ:
D25: Poznámka:
E26: Soupis prací je sestaven za využití položek Cenové soustavy ÚRS. Cenové a technické podmínky položek CS ÚRS, které nejsou uvedeny v soupisu prací (tzv. úvodní části katalogů) jsou neomezeně dálkově k dispozici na www.cs-urs.cz. Položky soupisu prací, které nemají ve sloupci „Cenová soustava“ uveden žádný údaj, nepochází z Cenové soustavy ÚRS (takové položky soupisu prací mají Cenovou soustavu „VLASTNÍ“). Ocenění "vlastní" položky:na základě odborných znalostí a zkušeností projektanta při realizaci obdobných zakázek za období 5-ti let. nebo na základě cen v místě a čase obvyklých). Nedílnou součástí soupisu prací je projektová dokumentace vč. textových příloh, na kterou se položky soupisu prací plně odkazují.
D29: Cena bez DPH | J29: =ROUND(J92,2) -> 0
F31: Základ daně | I31: Sazba daně | J31: Výše daně
D32: DPH | E32: základní | F32: =ROUND(SUM(BE92:BE185), 2) -> 0 | I32: 0.21 | J32: =ROUND(ROUND((SUM(BE92:BE185)), 2)*I32, 2) -> 0
E33: snížená | F33: =ROUND(SUM(BF92:BF185), 2) -> 0 | I33: 0.15 | J33: =ROUND(ROUND((SUM(BF92:BF185)), 2)*I33, 2) -> 0
E34: zákl. přenesená | F34: =ROUND(SUM(BG92:BG185), 2) -> 0 | I34: 0.21 | J34: 0
E35: sníž. přenesená | F35: =ROUND(SUM(BH92:BH185), 2) -> 0 | I35: 0.15 | J35: 0
E36: nulová | F36: =ROUND(SUM(BI92:BI185), 2) -> 0 | I36: 0 | J36: 0
D38: Cena s DPH | G38: v | H38: CZK | J38: =SUM(J29:J36) -> 0
C44: REKAPITULACE ČLENĚNÍ SOUPISU PRACÍ
C46: Stavba:
E47: =E7 -> CENTRUM SPOLEČNÝCH AKTIVIT JESENÍK
C48: Objekt:
E49: IO - INŽENÝRSKÉ OBJEKTY
C50: Soupis:
E51: =E11 -> IO 01 - Zpevněné plochy
C53: Místo: | F53: =F14 -> Jeseník | I53: Datum: | J53: =IF(J14="","",J14) -> 11.10.2016
C55: Zadavatel: | F55: =E17 -> MĚSTO JESENÍK | I55: Projektant: | J55: =E23 -> KANIA a.s. , Ostrava
C56: Uchazeč: | F56: =IF(E20="","",E20)
C58: Kód dílu - Popis | J58: Cena celkem [CZK]
C60: Náklady soupisu celkem | J60: =J92 -> 0 | AU60: -1
...

Sheet IO 02 - Přípojka plynu
D1: List obsahuje: | F1: 1) Krycí list soupisu | G1: 2) Rekapitulace | J1: 3) Soupis prací | K1: Zpět na list: | L1: Rekapitulace stavby
AT2: {b24851d7-af1e-4e25-9ecf-1c667aa6c810}
AT3: 2
D4: KRYCÍ LIST SOUPISU | M4: v --- níže se nacházejí doplnkové a pomocné údaje k sestavám --- v | AT4: False
D6: Stavba:
E7: ='Rekapitulace stavby'!K6 -> CENTRUM SPOLEČNÝCH AKTIVIT JESENÍK
D8: Objekt:
E9: IO - INŽENÝRSKÉ OBJEKTY
D10: Soupis:
E11: IO 02 - Přípojka plynu
D13: KSO: | I13: CC-CZ:
D14: Místo: | F14: Jeseník | I14: Datum: | J14: ='Rekapitulace stavby'!AN8 -> 11.10.2016
D16: Zadavatel: | I16: IČ:
E17: MĚSTO JESENÍK | I17: DIČ:
D19: Uchazeč: | I19: IČ: | J19: =IF('Rekapitulace stavby'!AN13="Vyplň údaj","",IF('Rekapitulace stavby'!AN13="","",'Rekapitulace stavby'!AN13))
E20: =IF('Rekapitulace stavby'!E14="Vyplň údaj","",IF('Rekapitulace stavby'!E14="","",'Rekapitulace stavby'!E14)) | I20: DIČ: | J20: =IF('Rekapitulace stavby'!AN14="Vyplň údaj","",IF('Rekapitulace stavby'!AN14="","",'Rekapitulace stavby'!AN14))
D22: Projektant: | I22: IČ:
E23: KANIA a.s. , Ostrava | I23: DIČ:
D25: Poznámka:
E26: Soupis prací je sestaven za využití položek Cenové soustavy ÚRS. Cenové a technické podmínky položek CS ÚRS, které nejsou uvedeny v soupisu prací (tzv. úvodní části katalogů) jsou neomezeně dálkově k dispozici na www.cs-urs.cz. Položky soupisu prací, které nemají ve sloupci „Cenová soustava“ uveden žádný údaj, nepochází z Cenové soustavy ÚRS (takové položky soupisu prací mají Cenovou soustavu „VLASTNÍ“). Ocenění "vlastní" položky:na základě odborných znalostí a zkušeností projektanta při realizaci obdobných zakázek za období 5-ti let. nebo na základě cen v místě a čase obvyklých). Nedílnou součástí soupisu prací je projektová dokumentace vč. textových příloh, na kterou se položky soupisu prací plně odkazují.
D29: Cena bez DPH | J29: =ROUND(J85,2) -> 0
F31: Základ daně | I31: Sazba daně | J31: Výše daně
D32: DPH | E32: základní | F32: =ROUND(SUM(BE85:BE101), 2) -> 0 | I32: 0.21 | J32: =ROUND(ROUND((SUM(BE85:BE101)), 2)*I32, 2) -> 0
