Workbook

Sheet Rekapitulace stavby
A1: Export VZ | D1: List obsahuje: | K1: 1) Rekapitulace stavby | W1: 2) Rekapitulace objektů stavby a soupisů prací | BA1: 3.0 | BB1: ZAMOK | BT1: False | BU1: False | BV1: {1a338de4-acb3-4f3c-9440-7c8911ff1179}
BS2: 0,01 | BT2: 21
BS3: 0,01 | BT3: 15
D4: REKAPITULACE STAVBY | AS4: v --- níže se nacházejí doplnkové a pomocné údaje k sestavám --- v | BE4: Návod na vyplnění | BS4: 0,001
D5: Kód: | K5: N16-206-R6 | BE5: Měnit lze pouze buňky se žlutým podbarvením!_x000D_ _x000D_ 1) v Rekapitulaci stavby vyplňte údaje o Uchazeči (přenesou se do ostatních sestav i v jiných listech)_x000D_ _x000D_ 2) na vybraných listech vyplňte v sestavě Soupis prací ceny u položek_x000D_ _x000D_ Podrobnosti k vyplnění naleznete na poslední záložce s Pokyny pro vyplnění | BS5: 0,01
D6: Stavba: | K6: CENTRUM SPOLEČNÝCH AKTIVIT JESENÍK | BS6: 0,01
D7: KSO: | K7: 801 4 | AK7: CC-CZ: | AN7: 1261 | BS7: 0,01
D8: Místo: | K8: Jeseník | AK8: Datum: | AN8: 11.10.2016 | BS8: 0,01
D9: CZ-CPV: | K9: 45000000-7 | AK9: CZ-CPA: | AN9: 41.00.20 | BS9: 0,01
D10: Zadavatel: | AK10: IČ: | BS10: 0,01
E11: MĚSTO JESENÍK | AK11: DIČ: | BS11: 0,01
BS12: 0,01
D13: Uchazeč: | AK13: IČ: | AN13: Vyplň údaj | BS13: 0,01
E14: Vyplň údaj | AK14: DIČ: | AN14: Vyplň údaj | BS14: 0,01
BS15: False
D16: Projektant: | AK16: IČ: | BS16: False
E17: KANIA a.s. , Ostrava | AK17: DIČ: | BS17: True
BS18: 0,01
D19: Poznámka: | BS19: 0,01
E20: Soupis prací je sestaven za využití položek Cenové soustavy ÚRS. Cenové a technické podmínky položek CS ÚRS, které nejsou uvedeny v soupisu prací (tzv. úvodní části katalogů) jsou neomezeně dálkově k dispozici na www.cs-urs.cz. Položky soupisu prací, které nemají ve sloupci „Cenová soustava“ uveden žádný údaj, nepochází z Cenové soustavy ÚRS (takové položky soupisu prací mají Cenovou soustavu „VLASTNÍ“). Ocenění "vlastní" položky:na základě odborných znalostí a zkušeností projektanta při realizaci obdobných zakázek za období 5-ti let. nebo na základě cen v místě a čase obvyklých). Nedílnou součástí soupisu prací je projektová dokumentace vč. textových příloh, na kterou se položky soupisu prací plně odkazují. | BS20: True
D23: Cena bez DPH | AK23: =ROUND(AG51,2) -> 0
L25: Sazba daně | W25: Základ daně | AK25: Výše daně
D26: DPH | F26: základní | L26: 0.21 | W26: =ROUND(AZ51,2) -> 0 | AK26: =ROUND(AV51,2) -> 0
F27: snížená | L27: 0.15 | W27: =ROUND(BA51,2) -> 0 | AK27: =ROUND(AW51,2) -> 0
F28: zákl. přenesená | L28: 0.21 | W28: =ROUND(BB51,2) -> 0 | AK28: 0
F29: sníž. přenesená | L29: 0.15 | W29: =ROUND(BC51,2) -> 0 | AK29: 0
F30: nulová | L30: 0 | W30: =ROUND(BD51,2) -> 0 | AK30: 0
D32: Cena s DPH | T32: v | X32: CZK | AK32: =SUM(AK23:AK30) -> 0
C39: REKAPITULACE OBJEKTŮ STAVBY A SOUPISŮ PRACÍ
C41: Kód: | L41: =K5 -> N16-206-R6
C42: Stavba: | L42: =K6 -> CENTRUM SPOLEČNÝCH AKTIVIT JESENÍK
C44: Místo: | L44: =IF(K8="","",K8) -> Jeseník | AI44: Datum: | AM44: =IF(AN8= "","",AN8) -> 11.10.2016
C46: Zadavatel: | L46: =IF(E11= "","",E11) -> MĚSTO JESENÍK | AI46: Projektant: | AM46: =IF(E17="","",E17) -> KANIA a.s. , Ostrava | AS46: Informatívní údaje z listů zakázek
C47: Uchazeč: | L47: =IF(E14= "Vyplň údaj","",E14)
C49: Kód | I49: Objekt, Soupis prací | AG49: Cena bez DPH [CZK] | AN49: Cena s DPH [CZK] | AQ49: Typ | AS49: z toho Ostat._x000D_ náklady [CZK] | AT49: DPH [CZK] | AU49: Normohodiny [h] | AV49: DPH základní [CZK] | AW49: DPH snížená [CZK] | AX49: DPH základní přenesená_x000D_ [CZK] | AY49: DPH snížená přenesená_x000D_ [CZK] | AZ49: Základna_x000D_ DPH základní | BA49: Základna_x000D_ DPH snížená | BB49: Základna_x000D_ DPH zákl. přenesená | BC49: Základna_x000D_ DPH sníž. přenesená | BD49: Základna_x000D_ DPH nulová
C51: Náklady stavby celkem | AG51: =ROUND(AG52+AG53+AG71,2) -> 0 | AN51: =SUM(AG51,AT51) -> 0 | AS51: =ROUND(AS52+AS53+AS71,2) -> 0 | AT51: =ROUND(SUM(AV51:AW51),2) -> 0 | AU51: =ROUND(AU52+AU53+AU71,5) -> 0 | AV51: =ROUND(AZ51*L26,2) -> 0 | AW51: =ROUND(BA51*L27,2) -> 0 | AX51: =ROUND(BB51*L26,2) -> 0 | AY51: =ROUND(BC51*L27,2) -> 0 | AZ51: =ROUND(AZ52+AZ53+AZ71,2) -> 0 | BA51: =ROUND(BA52+BA53+BA71,2) -> 0 | BB51: =ROUND(BB52+BB53+BB71,2) -> 0 | BC51: =ROUND(BC52+BC53+BC71,2) -> 0 | BD51: =ROUND(BD52+BD53+BD71,2) -> 0 | BS51: D | BT51: 0 | BU51: ###NOIMPORT### | BV51: IMPORT | BW51: {1a338de4-acb3-4f3c-9440-7c8911ff1179} | BX51: {00000000-0000-0000-0000-000000000000} | CL51: 801 4
A52: / | D52: VON | J52: Vedljší a ostatní náklady | AG52: ='VON - Vedljší a ostatní n...'!J27 -> 0 | AN52: =SUM(AG52,AT52) -> 0 | AQ52: VON | AS52: 0 | AT52: =ROUND(SUM(AV52:AW52),2) -> 0 | AU52: ='VON - Vedljší a ostatní n...'!P79 -> 0 | AV52: ='VON - Vedljší a ostatní n...'!J30 -> 0 | AW52: ='VON - Vedljší a ostatní n...'!J31 -> 0 | AX52: ='VON - Vedljší a ostatní n...'!J32 -> 0 | AY52: ='VON - Vedljší a ostatní n...'!J33 -> 0 | AZ52: ='VON - Vedljší a ostatní n...'!F30 -> 0 | BA52: ='VON - Vedljší a ostatní n...'!F31 -> 0 | BB52: ='VON - Vedljší a ostatní n...'!F32 -> 0 | BC52: ='VON - Vedljší a ostatní n...'!F33 -> 0 | BD52: ='VON - Vedljší a ostatní n...'!F34 -> 0 | BT52: 1 | BV52: IMPORT | BW52: {4f7f998a-7aeb-4a64-8b3a-24f356f02121} | BX52: {1a338de4-acb3-4f3c-9440-7c8911ff1179} | CM52: 2
D53: SO 01 | J53: CENTRUM SPOLEČNÝCH AKTIVIT | AG53: =ROUND(AG54+SUM(AG55:AG57),2) -> 0 | AN53: =SUM(AG53,AT53) -> 0 | AQ53: STA | AS53: =ROUND(AS54+SUM(AS55:AS57),2) -> 0 | AT53: =ROUND(SUM(AV53:AW53),2) -> 0 | AU53: =ROUND(AU54+SUM(AU55:AU57),5) -> 0 | AV53: =ROUND(AZ53*L26,2) -> 0 | AW53: =ROUND(BA53*L27,2) -> 0 | AX53: =ROUND(BB53*L26,2) -> 0 | AY53: =ROUND(BC53*L27,2) -> 0 | AZ53: =ROUND(AZ54+SUM(AZ55:AZ57),2) -> 0 | BA53: =ROUND(BA54+SUM(BA55:BA57),2) -> 0 | BB53: =ROUND(BB54+SUM(BB55:BB57),2) -> 0 | BC53: =ROUND(BC54+SUM(BC55:BC57),2) -> 0 | BD53: =ROUND(BD54+SUM(BD55:BD57),2) -> 0 | BS53: D | BT53: 1 | BU53: ###NOIMPORT### | BV53: IMPORT | BW53: {b6ff9fc1-ed04-443f-b2ca-4f173fb1ed6c} | BX53: {1a338de4-acb3-4f3c-9440-7c8911ff1179} | CM53: 2
A54: / | E54: D.1.1 | K54: Architektonicko- stavební řešení | AG54: ='D.1.1 - Architektonicko- ...'!J29 -> 0 | AN54: =SUM(AG54,AT54) -> 0 | AQ54: Soupis | AS54: 0 | AT54: =ROUND(SUM(AV54:AW54),2) -> 0 | AU54: ='D.1.1 - Architektonicko- ...'!P112 -> 0 | AV54: ='D.1.1 - Architektonicko- ...'!J32 -> 0 | AW54: ='D.1.1 - Architektonicko- ...'!J33 -> 0 | AX54: ='D.1.1 - Architektonicko- ...'!J34 -> 0 | AY54: ='D.1.1 - Architektonicko- ...'!J35 -> 0 | AZ54: ='D.1.1 - Architektonicko- ...'!F32 -> 0 | BA54: ='D.1.1 - Architektonicko- ...'!F33 -> 0 | BB54: ='D.1.1 - Architektonicko- ...'!F34 -> 0 | BC54: ='D.1.1 - Architektonicko- ...'!F35 -> 0 | BD54: ='D.1.1 - Architektonicko- ...'!F36 -> 0 | BT54: 2 | BV54: IMPORT | BW54: {6e68bff3-e655-4033-ade6-95dca6e7a4bf} | BX54: {b6ff9fc1-ed04-443f-b2ca-4f173fb1ed6c}
A55: / | E55: D.1.2 | K55: Stavebně konstrukční řešení | AG55: ='D.1.2 - Stavebně konstruk...'!J29 -> 0 | AN55: =SUM(AG55,AT55) -> 0 | AQ55: Soupis | AS55: 0 | AT55: =ROUND(SUM(AV55:AW55),2) -> 0 | AU55: ='D.1.2 - Stavebně konstruk...'!P91 -> 0 | AV55: ='D.1.2 - Stavebně konstruk...'!J32 -> 0 | AW55: ='D.1.2 - Stavebně konstruk...'!J33 -> 0 | AX55: ='D.1.2 - Stavebně konstruk...'!J34 -> 0 | AY55: ='D.1.2 - Stavebně konstruk...'!J35 -> 0 | AZ55: ='D.1.2 - Stavebně konstruk...'!F32 -> 0 | BA55: ='D.1.2 - Stavebně konstruk...'!F33 -> 0 | BB55: ='D.1.2 - Stavebně konstruk...'!F34 -> 0 | BC55: ='D.1.2 - Stavebně konstruk...'!F35 -> 0 | BD55: ='D.1.2 - Stavebně konstruk...'!F36 -> 0 | BT55: 2 | BV55: IMPORT | BW55: {d5c76804-90f9-419b-a120-bb4de9bb389f} | BX55: {b6ff9fc1-ed04-443f-b2ca-4f173fb1ed6c}
A56: / | E56: D.1.3 | K56: Požárně bezpečnostní řešení | AG56: ='D.1.3 - Požárně bezpečnos...'!J29 -> 0 | AN56: =SUM(AG56,AT56) -> 0 | AQ56: Soupis | AS56: 0 | AT56: =ROUND(SUM(AV56:AW56),2) -> 0 | AU56: ='D.1.3 - Požárně bezpečnos...'!P83 -> 0 | AV56: ='D.1.3 - Požárně bezpečnos...'!J32 -> 0 | AW56: ='D.1.3 - Požárně bezpečnos...'!J33 -> 0 | AX56: ='D.1.3 - Požárně bezpečnos...'!J34 -> 0 | AY56: ='D.1.3 - Požárně bezpečnos...'!J35 -> 0 | AZ56: ='D.1.3 - Požárně bezpečnos...'!F32 -> 0 | BA56: ='D.1.3 - Požárně bezpečnos...'!F33 -> 0 | BB56: ='D.1.3 - Požárně bezpečnos...'!F34 -> 0 | BC56: ='D.1.3 - Požárně bezpečnos...'!F35 -> 0 | BD56: ='D.1.3 - Požárně bezpečnos...'!F36 -> 0 | BT56: 2 | BV56: IMPORT | BW56: {41a99c29-cf6f-4db0-a98e-3e658e16e2f2} | BX56: {b6ff9fc1-ed04-443f-b2ca-4f173fb1ed6c}
E57: D.1.4 | K57: Technika prostředí budov | AG57: =ROUND(AG58+SUM(AG59:AG63)+AG70,2) -> 0 | AN57: =SUM(AG57,AT57) -> 0 | AQ57: Soupis | AS57: =ROUND(AS58+SUM(AS59:AS63)+AS70,2) -> 0 | AT57: =ROUND(SUM(AV57:AW57),2) -> 0 | AU57: =ROUND(AU58+SUM(AU59:AU63)+AU70,5) -> 0 | AV57: =ROUND(AZ57*L26,2) -> 0 | AW57: =ROUND(BA57*L27,2) -> 0 | AX57: =ROUND(BB57*L26,2) -> 0 | AY57: =ROUND(BC57*L27,2) -> 0 | AZ57: =ROUND(AZ58+SUM(AZ59:AZ63)+AZ70,2) -> 0 | BA57: =ROUND(BA58+SUM(BA59:BA63)+BA70,2) -> 0 | BB57: =ROUND(BB58+SUM(BB59:BB63)+BB70,2) -> 0 | BC57: =ROUND(BC58+SUM(BC59:BC63)+BC70,2) -> 0 | BD57: =ROUND(BD58+SUM(BD59:BD63)+BD70,2) -> 0 | BS57: D | BT57: 2 | BU57: ###NOIMPORT### | BV57: IMPORT | BW57: {629fabe3-9260-4d62-9da5-519c9aff5269} | BX57: {b6ff9fc1-ed04-443f-b2ca-4f173fb1ed6c}
A58: / | F58: D.1.4.1 | L58: Zdravotně technické instalace, plynoinstalace | AG58: ='D.1.4.1 - Zdravotně techn...'!J31 -> 0 | AN58: =SUM(AG58,AT58) -> 0 | AQ58: Soupis | AS58: 0 | AT58: =ROUND(SUM(AV58:AW58),2) -> 0 | AU58: ='D.1.4.1 - Zdravotně techn...'!P109 -> 0 | AV58: ='D.1.4.1 - Zdravotně techn...'!J34 -> 0 | AW58: ='D.1.4.1 - Zdravotně techn...'!J35 -> 0 | AX58: ='D.1.4.1 - Zdravotně techn...'!J36 -> 0 | AY58: ='D.1.4.1 - Zdravotně techn...'!J37 -> 0 | AZ58: ='D.1.4.1 - Zdravotně techn...'!F34 -> 0 | BA58: ='D.1.4.1 - Zdravotně techn...'!F35 -> 0 | BB58: ='D.1.4.1 - Zdravotně techn...'!F36 -> 0 | BC58: ='D.1.4.1 - Zdravotně techn...'!F37 -> 0 | BD58: ='D.1.4.1 - Zdravotně techn...'!F38 -> 0 | BT58: 3 | BV58: IMPORT | BW58: {c6b15de3-d851-4a3a-85be-fe437fe97252} | BX58: {629fabe3-9260-4d62-9da5-519c9aff5269}
A59: / | F59: D.1.4.2 | L59: Vzduchotechnika, chlazení | AG59: ='D.1.4.2 - Vzduchotechnika...'!J31 -> 0 | AN59: =SUM(AG59,AT59) -> 0 | AQ59: Soupis | AS59: 0 | AT59: =ROUND(SUM(AV59:AW59),2) -> 0 | AU59: ='D.1.4.2 - Vzduchotechnika...'!P100 -> 0 | AV59: ='D.1.4.2 - Vzduchotechnika...'!J34 -> 0 | AW59: ='D.1.4.2 - Vzduchotechnika...'!J35 -> 0 | AX59: ='D.1.4.2 - Vzduchotechnika...'!J36 -> 0 | AY59: ='D.1.4.2 - Vzduchotechnika...'!J37 -> 0 | AZ59: ='D.1.4.2 - Vzduchotechnika...'!F34 -> 0 | BA59: ='D.1.4.2 - Vzduchotechnika...'!F35 -> 0 | BB59: ='D.1.4.2 - Vzduchotechnika...'!F36 -> 0 | BC59: ='D.1.4.2 - Vzduchotechnika...'!F37 -> 0 | BD59: ='D.1.4.2 - Vzduchotechnika...'!F38 -> 0 | BT59: 3 | BV59: IMPORT | BW59: {808ae25b-b175-428c-9c3c-b5abc23010ef} | BX59: {629fabe3-9260-4d62-9da5-519c9aff5269}
A60: / | F60: D.1.4.3 | L60: Vytápění | AG60: ='D.1.4.3 - Vytápění'!J31 -> 0 | AN60: =SUM(AG60,AT60) -> 0 | AQ60: Soupis | AS60: 0 | AT60: =ROUND(SUM(AV60:AW60),2) -> 0 | AU60: ='D.1.4.3 - Vytápění'!P95 -> 0 | AV60: ='D.1.4.3 - Vytápění'!J34 -> 0 | AW60: ='D.1.4.3 - Vytápění'!J35 -> 0 | AX60: ='D.1.4.3 - Vytápění'!J36 -> 0 | AY60: ='D.1.4.3 - Vytápění'!J37 -> 0 | AZ60: ='D.1.4.3 - Vytápění'!F34 -> 0 | BA60: ='D.1.4.3 - Vytápění'!F35 -> 0 | BB60: ='D.1.4.3 - Vytápění'!F36 -> 0 | BC60: ='D.1.4.3 - Vytápění'!F37 -> 0 | BD60: ='D.1.4.3 - Vytápění'!F38 -> 0 | BT60: 3 | BV60: IMPORT | BW60: {cd0c862f-14f7-41bc-a760-da8a038cce88} | BX60: {629fabe3-9260-4d62-9da5-519c9aff5269}
A61: / | F61: D.1.4.4 | L61: Měření a regulace | AG61: ='D.1.4.4 - Měření a regulace'!J31 -> 0 | AN61: =SUM(AG61,AT61) -> 0 | AQ61: Soupis | AS61: 0 | AT61: =ROUND(SUM(AV61:AW61),2) -> 0 | AU61: ='D.1.4.4 - Měření a regulace'!P93 -> 0 | AV61: ='D.1.4.4 - Měření a regulace'!J34 -> 0 | AW61: ='D.1.4.4 - Měření a regulace'!J35 -> 0 | AX61: ='D.1.4.4 - Měření a regulace'!J36 -> 0 | AY61: ='D.1.4.4 - Měření a regulace'!J37 -> 0 | AZ61: ='D.1.4.4 - Měření a regulace'!F34 -> 0 | BA61: ='D.1.4.4 - Měření a regulace'!F35 -> 0 | BB61: ='D.1.4.4 - Měření a regulace'!F36 -> 0 | BC61: ='D.1.4.4 - Měření a regulace'!F37 -> 0 | BD61: ='D.1.4.4 - Měření a regulace'!F38 -> 0 | BT61: 3 | BV61: IMPORT | BW61: {cc52c750-9d41-4603-83f8-91cb7cf7b785} | BX61: {629fabe3-9260-4d62-9da5-519c9aff5269}
A62: / | F62: D.1.4.5 | L62: Silnoproudá elektrotechnika | AG62: ='D.1.4.5 - Silnoproudá ele...'!J31 -> 0 | AN62: =SUM(AG62,AT62) -> 0 | AQ62: Soupis | AS62: 0 | AT62: =ROUND(SUM(AV62:AW62),2) -> 0 | AU62: ='D.1.4.5 - Silnoproudá ele...'!P103 -> 0 | AV62: ='D.1.4.5 - Silnoproudá ele...'!J34 -> 0 | AW62: ='D.1.4.5 - Silnoproudá ele...'!J35 -> 0 | AX62: ='D.1.4.5 - Silnoproudá ele...'!J36 -> 0 | AY62: ='D.1.4.5 - Silnoproudá ele...'!J37 -> 0 | AZ62: ='D.1.4.5 - Silnoproudá ele...'!F34 -> 0 | BA62: ='D.1.4.5 - Silnoproudá ele...'!F35 -> 0 | BB62: ='D.1.4.5 - Silnoproudá ele...'!F36 -> 0 | BC62: ='D.1.4.5 - Silnoproudá ele...'!F37 -> 0 | BD62: ='D.1.4.5 - Silnoproudá ele...'!F38 -> 0 | BT62: 3 | BV62: IMPORT | BW62: {fea974e2-36bb-4334-bc71-a40d4e9c247c} | BX62: {629fabe3-9260-4d62-9da5-519c9aff5269}
F63: D.1.4.6 | L63: Slaboproudá elektrotechnika | AG63: =ROUND(SUM(AG64:AG69),2) -> 0 | AN63: =SUM(AG63,AT63) -> 0 | AQ63: Soupis | AS63: =ROUND(SUM(AS64:AS69),2) -> 0 | AT63: =ROUND(SUM(AV63:AW63),2) -> 0 | AU63: =ROUND(SUM(AU64:AU69),5) -> 0 | AV63: =ROUND(AZ63*L26,2) -> 0 | AW63: =ROUND(BA63*L27,2) -> 0 | AX63: =ROUND(BB63*L26,2) -> 0 | AY63: =ROUND(BC63*L27,2) -> 0 | AZ63: =ROUND(SUM(AZ64:AZ69),2) -> 0 | BA63: =ROUND(SUM(BA64:BA69),2) -> 0 | BB63: =ROUND(SUM(BB64:BB69),2) -> 0 | BC63: =ROUND(SUM(BC64:BC69),2) -> 0 | BD63: =ROUND(SUM(BD64:BD69),2) -> 0 | BS63: D | BT63: 3 | BU63: ###NOIMPORT### | BV63: IMPORT | BW63: {a05ec0cc-6d18-475e-b241-2c50df9e4493} | BX63: {629fabe3-9260-4d62-9da5-519c9aff5269}
A64: / | G64: SK | M64: Strukturovaná kabeláž | AG64: ='SK - Strukturovaná kabeláž'!J31 -> 0 | AN64: =SUM(AG64,AT64) -> 0 | AQ64: Soupis | AS64: 0 | AT64: =ROUND(SUM(AV64:AW64),2) -> 0 | AU64: ='SK - Strukturovaná kabeláž'!P95 -> 0 | AV64: ='SK - Strukturovaná kabeláž'!J34 -> 0 | AW64: ='SK - Strukturovaná kabeláž'!J35 -> 0 | AX64: ='SK - Strukturovaná kabeláž'!J36 -> 0 | AY64: ='SK - Strukturovaná kabeláž'!J37 -> 0 | AZ64: ='SK - Strukturovaná kabeláž'!F34 -> 0 | BA64: ='SK - Strukturovaná kabeláž'!F35 -> 0 | BB64: ='SK - Strukturovaná kabeláž'!F36 -> 0 | BC64: ='SK - Strukturovaná kabeláž'!F37 -> 0 | BD64: ='SK - Strukturovaná kabeláž'!F38 -> 0 | BT64: 4 | BV64: IMPORT | BW64: {eda48ed8-ad1d-4524-aae8-4538db2091ec} | BX64: {a05ec0cc-6d18-475e-b241-2c50df9e4493}
A65: / | G65: PZTS | M65: Poplachový zabezpečovací a tísňový systém | AG65: ='PZTS - Poplachový zabezpe...'!J31 -> 0 | AN65: =SUM(AG65,AT65) -> 0 | AQ65: Soupis | AS65: 0 | AT65: =ROUND(SUM(AV65:AW65),2) -> 0 | AU65: ='PZTS - Poplachový zabezpe...'!P91 -> 0 | AV65: ='PZTS - Poplachový zabezpe...'!J34 -> 0 | AW65: ='PZTS - Poplachový zabezpe...'!J35 -> 0 | AX65: ='PZTS - Poplachový zabezpe...'!J36 -> 0 | AY65: ='PZTS - Poplachový zabezpe...'!J37 -> 0 | AZ65: ='PZTS - Poplachový zabezpe...'!F34 -> 0 | BA65: ='PZTS - Poplachový zabezpe...'!F35 -> 0 | BB65: ='PZTS - Poplachový zabezpe...'!F36 -> 0 | BC65: ='PZTS - Poplachový zabezpe...'!F37 -> 0 | BD65: ='PZTS - Poplachový zabezpe...'!F38 -> 0 | BT65: 4 | BV65: IMPORT | BW65: {3d925d54-683a-4502-b08a-4b4fa27ba83a} | BX65: {a05ec0cc-6d18-475e-b241-2c50df9e4493}
A66: / | G66: CCTV | M66: Kamerový systém | AG66: ='CCTV - Kamerový systém'!J31 -> 0 | AN66: =SUM(AG66,AT66) -> 0 | AQ66: Soupis | AS66: 0 | AT66: =ROUND(SUM(AV66:AW66),2) -> 0 | AU66: ='CCTV - Kamerový systém'!P91 -> 0 | AV66: ='CCTV - Kamerový systém'!J34 -> 0 | AW66: ='CCTV - Kamerový systém'!J35 -> 0 | AX66: ='CCTV - Kamerový systém'!J36 -> 0 | AY66: ='CCTV - Kamerový systém'!J37 -> 0 | AZ66: ='CCTV - Kamerový systém'!F34 -> 0 | BA66: ='CCTV - Kamerový systém'!F35 -> 0 | BB66: ='CCTV - Kamerový systém'!F36 -> 0 | BC66: ='CCTV - Kamerový systém'!F37 -> 0 | BD66: ='CCTV - Kamerový systém'!F38 -> 0 | BT66: 4 | BV66: IMPORT | BW66: {7ce148ef-d905-4a3c-b2e3-ac873c44a1af} | BX66: {a05ec0cc-6d18-475e-b241-2c50df9e4493}
A67: / | G67: DT | M67: Domovní telefon | AG67: ='DT - Domovní telefon'!J31 -> 0 | AN67: =SUM(AG67,AT67) -> 0 | AQ67: Soupis | AS67: 0 | AT67: =ROUND(SUM(AV67:AW67),2) -> 0 | AU67: ='DT - Domovní telefon'!P91 -> 0 | AV67: ='DT - Domovní telefon'!J34 -> 0 | AW67: ='DT - Domovní telefon'!J35 -> 0 | AX67: ='DT - Domovní telefon'!J36 -> 0 | AY67: ='DT - Domovní telefon'!J37 -> 0 | AZ67: ='DT - Domovní telefon'!F34 -> 0 | BA67: ='DT - Domovní telefon'!F35 -> 0 | BB67: ='DT - Domovní telefon'!F36 -> 0 | BC67: ='DT - Domovní telefon'!F37 -> 0 | BD67: ='DT - Domovní telefon'!F38 -> 0 | BT67: 4 | BV67: IMPORT | BW67: {713864c5-7a2f-4cf8-9764-47402857b126} | BX67: {a05ec0cc-6d18-475e-b241-2c50df9e4493}
A68: / | G68: AV | M68: Audio/video technika | AG68: ='AV - Audio-video technika'!J31 -> 0 | AN68: =SUM(AG68,AT68) -> 0 | AQ68: Soupis | AS68: 0 | AT68: =ROUND(SUM(AV68:AW68),2) -> 0 | AU68: ='AV - Audio-video technika'!P91 -> 0 | AV68: ='AV - Audio-video technika'!J34 -> 0 | AW68: ='AV - Audio-video technika'!J35 -> 0 | AX68: ='AV - Audio-video technika'!J36 -> 0 | AY68: ='AV - Audio-video technika'!J37 -> 0 | AZ68: ='AV - Audio-video technika'!F34 -> 0 | BA68: ='AV - Audio-video technika'!F35 -> 0 | BB68: ='AV - Audio-video technika'!F36 -> 0 | BC68: ='AV - Audio-video technika'!F37 -> 0 | BD68: ='AV - Audio-video technika'!F38 -> 0 | BT68: 4 | BV68: IMPORT | BW68: {9ab366c1-1d11-4b97-8f79-0487f622ed48} | BX68: {a05ec0cc-6d18-475e-b241-2c50df9e4493}
A69: / | G69: KT | M69: Kabelové trasy | AG69: ='KT - Kabelové trasy'!J31 -> 0 | AN69: =SUM(AG69,AT69) -> 0 | AQ69: Soupis | AS69: 0 | AT69: =ROUND(SUM(AV69:AW69),2) -> 0 | AU69: ='KT - Kabelové trasy'!P89 -> 0 | AV69: ='KT - Kabelové trasy'!J34 -> 0 | AW69: ='KT - Kabelové trasy'!J35 -> 0 | AX69: ='KT - Kabelové trasy'!J36 -> 0 | AY69: ='KT - Kabelové trasy'!J37 -> 0 | AZ69: ='KT - Kabelové trasy'!F34 -> 0 | BA69: ='KT - Kabelové trasy'!F35 -> 0 | BB69: ='KT - Kabelové trasy'!F36 -> 0 | BC69: ='KT - Kabelové trasy'!F37 -> 0 | BD69: ='KT - Kabelové trasy'!F38 -> 0 | BT69: 4 | BV69: IMPORT | BW69: {0b105b6a-2e8d-4560-82a0-6de818914414} | BX69: {a05ec0cc-6d18-475e-b241-2c50df9e4493}
A70: / | F70: D.1.4.7 | L70: Projekt akustiky | AG70: ='D.1.4.7 - Projekt akustiky'!J31 -> 0 | AN70: =SUM(AG70,AT70) -> 0 | AQ70: Soupis | AS70: 0 | AT70: =ROUND(SUM(AV70:AW70),2) -> 0 | AU70: ='D.1.4.7 - Projekt akustiky'!P88 -> 0 | AV70: ='D.1.4.7 - Projekt akustiky'!J34 -> 0 | AW70: ='D.1.4.7 - Projekt akustiky'!J35 -> 0 | AX70: ='D.1.4.7 - Projekt akustiky'!J36 -> 0 | AY70: ='D.1.4.7 - Projekt akustiky'!J37 -> 0 | AZ70: ='D.1.4.7 - Projekt akustiky'!F34 -> 0 | BA70: ='D.1.4.7 - Projekt akustiky'!F35 -> 0 | BB70: ='D.1.4.7 - Projekt akustiky'!F36 -> 0 | BC70: ='D.1.4.7 - Projekt akustiky'!F37 -> 0 | BD70: ='D.1.4.7 - Projekt akustiky'!F38 -> 0 | BT70: 3 | BV70: IMPORT | BW70: {c31549c6-7af8-4e0f-9dc5-816416b8efd1} | BX70: {629fabe3-9260-4d62-9da5-519c9aff5269}
D71: IO | J71: INŽENÝRSKÉ OBJEKTY | AG71: =ROUND(SUM(AG72:AG76),2) -> 0 | AN71: =SUM(AG71,AT71) -> 0 | AQ71: ING | AS71: =ROUND(SUM(AS72:AS76),2) -> 0 | AT71: =ROUND(SUM(AV71:AW71),2) -> 0 | AU71: =ROUND(SUM(AU72:AU76),5) -> 0 | AV71: =ROUND(AZ71*L26,2) -> 0 | AW71: =ROUND(BA71*L27,2) -> 0 | AX71: =ROUND(BB71*L26,2) -> 0 | AY71: =ROUND(BC71*L27,2) -> 0 | AZ71: =ROUND(SUM(AZ72:AZ76),2) -> 0 | BA71: =ROUND(SUM(BA72:BA76),2) -> 0 | BB71: =ROUND(SUM(BB72:BB76),2) -> 0 | BC71: =ROUND(SUM(BC72:BC76),2) -> 0 | BD71: =ROUND(SUM(BD72:BD76),2) -> 0 | BS71: D | BT71: 1 | BU71: ###NOIMPORT### | BV71: IMPORT | BW71: {512ae4c1-021d-46b8-a0ea-b7760b60ee15} | BX71: {1a338de4-acb3-4f3c-9440-7c8911ff1179} | CM71: 2
A72: / | E72: IO 01 | K72: Zpevněné plochy | AG72: ='IO 01 - Zpevněné plochy'!J29 -> 0 | AN72: =SUM(AG72,AT72) -> 0 | AQ72: Soupis | AS72: 0 | AT72: =ROUND(SUM(AV72:AW72),2) -> 0 | AU72: ='IO 01 - Zpevněné plochy'!P92 -> 0 | AV72: ='IO 01 - Zpevněné plochy'!J32 -> 0 | AW72: ='IO 01 - Zpevněné plochy'!J33 -> 0 | AX72: ='IO 01 - Zpevněné plochy'!J34 -> 0 | AY72: ='IO 01 - Zpevněné plochy'!J35 -> 0 | AZ72: ='IO 01 - Zpevněné plochy'!F32 -> 0 | BA72: ='IO 01 - Zpevněné plochy'!F33 -> 0 | BB72: ='IO 01 - Zpevněné plochy'!F34 -> 0 | BC72: ='IO 01 - Zpevněné plochy'!F35 -> 0 | BD72: ='IO 01 - Zpevněné plochy'!F36 -> 0 | BT72: 2 | BV72: IMPORT | BW72: {e3ba5dd0-86a1-405c-8ba7-9fb8098f599d} | BX72: {512ae4c1-021d-46b8-a0ea-b7760b60ee15}
A73: / | E73: IO 02 | K73: Přípojka plynu | AG73: ='IO 02 - Přípojka plynu'!J29 -> 0 | AN73: =SUM(AG73,AT73) -> 0 | AQ73: Soupis | AS73: 0 | AT73: =ROUND(SUM(AV73:AW73),2) -> 0 | AU73: ='IO 02 - Přípojka plynu'!P85 -> 0 | AV73: ='IO 02 - Přípojka plynu'!J32 -> 0 | AW73: ='IO 02 - Přípojka plynu'!J33 -> 0 | AX73: ='IO 02 - Přípojka plynu'!J34 -> 0 | AY73: ='IO 02 - Přípojka plynu'!J35 -> 0 | AZ73: ='IO 02 - Přípojka plynu'!F32 -> 0 | BA73: ='IO 02 - Přípojka plynu'!F33 -> 0 | BB73: ='IO 02 - Přípojka plynu'!F34 -> 0 | BC73: ='IO 02 - Přípojka plynu'!F35 -> 0 | BD73: ='IO 02 - Přípojka plynu'!F36 -> 0 | BT73: 2 | BV73: IMPORT | BW73: {b24851d7-af1e-4e25-9ecf-1c667aa6c810} | BX73: {512ae4c1-021d-46b8-a0ea-b7760b60ee15}
A74: / | E74: IO 03 | K74: Dešťová a splašková kanalizace | AG74: ='IO 03 - Dešťová a splaško...'!J29 -> 0 | AN74: =SUM(AG74,AT74) -> 0 | AQ74: Soupis | AS74: 0 | AT74: =ROUND(SUM(AV74:AW74),2) -> 0 | AU74: ='IO 03 - Dešťová a splaško...'!P87 -> 0 | AV74: ='IO 03 - Dešťová a splaško...'!J32 -> 0 | AW74: ='IO 03 - Dešťová a splaško...'!J33 -> 0 | AX74: ='IO 03 - Dešťová a splaško...'!J34 -> 0 | AY74: ='IO 03 - Dešťová a splaško...'!J35 -> 0 | AZ74: ='IO 03 - Dešťová a splaško...'!F32 -> 0 | BA74: ='IO 03 - Dešťová a splaško...'!F33 -> 0 | BB74: ='IO 03 - Dešťová a splaško...'!F34 -> 0 | BC74: ='IO 03 - Dešťová a splaško...'!F35 -> 0 | BD74: ='IO 03 - Dešťová a splaško...'!F36 -> 0 | BT74: 2 | BV74: IMPORT | BW74: {b25327c3-590e-4df2-bed6-09c6a9e9d552} | BX74: {512ae4c1-021d-46b8-a0ea-b7760b60ee15}
A75: / | E75: IO 04 | K75: Přípojka NN | AG75: ='IO 04 - Přípojka NN'!J29 -> 0 | AN75: =SUM(AG75,AT75) -> 0 | AQ75: Soupis | AS75: 0 | AT75: =ROUND(SUM(AV75:AW75),2) -> 0 | AU75: ='IO 04 - Přípojka NN'!P82 -> 0 | AV75: ='IO 04 - Přípojka NN'!J32 -> 0 | AW75: ='IO 04 - Přípojka NN'!J33 -> 0 | AX75: ='IO 04 - Přípojka NN'!J34 -> 0 | AY75: ='IO 04 - Přípojka NN'!J35 -> 0 | AZ75: ='IO 04 - Přípojka NN'!F32 -> 0 | BA75: ='IO 04 - Přípojka NN'!F33 -> 0 | BB75: ='IO 04 - Přípojka NN'!F34 -> 0 | BC75: ='IO 04 - Přípojka NN'!F35 -> 0 | BD75: ='IO 04 - Přípojka NN'!F36 -> 0 | BT75: 2 | BV75: IMPORT | BW75: {b3b25135-4a4e-4670-8ca4-1b5018301086} | BX75: {512ae4c1-021d-46b8-a0ea-b7760b60ee15}
A76: / | E76: IO 05 | K76: Přípojka vodovodu | AG76: ='IO 05 - Přípojka vodovodu'!J29 -> 0 | AN76: =SUM(AG76,AT76) -> 0 | AQ76: Soupis | AS76: 0 | AT76: =ROUND(SUM(AV76:AW76),2) -> 0 | AU76: ='IO 05 - Přípojka vodovodu'!P93 -> 0 | AV76: ='IO 05 - Přípojka vodovodu'!J32 -> 0 | AW76: ='IO 05 - Přípojka vodovodu'!J33 -> 0 | AX76: ='IO 05 - Přípojka vodovodu'!J34 -> 0 | AY76: ='IO 05 - Přípojka vodovodu'!J35 -> 0 | AZ76: ='IO 05 - Přípojka vodovodu'!F32 -> 0 | BA76: ='IO 05 - Přípojka vodovodu'!F33 -> 0 | BB76: ='IO 05 - Přípojka vodovodu'!F34 -> 0 | BC76: ='IO 05 - Přípojka vodovodu'!F35 -> 0 | BD76: ='IO 05 - Přípojka vodovodu'!F36 -> 0 | BT76: 2 | BV76: IMPORT | BW76: {145943ae-9c36-4d05-a7c7-50f9285ab8aa} | BX76: {512ae4c1-021d-46b8-a0ea-b7760b60ee15}

Sheet VON - Vedljší a ostatní n...
D1: List obsahuje: | F1: 1) Krycí list soupisu | G1: 2) Rekapitulace | J1: 3) Soupis prací | K1: Zpět na list: | L1: Rekapitulace stavby
AT2: {4f7f998a-7aeb-4a64-8b3a-24f356f02121}
AT3: 2
D4: KRYCÍ LIST SOUPISU | M4: v --- níže se nacházejí doplnkové a pomocné údaje k sestavám --- v | AT4: False
D6: Stavba:
E7: ='Rekapitulace stavby'!K6 -> CENTRUM SPOLEČNÝCH AKTIVIT JESENÍK
D8: Objekt:
E9: VON - Vedljší a ostatní náklady
D11: KSO: | I11: CC-CZ:
D12: Místo: | F12: Jeseník | I12: Datum: | J12: ='Rekapitulace stavby'!AN8 -> 11.10.2016
D14: Zadavatel: | I14: IČ:
E15: MĚSTO JESENÍK | I15: DIČ:
D17: Uchazeč: | I17: IČ: | J17: =IF('Rekapitulace stavby'!AN13="Vyplň údaj","",IF('Rekapitulace stavby'!AN13="","",'Rekapitulace stavby'!AN13))
E18: =IF('Rekapitulace stavby'!E14="Vyplň údaj","",IF('Rekapitulace stavby'!E14="","",'Rekapitulace stavby'!E14)) | I18: DIČ: | J18: =IF('Rekapitulace stavby'!AN14="Vyplň údaj","",IF('Rekapitulace stavby'!AN14="","",'Rekapitulace stavby'!AN14))
D20: Projektant: | I20: IČ:
E21: KANIA a.s. , Ostrava | I21: DIČ:
D23: Poznámka:
E24: Soupis prací je sestaven za využití položek Cenové soustavy ÚRS. Cenové a technické podmínky položek CS ÚRS, které nejsou uvedeny v soupisu prací (tzv. úvodní části katalogů) jsou neomezeně dálkově k dispozici na www.cs-urs.cz. Položky soupisu prací, které nemají ve sloupci „Cenová soustava“ uveden žádný údaj, nepochází z Cenové soustavy ÚRS (takové položky soupisu prací mají Cenovou soustavu „VLASTNÍ“). Ocenění "vlastní" položky:na základě odborných znalostí a zkušeností projektanta při realizaci obdobných zakázek za období 5-ti let. nebo na základě cen v místě a čase obvyklých). Nedílnou součástí soupisu prací je projektová dokumentace vč. textových příloh, na kterou se položky soupisu prací plně odkazují.
D27: Cena bez DPH | J27: =ROUND(J79,2) -> 0
F29: Základ daně | I29: Sazba daně | J29: Výše daně
D30: DPH | E30: základní | F30: =ROUND(SUM(BE79:BE134), 2) -> 0 | I30: 0.21 | J30: =ROUND(ROUND((SUM(BE79:BE134)), 2)*I30, 2) -> 0
E31: snížená | F31: =ROUND(SUM(BF79:BF134), 2) -> 0 | I31: 0.15 | J31: =ROUND(ROUND((SUM(BF79:BF134)), 2)*I31, 2) -> 0
E32: zákl. přenesená | F32: =ROUND(SUM(BG79:BG134), 2) -> 0 | I32: 0.21 | J32: 0
E33: sníž. přenesená | F33: =ROUND(SUM(BH79:BH134), 2) -> 0 | I33: 0.15 | J33: 0
E34: nulová | F34: =ROUND(SUM(BI79:BI134), 2) -> 0 | I34: 0 | J34: 0
D36: Cena s DPH | G36: v | H36: CZK | J36: =SUM(J27:J34) -> 0
C42: REKAPITULACE ČLENĚNÍ SOUPISU PRACÍ
C44: Stavba:
E45: =E7 -> CENTRUM SPOLEČNÝCH AKTIVIT JESENÍK
C46: Objekt:
E47: =E9 -> VON - Vedljší a ostatní náklady
C49: Místo: | F49: =F12 -> Jeseník | I49: Datum: | J49: =IF(J12="","",J12) -> 11.10.2016
C51: Zadavatel: | F51: =E15 -> MĚSTO JESENÍK | I51: Projektant: | J51: =E21 -> KANIA a.s. , Ostrava
C52: Uchazeč: | F52: =IF(E18="","",E18)
C54: Kód dílu - Popis | J54: Cena celkem [CZK]
C56: Náklady soupisu celkem | J56: =J79 -> 0 | AU56: -1
D57: VRN - VRN | J57: =J80 -> 0
D58: VRN11 - VEDLEJŠÍ NÁKLADY STAVBY | J58: =J81 -> 0
D59: VRN91 - OSTATNÍ NÁKLADY STAVBY | J59: =J98 -> 0
C66: SOUPIS PRACÍ
C68: Stavba:
E69: =E7 -> CENTRUM SPOLEČNÝCH AKTIVIT JESENÍK
C70: Objekt:
E71: =E9 -> VON - Vedljší a ostatní náklady
C73: Místo: | F73: =F12 -> Jeseník | I73: Datum: | J73: =IF(J12="","",J12) -> 11.10.2016
C75: Zadavatel: | F75: =E15 -> MĚSTO JESENÍK | I75: Projektant: | J75: =E21 -> KANIA a.s. , Ostrava
C76: Uchazeč: | F76: =IF(E18="","",E18)
C78: PČ | D78: Typ | E78: Kód | F78: Popis | G78: MJ | H78: Množství | I78: J.cena [CZK] | J78: Cena celkem [CZK] | K78: Cenová soustava | M78: Poznámka | N78: DPH | O78: J. Nh [h] | P78: Nh celkem [h] | Q78: J. hmotnost_x000D_ [t] | R78: Hmotnost_x000D_ celkem [t] | S78: J. suť [t] | T78: Suť Celkem [t]
C79: Náklady soupisu celkem | J79: =BK79 -> 0 | P79: =P80 -> 0 | R79: =R80 -> 0 | T79: =T80 -> 0 | AT79: D | AU79: -1 | BK79: =BK80 -> 0
D80: D | E80: VRN | F80: VRN | J80: =BK80 -> 0 | P80: =P81+P98 -> 0 | R80: =R81+R98 -> 0 | T80: =T81+T98 -> 0 | AR80: 5 | AT80: D | AU80: 0 | AY80: ROZPOCET | BK80: =BK81+BK98 -> 0
D81: D | E81: VRN11 | F81: VEDLEJŠÍ NÁKLADY STAVBY | J81: =BK81 -> 0 | P81: =SUM(P82:P97) -> 0 | R81: =SUM(R82:R97) -> 0 | T81: =SUM(T82:T97) -> 0 | AR81: 5 | AT81: D | AU81: 1 | AY81: ROZPOCET | BK81: =SUM(BK82:BK97) -> 0
C82: 1 | D82: K | E82: VRN11-01 | F82: Náklady zhotovitele související se zajištěním provozů nutných pro provádění díla - zařízení staveniště | G82: soubor | H82: 1 | J82: =ROUND(I82*H82,2) -> 0 | N82: základní | P82: =O82*H82 -> 0 | Q82: 0 | R82: =Q82*H82 -> 0 | S82: 0 | T82: =S82*H82 -> 0 | AR82: 4 | AT82: K | AU82: 2 | AY82: ROZPOCET | BE82: =IF(N82="základní",J82,0) -> 0 | BF82: =IF(N82="snížená",J82,0) -> 0 | BG82: =IF(N82="zákl. přenesená",J82,0) -> 0 | BH82: =IF(N82="sníž. přenesená",J82,0) -> 0 | BI82: =IF(N82="nulová",J82,0) -> 0 | BJ82: 1 | BK82: =ROUND(I82*H82,2) -> 0 | BL82: 4 | BM82: 1756089820
D83: P | F83: Poznámka k položce: (kancelářské/skladovací/sociální objekty, oplocení stavby, ostraha staveniště, kompletní vnitrostaveništní rozvody všech potřebných energií vč. jejich poplatků, zajištění podružných měření spotřeby) | AT83: P | AU83: 2
C84: 2 | D84: K | E84: VRN11-02 | F84: Náklady zhotovitele související se zajištěním provozů nutných pro provádění díla - ostatní zařízení a práce | G84: soubor | H84: 1 | J84: =ROUND(I84*H84,2) -> 0 | N84: základní | P84: =O84*H84 -> 0 | Q84: 0 | R84: =Q84*H84 -> 0 | S84: 0 | T84: =S84*H84 -> 0 | AR84: 4 | AT84: K | AU84: 2 | AY84: ROZPOCET | BE84: =IF(N84="základní",J84,0) -> 0 | BF84: =IF(N84="snížená",J84,0) -> 0 | BG84: =IF(N84="zákl. přenesená",J84,0) -> 0 | BH84: =IF(N84="sníž. přenesená",J84,0) -> 0 | BI84: =IF(N84="nulová",J84,0) -> 0 | BJ84: 1 | BK84: =ROUND(I84*H84,2) -> 0 | BL84: 4 | BM84: 903560459
D85: VV | F85: -Zřízení trvalé, dočasné deponie a mezideponie | AT85: VV | AU85: 2 | AV85: 1 | AW85: True | AX85: 0 | AY85: ROZPOCET
D86: VV | F86: -zřízení příjezdů a přístupů na staveniště | AT86: VV | AU86: 2 | AV86: 1 | AW86: True | AX86: 0 | AY86: ROZPOCET
D87: VV | F87: -úpravy staveniště z hlediska bezpečnosti a ochrany zdraví třetích osob, vč. nutných úprav pro osoby s omezenou schopností pohybu a orientace | AT87: VV | AU87: 2 | AV87: 1 | AW87: True | AX87: 0 | AY87: ROZPOCET
D88: VV | F88: -uspořádání a bezpečnost staveniště z hlediska ochrany veřejných zájmů | AT88: VV | AU88: 2 | AV88: 1 | AW88: True | AX88: 0 | AY88: ROZPOCET
D89: VV | F89: -dodržení podmínek pro provádění staveb z hlediska BOZP (vč. označení stavby) a sestaveného plánu BOZP | AT89: VV | AU89: 2 | AV89: 1 | AW89: True | AX89: 0 | AY89: ROZPOCET
D90: VV | F90: -dodržování podmínek pro ochranu životního prostředí při výstavbě | AT90: VV | AU90: 2 | AV90: 1 | AW90: True | AX90: 0 | AY90: ROZPOCET
D91: VV | F91: -dodržení podmínek - možnosti nakládání s odpady | AT91: VV | AU91: 2 | AV91: 1 | AW91: True | AX91: 0 | AY91: ROZPOCET
D92: VV | F92: -splnění zvláštních požadavků na provádění stavby, které vyžadují zvláštní bezpečnostní opatření | AT92: VV | AU92: 2 | AV92: 1 | AW92: True | AX92: 0 | AY92: ROZPOCET
D93: VV | F93: -dočasné / provizorní dopravní značení, osvětlení - (vyřízení+zřízení+likvidace po skončení stavby) | AT93: VV | AU93: 2 | AV93: 1 | AW93: True | AX93: 0 | AY93: ROZPOCET
D94: VV | F94: 1,0 | H94: 1 | AT94: VV | AU94: 2 | AV94: 2 | AW94: True | AX94: 0 | AY94: ROZPOCET
D95: VV | F95: Součet | H95: 1 | AT95: VV | AU95: 2 | AV95: 4 | AW95: True | AX95: 1 | AY95: ROZPOCET
C96: 3 | D96: K | E96: VRN11-03 | F96: Náklady zhotovitele související se zajištěním provozů nutných pro provádění díla - likvidace zařízení staveniště | G96: soubor | H96: 1 | J96: =ROUND(I96*H96,2) -> 0 | N96: základní | P96: =O96*H96 -> 0 | Q96: 0 | R96: =Q96*H96 -> 0 | S96: 0 | T96: =S96*H96 -> 0 | AR96: 4 | AT96: K | AU96: 2 | AY96: ROZPOCET | BE96: =IF(N96="základní",J96,0) -> 0 | BF96: =IF(N96="snížená",J96,0) -> 0 | BG96: =IF(N96="zákl. přenesená",J96,0) -> 0 | BH96: =IF(N96="sníž. přenesená",J96,0) -> 0 | BI96: =IF(N96="nulová",J96,0) -> 0 | BJ96: 1 | BK96: =ROUND(I96*H96,2) -> 0 | BL96: 4 | BM96: 1097158160
D97: P | F97: Poznámka k položce: (náklady zhotovitele spojené s kompletní likvidací zařízení staveniště vč. uvedení všech dotčených ploch do bezvadného stavu) | AT97: P | AU97: 2
D98: D | E98: VRN91 | F98: OSTATNÍ NÁKLADY STAVBY | J98: =BK98 -> 0 | P98: =SUM(P99:P134) -> 0 | R98: =SUM(R99:R134) -> 0 | T98: =SUM(T99:T134) -> 0 | AR98: 5 | AT98: D | AU98: 1 | AY98: ROZPOCET | BK98: =SUM(BK99:BK134) -> 0
C99: 4 | D99: K | E99: VRN91-01 | F99: Náklady zhotovitele související se zajištěním a provedením kompletního díla dle PD a souvisejících dokladů - kompletační činnost | G99: soubor | H99: 1 | J99: =ROUND(I99*H99,2) -> 0 | N99: základní | P99: =O99*H99 -> 0 | Q99: 0 | R99: =Q99*H99 -> 0 | S99: 0 | T99: =S99*H99 -> 0 | AR99: 4 | AT99: K | AU99: 2 | AY99: ROZPOCET | BE99: =IF(N99="základní",J99,0) -> 0 | BF99: =IF(N99="snížená",J99,0) -> 0 | BG99: =IF(N99="zákl. přenesená",J99,0) -> 0 | BH99: =IF(N99="sníž. přenesená",J99,0) -> 0 | BI99: =IF(N99="nulová",J99,0) -> 0 | BJ99: 1 | BK99: =ROUND(I99*H99,2) -> 0 | BL99: 4 | BM99: 1512796766
C100: 5 | D100: K | E100: VRN91-02 | F100: Pravidelné čištění přilehlých / souvisejících komunikací a zpevněných ploch - po celou dobu stavby | G100: soubor | H100: 1 | J100: =ROUND(I100*H100,2) -> 0 | N100: základní | P100: =O100*H100 -> 0 | Q100: 0 | R100: =Q100*H100 -> 0 | S100: 0 | T100: =S100*H100 -> 0 | AR100: 4 | AT100: K | AU100: 2 | AY100: ROZPOCET | BE100: =IF(N100="základní",J100,0) -> 0 | BF100: =IF(N100="snížená",J100,0) -> 0 | BG100: =IF(N100="zákl. přenesená",J100,0) -> 0 | BH100: =IF(N100="sníž. přenesená",J100,0) -> 0 | BI100: =IF(N100="nulová",J100,0) -> 0 | BJ100: 1 | BK100: =ROUND(I100*H100,2) -> 0 | BL100: 4 | BM100: -1693785544
C101: 6 | D101: K | E101: VRN91-03 | F101: Zábor potřebného veřejného prostranství / pozemků - pro stavbu, zařízení staveniště, vjezdy na stavbu - POZEMKY KTERÉ NEJSOU VE VLASTNICTVÍ OBJEDNATELE | G101: soubor | H101: 1 | J101: =ROUND(I101*H101,2) -> 0 | N101: základní | P101: =O101*H101 -> 0 | Q101: 0 | R101: =Q101*H101 -> 0 | S101: 0 | T101: =S101*H101 -> 0 | AR101: 4 | AT101: K | AU101: 2 | AY101: ROZPOCET | BE101: =IF(N101="základní",J101,0) -> 0 | BF101: =IF(N101="snížená",J101,0) -> 0 | BG101: =IF(N101="zákl. přenesená",J101,0) -> 0 | BH101: =IF(N101="sníž. přenesená",J101,0) -> 0 | BI101: =IF(N101="nulová",J101,0) -> 0 | BJ101: 1 | BK101: =ROUND(I101*H101,2) -> 0 | BL101: 4 | BM101: -1825140443
D102: VV | F102: -zajištění + vyřízení + finanční vyrovnání | AT102: VV | AU102: 2 | AV102: 1 | AW102: True | AX102: 0 | AY102: ROZPOCET
D103: VV | F103: -zpětné PROTOKOLÁRNÍ předání dotčených ploch, uvedených do původního stavu, jednotlivým zprávcům/majitelům | AT103: VV | AU103: 2 | AV103: 1 | AW103: True | AX103: 0 | AY103: ROZPOCET
D104: VV | F104: 1,0 | H104: 1 | AT104: VV | AU104: 2 | AV104: 2 | AW104: True | AX104: 0 | AY104: ROZPOCET
D105: VV | F105: Součet | H105: 1 | AT105: VV | AU105: 2 | AV105: 4 | AW105: True | AX105: 1 | AY105: ROZPOCET
C106: 7 | D106: K | E106: VRN91-05 | F106: Náklady zhotovitele spojené s ochranou všech dotčených, jinde nespecifikovaných, dřevin, stromů, porostů a vegetačních ploch při stavebních prací dle ČSN 83 9061 - po celou dobu výstavby | G106: soubor | H106: 1 | J106: =ROUND(I106*H106,2) -> 0 | N106: základní | P106: =O106*H106 -> 0 | Q106: 0 | R106: =Q106*H106 -> 0 | S106: 0 | T106: =S106*H106 -> 0 | AR106: 4 | AT106: K | AU106: 2 | AY106: ROZPOCET | BE106: =IF(N106="základní",J106,0) -> 0 | BF106: =IF(N106="snížená",J106,0) -> 0 | BG106: =IF(N106="zákl. přenesená",J106,0) -> 0 | BH106: =IF(N106="sníž. přenesená",J106,0) -> 0 | BI106: =IF(N106="nulová",J106,0) -> 0 | BJ106: 1 | BK106: =ROUND(I106*H106,2) -> 0 | BL106: 4 | BM106: -1157833371
C107: 8 | D107: K | E107: VRN91-11 | F107: Zajištění všech dokladů a revizí nutných pro předání stavby a vydání kolaudačního souhlasu | G107: soubor | H107: 1 | J107: =ROUND(I107*H107,2) -> 0 | N107: základní | P107: =O107*H107 -> 0 | Q107: 0 | R107: =Q107*H107 -> 0 | S107: 0 | T107: =S107*H107 -> 0 | AR107: 4 | AT107: K | AU107: 2 | AY107: ROZPOCET | BE107: =IF(N107="základní",J107,0) -> 0 | BF107: =IF(N107="snížená",J107,0) -> 0 | BG107: =IF(N107="zákl. přenesená",J107,0) -> 0 | BH107: =IF(N107="sníž. přenesená",J107,0) -> 0 | BI107: =IF(N107="nulová",J107,0) -> 0 | BJ107: 1 | BK107: =ROUND(I107*H107,2) -> 0 | BL107: 4 | BM107: 1484660669
C108: 9 | D108: K | E108: VRN91-12 | F108: Zajištění splnění podmínek vyplývajících z vydaných rozhodnutí a povolení stavby dle zadávací dokumentace a plánu bezpečnosti | G108: soubor | H108: 1 | J108: =ROUND(I108*H108,2) -> 0 | N108: základní | P108: =O108*H108 -> 0 | Q108: 0 | R108: =Q108*H108 -> 0 | S108: 0 | T108: =S108*H108 -> 0 | AR108: 4 | AT108: K | AU108: 2 | AY108: ROZPOCET | BE108: =IF(N108="základní",J108,0) -> 0 | BF108: =IF(N108="snížená",J108,0) -> 0 | BG108: =IF(N108="zákl. přenesená",J108,0) -> 0 | BH108: =IF(N108="sníž. přenesená",J108,0) -> 0 | BI108: =IF(N108="nulová",J108,0) -> 0 | BJ108: 1 | BK108: =ROUND(I108*H108,2) -> 0 | BL108: 4 | BM108: -790141884
C109: 10 | D109: K | E109: VRN91-13 | F109: Součinnost s ostatními zúčastněnými stranami : se zástupci objednatele, projektanta, TDI, AD, koordinátora bezpečnosti | G109: soubor | H109: 1 | J109: =ROUND(I109*H109,2) -> 0 | N109: základní | P109: =O109*H109 -> 0 | Q109: 0 | R109: =Q109*H109 -> 0 | S109: 0 | T109: =S109*H109 -> 0 | AR109: 4 | AT109: K | AU109: 2 | AY109: ROZPOCET | BE109: =IF(N109="základní",J109,0) -> 0 | BF109: =IF(N109="snížená",J109,0) -> 0 | BG109: =IF(N109="zákl. přenesená",J109,0) -> 0 | BH109: =IF(N109="sníž. přenesená",J109,0) -> 0 | BI109: =IF(N109="nulová",J109,0) -> 0 | BJ109: 1 | BK109: =ROUND(I109*H109,2) -> 0 | BL109: 4 | BM109: -1370498417
C110: 11 | D110: K | E110: VRN91-14 | F110: Včasné odsouhlasení všech užitých výrobků/prvků, materiálů a technologií zástupci všech zúčastněných stran, požadované zadávací a projektovou dokumentací - (VYVZORKOVÁNÍ) | G110: soubor | H110: 1 | J110: =ROUND(I110*H110,2) -> 0 | N110: základní | P110: =O110*H110 -> 0 | Q110: 0 | R110: =Q110*H110 -> 0 | S110: 0 | T110: =S110*H110 -> 0 | AR110: 4 | AT110: K | AU110: 2 | AY110: ROZPOCET | BE110: =IF(N110="základní",J110,0) -> 0 | BF110: =IF(N110="snížená",J110,0) -> 0 | BG110: =IF(N110="zákl. přenesená",J110,0) -> 0 | BH110: =IF(N110="sníž. přenesená",J110,0) -> 0 | BI110: =IF(N110="nulová",J110,0) -> 0 | BJ110: 1 | BK110: =ROUND(I110*H110,2) -> 0 | BL110: 4 | BM110: -1813920896
C111: 12 | D111: K | E111: VRN91-21 | F111: Technická řešení - návrh a projednání nutných odchylek a změn oproti PD zjištěných v průběhu stavby | G111: soubor | H111: 1 | J111: =ROUND(I111*H111,2) -> 0 | N111: základní | P111: =O111*H111 -> 0 | Q111: 0 | R111: =Q111*H111 -> 0 | S111: 0 | T111: =S111*H111 -> 0 | AR111: 4 | AT111: K | AU111: 2 | AY111: ROZPOCET | BE111: =IF(N111="základní",J111,0) -> 0 | BF111: =IF(N111="snížená",J111,0) -> 0 | BG111: =IF(N111="zákl. přenesená",J111,0) -> 0 | BH111: =IF(N111="sníž. přenesená",J111,0) -> 0 | BI111: =IF(N111="nulová",J111,0) -> 0 | BJ111: 1 | BK111: =ROUND(I111*H111,2) -> 0 | BL111: 4 | BM111: 1776554188
C112: 13 | D112: K | E112: VRN91-22 | F112: Technická řešení - návrh a projednání kolizí se skrytými konstrukcemi, vč. nákladů souvisejících s technickým řešením případných kolizí stavby se skrytými konstrukcemi, které projektant nemohl předvídat. | G112: soubor | H112: 1 | J112: =ROUND(I112*H112,2) -> 0 | N112: základní | P112: =O112*H112 -> 0 | Q112: 0 | R112: =Q112*H112 -> 0 | S112: 0 | T112: =S112*H112 -> 0 | AR112: 4 | AT112: K | AU112: 2 | AY112: ROZPOCET | BE112: =IF(N112="základní",J112,0) -> 0 | BF112: =IF(N112="snížená",J112,0) -> 0 | BG112: =IF(N112="zákl. přenesená",J112,0) -> 0 | BH112: =IF(N112="sníž. přenesená",J112,0) -> 0 | BI112: =IF(N112="nulová",J112,0) -> 0 | BJ112: 1 | BK112: =ROUND(I112*H112,2) -> 0 | BL112: 4 | BM112: -197549811
C113: 14 | D113: K | E113: VRN91-23 | F113: Zabezpečení objektu, staveniště a veškeré vybavení, majetku třetích osob a stavebního materiálu instalovaného i neinstalovaného (uskladněného) v rámci stavby proti vzniku jakýchkoliv škod či snížení kvality vlivem klimatických podmínek, proti odcizení. | G113: soubor | H113: 1 | J113: =ROUND(I113*H113,2) -> 0 | N113: základní | P113: =O113*H113 -> 0 | Q113: 0 | R113: =Q113*H113 -> 0 | S113: 0 | T113: =S113*H113 -> 0 | AR113: 4 | AT113: K | AU113: 2 | AY113: ROZPOCET | BE113: =IF(N113="základní",J113,0) -> 0 | BF113: =IF(N113="snížená",J113,0) -> 0 | BG113: =IF(N113="zákl. přenesená",J113,0) -> 0 | BH113: =IF(N113="sníž. přenesená",J113,0) -> 0 | BI113: =IF(N113="nulová",J113,0) -> 0 | BJ113: 1 | BK113: =ROUND(I113*H113,2) -> 0 | BL113: 4 | BM113: 918743841
C114: 15 | D114: K | E114: VRN91-31 | F114: Provedení všech zkoušek a revizí předepsaných projektovou a zadávací dokumentací, platnými normami, návodů k obsluze - (neuvedených v jednotlivých soupisech prací) | G114: soubor | H114: 1 | J114: =ROUND(I114*H114,2) -> 0 | N114: základní | P114: =O114*H114 -> 0 | Q114: 0 | R114: =Q114*H114 -> 0 | S114: 0 | T114: =S114*H114 -> 0 | AR114: 4 | AT114: K | AU114: 2 | AY114: ROZPOCET | BE114: =IF(N114="základní",J114,0) -> 0 | BF114: =IF(N114="snížená",J114,0) -> 0 | BG114: =IF(N114="zákl. přenesená",J114,0) -> 0 | BH114: =IF(N114="sníž. přenesená",J114,0) -> 0 | BI114: =IF(N114="nulová",J114,0) -> 0 | BJ114: 1 | BK114: =ROUND(I114*H114,2) -> 0 | BL114: 4 | BM114: 2079610552
C115: 16 | D115: K | E115: VRN91-41 | F115: Uvedení všech pozemků, konstrukcí a povrchů dotčených stavbou do původního stavu vč. protokolárního zpětného předání jednotlivým vlastníkům. | G115: soubor | H115: 1 | J115: =ROUND(I115*H115,2) -> 0 | N115: základní | P115: =O115*H115 -> 0 | Q115: 0 | R115: =Q115*H115 -> 0 | S115: 0 | T115: =S115*H115 -> 0 | AR115: 4 | AT115: K | AU115: 2 | AY115: ROZPOCET | BE115: =IF(N115="základní",J115,0) -> 0 | BF115: =IF(N115="snížená",J115,0) -> 0 | BG115: =IF(N115="zákl. přenesená",J115,0) -> 0 | BH115: =IF(N115="sníž. přenesená",J115,0) -> 0 | BI115: =IF(N115="nulová",J115,0) -> 0 | BJ115: 1 | BK115: =ROUND(I115*H115,2) -> 0 | BL115: 4 | BM115: -936783288
C116: 17 | D116: K | E116: VRN91-51 | F116: Náklady na projekční práce | G116: soubor | H116: 1 | J116: =ROUND(I116*H116,2) -> 0 | N116: základní | P116: =O116*H116 -> 0 | Q116: 0 | R116: =Q116*H116 -> 0 | S116: 0 | T116: =S116*H116 -> 0 | AR116: 4 | AT116: K | AU116: 2 | AY116: ROZPOCET | BE116: =IF(N116="základní",J116,0) -> 0 | BF116: =IF(N116="snížená",J116,0) -> 0 | BG116: =IF(N116="zákl. přenesená",J116,0) -> 0 | BH116: =IF(N116="sníž. přenesená",J116,0) -> 0 | BI116: =IF(N116="nulová",J116,0) -> 0 | BJ116: 1 | BK116: =ROUND(I116*H116,2) -> 0 | BL116: 4 | BM116: 1027474143
D117: VV | F117: -vypracování realizační dokumentace stavby - dle požadavků PD a zadávací dokumentace vč. odsouhlasení ze strany autorů PDPS | AT117: VV | AU117: 2 | AV117: 1 | AW117: True | AX117: 0 | AY117: ROZPOCET
D118: VV | F118: -vypracování dílenské / dodavatelské dokumentace stavby - dle požadavků PD a zadávací dokumentace vč. odsouhlasení ze strany autorů PDPS | AT118: VV | AU118: 2 | AV118: 1 | AW118: True | AX118: 0 | AY118: ROZPOCET
D119: VV | F119: -vypracování dokumentace "skutečného provedení stavby" - dle požadavků PD a zadávací dokumentace vč. odsouhlasení ze strany autorů PDPS | AT119: VV | AU119: 2 | AV119: 1 | AW119: True | AX119: 0 | AY119: ROZPOCET
D120: VV | F120: VEŠKERÉ FORMY A PŘEDÁNÍ SE ŘÍDÍ PODMÍNKAMI ZADÁVACÍ DOKUMENTACE STAVBY | AT120: VV | AU120: 2 | AV120: 1 | AW120: True | AX120: 0 | AY120: ROZPOCET
D121: VV | F121: 1,0 | H121: 1 | AT121: VV | AU121: 2 | AV121: 2 | AW121: True | AX121: 0 | AY121: ROZPOCET
D122: VV | F122: Součet | H122: 1 | AT122: VV | AU122: 2 | AV122: 4 | AW122: True | AX122: 1 | AY122: ROZPOCET
C123: 18 | D123: K | E123: VRN91-61 | F123: Zpracování fotodokumentace : A) fotofokumentace stávajícího stavu před zahájením stavebních prací, B) fotodokumentace průběhu realizace stavby, C) fotodokumentace dokončeného díla. Předání objednateli v počtu a formě uvedené v zadávací dokumentaci. | G123: soubor | H123: 1 | J123: =ROUND(I123*H123,2) -> 0 | N123: základní | P123: =O123*H123 -> 0 | Q123: 0 | R123: =Q123*H123 -> 0 | S123: 0 | T123: =S123*H123 -> 0 | AR123: 4 | AT123: K | AU123: 2 | AY123: ROZPOCET | BE123: =IF(N123="základní",J123,0) -> 0 | BF123: =IF(N123="snížená",J123,0) -> 0 | BG123: =IF(N123="zákl. přenesená",J123,0) -> 0 | BH123: =IF(N123="sníž. přenesená",J123,0) -> 0 | BI123: =IF(N123="nulová",J123,0) -> 0 | BJ123: 1 | BK123: =ROUND(I123*H123,2) -> 0 | BL123: 4 | BM123: 1030175770
C124: 19 | D124: K | E124: VRN91-71 | F124: Náklady na označení stavby - velkorozměrová tabule umístěná na viditelném místě po celou dobu stavby - provedení DLE ZADÁVACÍCH PODMÍNEK | G124: soubor | H124: 1 | J124: =ROUND(I124*H124,2) -> 0 | N124: základní | P124: =O124*H124 -> 0 | Q124: 0 | R124: =Q124*H124 -> 0 | S124: 0 | T124: =S124*H124 -> 0 | AR124: 4 | AT124: K | AU124: 2 | AY124: ROZPOCET | BE124: =IF(N124="základní",J124,0) -> 0 | BF124: =IF(N124="snížená",J124,0) -> 0 | BG124: =IF(N124="zákl. přenesená",J124,0) -> 0 | BH124: =IF(N124="sníž. přenesená",J124,0) -> 0 | BI124: =IF(N124="nulová",J124,0) -> 0 | BJ124: 1 | BK124: =ROUND(I124*H124,2) -> 0 | BL124: 4 | BM124: 1083273065
C125: 20 | D125: K | E125: VRN91-81 | F125: Vytyčení všech inženýrských sítí před zahájením prací vč. řádného zajištění. Zpětné protokolární předání všech inženýrských sítí jednotlivým správcům vč. uvedení dotčených ploch do bezvadného stavu. | G125: soubor | H125: 1 | J125: =ROUND(I125*H125,2) -> 0 | N125: základní | P125: =O125*H125 -> 0 | Q125: 0 | R125: =Q125*H125 -> 0 | S125: 0 | T125: =S125*H125 -> 0 | AR125: 4 | AT125: K | AU125: 2 | AY125: ROZPOCET | BE125: =IF(N125="základní",J125,0) -> 0 | BF125: =IF(N125="snížená",J125,0) -> 0 | BG125: =IF(N125="zákl. přenesená",J125,0) -> 0 | BH125: =IF(N125="sníž. přenesená",J125,0) -> 0 | BI125: =IF(N125="nulová",J125,0) -> 0 | BJ125: 1 | BK125: =ROUND(I125*H125,2) -> 0 | BL125: 4 | BM125: 615608765
C126: 21 | D126: K | E126: VRN91-82 | F126: Geodetické a související práce | G126: soubor | H126: 1 | J126: =ROUND(I126*H126,2) -> 0 | N126: základní | P126: =O126*H126 -> 0 | Q126: 0 | R126: =Q126*H126 -> 0 | S126: 0 | T126: =S126*H126 -> 0 | AR126: 4 | AT126: K | AU126: 2 | AY126: ROZPOCET | BE126: =IF(N126="základní",J126,0) -> 0 | BF126: =IF(N126="snížená",J126,0) -> 0 | BG126: =IF(N126="zákl. přenesená",J126,0) -> 0 | BH126: =IF(N126="sníž. přenesená",J126,0) -> 0 | BI126: =IF(N126="nulová",J126,0) -> 0 | BJ126: 1 | BK126: =ROUND(I126*H126,2) -> 0 | BL126: 4 | BM126: -1572138067
D127: VV | F127: -vytyčení stavby nebo jejich částí oprávněným geodetem vč. vypracování příslušných protokolů - před zahájením stavby | AT127: VV | AU127: 2 | AV127: 1 | AW127: True | AX127: 0 | AY127: ROZPOCET
D128: VV | F128: -zaměření skutečného provedení stavby nebo jejich částí vč. vypracování geometrických plánů a ostatních příslušných protokolů | AT128: VV | AU128: 2 | AV128: 1 | AW128: True | AX128: 0 | AY128: ROZPOCET
D129: VV | F129: (veškeré nové a upravované stavby/konstrukce , inženýrské a liniové stavby v rámci stavby) | AT129: VV | AU129: 2 | AV129: 1 | AW129: True | AX129: 0 | AY129: ROZPOCET
D130: VV | F130: VEŠKERÉ FORMY A PŘEDÁNÍ SE ŘÍDÍ PODMÍNKAMI ZADÁVACÍ DOKUMENTACE STAVBY | AT130: VV | AU130: 2 | AV130: 1 | AW130: True | AX130: 0 | AY130: ROZPOCET
...

Sheet D.1.1 - Architektonicko- ...
D1: List obsahuje: | F1: 1) Krycí list soupisu | G1: 2) Rekapitulace | J1: 3) Soupis prací | K1: Zpět na list: | L1: Rekapitulace stavby
AT2: {6e68bff3-e655-4033-ade6-95dca6e7a4bf}
AT3: 2
D4: KRYCÍ LIST SOUPISU | M4: v --- níže se nacházejí doplnkové a pomocné údaje k sestavám --- v | AT4: False
D6: Stavba:
E7: ='Rekapitulace stavby'!K6 -> CENTRUM SPOLEČNÝCH AKTIVIT JESENÍK
D8: Objekt:
E9: SO 01 - CENTRUM SPOLEČNÝCH AKTIVIT
D10: Soupis:
E11: D.1.1 - Architektonicko- stavební řešení
D13: KSO: | I13: CC-CZ:
D14: Místo: | F14: Jeseník | I14: Datum: | J14: ='Rekapitulace stavby'!AN8 -> 11.10.2016
D16: Zadavatel: | I16: IČ:
E17: MĚSTO JESENÍK | I17: DIČ:
D19: Uchazeč: | I19: IČ: | J19: =IF('Rekapitulace stavby'!AN13="Vyplň údaj","",IF('Rekapitulace stavby'!AN13="","",'Rekapitulace stavby'!AN13))
E20: =IF('Rekapitulace stavby'!E14="Vyplň údaj","",IF('Rekapitulace stavby'!E14="","",'Rekapitulace stavby'!E14)) | I20: DIČ: | J20: =IF('Rekapitulace stavby'!AN14="Vyplň údaj","",IF('Rekapitulace stavby'!AN14="","",'Rekapitulace stavby'!AN14))
D22: Projektant: | I22: IČ:
E23: KANIA a.s. , Ostrava | I23: DIČ:
D25: Poznámka:
E26: Soupis prací je sestaven za využití položek Cenové soustavy ÚRS. Cenové a technické podmínky položek CS ÚRS, které nejsou uvedeny v soupisu prací (tzv. úvodní části katalogů) jsou neomezeně dálkově k dispozici na www.cs-urs.cz. Položky soupisu prací, které nemají ve sloupci „Cenová soustava“ uveden žádný údaj, nepochází z Cenové soustavy ÚRS (takové položky soupisu prací mají Cenovou soustavu „VLASTNÍ“). Ocenění "vlastní" položky:na základě odborných znalostí a zkušeností projektanta při realizaci obdobných zakázek za období 5-ti let. nebo na základě cen v místě a čase obvyklých). Nedílnou součástí soupisu prací je projektová dokumentace vč. textových příloh, na kterou se položky soupisu prací plně odkazují.
D29: Cena bez DPH | J29: =ROUND(J112,2) -> 0
F31: Základ daně | I31: Sazba daně | J31: Výše daně
D32: DPH | E32: základní | F32: =ROUND(SUM(BE112:BE1424), 2) -> 0 | I32: 0.21 | J32: =ROUND(ROUND((SUM(BE112:BE1424)), 2)*I32, 2) -> 0
E33: snížená | F33: =ROUND(SUM(BF112:BF1424), 2) -> 0 | I33: 0.15 | J33: =ROUND(ROUND((SUM(BF112:BF1424)), 2)*I33, 2) -> 0
E34: zákl. přenesená | F34: =ROUND(SUM(BG112:BG1424), 2) -> 0 | I34: 0.21 | J34: 0
E35: sníž. přenesená | F35: =ROUND(SUM(BH112:BH1424), 2) -> 0 | I35: 0.15 | J35: 0
E36: nulová | F36: =ROUND(SUM(BI112:BI1424), 2) -> 0 | I36: 0 | J36: 0
D38: Cena s DPH | G38: v | H38: CZK | J38: =SUM(J29:J36) -> 0
C44: REKAPITULACE ČLENĚNÍ SOUPISU PRACÍ
C46: Stavba:
E47: =E7 -> CENTRUM SPOLEČNÝCH AKTIVIT JESENÍK
C48: Objekt:
E49: SO 01 - CENTRUM SPOLEČNÝCH AKTIVIT
C50: Soupis:
E51: =E11 -> D.1.1 - Architektonicko- stavební řešení
C53: Místo: | F53: =F14 -> Jeseník | I53: Datum: | J53: =IF(J14="","",J14) -> 11.10.2016
C55: Zadavatel: | F55: =E17 -> MĚSTO JESENÍK | I55: Projektant: | J55: =E23 -> KANIA a.s. , Ostrava
C56: Uchazeč: | F56: =IF(E20="","",E20)
C58: Kód dílu - Popis | J58: Cena celkem [CZK]
C60: Náklady soupisu celkem | J60: =J112 -> 0 | AU60: -1
D61: HSV - Práce a dodávky HSV | J61: =J113 -> 0
D62: 1 - Zemní práce | J62: =J114 -> 0
D63: 2 - Zakládání | J63: =J166 -> 0
D64: 3 - Svislé a kompletní konstrukce | J64: =J181 -> 0
D65: 4 - Vodorovné konstrukce | J65: =J224 -> 0
D66: 5 - Komunikace pozemní | J66: =J255 -> 0
D67: 6 - Úpravy povrchů, podlahy a osazování výplní | J67: =J270 -> 0
D68: 9 - Ostatní konstrukce a práce, bourání | J68: =J414 -> 0
D69: 95 - Různé dokončovací konstrukce a práce pozemních staveb | J69: =J542 -> 0
D70: 997 - Přesun sutě | J70: =J586 -> 0
D71: PSV - Práce a dodávky PSV | J71: =J595 -> 0
D72: 711 - Izolace proti vodě, vlhkosti a plynům | J72: =J596 -> 0
D73: 712 - Povlakové krytiny | J73: =J651 -> 0
D74: 713 - Izolace tepelné | J74: =J687 -> 0
D75: 725 - Zdravotechnika - zařizovací předměty | J75: =J761 -> 0
D76: 762 - Konstrukce tesařské | J76: =J766 -> 0
D77: 763 - Konstrukce suché výstavby | J77: =J811 -> 0
D78: 764 - Konstrukce klempířské | J78: =J860 -> 0
D79: 766 - Konstrukce truhlářské | J79: =J1018 -> 0
D80: 767 - Konstrukce zámečnické | J80: =J1220 -> 0
D81: 775 - Podlahy skládané | J81: =J1270 -> 0
D82: 776 - Podlahy povlakové | J82: =J1277 -> 0
D83: 777 - Podlahy lité | J83: =J1308 -> 0
D84: 781 - Dokončovací práce - obklady | J84: =J1332 -> 0
D85: 783 - Dokončovací práce - nátěry | J85: =J1346 -> 0
D86: 784 - Dokončovací práce - malby a tapety | J86: =J1352 -> 0
D87: M - Práce a dodávky M | J87: =J1360 -> 0
D88: 33-M - Montáže dopr.zaříz.,sklad. zař. a váh | J88: =J1361 -> 0
D89: HZS - Hodinové zúčtovací sazby | J89: =J1367 -> 0
D90: OST - Ostatní | J90: =J1376 -> 0
C97: SOUPIS PRACÍ
C99: Stavba:
E100: =E7 -> CENTRUM SPOLEČNÝCH AKTIVIT JESENÍK
C101: Objekt:
E102: SO 01 - CENTRUM SPOLEČNÝCH AKTIVIT
C103: Soupis:
E104: =E11 -> D.1.1 - Architektonicko- stavební řešení
C106: Místo: | F106: =F14 -> Jeseník | I106: Datum: | J106: =IF(J14="","",J14) -> 11.10.2016
C108: Zadavatel: | F108: =E17 -> MĚSTO JESENÍK | I108: Projektant: | J108: =E23 -> KANIA a.s. , Ostrava
C109: Uchazeč: | F109: =IF(E20="","",E20)
C111: PČ | D111: Typ | E111: Kód | F111: Popis | G111: MJ | H111: Množství | I111: J.cena [CZK] | J111: Cena celkem [CZK] | K111: Cenová soustava | M111: Poznámka | N111: DPH | O111: J. Nh [h] | P111: Nh celkem [h] | Q111: J. hmotnost_x000D_ [t] | R111: Hmotnost_x000D_ celkem [t] | S111: J. suť [t] | T111: Suť Celkem [t]
C112: Náklady soupisu celkem | J112: =BK112 -> 0 | P112: =P113+P595+P1360+P1367+P1376 -> 0 | R112: =R113+R595+R1360+R1367+R1376 -> 891.25373 | T112: =T113+T595+T1360+T1367+T1376 -> 775.64896 | AT112: D | AU112: -1 | BK112: =BK113+BK595+BK1360+BK1367+BK1376 -> 0
D113: D | E113: HSV | F113: Práce a dodávky HSV | J113: =BK113 -> 0 | P113: =P114+P166+P181+P224+P255+P270+P414+P586 -> 0 | R113: =R114+R166+R181+R224+R255+R270+R414+R586 -> 826.19969 | T113: =T114+T166+T181+T224+T255+T270+T414+T586 -> 755.01906 | AR113: 1 | AT113: D | AU113: 0 | AY113: ROZPOCET | BK113: =BK114+BK166+BK181+BK224+BK255+BK270+BK414+BK586 -> 0
D114: D | E114: 1 | F114: Zemní práce | J114: =BK114 -> 0 | P114: =SUM(P115:P165) -> 0 | R114: =SUM(R115:R165) -> 9.15 | T114: =SUM(T115:T165) -> 0 | AR114: 1 | AT114: D | AU114: 1 | AY114: ROZPOCET | BK114: =SUM(BK115:BK165) -> 0
C115: 1 | D115: K | E115: 115101201 | F115: Čerpání vody na dopravní výšku do 10 m průměrný přítok do 500 l/min | G115: hod | H115: 25 | J115: =ROUND(I115*H115,2) -> 0 | K115: CS ÚRS 2016 01 | N115: základní | P115: =O115*H115 -> 0 | Q115: 0 | R115: =Q115*H115 -> 0 | S115: 0 | T115: =S115*H115 -> 0 | AR115: 4 | AT115: K | AU115: 2 | AY115: ROZPOCET | BE115: =IF(N115="základní",J115,0) -> 0 | BF115: =IF(N115="snížená",J115,0) -> 0 | BG115: =IF(N115="zákl. přenesená",J115,0) -> 0 | BH115: =IF(N115="sníž. přenesená",J115,0) -> 0 | BI115: =IF(N115="nulová",J115,0) -> 0 | BJ115: 1 | BK115: =ROUND(I115*H115,2) -> 0 | BL115: 4 | BM115: 1691220658
D116: VV | F116: "předpoklad" 25,0 | H116: 25 | AT116: VV | AU116: 2 | AV116: 2 | AW116: True | AX116: 0 | AY116: ROZPOCET
D117: VV | F117: Součet | H117: 25 | AT117: VV | AU117: 2 | AV117: 4 | AW117: True | AX117: 1 | AY117: ROZPOCET
C118: 2 | D118: K | E118: 115101301 | F118: Pohotovost čerpací soupravy pro dopravní výšku do 10 m přítok do 500 l/min | G118: den | H118: 30 | J118: =ROUND(I118*H118,2) -> 0 | K118: CS ÚRS 2016 01 | N118: základní | P118: =O118*H118 -> 0 | Q118: 0 | R118: =Q118*H118 -> 0 | S118: 0 | T118: =S118*H118 -> 0 | AR118: 4 | AT118: K | AU118: 2 | AY118: ROZPOCET | BE118: =IF(N118="základní",J118,0) -> 0 | BF118: =IF(N118="snížená",J118,0) -> 0 | BG118: =IF(N118="zákl. přenesená",J118,0) -> 0 | BH118: =IF(N118="sníž. přenesená",J118,0) -> 0 | BI118: =IF(N118="nulová",J118,0) -> 0 | BJ118: 1 | BK118: =ROUND(I118*H118,2) -> 0 | BL118: 4 | BM118: 1220808602
D119: VV | F119: "předpoklad" 30,0 | H119: 30 | AT119: VV | AU119: 2 | AV119: 2 | AW119: True | AX119: 0 | AY119: ROZPOCET
D120: VV | F120: Součet | H120: 30 | AT120: VV | AU120: 2 | AV120: 4 | AW120: True | AX120: 1 | AY120: ROZPOCET
C121: 3 | D121: K | E121: 131201201 | F121: Hloubení jam zapažených v hornině tř. 3 objemu do 100 m3 | G121: m3 | H121: 55.325 | J121: =ROUND(I121*H121,2) -> 0 | K121: CS ÚRS 2016 01 | N121: základní | P121: =O121*H121 -> 0 | Q121: 0 | R121: =Q121*H121 -> 0 | S121: 0 | T121: =S121*H121 -> 0 | AR121: 4 | AT121: K | AU121: 2 | AY121: ROZPOCET | BE121: =IF(N121="základní",J121,0) -> 0 | BF121: =IF(N121="snížená",J121,0) -> 0 | BG121: =IF(N121="zákl. přenesená",J121,0) -> 0 | BH121: =IF(N121="sníž. přenesená",J121,0) -> 0 | BI121: =IF(N121="nulová",J121,0) -> 0 | BJ121: 1 | BK121: =ROUND(I121*H121,2) -> 0 | BL121: 4 | BM121: -152743426
D122: VV | F122: "viz v.č. D.1.1-02/23, detaily, TZ" | AT122: VV | AU122: 2 | AV122: 1 | AW122: True | AX122: 0 | AY122: ROZPOCET
D123: VV | F123: "stavební jáma" (3,5*5,5*2,5) | H123: 48.125 | AT123: VV | AU123: 2 | AV123: 2 | AW123: True | AX123: 0 | AY123: ROZPOCET
D124: VV | F124: "patky" 1,0*1,0*1,2*6 | H124: 7.2 | AT124: VV | AU124: 2 | AV124: 2 | AW124: True | AX124: 0 | AY124: ROZPOCET
D125: VV | F125: Součet | H125: 55.325 | AT125: VV | AU125: 2 | AV125: 4 | AW125: True | AX125: 1 | AY125: ROZPOCET
C126: 4 | D126: K | E126: 132112201 | F126: Hloubení rýh š přes 600 do 2000 mm ručním nebo pneum nářadím v soudržných horninách tř. 1 a 2 | G126: m3 | H126: 19.825 | J126: =ROUND(I126*H126,2) -> 0 | K126: CS ÚRS 2016 01 | N126: základní | P126: =O126*H126 -> 0 | Q126: 0 | R126: =Q126*H126 -> 0 | S126: 0 | T126: =S126*H126 -> 0 | AR126: 512 | AT126: K | AU126: 2 | AY126: ROZPOCET | BE126: =IF(N126="základní",J126,0) -> 0 | BF126: =IF(N126="snížená",J126,0) -> 0 | BG126: =IF(N126="zákl. přenesená",J126,0) -> 0 | BH126: =IF(N126="sníž. přenesená",J126,0) -> 0 | BI126: =IF(N126="nulová",J126,0) -> 0 | BJ126: 1 | BK126: =ROUND(I126*H126,2) -> 0 | BL126: 512 | BM126: -171640288
D127: VV | F127: "viz v.č. D.1.1-02/23, detaily, TZ" | AT127: VV | AU127: 2 | AV127: 1 | AW127: True | AX127: 0 | AY127: ROZPOCET
D128: VV | F128: "odkop objektu" 30,5*1,0*0,65 | H128: 19.825 | AT128: VV | AU128: 2 | AV128: 2 | AW128: True | AX128: 0 | AY128: ROZPOCET
D129: VV | F129: Součet | H129: 19.825 | AT129: VV | AU129: 2 | AV129: 4 | AW129: True | AX129: 1 | AY129: ROZPOCET
C130: 5 | D130: K | E130: 132201201 | F130: Hloubení rýh š do 2000 mm v hornině tř. 3 objemu do 100 m3 | G130: m3 | H130: 69.387 | J130: =ROUND(I130*H130,2) -> 0 | K130: CS ÚRS 2016 01 | N130: základní | P130: =O130*H130 -> 0 | Q130: 0 | R130: =Q130*H130 -> 0 | S130: 0 | T130: =S130*H130 -> 0 | AR130: 4 | AT130: K | AU130: 2 | AY130: ROZPOCET | BE130: =IF(N130="základní",J130,0) -> 0 | BF130: =IF(N130="snížená",J130,0) -> 0 | BG130: =IF(N130="zákl. přenesená",J130,0) -> 0 | BH130: =IF(N130="sníž. přenesená",J130,0) -> 0 | BI130: =IF(N130="nulová",J130,0) -> 0 | BJ130: 1 | BK130: =ROUND(I130*H130,2) -> 0 | BL130: 4 | BM130: 937538316
...

Sheet D.1.2 - Stavebně konstruk...
D1: List obsahuje: | F1: 1) Krycí list soupisu | G1: 2) Rekapitulace | J1: 3) Soupis prací | K1: Zpět na list: | L1: Rekapitulace stavby
AT2: {d5c76804-90f9-419b-a120-bb4de9bb389f}
AT3: 2
D4: KRYCÍ LIST SOUPISU | M4: v --- níže se nacházejí doplnkové a pomocné údaje k sestavám --- v | AT4: False
D6: Stavba:
E7: ='Rekapitulace stavby'!K6 -> CENTRUM SPOLEČNÝCH AKTIVIT JESENÍK
D8: Objekt:
E9: SO 01 - CENTRUM SPOLEČNÝCH AKTIVIT
D10: Soupis:
E11: D.1.2 - Stavebně konstrukční řešení
D13: KSO: | I13: CC-CZ:
D14: Místo: | F14: Jeseník | I14: Datum: | J14: ='Rekapitulace stavby'!AN8 -> 11.10.2016
D16: Zadavatel: | I16: IČ:
E17: MĚSTO JESENÍK | I17: DIČ:
D19: Uchazeč: | I19: IČ: | J19: =IF('Rekapitulace stavby'!AN13="Vyplň údaj","",IF('Rekapitulace stavby'!AN13="","",'Rekapitulace stavby'!AN13))
E20: =IF('Rekapitulace stavby'!E14="Vyplň údaj","",IF('Rekapitulace stavby'!E14="","",'Rekapitulace stavby'!E14)) | I20: DIČ: | J20: =IF('Rekapitulace stavby'!AN14="Vyplň údaj","",IF('Rekapitulace stavby'!AN14="","",'Rekapitulace stavby'!AN14))
D22: Projektant: | I22: IČ:
E23: KANIA a.s. , Ostrava | I23: DIČ:
D25: Poznámka:
E26: Soupis prací je sestaven za využití položek Cenové soustavy ÚRS. Cenové a technické podmínky položek CS ÚRS, které nejsou uvedeny v soupisu prací (tzv. úvodní části katalogů) jsou neomezeně dálkově k dispozici na www.cs-urs.cz. Položky soupisu prací, které nemají ve sloupci „Cenová soustava“ uveden žádný údaj, nepochází z Cenové soustavy ÚRS (takové položky soupisu prací mají Cenovou soustavu „VLASTNÍ“). Ocenění "vlastní" položky:na základě odborných znalostí a zkušeností projektanta při realizaci obdobných zakázek za období 5-ti let. nebo na základě cen v místě a čase obvyklých). Nedílnou součástí soupisu prací je projektová dokumentace vč. textových příloh, na kterou se položky soupisu prací plně odkazují.
D29: Cena bez DPH | J29: =ROUND(J91,2) -> 0
F31: Základ daně | I31: Sazba daně | J31: Výše daně
D32: DPH | E32: základní | F32: =ROUND(SUM(BE91:BE229), 2) -> 0 | I32: 0.21 | J32: =ROUND(ROUND((SUM(BE91:BE229)), 2)*I32, 2) -> 0
E33: snížená | F33: =ROUND(SUM(BF91:BF229), 2) -> 0 | I33: 0.15 | J33: =ROUND(ROUND((SUM(BF91:BF229)), 2)*I33, 2) -> 0
E34: zákl. přenesená | F34: =ROUND(SUM(BG91:BG229), 2) -> 0 | I34: 0.21 | J34: 0
E35: sníž. přenesená | F35: =ROUND(SUM(BH91:BH229), 2) -> 0 | I35: 0.15 | J35: 0
E36: nulová | F36: =ROUND(SUM(BI91:BI229), 2) -> 0 | I36: 0 | J36: 0
D38: Cena s DPH | G38: v | H38: CZK | J38: =SUM(J29:J36) -> 0
C44: REKAPITULACE ČLENĚNÍ SOUPISU PRACÍ
C46: Stavba:
E47: =E7 -> CENTRUM SPOLEČNÝCH AKTIVIT JESENÍK
C48: Objekt:
E49: SO 01 - CENTRUM SPOLEČNÝCH AKTIVIT
C50: Soupis:
E51: =E11 -> D.1.2 - Stavebně konstrukční řešení
C53: Místo: | F53: =F14 -> Jeseník | I53: Datum: | J53: =IF(J14="","",J14) -> 11.10.2016
C55: Zadavatel: | F55: =E17 -> MĚSTO JESENÍK | I55: Projektant: | J55: =E23 -> KANIA a.s. , Ostrava
C56: Uchazeč: | F56: =IF(E20="","",E20)
C58: Kód dílu - Popis | J58: Cena celkem [CZK]
C60: Náklady soupisu celkem | J60: =J91 -> 0 | AU60: -1
D61: HSV - Práce a dodávky HSV | J61: =J92 -> 0
D62: 2 - Zakládání | J62: =J93 -> 0
D63: 3 - Svislé a kompletní konstrukce | J63: =J147 -> 0
D64: 4 - Vodorovné konstrukce | J64: =J174 -> 0
D65: 9 - Ostatní konstrukce a práce, bourání | J65: =J209 -> 0
D66: 95 - Různé dokončovací konstrukce a práce pozemních staveb | J66: =J210 -> 0
D67: 998 - Přesun hmot | J67: =J217 -> 0
D68: PSV - Práce a dodávky PSV | J68: =J219 -> 0
D69: 767 - Konstrukce zámečnické | J69: =J220 -> 0
C76: SOUPIS PRACÍ
C78: Stavba:
E79: =E7 -> CENTRUM SPOLEČNÝCH AKTIVIT JESENÍK
C80: Objekt:
E81: SO 01 - CENTRUM SPOLEČNÝCH AKTIVIT
C82: Soupis:
E83: =E11 -> D.1.2 - Stavebně konstrukční řešení
C85: Místo: | F85: =F14 -> Jeseník | I85: Datum: | J85: =IF(J14="","",J14) -> 11.10.2016
C87: Zadavatel: | F87: =E17 -> MĚSTO JESENÍK | I87: Projektant: | J87: =E23 -> KANIA a.s. , Ostrava
C88: Uchazeč: | F88: =IF(E20="","",E20)
C90: PČ | D90: Typ | E90: Kód | F90: Popis | G90: MJ | H90: Množství | I90: J.cena [CZK] | J90: Cena celkem [CZK] | K90: Cenová soustava | M90: Poznámka | N90: DPH | O90: J. Nh [h] | P90: Nh celkem [h] | Q90: J. hmotnost_x000D_ [t] | R90: Hmotnost_x000D_ celkem [t] | S90: J. suť [t] | T90: Suť Celkem [t]
C91: Náklady soupisu celkem | J91: =BK91 -> 0 | P91: =P92+P219 -> 0 | R91: =R92+R219 -> 279.47875 | T91: =T92+T219 -> 0 | AT91: D | AU91: -1 | BK91: =BK92+BK219 -> 0
D92: D | E92: HSV | F92: Práce a dodávky HSV | J92: =BK92 -> 0 | P92: =P93+P147+P174+P209+P217 -> 0 | R92: =R93+R147+R174+R209+R217 -> 279.47875 | T92: =T93+T147+T174+T209+T217 -> 0 | AR92: 1 | AT92: D | AU92: 0 | AY92: ROZPOCET | BK92: =BK93+BK147+BK174+BK209+BK217 -> 0
D93: D | E93: 2 | F93: Zakládání | J93: =BK93 -> 0 | P93: =SUM(P94:P146) -> 0 | R93: =SUM(R94:R146) -> 84.815874 | T93: =SUM(T94:T146) -> 0 | AR93: 1 | AT93: D | AU93: 1 | AY93: ROZPOCET | BK93: =SUM(BK94:BK146) -> 0
C94: 1 | D94: K | E94: 273322511 | F94: Základové desky ze ŽB se zvýšenými nároky na prostředí tř. C 25/30 | G94: m3 | H94: 3.417 | J94: =ROUND(I94*H94,2) -> 0 | K94: CS ÚRS 2016 01 | N94: základní | P94: =O94*H94 -> 0 | Q94: 2.45329 | R94: =Q94*H94 -> 8.3828919 | S94: 0 | T94: =S94*H94 -> 0 | AR94: 4 | AT94: K | AU94: 2 | AY94: ROZPOCET | BE94: =IF(N94="základní",J94,0) -> 0 | BF94: =IF(N94="snížená",J94,0) -> 0 | BG94: =IF(N94="zákl. přenesená",J94,0) -> 0 | BH94: =IF(N94="sníž. přenesená",J94,0) -> 0 | BI94: =IF(N94="nulová",J94,0) -> 0 | BJ94: 1 | BK94: =ROUND(I94*H94,2) -> 0 | BL94: 4 | BM94: -1661058019
D95: VV | F95: "viz D.1.2-01/09,TZ" | AT95: VV | AU95: 2 | AV95: 1 | AW95: True | AX95: 0 | AY95: ROZPOCET
D96: VV | F96: (11,39*0,3) | H96: 3.417 | AT96: VV | AU96: 2 | AV96: 2 | AW96: True | AX96: 0 | AY96: ROZPOCET
D97: VV | F97: Součet | H97: 3.417 | AT97: VV | AU97: 2 | AV97: 4 | AW97: True | AX97: 1 | AY97: ROZPOCET
C98: 2 | D98: K | E98: 273351215 | F98: Zřízení bednění stěn základových desek | G98: m2 | H98: 4.567 | J98: =ROUND(I98*H98,2) -> 0 | K98: CS ÚRS 2016 01 | N98: základní | P98: =O98*H98 -> 0 | Q98: 0.00103 | R98: =Q98*H98 -> 0.00470401 | S98: 0 | T98: =S98*H98 -> 0 | AR98: 4 | AT98: K | AU98: 2 | AY98: ROZPOCET | BE98: =IF(N98="základní",J98,0) -> 0 | BF98: =IF(N98="snížená",J98,0) -> 0 | BG98: =IF(N98="zákl. přenesená",J98,0) -> 0 | BH98: =IF(N98="sníž. přenesená",J98,0) -> 0 | BI98: =IF(N98="nulová",J98,0) -> 0 | BJ98: 1 | BK98: =ROUND(I98*H98,2) -> 0 | BL98: 4 | BM98: -393728315
D99: VV | F99: "viz D.1.2-01/09,TZ" | AT99: VV | AU99: 2 | AV99: 1 | AW99: True | AX99: 0 | AY99: ROZPOCET
D100: VV | F100: 13,84*0,3 | H100: 4.152 | AT100: VV | AU100: 2 | AV100: 2 | AW100: True | AX100: 0 | AY100: ROZPOCET
D101: VV | F101: Mezisoučet | H101: 4.152 | AT101: VV | AU101: 2 | AV101: 3 | AW101: True | AX101: 0 | AY101: ROZPOCET
D102: VV | F102: "ztratné" 0,1*4,152 | H102: 0.415 | AT102: VV | AU102: 2 | AV102: 2 | AW102: True | AX102: 0 | AY102: ROZPOCET
D103: VV | F103: Součet | H103: 4.567 | AT103: VV | AU103: 2 | AV103: 4 | AW103: True | AX103: 1 | AY103: ROZPOCET
C104: 3 | D104: K | E104: 273351216 | F104: Odstranění bednění stěn základových desek | G104: m2 | H104: 4.567 | J104: =ROUND(I104*H104,2) -> 0 | K104: CS ÚRS 2016 01 | N104: základní | P104: =O104*H104 -> 0 | Q104: 0 | R104: =Q104*H104 -> 0 | S104: 0 | T104: =S104*H104 -> 0 | AR104: 4 | AT104: K | AU104: 2 | AY104: ROZPOCET | BE104: =IF(N104="základní",J104,0) -> 0 | BF104: =IF(N104="snížená",J104,0) -> 0 | BG104: =IF(N104="zákl. přenesená",J104,0) -> 0 | BH104: =IF(N104="sníž. přenesená",J104,0) -> 0 | BI104: =IF(N104="nulová",J104,0) -> 0 | BJ104: 1 | BK104: =ROUND(I104*H104,2) -> 0 | BL104: 4 | BM104: -273543771
C105: 4 | D105: K | E105: 274322511 | F105: Základové pasy ze ŽB se zvýšenými nároky na prostředí tř. C 25/30 | G105: m3 | H105: 24.615 | J105: =ROUND(I105*H105,2) -> 0 | K105: CS ÚRS 2016 01 | N105: základní | P105: =O105*H105 -> 0 | Q105: 2.45329 | R105: =Q105*H105 -> 60.387733 | S105: 0 | T105: =S105*H105 -> 0 | AR105: 4 | AT105: K | AU105: 2 | AY105: ROZPOCET | BE105: =IF(N105="základní",J105,0) -> 0 | BF105: =IF(N105="snížená",J105,0) -> 0 | BG105: =IF(N105="zákl. přenesená",J105,0) -> 0 | BH105: =IF(N105="sníž. přenesená",J105,0) -> 0 | BI105: =IF(N105="nulová",J105,0) -> 0 | BJ105: 1 | BK105: =ROUND(I105*H105,2) -> 0 | BL105: 4 | BM105: -1539453717
D106: VV | F106: "viz D.1.2-01/09,TZ" | AT106: VV | AU106: 2 | AV106: 1 | AW106: True | AX106: 0 | AY106: ROZPOCET
D107: VV | F107: (3,272*0,435*0,8)+(1,0*0,435*1,4)+(1,0*0,435*2,0)+(1,089*0,435*2,5) | H107: 3.802 | AT107: VV | AU107: 2 | AV107: 2 | AW107: True | AX107: 0 | AY107: ROZPOCET
D108: VV | F108: (8,839*0,3*2,5)+(3,2*0,5*0,3) | H108: 7.109 | AT108: VV | AU108: 2 | AV108: 2 | AW108: True | AX108: 0 | AY108: ROZPOCET
D109: VV | F109: 0,6*((1*2,5)+(1*2,0)+(1*1,4)+(3,63*0,8)) | H109: 5.282 | AT109: VV | AU109: 2 | AV109: 2 | AW109: True | AX109: 0 | AY109: ROZPOCET
D110: VV | F110: (6,86*0,4*0,8)+(3,2*0,45*0,3) | H110: 2.627 | AT110: VV | AU110: 2 | AV110: 2 | AW110: True | AX110: 0 | AY110: ROZPOCET
D111: VV | F111: (9,317*0,7*0,8)+(1,851*0,39*0,8) | H111: 5.795 | AT111: VV | AU111: 2 | AV111: 2 | AW111: True | AX111: 0 | AY111: ROZPOCET
D112: VV | F112: Součet | H112: 24.615 | AT112: VV | AU112: 2 | AV112: 4 | AW112: True | AX112: 1 | AY112: ROZPOCET
C113: 5 | D113: K | E113: 274351215 | F113: Zřízení bednění stěn základových pasů | G113: m2 | H113: 129.523 | J113: =ROUND(I113*H113,2) -> 0 | K113: CS ÚRS 2016 01 | N113: základní | P113: =O113*H113 -> 0 | Q113: 0.00103 | R113: =Q113*H113 -> 0.13340869 | S113: 0 | T113: =S113*H113 -> 0 | AR113: 4 | AT113: K | AU113: 2 | AY113: ROZPOCET | BE113: =IF(N113="základní",J113,0) -> 0 | BF113: =IF(N113="snížená",J113,0) -> 0 | BG113: =IF(N113="zákl. přenesená",J113,0) -> 0 | BH113: =IF(N113="sníž. přenesená",J113,0) -> 0 | BI113: =IF(N113="nulová",J113,0) -> 0 | BJ113: 1 | BK113: =ROUND(I113*H113,2) -> 0 | BL113: 4 | BM113: -768621479
D114: VV | F114: "viz D.1.2-01/09,TZ" | AT114: VV | AU114: 2 | AV114: 1 | AW114: True | AX114: 0 | AY114: ROZPOCET
D115: VV | F115: (3,272*0,8*2)+(1*1,4*2)+(1*2,0*2)+(1,089*2,5*2) | H115: 17.48 | AT115: VV | AU115: 2 | AV115: 2 | AW115: True | AX115: 0 | AY115: ROZPOCET
D116: VV | F116: (8,839*2,5*2)+(3,2*0,3*2) | H116: 46.115 | AT116: VV | AU116: 2 | AV116: 2 | AW116: True | AX116: 0 | AY116: ROZPOCET
D117: VV | F117: (1*2,5*2)+(1*2*2)+(1*1,4*2)+(3,63*0,8*2) | H117: 17.608 | AT117: VV | AU117: 2 | AV117: 2 | AW117: True | AX117: 0 | AY117: ROZPOCET
D118: VV | F118: (6,86*0,8*2)+(3,2*0,3*2)+(9,317*0,8*2)+(1,851*0,8*2) | H118: 30.765 | AT118: VV | AU118: 2 | AV118: 2 | AW118: True | AX118: 0 | AY118: ROZPOCET
D119: VV | F119: Mezisoučet | H119: 111.968 | AT119: VV | AU119: 2 | AV119: 3 | AW119: True | AX119: 0 | AY119: ROZPOCET
D120: VV | F120: 3,4*1,7 | H120: 5.78 | AT120: VV | AU120: 2 | AV120: 2 | AW120: True | AX120: 0 | AY120: ROZPOCET
D121: VV | F121: Mezisoučet | H121: 5.78 | AT121: VV | AU121: 2 | AV121: 3 | AW121: True | AX121: 0 | AY121: ROZPOCET
D122: VV | F122: "ztratné" 0,1*(111,968+5,78) | H122: 11.775 | AT122: VV | AU122: 2 | AV122: 2 | AW122: True | AX122: 0 | AY122: ROZPOCET
D123: VV | F123: Součet | H123: 129.523 | AT123: VV | AU123: 2 | AV123: 4 | AW123: True | AX123: 1 | AY123: ROZPOCET
C124: 6 | D124: K | E124: 274351216 | F124: Odstranění bednění stěn základových pasů | G124: m2 | H124: 129.523 | J124: =ROUND(I124*H124,2) -> 0 | K124: CS ÚRS 2016 01 | N124: základní | P124: =O124*H124 -> 0 | Q124: 0 | R124: =Q124*H124 -> 0 | S124: 0 | T124: =S124*H124 -> 0 | AR124: 4 | AT124: K | AU124: 2 | AY124: ROZPOCET | BE124: =IF(N124="základní",J124,0) -> 0 | BF124: =IF(N124="snížená",J124,0) -> 0 | BG124: =IF(N124="zákl. přenesená",J124,0) -> 0 | BH124: =IF(N124="sníž. přenesená",J124,0) -> 0 | BI124: =IF(N124="nulová",J124,0) -> 0 | BJ124: 1 | BK124: =ROUND(I124*H124,2) -> 0 | BL124: 4 | BM124: -1283038282
C125: 7 | D125: K | E125: 275322511 | F125: Základové patky ze ŽB se zvýšenými nároky na prostředí tř. C 25/30 | G125: m3 | H125: 1.5 | J125: =ROUND(I125*H125,2) -> 0 | K125: CS ÚRS 2016 01 | N125: základní | P125: =O125*H125 -> 0 | Q125: 2.45329 | R125: =Q125*H125 -> 3.679935 | S125: 0 | T125: =S125*H125 -> 0 | AR125: 4 | AT125: K | AU125: 2 | AY125: ROZPOCET | BE125: =IF(N125="základní",J125,0) -> 0 | BF125: =IF(N125="snížená",J125,0) -> 0 | BG125: =IF(N125="zákl. přenesená",J125,0) -> 0 | BH125: =IF(N125="sníž. přenesená",J125,0) -> 0 | BI125: =IF(N125="nulová",J125,0) -> 0 | BJ125: 1 | BK125: =ROUND(I125*H125,2) -> 0 | BL125: 4 | BM125: 1479819264
D126: VV | F126: "viz D.1.2-01/09,TZ" | AT126: VV | AU126: 2 | AV126: 1 | AW126: True | AX126: 0 | AY126: ROZPOCET
D127: VV | F127: (0,5*0,5*1,0*6) | H127: 1.5 | AT127: VV | AU127: 2 | AV127: 2 | AW127: True | AX127: 0 | AY127: ROZPOCET
D128: VV | F128: Součet | H128: 1.5 | AT128: VV | AU128: 2 | AV128: 4 | AW128: True | AX128: 1 | AY128: ROZPOCET
C129: 8 | D129: K | E129: 275351215 | F129: Zřízení bednění stěn základových patek | G129: m2 | H129: 13.2 | J129: =ROUND(I129*H129,2) -> 0 | K129: CS ÚRS 2016 01 | N129: základní | P129: =O129*H129 -> 0 | Q129: 0.00103 | R129: =Q129*H129 -> 0.013596 | S129: 0 | T129: =S129*H129 -> 0 | AR129: 4 | AT129: K | AU129: 2 | AY129: ROZPOCET | BE129: =IF(N129="základní",J129,0) -> 0 | BF129: =IF(N129="snížená",J129,0) -> 0 | BG129: =IF(N129="zákl. přenesená",J129,0) -> 0 | BH129: =IF(N129="sníž. přenesená",J129,0) -> 0 | BI129: =IF(N129="nulová",J129,0) -> 0 | BJ129: 1 | BK129: =ROUND(I129*H129,2) -> 0 | BL129: 4 | BM129: -1000622652
D130: VV | F130: "viz D.1.2-01/09,TZ" | AT130: VV | AU130: 2 | AV130: 1 | AW130: True | AX130: 0 | AY130: ROZPOCET
...

Sheet D.1.3 - Požárně bezpečnos...
D1: List obsahuje: | F1: 1) Krycí list soupisu | G1: 2) Rekapitulace | J1: 3) Soupis prací | K1: Zpět na list: | L1: Rekapitulace stavby
AT2: {41a99c29-cf6f-4db0-a98e-3e658e16e2f2}
AT3: 2
D4: KRYCÍ LIST SOUPISU | M4: v --- níže se nacházejí doplnkové a pomocné údaje k sestavám --- v | AT4: False
D6: Stavba:
E7: ='Rekapitulace stavby'!K6 -> CENTRUM SPOLEČNÝCH AKTIVIT JESENÍK
D8: Objekt:
E9: SO 01 - CENTRUM SPOLEČNÝCH AKTIVIT
D10: Soupis:
E11: D.1.3 - Požárně bezpečnostní řešení
D13: KSO: | I13: CC-CZ:
D14: Místo: | F14: Jeseník | I14: Datum: | J14: ='Rekapitulace stavby'!AN8 -> 11.10.2016
D16: Zadavatel: | I16: IČ:
E17: MĚSTO JESENÍK | I17: DIČ:
D19: Uchazeč: | I19: IČ: | J19: =IF('Rekapitulace stavby'!AN13="Vyplň údaj","",IF('Rekapitulace stavby'!AN13="","",'Rekapitulace stavby'!AN13))
E20: =IF('Rekapitulace stavby'!E14="Vyplň údaj","",IF('Rekapitulace stavby'!E14="","",'Rekapitulace stavby'!E14)) | I20: DIČ: | J20: =IF('Rekapitulace stavby'!AN14="Vyplň údaj","",IF('Rekapitulace stavby'!AN14="","",'Rekapitulace stavby'!AN14))
D22: Projektant: | I22: IČ:
E23: KANIA a.s. , Ostrava | I23: DIČ:
D25: Poznámka:
E26: Soupis prací je sestaven za využití položek Cenové soustavy ÚRS. Cenové a technické podmínky položek CS ÚRS, které nejsou uvedeny v soupisu prací (tzv. úvodní části katalogů) jsou neomezeně dálkově k dispozici na www.cs-urs.cz. Položky soupisu prací, které nemají ve sloupci „Cenová soustava“ uveden žádný údaj, nepochází z Cenové soustavy ÚRS (takové položky soupisu prací mají Cenovou soustavu „VLASTNÍ“). Ocenění "vlastní" položky:na základě odborných znalostí a zkušeností projektanta při realizaci obdobných zakázek za období 5-ti let. nebo na základě cen v místě a čase obvyklých). Nedílnou součástí soupisu prací je projektová dokumentace vč. textových příloh, na kterou se položky soupisu prací plně odkazují.
D29: Cena bez DPH | J29: =ROUND(J83,2) -> 0
F31: Základ daně | I31: Sazba daně | J31: Výše daně
D32: DPH | E32: základní | F32: =ROUND(SUM(BE83:BE104), 2) -> 0 | I32: 0.21 | J32: =ROUND(ROUND((SUM(BE83:BE104)), 2)*I32, 2) -> 0
E33: snížená | F33: =ROUND(SUM(BF83:BF104), 2) -> 0 | I33: 0.15 | J33: =ROUND(ROUND((SUM(BF83:BF104)), 2)*I33, 2) -> 0
E34: zákl. přenesená | F34: =ROUND(SUM(BG83:BG104), 2) -> 0 | I34: 0.21 | J34: 0
E35: sníž. přenesená | F35: =ROUND(SUM(BH83:BH104), 2) -> 0 | I35: 0.15 | J35: 0
E36: nulová | F36: =ROUND(SUM(BI83:BI104), 2) -> 0 | I36: 0 | J36: 0
D38: Cena s DPH | G38: v | H38: CZK | J38: =SUM(J29:J36) -> 0
C44: REKAPITULACE ČLENĚNÍ SOUPISU PRACÍ
C46: Stavba:
E47: =E7 -> CENTRUM SPOLEČNÝCH AKTIVIT JESENÍK
C48: Objekt:
E49: SO 01 - CENTRUM SPOLEČNÝCH AKTIVIT
C50: Soupis:
E51: =E11 -> D.1.3 - Požárně bezpečnostní řešení
C53: Místo: | F53: =F14 -> Jeseník | I53: Datum: | J53: =IF(J14="","",J14) -> 11.10.2016
C55: Zadavatel: | F55: =E17 -> MĚSTO JESENÍK | I55: Projektant: | J55: =E23 -> KANIA a.s. , Ostrava
C56: Uchazeč: | F56: =IF(E20="","",E20)
C58: Kód dílu - Popis | J58: Cena celkem [CZK]
C60: Náklady soupisu celkem | J60: =J83 -> 0 | AU60: -1
D61: OST - Ostatní | J61: =J84 -> 0
C68: SOUPIS PRACÍ
C70: Stavba:
E71: =E7 -> CENTRUM SPOLEČNÝCH AKTIVIT JESENÍK
C72: Objekt:
E73: SO 01 - CENTRUM SPOLEČNÝCH AKTIVIT
C74: Soupis:
E75: =E11 -> D.1.3 - Požárně bezpečnostní řešení
C77: Místo: | F77: =F14 -> Jeseník | I77: Datum: | J77: =IF(J14="","",J14) -> 11.10.2016
C79: Zadavatel: | F79: =E17 -> MĚSTO JESENÍK | I79: Projektant: | J79: =E23 -> KANIA a.s. , Ostrava
C80: Uchazeč: | F80: =IF(E20="","",E20)
C82: PČ | D82: Typ | E82: Kód | F82: Popis | G82: MJ | H82: Množství | I82: J.cena [CZK] | J82: Cena celkem [CZK] | K82: Cenová soustava | M82: Poznámka | N82: DPH | O82: J. Nh [h] | P82: Nh celkem [h] | Q82: J. hmotnost_x000D_ [t] | R82: Hmotnost_x000D_ celkem [t] | S82: J. suť [t] | T82: Suť Celkem [t]
C83: Náklady soupisu celkem | J83: =BK83 -> 0 | P83: =P84 -> 0 | R83: =R84 -> 0 | T83: =T84 -> 0 | AT83: D | AU83: -1 | BK83: =BK84 -> 0
D84: D | E84: OST | F84: Ostatní | J84: =BK84 -> 0 | P84: =SUM(P85:P104) -> 0 | R84: =SUM(R85:R104) -> 0 | T84: =SUM(T85:T104) -> 0 | AR84: 4 | AT84: D | AU84: 0 | AY84: ROZPOCET | BK84: =SUM(BK85:BK104) -> 0
C85: 1 | D85: K | E85: 795666P02 | F85: Dodávka a sazení/umístění přenosných hasicích přístrojů - práškový, 6kg, 21A (55B) | G85: ks | H85: 12 | J85: =ROUND(I85*H85,2) -> 0 | N85: základní | P85: =O85*H85 -> 0 | Q85: 0 | R85: =Q85*H85 -> 0 | S85: 0 | T85: =S85*H85 -> 0 | AR85: 4 | AT85: K | AU85: 1 | AY85: ROZPOCET | BE85: =IF(N85="základní",J85,0) -> 0 | BF85: =IF(N85="snížená",J85,0) -> 0 | BG85: =IF(N85="zákl. přenesená",J85,0) -> 0 | BH85: =IF(N85="sníž. přenesená",J85,0) -> 0 | BI85: =IF(N85="nulová",J85,0) -> 0 | BJ85: 1 | BK85: =ROUND(I85*H85,2) -> 0 | BL85: 4 | BM85: -620929448
D86: VV | F86: "kompletní provedení dle specifikace PD a TZ vč. všech souvisejících prací dodávek, příslušenství a komponentů" | AT86: VV | AU86: 1 | AV86: 1 | AW86: True | AX86: 0 | AY86: ROZPOCET
D87: VV | F87: "specifikace viz PBŘ- " 12,0 | H87: 12 | AT87: VV | AU87: 1 | AV87: 2 | AW87: True | AX87: 0 | AY87: ROZPOCET
D88: VV | F88: Součet | H88: 12 | AT88: VV | AU88: 1 | AV88: 4 | AW88: True | AX88: 1 | AY88: ROZPOCET
C89: 2 | D89: K | E89: 795666P03 | F89: D+M Bezpečnostní a informativní tabulky | G89: ks | H89: 18 | J89: =ROUND(I89*H89,2) -> 0 | N89: základní | P89: =O89*H89 -> 0 | Q89: 0 | R89: =Q89*H89 -> 0 | S89: 0 | T89: =S89*H89 -> 0 | AR89: 4 | AT89: K | AU89: 1 | AY89: ROZPOCET | BE89: =IF(N89="základní",J89,0) -> 0 | BF89: =IF(N89="snížená",J89,0) -> 0 | BG89: =IF(N89="zákl. přenesená",J89,0) -> 0 | BH89: =IF(N89="sníž. přenesená",J89,0) -> 0 | BI89: =IF(N89="nulová",J89,0) -> 0 | BJ89: 1 | BK89: =ROUND(I89*H89,2) -> 0 | BL89: 4 | BM89: -1362724210
D90: P | F90: Poznámka k položce: Upřesnění: -označení únikových cest (V posuzovaném objektu musí být směry úniku vyznačeny. Směr úniku se musí zřetelně označit dle ČSN ISO 3864-1 z prosince 2012 (bezpečnostní značky a tabulky) všude tam, kde není východ na volné prostranství přímo viditelný, v místech, kde se mění směr úniku horizontálně i vertikálně, nebo kde dochází ke křížení komunikací. Zhotovení značek dle nařízení vlády 11/200 Sb. je navrženo z odolného fotoluminiscenčního materiálu, nebo musí vydávat světlo, nebo být osvětleny) | AT90: P | AU90: 1
D91: VV | F91: "kompletní provedení dle specifikace PD a TZ vč. všech souvisejících prací dodávek, příslušenství a komponentů dle výpisu" | AT91: VV | AU91: 1 | AV91: 1 | AW91: True | AX91: 0 | AY91: ROZPOCET
D92: VV | F92: "specifikace viz PBŘ" | AT92: VV | AU92: 1 | AV92: 1 | AW92: True | AX92: 0 | AY92: ROZPOCET
D93: VV | F93: "Informační značení únikové cesty " 15,0 | H93: 15 | AT93: VV | AU93: 1 | AV93: 2 | AW93: True | AX93: 0 | AY93: ROZPOCET
D94: VV | F94: "Označení výtahu bezpečnostním značením „Tento výtah neslouží k evakuaci osob“" 3,0 | H94: 3 | AT94: VV | AU94: 1 | AV94: 2 | AW94: True | AX94: 0 | AY94: ROZPOCET
D95: VV | F95: Součet | H95: 18 | AT95: VV | AU95: 1 | AV95: 4 | AW95: True | AX95: 1 | AY95: ROZPOCET
C96: 3 | D96: K | E96: 795666P04 | F96: D+M utěsnění prostupů a průrazů | G96: ks | H96: 1 | J96: =ROUND(I96*H96,2) -> 0 | N96: základní | P96: =O96*H96 -> 0 | Q96: 0 | R96: =Q96*H96 -> 0 | S96: 0 | T96: =S96*H96 -> 0 | AR96: 4 | AT96: K | AU96: 1 | AY96: ROZPOCET | BE96: =IF(N96="základní",J96,0) -> 0 | BF96: =IF(N96="snížená",J96,0) -> 0 | BG96: =IF(N96="zákl. přenesená",J96,0) -> 0 | BH96: =IF(N96="sníž. přenesená",J96,0) -> 0 | BI96: =IF(N96="nulová",J96,0) -> 0 | BJ96: 1 | BK96: =ROUND(I96*H96,2) -> 0 | BL96: 4 | BM96: 2028836636
D97: P | F97: Poznámka k položce: Prostupy rozvodů: Veškeré rozvody budu v místě průchodu požárně dělícími konstrukcemi utěsněny v souladu s požadavky ČSN 73 0802, ČSN 73 0810 – zaomítáním, dobetonováním, požárními ucpávkami apod, Instalace těsnících manžet, tmelů a jiných výrobků se v místě prostupů požaduje v případě, kdy je v objektu provedena instalace rozvodů dle ČSN 73 0810 čl. 6.2.2.a), tzn: -kanalizační potrubí třídy reakce na oheň B-F světlého průřezu 8000 mm2 u vertikálního potrubí nebo přes 12000 mm2 u horizontálního potrubí -potrubí s trvalou náplní vody nebo jiné nehořlavé kapalina třídy reakce na oheň B-F světlého průřezu 15000 mm2 -potrubí sloužící k rozvodu stlačeného popř, nestlačeného vzduchu či jiných nehořlavých plynů včetně vzduchotechnických rozvodů třídy reakce na oheň B-F světlého průřezu 12000 mm2 -kabelových či jiných elektrických rozvodů tvořených svazkem vodičů pokud tyto rozvody prostupují jedním otvorem mají izolace (povrchové úpravy šířící požár a jejich celková hmotnost je větší než 1,0 kg/m | AT97: P | AU97: 1
D98: VV | F98: "kompletní provedení dle specifikace PD a TZ vč. všech souvisejících prací dodávek, příslušenství a komponentů dle výpisu" | AT98: VV | AU98: 1 | AV98: 1 | AW98: True | AX98: 0 | AY98: ROZPOCET
D99: VV | F99: "viz specifikace PBŘ - množství 1kus = kompletní zajištění pro celou stavbu" 1,0 | H99: 1 | AT99: VV | AU99: 1 | AV99: 2 | AW99: True | AX99: 0 | AY99: ROZPOCET
D100: VV | F100: Součet | H100: 1 | AT100: VV | AU100: 1 | AV100: 4 | AW100: True | AX100: 1 | AY100: ROZPOCET
C101: 4 | D101: K | E101: 795666P05 | F101: Dodávka (vč. vypracování) a osazení "ÚNIKOVÉHO PLÁNU" | G101: ks | H101: 3 | J101: =ROUND(I101*H101,2) -> 0 | N101: základní | P101: =O101*H101 -> 0 | Q101: 0 | R101: =Q101*H101 -> 0 | S101: 0 | T101: =S101*H101 -> 0 | AR101: 4 | AT101: K | AU101: 1 | AY101: ROZPOCET | BE101: =IF(N101="základní",J101,0) -> 0 | BF101: =IF(N101="snížená",J101,0) -> 0 | BG101: =IF(N101="zákl. přenesená",J101,0) -> 0 | BH101: =IF(N101="sníž. přenesená",J101,0) -> 0 | BI101: =IF(N101="nulová",J101,0) -> 0 | BJ101: 1 | BK101: =ROUND(I101*H101,2) -> 0 | BL101: 4 | BM101: -554456329
D102: VV | F102: "kompletní provedení dle specifikace PD a TZ vč. všech souvisejících prací dodávek, příslušenství a komponentů dle výpisu" | AT102: VV | AU102: 1 | AV102: 1 | AW102: True | AX102: 0 | AY102: ROZPOCET
D103: VV | F103: "viz specifikace PBŘ" 3,0 | H103: 3 | AT103: VV | AU103: 1 | AV103: 2 | AW103: True | AX103: 0 | AY103: ROZPOCET
D104: VV | F104: Součet | H104: 3 | AT104: VV | AU104: 1 | AV104: 4 | AW104: True | AX104: 1 | AY104: ROZPOCET

Sheet D.1.4.1 - Zdravotně techn...
D1: List obsahuje: | F1: 1) Krycí list soupisu | G1: 2) Rekapitulace | J1: 3) Soupis prací | K1: Zpět na list: | L1: Rekapitulace stavby
AT2: {c6b15de3-d851-4a3a-85be-fe437fe97252}
AT3: 2
D4: KRYCÍ LIST SOUPISU | M4: v --- níže se nacházejí doplnkové a pomocné údaje k sestavám --- v | AT4: False
D6: Stavba:
E7: ='Rekapitulace stavby'!K6 -> CENTRUM SPOLEČNÝCH AKTIVIT JESENÍK
D8: Objekt:
E9: SO 01 - CENTRUM SPOLEČNÝCH AKTIVIT
D10: Soupis:
E11: D.1.4 - Technika prostředí budov
D12: Úroveň 3:
E13: D.1.4.1 - Zdravotně technické instalace, plynoinstalace
D15: KSO: | I15: CC-CZ:
D16: Místo: | F16: Jeseník | I16: Datum: | J16: ='Rekapitulace stavby'!AN8 -> 11.10.2016
D18: Zadavatel: | I18: IČ:
E19: Město Jeseník | I19: DIČ:
D21: Uchazeč: | I21: IČ: | J21: =IF('Rekapitulace stavby'!AN13="Vyplň údaj","",IF('Rekapitulace stavby'!AN13="","",'Rekapitulace stavby'!AN13))
E22: =IF('Rekapitulace stavby'!E14="Vyplň údaj","",IF('Rekapitulace stavby'!E14="","",'Rekapitulace stavby'!E14)) | I22: DIČ: | J22: =IF('Rekapitulace stavby'!AN14="Vyplň údaj","",IF('Rekapitulace stavby'!AN14="","",'Rekapitulace stavby'!AN14))
D24: Projektant: | I24: IČ:
E25: Ing. Petr Kudlík | I25: DIČ:
D27: Poznámka:
E28: Soupis prací je sestaven za využití položek Cenové soustavy ÚRS. Cenové a technické podmínky položek CS ÚRS, které nejsou uvedeny v soupisu prací (tzv. úvodní části katalogů) jsou neomezeně dálkově k dispozici na www.cs-urs.cz. Položky soupisu prací, které nemají ve sloupci „Cenová soustava“ uveden žádný údaj, nepochází z Cenové soustavy ÚRS (takové položky soupisu prací mají Cenovou soustavu „VLASTNÍ“). Ocenění "vlastní" položky:na základě odborných znalostí a zkušeností projektanta při realizaci obdobných zakázek za období 5-ti let. nebo na základě cen v místě a čase obvyklých). Nedílnou součástí soupisu prací je projektová dokumentace vč. textových příloh, na kterou se položky soupisu prací plně odkazují.
D31: Cena bez DPH | J31: =ROUND(J109,2) -> 0
F33: Základ daně | I33: Sazba daně | J33: Výše daně
D34: DPH | E34: základní | F34: =ROUND(SUM(BE109:BE1030), 2) -> 0 | I34: 0.21 | J34: =ROUND(ROUND((SUM(BE109:BE1030)), 2)*I34, 2) -> 0
E35: snížená | F35: =ROUND(SUM(BF109:BF1030), 2) -> 0 | I35: 0.15 | J35: =ROUND(ROUND((SUM(BF109:BF1030)), 2)*I35, 2) -> 0
E36: zákl. přenesená | F36: =ROUND(SUM(BG109:BG1030), 2) -> 0 | I36: 0.21 | J36: 0
E37: sníž. přenesená | F37: =ROUND(SUM(BH109:BH1030), 2) -> 0 | I37: 0.15 | J37: 0
E38: nulová | F38: =ROUND(SUM(BI109:BI1030), 2) -> 0 | I38: 0 | J38: 0
D40: Cena s DPH | G40: v | H40: CZK | J40: =SUM(J31:J38) -> 0
C46: REKAPITULACE ČLENĚNÍ SOUPISU PRACÍ
C48: Stavba:
E49: =E7 -> CENTRUM SPOLEČNÝCH AKTIVIT JESENÍK
C50: Objekt:
E51: SO 01 - CENTRUM SPOLEČNÝCH AKTIVIT
C52: Soupis:
E53: D.1.4 - Technika prostředí budov
C54: Úroveň 3:
E55: =E13 -> D.1.4.1 - Zdravotně technické instalace, plynoinstalace
C57: Místo: | F57: =F16 -> Jeseník | I57: Datum: | J57: =IF(J16="","",J16) -> 11.10.2016
C59: Zadavatel: | F59: =E19 -> Město Jeseník | I59: Projektant: | J59: =E25 -> Ing. Petr Kudlík
C60: Uchazeč: | F60: =IF(E22="","",E22)
C62: Kód dílu - Popis | J62: Cena celkem [CZK]
C64: Náklady soupisu celkem | J64: =J109 -> 0 | AU64: -1
D65: HSV - Práce a dodávky HSV | J65: =J110 -> 0
D66: 1 - Zemní práce | J66: =J111 -> 0
D67: 2 - Zakládání | J67: =J158 -> 0
D68: 4 - Vodorovné konstrukce | J68: =J161 -> 0
D69: 8 - Trubní vedení | J69: =J166 -> 0
D70: 9 - Ostatní konstrukce a práce, bourání | J70: =J214 -> 0
D71: 99 - Přesuny hmot a suti | J71: =J215 -> 0
D72: PSV - Práce a dodávky PSV | J72: =J217 -> 0
D73: 713 - Izolace tepelné | J73: =J218 -> 0
D74: 721 - Zdravotechnika | J74: =J296 -> 0
D75: 722 - Zdravotechnika | J75: =J481 -> 0
D76: 723 - Zdravotechnika | J76: =J707 -> 0
D77: 725 - Zdravotechnika | J77: =J745 -> 0
D78: 726 - Zdravotechnika | J78: =J933 -> 0
D79: 727 - Zdravotechnika | J79: =J966 -> 0
D80: M - Práce a dodávky M | J80: =J983 -> 0
D81: 23-M - Montáže potrubí | J81: =J984 -> 0
D82: 58-M - Revize vyhrazených technických zařízení | J82: =J995 -> 0
D83: N00 - Nepojmenované práce | J83: =J998 -> 0
D84: N01 - Nepojmenovaný díl | J84: =J999 -> 0
D85: OST - Ostatní | J85: =J1026 -> 0
C92: SOUPIS PRACÍ
C94: Stavba:
E95: =E7 -> CENTRUM SPOLEČNÝCH AKTIVIT JESENÍK
C96: Objekt:
E97: SO 01 - CENTRUM SPOLEČNÝCH AKTIVIT
C98: Soupis:
E99: D.1.4 - Technika prostředí budov
C100: Úroveň 3:
E101: =E13 -> D.1.4.1 - Zdravotně technické instalace, plynoinstalace
C103: Místo: | F103: =F16 -> Jeseník | I103: Datum: | J103: =IF(J16="","",J16) -> 11.10.2016
C105: Zadavatel: | F105: =E19 -> Město Jeseník | I105: Projektant: | J105: =E25 -> Ing. Petr Kudlík
C106: Uchazeč: | F106: =IF(E22="","",E22)
C108: PČ | D108: Typ | E108: Kód | F108: Popis | G108: MJ | H108: Množství | I108: J.cena [CZK] | J108: Cena celkem [CZK] | K108: Cenová soustava | M108: Poznámka | N108: DPH | O108: J. Nh [h] | P108: Nh celkem [h] | Q108: J. hmotnost_x000D_ [t] | R108: Hmotnost_x000D_ celkem [t] | S108: J. suť [t] | T108: Suť Celkem [t]
C109: Náklady soupisu celkem | J109: =BK109 -> 0 | P109: =P110+P217+P983+P998+P1026 -> 0 | R109: =R110+R217+R983+R998+R1026 -> 69.412555 | T109: =T110+T217+T983+T998+T1026 -> 0 | AT109: D | AU109: -1 | BK109: =BK110+BK217+BK983+BK998+BK1026 -> 0
D110: D | E110: HSV | F110: Práce a dodávky HSV | J110: =BK110 -> 0 | P110: =P111+P158+P161+P166+P214 -> 0 | R110: =R111+R158+R161+R166+R214 -> 66.707145 | T110: =T111+T158+T161+T166+T214 -> 0 | AR110: 1 | AT110: D | AU110: 0 | AY110: ROZPOCET | BK110: =BK111+BK158+BK161+BK166+BK214 -> 0
D111: D | E111: 1 | F111: Zemní práce | J111: =BK111 -> 0 | P111: =SUM(P112:P157) -> 0 | R111: =SUM(R112:R157) -> 48.339911 | T111: =SUM(T112:T157) -> 0 | AR111: 1 | AT111: D | AU111: 1 | AY111: ROZPOCET | BK111: =SUM(BK112:BK157) -> 0
C112: 1 | D112: K | E112: 132201201 | F112: Hloubení rýh š do 2000 mm v hornině tř. 3 objemu do 100 m3 | G112: m3 | H112: 93.5 | J112: =ROUND(I112*H112,2) -> 0 | K112: CS ÚRS 2016 01 | N112: základní | P112: =O112*H112 -> 0 | Q112: 0 | R112: =Q112*H112 -> 0 | S112: 0 | T112: =S112*H112 -> 0 | AR112: 4 | AT112: K | AU112: 2 | AY112: ROZPOCET | BE112: =IF(N112="základní",J112,0) -> 0 | BF112: =IF(N112="snížená",J112,0) -> 0 | BG112: =IF(N112="zákl. přenesená",J112,0) -> 0 | BH112: =IF(N112="sníž. přenesená",J112,0) -> 0 | BI112: =IF(N112="nulová",J112,0) -> 0 | BJ112: 1 | BK112: =ROUND(I112*H112,2) -> 0 | BL112: 4 | BM112: -2019468425
D113: VV | F113: 8,1*0,8*1,5+30*0,8*1,5+39,5*0,8*1,5 | H113: 93.12 | AT113: VV | AU113: 2 | AV113: 2 | AW113: True | AX113: 0 | AY113: ROZPOCET
D114: VV | F114: Součet | H114: 93.12 | AT114: VV | AU114: 2 | AV114: 4 | AW114: True | AX114: 0 | AY114: ROZPOCET
D115: VV | F115: 93,5 | H115: 93.5 | AT115: VV | AU115: 2 | AV115: 2 | AW115: True | AX115: 1 | AY115: ROZPOCET
C116: 3 | D116: K | E116: 133201101 | F116: Hloubení šachet v hornině tř. 3 objemu do 100 m3 | G116: m3 | H116: 9 | J116: =ROUND(I116*H116,2) -> 0 | K116: CS ÚRS 2016 01 | N116: základní | P116: =O116*H116 -> 0 | Q116: 0 | R116: =Q116*H116 -> 0 | S116: 0 | T116: =S116*H116 -> 0 | AR116: 4 | AT116: K | AU116: 2 | AY116: ROZPOCET | BE116: =IF(N116="základní",J116,0) -> 0 | BF116: =IF(N116="snížená",J116,0) -> 0 | BG116: =IF(N116="zákl. přenesená",J116,0) -> 0 | BH116: =IF(N116="sníž. přenesená",J116,0) -> 0 | BI116: =IF(N116="nulová",J116,0) -> 0 | BJ116: 1 | BK116: =ROUND(I116*H116,2) -> 0 | BL116: 4 | BM116: 1625070640
D117: VV | F117: 9 | H117: 9 | AT117: VV | AU117: 2 | AV117: 2 | AW117: True | AX117: 1 | AY117: ROZPOCET
C118: 5 | D118: K | E118: 139711101 | F118: Vykopávky v uzavřených prostorách v hornině tř. 1 až 4 | G118: m3 | H118: 1.5 | J118: =ROUND(I118*H118,2) -> 0 | K118: CS ÚRS 2016 01 | N118: základní | P118: =O118*H118 -> 0 | Q118: 0 | R118: =Q118*H118 -> 0 | S118: 0 | T118: =S118*H118 -> 0 | AR118: 4 | AT118: K | AU118: 2 | AY118: ROZPOCET | BE118: =IF(N118="základní",J118,0) -> 0 | BF118: =IF(N118="snížená",J118,0) -> 0 | BG118: =IF(N118="zákl. přenesená",J118,0) -> 0 | BH118: =IF(N118="sníž. přenesená",J118,0) -> 0 | BI118: =IF(N118="nulová",J118,0) -> 0 | BJ118: 1 | BK118: =ROUND(I118*H118,2) -> 0 | BL118: 4 | BM118: -1877799546
D119: VV | F119: 1,5 | H119: 1.5 | AT119: VV | AU119: 2 | AV119: 2 | AW119: True | AX119: 1 | AY119: ROZPOCET
C120: 6 | D120: K | E120: 151101101 | F120: Zřízení příložného pažení a rozepření stěn rýh hl do 2 m | G120: m2 | H120: 233 | J120: =ROUND(I120*H120,2) -> 0 | K120: CS ÚRS 2016 01 | N120: základní | P120: =O120*H120 -> 0 | Q120: 0.00083851 | R120: =Q120*H120 -> 0.19537283 | S120: 0 | T120: =S120*H120 -> 0 | AR120: 4 | AT120: K | AU120: 2 | AY120: ROZPOCET | BE120: =IF(N120="základní",J120,0) -> 0 | BF120: =IF(N120="snížená",J120,0) -> 0 | BG120: =IF(N120="zákl. přenesená",J120,0) -> 0 | BH120: =IF(N120="sníž. přenesená",J120,0) -> 0 | BI120: =IF(N120="nulová",J120,0) -> 0 | BJ120: 1 | BK120: =ROUND(I120*H120,2) -> 0 | BL120: 4 | BM120: 1726223735
D121: VV | F121: (8,1+30+39,5)*1,5*2 | H121: 232.8 | AT121: VV | AU121: 2 | AV121: 2 | AW121: True | AX121: 0 | AY121: ROZPOCET
D122: VV | F122: Součet | H122: 232.8 | AT122: VV | AU122: 2 | AV122: 4 | AW122: True | AX122: 0 | AY122: ROZPOCET
D123: VV | F123: 233 | H123: 233 | AT123: VV | AU123: 2 | AV123: 2 | AW123: True | AX123: 0 | AY123: ROZPOCET
D124: VV | F124: Součet | H124: 233 | AT124: VV | AU124: 2 | AV124: 4 | AW124: True | AX124: 1 | AY124: ROZPOCET
C125: 7 | D125: K | E125: 151101111 | F125: Odstranění příložného pažení a rozepření stěn rýh hl do 2 m | G125: m2 | H125: 233 | J125: =ROUND(I125*H125,2) -> 0 | K125: CS ÚRS 2016 01 | N125: základní | P125: =O125*H125 -> 0 | Q125: 0 | R125: =Q125*H125 -> 0 | S125: 0 | T125: =S125*H125 -> 0 | AR125: 4 | AT125: K | AU125: 2 | AY125: ROZPOCET | BE125: =IF(N125="základní",J125,0) -> 0 | BF125: =IF(N125="snížená",J125,0) -> 0 | BG125: =IF(N125="zákl. přenesená",J125,0) -> 0 | BH125: =IF(N125="sníž. přenesená",J125,0) -> 0 | BI125: =IF(N125="nulová",J125,0) -> 0 | BJ125: 1 | BK125: =ROUND(I125*H125,2) -> 0 | BL125: 4 | BM125: 1107954780
D126: VV | F126: 233 | H126: 233 | AT126: VV | AU126: 2 | AV126: 2 | AW126: True | AX126: 1 | AY126: ROZPOCET
C127: 8 | D127: K | E127: 151101201 | F127: Zřízení příložného pažení stěn výkopu hl do 4 m | G127: m2 | H127: 22 | J127: =ROUND(I127*H127,2) -> 0 | K127: CS ÚRS 2016 01 | N127: základní | P127: =O127*H127 -> 0 | Q127: 0.000701 | R127: =Q127*H127 -> 0.015422 | S127: 0 | T127: =S127*H127 -> 0 | AR127: 4 | AT127: K | AU127: 2 | AY127: ROZPOCET | BE127: =IF(N127="základní",J127,0) -> 0 | BF127: =IF(N127="snížená",J127,0) -> 0 | BG127: =IF(N127="zákl. přenesená",J127,0) -> 0 | BH127: =IF(N127="sníž. přenesená",J127,0) -> 0 | BI127: =IF(N127="nulová",J127,0) -> 0 | BJ127: 1 | BK127: =ROUND(I127*H127,2) -> 0 | BL127: 4 | BM127: 1695611632
D128: VV | F128: 22 | H128: 22 | AT128: VV | AU128: 2 | AV128: 2 | AW128: True | AX128: 1 | AY128: ROZPOCET
C129: 9 | D129: K | E129: 151101211 | F129: Odstranění příložného pažení stěn hl do 4 m | G129: m2 | H129: 22 | J129: =ROUND(I129*H129,2) -> 0 | K129: CS ÚRS 2016 01 | N129: základní | P129: =O129*H129 -> 0 | Q129: 0 | R129: =Q129*H129 -> 0 | S129: 0 | T129: =S129*H129 -> 0 | AR129: 4 | AT129: K | AU129: 2 | AY129: ROZPOCET | BE129: =IF(N129="základní",J129,0) -> 0 | BF129: =IF(N129="snížená",J129,0) -> 0 | BG129: =IF(N129="zákl. přenesená",J129,0) -> 0 | BH129: =IF(N129="sníž. přenesená",J129,0) -> 0 | BI129: =IF(N129="nulová",J129,0) -> 0 | BJ129: 1 | BK129: =ROUND(I129*H129,2) -> 0 | BL129: 4 | BM129: -1868508620
D130: VV | F130: 22 | H130: 22 | AT130: VV | AU130: 2 | AV130: 2 | AW130: True | AX130: 1 | AY130: ROZPOCET
...

Sheet D.1.4.2 - Vzduchotechnika...
D1: List obsahuje: | F1: 1) Krycí list soupisu | G1: 2) Rekapitulace | J1: 3) Soupis prací | K1: Zpět na list: | L1: Rekapitulace stavby
AT2: {808ae25b-b175-428c-9c3c-b5abc23010ef}
AT3: 2
D4: KRYCÍ LIST SOUPISU | M4: v --- níže se nacházejí doplnkové a pomocné údaje k sestavám --- v | AT4: False
D6: Stavba:
E7: ='Rekapitulace stavby'!K6 -> CENTRUM SPOLEČNÝCH AKTIVIT JESENÍK
D8: Objekt:
E9: SO 01 - CENTRUM SPOLEČNÝCH AKTIVIT
D10: Soupis:
E11: D.1.4 - Technika prostředí budov
D12: Úroveň 3:
E13: D.1.4.2 - Vzduchotechnika, chlazení
D15: KSO: | I15: CC-CZ:
D16: Místo: | F16: Jeseník | I16: Datum: | J16: ='Rekapitulace stavby'!AN8 -> 11.10.2016
D18: Zadavatel: | I18: IČ:
E19: MĚSTO JESENÍK | I19: DIČ:
D21: Uchazeč: | I21: IČ: | J21: =IF('Rekapitulace stavby'!AN13="Vyplň údaj","",IF('Rekapitulace stavby'!AN13="","",'Rekapitulace stavby'!AN13))
E22: =IF('Rekapitulace stavby'!E14="Vyplň údaj","",IF('Rekapitulace stavby'!E14="","",'Rekapitulace stavby'!E14)) | I22: DIČ: | J22: =IF('Rekapitulace stavby'!AN14="Vyplň údaj","",IF('Rekapitulace stavby'!AN14="","",'Rekapitulace stavby'!AN14))
D24: Projektant: | I24: IČ:
E25: KANIA a.s. , Ostrava | I25: DIČ:
D27: Poznámka:
E28: Soupis prací je sestaven za využití položek Cenové soustavy ÚRS. Cenové a technické podmínky položek CS ÚRS, které nejsou uvedeny v soupisu prací (tzv. úvodní části katalogů) jsou neomezeně dálkově k dispozici na www.cs-urs.cz. Položky soupisu prací, které nemají ve sloupci „Cenová soustava“ uveden žádný údaj, nepochází z Cenové soustavy ÚRS (takové položky soupisu prací mají Cenovou soustavu „VLASTNÍ“). Ocenění "vlastní" položky:na základě odborných znalostí a zkušeností projektanta při realizaci obdobných zakázek za období 5-ti let. nebo na základě cen v místě a čase obvyklých). Nedílnou součástí soupisu prací je projektová dokumentace vč. textových příloh, na kterou se položky soupisu prací plně odkazují.
D31: Cena bez DPH | J31: =ROUND(J100,2) -> 0
F33: Základ daně | I33: Sazba daně | J33: Výše daně
D34: DPH | E34: základní | F34: =ROUND(SUM(BE100:BE217), 2) -> 0 | I34: 0.21 | J34: =ROUND(ROUND((SUM(BE100:BE217)), 2)*I34, 2) -> 0
E35: snížená | F35: =ROUND(SUM(BF100:BF217), 2) -> 0 | I35: 0.15 | J35: =ROUND(ROUND((SUM(BF100:BF217)), 2)*I35, 2) -> 0
E36: zákl. přenesená | F36: =ROUND(SUM(BG100:BG217), 2) -> 0 | I36: 0.21 | J36: 0
E37: sníž. přenesená | F37: =ROUND(SUM(BH100:BH217), 2) -> 0 | I37: 0.15 | J37: 0
E38: nulová | F38: =ROUND(SUM(BI100:BI217), 2) -> 0 | I38: 0 | J38: 0
D40: Cena s DPH | G40: v | H40: CZK | J40: =SUM(J31:J38) -> 0
C46: REKAPITULACE ČLENĚNÍ SOUPISU PRACÍ
C48: Stavba:
E49: =E7 -> CENTRUM SPOLEČNÝCH AKTIVIT JESENÍK
C50: Objekt:
E51: SO 01 - CENTRUM SPOLEČNÝCH AKTIVIT
C52: Soupis:
E53: D.1.4 - Technika prostředí budov
C54: Úroveň 3:
E55: =E13 -> D.1.4.2 - Vzduchotechnika, chlazení
C57: Místo: | F57: =F16 -> Jeseník | I57: Datum: | J57: =IF(J16="","",J16) -> 11.10.2016
C59: Zadavatel: | F59: =E19 -> MĚSTO JESENÍK | I59: Projektant: | J59: =E25 -> KANIA a.s. , Ostrava
C60: Uchazeč: | F60: =IF(E22="","",E22)
C62: Kód dílu - Popis | J62: Cena celkem [CZK]
C64: Náklady soupisu celkem | J64: =J100 -> 0 | AU64: -1
D65: D1 - Zařízení č.1 - Větrání WC projektové místnosti | J65: =J101 -> 0
D66: D2 - Zařízení č.2 - Větrání sociálního zázemí v 1. a 2.NP | J66: =J106 -> 0
D67: D3 - Zařízení č.3 - Větrání učebny v 1.NP | J67: =J119 -> 0
D68: D4 - Zařízení č.4 - Větrání projektové místnosti v 1.NP | J68: =J130 -> 0
D69: D5 - Zařízení č.5 - Větrání recepce v 1.NP | J69: =J140 -> 0
D70: D6 - Zařízení č.6 - Větrání hudebního sálu v 2.NP | J70: =J150 -> 0
D71: D7 - Zařízení č.7 - Větrání kuchyňky v 2.NP | J71: =J178 -> 0
D72: D8 - Zařízení č.8 - Větrání skladu knih | J72: =J182 -> 0
D73: D9 - Zařízení č.9 - Větrání stávajícího WC | J73: =J190 -> 0
D74: D10 - Zařízení č.10 - Větrání skladu nábytku | J74: =J197 -> 0
D75: D11 - Zařízení č.11 - Chlazení serverovny v 1.PP | J75: =J202 -> 0
D76: D13 - Ostatní práce a dodávky | J76: =J211 -> 0
C83: SOUPIS PRACÍ
C85: Stavba:
E86: =E7 -> CENTRUM SPOLEČNÝCH AKTIVIT JESENÍK
C87: Objekt:
E88: SO 01 - CENTRUM SPOLEČNÝCH AKTIVIT
C89: Soupis:
E90: D.1.4 - Technika prostředí budov
C91: Úroveň 3:
E92: =E13 -> D.1.4.2 - Vzduchotechnika, chlazení
C94: Místo: | F94: =F16 -> Jeseník | I94: Datum: | J94: =IF(J16="","",J16) -> 11.10.2016
C96: Zadavatel: | F96: =E19 -> MĚSTO JESENÍK | I96: Projektant: | J96: =E25 -> KANIA a.s. , Ostrava
C97: Uchazeč: | F97: =IF(E22="","",E22)
C99: PČ | D99: Typ | E99: Kód | F99: Popis | G99: MJ | H99: Množství | I99: J.cena [CZK] | J99: Cena celkem [CZK] | K99: Cenová soustava | M99: Poznámka | N99: DPH | O99: J. Nh [h] | P99: Nh celkem [h] | Q99: J. hmotnost_x000D_ [t] | R99: Hmotnost_x000D_ celkem [t] | S99: J. suť [t] | T99: Suť Celkem [t]
C100: Náklady soupisu celkem | J100: =BK100 -> 0 | P100: =P101+P106+P119+P130+P140+P150+P178+P182+P190+P197+P202+P211 -> 0 | R100: =R101+R106+R119+R130+R140+R150+R178+R182+R190+R197+R202+R211 -> 0 | T100: =T101+T106+T119+T130+T140+T150+T178+T182+T190+T197+T202+T211 -> 0 | AT100: D | AU100: -1 | BK100: =BK101+BK106+BK119+BK130+BK140+BK150+BK178+BK182+BK190+BK197+BK202+BK211 -> 0
D101: D | E101: D1 | F101: Zařízení č.1 - Větrání WC projektové místnosti | J101: =BK101 -> 0 | P101: =SUM(P102:P105) -> 0 | R101: =SUM(R102:R105) -> 0 | T101: =SUM(T102:T105) -> 0 | AR101: 1 | AT101: D | AU101: 0 | AY101: ROZPOCET | BK101: =SUM(BK102:BK105) -> 0
C102: 1 | D102: K | E102: 240001001 | F102: Nástěnný ventilátor o125mm, V=80m3/h, Pi=20W/230V vč. zabudovaného časového doběhu | G102: ks | H102: 2 | J102: =ROUND(I102*H102,2) -> 0 | N102: základní | P102: =O102*H102 -> 0 | Q102: 0 | R102: =Q102*H102 -> 0 | S102: 0 | T102: =S102*H102 -> 0 | AR102: 4 | AT102: K | AU102: 1 | AY102: ROZPOCET | BE102: =IF(N102="základní",J102,0) -> 0 | BF102: =IF(N102="snížená",J102,0) -> 0 | BG102: =IF(N102="zákl. přenesená",J102,0) -> 0 | BH102: =IF(N102="sníž. přenesená",J102,0) -> 0 | BI102: =IF(N102="nulová",J102,0) -> 0 | BJ102: 1 | BK102: =ROUND(I102*H102,2) -> 0 | BL102: 4 | BM102: -714490112
D103: P | F103: Poznámka k položce: "kompletní dle specifikace PD a TZ vč. souvisejících prací" | AT103: P | AU103: 1
C104: 2 | D104: K | E104: 240001002 | F104: Přetlaková žaluzie plastová o125mm - "specifikace dle PD a TZ" | G104: ks | H104: 2 | J104: =ROUND(I104*H104,2) -> 0 | N104: základní | P104: =O104*H104 -> 0 | Q104: 0 | R104: =Q104*H104 -> 0 | S104: 0 | T104: =S104*H104 -> 0 | AR104: 4 | AT104: K | AU104: 1 | AY104: ROZPOCET | BE104: =IF(N104="základní",J104,0) -> 0 | BF104: =IF(N104="snížená",J104,0) -> 0 | BG104: =IF(N104="zákl. přenesená",J104,0) -> 0 | BH104: =IF(N104="sníž. přenesená",J104,0) -> 0 | BI104: =IF(N104="nulová",J104,0) -> 0 | BJ104: 1 | BK104: =ROUND(I104*H104,2) -> 0 | BL104: 4 | BM104: 950884457
C105: 3 | D105: K | E105: 240001003 | F105: Kruhové potrubí, provedení pozink, spojováno na spojky - "kompletní provedení dle specifikace PD a TZ vč. souvisejících prací"- o125mm, 0% tvarovek | G105: bm | H105: 3 | J105: =ROUND(I105*H105,2) -> 0 | N105: základní | P105: =O105*H105 -> 0 | Q105: 0 | R105: =Q105*H105 -> 0 | S105: 0 | T105: =S105*H105 -> 0 | AR105: 4 | AT105: K | AU105: 1 | AY105: ROZPOCET | BE105: =IF(N105="základní",J105,0) -> 0 | BF105: =IF(N105="snížená",J105,0) -> 0 | BG105: =IF(N105="zákl. přenesená",J105,0) -> 0 | BH105: =IF(N105="sníž. přenesená",J105,0) -> 0 | BI105: =IF(N105="nulová",J105,0) -> 0 | BJ105: 1 | BK105: =ROUND(I105*H105,2) -> 0 | BL105: 4 | BM105: 2013599917
D106: D | E106: D2 | F106: Zařízení č.2 - Větrání sociálního zázemí v 1. a 2.NP | J106: =BK106 -> 0 | P106: =SUM(P107:P118) -> 0 | R106: =SUM(R107:R118) -> 0 | T106: =SUM(T107:T118) -> 0 | AR106: 1 | AT106: D | AU106: 0 | AY106: ROZPOCET | BK106: =SUM(BK107:BK118) -> 0
C107: 4 | D107: K | E107: 240002001 | F107: Potrubní ventilátor o125mm, V=130-180m3/h, Pi=59W/0,26A/230V - "specifikace dle PD a TZ" | G107: ks | H107: 4 | J107: =ROUND(I107*H107,2) -> 0 | N107: základní | P107: =O107*H107 -> 0 | Q107: 0 | R107: =Q107*H107 -> 0 | S107: 0 | T107: =S107*H107 -> 0 | AR107: 4 | AT107: K | AU107: 1 | AY107: ROZPOCET | BE107: =IF(N107="základní",J107,0) -> 0 | BF107: =IF(N107="snížená",J107,0) -> 0 | BG107: =IF(N107="zákl. přenesená",J107,0) -> 0 | BH107: =IF(N107="sníž. přenesená",J107,0) -> 0 | BI107: =IF(N107="nulová",J107,0) -> 0 | BJ107: 1 | BK107: =ROUND(I107*H107,2) -> 0 | BL107: 4 | BM107: 1632678988
C108: 5 | D108: K | E108: 240002002 | F108: Rychloupínací spona o125mm - "specifikace dle PD a TZ" | G108: ks | H108: 8 | J108: =ROUND(I108*H108,2) -> 0 | N108: základní | P108: =O108*H108 -> 0 | Q108: 0 | R108: =Q108*H108 -> 0 | S108: 0 | T108: =S108*H108 -> 0 | AR108: 4 | AT108: K | AU108: 1 | AY108: ROZPOCET | BE108: =IF(N108="základní",J108,0) -> 0 | BF108: =IF(N108="snížená",J108,0) -> 0 | BG108: =IF(N108="zákl. přenesená",J108,0) -> 0 | BH108: =IF(N108="sníž. přenesená",J108,0) -> 0 | BI108: =IF(N108="nulová",J108,0) -> 0 | BJ108: 1 | BK108: =ROUND(I108*H108,2) -> 0 | BL108: 4 | BM108: -444050434
C109: 6 | D109: K | E109: 240002003 | F109: Nástěnný ventilátor o125mm, V=50-80m3/h, Pi=20W/230V vč. zabudovaného časového doběhu | G109: ks | H109: 4 | J109: =ROUND(I109*H109,2) -> 0 | N109: základní | P109: =O109*H109 -> 0 | Q109: 0 | R109: =Q109*H109 -> 0 | S109: 0 | T109: =S109*H109 -> 0 | AR109: 4 | AT109: K | AU109: 1 | AY109: ROZPOCET | BE109: =IF(N109="základní",J109,0) -> 0 | BF109: =IF(N109="snížená",J109,0) -> 0 | BG109: =IF(N109="zákl. přenesená",J109,0) -> 0 | BH109: =IF(N109="sníž. přenesená",J109,0) -> 0 | BI109: =IF(N109="nulová",J109,0) -> 0 | BJ109: 1 | BK109: =ROUND(I109*H109,2) -> 0 | BL109: 4 | BM109: 867086633
D110: P | F110: Poznámka k položce: "kompletní dle specifikace PD a TZ vč. souvisejících prací" | AT110: P | AU110: 1
C111: 7 | D111: K | E111: 240002004 | F111: Přetlaková žaluzie plastová o125mm - "specifikace dle PD a TZ" | G111: ks | H111: 6 | J111: =ROUND(I111*H111,2) -> 0 | N111: základní | P111: =O111*H111 -> 0 | Q111: 0 | R111: =Q111*H111 -> 0 | S111: 0 | T111: =S111*H111 -> 0 | AR111: 4 | AT111: K | AU111: 1 | AY111: ROZPOCET | BE111: =IF(N111="základní",J111,0) -> 0 | BF111: =IF(N111="snížená",J111,0) -> 0 | BG111: =IF(N111="zákl. přenesená",J111,0) -> 0 | BH111: =IF(N111="sníž. přenesená",J111,0) -> 0 | BI111: =IF(N111="nulová",J111,0) -> 0 | BJ111: 1 | BK111: =ROUND(I111*H111,2) -> 0 | BL111: 4 | BM111: -2126481555
C112: 8 | D112: K | E112: 240002005 | F112: Odvodní talířový ventil o125mm, vč. montážní zděře, provedení plast - "specifikace dle PD a TZ" | G112: ks | H112: 3 | J112: =ROUND(I112*H112,2) -> 0 | N112: základní | P112: =O112*H112 -> 0 | Q112: 0 | R112: =Q112*H112 -> 0 | S112: 0 | T112: =S112*H112 -> 0 | AR112: 4 | AT112: K | AU112: 1 | AY112: ROZPOCET | BE112: =IF(N112="základní",J112,0) -> 0 | BF112: =IF(N112="snížená",J112,0) -> 0 | BG112: =IF(N112="zákl. přenesená",J112,0) -> 0 | BH112: =IF(N112="sníž. přenesená",J112,0) -> 0 | BI112: =IF(N112="nulová",J112,0) -> 0 | BJ112: 1 | BK112: =ROUND(I112*H112,2) -> 0 | BL112: 4 | BM112: 632459968
C113: 9 | D113: K | E113: 240002006 | F113: Odvodní talířový ventil o100mm, vč. montážní zděře, provedení plast - "specifikace dle PD a TZ" | G113: ks | H113: 9 | J113: =ROUND(I113*H113,2) -> 0 | N113: základní | P113: =O113*H113 -> 0 | Q113: 0 | R113: =Q113*H113 -> 0 | S113: 0 | T113: =S113*H113 -> 0 | AR113: 4 | AT113: K | AU113: 1 | AY113: ROZPOCET | BE113: =IF(N113="základní",J113,0) -> 0 | BF113: =IF(N113="snížená",J113,0) -> 0 | BG113: =IF(N113="zákl. přenesená",J113,0) -> 0 | BH113: =IF(N113="sníž. přenesená",J113,0) -> 0 | BI113: =IF(N113="nulová",J113,0) -> 0 | BJ113: 1 | BK113: =ROUND(I113*H113,2) -> 0 | BL113: 4 | BM113: 493193003
C114: 10 | D114: K | E114: 240002007 | F114: Regulační klapka kruhová o125mm, ruční, provedení pozink. - "specifikace dle PD a TZ" | G114: ks | H114: 4 | J114: =ROUND(I114*H114,2) -> 0 | N114: základní | P114: =O114*H114 -> 0 | Q114: 0 | R114: =Q114*H114 -> 0 | S114: 0 | T114: =S114*H114 -> 0 | AR114: 4 | AT114: K | AU114: 1 | AY114: ROZPOCET | BE114: =IF(N114="základní",J114,0) -> 0 | BF114: =IF(N114="snížená",J114,0) -> 0 | BG114: =IF(N114="zákl. přenesená",J114,0) -> 0 | BH114: =IF(N114="sníž. přenesená",J114,0) -> 0 | BI114: =IF(N114="nulová",J114,0) -> 0 | BJ114: 1 | BK114: =ROUND(I114*H114,2) -> 0 | BL114: 4 | BM114: -1451182071
C115: 11 | D115: K | E115: 240002008 | F115: Kruhové potrubí, provedení pozink, spojováno na spojky - "kompletní provedení dle specifikace PD a TZ vč. souvisejících prací"- o125mm, 40% tvarovek | G115: bm | H115: 26 | J115: =ROUND(I115*H115,2) -> 0 | N115: základní | P115: =O115*H115 -> 0 | Q115: 0 | R115: =Q115*H115 -> 0 | S115: 0 | T115: =S115*H115 -> 0 | AR115: 4 | AT115: K | AU115: 1 | AY115: ROZPOCET | BE115: =IF(N115="základní",J115,0) -> 0 | BF115: =IF(N115="snížená",J115,0) -> 0 | BG115: =IF(N115="zákl. přenesená",J115,0) -> 0 | BH115: =IF(N115="sníž. přenesená",J115,0) -> 0 | BI115: =IF(N115="nulová",J115,0) -> 0 | BJ115: 1 | BK115: =ROUND(I115*H115,2) -> 0 | BL115: 4 | BM115: -654762799
C116: 12 | D116: K | E116: 240002009 | F116: Kruhové potrubí, provedení pozink, spojováno na spojky - "kompletní provedení dle specifikace PD a TZ vč. souvisejících prací" - o100mm, 40% tvarovek | G116: bm | H116: 12 | J116: =ROUND(I116*H116,2) -> 0 | N116: základní | P116: =O116*H116 -> 0 | Q116: 0 | R116: =Q116*H116 -> 0 | S116: 0 | T116: =S116*H116 -> 0 | AR116: 4 | AT116: K | AU116: 1 | AY116: ROZPOCET | BE116: =IF(N116="základní",J116,0) -> 0 | BF116: =IF(N116="snížená",J116,0) -> 0 | BG116: =IF(N116="zákl. přenesená",J116,0) -> 0 | BH116: =IF(N116="sníž. přenesená",J116,0) -> 0 | BI116: =IF(N116="nulová",J116,0) -> 0 | BJ116: 1 | BK116: =ROUND(I116*H116,2) -> 0 | BL116: 4 | BM116: -681806291
C117: 13 | D117: K | E117: 240002010 | F117: Ohebné hadice o125mm, balení po 10m - "kompletní provedení dle specifikace PD a TZ vč. souvisejících prací" | G117: bal | H117: 1 | J117: =ROUND(I117*H117,2) -> 0 | N117: základní | P117: =O117*H117 -> 0 | Q117: 0 | R117: =Q117*H117 -> 0 | S117: 0 | T117: =S117*H117 -> 0 | AR117: 4 | AT117: K | AU117: 1 | AY117: ROZPOCET | BE117: =IF(N117="základní",J117,0) -> 0 | BF117: =IF(N117="snížená",J117,0) -> 0 | BG117: =IF(N117="zákl. přenesená",J117,0) -> 0 | BH117: =IF(N117="sníž. přenesená",J117,0) -> 0 | BI117: =IF(N117="nulová",J117,0) -> 0 | BJ117: 1 | BK117: =ROUND(I117*H117,2) -> 0 | BL117: 4 | BM117: -1447457719
C118: 14 | D118: K | E118: 240002011 | F118: Ohebné hadice o100mm, balení po 10m - "kompletní provedení dle specifikace PD a TZ vč. souvisejících prací" | G118: bal | H118: 1 | J118: =ROUND(I118*H118,2) -> 0 | N118: základní | P118: =O118*H118 -> 0 | Q118: 0 | R118: =Q118*H118 -> 0 | S118: 0 | T118: =S118*H118 -> 0 | AR118: 4 | AT118: K | AU118: 1 | AY118: ROZPOCET | BE118: =IF(N118="základní",J118,0) -> 0 | BF118: =IF(N118="snížená",J118,0) -> 0 | BG118: =IF(N118="zákl. přenesená",J118,0) -> 0 | BH118: =IF(N118="sníž. přenesená",J118,0) -> 0 | BI118: =IF(N118="nulová",J118,0) -> 0 | BJ118: 1 | BK118: =ROUND(I118*H118,2) -> 0 | BL118: 4 | BM118: 230248738
D119: D | E119: D3 | F119: Zařízení č.3 - Větrání učebny v 1.NP | J119: =BK119 -> 0 | P119: =SUM(P120:P129) -> 0 | R119: =SUM(R120:R129) -> 0 | T119: =SUM(T120:T129) -> 0 | AR119: 1 | AT119: D | AU119: 0 | AY119: ROZPOCET | BK119: =SUM(BK120:BK129) -> 0
C120: 15 | D120: K | E120: 240003001 | F120: Kompaktní rekuperační jednotka - nástěnná, V=500m3/h, Pi=830W/1,5A/230V vč. el. ohřevu 650W | G120: ks | H120: 2 | J120: =ROUND(I120*H120,2) -> 0 | N120: základní | P120: =O120*H120 -> 0 | Q120: 0 | R120: =Q120*H120 -> 0 | S120: 0 | T120: =S120*H120 -> 0 | AR120: 4 | AT120: K | AU120: 1 | AY120: ROZPOCET | BE120: =IF(N120="základní",J120,0) -> 0 | BF120: =IF(N120="snížená",J120,0) -> 0 | BG120: =IF(N120="zákl. přenesená",J120,0) -> 0 | BH120: =IF(N120="sníž. přenesená",J120,0) -> 0 | BI120: =IF(N120="nulová",J120,0) -> 0 | BJ120: 1 | BK120: =ROUND(I120*H120,2) -> 0 | BL120: 4 | BM120: -589804749
D121: P | F121: Poznámka k položce: součástí jednotky jsou i filtry M5, hluk v nízkých/vysokých otáčkách Lp=25/35dB(A) v 1m od jednotky ; účinnost rekuperace tepla 84,5%; Navržená jednotka splňuje Nařízení komise (EU) č. 1253/2014 (požadavky na EKODESIGN větracích jednotek - ErP 2018).; "kompletní dle specifikace PD a TZ vč. souvisejících prací" | AT121: P | AU121: 1
C122: 16 | D122: K | E122: 240003002 | F122: Nástěnný regulátor vč. připojovacího kabelu, sloužící k ovládání jednotky s následujícími nastaveními: | G122: ks | H122: 1 | J122: =ROUND(I122*H122,2) -> 0 | N122: základní | P122: =O122*H122 -> 0 | Q122: 0 | R122: =Q122*H122 -> 0 | S122: 0 | T122: =S122*H122 -> 0 | AR122: 4 | AT122: K | AU122: 1 | AY122: ROZPOCET | BE122: =IF(N122="základní",J122,0) -> 0 | BF122: =IF(N122="snížená",J122,0) -> 0 | BG122: =IF(N122="zákl. přenesená",J122,0) -> 0 | BH122: =IF(N122="sníž. přenesená",J122,0) -> 0 | BI122: =IF(N122="nulová",J122,0) -> 0 | BJ122: 1 | BK122: =ROUND(I122*H122,2) -> 0 | BL122: 4 | BM122: -1283097736
D123: P | F123: Poznámka k položce: - nastavení teploty přiváděného vzduchu; - zámek klávesnice; - denní a noční režim; - kalendář, čas/den/datum; "kompletní dle specifikace PD a TZ vč. souvisejících prací" | AT123: P | AU123: 1
C124: 17 | D124: K | E124: 240003003 | F124: Senzor CO2 s dispejem vč. kabeláže - "kompletní dle specifikace PD a TZ vč. souvisejících prací" | G124: ks | H124: 1 | J124: =ROUND(I124*H124,2) -> 0 | N124: základní | P124: =O124*H124 -> 0 | Q124: 0 | R124: =Q124*H124 -> 0 | S124: 0 | T124: =S124*H124 -> 0 | AR124: 4 | AT124: K | AU124: 1 | AY124: ROZPOCET | BE124: =IF(N124="základní",J124,0) -> 0 | BF124: =IF(N124="snížená",J124,0) -> 0 | BG124: =IF(N124="zákl. přenesená",J124,0) -> 0 | BH124: =IF(N124="sníž. přenesená",J124,0) -> 0 | BI124: =IF(N124="nulová",J124,0) -> 0 | BJ124: 1 | BK124: =ROUND(I124*H124,2) -> 0 | BL124: 4 | BM124: -1918812014
C125: 18 | D125: K | E125: 240003004 | F125: Příslušenství k řetězovému propojení dvou jednotek na jeden ovladač - "specifikace dle PD a TZ" | G125: ks | H125: 2 | J125: =ROUND(I125*H125,2) -> 0 | N125: základní | P125: =O125*H125 -> 0 | Q125: 0 | R125: =Q125*H125 -> 0 | S125: 0 | T125: =S125*H125 -> 0 | AR125: 4 | AT125: K | AU125: 1 | AY125: ROZPOCET | BE125: =IF(N125="základní",J125,0) -> 0 | BF125: =IF(N125="snížená",J125,0) -> 0 | BG125: =IF(N125="zákl. přenesená",J125,0) -> 0 | BH125: =IF(N125="sníž. přenesená",J125,0) -> 0 | BI125: =IF(N125="nulová",J125,0) -> 0 | BJ125: 1 | BK125: =ROUND(I125*H125,2) -> 0 | BL125: 4 | BM125: 175840786
C126: 19 | D126: K | E126: 240003005 | F126: Protidešťová žaluzie se sítem o250mm - "specifikace dle PD a TZ" | G126: ks | H126: 4 | J126: =ROUND(I126*H126,2) -> 0 | N126: základní | P126: =O126*H126 -> 0 | Q126: 0 | R126: =Q126*H126 -> 0 | S126: 0 | T126: =S126*H126 -> 0 | AR126: 4 | AT126: K | AU126: 1 | AY126: ROZPOCET | BE126: =IF(N126="základní",J126,0) -> 0 | BF126: =IF(N126="snížená",J126,0) -> 0 | BG126: =IF(N126="zákl. přenesená",J126,0) -> 0 | BH126: =IF(N126="sníž. přenesená",J126,0) -> 0 | BI126: =IF(N126="nulová",J126,0) -> 0 | BJ126: 1 | BK126: =ROUND(I126*H126,2) -> 0 | BL126: 4 | BM126: 845942550
C127: 20 | D127: K | E127: 240003006 | F127: Tepelná izolace tl. 40mm s Al. polepem (sání po jednotku) | G127: m2 | H127: 14 | J127: =ROUND(I127*H127,2) -> 0 | N127: základní | P127: =O127*H127 -> 0 | Q127: 0 | R127: =Q127*H127 -> 0 | S127: 0 | T127: =S127*H127 -> 0 | AR127: 4 | AT127: K | AU127: 1 | AY127: ROZPOCET | BE127: =IF(N127="základní",J127,0) -> 0 | BF127: =IF(N127="snížená",J127,0) -> 0 | BG127: =IF(N127="zákl. přenesená",J127,0) -> 0 | BH127: =IF(N127="sníž. přenesená",J127,0) -> 0 | BI127: =IF(N127="nulová",J127,0) -> 0 | BJ127: 1 | BK127: =ROUND(I127*H127,2) -> 0 | BL127: 4 | BM127: 1962872459
D128: P | F128: Poznámka k položce: "kompletní provedení dle specifikace PD a TZ vč. souvisejících prací" | AT128: P | AU128: 1
C129: 21 | D129: K | E129: 240003007 | F129: Kruhové potrubí, provedení pozink, spojováno na spojky - "kompletní provedení dle specifikace PD a TZ vč. souvisejících prací" - o250mm, 40% tvarovek | G129: bm | H129: 20 | J129: =ROUND(I129*H129,2) -> 0 | N129: základní | P129: =O129*H129 -> 0 | Q129: 0 | R129: =Q129*H129 -> 0 | S129: 0 | T129: =S129*H129 -> 0 | AR129: 4 | AT129: K | AU129: 1 | AY129: ROZPOCET | BE129: =IF(N129="základní",J129,0) -> 0 | BF129: =IF(N129="snížená",J129,0) -> 0 | BG129: =IF(N129="zákl. přenesená",J129,0) -> 0 | BH129: =IF(N129="sníž. přenesená",J129,0) -> 0 | BI129: =IF(N129="nulová",J129,0) -> 0 | BJ129: 1 | BK129: =ROUND(I129*H129,2) -> 0 | BL129: 4 | BM129: -1445016879
D130: D | E130: D4 | F130: Zařízení č.4 - Větrání projektové místnosti v 1.NP | J130: =BK130 -> 0 | P130: =SUM(P131:P139) -> 0 | R130: =SUM(R131:R139) -> 0 | T130: =SUM(T131:T139) -> 0 | AR130: 1 | AT130: D | AU130: 0 | AY130: ROZPOCET | BK130: =SUM(BK131:BK139) -> 0
...

Sheet D.1.4.3 - Vytápění
D1: List obsahuje: | F1: 1) Krycí list soupisu | G1: 2) Rekapitulace | J1: 3) Soupis prací | K1: Zpět na list: | L1: Rekapitulace stavby
AT2: {cd0c862f-14f7-41bc-a760-da8a038cce88}
AT3: 2
D4: KRYCÍ LIST SOUPISU | M4: v --- níže se nacházejí doplnkové a pomocné údaje k sestavám --- v | AT4: False
D6: Stavba:
E7: ='Rekapitulace stavby'!K6 -> CENTRUM SPOLEČNÝCH AKTIVIT JESENÍK
D8: Objekt:
E9: SO 01 - CENTRUM SPOLEČNÝCH AKTIVIT
D10: Soupis:
E11: D.1.4 - Technika prostředí budov
D12: Úroveň 3:
E13: D.1.4.3 - Vytápění
D15: KSO: | I15: CC-CZ:
D16: Místo: | F16: Jeseník | I16: Datum: | J16: ='Rekapitulace stavby'!AN8 -> 11.10.2016
D18: Zadavatel: | I18: IČ:
E19: MĚSTO JESENÍK | I19: DIČ:
D21: Uchazeč: | I21: IČ: | J21: =IF('Rekapitulace stavby'!AN13="Vyplň údaj","",IF('Rekapitulace stavby'!AN13="","",'Rekapitulace stavby'!AN13))
E22: =IF('Rekapitulace stavby'!E14="Vyplň údaj","",IF('Rekapitulace stavby'!E14="","",'Rekapitulace stavby'!E14)) | I22: DIČ: | J22: =IF('Rekapitulace stavby'!AN14="Vyplň údaj","",IF('Rekapitulace stavby'!AN14="","",'Rekapitulace stavby'!AN14))
D24: Projektant: | I24: IČ:
E25: KANIA, a.s. , Špálova 80/9, Ostrava | I25: DIČ:
D27: Poznámka:
E28: Soupis prací je sestaven za využití položek Cenové soustavy ÚRS. Cenové a technické podmínky položek CS ÚRS, které nejsou uvedeny v soupisu prací (tzv. úvodní části katalogů) jsou neomezeně dálkově k dispozici na www.cs-urs.cz. Položky soupisu prací, které nemají ve sloupci „Cenová soustava“ uveden žádný údaj, nepochází z Cenové soustavy ÚRS (takové položky soupisu prací mají Cenovou soustavu „VLASTNÍ“). Ocenění "vlastní" položky:na základě odborných znalostí a zkušeností projektanta při realizaci obdobných zakázek za období 5-ti let. nebo na základě cen v místě a čase obvyklých). Nedílnou součástí soupisu prací je projektová dokumentace vč. textových příloh, na kterou se položky soupisu prací plně odkazují.
D31: Cena bez DPH | J31: =ROUND(J95,2) -> 0
F33: Základ daně | I33: Sazba daně | J33: Výše daně
D34: DPH | E34: základní | F34: =ROUND(SUM(BE95:BE194), 2) -> 0 | I34: 0.21 | J34: =ROUND(ROUND((SUM(BE95:BE194)), 2)*I34, 2) -> 0
E35: snížená | F35: =ROUND(SUM(BF95:BF194), 2) -> 0 | I35: 0.15 | J35: =ROUND(ROUND((SUM(BF95:BF194)), 2)*I35, 2) -> 0
E36: zákl. přenesená | F36: =ROUND(SUM(BG95:BG194), 2) -> 0 | I36: 0.21 | J36: 0
E37: sníž. přenesená | F37: =ROUND(SUM(BH95:BH194), 2) -> 0 | I37: 0.15 | J37: 0
E38: nulová | F38: =ROUND(SUM(BI95:BI194), 2) -> 0 | I38: 0 | J38: 0
D40: Cena s DPH | G40: v | H40: CZK | J40: =SUM(J31:J38) -> 0
C46: REKAPITULACE ČLENĚNÍ SOUPISU PRACÍ
C48: Stavba:
E49: =E7 -> CENTRUM SPOLEČNÝCH AKTIVIT JESENÍK
C50: Objekt:
E51: SO 01 - CENTRUM SPOLEČNÝCH AKTIVIT
C52: Soupis:
E53: D.1.4 - Technika prostředí budov
C54: Úroveň 3:
E55: =E13 -> D.1.4.3 - Vytápění
C57: Místo: | F57: =F16 -> Jeseník | I57: Datum: | J57: =IF(J16="","",J16) -> 11.10.2016
C59: Zadavatel: | F59: =E19 -> MĚSTO JESENÍK | I59: Projektant: | J59: =E25 -> KANIA, a.s. , Špálova 80/9, Ostrava
C60: Uchazeč: | F60: =IF(E22="","",E22)
C62: Kód dílu - Popis | J62: Cena celkem [CZK]
C64: Náklady soupisu celkem | J64: =J95 -> 0 | AU64: -1
D65: 712 - Teplovodní podlahové vytápění | J65: =J96 -> 0
D66: 713 - Izolace tepelné | J66: =J109 -> 0
D67: 731 - Strojovny I. | J67: =J120 -> 0
D68: 733 - Otopná tělesa | J68: =J134 -> 0
D69: 734 - Rozvod potrubí | J69: =J149 -> 0
D70: 735 - Armatury | J70: =J158 -> 0
D71: 999 - Ostatní | J71: =J188 -> 0
C78: SOUPIS PRACÍ
C80: Stavba:
E81: =E7 -> CENTRUM SPOLEČNÝCH AKTIVIT JESENÍK
C82: Objekt:
E83: SO 01 - CENTRUM SPOLEČNÝCH AKTIVIT
C84: Soupis:
E85: D.1.4 - Technika prostředí budov
C86: Úroveň 3:
E87: =E13 -> D.1.4.3 - Vytápění
C89: Místo: | F89: =F16 -> Jeseník | I89: Datum: | J89: =IF(J16="","",J16) -> 11.10.2016
C91: Zadavatel: | F91: =E19 -> MĚSTO JESENÍK | I91: Projektant: | J91: =E25 -> KANIA, a.s. , Špálova 80/9, Ostrava
C92: Uchazeč: | F92: =IF(E22="","",E22)
C94: PČ | D94: Typ | E94: Kód | F94: Popis | G94: MJ | H94: Množství | I94: J.cena [CZK] | J94: Cena celkem [CZK] | K94: Cenová soustava | M94: Poznámka | N94: DPH | O94: J. Nh [h] | P94: Nh celkem [h] | Q94: J. hmotnost_x000D_ [t] | R94: Hmotnost_x000D_ celkem [t] | S94: J. suť [t] | T94: Suť Celkem [t]
C95: Náklady soupisu celkem | J95: =BK95 -> 0 | P95: =P96+P109+P120+P134+P149+P158+P188 -> 0 | R95: =R96+R109+R120+R134+R149+R158+R188 -> 0 | T95: =T96+T109+T120+T134+T149+T158+T188 -> 0 | AT95: D | AU95: -1 | BK95: =BK96+BK109+BK120+BK134+BK149+BK158+BK188 -> 0
D96: D | E96: 712 | F96: Teplovodní podlahové vytápění | J96: =BK96 -> 0 | P96: =SUM(P97:P108) -> 0 | R96: =SUM(R97:R108) -> 0 | T96: =SUM(T97:T108) -> 0 | AR96: 1 | AT96: D | AU96: 0 | AY96: ROZPOCET | BK96: =SUM(BK97:BK108) -> 0
C97: 1 | D97: K | E97: 712.100.01 | F97: Rozdělovač a sběrač CS553VP, 7cestný | G97: kus | H97: 1 | J97: =ROUND(I97*H97,2) -> 0 | N97: základní | P97: =O97*H97 -> 0 | Q97: 0 | R97: =Q97*H97 -> 0 | S97: 0 | T97: =S97*H97 -> 0 | AR97: 4 | AT97: K | AU97: 1 | AY97: ROZPOCET | BE97: =IF(N97="základní",J97,0) -> 0 | BF97: =IF(N97="snížená",J97,0) -> 0 | BG97: =IF(N97="zákl. přenesená",J97,0) -> 0 | BH97: =IF(N97="sníž. přenesená",J97,0) -> 0 | BI97: =IF(N97="nulová",J97,0) -> 0 | BJ97: 1 | BK97: =ROUND(I97*H97,2) -> 0 | BL97: 4 | BM97: 409651058
C98: 2 | D98: K | E98: 712.100.02 | F98: Rozdělovač a sběrač CS553VP, 5cestný | G98: kus | H98: 1 | J98: =ROUND(I98*H98,2) -> 0 | N98: základní | P98: =O98*H98 -> 0 | Q98: 0 | R98: =Q98*H98 -> 0 | S98: 0 | T98: =S98*H98 -> 0 | AR98: 4 | AT98: K | AU98: 1 | AY98: ROZPOCET | BE98: =IF(N98="základní",J98,0) -> 0 | BF98: =IF(N98="snížená",J98,0) -> 0 | BG98: =IF(N98="zákl. přenesená",J98,0) -> 0 | BH98: =IF(N98="sníž. přenesená",J98,0) -> 0 | BI98: =IF(N98="nulová",J98,0) -> 0 | BJ98: 1 | BK98: =ROUND(I98*H98,2) -> 0 | BL98: 4 | BM98: -185781772
C99: 3 | D99: K | E99: 712.100.03 | F99: Podmítková skříň KLASIK3 690x830x110 | G99: kus | H99: 1 | J99: =ROUND(I99*H99,2) -> 0 | N99: základní | P99: =O99*H99 -> 0 | Q99: 0 | R99: =Q99*H99 -> 0 | S99: 0 | T99: =S99*H99 -> 0 | AR99: 4 | AT99: K | AU99: 1 | AY99: ROZPOCET | BE99: =IF(N99="základní",J99,0) -> 0 | BF99: =IF(N99="snížená",J99,0) -> 0 | BG99: =IF(N99="zákl. přenesená",J99,0) -> 0 | BH99: =IF(N99="sníž. přenesená",J99,0) -> 0 | BI99: =IF(N99="nulová",J99,0) -> 0 | BJ99: 1 | BK99: =ROUND(I99*H99,2) -> 0 | BL99: 4 | BM99: 480689013
C100: 4 | D100: K | E100: 712.100.04 | F100: Podmítková skříň KLASIK2 690x530x110 | G100: kus | H100: 1 | J100: =ROUND(I100*H100,2) -> 0 | N100: základní | P100: =O100*H100 -> 0 | Q100: 0 | R100: =Q100*H100 -> 0 | S100: 0 | T100: =S100*H100 -> 0 | AR100: 4 | AT100: K | AU100: 1 | AY100: ROZPOCET | BE100: =IF(N100="základní",J100,0) -> 0 | BF100: =IF(N100="snížená",J100,0) -> 0 | BG100: =IF(N100="zákl. přenesená",J100,0) -> 0 | BH100: =IF(N100="sníž. přenesená",J100,0) -> 0 | BI100: =IF(N100="nulová",J100,0) -> 0 | BJ100: 1 | BK100: =ROUND(I100*H100,2) -> 0 | BL100: 4 | BM100: 504005745
C101: 5 | D101: K | E101: 712.100.05 | F101: Svěrné šroubení na vícevrstvé potrubí 16x2 - EK | G101: kus | H101: 24 | J101: =ROUND(I101*H101,2) -> 0 | N101: základní | P101: =O101*H101 -> 0 | Q101: 0 | R101: =Q101*H101 -> 0 | S101: 0 | T101: =S101*H101 -> 0 | AR101: 4 | AT101: K | AU101: 1 | AY101: ROZPOCET | BE101: =IF(N101="základní",J101,0) -> 0 | BF101: =IF(N101="snížená",J101,0) -> 0 | BG101: =IF(N101="zákl. přenesená",J101,0) -> 0 | BH101: =IF(N101="sníž. přenesená",J101,0) -> 0 | BI101: =IF(N101="nulová",J101,0) -> 0 | BJ101: 1 | BK101: =ROUND(I101*H101,2) -> 0 | BL101: 4 | BM101: -1527122442
C102: 6 | D102: K | E102: 712.100.06 | F102: vícevrstvé potrubí 16X2 | G102: m | H102: 700 | J102: =ROUND(I102*H102,2) -> 0 | N102: základní | P102: =O102*H102 -> 0 | Q102: 0 | R102: =Q102*H102 -> 0 | S102: 0 | T102: =S102*H102 -> 0 | AR102: 4 | AT102: K | AU102: 1 | AY102: ROZPOCET | BE102: =IF(N102="základní",J102,0) -> 0 | BF102: =IF(N102="snížená",J102,0) -> 0 | BG102: =IF(N102="zákl. přenesená",J102,0) -> 0 | BH102: =IF(N102="sníž. přenesená",J102,0) -> 0 | BI102: =IF(N102="nulová",J102,0) -> 0 | BJ102: 1 | BK102: =ROUND(I102*H102,2) -> 0 | BL102: 4 | BM102: 516365823
C103: 7 | D103: K | E103: 712.100.07 | F103: Fixační příchytka na potrubí - 75mm, zahnutá | G103: kus | H103: 1600 | J103: =ROUND(I103*H103,2) -> 0 | N103: základní | P103: =O103*H103 -> 0 | Q103: 0 | R103: =Q103*H103 -> 0 | S103: 0 | T103: =S103*H103 -> 0 | AR103: 4 | AT103: K | AU103: 1 | AY103: ROZPOCET | BE103: =IF(N103="základní",J103,0) -> 0 | BF103: =IF(N103="snížená",J103,0) -> 0 | BG103: =IF(N103="zákl. přenesená",J103,0) -> 0 | BH103: =IF(N103="sníž. přenesená",J103,0) -> 0 | BI103: =IF(N103="nulová",J103,0) -> 0 | BJ103: 1 | BK103: =ROUND(I103*H103,2) -> 0 | BL103: 4 | BM103: -1787653962
C104: 8 | D104: K | E104: 712.100.08 | F104: Fólie separační rastrovaná - 0,2x1200mm (100m2) s hliníkovou vrstvou | G104: m2 | H104: 140 | J104: =ROUND(I104*H104,2) -> 0 | N104: základní | P104: =O104*H104 -> 0 | Q104: 0 | R104: =Q104*H104 -> 0 | S104: 0 | T104: =S104*H104 -> 0 | AR104: 4 | AT104: K | AU104: 1 | AY104: ROZPOCET | BE104: =IF(N104="základní",J104,0) -> 0 | BF104: =IF(N104="snížená",J104,0) -> 0 | BG104: =IF(N104="zákl. přenesená",J104,0) -> 0 | BH104: =IF(N104="sníž. přenesená",J104,0) -> 0 | BI104: =IF(N104="nulová",J104,0) -> 0 | BJ104: 1 | BK104: =ROUND(I104*H104,2) -> 0 | BL104: 4 | BM104: 1395796290
C105: 9 | D105: K | E105: 712.100.09 | F105: Metalická páska pro spojování fólií - 55mm x 50m | G105: kus | H105: 4 | J105: =ROUND(I105*H105,2) -> 0 | N105: základní | P105: =O105*H105 -> 0 | Q105: 0 | R105: =Q105*H105 -> 0 | S105: 0 | T105: =S105*H105 -> 0 | AR105: 4 | AT105: K | AU105: 1 | AY105: ROZPOCET | BE105: =IF(N105="základní",J105,0) -> 0 | BF105: =IF(N105="snížená",J105,0) -> 0 | BG105: =IF(N105="zákl. přenesená",J105,0) -> 0 | BH105: =IF(N105="sníž. přenesená",J105,0) -> 0 | BI105: =IF(N105="nulová",J105,0) -> 0 | BJ105: 1 | BK105: =ROUND(I105*H105,2) -> 0 | BL105: 4 | BM105: -284872508
C106: 10 | D106: K | E106: 712.100.10 | F106: Obvodový dilatační pás samolep fólie - 10/160mm | G106: m | H106: 160 | J106: =ROUND(I106*H106,2) -> 0 | N106: základní | P106: =O106*H106 -> 0 | Q106: 0 | R106: =Q106*H106 -> 0 | S106: 0 | T106: =S106*H106 -> 0 | AR106: 4 | AT106: K | AU106: 1 | AY106: ROZPOCET | BE106: =IF(N106="základní",J106,0) -> 0 | BF106: =IF(N106="snížená",J106,0) -> 0 | BG106: =IF(N106="zákl. přenesená",J106,0) -> 0 | BH106: =IF(N106="sníž. přenesená",J106,0) -> 0 | BI106: =IF(N106="nulová",J106,0) -> 0 | BJ106: 1 | BK106: =ROUND(I106*H106,2) -> 0 | BL106: 4 | BM106: -313579951
C107: 11 | D107: K | E107: 712.100.11 | F107: D+M, podlahového vytápění | G107: soubor | H107: 1 | J107: =ROUND(I107*H107,2) -> 0 | N107: základní | P107: =O107*H107 -> 0 | Q107: 0 | R107: =Q107*H107 -> 0 | S107: 0 | T107: =S107*H107 -> 0 | AR107: 4 | AT107: K | AU107: 1 | AY107: ROZPOCET | BE107: =IF(N107="základní",J107,0) -> 0 | BF107: =IF(N107="snížená",J107,0) -> 0 | BG107: =IF(N107="zákl. přenesená",J107,0) -> 0 | BH107: =IF(N107="sníž. přenesená",J107,0) -> 0 | BI107: =IF(N107="nulová",J107,0) -> 0 | BJ107: 1 | BK107: =ROUND(I107*H107,2) -> 0 | BL107: 4 | BM107: -1346179323
C108: 12 | D108: K | E108: 712.100.12 | F108: Přesun hmot pro vnitřní plynovod, výšky do 24 m | G108: kus | H108: 1 | J108: =ROUND(I108*H108,2) -> 0 | N108: základní | P108: =O108*H108 -> 0 | Q108: 0 | R108: =Q108*H108 -> 0 | S108: 0 | T108: =S108*H108 -> 0 | AR108: 4 | AT108: K | AU108: 1 | AY108: ROZPOCET | BE108: =IF(N108="základní",J108,0) -> 0 | BF108: =IF(N108="snížená",J108,0) -> 0 | BG108: =IF(N108="zákl. přenesená",J108,0) -> 0 | BH108: =IF(N108="sníž. přenesená",J108,0) -> 0 | BI108: =IF(N108="nulová",J108,0) -> 0 | BJ108: 1 | BK108: =ROUND(I108*H108,2) -> 0 | BL108: 4 | BM108: 1942407519
D109: D | E109: 713 | F109: Izolace tepelné | J109: =BK109 -> 0 | P109: =SUM(P110:P119) -> 0 | R109: =SUM(R110:R119) -> 0 | T109: =SUM(T110:T119) -> 0 | AR109: 1 | AT109: D | AU109: 0 | AY109: ROZPOCET | BK109: =SUM(BK110:BK119) -> 0
C110: 10 | D110: K | E110: 713-11 | F110: Mtž izolace potrubí Cu / PE do DN 28 | G110: m | H110: 260 | J110: =ROUND(I110*H110,2) -> 0 | N110: základní | P110: =O110*H110 -> 0 | Q110: 0 | R110: =Q110*H110 -> 0 | S110: 0 | T110: =S110*H110 -> 0 | AR110: 4 | AT110: K | AU110: 1 | AY110: ROZPOCET | BE110: =IF(N110="základní",J110,0) -> 0 | BF110: =IF(N110="snížená",J110,0) -> 0 | BG110: =IF(N110="zákl. přenesená",J110,0) -> 0 | BH110: =IF(N110="sníž. přenesená",J110,0) -> 0 | BI110: =IF(N110="nulová",J110,0) -> 0 | BJ110: 1 | BK110: =ROUND(I110*H110,2) -> 0 | BL110: 4 | BM110: 1077594550
C111: 11 | D111: K | E111: 713-12 | F111: Trubice IZOLAČNÍ PRO tl. stěny 20 mm, vnitřní průměr 15 mm | G111: m | H111: 310 | J111: =ROUND(I111*H111,2) -> 0 | N111: základní | P111: =O111*H111 -> 0 | Q111: 0 | R111: =Q111*H111 -> 0 | S111: 0 | T111: =S111*H111 -> 0 | AR111: 4 | AT111: K | AU111: 1 | AY111: ROZPOCET | BE111: =IF(N111="základní",J111,0) -> 0 | BF111: =IF(N111="snížená",J111,0) -> 0 | BG111: =IF(N111="zákl. přenesená",J111,0) -> 0 | BH111: =IF(N111="sníž. přenesená",J111,0) -> 0 | BI111: =IF(N111="nulová",J111,0) -> 0 | BJ111: 1 | BK111: =ROUND(I111*H111,2) -> 0 | BL111: 4 | BM111: 1987551796
C112: 12 | D112: K | E112: 713-13 | F112: Trubice IZOLAČNÍ PRO tl. stěny 6 mm, vnitřní průměr 18 mm | G112: m | H112: 22 | J112: =ROUND(I112*H112,2) -> 0 | N112: základní | P112: =O112*H112 -> 0 | Q112: 0 | R112: =Q112*H112 -> 0 | S112: 0 | T112: =S112*H112 -> 0 | AR112: 4 | AT112: K | AU112: 1 | AY112: ROZPOCET | BE112: =IF(N112="základní",J112,0) -> 0 | BF112: =IF(N112="snížená",J112,0) -> 0 | BG112: =IF(N112="zákl. přenesená",J112,0) -> 0 | BH112: =IF(N112="sníž. přenesená",J112,0) -> 0 | BI112: =IF(N112="nulová",J112,0) -> 0 | BJ112: 1 | BK112: =ROUND(I112*H112,2) -> 0 | BL112: 4 | BM112: 1122991066
C113: 13 | D113: K | E113: 713-14 | F113: Trubice IZOLAČNÍ PRO tl. stěny 20 mm, vnitřní průměr 18 mm | G113: m | H113: 80 | J113: =ROUND(I113*H113,2) -> 0 | N113: základní | P113: =O113*H113 -> 0 | Q113: 0 | R113: =Q113*H113 -> 0 | S113: 0 | T113: =S113*H113 -> 0 | AR113: 4 | AT113: K | AU113: 1 | AY113: ROZPOCET | BE113: =IF(N113="základní",J113,0) -> 0 | BF113: =IF(N113="snížená",J113,0) -> 0 | BG113: =IF(N113="zákl. přenesená",J113,0) -> 0 | BH113: =IF(N113="sníž. přenesená",J113,0) -> 0 | BI113: =IF(N113="nulová",J113,0) -> 0 | BJ113: 1 | BK113: =ROUND(I113*H113,2) -> 0 | BL113: 4 | BM113: 1785492989
C114: 14 | D114: K | E114: 713-15 | F114: Trubice IZOLAČNÍ PRO tl. Stěny 20 mm, vnitřní průměr 22 mm | G114: m | H114: 20 | J114: =ROUND(I114*H114,2) -> 0 | N114: základní | P114: =O114*H114 -> 0 | Q114: 0 | R114: =Q114*H114 -> 0 | S114: 0 | T114: =S114*H114 -> 0 | AR114: 4 | AT114: K | AU114: 1 | AY114: ROZPOCET | BE114: =IF(N114="základní",J114,0) -> 0 | BF114: =IF(N114="snížená",J114,0) -> 0 | BG114: =IF(N114="zákl. přenesená",J114,0) -> 0 | BH114: =IF(N114="sníž. přenesená",J114,0) -> 0 | BI114: =IF(N114="nulová",J114,0) -> 0 | BJ114: 1 | BK114: =ROUND(I114*H114,2) -> 0 | BL114: 4 | BM114: 202320257
C115: 15 | D115: K | E115: 713-16 | F115: Trubice IZOLAČNÍ PRO tl. Stěny 25 mm, vnitřní průměr 28 mm | G115: m | H115: 60 | J115: =ROUND(I115*H115,2) -> 0 | N115: základní | P115: =O115*H115 -> 0 | Q115: 0 | R115: =Q115*H115 -> 0 | S115: 0 | T115: =S115*H115 -> 0 | AR115: 4 | AT115: K | AU115: 1 | AY115: ROZPOCET | BE115: =IF(N115="základní",J115,0) -> 0 | BF115: =IF(N115="snížená",J115,0) -> 0 | BG115: =IF(N115="zákl. přenesená",J115,0) -> 0 | BH115: =IF(N115="sníž. přenesená",J115,0) -> 0 | BI115: =IF(N115="nulová",J115,0) -> 0 | BJ115: 1 | BK115: =ROUND(I115*H115,2) -> 0 | BL115: 4 | BM115: -2036514483
C116: 16 | D116: K | E116: 713-17 | F116: Mtž izolace potrubí Cu / PE do DN 45 | G116: m | H116: 40 | J116: =ROUND(I116*H116,2) -> 0 | N116: základní | P116: =O116*H116 -> 0 | Q116: 0 | R116: =Q116*H116 -> 0 | S116: 0 | T116: =S116*H116 -> 0 | AR116: 4 | AT116: K | AU116: 1 | AY116: ROZPOCET | BE116: =IF(N116="základní",J116,0) -> 0 | BF116: =IF(N116="snížená",J116,0) -> 0 | BG116: =IF(N116="zákl. přenesená",J116,0) -> 0 | BH116: =IF(N116="sníž. přenesená",J116,0) -> 0 | BI116: =IF(N116="nulová",J116,0) -> 0 | BJ116: 1 | BK116: =ROUND(I116*H116,2) -> 0 | BL116: 4 | BM116: -708530857
C117: 17 | D117: K | E117: 713-18 | F117: Trubice IZOLAČNÍ PRO tl. Stěny 25 mm, vnitřní průměr 32 mm | G117: m | H117: 30 | J117: =ROUND(I117*H117,2) -> 0 | N117: základní | P117: =O117*H117 -> 0 | Q117: 0 | R117: =Q117*H117 -> 0 | S117: 0 | T117: =S117*H117 -> 0 | AR117: 4 | AT117: K | AU117: 1 | AY117: ROZPOCET | BE117: =IF(N117="základní",J117,0) -> 0 | BF117: =IF(N117="snížená",J117,0) -> 0 | BG117: =IF(N117="zákl. přenesená",J117,0) -> 0 | BH117: =IF(N117="sníž. přenesená",J117,0) -> 0 | BI117: =IF(N117="nulová",J117,0) -> 0 | BJ117: 1 | BK117: =ROUND(I117*H117,2) -> 0 | BL117: 4 | BM117: 233711965
C118: 18 | D118: K | E118: 713-19 | F118: Trubice IZOLAČNÍ PRO tl. Stěny 25 mm, vnitřní průměr 45 mm | G118: m | H118: 10 | J118: =ROUND(I118*H118,2) -> 0 | N118: základní | P118: =O118*H118 -> 0 | Q118: 0 | R118: =Q118*H118 -> 0 | S118: 0 | T118: =S118*H118 -> 0 | AR118: 4 | AT118: K | AU118: 1 | AY118: ROZPOCET | BE118: =IF(N118="základní",J118,0) -> 0 | BF118: =IF(N118="snížená",J118,0) -> 0 | BG118: =IF(N118="zákl. přenesená",J118,0) -> 0 | BH118: =IF(N118="sníž. přenesená",J118,0) -> 0 | BI118: =IF(N118="nulová",J118,0) -> 0 | BJ118: 1 | BK118: =ROUND(I118*H118,2) -> 0 | BL118: 4 | BM118: 2131913214
C119: 19 | D119: K | E119: 998 71-3202.R00 | F119: Přesun hmot pro izolace tepelné, výšky do 12 m | G119: kus | H119: 1 | J119: =ROUND(I119*H119,2) -> 0 | N119: základní | P119: =O119*H119 -> 0 | Q119: 0 | R119: =Q119*H119 -> 0 | S119: 0 | T119: =S119*H119 -> 0 | AR119: 4 | AT119: K | AU119: 1 | AY119: ROZPOCET | BE119: =IF(N119="základní",J119,0) -> 0 | BF119: =IF(N119="snížená",J119,0) -> 0 | BG119: =IF(N119="zákl. přenesená",J119,0) -> 0 | BH119: =IF(N119="sníž. přenesená",J119,0) -> 0 | BI119: =IF(N119="nulová",J119,0) -> 0 | BJ119: 1 | BK119: =ROUND(I119*H119,2) -> 0 | BL119: 4 | BM119: 943322737
D120: D | E120: 731 | F120: Strojovny I. | J120: =BK120 -> 0 | P120: =SUM(P121:P133) -> 0 | R120: =SUM(R121:R133) -> 0 | T120: =SUM(T121:T133) -> 0 | AR120: 1 | AT120: D | AU120: 0 | AY120: ROZPOCET | BK120: =SUM(BK121:BK133) -> 0
C121: 21 | D121: K | E121: 731.100.01 | F121: Montáž kotle ocel.teplov.,plyn., do 30kW | G121: soubor | H121: 2 | J121: =ROUND(I121*H121,2) -> 0 | N121: základní | P121: =O121*H121 -> 0 | Q121: 0 | R121: =Q121*H121 -> 0 | S121: 0 | T121: =S121*H121 -> 0 | AR121: 4 | AT121: K | AU121: 1 | AY121: ROZPOCET | BE121: =IF(N121="základní",J121,0) -> 0 | BF121: =IF(N121="snížená",J121,0) -> 0 | BG121: =IF(N121="zákl. přenesená",J121,0) -> 0 | BH121: =IF(N121="sníž. přenesená",J121,0) -> 0 | BI121: =IF(N121="nulová",J121,0) -> 0 | BJ121: 1 | BK121: =ROUND(I121*H121,2) -> 0 | BL121: 4 | BM121: 1982120115
C122: 22 | D122: K | E122: 731.100.02 | F122: PKK pro vytápění a ohřev TV nepřímotopným zásobníkem o výkonu Q=6,75 až 36,05kW (28kW) s vestavěným přepínacím trojcestným ventilem | G122: kpl | H122: 2 | J122: =ROUND(I122*H122,2) -> 0 | N122: základní | P122: =O122*H122 -> 0 | Q122: 0 | R122: =Q122*H122 -> 0 | S122: 0 | T122: =S122*H122 -> 0 | AR122: 4 | AT122: K | AU122: 1 | AY122: ROZPOCET | BE122: =IF(N122="základní",J122,0) -> 0 | BF122: =IF(N122="snížená",J122,0) -> 0 | BG122: =IF(N122="zákl. přenesená",J122,0) -> 0 | BH122: =IF(N122="sníž. přenesená",J122,0) -> 0 | BI122: =IF(N122="nulová",J122,0) -> 0 | BJ122: 1 | BK122: =ROUND(I122*H122,2) -> 0 | BL122: 4 | BM122: 590786410
C123: 23 | D123: K | E123: 731.100.03 | F123: Montáž odkouření a přívodu spalovacího vzduchu | G123: soubor | H123: 2 | J123: =ROUND(I123*H123,2) -> 0 | N123: základní | P123: =O123*H123 -> 0 | Q123: 0 | R123: =Q123*H123 -> 0 | S123: 0 | T123: =S123*H123 -> 0 | AR123: 4 | AT123: K | AU123: 1 | AY123: ROZPOCET | BE123: =IF(N123="základní",J123,0) -> 0 | BF123: =IF(N123="snížená",J123,0) -> 0 | BG123: =IF(N123="zákl. přenesená",J123,0) -> 0 | BH123: =IF(N123="sníž. přenesená",J123,0) -> 0 | BI123: =IF(N123="nulová",J123,0) -> 0 | BJ123: 1 | BK123: =ROUND(I123*H123,2) -> 0 | BL123: 4 | BM123: -1976798292
C124: 24 | D124: K | E124: 731.100.04 | F124: Odkouření, dělený systém, adaptér 80/80 pro kotle do 45 kW | G124: ks | H124: 2 | J124: =ROUND(I124*H124,2) -> 0 | N124: základní | P124: =O124*H124 -> 0 | Q124: 0 | R124: =Q124*H124 -> 0 | S124: 0 | T124: =S124*H124 -> 0 | AR124: 4 | AT124: K | AU124: 1 | AY124: ROZPOCET | BE124: =IF(N124="základní",J124,0) -> 0 | BF124: =IF(N124="snížená",J124,0) -> 0 | BG124: =IF(N124="zákl. přenesená",J124,0) -> 0 | BH124: =IF(N124="sníž. přenesená",J124,0) -> 0 | BI124: =IF(N124="nulová",J124,0) -> 0 | BJ124: 1 | BK124: =ROUND(I124*H124,2) -> 0 | BL124: 4 | BM124: 1246611815
C125: 25 | D125: K | E125: 731.100.05 | F125: Spalinová cesta PP, O80, koleno 45° (1ks), koleno 87° (1ks), koleno s čistícím otvorem 87°(1ks), prodlužovací trubka (7bm), držáky odstupu (8ks), ukončovací kryt komínu (1kpl) | G125: kpl | H125: 2 | J125: =ROUND(I125*H125,2) -> 0 | N125: základní | P125: =O125*H125 -> 0 | Q125: 0 | R125: =Q125*H125 -> 0 | S125: 0 | T125: =S125*H125 -> 0 | AR125: 4 | AT125: K | AU125: 1 | AY125: ROZPOCET | BE125: =IF(N125="základní",J125,0) -> 0 | BF125: =IF(N125="snížená",J125,0) -> 0 | BG125: =IF(N125="zákl. přenesená",J125,0) -> 0 | BH125: =IF(N125="sníž. přenesená",J125,0) -> 0 | BI125: =IF(N125="nulová",J125,0) -> 0 | BJ125: 1 | BK125: =ROUND(I125*H125,2) -> 0 | BL125: 4 | BM125: 716408750
C126: 26 | D126: K | E126: 731.100.06 | F126: Sání spalovacího vzduchu, nerez, O80, prodlužovací trubka (3bm), ukončovací sada fasádní (1kpl), T-kus 80/80/80 (1ks), koleno 87° (2ks), koleno 45° (1ks) | G126: kpl | H126: 1 | J126: =ROUND(I126*H126,2) -> 0 | N126: základní | P126: =O126*H126 -> 0 | Q126: 0 | R126: =Q126*H126 -> 0 | S126: 0 | T126: =S126*H126 -> 0 | AR126: 4 | AT126: K | AU126: 1 | AY126: ROZPOCET | BE126: =IF(N126="základní",J126,0) -> 0 | BF126: =IF(N126="snížená",J126,0) -> 0 | BG126: =IF(N126="zákl. přenesená",J126,0) -> 0 | BH126: =IF(N126="sníž. přenesená",J126,0) -> 0 | BI126: =IF(N126="nulová",J126,0) -> 0 | BJ126: 1 | BK126: =ROUND(I126*H126,2) -> 0 | BL126: 4 | BM126: 223929889
C127: 27 | D127: K | E127: 731.100.07 | F127: Tlaková membránová expanzní nádoba NG 50/6 | G127: ks | H127: 1 | J127: =ROUND(I127*H127,2) -> 0 | N127: základní | P127: =O127*H127 -> 0 | Q127: 0 | R127: =Q127*H127 -> 0 | S127: 0 | T127: =S127*H127 -> 0 | AR127: 4 | AT127: K | AU127: 1 | AY127: ROZPOCET | BE127: =IF(N127="základní",J127,0) -> 0 | BF127: =IF(N127="snížená",J127,0) -> 0 | BG127: =IF(N127="zákl. přenesená",J127,0) -> 0 | BH127: =IF(N127="sníž. přenesená",J127,0) -> 0 | BI127: =IF(N127="nulová",J127,0) -> 0 | BJ127: 1 | BK127: =ROUND(I127*H127,2) -> 0 | BL127: 4 | BM127: 1170293092
C128: 28 | D128: K | E128: 731.100.08 | F128: Hydraulický vyrovnávač dyn. tlaku , max. průtok 4000 kg/h | G128: ks | H128: 1 | J128: =ROUND(I128*H128,2) -> 0 | N128: základní | P128: =O128*H128 -> 0 | Q128: 0 | R128: =Q128*H128 -> 0 | S128: 0 | T128: =S128*H128 -> 0 | AR128: 4 | AT128: K | AU128: 1 | AY128: ROZPOCET | BE128: =IF(N128="základní",J128,0) -> 0 | BF128: =IF(N128="snížená",J128,0) -> 0 | BG128: =IF(N128="zákl. přenesená",J128,0) -> 0 | BH128: =IF(N128="sníž. přenesená",J128,0) -> 0 | BI128: =IF(N128="nulová",J128,0) -> 0 | BJ128: 1 | BK128: =ROUND(I128*H128,2) -> 0 | BL128: 4 | BM128: -1931813194
C129: 29 | D129: K | E129: 731.100.09 | F129: Mokroběžné oběhové čerpadlo 25-80 130 | G129: ks | H129: 1 | J129: =ROUND(I129*H129,2) -> 0 | N129: základní | P129: =O129*H129 -> 0 | Q129: 0 | R129: =Q129*H129 -> 0 | S129: 0 | T129: =S129*H129 -> 0 | AR129: 4 | AT129: K | AU129: 1 | AY129: ROZPOCET | BE129: =IF(N129="základní",J129,0) -> 0 | BF129: =IF(N129="snížená",J129,0) -> 0 | BG129: =IF(N129="zákl. přenesená",J129,0) -> 0 | BH129: =IF(N129="sníž. přenesená",J129,0) -> 0 | BI129: =IF(N129="nulová",J129,0) -> 0 | BJ129: 1 | BK129: =ROUND(I129*H129,2) -> 0 | BL129: 4 | BM129: 2020721511
C130: 30 | D130: K | E130: 731.100.10 | F130: Mokroběžné oběhové čerpadlo 25-40 130 | G130: ks | H130: 1 | J130: =ROUND(I130*H130,2) -> 0 | N130: základní | P130: =O130*H130 -> 0 | Q130: 0 | R130: =Q130*H130 -> 0 | S130: 0 | T130: =S130*H130 -> 0 | AR130: 4 | AT130: K | AU130: 1 | AY130: ROZPOCET | BE130: =IF(N130="základní",J130,0) -> 0 | BF130: =IF(N130="snížená",J130,0) -> 0 | BG130: =IF(N130="zákl. přenesená",J130,0) -> 0 | BH130: =IF(N130="sníž. přenesená",J130,0) -> 0 | BI130: =IF(N130="nulová",J130,0) -> 0 | BJ130: 1 | BK130: =ROUND(I130*H130,2) -> 0 | BL130: 4 | BM130: 617202894
...

Sheet D.1.4.4 - Měření a regulace
D1: List obsahuje: | F1: 1) Krycí list soupisu | G1: 2) Rekapitulace | J1: 3) Soupis prací | K1: Zpět na list: | L1: Rekapitulace stavby
AT2: {cc52c750-9d41-4603-83f8-91cb7cf7b785}
AT3: 2
D4: KRYCÍ LIST SOUPISU | M4: v --- níže se nacházejí doplnkové a pomocné údaje k sestavám --- v | AT4: False
D6: Stavba:
E7: ='Rekapitulace stavby'!K6 -> CENTRUM SPOLEČNÝCH AKTIVIT JESENÍK
D8: Objekt:
E9: SO 01 - CENTRUM SPOLEČNÝCH AKTIVIT
D10: Soupis:
E11: D.1.4 - Technika prostředí budov
D12: Úroveň 3:
E13: D.1.4.4 - Měření a regulace
D15: KSO: | I15: CC-CZ:
D16: Místo: | F16: Jeseník | I16: Datum: | J16: ='Rekapitulace stavby'!AN8 -> 11.10.2016
D18: Zadavatel: | I18: IČ:
E19: MĚSTO JESENÍK | I19: DIČ:
D21: Uchazeč: | I21: IČ: | J21: =IF('Rekapitulace stavby'!AN13="Vyplň údaj","",IF('Rekapitulace stavby'!AN13="","",'Rekapitulace stavby'!AN13))
E22: =IF('Rekapitulace stavby'!E14="Vyplň údaj","",IF('Rekapitulace stavby'!E14="","",'Rekapitulace stavby'!E14)) | I22: DIČ: | J22: =IF('Rekapitulace stavby'!AN14="Vyplň údaj","",IF('Rekapitulace stavby'!AN14="","",'Rekapitulace stavby'!AN14))
D24: Projektant: | I24: IČ:
E25: KANIA a.s. , Ostrava | I25: DIČ:
D27: Poznámka:
E28: Soupis prací je sestaven za využití položek Cenové soustavy ÚRS. Cenové a technické podmínky položek CS ÚRS, které nejsou uvedeny v soupisu prací (tzv. úvodní části katalogů) jsou neomezeně dálkově k dispozici na www.cs-urs.cz. Položky soupisu prací, které nemají ve sloupci „Cenová soustava“ uveden žádný údaj, nepochází z Cenové soustavy ÚRS (takové položky soupisu prací mají Cenovou soustavu „VLASTNÍ“). Ocenění "vlastní" položky:na základě odborných znalostí a zkušeností projektanta při realizaci obdobných zakázek za období 5-ti let. nebo na základě cen v místě a čase obvyklých). Nedílnou součástí soupisu prací je projektová dokumentace vč. textových příloh, na kterou se položky soupisu prací plně odkazují.
D31: Cena bez DPH | J31: =ROUND(J93,2) -> 0
F33: Základ daně | I33: Sazba daně | J33: Výše daně
D34: DPH | E34: základní | F34: =ROUND(SUM(BE93:BE169), 2) -> 0 | I34: 0.21 | J34: =ROUND(ROUND((SUM(BE93:BE169)), 2)*I34, 2) -> 0
E35: snížená | F35: =ROUND(SUM(BF93:BF169), 2) -> 0 | I35: 0.15 | J35: =ROUND(ROUND((SUM(BF93:BF169)), 2)*I35, 2) -> 0
E36: zákl. přenesená | F36: =ROUND(SUM(BG93:BG169), 2) -> 0 | I36: 0.21 | J36: 0
E37: sníž. přenesená | F37: =ROUND(SUM(BH93:BH169), 2) -> 0 | I37: 0.15 | J37: 0
E38: nulová | F38: =ROUND(SUM(BI93:BI169), 2) -> 0 | I38: 0 | J38: 0
D40: Cena s DPH | G40: v | H40: CZK | J40: =SUM(J31:J38) -> 0
C46: REKAPITULACE ČLENĚNÍ SOUPISU PRACÍ
C48: Stavba:
E49: =E7 -> CENTRUM SPOLEČNÝCH AKTIVIT JESENÍK
C50: Objekt:
E51: SO 01 - CENTRUM SPOLEČNÝCH AKTIVIT
C52: Soupis:
E53: D.1.4 - Technika prostředí budov
C54: Úroveň 3:
E55: =E13 -> D.1.4.4 - Měření a regulace
C57: Místo: | F57: =F16 -> Jeseník | I57: Datum: | J57: =IF(J16="","",J16) -> 11.10.2016
C59: Zadavatel: | F59: =E19 -> MĚSTO JESENÍK | I59: Projektant: | J59: =E25 -> KANIA a.s. , Ostrava
C60: Uchazeč: | F60: =IF(E22="","",E22)
C62: Kód dílu - Popis | J62: Cena celkem [CZK]
C64: Náklady soupisu celkem | J64: =J93 -> 0 | AU64: -1
D65: D1 - Dodávky polní instrumentace | J65: =J97 -> 0
D66: D2 - Rozvaděč MaR RA-1 | J66: =J110 -> 0
D67: D3 - Elektromontážní materiál | J67: =J132 -> 0
D68: D4 - Montážní práce a služby | J68: =J147 -> 0
D69: D5 - Služby k řídícímu systému | J69: =J165 -> 0
C76: SOUPIS PRACÍ
C78: Stavba:
E79: =E7 -> CENTRUM SPOLEČNÝCH AKTIVIT JESENÍK
C80: Objekt:
E81: SO 01 - CENTRUM SPOLEČNÝCH AKTIVIT
C82: Soupis:
E83: D.1.4 - Technika prostředí budov
C84: Úroveň 3:
E85: =E13 -> D.1.4.4 - Měření a regulace
C87: Místo: | F87: =F16 -> Jeseník | I87: Datum: | J87: =IF(J16="","",J16) -> 11.10.2016
C89: Zadavatel: | F89: =E19 -> MĚSTO JESENÍK | I89: Projektant: | J89: =E25 -> KANIA a.s. , Ostrava
C90: Uchazeč: | F90: =IF(E22="","",E22)
C92: PČ | D92: Typ | E92: Kód | F92: Popis | G92: MJ | H92: Množství | I92: J.cena [CZK] | J92: Cena celkem [CZK] | K92: Cenová soustava | M92: Poznámka | N92: DPH | O92: J. Nh [h] | P92: Nh celkem [h] | Q92: J. hmotnost_x000D_ [t] | R92: Hmotnost_x000D_ celkem [t] | S92: J. suť [t] | T92: Suť Celkem [t]
C93: Náklady soupisu celkem | J93: =BK93 -> 0 | P93: =P94+SUM(P95:P97)+P110+P132+P147+P165 -> 0 | R93: =R94+SUM(R95:R97)+R110+R132+R147+R165 -> 0 | T93: =T94+SUM(T95:T97)+T110+T132+T147+T165 -> 0 | AT93: D | AU93: -1 | BK93: =BK94+SUM(BK95:BK97)+BK110+BK132+BK147+BK165 -> 0
C94: 1 | D94: K | E94: D20-1 | F94: Základní řídicí jednotka AI8,DI8,DO8,AO4,RS232,RS485 | G94: ks | H94: 1 | J94: =ROUND(I94*H94,2) -> 0 | N94: základní | P94: =O94*H94 -> 0 | Q94: 0 | R94: =Q94*H94 -> 0 | S94: 0 | T94: =S94*H94 -> 0 | AR94: 4 | AT94: K | AU94: 0 | AY94: ROZPOCET | BE94: =IF(N94="základní",J94,0) -> 0 | BF94: =IF(N94="snížená",J94,0) -> 0 | BG94: =IF(N94="zákl. přenesená",J94,0) -> 0 | BH94: =IF(N94="sníž. přenesená",J94,0) -> 0 | BI94: =IF(N94="nulová",J94,0) -> 0 | BJ94: 1 | BK94: =ROUND(I94*H94,2) -> 0 | BL94: 4 | BM94: -80091725
D95: P | F95: Poznámka k položce: Integrovaný webový server, LCD displej 122x32 bodů,klávesnice | AT95: P | AU95: 0
C96: 2 | D96: K | E96: D20-2 | F96: Spínaný zdroj 24V/1.2A (0..+50°C) | G96: ks | H96: 1 | J96: =ROUND(I96*H96,2) -> 0 | N96: základní | P96: =O96*H96 -> 0 | Q96: 0 | R96: =Q96*H96 -> 0 | S96: 0 | T96: =S96*H96 -> 0 | AR96: 4 | AT96: K | AU96: 0 | AY96: ROZPOCET | BE96: =IF(N96="základní",J96,0) -> 0 | BF96: =IF(N96="snížená",J96,0) -> 0 | BG96: =IF(N96="zákl. přenesená",J96,0) -> 0 | BH96: =IF(N96="sníž. přenesená",J96,0) -> 0 | BI96: =IF(N96="nulová",J96,0) -> 0 | BJ96: 1 | BK96: =ROUND(I96*H96,2) -> 0 | BL96: 4 | BM96: 1937081006
D97: D | E97: D1 | F97: Dodávky polní instrumentace | J97: =BK97 -> 0 | P97: =SUM(P98:P109) -> 0 | R97: =SUM(R98:R109) -> 0 | T97: =SUM(T98:T109) -> 0 | AR97: 1 | AT97: D | AU97: 0 | AY97: ROZPOCET | BK97: =SUM(BK98:BK109) -> 0
C98: 3 | D98: K | E98: D22-1 | F98: Snímač teploty venkovní Ni1000/5000ppm | G98: ks | H98: 1 | J98: =ROUND(I98*H98,2) -> 0 | N98: základní | P98: =O98*H98 -> 0 | Q98: 0 | R98: =Q98*H98 -> 0 | S98: 0 | T98: =S98*H98 -> 0 | AR98: 4 | AT98: K | AU98: 1 | AY98: ROZPOCET | BE98: =IF(N98="základní",J98,0) -> 0 | BF98: =IF(N98="snížená",J98,0) -> 0 | BG98: =IF(N98="zákl. přenesená",J98,0) -> 0 | BH98: =IF(N98="sníž. přenesená",J98,0) -> 0 | BI98: =IF(N98="nulová",J98,0) -> 0 | BJ98: 1 | BK98: =ROUND(I98*H98,2) -> 0 | BL98: 4 | BM98: 544935456
C99: 4 | D99: K | E99: D22-2 | F99: Snímač teploty příložný Ni11000/5000ppm | G99: ks | H99: 2 | J99: =ROUND(I99*H99,2) -> 0 | N99: základní | P99: =O99*H99 -> 0 | Q99: 0 | R99: =Q99*H99 -> 0 | S99: 0 | T99: =S99*H99 -> 0 | AR99: 4 | AT99: K | AU99: 1 | AY99: ROZPOCET | BE99: =IF(N99="základní",J99,0) -> 0 | BF99: =IF(N99="snížená",J99,0) -> 0 | BG99: =IF(N99="zákl. přenesená",J99,0) -> 0 | BH99: =IF(N99="sníž. přenesená",J99,0) -> 0 | BI99: =IF(N99="nulová",J99,0) -> 0 | BJ99: 1 | BK99: =ROUND(I99*H99,2) -> 0 | BL99: 4 | BM99: 2040129168
C100: 5 | D100: K | E100: D22-3 | F100: Snímač tlaku pro plyny a kapaliny 0-6 bar 0-10V 4-20mA | G100: ks | H100: 1 | J100: =ROUND(I100*H100,2) -> 0 | N100: základní | P100: =O100*H100 -> 0 | Q100: 0 | R100: =Q100*H100 -> 0 | S100: 0 | T100: =S100*H100 -> 0 | AR100: 4 | AT100: K | AU100: 1 | AY100: ROZPOCET | BE100: =IF(N100="základní",J100,0) -> 0 | BF100: =IF(N100="snížená",J100,0) -> 0 | BG100: =IF(N100="zákl. přenesená",J100,0) -> 0 | BH100: =IF(N100="sníž. přenesená",J100,0) -> 0 | BI100: =IF(N100="nulová",J100,0) -> 0 | BJ100: 1 | BK100: =ROUND(I100*H100,2) -> 0 | BL100: 4 | BM100: -1206002265
C101: 6 | D101: K | E101: D22-4 | F101: Dvoustupňový detektor úníku hořlavých plynů | G101: ks | H101: 1 | J101: =ROUND(I101*H101,2) -> 0 | N101: základní | P101: =O101*H101 -> 0 | Q101: 0 | R101: =Q101*H101 -> 0 | S101: 0 | T101: =S101*H101 -> 0 | AR101: 4 | AT101: K | AU101: 1 | AY101: ROZPOCET | BE101: =IF(N101="základní",J101,0) -> 0 | BF101: =IF(N101="snížená",J101,0) -> 0 | BG101: =IF(N101="zákl. přenesená",J101,0) -> 0 | BH101: =IF(N101="sníž. přenesená",J101,0) -> 0 | BI101: =IF(N101="nulová",J101,0) -> 0 | BJ101: 1 | BK101: =ROUND(I101*H101,2) -> 0 | BL101: 4 | BM101: -2056475457
D102: P | F102: Poznámka k položce: Detekuje všechny typy hořlavých plynů (zemní plyn, svítiplyn, propan,; butan, acetylén, vodík, atd.) a reaguje ve dvou úrovních koncentrace. Napájení za sítě 230V stř.; Napájení za sítě 230V stř. | AT102: P | AU102: 1
C103: 7 | D103: K | E103: D22-5 | F103: Detektor CO oxid uhelnatý Přepínacích relé max:250V;2A, objemu | G103: ks | H103: 1 | J103: =ROUND(I103*H103,2) -> 0 | N103: základní | P103: =O103*H103 -> 0 | Q103: 0 | R103: =Q103*H103 -> 0 | S103: 0 | T103: =S103*H103 -> 0 | AR103: 4 | AT103: K | AU103: 1 | AY103: ROZPOCET | BE103: =IF(N103="základní",J103,0) -> 0 | BF103: =IF(N103="snížená",J103,0) -> 0 | BG103: =IF(N103="zákl. přenesená",J103,0) -> 0 | BH103: =IF(N103="sníž. přenesená",J103,0) -> 0 | BI103: =IF(N103="nulová",J103,0) -> 0 | BJ103: 1 | BK103: =ROUND(I103*H103,2) -> 0 | BL103: 4 | BM103: -2047131658
D104: P | F104: Poznámka k položce: metan 0,5 %;1,0 % objemu (10%;20%DMV), propan 0,18% ;0,36 % ; (10%;20%DMV),CO 65ppm;130ppm. Detekovaný plyn CO oxid uhelnatý !!! | AT104: P | AU104: 1
C105: 8 | D105: K | E105: D22-6 | F105: Snimač zaplavení-plovák | G105: ks | H105: 1 | J105: =ROUND(I105*H105,2) -> 0 | N105: základní | P105: =O105*H105 -> 0 | Q105: 0 | R105: =Q105*H105 -> 0 | S105: 0 | T105: =S105*H105 -> 0 | AR105: 4 | AT105: K | AU105: 1 | AY105: ROZPOCET | BE105: =IF(N105="základní",J105,0) -> 0 | BF105: =IF(N105="snížená",J105,0) -> 0 | BG105: =IF(N105="zákl. přenesená",J105,0) -> 0 | BH105: =IF(N105="sníž. přenesená",J105,0) -> 0 | BI105: =IF(N105="nulová",J105,0) -> 0 | BJ105: 1 | BK105: =ROUND(I105*H105,2) -> 0 | BL105: 4 | BM105: 1394795710
C106: 9 | D106: K | E106: D22-7 | F106: Termostat prostoru 0-40stC | G106: ks | H106: 1 | J106: =ROUND(I106*H106,2) -> 0 | N106: základní | P106: =O106*H106 -> 0 | Q106: 0 | R106: =Q106*H106 -> 0 | S106: 0 | T106: =S106*H106 -> 0 | AR106: 4 | AT106: K | AU106: 1 | AY106: ROZPOCET | BE106: =IF(N106="základní",J106,0) -> 0 | BF106: =IF(N106="snížená",J106,0) -> 0 | BG106: =IF(N106="zákl. přenesená",J106,0) -> 0 | BH106: =IF(N106="sníž. přenesená",J106,0) -> 0 | BI106: =IF(N106="nulová",J106,0) -> 0 | BJ106: 1 | BK106: =ROUND(I106*H106,2) -> 0 | BL106: 4 | BM106: 1125101985
C107: 10 | D107: K | E107: D22-8 | F107: GSM modul | G107: ks | H107: 1 | J107: =ROUND(I107*H107,2) -> 0 | N107: základní | P107: =O107*H107 -> 0 | Q107: 0 | R107: =Q107*H107 -> 0 | S107: 0 | T107: =S107*H107 -> 0 | AR107: 4 | AT107: K | AU107: 1 | AY107: ROZPOCET | BE107: =IF(N107="základní",J107,0) -> 0 | BF107: =IF(N107="snížená",J107,0) -> 0 | BG107: =IF(N107="zákl. přenesená",J107,0) -> 0 | BH107: =IF(N107="sníž. přenesená",J107,0) -> 0 | BI107: =IF(N107="nulová",J107,0) -> 0 | BJ107: 1 | BK107: =ROUND(I107*H107,2) -> 0 | BL107: 4 | BM107: -188730833
C108: 11 | D108: K | E108: D22-9 | F108: Náhhradní baterie pro GSM modul | G108: ks | H108: 1 | J108: =ROUND(I108*H108,2) -> 0 | N108: základní | P108: =O108*H108 -> 0 | Q108: 0 | R108: =Q108*H108 -> 0 | S108: 0 | T108: =S108*H108 -> 0 | AR108: 4 | AT108: K | AU108: 1 | AY108: ROZPOCET | BE108: =IF(N108="základní",J108,0) -> 0 | BF108: =IF(N108="snížená",J108,0) -> 0 | BG108: =IF(N108="zákl. přenesená",J108,0) -> 0 | BH108: =IF(N108="sníž. přenesená",J108,0) -> 0 | BI108: =IF(N108="nulová",J108,0) -> 0 | BJ108: 1 | BK108: =ROUND(I108*H108,2) -> 0 | BL108: 4 | BM108: 1714942455
C109: 12 | D109: K | E109: D22-10 | F109: Centrál Stop | G109: ks | H109: 1 | J109: =ROUND(I109*H109,2) -> 0 | N109: základní | P109: =O109*H109 -> 0 | Q109: 0 | R109: =Q109*H109 -> 0 | S109: 0 | T109: =S109*H109 -> 0 | AR109: 4 | AT109: K | AU109: 1 | AY109: ROZPOCET | BE109: =IF(N109="základní",J109,0) -> 0 | BF109: =IF(N109="snížená",J109,0) -> 0 | BG109: =IF(N109="zákl. přenesená",J109,0) -> 0 | BH109: =IF(N109="sníž. přenesená",J109,0) -> 0 | BI109: =IF(N109="nulová",J109,0) -> 0 | BJ109: 1 | BK109: =ROUND(I109*H109,2) -> 0 | BL109: 4 | BM109: -488205517
D110: D | E110: D2 | F110: Rozvaděč MaR RA-1 | J110: =BK110 -> 0 | P110: =SUM(P111:P131) -> 0 | R110: =SUM(R111:R131) -> 0 | T110: =SUM(T111:T131) -> 0 | AR110: 1 | AT110: D | AU110: 0 | AY110: ROZPOCET | BK110: =SUM(BK111:BK131) -> 0
C111: 13 | D111: K | E111: D23-1 | F111: Rozvaděč MaR RA-1 oceloplechový (700x500x260mm) + montážní plech | G111: ks | H111: 1 | J111: =ROUND(I111*H111,2) -> 0 | N111: základní | P111: =O111*H111 -> 0 | Q111: 0 | R111: =Q111*H111 -> 0 | S111: 0 | T111: =S111*H111 -> 0 | AR111: 4 | AT111: K | AU111: 1 | AY111: ROZPOCET | BE111: =IF(N111="základní",J111,0) -> 0 | BF111: =IF(N111="snížená",J111,0) -> 0 | BG111: =IF(N111="zákl. přenesená",J111,0) -> 0 | BH111: =IF(N111="sníž. přenesená",J111,0) -> 0 | BI111: =IF(N111="nulová",J111,0) -> 0 | BJ111: 1 | BK111: =ROUND(I111*H111,2) -> 0 | BL111: 4 | BM111: -829540738
C112: 14 | D112: K | E112: D23-2 | F112: Hl.vypínač VS16/1 | G112: ks | H112: 1 | J112: =ROUND(I112*H112,2) -> 0 | N112: základní | P112: =O112*H112 -> 0 | Q112: 0 | R112: =Q112*H112 -> 0 | S112: 0 | T112: =S112*H112 -> 0 | AR112: 4 | AT112: K | AU112: 1 | AY112: ROZPOCET | BE112: =IF(N112="základní",J112,0) -> 0 | BF112: =IF(N112="snížená",J112,0) -> 0 | BG112: =IF(N112="zákl. přenesená",J112,0) -> 0 | BH112: =IF(N112="sníž. přenesená",J112,0) -> 0 | BI112: =IF(N112="nulová",J112,0) -> 0 | BJ112: 1 | BK112: =ROUND(I112*H112,2) -> 0 | BL112: 4 | BM112: 1121864505
C113: 15 | D113: K | E113: D23-3 | F113: Přepětová ochrana SVC-275-jednofázová | G113: ks | H113: 1 | J113: =ROUND(I113*H113,2) -> 0 | N113: základní | P113: =O113*H113 -> 0 | Q113: 0 | R113: =Q113*H113 -> 0 | S113: 0 | T113: =S113*H113 -> 0 | AR113: 4 | AT113: K | AU113: 1 | AY113: ROZPOCET | BE113: =IF(N113="základní",J113,0) -> 0 | BF113: =IF(N113="snížená",J113,0) -> 0 | BG113: =IF(N113="zákl. přenesená",J113,0) -> 0 | BH113: =IF(N113="sníž. přenesená",J113,0) -> 0 | BI113: =IF(N113="nulová",J113,0) -> 0 | BJ113: 1 | BK113: =ROUND(I113*H113,2) -> 0 | BL113: 4 | BM113: -1623793626
C114: 16 | D114: K | E114: D23-4 | F114: Jistič B6/1 | G114: ks | H114: 4 | J114: =ROUND(I114*H114,2) -> 0 | N114: základní | P114: =O114*H114 -> 0 | Q114: 0 | R114: =Q114*H114 -> 0 | S114: 0 | T114: =S114*H114 -> 0 | AR114: 4 | AT114: K | AU114: 1 | AY114: ROZPOCET | BE114: =IF(N114="základní",J114,0) -> 0 | BF114: =IF(N114="snížená",J114,0) -> 0 | BG114: =IF(N114="zákl. přenesená",J114,0) -> 0 | BH114: =IF(N114="sníž. přenesená",J114,0) -> 0 | BI114: =IF(N114="nulová",J114,0) -> 0 | BJ114: 1 | BK114: =ROUND(I114*H114,2) -> 0 | BL114: 4 | BM114: 1722637504
C115: 17 | D115: K | E115: D23-5 | F115: Jistič B10/1 | G115: ks | H115: 3 | J115: =ROUND(I115*H115,2) -> 0 | N115: základní | P115: =O115*H115 -> 0 | Q115: 0 | R115: =Q115*H115 -> 0 | S115: 0 | T115: =S115*H115 -> 0 | AR115: 4 | AT115: K | AU115: 1 | AY115: ROZPOCET | BE115: =IF(N115="základní",J115,0) -> 0 | BF115: =IF(N115="snížená",J115,0) -> 0 | BG115: =IF(N115="zákl. přenesená",J115,0) -> 0 | BH115: =IF(N115="sníž. přenesená",J115,0) -> 0 | BI115: =IF(N115="nulová",J115,0) -> 0 | BJ115: 1 | BK115: =ROUND(I115*H115,2) -> 0 | BL115: 4 | BM115: -1739222136
C116: 18 | D116: K | E116: D23-6 | F116: Jistič B13/1 | G116: ks | H116: 1 | J116: =ROUND(I116*H116,2) -> 0 | N116: základní | P116: =O116*H116 -> 0 | Q116: 0 | R116: =Q116*H116 -> 0 | S116: 0 | T116: =S116*H116 -> 0 | AR116: 4 | AT116: K | AU116: 1 | AY116: ROZPOCET | BE116: =IF(N116="základní",J116,0) -> 0 | BF116: =IF(N116="snížená",J116,0) -> 0 | BG116: =IF(N116="zákl. přenesená",J116,0) -> 0 | BH116: =IF(N116="sníž. přenesená",J116,0) -> 0 | BI116: =IF(N116="nulová",J116,0) -> 0 | BJ116: 1 | BK116: =ROUND(I116*H116,2) -> 0 | BL116: 4 | BM116: -290935924
C117: 19 | D117: K | E117: D23-7 | F117: Napěťová cívka | G117: ks | H117: 1 | J117: =ROUND(I117*H117,2) -> 0 | N117: základní | P117: =O117*H117 -> 0 | Q117: 0 | R117: =Q117*H117 -> 0 | S117: 0 | T117: =S117*H117 -> 0 | AR117: 4 | AT117: K | AU117: 1 | AY117: ROZPOCET | BE117: =IF(N117="základní",J117,0) -> 0 | BF117: =IF(N117="snížená",J117,0) -> 0 | BG117: =IF(N117="zákl. přenesená",J117,0) -> 0 | BH117: =IF(N117="sníž. přenesená",J117,0) -> 0 | BI117: =IF(N117="nulová",J117,0) -> 0 | BJ117: 1 | BK117: =ROUND(I117*H117,2) -> 0 | BL117: 4 | BM117: -215504738
C118: 20 | D118: K | E118: D23-8 | F118: Zásuvka na DIN lištu | G118: ks | H118: 2 | J118: =ROUND(I118*H118,2) -> 0 | N118: základní | P118: =O118*H118 -> 0 | Q118: 0 | R118: =Q118*H118 -> 0 | S118: 0 | T118: =S118*H118 -> 0 | AR118: 4 | AT118: K | AU118: 1 | AY118: ROZPOCET | BE118: =IF(N118="základní",J118,0) -> 0 | BF118: =IF(N118="snížená",J118,0) -> 0 | BG118: =IF(N118="zákl. přenesená",J118,0) -> 0 | BH118: =IF(N118="sníž. přenesená",J118,0) -> 0 | BI118: =IF(N118="nulová",J118,0) -> 0 | BJ118: 1 | BK118: =ROUND(I118*H118,2) -> 0 | BL118: 4 | BM118: -1932968176
C119: 21 | D119: K | E119: D23-9 | F119: Ovl.hlavice 1-0-2, Adaptér , 2x spínací jednotka zelená | G119: ks | H119: 2 | J119: =ROUND(I119*H119,2) -> 0 | N119: základní | P119: =O119*H119 -> 0 | Q119: 0 | R119: =Q119*H119 -> 0 | S119: 0 | T119: =S119*H119 -> 0 | AR119: 4 | AT119: K | AU119: 1 | AY119: ROZPOCET | BE119: =IF(N119="základní",J119,0) -> 0 | BF119: =IF(N119="snížená",J119,0) -> 0 | BG119: =IF(N119="zákl. přenesená",J119,0) -> 0 | BH119: =IF(N119="sníž. přenesená",J119,0) -> 0 | BI119: =IF(N119="nulová",J119,0) -> 0 | BJ119: 1 | BK119: =ROUND(I119*H119,2) -> 0 | BL119: 4 | BM119: -35896479
C120: 22 | D120: K | E120: D23-10 | F120: Tlačítko bez aretace-modré, Adaptér, 1x spínací jednotka zelená | G120: ks | H120: 1 | J120: =ROUND(I120*H120,2) -> 0 | N120: základní | P120: =O120*H120 -> 0 | Q120: 0 | R120: =Q120*H120 -> 0 | S120: 0 | T120: =S120*H120 -> 0 | AR120: 4 | AT120: K | AU120: 1 | AY120: ROZPOCET | BE120: =IF(N120="základní",J120,0) -> 0 | BF120: =IF(N120="snížená",J120,0) -> 0 | BG120: =IF(N120="zákl. přenesená",J120,0) -> 0 | BH120: =IF(N120="sníž. přenesená",J120,0) -> 0 | BI120: =IF(N120="nulová",J120,0) -> 0 | BJ120: 1 | BK120: =ROUND(I120*H120,2) -> 0 | BL120: 4 | BM120: -1714143408
C121: 23 | D121: K | E121: D23-11 | F121: Signálka -95, 230V - zelená | G121: ks | H121: 2 | J121: =ROUND(I121*H121,2) -> 0 | N121: základní | P121: =O121*H121 -> 0 | Q121: 0 | R121: =Q121*H121 -> 0 | S121: 0 | T121: =S121*H121 -> 0 | AR121: 4 | AT121: K | AU121: 1 | AY121: ROZPOCET | BE121: =IF(N121="základní",J121,0) -> 0 | BF121: =IF(N121="snížená",J121,0) -> 0 | BG121: =IF(N121="zákl. přenesená",J121,0) -> 0 | BH121: =IF(N121="sníž. přenesená",J121,0) -> 0 | BI121: =IF(N121="nulová",J121,0) -> 0 | BJ121: 1 | BK121: =ROUND(I121*H121,2) -> 0 | BL121: 4 | BM121: 655119124
C122: 24 | D122: K | E122: D23-12 | F122: Signálka -95, 24V CD- rudá | G122: ks | H122: 1 | J122: =ROUND(I122*H122,2) -> 0 | N122: základní | P122: =O122*H122 -> 0 | Q122: 0 | R122: =Q122*H122 -> 0 | S122: 0 | T122: =S122*H122 -> 0 | AR122: 4 | AT122: K | AU122: 1 | AY122: ROZPOCET | BE122: =IF(N122="základní",J122,0) -> 0 | BF122: =IF(N122="snížená",J122,0) -> 0 | BG122: =IF(N122="zákl. přenesená",J122,0) -> 0 | BH122: =IF(N122="sníž. přenesená",J122,0) -> 0 | BI122: =IF(N122="nulová",J122,0) -> 0 | BJ122: 1 | BK122: =ROUND(I122*H122,2) -> 0 | BL122: 4 | BM122: -1980723634
... C131: 33 | D131: K | E131: D23-21 | F131: Bezpečnostní štítky | G131: ks | H131: 4 | J131: =ROUND(I131*H131,2) -> 0 | N131: základní | P131: =O131*H131 -> 0 | Q131: 0 | R131: =Q131*H131 -> 0 | S131: 0 | T131: =S131*H131 -> 0 | AR131: 4 | AT131: K | AU131: 1 | AY131: ROZPOCET | BE131: =IF(N131="základní",J131,0) -> 0 | BF131: =IF(N131="snížená",J131,0) -> 0 | BG131: =IF(N131="zákl. přenesená",J131,0) -> 0 | BH131: =IF(N131="sníž. přenesená",J131,0) -> 0 | BI131: =IF(N131="nulová",J131,0) -> 0 | BJ131: 1 | BK131: =ROUND(I131*H131,2) -> 0 | BL131: 4 | BM131: 2143176264
D132: D | E132: D3 | F132: Elektromontážní materiál | J132: =BK132 -> 0 | P132: =SUM(P133:P146) -> 0 | R132: =SUM(R133:R146) -> 0 | T132: =SUM(T133:T146) -> 0 | AR132: 1 | AT132: D | AU132: 0 | AY132: ROZPOCET | BK132: =SUM(BK133:BK146) -> 0
C133: 34 | D133: M | E133: 341-11030R | F133: kabel CYKY-J 3x 1,5 | G133: m | H133: 100 | J133: =ROUND(I133*H133,2) -> 0 | N133: základní | P133: =O133*H133 -> 0 | Q133: 0 | R133: =Q133*H133 -> 0 | S133: 0 | T133: =S133*H133 -> 0 | AR133: 8 | AT133: M | AU133: 1 | AY133: ROZPOCET | BE133: =IF(N133="základní",J133,0) -> 0 | BF133: =IF(N133="snížená",J133,0) -> 0 | BG133: =IF(N133="zákl. přenesená",J133,0) -> 0 | BH133: =IF(N133="sníž. přenesená",J133,0) -> 0 | BI133: =IF(N133="nulová",J133,0) -> 0 | BJ133: 1 | BK133: =ROUND(I133*H133,2) -> 0 | BL133: 4 | BM133: -1143724887
C134: 35 | D134: M | E134: 341-21550R | F134: JYTY-O 2*1 sdělovací kabel | G134: m | H134: 100 | J134: =ROUND(I134*H134,2) -> 0 | N134: základní | P134: =O134*H134 -> 0 | Q134: 0 | R134: =Q134*H134 -> 0 | S134: 0 | T134: =S134*H134 -> 0 | AR134: 8 | AT134: M | AU134: 1 | AY134: ROZPOCET | BE134: =IF(N134="základní",J134,0) -> 0 | BF134: =IF(N134="snížená",J134,0) -> 0 | BG134: =IF(N134="zákl. přenesená",J134,0) -> 0 | BH134: =IF(N134="sníž. přenesená",J134,0) -> 0 | BI134: =IF(N134="nulová",J134,0) -> 0 | BJ134: 1 | BK134: =ROUND(I134*H134,2) -> 0 | BL134: 4 | BM134: -1681404968
C135: 36 | D135: M | E135: 341-21554R | F135: JYTY-O 4*1 sdělovací kabel | G135: m | H135: 30 | J135: =ROUND(I135*H135,2) -> 0 | N135: základní | P135: =O135*H135 -> 0 | Q135: 0 | R135: =Q135*H135 -> 0 | S135: 0 | T135: =S135*H135 -> 0 | AR135: 8 | AT135: M | AU135: 1 | AY135: ROZPOCET | BE135: =IF(N135="základní",J135,0) -> 0 | BF135: =IF(N135="snížená",J135,0) -> 0 | BG135: =IF(N135="zákl. přenesená",J135,0) -> 0 | BH135: =IF(N135="sníž. přenesená",J135,0) -> 0 | BI135: =IF(N135="nulová",J135,0) -> 0 | BJ135: 1 | BK135: =ROUND(I135*H135,2) -> 0 | BL135: 4 | BM135: 159810588
C136: 37 | D136: M | E136: 341-40966R | F136: 1/vodič HO7V-K 6 ZŽ CYA | G136: m | H136: 10 | J136: =ROUND(I136*H136,2) -> 0 | N136: základní | P136: =O136*H136 -> 0 | Q136: 0 | R136: =Q136*H136 -> 0 | S136: 0 | T136: =S136*H136 -> 0 | AR136: 8 | AT136: M | AU136: 1 | AY136: ROZPOCET | BE136: =IF(N136="základní",J136,0) -> 0 | BF136: =IF(N136="snížená",J136,0) -> 0 | BG136: =IF(N136="zákl. přenesená",J136,0) -> 0 | BH136: =IF(N136="sníž. přenesená",J136,0) -> 0 | BI136: =IF(N136="nulová",J136,0) -> 0 | BJ136: 1 | BK136: =ROUND(I136*H136,2) -> 0 | BL136: 4 | BM136: 743202929
C137: 38 | D137: M | E137: 354-42150R | F137: zemnící svorka ZSA 16 | G137: ks | H137: 5 | J137: =ROUND(I137*H137,2) -> 0 | N137: základní | P137: =O137*H137 -> 0 | Q137: 0 | R137: =Q137*H137 -> 0 | S137: 0 | T137: =S137*H137 -> 0 | AR137: 8 | AT137: M | AU137: 1 | AY137: ROZPOCET | BE137: =IF(N137="základní",J137,0) -> 0 | BF137: =IF(N137="snížená",J137,0) -> 0 | BG137: =IF(N137="zákl. přenesená",J137,0) -> 0 | BH137: =IF(N137="sníž. přenesená",J137,0) -> 0 | BI137: =IF(N137="nulová",J137,0) -> 0 | BJ137: 1 | BK137: =ROUND(I137*H137,2) -> 0 | BL137: 4 | BM137: -1606112300
C138: 39 | D138: M | E138: 354-42151R | F138: zemnící pásek CU 50*1.5 cm | G138: ks | H138: 5 | J138: =ROUND(I138*H138,2) -> 0 | N138: základní | P138: =O138*H138 -> 0 | Q138: 0 | R138: =Q138*H138 -> 0 | S138: 0 | T138: =S138*H138 -> 0 | AR138: 8 | AT138: M | AU138: 1 | AY138: ROZPOCET | BE138: =IF(N138="základní",J138,0) -> 0 | BF138: =IF(N138="snížená",J138,0) -> 0 | BG138: =IF(N138="zákl. přenesená",J138,0) -> 0 | BH138: =IF(N138="sníž. přenesená",J138,0) -> 0 | BI138: =IF(N138="nulová",J138,0) -> 0 | BJ138: 1 | BK138: =ROUND(I138*H138,2) -> 0 | BL138: 4 | BM138: 2096634355
...

Sheet D.1.4.5 - Silnoproudá ele...
D1: List obsahuje: | F1: 1) Krycí list soupisu | G1: 2) Rekapitulace | J1: 3) Soupis prací | K1: Zpět na list: | L1: Rekapitulace stavby
AT2: {fea974e2-36bb-4334-bc71-a40d4e9c247c}
AT3: 2
D4: KRYCÍ LIST SOUPISU | M4: v --- níže se nacházejí doplnkové a pomocné údaje k sestavám --- v | AT4: False
D6: Stavba:
E7: ='Rekapitulace stavby'!K6 -> CENTRUM SPOLEČNÝCH AKTIVIT JESENÍK
D8: Objekt:
E9: SO 01 - CENTRUM SPOLEČNÝCH AKTIVIT
D10: Soupis:
E11: D.1.4 - Technika prostředí budov
D12: Úroveň 3:
E13: D.1.4.5 - Silnoproudá elektrotechnika
D15: KSO: | I15: CC-CZ:
D16: Místo: | F16: Jeseník | I16: Datum: | J16: ='Rekapitulace stavby'!AN8 -> 11.10.2016
D18: Zadavatel: | I18: IČ:
E19: MĚSTO JESENÍK | I19: DIČ:
D21: Uchazeč: | I21: IČ: | J21: =IF('Rekapitulace stavby'!AN13="Vyplň údaj","",IF('Rekapitulace stavby'!AN13="","",'Rekapitulace stavby'!AN13))
E22: =IF('Rekapitulace stavby'!E14="Vyplň údaj","",IF('Rekapitulace stavby'!E14="","",'Rekapitulace stavby'!E14)) | I22: DIČ: | J22: =IF('Rekapitulace stavby'!AN14="Vyplň údaj","",IF('Rekapitulace stavby'!AN14="","",'Rekapitulace stavby'!AN14))
D24: Projektant: | I24: IČ:
E25: KANIA, a.s. , Špálova 80/9, Ostrava | I25: DIČ:
D27: Poznámka:
E28: Soupis prací je sestaven za využití položek Cenové soustavy ÚRS. Cenové a technické podmínky položek CS ÚRS, které nejsou uvedeny v soupisu prací (tzv. úvodní části katalogů) jsou neomezeně dálkově k dispozici na www.cs-urs.cz. Položky soupisu prací, které nemají ve sloupci „Cenová soustava“ uveden žádný údaj, nepochází z Cenové soustavy ÚRS (takové položky soupisu prací mají Cenovou soustavu „VLASTNÍ“). Ocenění "vlastní" položky:na základě odborných znalostí a zkušeností projektanta při realizaci obdobných zakázek za období 5-ti let. nebo na základě cen v místě a čase obvyklých). Nedílnou součástí soupisu prací je projektová dokumentace vč. textových příloh, na kterou se položky soupisu prací plně odkazují.
D31: Cena bez DPH | J31: =ROUND(J103,2) -> 0
F33: Základ daně | I33: Sazba daně | J33: Výše daně
D34: DPH | E34: základní | F34: =ROUND(SUM(BE103:BE308), 2) -> 0 | I34: 0.21 | J34: =ROUND(ROUND((SUM(BE103:BE308)), 2)*I34, 2) -> 0
E35: snížená | F35: =ROUND(SUM(BF103:BF308), 2) -> 0 | I35: 0.15 | J35: =ROUND(ROUND((SUM(BF103:BF308)), 2)*I35, 2) -> 0
E36: zákl. přenesená | F36: =ROUND(SUM(BG103:BG308), 2) -> 0 | I36: 0.21 | J36: 0
E37: sníž. přenesená | F37: =ROUND(SUM(BH103:BH308), 2) -> 0 | I37: 0.15 | J37: 0
E38: nulová | F38: =ROUND(SUM(BI103:BI308), 2) -> 0 | I38: 0 | J38: 0
D40: Cena s DPH | G40: v | H40: CZK | J40: =SUM(J31:J38) -> 0
C46: REKAPITULACE ČLENĚNÍ SOUPISU PRACÍ
C48: Stavba:
E49: =E7 -> CENTRUM SPOLEČNÝCH AKTIVIT JESENÍK
C50: Objekt:
E51: SO 01 - CENTRUM SPOLEČNÝCH AKTIVIT
C52: Soupis:
E53: D.1.4 - Technika prostředí budov
C54: Úroveň 3:
E55: =E13 -> D.1.4.5 - Silnoproudá elektrotechnika
C57: Místo: | F57: =F16 -> Jeseník | I57: Datum: | J57: =IF(J16="","",J16) -> 11.10.2016
C59: Zadavatel: | F59: =E19 -> MĚSTO JESENÍK | I59: Projektant: | J59: =E25 -> KANIA, a.s. , Špálova 80/9, Ostrava
C60: Uchazeč: | F60: =IF(E22="","",E22)
C62: Kód dílu - Popis | J62: Cena celkem [CZK]
C64: Náklady soupisu celkem | J64: =J103 -> 0 | AU64: -1
D65: D1 - UMĚLÉ A NOUZOVÉ OSVĚTLENÍ 1.PP-16016-DPS-D.1.4.5-SO01-02 | J65: =J104 -> 0
D66: D2 - UMĚLÉ A NOUZOVÉ OSVĚTLENÍ 1.NP-16016-DPS-D.1.4.5-SO01-03 | J66: =J117 -> 0
D67: D3 - UMĚLÉ A NOUZOVÉ OSVĚTLENÍ 2.NP + 3.NP-16016-DPS-D.1.4.5-SO01-04 | J67: =J142 -> 0
D68: D4 - ZÁSUVKY A TECHNOLOGIE - 1.PP-16016-DPS-D.1.4.5-SO01-05 | J68: =J170 -> 0
D69: D5 - ZÁSUVKY A TECHNOLOGIE - 1.NP-16016-DPS-D.1.4.5-SO01-06 | J69: =J181 -> 0
D70: D6 - ZÁSUVKY A TECHNOLOGIE - 2.NP-16016-DPS-D.1.4.5-SO01-07 | J70: =J194 -> 0
D71: D7 - ROZVÁDĚČE NN-16016-DPS-D.1.4.5-SO01-08 | J71: =J207 -> 0
D72: D8 - VÝTAH - NAPÁJENÍ-16016-DPS-D.1.4.5-SO01-08 | J72: =J221 -> 0
D73: D9 - UMĚLÉ A NOUZOVÉ OSVĚTLENÍ 1.PP-16016-DPS-D.1.4.5-SO01-16 | J73: =J227 -> 0
D74: D10 - TOTAL STOP-16016-DPS-D.1.4.5-SO01-17 | J74: =J240 -> 0
D75: D11 - SPD A POSPOJOVÁNÍ-16016-DPS-D.1.4.5-SO01-18 | J75: =J246 -> 0
D76: D12 - HUDEBNÍ SÁL-16016-DPS-D.1.4.5-SO01-19 | J76: =J255 -> 0
D77: D13 - Vnější LPS - JÍMACÍ SOUSTAVA A SVODY | J77: =J271 -> 0
D78: D14 - Uzemnění objektu | J78: =J288 -> 0
D79: D15 - OSTATNÍ | J79: =J301 -> 0
C86: SOUPIS PRACÍ
C88: Stavba:
E89: =E7 -> CENTRUM SPOLEČNÝCH AKTIVIT JESENÍK
C90: Objekt:
E91: SO 01 - CENTRUM SPOLEČNÝCH AKTIVIT
C92: Soupis:
E93: D.1.4 - Technika prostředí budov
C94: Úroveň 3:
E95: =E13 -> D.1.4.5 - Silnoproudá elektrotechnika
C97: Místo: | F97: =F16 -> Jeseník | I97: Datum: | J97: =IF(J16="","",J16) -> 11.10.2016
C99: Zadavatel: | F99: =E19 -> MĚSTO JESENÍK | I99: Projektant: | J99: =E25 -> KANIA, a.s. , Špálova 80/9, Ostrava
C100: Uchazeč: | F100: =IF(E22="","",E22)
C102: PČ | D102: Typ | E102: Kód | F102: Popis | G102: MJ | H102: Množství | I102: J.cena [CZK] | J102: Cena celkem [CZK] | K102: Cenová soustava | M102: Poznámka | N102: DPH | O102: J. Nh [h] | P102: Nh celkem [h] | Q102: J. hmotnost_x000D_ [t] | R102: Hmotnost_x000D_ celkem [t] | S102: J. suť [t] | T102: Suť Celkem [t]
C103: Náklady soupisu celkem | J103: =BK103 -> 0 | P103: =P104+P117+P142+P170+P181+P194+P207+P221+P227+P240+P246+P255+P271+P288+P301 -> 0 | R103: =R104+R117+R142+R170+R181+R194+R207+R221+R227+R240+R246+R255+R271+R288+R301 -> 0 | T103: =T104+T117+T142+T170+T181+T194+T207+T221+T227+T240+T246+T255+T271+T288+T301 -> 0 | AT103: D | AU103: -1 | BK103: =BK104+BK117+BK142+BK170+BK181+BK194+BK207+BK221+BK227+BK240+BK246+BK255+BK271+BK288+BK301 -> 0
D104: D | E104: D1 | F104: UMĚLÉ A NOUZOVÉ OSVĚTLENÍ 1.PP-16016-DPS-D.1.4.5-SO01-02 | J104: =BK104 -> 0 | P104: =SUM(P105:P116) -> 0 | R104: =SUM(R105:R116) -> 0 | T104: =SUM(T105:T116) -> 0 | AR104: 1 | AT104: D | AU104: 0 | AY104: ROZPOCET | BK104: =SUM(BK105:BK116) -> 0
C105: 1 | D105: K | E105: Pol47 | F105: LED SVÍTIDLO, 3000K, 2900lm, 250V, 26W, RAL 9003, PŘISAZENÉ, IP40 | G105: ks | H105: 14 | J105: =ROUND(I105*H105,2) -> 0 | N105: základní | P105: =O105*H105 -> 0 | Q105: 0 | R105: =Q105*H105 -> 0 | S105: 0 | T105: =S105*H105 -> 0 | AR105: 4 | AT105: K | AU105: 1 | AY105: ROZPOCET | BE105: =IF(N105="základní",J105,0) -> 0 | BF105: =IF(N105="snížená",J105,0) -> 0 | BG105: =IF(N105="zákl. přenesená",J105,0) -> 0 | BH105: =IF(N105="sníž. přenesená",J105,0) -> 0 | BI105: =IF(N105="nulová",J105,0) -> 0 | BJ105: 1 | BK105: =ROUND(I105*H105,2) -> 0 | BL105: 4 | BM105: -1902175923
C106: 2 | D106: K | E106: 2 | F106: LED SVÍTIDLO, 4000K, 4300lm, 250V, 34W, PŘISAZENÉ, ZVÝŠENÉ KRYTÍ IP65, I.TŘÍDA, RA > 80, RAL 7035 | G106: ks | H106: 1 | J106: =ROUND(I106*H106,2) -> 0 | N106: základní | P106: =O106*H106 -> 0 | Q106: 0 | R106: =Q106*H106 -> 0 | S106: 0 | T106: =S106*H106 -> 0 | AR106: 4 | AT106: K | AU106: 1 | AY106: ROZPOCET | BE106: =IF(N106="základní",J106,0) -> 0 | BF106: =IF(N106="snížená",J106,0) -> 0 | BG106: =IF(N106="zákl. přenesená",J106,0) -> 0 | BH106: =IF(N106="sníž. přenesená",J106,0) -> 0 | BI106: =IF(N106="nulová",J106,0) -> 0 | BJ106: 1 | BK106: =ROUND(I106*H106,2) -> 0 | BL106: 4 | BM106: 426410538
C107: 3 | D107: K | E107: 3 | F107: VYPÍNAČ PODOMÍTKOVÝ V INSTALAČNÍ KRABICI KU68, ŘAZ. 1 | G107: ks | H107: 5 | J107: =ROUND(I107*H107,2) -> 0 | N107: základní | P107: =O107*H107 -> 0 | Q107: 0 | R107: =Q107*H107 -> 0 | S107: 0 | T107: =S107*H107 -> 0 | AR107: 4 | AT107: K | AU107: 1 | AY107: ROZPOCET | BE107: =IF(N107="základní",J107,0) -> 0 | BF107: =IF(N107="snížená",J107,0) -> 0 | BG107: =IF(N107="zákl. přenesená",J107,0) -> 0 | BH107: =IF(N107="sníž. přenesená",J107,0) -> 0 | BI107: =IF(N107="nulová",J107,0) -> 0 | BJ107: 1 | BK107: =ROUND(I107*H107,2) -> 0 | BL107: 4 | BM107: -1495667384
C108: 4 | D108: K | E108: 4 | F108: VYPÍNAČ PODOMÍTKOVÝ V INSTALAČNÍ KRABICI KU68, ŘAZ 6 | G108: ks | H108: 4 | J108: =ROUND(I108*H108,2) -> 0 | N108: základní | P108: =O108*H108 -> 0 | Q108: 0 | R108: =Q108*H108 -> 0 | S108: 0 | T108: =S108*H108 -> 0 | AR108: 4 | AT108: K | AU108: 1 | AY108: ROZPOCET | BE108: =IF(N108="základní",J108,0) -> 0 | BF108: =IF(N108="snížená",J108,0) -> 0 | BG108: =IF(N108="zákl. přenesená",J108,0) -> 0 | BH108: =IF(N108="sníž. přenesená",J108,0) -> 0 | BI108: =IF(N108="nulová",J108,0) -> 0 | BJ108: 1 | BK108: =ROUND(I108*H108,2) -> 0 | BL108: 4 | BM108: -2086202959
C109: 5 | D109: K | E109: Pol48 | F109: LED SVÍTIDLO PŘISAZENÉ, 3000K, 15W, 1400lm, pr. 300mm, INTEGROVANÝ SENZOR PIR, PLASTOVÝ OPÁLOVÝ KRYT, IP40 | G109: ks | H109: 3 | J109: =ROUND(I109*H109,2) -> 0 | N109: základní | P109: =O109*H109 -> 0 | Q109: 0 | R109: =Q109*H109 -> 0 | S109: 0 | T109: =S109*H109 -> 0 | AR109: 4 | AT109: K | AU109: 1 | AY109: ROZPOCET | BE109: =IF(N109="základní",J109,0) -> 0 | BF109: =IF(N109="snížená",J109,0) -> 0 | BG109: =IF(N109="zákl. přenesená",J109,0) -> 0 | BH109: =IF(N109="sníž. přenesená",J109,0) -> 0 | BI109: =IF(N109="nulová",J109,0) -> 0 | BJ109: 1 | BK109: =ROUND(I109*H109,2) -> 0 | BL109: 4 | BM109: 2108664943
C110: 6 | D110: K | E110: 6 | F110: NOUZOVÉ LED SVÍTIDLO, 2W, 1.HOD, 270lm II.TŘ., PŘISAZENÉ, VČETNĚ POLEPU SMĚRU ÚNIKU | G110: ks | H110: 5 | J110: =ROUND(I110*H110,2) -> 0 | N110: základní | P110: =O110*H110 -> 0 | Q110: 0 | R110: =Q110*H110 -> 0 | S110: 0 | T110: =S110*H110 -> 0 | AR110: 4 | AT110: K | AU110: 1 | AY110: ROZPOCET | BE110: =IF(N110="základní",J110,0) -> 0 | BF110: =IF(N110="snížená",J110,0) -> 0 | BG110: =IF(N110="zákl. přenesená",J110,0) -> 0 | BH110: =IF(N110="sníž. přenesená",J110,0) -> 0 | BI110: =IF(N110="nulová",J110,0) -> 0 | BJ110: 1 | BK110: =ROUND(I110*H110,2) -> 0 | BL110: 4 | BM110: 1482016667
C111: 7 | D111: K | E111: 7 | F111: KABEL CYKY-J 3x1,5, VČETNĚ DRÁŽKOVÁNÍ | G111: m | H111: 150 | J111: =ROUND(I111*H111,2) -> 0 | N111: základní | P111: =O111*H111 -> 0 | Q111: 0 | R111: =Q111*H111 -> 0 | S111: 0 | T111: =S111*H111 -> 0 | AR111: 4 | AT111: K | AU111: 1 | AY111: ROZPOCET | BE111: =IF(N111="základní",J111,0) -> 0 | BF111: =IF(N111="snížená",J111,0) -> 0 | BG111: =IF(N111="zákl. přenesená",J111,0) -> 0 | BH111: =IF(N111="sníž. přenesená",J111,0) -> 0 | BI111: =IF(N111="nulová",J111,0) -> 0 | BJ111: 1 | BK111: =ROUND(I111*H111,2) -> 0 | BL111: 4 | BM111: 1511115934
C112: 8 | D112: K | E112: 8 | F112: KABEL CYKY-O 3x1,5, VČETNĚ DRÁŽKOVÁNÍ | G112: m | H112: 50 | J112: =ROUND(I112*H112,2) -> 0 | N112: základní | P112: =O112*H112 -> 0 | Q112: 0 | R112: =Q112*H112 -> 0 | S112: 0 | T112: =S112*H112 -> 0 | AR112: 4 | AT112: K | AU112: 1 | AY112: ROZPOCET | BE112: =IF(N112="základní",J112,0) -> 0 | BF112: =IF(N112="snížená",J112,0) -> 0 | BG112: =IF(N112="zákl. přenesená",J112,0) -> 0 | BH112: =IF(N112="sníž. přenesená",J112,0) -> 0 | BI112: =IF(N112="nulová",J112,0) -> 0 | BJ112: 1 | BK112: =ROUND(I112*H112,2) -> 0 | BL112: 4 | BM112: -1356003382
C113: 9 | D113: K | E113: 17 | F113: SÁDRA (PYTEL 25KG) | G113: ks | H113: 1 | J113: =ROUND(I113*H113,2) -> 0 | N113: základní | P113: =O113*H113 -> 0 | Q113: 0 | R113: =Q113*H113 -> 0 | S113: 0 | T113: =S113*H113 -> 0 | AR113: 4 | AT113: K | AU113: 1 | AY113: ROZPOCET | BE113: =IF(N113="základní",J113,0) -> 0 | BF113: =IF(N113="snížená",J113,0) -> 0 | BG113: =IF(N113="zákl. přenesená",J113,0) -> 0 | BH113: =IF(N113="sníž. přenesená",J113,0) -> 0 | BI113: =IF(N113="nulová",J113,0) -> 0 | BJ113: 1 | BK113: =ROUND(I113*H113,2) -> 0 | BL113: 4 | BM113: 228920651
C114: 10 | D114: K | E114: 10 | F114: SPOJOVACÍ MATERIÁL | G114: kpl | H114: 1 | J114: =ROUND(I114*H114,2) -> 0 | N114: základní | P114: =O114*H114 -> 0 | Q114: 0 | R114: =Q114*H114 -> 0 | S114: 0 | T114: =S114*H114 -> 0 | AR114: 4 | AT114: K | AU114: 1 | AY114: ROZPOCET | BE114: =IF(N114="základní",J114,0) -> 0 | BF114: =IF(N114="snížená",J114,0) -> 0 | BG114: =IF(N114="zákl. přenesená",J114,0) -> 0 | BH114: =IF(N114="sníž. přenesená",J114,0) -> 0 | BI114: =IF(N114="nulová",J114,0) -> 0 | BJ114: 1 | BK114: =ROUND(I114*H114,2) -> 0 | BL114: 4 | BM114: 1755313146
C115: 11 | D115: K | E115: 15.2 | F115: NÁKLADY NA PROŘEZ | G115: kpl | H115: 1 | J115: =ROUND(I115*H115,2) -> 0 | N115: základní | P115: =O115*H115 -> 0 | Q115: 0 | R115: =Q115*H115 -> 0 | S115: 0 | T115: =S115*H115 -> 0 | AR115: 4 | AT115: K | AU115: 1 | AY115: ROZPOCET | BE115: =IF(N115="základní",J115,0) -> 0 | BF115: =IF(N115="snížená",J115,0) -> 0 | BG115: =IF(N115="zákl. přenesená",J115,0) -> 0 | BH115: =IF(N115="sníž. přenesená",J115,0) -> 0 | BI115: =IF(N115="nulová",J115,0) -> 0 | BJ115: 1 | BK115: =ROUND(I115*H115,2) -> 0 | BL115: 4 | BM115: -263928918
C116: 12 | D116: K | E116: 12 | F116: KOORDINAČNÍ A PLÁNOVACÍ ČINNOST | G116: ks | H116: 1 | J116: =ROUND(I116*H116,2) -> 0 | N116: základní | P116: =O116*H116 -> 0 | Q116: 0 | R116: =Q116*H116 -> 0 | S116: 0 | T116: =S116*H116 -> 0 | AR116: 4 | AT116: K | AU116: 1 | AY116: ROZPOCET | BE116: =IF(N116="základní",J116,0) -> 0 | BF116: =IF(N116="snížená",J116,0) -> 0 | BG116: =IF(N116="zákl. přenesená",J116,0) -> 0 | BH116: =IF(N116="sníž. přenesená",J116,0) -> 0 | BI116: =IF(N116="nulová",J116,0) -> 0 | BJ116: 1 | BK116: =ROUND(I116*H116,2) -> 0 | BL116: 4 | BM116: 1280285822
D117: D | E117: D2 | F117: UMĚLÉ A NOUZOVÉ OSVĚTLENÍ 1.NP-16016-DPS-D.1.4.5-SO01-03 | J117: =BK117 -> 0 | P117: =SUM(P118:P141) -> 0 | R117: =SUM(R118:R141) -> 0 | T117: =SUM(T118:T141) -> 0 | AR117: 1 | AT117: D | AU117: 0 | AY117: ROZPOCET | BK117: =SUM(BK118:BK141) -> 0
C118: 13 | D118: K | E118: Pol49 | F118: LED SVÍTIDLO, 3000K, 5800lm, 250V, 51W, STŘÍBRNÉ, PŘISAZENÉ, IP40 | G118: ks | H118: 17 | J118: =ROUND(I118*H118,2) -> 0 | N118: základní | P118: =O118*H118 -> 0 | Q118: 0 | R118: =Q118*H118 -> 0 | S118: 0 | T118: =S118*H118 -> 0 | AR118: 4 | AT118: K | AU118: 1 | AY118: ROZPOCET | BE118: =IF(N118="základní",J118,0) -> 0 | BF118: =IF(N118="snížená",J118,0) -> 0 | BG118: =IF(N118="zákl. přenesená",J118,0) -> 0 | BH118: =IF(N118="sníž. přenesená",J118,0) -> 0 | BI118: =IF(N118="nulová",J118,0) -> 0 | BJ118: 1 | BK118: =ROUND(I118*H118,2) -> 0 | BL118: 4 | BM118: -1181550055
C119: 14 | D119: K | E119: Pol50 | F119: LED SVÍTIDLO, 3000K, 5800lm, 250V, 26W, STŘÍBRNÉ, PŘISAZENÉ, IP40 | G119: ks | H119: 1 | J119: =ROUND(I119*H119,2) -> 0 | N119: základní | P119: =O119*H119 -> 0 | Q119: 0 | R119: =Q119*H119 -> 0 | S119: 0 | T119: =S119*H119 -> 0 | AR119: 4 | AT119: K | AU119: 1 | AY119: ROZPOCET | BE119: =IF(N119="základní",J119,0) -> 0 | BF119: =IF(N119="snížená",J119,0) -> 0 | BG119: =IF(N119="zákl. přenesená",J119,0) -> 0 | BH119: =IF(N119="sníž. přenesená",J119,0) -> 0 | BI119: =IF(N119="nulová",J119,0) -> 0 | BJ119: 1 | BK119: =ROUND(I119*H119,2) -> 0 | BL119: 4 | BM119: -66676510
C120: 15 | D120: K | E120: 3.1 | F120: LED SVÍTIDLO, 3800K, 850lm, 250V, 12W, VESTAVNÉ, IP20, BARVA - MAT CHROME, II.TŘÍDA, RA > 80, | G120: ks | H120: 12 | J120: =ROUND(I120*H120,2) -> 0 | N120: základní | P120: =O120*H120 -> 0 | Q120: 0 | R120: =Q120*H120 -> 0 | S120: 0 | T120: =S120*H120 -> 0 | AR120: 4 | AT120: K | AU120: 1 | AY120: ROZPOCET | BE120: =IF(N120="základní",J120,0) -> 0 | BF120: =IF(N120="snížená",J120,0) -> 0 | BG120: =IF(N120="zákl. přenesená",J120,0) -> 0 | BH120: =IF(N120="sníž. přenesená",J120,0) -> 0 | BI120: =IF(N120="nulová",J120,0) -> 0 | BJ120: 1 | BK120: =ROUND(I120*H120,2) -> 0 | BL120: 4 | BM120: 1195175376
C121: 16 | D121: K | E121: 4.1 | F121: LED SVÍTIDLO, 3800K, 1350lm, 250V, 18W, VESTAVNÉ, IP20, BARVA - MAT CHROME, II.TŘÍDA, RA > 80, | G121: ks | H121: 4 | J121: =ROUND(I121*H121,2) -> 0 | N121: základní | P121: =O121*H121 -> 0 | Q121: 0 | R121: =Q121*H121 -> 0 | S121: 0 | T121: =S121*H121 -> 0 | AR121: 4 | AT121: K | AU121: 1 | AY121: ROZPOCET | BE121: =IF(N121="základní",J121,0) -> 0 | BF121: =IF(N121="snížená",J121,0) -> 0 | BG121: =IF(N121="zákl. přenesená",J121,0) -> 0 | BH121: =IF(N121="sníž. přenesená",J121,0) -> 0 | BI121: =IF(N121="nulová",J121,0) -> 0 | BJ121: 1 | BK121: =ROUND(I121*H121,2) -> 0 | BL121: 4 | BM121: -577899391
C122: 17 | D122: K | E122: Pol51 | F122: Svítidlo leddiodové vestavné do podhledu SDK, tvar kruh, bílé lakovaný, průměr 300mm, vyzařovací úhel 120°, krytí IP44, 1x25W LED, 4500K | G122: ks | H122: 10 | J122: =ROUND(I122*H122,2) -> 0 | N122: základní | P122: =O122*H122 -> 0 | Q122: 0 | R122: =Q122*H122 -> 0 | S122: 0 | T122: =S122*H122 -> 0 | AR122: 4 | AT122: K | AU122: 1 | AY122: ROZPOCET | BE122: =IF(N122="základní",J122,0) -> 0 | BF122: =IF(N122="snížená",J122,0) -> 0 | BG122: =IF(N122="zákl. přenesená",J122,0) -> 0 | BH122: =IF(N122="sníž. přenesená",J122,0) -> 0 | BI122: =IF(N122="nulová",J122,0) -> 0 | BJ122: 1 | BK122: =ROUND(I122*H122,2) -> 0 | BL122: 4 | BM122: -575434447
C123: 18 | D123: K | E123: Pol52 | F123: Svítidlo leddiodové vestavné do podhledu SDK, tvar kruh, bílé lakovaný, průměr 240mm, vyzařovací úhel 120°, krytí IP44, 1x17W LED, 4500K | G123: ks | H123: 16 | J123: =ROUND(I123*H123,2) -> 0 | N123: základní | P123: =O123*H123 -> 0 | Q123: 0 | R123: =Q123*H123 -> 0 | S123: 0 | T123: =S123*H123 -> 0 | AR123: 4 | AT123: K | AU123: 1 | AY123: ROZPOCET | BE123: =IF(N123="základní",J123,0) -> 0 | BF123: =IF(N123="snížená",J123,0) -> 0 | BG123: =IF(N123="zákl. přenesená",J123,0) -> 0 | BH123: =IF(N123="sníž. přenesená",J123,0) -> 0 | BI123: =IF(N123="nulová",J123,0) -> 0 | BJ123: 1 | BK123: =ROUND(I123*H123,2) -> 0 | BL123: 4 | BM123: 2059409588
C124: 19 | D124: K | E124: Pol53 | F124: Svítidlo závěsné zářivkové, s atypickým ocelovým bíle lakovaným závěsem, délka závěsu 550mm, průměr 400mm, 2x26W, 4000K | G124: ks | H124: 15 | J124: =ROUND(I124*H124,2) -> 0 | N124: základní | P124: =O124*H124 -> 0 | Q124: 0 | R124: =Q124*H124 -> 0 | S124: 0 | T124: =S124*H124 -> 0 | AR124: 4 | AT124: K | AU124: 1 | AY124: ROZPOCET | BE124: =IF(N124="základní",J124,0) -> 0 | BF124: =IF(N124="snížená",J124,0) -> 0 | BG124: =IF(N124="zákl. přenesená",J124,0) -> 0 | BH124: =IF(N124="sníž. přenesená",J124,0) -> 0 | BI124: =IF(N124="nulová",J124,0) -> 0 | BJ124: 1 | BK124: =ROUND(I124*H124,2) -> 0 | BL124: 4 | BM124: -1233323660
C125: 20 | D125: K | E125: Pol54 | F125: Svítidlo závěsné zářivkové, s atypickým ocelovým bíle lakovaným závěsem, délka závěsu 750mm, průměr 400mm, 2x26W, 4000K | G125: ks | H125: 1 | J125: =ROUND(I125*H125,2) -> 0 | N125: základní | P125: =O125*H125 -> 0 | Q125: 0 | R125: =Q125*H125 -> 0 | S125: 0 | T125: =S125*H125 -> 0 | AR125: 4 | AT125: K | AU125: 1 | AY125: ROZPOCET | BE125: =IF(N125="základní",J125,0) -> 0 | BF125: =IF(N125="snížená",J125,0) -> 0 | BG125: =IF(N125="zákl. přenesená",J125,0) -> 0 | BH125: =IF(N125="sníž. přenesená",J125,0) -> 0 | BI125: =IF(N125="nulová",J125,0) -> 0 | BJ125: 1 | BK125: =ROUND(I125*H125,2) -> 0 | BL125: 4 | BM125: 1549969112
C126: 21 | D126: K | E126: Pol55 | F126: Svítidlo závěsné zářivkové, s atypickým ocelovým bíle lakovaným závěsem, délka závěsu 300mm, průměr 400mm, 2x26W, 4000K | G126: ks | H126: 1 | J126: =ROUND(I126*H126,2) -> 0 | N126: základní | P126: =O126*H126 -> 0 | Q126: 0 | R126: =Q126*H126 -> 0 | S126: 0 | T126: =S126*H126 -> 0 | AR126: 4 | AT126: K | AU126: 1 | AY126: ROZPOCET | BE126: =IF(N126="základní",J126,0) -> 0 | BF126: =IF(N126="snížená",J126,0) -> 0 | BG126: =IF(N126="zákl. přenesená",J126,0) -> 0 | BH126: =IF(N126="sníž. přenesená",J126,0) -> 0 | BI126: =IF(N126="nulová",J126,0) -> 0 | BJ126: 1 | BK126: =ROUND(I126*H126,2) -> 0 | BL126: 4 | BM126: 1101369202
C127: 22 | D127: K | E127: Pol56 | F127: Svítidlo závěsné zářivkové, s atypickým závěsem ze samonosného vodiče vyztuženého ocelovým lankem v bílé barvě, délka závěsu 2000mm, průměr 300mm, 1x26W, 4000K | G127: ks | H127: 3 | J127: =ROUND(I127*H127,2) -> 0 | N127: základní | P127: =O127*H127 -> 0 | Q127: 0 | R127: =Q127*H127 -> 0 | S127: 0 | T127: =S127*H127 -> 0 | AR127: 4 | AT127: K | AU127: 1 | AY127: ROZPOCET | BE127: =IF(N127="základní",J127,0) -> 0 | BF127: =IF(N127="snížená",J127,0) -> 0 | BG127: =IF(N127="zákl. přenesená",J127,0) -> 0 | BH127: =IF(N127="sníž. přenesená",J127,0) -> 0 | BI127: =IF(N127="nulová",J127,0) -> 0 | BJ127: 1 | BK127: =ROUND(I127*H127,2) -> 0 | BL127: 4 | BM127: 31367120
C128: 23 | D128: K | E128: Pol57 | F128: VYPÍNAČ OSVĚTLENÍ, TYP PŘÍSTROJE ŘAZ. 1, 10A, 250V, PODOMÍTKOVÝ, BARVA - TITAN, VČ.KRABICE | G128: ks | H128: 7 | J128: =ROUND(I128*H128,2) -> 0 | N128: základní | P128: =O128*H128 -> 0 | Q128: 0 | R128: =Q128*H128 -> 0 | S128: 0 | T128: =S128*H128 -> 0 | AR128: 4 | AT128: K | AU128: 1 | AY128: ROZPOCET | BE128: =IF(N128="základní",J128,0) -> 0 | BF128: =IF(N128="snížená",J128,0) -> 0 | BG128: =IF(N128="zákl. přenesená",J128,0) -> 0 | BH128: =IF(N128="sníž. přenesená",J128,0) -> 0 | BI128: =IF(N128="nulová",J128,0) -> 0 | BJ128: 1 | BK128: =ROUND(I128*H128,2) -> 0 | BL128: 4 | BM128: 1626819164
C129: 24 | D129: K | E129: 7.1 | F129: LED PÁSEK V AL KRYCÍM PROFILU (POD KUCH. LINKOU), 14,4W/m, VČ. ZDROJE 230AC/12VDC - 50W | G129: ks | H129: 1 | J129: =ROUND(I129*H129,2) -> 0 | N129: základní | P129: =O129*H129 -> 0 | Q129: 0 | R129: =Q129*H129 -> 0 | S129: 0 | T129: =S129*H129 -> 0 | AR129: 4 | AT129: K | AU129: 1 | AY129: ROZPOCET | BE129: =IF(N129="základní",J129,0) -> 0 | BF129: =IF(N129="snížená",J129,0) -> 0 | BG129: =IF(N129="zákl. přenesená",J129,0) -> 0 | BH129: =IF(N129="sníž. přenesená",J129,0) -> 0 | BI129: =IF(N129="nulová",J129,0) -> 0 | BJ129: 1 | BK129: =ROUND(I129*H129,2) -> 0 | BL129: 4 | BM129: 721979695
... C141: 36 | D141: K | E141: 20 | F141: KOORDINAČNÍ A PLÁNOVACÍ ČINNOST | G141: ks | H141: 1 | J141: =ROUND(I141*H141,2) -> 0 | N141: základní | P141: =O141*H141 -> 0 | Q141: 0 | R141: =Q141*H141 -> 0 | S141: 0 | T141: =S141*H141 -> 0 | AR141: 4 | AT141: K | AU141: 1 | AY141: ROZPOCET | BE141: =IF(N141="základní",J141,0) -> 0 | BF141: =IF(N141="snížená",J141,0) -> 0 | BG141: =IF(N141="zákl. přenesená",J141,0) -> 0 | BH141: =IF(N141="sníž. přenesená",J141,0) -> 0 | BI141: =IF(N141="nulová",J141,0) -> 0 | BJ141: 1 | BK141: =ROUND(I141*H141,2) -> 0 | BL141: 4 | BM141: 2033243052
...

Sheet SK - Strukturovaná kabeláž
D1: List obsahuje: | F1: 1) Krycí list soupisu | G1: 2) Rekapitulace | J1: 3) Soupis prací | K1: Zpět na list: | L1: Rekapitulace stavby
AT2: {eda48ed8-ad1d-4524-aae8-4538db2091ec}
AT3: 2
D4: KRYCÍ LIST SOUPISU | M4: v --- níže se nacházejí doplnkové a pomocné údaje k sestavám --- v | AT4: False
D6: Stavba:
E7: ='Rekapitulace stavby'!K6 -> CENTRUM SPOLEČNÝCH AKTIVIT JESENÍK
D8: Objekt:
E9: SO 01 - CENTRUM SPOLEČNÝCH AKTIVIT
D10: Soupis:
E11: D.1.4 - Technika prostředí budov
D12: Úroveň 4:
E13: SK - Strukturovaná kabeláž
D15: KSO: | I15: CC-CZ:
D16: Místo: | I16: Datum: | J16: ='Rekapitulace stavby'!AN8 -> 11.10.2016
D18: Zadavatel: | I18: IČ:
E19: MĚSTO JESENÍK | I19: DIČ:
D21: Uchazeč: | I21: IČ: | J21: =IF('Rekapitulace stavby'!AN13="Vyplň údaj","",IF('Rekapitulace stavby'!AN13="","",'Rekapitulace stavby'!AN13))
E22: =IF('Rekapitulace stavby'!E14="Vyplň údaj","",IF('Rekapitulace stavby'!E14="","",'Rekapitulace stavby'!E14)) | I22: DIČ: | J22: =IF('Rekapitulace stavby'!AN14="Vyplň údaj","",IF('Rekapitulace stavby'!AN14="","",'Rekapitulace stavby'!AN14))
D24: Projektant: | I24: IČ:
E25: KANIA a.s. , Ostrava | I25: DIČ:
D27: Poznámka:
E28: Soupis prací je sestaven za využití položek Cenové soustavy ÚRS. Cenové a technické podmínky položek CS ÚRS, které nejsou uvedeny v soupisu prací (tzv. úvodní části katalogů) jsou neomezeně dálkově k dispozici na www.cs-urs.cz. Položky soupisu prací, které nemají ve sloupci „Cenová soustava“ uveden žádný údaj, nepochází z Cenové soustavy ÚRS (takové položky soupisu prací mají Cenovou soustavu „VLASTNÍ“). Ocenění "vlastní" položky:na základě odborných znalostí a zkušeností projektanta při realizaci obdobných zakázek za období 5-ti let. nebo na základě cen v místě a čase obvyklých). Nedílnou součástí soupisu prací je projektová dokumentace vč. textových příloh, na kterou se položky soupisu prací plně odkazují.
D31: Cena bez DPH | J31: =ROUND(J95,2) -> 0
F33: Základ daně | I33: Sazba daně | J33: Výše daně
D34: DPH | E34: základní | F34: =ROUND(SUM(BE95:BE141), 2) -> 0 | I34: 0.21 | J34: =ROUND(ROUND((SUM(BE95:BE141)), 2)*I34, 2) -> 0
E35: snížená | F35: =ROUND(SUM(BF95:BF141), 2) -> 0 | I35: 0.15 | J35: =ROUND(ROUND((SUM(BF95:BF141)), 2)*I35, 2) -> 0
E36: zákl. přenesená | F36: =ROUND(SUM(BG95:BG141), 2) -> 0 | I36: 0.21 | J36: 0
E37: sníž. přenesená | F37: =ROUND(SUM(BH95:BH141), 2) -> 0 | I37: 0.15 | J37: 0
E38: nulová | F38: =ROUND(SUM(BI95:BI141), 2) -> 0 | I38: 0 | J38: 0
D40: Cena s DPH | G40: v | H40: CZK | J40: =SUM(J31:J38) -> 0
C46: REKAPITULACE ČLENĚNÍ SOUPISU PRACÍ
C48: Stavba:
E49: =E7 -> CENTRUM SPOLEČNÝCH AKTIVIT JESENÍK
C50: Objekt:
E51: SO 01 - CENTRUM SPOLEČNÝCH AKTIVIT
C52: Soupis:
E53: D.1.4 - Technika prostředí budov
C54: Úroveň 4:
E55: =E13 -> SK - Strukturovaná kabeláž
C57: Místo: | F57: =F16 | I57: Datum: | J57: =IF(J16="","",J16) -> 11.10.2016
C59: Zadavatel: | F59: =E19 -> MĚSTO JESENÍK | I59: Projektant: | J59: =E25 -> KANIA a.s. , Ostrava
C60: Uchazeč: | F60: =IF(E22="","",E22)
C62: Kód dílu - Popis | J62: Cena celkem [CZK]
C64: Náklady soupisu celkem | J64: =J95 -> 0 | AU64: -1
D65: D1 - Přípojné místo | J65: =J96 -> 0
D66: D2 - Rozvaděč | J66: =J103 -> 0
D67: D3 - Propojovací kabely | J67: =J110 -> 0
D68: D4 - Optika - vybavení rozvaděčů | J68: =J116 -> 0
D69: D5 - Kabely | J69: =J122 -> 0
D70: D6 - Aktivní prvky | J70: =J128 -> 0
D71: D7 - Ostatní | J71: =J134 -> 0
C78: SOUPIS PRACÍ
C80: Stavba:
E81: =E7 -> CENTRUM SPOLEČNÝCH AKTIVIT JESENÍK
C82: Objekt:
E83: SO 01 - CENTRUM SPOLEČNÝCH AKTIVIT
C84: Soupis:
E85: D.1.4 - Technika prostředí budov
C86: Úroveň 4:
E87: =E13 -> SK - Strukturovaná kabeláž
C89: Místo: | F89: =F16 | I89: Datum: | J89: =IF(J16="","",J16) -> 11.10.2016
C91: Zadavatel: | F91: =E19 -> MĚSTO JESENÍK | I91: Projektant: | J91: =E25 -> KANIA a.s. , Ostrava
C92: Uchazeč: | F92: =IF(E22="","",E22)
C94: PČ | D94: Typ | E94: Kód | F94: Popis | G94: MJ | H94: Množství | I94: J.cena [CZK] | J94: Cena celkem [CZK] | K94: Cenová soustava | M94: Poznámka | N94: DPH | O94: J. Nh [h] | P94: Nh celkem [h] | Q94: J. hmotnost_x000D_ [t] | R94: Hmotnost_x000D_ celkem [t] | S94: J. suť [t] | T94: Suť Celkem [t]
C95: Náklady soupisu celkem | J95: =BK95 -> 0 | P95: =P96+P103+P110+P116+P122+P128+P134 -> 0 | R95: =R96+R103+R110+R116+R122+R128+R134 -> 0 | T95: =T96+T103+T110+T116+T122+T128+T134 -> 0 | AT95: D | AU95: -1 | BK95: =BK96+BK103+BK110+BK116+BK122+BK128+BK134 -> 0
D96: D | E96: D1 | F96: Přípojné místo | J96: =BK96 -> 0 | P96: =SUM(P97:P102) -> 0 | R96: =SUM(R97:R102) -> 0 | T96: =SUM(T97:T102) -> 0 | AR96: 1 | AT96: D | AU96: 0 | AY96: ROZPOCET | BK96: =SUM(BK97:BK102) -> 0
C97: 0 | D97: K | E97: 1.1 | F97: Keystone modul RJ-45 nestíněný, Cat. 6, | G97: ks | H97: 150 | J97: =ROUND(I97*H97,2) -> 0 | N97: základní | P97: =O97*H97 -> 0 | Q97: 0 | R97: =Q97*H97 -> 0 | S97: 0 | T97: =S97*H97 -> 0 | AR97: 4 | AT97: K | AU97: 1 | AY97: ROZPOCET | BE97: =IF(N97="základní",J97,0) -> 0 | BF97: =IF(N97="snížená",J97,0) -> 0 | BG97: =IF(N97="zákl. přenesená",J97,0) -> 0 | BH97: =IF(N97="sníž. přenesená",J97,0) -> 0 | BI97: =IF(N97="nulová",J97,0) -> 0 | BJ97: 1 | BK97: =ROUND(I97*H97,2) -> 0 | BL97: 4 | BM97: 81625812
C98: 0 | D98: K | E98: 1.2 | F98: maska nosná, 2x pozice keystone | G98: ks | H98: 69 | J98: =ROUND(I98*H98,2) -> 0 | N98: základní | P98: =O98*H98 -> 0 | Q98: 0 | R98: =Q98*H98 -> 0 | S98: 0 | T98: =S98*H98 -> 0 | AR98: 4 | AT98: K | AU98: 1 | AY98: ROZPOCET | BE98: =IF(N98="základní",J98,0) -> 0 | BF98: =IF(N98="snížená",J98,0) -> 0 | BG98: =IF(N98="zákl. přenesená",J98,0) -> 0 | BH98: =IF(N98="sníž. přenesená",J98,0) -> 0 | BI98: =IF(N98="nulová",J98,0) -> 0 | BJ98: 1 | BK98: =ROUND(I98*H98,2) -> 0 | BL98: 4 | BM98: -1357428036
C99: 0 | D99: K | E99: 1.3 | F99: maska nosná, 1x pozice keystone | G99: ks | H99: 8 | J99: =ROUND(I99*H99,2) -> 0 | N99: základní | P99: =O99*H99 -> 0 | Q99: 0 | R99: =Q99*H99 -> 0 | S99: 0 | T99: =S99*H99 -> 0 | AR99: 4 | AT99: K | AU99: 1 | AY99: ROZPOCET | BE99: =IF(N99="základní",J99,0) -> 0 | BF99: =IF(N99="snížená",J99,0) -> 0 | BG99: =IF(N99="zákl. přenesená",J99,0) -> 0 | BH99: =IF(N99="sníž. přenesená",J99,0) -> 0 | BI99: =IF(N99="nulová",J99,0) -> 0 | BJ99: 1 | BK99: =ROUND(I99*H99,2) -> 0 | BL99: 4 | BM99: 786869404
C100: 0 | D100: K | E100: 1.4 | F100: kryt zásuvky pro nosné masky | G100: ks | H100: 77 | J100: =ROUND(I100*H100,2) -> 0 | N100: základní | P100: =O100*H100 -> 0 | Q100: 0 | R100: =Q100*H100 -> 0 | S100: 0 | T100: =S100*H100 -> 0 | AR100: 4 | AT100: K | AU100: 1 | AY100: ROZPOCET | BE100: =IF(N100="základní",J100,0) -> 0 | BF100: =IF(N100="snížená",J100,0) -> 0 | BG100: =IF(N100="zákl. přenesená",J100,0) -> 0 | BH100: =IF(N100="sníž. přenesená",J100,0) -> 0 | BI100: =IF(N100="nulová",J100,0) -> 0 | BJ100: 1 | BK100: =ROUND(I100*H100,2) -> 0 | BL100: 4 | BM100: 829556747
C101: 0 | D101: K | E101: 1.5 | F101: rámeček zásuvky jednonásobný | G101: ks | H101: 77 | J101: =ROUND(I101*H101,2) -> 0 | N101: základní | P101: =O101*H101 -> 0 | Q101: 0 | R101: =Q101*H101 -> 0 | S101: 0 | T101: =S101*H101 -> 0 | AR101: 4 | AT101: K | AU101: 1 | AY101: ROZPOCET | BE101: =IF(N101="základní",J101,0) -> 0 | BF101: =IF(N101="snížená",J101,0) -> 0 | BG101: =IF(N101="zákl. přenesená",J101,0) -> 0 | BH101: =IF(N101="sníž. přenesená",J101,0) -> 0 | BI101: =IF(N101="nulová",J101,0) -> 0 | BJ101: 1 | BK101: =ROUND(I101*H101,2) -> 0 | BL101: 4 | BM101: 981529560
C102: 0 | D102: K | E102: 1.6 | F102: Držák keystone modul 22,5*45 | G102: ks | H102: 4 | J102: =ROUND(I102*H102,2) -> 0 | N102: základní | P102: =O102*H102 -> 0 | Q102: 0 | R102: =Q102*H102 -> 0 | S102: 0 | T102: =S102*H102 -> 0 | AR102: 4 | AT102: K | AU102: 1 | AY102: ROZPOCET | BE102: =IF(N102="základní",J102,0) -> 0 | BF102: =IF(N102="snížená",J102,0) -> 0 | BG102: =IF(N102="zákl. přenesená",J102,0) -> 0 | BH102: =IF(N102="sníž. přenesená",J102,0) -> 0 | BI102: =IF(N102="nulová",J102,0) -> 0 | BJ102: 1 | BK102: =ROUND(I102*H102,2) -> 0 | BL102: 4 | BM102: -1986554170
D103: D | E103: D2 | F103: Rozvaděč | J103: =BK103 -> 0 | P103: =SUM(P104:P109) -> 0 | R103: =SUM(R104:R109) -> 0 | T103: =SUM(T104:T109) -> 0 | AR103: 1 | AT103: D | AU103: 0 | AY103: ROZPOCET | BK103: =SUM(BK104:BK109) -> 0
C104: 0 | D104: K | E104: 2.1 | F104: datový rozvaděč 19", 42U, 80x800, prosklené dveře, rozebíratelný | G104: ks | H104: 1 | J104: =ROUND(I104*H104,2) -> 0 | N104: základní | P104: =O104*H104 -> 0 | Q104: 0 | R104: =Q104*H104 -> 0 | S104: 0 | T104: =S104*H104 -> 0 | AR104: 4 | AT104: K | AU104: 1 | AY104: ROZPOCET | BE104: =IF(N104="základní",J104,0) -> 0 | BF104: =IF(N104="snížená",J104,0) -> 0 | BG104: =IF(N104="zákl. přenesená",J104,0) -> 0 | BH104: =IF(N104="sníž. přenesená",J104,0) -> 0 | BI104: =IF(N104="nulová",J104,0) -> 0 | BJ104: 1 | BK104: =ROUND(I104*H104,2) -> 0 | BL104: 4 | BM104: 849178963
C105: 0 | D105: K | E105: 2.3 | F105: Patchpanel 50 port, 1U, kat. 3 | G105: ks | H105: 1 | J105: =ROUND(I105*H105,2) -> 0 | N105: základní | P105: =O105*H105 -> 0 | Q105: 0 | R105: =Q105*H105 -> 0 | S105: 0 | T105: =S105*H105 -> 0 | AR105: 4 | AT105: K | AU105: 1 | AY105: ROZPOCET | BE105: =IF(N105="základní",J105,0) -> 0 | BF105: =IF(N105="snížená",J105,0) -> 0 | BG105: =IF(N105="zákl. přenesená",J105,0) -> 0 | BH105: =IF(N105="sníž. přenesená",J105,0) -> 0 | BI105: =IF(N105="nulová",J105,0) -> 0 | BJ105: 1 | BK105: =ROUND(I105*H105,2) -> 0 | BL105: 4 | BM105: 1970171
C106: 0 | D106: K | E106: 2.4 | F106: Patchpanel 24 port, 1U, kat. 6 | G106: ks | H106: 7 | J106: =ROUND(I106*H106,2) -> 0 | N106: základní | P106: =O106*H106 -> 0 | Q106: 0 | R106: =Q106*H106 -> 0 | S106: 0 | T106: =S106*H106 -> 0 | AR106: 4 | AT106: K | AU106: 1 | AY106: ROZPOCET | BE106: =IF(N106="základní",J106,0) -> 0 | BF106: =IF(N106="snížená",J106,0) -> 0 | BG106: =IF(N106="zákl. přenesená",J106,0) -> 0 | BH106: =IF(N106="sníž. přenesená",J106,0) -> 0 | BI106: =IF(N106="nulová",J106,0) -> 0 | BJ106: 1 | BK106: =ROUND(I106*H106,2) -> 0 | BL106: 4 | BM106: -460036785
C107: 0 | D107: K | E107: 2.6 | F107: 19" Organizér, plastový kanál, 1U | G107: ks | H107: 6 | J107: =ROUND(I107*H107,2) -> 0 | N107: základní | P107: =O107*H107 -> 0 | Q107: 0 | R107: =Q107*H107 -> 0 | S107: 0 | T107: =S107*H107 -> 0 | AR107: 4 | AT107: K | AU107: 1 | AY107: ROZPOCET | BE107: =IF(N107="základní",J107,0) -> 0 | BF107: =IF(N107="snížená",J107,0) -> 0 | BG107: =IF(N107="zákl. přenesená",J107,0) -> 0 | BH107: =IF(N107="sníž. přenesená",J107,0) -> 0 | BI107: =IF(N107="nulová",J107,0) -> 0 | BJ107: 1 | BK107: =ROUND(I107*H107,2) -> 0 | BL107: 4 | BM107: -506498313
C108: 0 | D108: K | E108: 2.7 | F108: 19" Polička 450mm, 1U, nosnost 30kg, černá | G108: ks | H108: 2 | J108: =ROUND(I108*H108,2) -> 0 | N108: základní | P108: =O108*H108 -> 0 | Q108: 0 | R108: =Q108*H108 -> 0 | S108: 0 | T108: =S108*H108 -> 0 | AR108: 4 | AT108: K | AU108: 1 | AY108: ROZPOCET | BE108: =IF(N108="základní",J108,0) -> 0 | BF108: =IF(N108="snížená",J108,0) -> 0 | BG108: =IF(N108="zákl. přenesená",J108,0) -> 0 | BH108: =IF(N108="sníž. přenesená",J108,0) -> 0 | BI108: =IF(N108="nulová",J108,0) -> 0 | BJ108: 1 | BK108: =ROUND(I108*H108,2) -> 0 | BL108: 4 | BM108: -1733241732
C109: 0 | D109: K | E109: 2.8 | F109: 19" Napájecí panel, přepěťová ochrana, 5x230V, 1U | G109: ks | H109: 2 | J109: =ROUND(I109*H109,2) -> 0 | N109: základní | P109: =O109*H109 -> 0 | Q109: 0 | R109: =Q109*H109 -> 0 | S109: 0 | T109: =S109*H109 -> 0 | AR109: 4 | AT109: K | AU109: 1 | AY109: ROZPOCET | BE109: =IF(N109="základní",J109,0) -> 0 | BF109: =IF(N109="snížená",J109,0) -> 0 | BG109: =IF(N109="zákl. přenesená",J109,0) -> 0 | BH109: =IF(N109="sníž. přenesená",J109,0) -> 0 | BI109: =IF(N109="nulová",J109,0) -> 0 | BJ109: 1 | BK109: =ROUND(I109*H109,2) -> 0 | BL109: 4 | BM109: 797063318
D110: D | E110: D3 | F110: Propojovací kabely | J110: =BK110 -> 0 | P110: =SUM(P111:P115) -> 0 | R110: =SUM(R111:R115) -> 0 | T110: =SUM(T111:T115) -> 0 | AR110: 1 | AT110: D | AU110: 0 | AY110: ROZPOCET | BK110: =SUM(BK111:BK115) -> 0
C111: 0 | D111: K | E111: 3.1 | F111: propojovací kabel RJ45/RJ45, U/UTP, 1m, kat. 6, šedá | G111: ks | H111: 30 | J111: =ROUND(I111*H111,2) -> 0 | N111: základní | P111: =O111*H111 -> 0 | Q111: 0 | R111: =Q111*H111 -> 0 | S111: 0 | T111: =S111*H111 -> 0 | AR111: 4 | AT111: K | AU111: 1 | AY111: ROZPOCET | BE111: =IF(N111="základní",J111,0) -> 0 | BF111: =IF(N111="snížená",J111,0) -> 0 | BG111: =IF(N111="zákl. přenesená",J111,0) -> 0 | BH111: =IF(N111="sníž. přenesená",J111,0) -> 0 | BI111: =IF(N111="nulová",J111,0) -> 0 | BJ111: 1 | BK111: =ROUND(I111*H111,2) -> 0 | BL111: 4 | BM111: 1981943923
C112: 0 | D112: K | E112: 3.2 | F112: propojovací kabel RJ45/RJ45, U/UTP, 2m, kat. 6, šedá | G112: ks | H112: 30 | J112: =ROUND(I112*H112,2) -> 0 | N112: základní | P112: =O112*H112 -> 0 | Q112: 0 | R112: =Q112*H112 -> 0 | S112: 0 | T112: =S112*H112 -> 0 | AR112: 4 | AT112: K | AU112: 1 | AY112: ROZPOCET | BE112: =IF(N112="základní",J112,0) -> 0 | BF112: =IF(N112="snížená",J112,0) -> 0 | BG112: =IF(N112="zákl. přenesená",J112,0) -> 0 | BH112: =IF(N112="sníž. přenesená",J112,0) -> 0 | BI112: =IF(N112="nulová",J112,0) -> 0 | BJ112: 1 | BK112: =ROUND(I112*H112,2) -> 0 | BL112: 4 | BM112: 951867620
C113: 0 | D113: K | E113: 3.3 | F113: propojovací kabel RJ45/RJ45, U/UTP, 3m, kat. 6, šedá | G113: ks | H113: 10 | J113: =ROUND(I113*H113,2) -> 0 | N113: základní | P113: =O113*H113 -> 0 | Q113: 0 | R113: =Q113*H113 -> 0 | S113: 0 | T113: =S113*H113 -> 0 | AR113: 4 | AT113: K | AU113: 1 | AY113: ROZPOCET | BE113: =IF(N113="základní",J113,0) -> 0 | BF113: =IF(N113="snížená",J113,0) -> 0 | BG113: =IF(N113="zákl. přenesená",J113,0) -> 0 | BH113: =IF(N113="sníž. přenesená",J113,0) -> 0 | BI113: =IF(N113="nulová",J113,0) -> 0 | BJ113: 1 | BK113: =ROUND(I113*H113,2) -> 0 | BL113: 4 | BM113: 1326519308
C114: 0 | D114: K | E114: 3.4 | F114: propojovací kabel RJ45/RJ45, U/UTP, 5m, kat. 6, šedá | G114: ks | H114: 10 | J114: =ROUND(I114*H114,2) -> 0 | N114: základní | P114: =O114*H114 -> 0 | Q114: 0 | R114: =Q114*H114 -> 0 | S114: 0 | T114: =S114*H114 -> 0 | AR114: 4 | AT114: K | AU114: 1 | AY114: ROZPOCET | BE114: =IF(N114="základní",J114,0) -> 0 | BF114: =IF(N114="snížená",J114,0) -> 0 | BG114: =IF(N114="zákl. přenesená",J114,0) -> 0 | BH114: =IF(N114="sníž. přenesená",J114,0) -> 0 | BI114: =IF(N114="nulová",J114,0) -> 0 | BJ114: 1 | BK114: =ROUND(I114*H114,2) -> 0 | BL114: 4 | BM114: 1205421642
C115: 0 | D115: K | E115: 3.5 | F115: telefonní propojovací kabel RJ12-RJ45 | G115: ks | H115: 5 | J115: =ROUND(I115*H115,2) -> 0 | N115: základní | P115: =O115*H115 -> 0 | Q115: 0 | R115: =Q115*H115 -> 0 | S115: 0 | T115: =S115*H115 -> 0 | AR115: 4 | AT115: K | AU115: 1 | AY115: ROZPOCET | BE115: =IF(N115="základní",J115,0) -> 0 | BF115: =IF(N115="snížená",J115,0) -> 0 | BG115: =IF(N115="zákl. přenesená",J115,0) -> 0 | BH115: =IF(N115="sníž. přenesená",J115,0) -> 0 | BI115: =IF(N115="nulová",J115,0) -> 0 | BJ115: 1 | BK115: =ROUND(I115*H115,2) -> 0 | BL115: 4 | BM115: -1020160866
D116: D | E116: D4 | F116: Optika - vybavení rozvaděčů | J116: =BK116 -> 0 | P116: =SUM(P117:P121) -> 0 | R116: =SUM(R117:R121) -> 0 | T116: =SUM(T117:T121) -> 0 | AR116: 1 | AT116: D | AU116: 0 | AY116: ROZPOCET | BK116: =SUM(BK117:BK121) -> 0
