Workbook
Name cisloobjektu: 'Krycí list'!$A$5
Name cislostavby: 'Krycí list'!$A$7
Name Datum: 'Krycí list'!$B$27
Name Dil: Rekapitulace!$A$6
Name Dodavka: Rekapitulace!$G$14
Name Dodavka0: Položky!#REF!
Name HSV: Rekapitulace!$E$14
Name HSV0: Položky!#REF!
Name HZS: Rekapitulace!$I$14
Name HZS0: Položky!#REF!
Name JKSO: 'Krycí list'!$G$2
Name MJ: 'Krycí list'!$G$5
Name Mont: Rekapitulace!$H$14
Name Montaz0: Položky!#REF!
Name NazevDilu: Rekapitulace!$B$6
Name nazevobjektu: 'Krycí list'!$C$5
Name nazevstavby: 'Krycí list'!$C$7
Name Objednatel: 'Krycí list'!$C$10
Name PocetMJ: 'Krycí list'!$G$6
Name Poznamka: 'Krycí list'!$B$37
Name Projektant: 'Krycí list'!$C$8
Name PSV: Rekapitulace!$F$14
Name PSV0: Položky!#REF!
Name SazbaDPH1: 'Krycí list'!$C$30
Name SazbaDPH2: 'Krycí list'!$C$32
Name SloupecCC: Položky!$G$6
Name SloupecCisloPol: Položky!$B$6
Name SloupecJC: Položky!$F$6
Name SloupecMJ: Položky!$D$6
Name SloupecMnozstvi: Položky!$E$6
Name SloupecNazPol: Položky!$C$6
Name SloupecPC: Položky!$A$6
Name Typ: Položky!#REF!
Name VRN: Rekapitulace!$H$27
Name VRNKc: Rekapitulace!#REF!
Name VRNnazev: Rekapitulace!#REF!
Name VRNproc: Rekapitulace!#REF!
Name VRNzakl: Rekapitulace!#REF!
Name Zakazka: 'Krycí list'!$G$11
Name Zaklad22: 'Krycí list'!$F$32
Name Zaklad5: 'Krycí list'!$F$30
Name Zhotovitel: 'Krycí list'!$C$11:$E$11

Sheet Krycí list
A1: POLOŽKOVÝ ROZPOČET
A2: Rozpočet | C2: =Rekapitulace!H1 -> 0 | D2: =Rekapitulace!G2 -> 0 | F2: JKSO
A4: Objekt | C4: Název objektu | F4: SKP
A5: 01 | C5: Školní zahrada | F5: Měrná jednotka
A6: Stavba | C6: Název stavby | F6: Počet jednotek | G6: 0
A7: 2018/051 | C7: Revitalizace školní zahrady ZŠ Běchovice | F7: Náklady na m.j. | G7: =IF(PocetMJ=0,,ROUND((F30+F32)/PocetMJ,1)) -> 0
A8: Projektant | F8: Typ rozpočtu
A9: Zpracovatel projektu | C9: =Projektant -> 0
A10: Objednatel
A11: Dodavatel | F11: Zakázkové číslo
A12: Rozpočtoval | F12: Počet listů
A13: ROZPOČTOVÉ NÁKLADY
A14: Základní rozpočtové náklady | D14: Ostatní rozpočtové náklady
B15: HSV celkem | C15: =HSV -> 0 | D15: =Rekapitulace!A19 -> Ztížené výrobní podmínky | G15: =Rekapitulace!I19 -> 0
A16: Z | B16: PSV celkem | C16: =PSV -> 0 | D16: =Rekapitulace!A20 -> Oborová přirážka | G16: =Rekapitulace!I20 -> 0
A17: R | B17: M práce celkem | C17: =Mont -> 0 | D17: =Rekapitulace!A21 -> Přesun stavebních kapacit | G17: =Rekapitulace!I21 -> 0
A18: N | B18: M dodávky celkem | C18: =Dodavka -> 0 | D18: =Rekapitulace!A22 -> Mimostaveništní doprava | G18: =Rekapitulace!I22 -> 0
A19: ZRN celkem | C19: =SUM(C15:C18) -> 0 | D19: =Rekapitulace!A23 -> Zařízení staveniště | G19: =Rekapitulace!I23 -> 0
D20: =Rekapitulace!A24 -> Provoz investora | G20: =Rekapitulace!I24 -> 0
A21: HZS | C21: =HZS -> 0 | D21: =Rekapitulace!A25 -> Kompletační činnost (IČD) | G21: =Rekapitulace!I25 -> 0
A22: ZRN+HZS | C22: =C19+C21 -> 0 | D22: Ostatní náklady neuvedené | G22: =G23-SUM(G15:G21) -> 0
A23: ZRN+ost.náklady+HZS | C23: =C22+G23 -> 0 | D23: Ostatní náklady celkem | G23: =VRN -> 0
A24: Vypracoval | D24: Za zhotovitele | F24: Za objednatele
A25: Jméno : | D25: Jméno : | F25: Jméno :
A26: Datum : | D26: Datum : | F26: Datum :
A28: Podpis : | D28: Podpis: | F28: Podpis:
A30: Základ pro DPH | C30: 21 | D30: % | F30: =C23-F32 -> 0
A31: DPH | C31: =SazbaDPH1 -> 21 | D31: % | F31: =ROUND(PRODUCT(F30,C31/100),0) -> 0
A32: Základ pro DPH | C32: 0 | D32: % | F32: 0
A33: DPH | C33: =SazbaDPH2 -> 0 | D33: % | F33: =ROUND(PRODUCT(F32,C33/100),0) -> 0
A34: CENA ZA OBJEKT CELKEM | F34: =ROUND(SUM(F30:F33),0) -> 0
A36: Poznámka :

Sheet Rekapitulace
A1: Stavba : | C1: =CONCATENATE(cislostavby," ",nazevstavby) -> 2018/051 Revitalizace školní zahrady ZŠ Běchovice | G1: Rozpočet :
A2: Objekt : | C2: =CONCATENATE(cisloobjektu," ",nazevobjektu) -> 01 Školní zahrada
A4: REKAPITULACE STAVEBNÍCH DÍLŮ
B6: Stavební díl | E6: HSV | F6: PSV | G6: Dodávka | H6: Montáž | I6: HZS
A7: =Položky!B7 -> 1 | B7: =Položky!C7 -> Zemní práce | E7: =Položky!BA25 -> 0 | F7: =Položky!BB25 -> 0 | G7: =Položky!BC25 -> 0 | H7: =Položky!BD25 -> 0 | I7: =Položky!BE25 -> 0
A8: =Položky!B26 -> 11 | B8: =Položky!C26 -> Přípravné a přidružené práce | E8: =Položky!BA27 -> 0 | F8: =Položky!BB27 -> 0 | G8: =Položky!BC27 -> 0 | H8: =Položky!BD27 -> 0 | I8: =Položky!BE27 -> 0
A9: =Položky!B28 -> 2 | B9: =Položky!C28 -> Základy a zvláštní zakládání | E9: =Položky!BA37 -> 0 | F9: =Položky!BB37 -> 0 | G9: =Položky!BC37 -> 0 | H9: =Položky!BD37 -> 0 | I9: =Položky!BE37 -> 0
A10: =Položky!B38 -> 5 | B10: =Položky!C38 -> Komunikace | E10: =Položky!BA48 -> 0 | F10: =Položky!BB48 -> 0 | G10: =Položky!BC48 -> 0 | H10: =Položky!BD48 -> 0 | I10: =Položky!BE48 -> 0
A11: =Položky!B49 -> 91 | B11: =Položky!C49 -> Doplňující práce na komunikaci | E11: =Položky!BA53 -> 0 | F11: =Položky!BB53 -> 0 | G11: =Položky!BC53 -> 0 | H11: =Položky!BD53 -> 0 | I11: =Položky!BE53 -> 0
A12: =Položky!B54 -> 99 | B12: =Položky!C54 -> Staveništní přesun hmot | E12: =Položky!BA56 -> 0 | F12: =Položky!BB56 -> 0 | G12: =Položky!BC56 -> 0 | H12: =Položky!BD56 -> 0 | I12: =Položky!BE56 -> 0
A13: =Položky!B57 -> 725 | B13: =Položky!C57 -> Zařizovací předměty | E13: =Položky!BA68 -> 0 | F13: =Položky!BB68 -> 0 | G13: =Položky!BC68 -> 0 | H13: =Položky!BD68 -> 0 | I13: =Položky!BE68 -> 0
B14: CELKEM OBJEKT | E14: =SUM(E7:E13) -> 0 | F14: =SUM(F7:F13) -> 0 | G14: =SUM(G7:G13) -> 0 | H14: =SUM(H7:H13) -> 0 | I14: =SUM(I7:I13) -> 0
A16: VEDLEJŠÍ ROZPOČTOVÉ NÁKLADY
A18: Název VRN | E18: Kč | F18: % | G18: Základna | I18: Kč
A19: Ztížené výrobní podmínky | E19: 0 | F19: 0 | G19: =CHOOSE(BA19+1,HSV+PSV,HSV+PSV+Mont,HSV+PSV+Dodavka+Mont,HSV,PSV,Mont,Dodavka,Mont+Dodavka,0) -> 0 | I19: =E19+F19*G19/100 -> 0 | BA19: 0
A20: Oborová přirážka | E20: 0 | F20: 0 | G20: =CHOOSE(BA20+1,HSV+PSV,HSV+PSV+Mont,HSV+PSV+Dodavka+Mont,HSV,PSV,Mont,Dodavka,Mont+Dodavka,0) -> 0 | I20: =E20+F20*G20/100 -> 0 | BA20: 0
A21: Přesun stavebních kapacit | E21: 0 | F21: 0 | G21: =CHOOSE(BA21+1,HSV+PSV,HSV+PSV+Mont,HSV+PSV+Dodavka+Mont,HSV,PSV,Mont,Dodavka,Mont+Dodavka,0) -> 0 | I21: =E21+F21*G21/100 -> 0 | BA21: 0
A22: Mimostaveništní doprava | E22: 0 | F22: 0 | G22: =CHOOSE(BA22+1,HSV+PSV,HSV+PSV+Mont,HSV+PSV+Dodavka+Mont,HSV,PSV,Mont,Dodavka,Mont+Dodavka,0) -> 0 | I22: =E22+F22*G22/100 -> 0 | BA22: 0
A23: Zařízení staveniště | E23: 0 | F23: 0 | G23: =CHOOSE(BA23+1,HSV+PSV,HSV+PSV+Mont,HSV+PSV+Dodavka+Mont,HSV,PSV,Mont,Dodavka,Mont+Dodavka,0) -> 0 | I23: =E23+F23*G23/100 -> 0 | BA23: 1
A24: Provoz investora | E24: 0 | F24: 0 | G24: =CHOOSE(BA24+1,HSV+PSV,HSV+PSV+Mont,HSV+PSV+Dodavka+Mont,HSV,PSV,Mont,Dodavka,Mont+Dodavka,0) -> 0 | I24: =E24+F24*G24/100 -> 0 | BA24: 1
A25: Kompletační činnost (IČD) | E25: 0 | F25: 0 | G25: =CHOOSE(BA25+1,HSV+PSV,HSV+PSV+Mont,HSV+PSV+Dodavka+Mont,HSV,PSV,Mont,Dodavka,Mont+Dodavka,0) -> 0 | I25: =E25+F25*G25/100 -> 0 | BA25: 2
A26: Rezerva rozpočtu | E26: 0 | F26: 0 | G26: =CHOOSE(BA26+1,HSV+PSV,HSV+PSV+Mont,HSV+PSV+Dodavka+Mont,HSV,PSV,Mont,Dodavka,Mont+Dodavka,0) -> 0 | I26: =E26+F26*G26/100 -> 0 | BA26: 2
B27: CELKEM VRN | H27: =SUM(I19:I26) -> 0

Sheet Položky
A1: Položkový rozpočet
A3: Stavba : | C3: =CONCATENATE(cislostavby," ",nazevstavby) -> 2018/051 Revitalizace školní zahrady ZŠ Běchovice | E3: Rozpočet: | F3: =Rekapitulace!H1 -> 0
A4: Objekt : | C4: =CONCATENATE(cisloobjektu," ",nazevobjektu) -> 01 Školní zahrada | E4: =Rekapitulace!G2 -> 0
A6: P.č. | B6: Číslo položky | C6: Název položky | D6: MJ | E6: množství | F6: cena / MJ | G6: celkem (Kč)
A7: Díl: | B7: 1 | C7: Zemní práce | O7: 1
A8: 3 | B8: 121112200U00 | C8: Sejmutí ornice ručně tř.2 15cm- | D8: m3 | E8: 3.96 | F8: 0 | G8: =E8*F8 -> 0 | O8: 2 | AA8: 1 | AB8: 1 | AC8: 1 | AZ8: 1 | BA8: =IF(AZ8=1,G8,0) -> 0 | BB8: =IF(AZ8=2,G8,0) -> 0 | BC8: =IF(AZ8=3,G8,0) -> 0 | BD8: =IF(AZ8=4,G8,0) -> 0 | BE8: =IF(AZ8=5,G8,0) -> 0 | CA8: 1 | CB8: 1 | CZ8: 0
C9: Plocha pod novou dlažbou: 0,15*26 | E9: 3.96 | M9: Plocha pod novou dlažbou: 0,15*85
A10: 5 | B10: 131203101U00 | C10: Hloubení jam soudrž hor 3 ručně | D10: m3 | E10: 4.38 | F10: 0 | G10: =E10*F10 -> 0 | O10: 2 | AA10: 1 | AB10: 0 | AC10: 0 | AZ10: 1 | BA10: =IF(AZ10=1,G10,0) -> 0 | BB10: =IF(AZ10=2,G10,0) -> 0 | BC10: =IF(AZ10=3,G10,0) -> 0 | BD10: =IF(AZ10=4,G10,0) -> 0 | BE10: =IF(AZ10=5,G10,0) -> 0 | CA10: 1 | CB10: 0 | CZ10: 0
C11: Patky pro herní prvky a lavice: | E11: 0 | M11: Patky pro herní prvky a lavice:
C12: altán stodůlka: (0,3*0,3)*0,8*4 | E12: 0.288 | M12: Zahradní domek Kramajzlík: (0,3*0,3)*0,8*4
C13: infopanel: (0,3*0,3)*0,8*4 | E13: 0.288 | M13: infopanel: (0,3*0,3)*0,8*4
C14: Lovecký altán: (0,3*0,3)*6 | E14: 0.54 | M14: Lovecký altán: (0,3*0,3)*6
C15: Lavička bez područek: (0,3*1)*0,8*2*5 | E15: 2.4 | M15: Lavička bez područek: (0,3*1)*0,8*2*5
C16: lavička kolem stromu: (0,3*0,3)*0,8*4*2 | E16: 0.576 | M16: lavička kolem stromu: (0,3*0,3)*0,8*4*2
C17: Stůl s oboustranou lavicí: (0,3*0,3)*0,8*4 | E17: 0.288 | M17: Stůl s oboustranou lavicí: (0,3*0,3)*0,8*4
A18: 6 | B18: 162201203R00 | C18: Vodorovné přemíst.výkopku, kolečko hor.1-4, do 10m | D18: m3 | E18: 8.34 | F18: 0 | G18: =E18*F18 -> 0 | O18: 2 | AA18: 1 | AB18: 1 | AC18: 1 | AZ18: 1 | BA18: =IF(AZ18=1,G18,0) -> 0 | BB18: =IF(AZ18=2,G18,0) -> 0 | BC18: =IF(AZ18=3,G18,0) -> 0 | BD18: =IF(AZ18=4,G18,0) -> 0 | BE18: =IF(AZ18=5,G18,0) -> 0 | CA18: 1 | CB18: 1 | CZ18: 0
C19: vykopaná zemina: 3,96+4,38 | E19: 8.34 | M19: vykopaná zemina: 12,75+25,5+4,38
A20: 9 | B20: 167101101R00 | C20: Nakládání výkopku z hor.1-4 v množství do 100 m3 | D20: m3 | E20: 8.43 | F20: 0 | G20: =E20*F20 -> 0 | O20: 2 | AA20: 1 | AB20: 1 | AC20: 1 | AZ20: 1 | BA20: =IF(AZ20=1,G20,0) -> 0 | BB20: =IF(AZ20=2,G20,0) -> 0 | BC20: =IF(AZ20=3,G20,0) -> 0 | BD20: =IF(AZ20=4,G20,0) -> 0 | BE20: =IF(AZ20=5,G20,0) -> 0 | CA20: 1 | CB20: 1 | CZ20: 0
C21: vykopaná zemina: 3,96 + 4,38 | E21: 8.43 | M21: vykopaná zemina: 12,75+25,5+4,38
A22: 27 | B22: 199000002R00 | C22: Poplatek za skládku horniny 1- 4 | D22: m3 | E22: 0 | F22: 0 | G22: =E22*F22 -> 0 | O22: 2 | AA22: 1 | AB22: 1 | AC22: 1 | AZ22: 1 | BA22: =IF(AZ22=1,G22,0) -> 0 | BB22: =IF(AZ22=2,G22,0) -> 0 | BC22: =IF(AZ22=3,G22,0) -> 0 | BD22: =IF(AZ22=4,G22,0) -> 0 | BE22: =IF(AZ22=5,G22,0) -> 0 | CA22: 1 | CB22: 1 | CZ22: 0
C23: vykopaná zemina: 25,5+4,38 | E23: 29.88 | M23: vykopaná zemina: 25,5+4,38
A24: 28 | B24: 979981101R00 | C24: Kontejner, bioodpad, odvoz a likvidace, | D24: t | E24: 0 | F24: 0 | G24: =E24*F24 -> 0 | O24: 2 | AA24: 1 | AB24: 10 | AC24: 10 | AZ24: 1 | BA24: =IF(AZ24=1,G24,0) -> 0 | BB24: =IF(AZ24=2,G24,0) -> 0 | BC24: =IF(AZ24=3,G24,0) -> 0 | BD24: =IF(AZ24=4,G24,0) -> 0 | BE24: =IF(AZ24=5,G24,0) -> 0 | CA24: 1 | CB24: 10 | CZ24: 0
B25: Celkem za | C25: =CONCATENATE(B7," ",C7) -> 1 Zemní práce | G25: =SUM(G7:G24) -> 0 | O25: 4 | BA25: =SUM(BA7:BA24) -> 0 | BB25: =SUM(BB7:BB24) -> 0 | BC25: =SUM(BC7:BC24) -> 0 | BD25: =SUM(BD7:BD24) -> 0 | BE25: =SUM(BE7:BE24) -> 0
A26: Díl: | B26: 11 | C26: Přípravné a přidružené práce | O26: 1
B27: Celkem za | C27: =CONCATENATE(B26," ",C26) -> 11 Přípravné a přidružené práce | G27: =SUM(G26:G26) -> 0 | O27: 4 | BA27: =SUM(BA26:BA26) -> 0 | BB27: =SUM(BB26:BB26) -> 0 | BC27: =SUM(BC26:BC26) -> 0 | BD27: =SUM(BD26:BD26) -> 0 | BE27: =SUM(BE26:BE26) -> 0
A28: Díl: | B28: 2 | C28: Základy a zvláštní zakládání | O28: 1
A29: 45 | B29: 275313611R00 | C29: Beton základových patek prostý C 16/20 | D29: m3 | E29: 4.38 | F29: 0 | G29: =E29*F29 -> 0 | O29: 2 | AA29: 1 | AB29: 1 | AC29: 1 | AZ29: 1 | BA29: =IF(AZ29=1,G29,0) -> 0 | BB29: =IF(AZ29=2,G29,0) -> 0 | BC29: =IF(AZ29=3,G29,0) -> 0 | BD29: =IF(AZ29=4,G29,0) -> 0 | BE29: =IF(AZ29=5,G29,0) -> 0 | CA29: 1 | CB29: 1 | CZ29: 2.525
C30: Patky pro herní prvky a lavice: | E30: 0 | M30: Patky pro herní prvky a lavice:
C31: altán stodůlka: (0,3*0,3)*0,8*4 | E31: 0.288 | M31: Zahradní domek Kramajzlík: (0,3*0,3)*0,8*4
C32: infopanel: (0,3*0,3)*0,8*4 | E32: 0.288 | M32: infopanel: (0,3*0,3)*0,8*4
C33: Lovecký altán: (0,3*0,3)*6 | E33: 0.54 | M33: Lovecký altán: (0,3*0,3)*6
C34: Lavička bez područek: (0,3*1)*0,8*2*5 | E34: 2.4 | M34: Lavička bez područek: (0,3*1)*0,8*2*5
C35: lavička kolem stromu: (0,3*0,3)*0,8*4*2 | E35: 0.576 | M35: lavička kolem stromu: (0,3*0,3)*0,8*4*2
C36: Stůl s oboustranou lavicí: (0,3*0,3)*0,8*4 | E36: 0.288 | M36: Stůl s oboustranou lavicí: (0,3*0,3)*0,8*4
B37: Celkem za | C37: =CONCATENATE(B28," ",C28) -> 2 Základy a zvláštní zakládání | G37: =SUM(G28:G36) -> 0 | O37: 4 | BA37: =SUM(BA28:BA36) -> 0 | BB37: =SUM(BB28:BB36) -> 0 | BC37: =SUM(BC28:BC36) -> 0 | BD37: =SUM(BD28:BD36) -> 0 | BE37: =SUM(BE28:BE36) -> 0
A38: Díl: | B38: 5 | C38: Komunikace | O38: 1
A39: 47 | B39: 564751111 | C39: Podklad z kameniva drceného vel.16-32 mm,tl. 15 cm | D39: m2 | E39: 26 | F39: 0 | G39: =E39*F39 -> 0 | O39: 2 | AA39: 1 | AB39: 0 | AC39: 0 | AZ39: 1 | BA39: =IF(AZ39=1,G39,0) -> 0 | BB39: =IF(AZ39=2,G39,0) -> 0 | BC39: =IF(AZ39=3,G39,0) -> 0 | BD39: =IF(AZ39=4,G39,0) -> 0 | BE39: =IF(AZ39=5,G39,0) -> 0 | CA39: 1 | CB39: 0 | CZ39: 0.3225
C40: zámková dlažba: 12 + 14 | E40: 26 | M40: zámková dlažba: 85
A41: 48 | B41: 564751111R00 | C41: Podklad z kameniva drceného vel.8-16 mm,tl. 15 cm | D41: m2 | E41: 26 | F41: 0 | G41: =E41*F41 -> 0 | O41: 2 | AA41: 1 | AB41: 1 | AC41: 1 | AZ41: 1 | BA41: =IF(AZ41=1,G41,0) -> 0 | BB41: =IF(AZ41=2,G41,0) -> 0 | BC41: =IF(AZ41=3,G41,0) -> 0 | BD41: =IF(AZ41=4,G41,0) -> 0 | BE41: =IF(AZ41=5,G41,0) -> 0 | CA41: 1 | CB41: 1 | CZ41: 0.3225
C42: zámková dlažba: 12 + 14 | E42: 26 | M42: zámková dlažba: 85
...
