Workbook
Name CelkemDPHVypocet: Stavba!$H$40
Name CenaCelkem: Stavba!$G$29
Name CenaCelkemBezDPH: Stavba!$G$28
Name CenaCelkemVypocet: Stavba!$I$40
Name cisloobjektu: Stavba!$C$3
Name CisloRozpoctu: '[1]Krycí list'!$C$2
Name CisloStavby: Stavba!$C$2
Name cislostavby: '[1]Krycí list'!$A$7
Name CisloStavebnihoRozpoctu: Stavba!$D$4
Name dadresa: Stavba!$D$12:$G$12
Name DIČ: Stavba!$I$12
Name dmisto: Stavba!$D$13:$G$13
Name DPHSni: Stavba!$G$24
Name DPHZakl: Stavba!$G$26
Name dpsc: Stavba!$C$13
Name IČO: Stavba!$I$11
Name Mena: Stavba!$J$29
Name MistoStavby: Stavba!$D$4
Name nazevobjektu: Stavba!$D$3
Name NazevRozpoctu: '[1]Krycí list'!$D$2
Name NazevStavby: Stavba!$D$2
Name nazevstavby: '[1]Krycí list'!$C$7
Name NazevStavebnihoRozpoctu: Stavba!$E$4
Name oadresa: Stavba!$D$6
Name Objednatel: Stavba!$D$5
Name Objekt: Stavba!$B$38
Name odic: Stavba!$I$6
Name oico: Stavba!$I$5
Name omisto: Stavba!$D$7
Name onazev: Stavba!$D$6
Name opsc: Stavba!$C$7
Name padresa: Stavba!$D$9
Name pdic: Stavba!$I$9
Name pico: Stavba!$I$8
Name pmisto: Stavba!$D$10
Name PocetMJ: #REF!
Name PoptavkaID: Stavba!$A$1
Name pPSC: Stavba!$C$10
Name Projektant: Stavba!$D$8
Name SazbaDPH1: Stavba!$E$23
Name SazbaDPH1: '[1]Krycí list'!$C$30
Name SazbaDPH2: Stavba!$E$25
Name SazbaDPH2: '[1]Krycí list'!$C$32
Name SloupecCC: #REF!
Name SloupecCisloPol: #REF!
Name SloupecJC: #REF!
Name SloupecMJ: #REF!
Name SloupecMnozstvi: #REF!
Name SloupecNazPol: #REF!
Name SloupecPC: #REF!
Name Vypracoval: Stavba!$D$14
Name ZakladDPHSni: Stavba!$G$23
Name ZakladDPHSniVypocet: Stavba!$F$40
Name ZakladDPHZakl: Stavba!$G$25
Name ZakladDPHZaklVypocet: Stavba!$G$40
Name Zaokrouhleni: Stavba!$G$27
Name Zhotovitel: Stavba!$D$11:$G$11

Sheet Pokyny pro vyplnění
A1: Pokyny pro vyplnění
A2: Ve všech listech tohoto souboru můžete měnit pouze buňky s modrým pozadím. Jedná se o tyto údaje : - údaje o firmě - jednotkové ceny položek zadané na maximálně dvě desetinná místa

Sheet Stavba
A1: #RTSROZP# | B1: Položkový rozpočet
B2: Zakázka: | D2: ENERGETICKÉ ÚSPORY NA STÁVAJÍCÍCH BUDOVÁCH SO 05 MODERNIZACE KOTELNY
B3: Misto | D3: Plumlovská 44, 796 01 Prostějov
B4: Rozpočet:
B5: Objednatel: | D5: LACHMAN INTERIER DESIGN, s.r.o. | H5: IČ:
D6: Plumlovská 44 | H6: DIČ:
C7: 796 01 | D7: Prostějov
B8: Projektant: | H8: IČ:
H9: DIČ:
B11: Zhotovitel: | H11: IČ:
H12: DIČ:
B14: Vypracoval:
B15: Rozpis ceny | I15: Celkem
A16: HSV | B16: HSV | I16: =SUMIF(F47:F48,A16,I47:I48)+SUMIF(F47:F48,"PSU",I47:I48) -> 0
A17: PSV | B17: PSV | I17: =SUMIF(F47:F48,A17,I47:I48) -> 0
A18: MON | B18: MON | I18: =SUMIF(F47:F48,A18,I47:I48) -> 0
A19: VN | B19: Vedlejší náklady | I19: =SUMIF(F47:F48,A19,I47:I48) -> 0
A20: ON | B20: Ostatní náklady | I20: =SUMIF(F47:F48,A20,I47:I48) -> 0
B21: Celkem | I21: =SUM(I16:J20) -> 0
B22: Rekapitulace daní
B23: Základ pro sníženou DPH | E23: 15 | F23: % | G23: =ZakladDPHSniVypocet -> 0 | J23: =Mena -> CZK
B24: Snížená DPH | E24: =SazbaDPH1 -> 15 | F24: % | G24: =ZakladDPHSni*SazbaDPH1/100 -> 0 | J24: =Mena -> CZK
B25: Základ pro základní DPH | E25: 21 | F25: % | G25: =ZakladDPHZaklVypocet -> 0 | J25: =Mena -> CZK
B26: Základní DPH | E26: =SazbaDPH2 -> 21 | F26: % | G26: =ZakladDPHZakl*SazbaDPH2/100 -> 0 | J26: =Mena -> CZK
B27: Zaokrouhlení | G27: =0 -> 0 | J27: =Mena -> CZK
B28: Cena celkem bez DPH | G28: =ZakladDPHSniVypocet+ZakladDPHZaklVypocet -> 0 | J28: =Mena -> CZK
B29: Cena celkem s DPH | G29: =ZakladDPHSni+DPHSni+ZakladDPHZakl+DPHZakl+Zaokrouhleni -> 0 | J29: CZK
C32: v | F32: dne | H32: =TODAY() -> 44063
D35: Za zhotovitele | H35: Za objednatele
B37: Rekapitulace dílčích částí
A38: #CASTI>> | B38: Číslo | C38: Název | F38: =B23 -> Základ pro sníženou DPH | G38: =B25 -> Základ pro základní DPH | H38: DPH celkem | I38: Cena celkem | J38: %
A39: 1 | B39: Rozpočet | C39: ENERGETICKÉ ÚSPORY NA STÁVAJÍCÍCH BUDOVÁCH SO 05 MODERNIZACE KOTELNY | F39: ='Rozpočet Pol'!AC14 -> 0 | G39: ='Rozpočet Pol'!AD14 -> 0 | H39: =(F39*SazbaDPH1/100)+(G39*SazbaDPH2/100) -> 0 | I39: =F39+G39+H39 -> 0 | J39: =IF(_xlfn.SINGLE(CenaCelkemVypocet)=0,"",I39/_xlfn.SINGLE(CenaCelkemVypocet)*100)
B40: Celkem za stavbu | F40: =SUMIF(A39:A39,"=1",F39:F39) -> 0 | G40: =SUMIF(A39:A39,"=1",G39:G39) -> 0 | H40: =SUMIF(A39:A39,"=1",H39:H39) -> 0 | I40: =SUMIF(A39:A39,"=1",I39:I39) -> 0 | J40: =SUMIF(A39:A39,"=1",J39:J39) -> 0
B44: Rekapitulace dílů
B46: Číslo | C46: Název | F46: Typ dílu | I46: Celkem
B47: 731 | C47: Kotelny | F47: PSV | I47: ='Rozpočet Pol'!G8 -> 0
B48: VN | C48: Vedlejší náklady | F48: VN | I48: ='Rozpočet Pol'!G11 -> 0
B49: Cena celkem | I49: =SUM(I47:I48) -> 0

Sheet VzorPolozky
A1: Položkový rozpočet
A2: Z:
A3: O:
A4: R:

Sheet Rozpočet Pol
A1: Položkový rozpočet | AE1: #TypZaznamu#
A2: S: | C2: ENERGETICKÉ ÚSPORY NA STÁVAJÍCÍCH BUDOVÁCH SO 05 MODERNIZACE KOTELNY | AE2: STA
A3: O: | C3: Plumlovská 44, 796 01 Prostějov | AE3: OBJ
A4: R: | AE4: ROZ
A5: C: | AE5: CAS_STR
A7: P.č. | B7: Číslo položky | C7: Název položky | D7: MJ | E7: množství | F7: cena / MJ | G7: Celkem | H7: Dodávka | I7: Dodávka celk. | J7: Montáž | K7: Montáž celk. | L7: DPH | M7: cena s DPH | N7: hmotnost / MJ | O7: hmotnost celk.(t) | P7: dem. hmotnost / MJ | Q7: dem. hmotnost celk.(t) | R7: Ceník | S7: Cen. soustava | T7: Nhod / MJ | U7: Nhod celk.
A8: Díl: | B8: 731 | C8: Kotelny | G8: =SUMIF(AE9:AE10,"<>NOR",G9:G10) -> 0 | I8: =SUM(I9:I10) -> 0 | K8: =SUM(K9:K10) -> 0 | M8: =SUM(M9:M10) -> 0 | O8: =SUM(O9:O10) -> 0 | Q8: =SUM(Q9:Q10) -> 0 | U8: =SUM(U9:U10) -> 0 | AE8: DIL
A9: 1 | B9: 73101 | C9: Modernizace kotelny, samostatný rozpočet | D9: kpl | E9: 1 | F9: ='731 01'!E25 -> 0 | G9: =ROUND(E9*F9,2) -> 0 | I9: =ROUND(E9*H9,2) -> 0 | K9: =ROUND(E9*J9,2) -> 0 | L9: 21 | M9: =G9*(1+L9/100) -> 0 | N9: 0 | O9: =ROUND(E9*N9,5) -> 0 | P9: 0 | Q9: =ROUND(E9*P9,5) -> 0 | T9: 0 | U9: =ROUND(E9*T9,2) -> 0 | AE9: POL1_0
A10: 2 | B10: 73102 | C10: Vyregulování stávajícího otopného systému, vyregulování ventilů k jednotlivým topných větvím | D10: kpl | E10: 1 | G10: =ROUND(E10*F10,2) -> 0 | I10: =ROUND(E10*H10,2) -> 0 | K10: =ROUND(E10*J10,2) -> 0 | L10: 21 | M10: =G10*(1+L10/100) -> 0 | N10: 0 | O10: =ROUND(E10*N10,5) -> 0 | P10: 0 | Q10: =ROUND(E10*P10,5) -> 0 | T10: 0 | U10: =ROUND(E10*T10,2) -> 0 | AE10: POL1_0
A11: Díl: | B11: VN | C11: Vedlejší náklady | G11: =SUMIF(AE12:AE12,"<>NOR",G12:G12) -> 0 | I11: =SUM(I12:I12) -> 0 | K11: =SUM(K12:K12) -> 0 | M11: =SUM(M12:M12) -> 0 | O11: =SUM(O12:O12) -> 0 | Q11: =SUM(Q12:Q12) -> 0 | U11: =SUM(U12:U12) -> 0 | AE11: DIL
A12: 3 | B12: 1 | C12: Vedlejší rozpočtové náklady | D12: ks | E12: 1 | G12: =ROUND(E12*F12,2) -> 0 | I12: =ROUND(E12*H12,2) -> 0 | K12: =ROUND(E12*J12,2) -> 0 | L12: 21 | M12: =G12*(1+L12/100) -> 0 | N12: 0 | O12: =ROUND(E12*N12,5) -> 0 | P12: 0 | Q12: =ROUND(E12*P12,5) -> 0 | T12: 0 | U12: =ROUND(E12*T12,2) -> 0 | AE12: POL1_0
AC13: 15 | AD13: 21
B14: 26 | G14: =G8+G11 -> 0 | AC14: =SUMIF(L7:L12,AC13,G7:G12) -> 0 | AD14: =SUMIF(L7:L12,AD13,G7:G12) -> 0 | AE14: SUM
A17: 33
AE18: POPUZIV
AE24: END

Sheet 731 01
A4: objekt: | B4: SO 05 MODERNIZACE KOTELNY
A6: investor: | B6: LACHMAN INTERIER DESIGN, s.r.o.
B7: Plumlovská 44
B8: Prostějov
A14: položky | B14: Podrobnější informace | C14: cena bez DPH za kus | D14: množství | E14: celková cena bez DPH
A15: třítahový vodorovný trubkový výměník o výkonu min. 350kW | D15: 1 | E15: =D15*C15 -> 0
A16: dohořívací komora | B16: nová vyzdívka | D16: 1 | E16: =D16*C16 -> 0
A17: Cyklón | B17: doplněný druhý cyklón pro splnění TZL | D17: 1 | E17: =D17*C17 -> 0
A18: úprava kouřových cest | D18: 1 | E18: =D18*C18 -> 0
A19: izolace kouřovodů | B19: Materiál – izolace s hliníkovým povrchem | D19: 1 | E19: =D19*C19 -> 0
A20: úprava topenářského okruhu | B20: topenářský materiál, včeně nových čerpadel pro hořák a výměník | D20: 1 | E20: =D20*C20 -> 0
A21: MaR – úprava a napojení na stávající MaR | B21: předpokládaný el. materiál na úpravu zapojení | D21: 1 | E21: =D21*C21 -> 0
A22: Montážní práce | B22: demontáž kotle, montáž výměníku a kouřovodů, montáž kotlového okruhu | D22: 1 | E22: =D22*C22 -> 0
A23: ostatní materiál | B23: těsnění, kotvící prvky apod. | D23: 1 | E23: =D23*C23 -> 0
A25: Celková cena za dodávku | E25: =SUM(E15:E24) -> 0
