Workbook
Name CelkemDPHVypocet: Stavba!$H$59
Name CenaCelkem: Stavba!$G$29
Name CenaCelkemBezDPH: Stavba!$G$28
Name CenaCelkemVypocet: Stavba!$I$59
Name cisloobjektu: Stavba!$D$3
Name CisloRozpoctu: '[1]Krycí list'!$C$2
Name CisloStavby: Stavba!$D$2
Name cislostavby: '[1]Krycí list'!$A$7
Name CisloStavebnihoRozpoctu: Stavba!$D$4
Name dadresa: Stavba!$D$12:$G$12
Name DIČ: Stavba!$I$12
Name dmisto: Stavba!$E$13:$G$13
Name DPHSni: Stavba!$G$24
Name DPHZakl: Stavba!$G$26
Name dpsc: Stavba!$D$13
Name IČO: Stavba!$I$11
Name Mena: Stavba!$J$29
Name MistoStavby: Stavba!$D$4
Name nazevobjektu: Stavba!$E$3
Name NazevRozpoctu: '[1]Krycí list'!$D$2
Name NazevStavby: Stavba!$E$2
Name nazevstavby: '[1]Krycí list'!$C$7
Name NazevStavebnihoRozpoctu: Stavba!$E$4
Name oadresa: Stavba!$D$6
Name Objednatel: Stavba!$D$5
Name Objekt: Stavba!$B$38
Name odic: Stavba!$I$6
Name oico: Stavba!$I$5
Name omisto: Stavba!$E$7
Name onazev: Stavba!$D$6
Name opsc: Stavba!$D$7
Name padresa: Stavba!$D$9
Name pdic: Stavba!$I$9
Name pico: Stavba!$I$8
Name pmisto: Stavba!$E$10
Name PocetMJ: #REF!
Name PoptavkaID: Stavba!$A$1
Name pPSC: Stavba!$D$10
Name Projektant: Stavba!$D$8
Name SazbaDPH1: Stavba!$E$23
Name SazbaDPH1: '[1]Krycí list'!$C$30
Name SazbaDPH2: Stavba!$E$25
Name SazbaDPH2: '[1]Krycí list'!$C$32
Name SloupecCC: #REF!
Name SloupecCisloPol: #REF!
Name SloupecJC: #REF!
Name SloupecMJ: #REF!
Name SloupecMnozstvi: #REF!
Name SloupecNazPol: #REF!
Name SloupecPC: #REF!
Name Vypracoval: Stavba!$D$14
Name ZakladDPHSni: Stavba!$G$23
Name ZakladDPHSniVypocet: Stavba!$F$59
Name ZakladDPHZakl: Stavba!$G$25
Name ZakladDPHZaklVypocet: Stavba!$G$59
Name ZaObjednatele: Stavba!$G$34
Name Zaokrouhleni: Stavba!$G$27
Name ZaZhotovitele: Stavba!$D$34
Name Zhotovitel: Stavba!$D$11:$G$11

Sheet Stavba
A1: #RTSROZP# | B1: Položkový rozpočet stavby
B2: Stavba: | D2: MS0045 | E2: CNG Vrahovice
B5: Objednatel: | H5: IČO:
H6: DIČ:
B8: Projektant: | H8: IČO:
H9: DIČ:
B11: Zhotovitel: | H11: IČO:
H12: DIČ:
B14: Vypracoval:
B15: Rozpis ceny | I15: Celkem
A16: HSV | B16: HSV | I16: =SUMIF(F66:F75,A16,I66:I75)+SUMIF(F66:F75,"PSU",I66:I75) -> 0
A17: PSV | B17: PSV | I17: =SUMIF(F66:F75,A17,I66:I75) -> 0
A18: MON | B18: MON | I18: =SUMIF(F66:F75,A18,I66:I75) -> 0
A19: VN | B19: Vedlejší náklady | I19: =SUMIF(F66:F75,A19,I66:I75) -> 0
A20: ON | B20: Ostatní náklady | I20: =SUMIF(F66:F75,A20,I66:I75) -> 0
B21: Celkem | I21: =SUM(I16:J20) -> 0
B22: Rekapitulace daní
A23: =ZakladDPHSni*SazbaDPH1/100 -> 0 | B23: Základ pro sníženou DPH | E23: 15 | F23: % | G23: =ZakladDPHSniVypocet -> 0 | J23: =Mena -> CZK
A24: =(A23-INT(A23))*100 -> 0 | B24: Snížená DPH | E24: =SazbaDPH1 -> 15 | F24: % | G24: =A23 -> 0 | J24: =Mena -> CZK
A25: =ZakladDPHZakl*SazbaDPH2/100 -> 0 | B25: Základ pro základní DPH | E25: 21 | F25: % | G25: =ZakladDPHZaklVypocet -> 0 | J25: =Mena -> CZK
A26: =(A25-INT(A25))*100 -> 0 | B26: Základní DPH | E26: =SazbaDPH2 -> 21 | F26: % | G26: =A25 -> 0 | J26: =Mena -> CZK
A27: =ZakladDPHSni+DPHSni+ZakladDPHZakl+DPHZakl -> 0 | B27: Zaokrouhlení | G27: =CenaCelkem-(ZakladDPHSni+DPHSni+ZakladDPHZakl+DPHZakl) -> 0 | J27: =Mena -> CZK
B28: Cena celkem bez DPH | G28: =ZakladDPHSniVypocet+ZakladDPHZaklVypocet -> 0 | J28: =Mena -> CZK
A29: =(A27-INT(A27))*100 -> 0 | B29: Cena celkem s DPH | G29: =A27 -> 0 | J29: CZK
C32: v | F32: dne
D35: Za zhotovitele | H35: Za objednatele
B37: Rekapitulace dílčích částí
A38: #CASTI>> | B38: Číslo | C38: Název | F38: =B23 -> Základ pro sníženou DPH | G38: =B25 -> Základ pro základní DPH | H38: DPH celkem | I38: Cena celkem | J38: %
A39: 1 | B39: Stavba | F39: ='IO-01 01 Pol'!AE11+'OVN 01 01 Naklady'!AE15+'SO 01 01 Pol'!AE29+'SO 01 02 Pol'!AE11+'SO 02 01 Pol'!AE29+'SO 02 02 Pol'!AE11+'SO 03 01 Pol'!AE44+'SO 03 02 Pol'!AE15+'SO 03 03 Pol'!AE17+'SO 04 01 Pol'!AE12+'SO 05 01 Pol'!AE26+'SO 05 02 Pol'!AE25 -> 0 | G39: ='IO-01 01 Pol'!AF11+'OVN 01 01 Naklady'!AF15+'SO 01 01 Pol'!AF29+'SO 01 02 Pol'!AF11+'SO 02 01 Pol'!AF29+'SO 02 02 Pol'!AF11+'SO 03 01 Pol'!AF44+'SO 03 02 Pol'!AF15+'SO 03 03 Pol'!AF17+'SO 04 01 Pol'!AF12+'SO 05 01 Pol'!AF26+'SO 05 02 Pol'!AF25 -> 0 | H39: =(F39*SazbaDPH1/100)+(G39*SazbaDPH2/100) -> 0 | I39: =F39+G39+H39 -> 0 | J39: =IF(CenaCelkemVypocet=0,"",I39/CenaCelkemVypocet*100)
A40: 2 | B40: IO-01 | C40: Mobilní zásobník plynu | F40: ='IO-01 01 Pol'!AE11 -> 0 | G40: ='IO-01 01 Pol'!AF11 -> 0 | H40: =(F40*SazbaDPH1/100)+(G40*SazbaDPH2/100) -> 0 | I40: =F40+G40+H40 -> 0 | J40: =IF(CenaCelkemVypocet=0,"",I40/CenaCelkemVypocet*100)
A41: 3 | B41: 01 | C41: Technologická část | F41: ='IO-01 01 Pol'!AE11 -> 0 | G41: ='IO-01 01 Pol'!AF11 -> 0 | H41: =(F41*SazbaDPH1/100)+(G41*SazbaDPH2/100) -> 0 | I41: =F41+G41+H41 -> 0 | J41: =IF(CenaCelkemVypocet=0,"",I41/CenaCelkemVypocet*100)
A42: 2 | B42: OVN 01 | C42: Ostatní náklady | F42: ='OVN 01 01 Naklady'!AE15 -> 0 | G42: ='OVN 01 01 Naklady'!AF15 -> 0 | H42: =(F42*SazbaDPH1/100)+(G42*SazbaDPH2/100) -> 0 | I42: =F42+G42+H42 -> 0 | J42: =IF(CenaCelkemVypocet=0,"",I42/CenaCelkemVypocet*100)
A43: 3 | B43: 01 | C43: Ostatní a vedlejší náklady | F43: ='OVN 01 01 Naklady'!AE15 -> 0 | G43: ='OVN 01 01 Naklady'!AF15 -> 0 | H43: =(F43*SazbaDPH1/100)+(G43*SazbaDPH2/100) -> 0 | I43: =F43+G43+H43 -> 0 | J43: =IF(CenaCelkemVypocet=0,"",I43/CenaCelkemVypocet*100)
A44: 2 | B44: SO 01 | C44: Zařízení pro čištění bioplynu | F44: ='SO 01 01 Pol'!AE29+'SO 01 02 Pol'!AE11 -> 0 | G44: ='SO 01 01 Pol'!AF29+'SO 01 02 Pol'!AF11 -> 0 | H44: =(F44*SazbaDPH1/100)+(G44*SazbaDPH2/100) -> 0 | I44: =F44+G44+H44 -> 0 | J44: =IF(CenaCelkemVypocet=0,"",I44/CenaCelkemVypocet*100)
A45: 3 | B45: 01 | C45: Stavební část | F45: ='SO 01 01 Pol'!AE29 -> 0 | G45: ='SO 01 01 Pol'!AF29 -> 0 | H45: =(F45*SazbaDPH1/100)+(G45*SazbaDPH2/100) -> 0 | I45: =F45+G45+H45 -> 0 | J45: =IF(CenaCelkemVypocet=0,"",I45/CenaCelkemVypocet*100)
A46: 3 | B46: 02 | C46: Technologická část | F46: ='SO 01 02 Pol'!AE11 -> 0 | G46: ='SO 01 02 Pol'!AF11 -> 0 | H46: =(F46*SazbaDPH1/100)+(G46*SazbaDPH2/100) -> 0 | I46: =F46+G46+H46 -> 0 | J46: =IF(CenaCelkemVypocet=0,"",I46/CenaCelkemVypocet*100)
A47: 2 | B47: SO 02 | C47: Plnící stanice | F47: ='SO 02 01 Pol'!AE29+'SO 02 02 Pol'!AE11 -> 0 | G47: ='SO 02 01 Pol'!AF29+'SO 02 02 Pol'!AF11 -> 0 | H47: =(F47*SazbaDPH1/100)+(G47*SazbaDPH2/100) -> 0 | I47: =F47+G47+H47 -> 0 | J47: =IF(CenaCelkemVypocet=0,"",I47/CenaCelkemVypocet*100)
A48: 3 | B48: 01 | C48: Stavební část | F48: ='SO 02 01 Pol'!AE29 -> 0 | G48: ='SO 02 01 Pol'!AF29 -> 0 | H48: =(F48*SazbaDPH1/100)+(G48*SazbaDPH2/100) -> 0 | I48: =F48+G48+H48 -> 0 | J48: =IF(CenaCelkemVypocet=0,"",I48/CenaCelkemVypocet*100)
A49: 3 | B49: 02 | C49: Technologická část | F49: ='SO 02 02 Pol'!AE11 -> 0 | G49: ='SO 02 02 Pol'!AF11 -> 0 | H49: =(F49*SazbaDPH1/100)+(G49*SazbaDPH2/100) -> 0 | I49: =F49+G49+H49 -> 0 | J49: =IF(CenaCelkemVypocet=0,"",I49/CenaCelkemVypocet*100)
A50: 2 | B50: SO 03 | C50: Přívod bioplynu a odvod permeátu | F50: ='SO 03 01 Pol'!AE44+'SO 03 02 Pol'!AE15+'SO 03 03 Pol'!AE17 -> 0 | G50: ='SO 03 01 Pol'!AF44+'SO 03 02 Pol'!AF15+'SO 03 03 Pol'!AF17 -> 0 | H50: =(F50*SazbaDPH1/100)+(G50*SazbaDPH2/100) -> 0 | I50: =F50+G50+H50 -> 0 | J50: =IF(CenaCelkemVypocet=0,"",I50/CenaCelkemVypocet*100)
...

Sheet VzorPolozky
A1: Položkový rozpočet
A2: S:
A3: O:
A4: R:

Sheet IO-01 01 Pol
A1: Položkový rozpočet | AG1: #TypZaznamu#
A2: S: | B2: MS0045 | C2: CNG Vrahovice | AG2: STA
A3: O: | B3: IO-01 | C3: Mobilní zásobník plynu | AC3: ING | AG3: OBJ
A4: R: | B4: 01 | C4: Technologická část | AG4: ROZ
A6: P.č. | B6: Číslo položky | C6: Název položky | D6: MJ | E6: Množství | F6: Cena / MJ | G6: Celkem | H6: Dodávka | I6: Dodávka celk. | J6: Montáž | K6: Montáž celk. | L6: DPH | M6: Cena s DPH | N6: Hmotnost / MJ | O6: Hmotnost celk.(t) | P6: Dem. hmotnost / MJ | Q6: Dem. hmotnost celk.(t) | R6: Ceník | S6: Cen. soustava / platnost | T6: Cenová úroveň | U6: Nhod / MJ | V6: Nhod celk. | W6: Dodavatel | X6: Typ položky
A8: Díl: | B8: M74 | C8: Technologie | G8: =SUMIF(AG9:AG9,"<>NOR",G9:G9) -> 0 | I8: =SUM(I9:I9) -> 0 | K8: =SUM(K9:K9) -> 0 | M8: =SUM(M9:M9) -> 0 | O8: =SUM(O9:O9) -> 0 | Q8: =SUM(Q9:Q9) -> 0 | V8: =SUM(V9:V9) -> 0 | AG8: DIL
A9: 1 | B9: M74/01-R | C9: D mobilní zásobník plynu - svazek tlakových lahví, min celkový vodní objem 3000l, pracovní tlak 250 bar, medium CNG, materiál lahví 34CrMo4, materiál potrubí nerezová ocel, kulový kohout na vstupu, manometr, včetně kompletní dokumentace a certifikace dle EU | D9: kompl | E9: 3 | G9: =ROUND(E9*F9,2) -> 0 | I9: =ROUND(E9*H9,2) -> 0 | K9: =ROUND(E9*J9,2) -> 0 | L9: 21 | M9: =G9*(1+L9/100) -> 0 | N9: 0 | O9: =ROUND(E9*N9,2) -> 0 | P9: 0 | Q9: =ROUND(E9*P9,2) -> 0 | S9: Vlastní | T9: Indiv | U9: 0 | V9: =ROUND(E9*U9,2) -> 0 | X9: Práce | AG9: POL1_
AE10: 15 | AF10: 21 | AG10: DPH
B11: Celkem | G11: =G8 -> 0 | AE11: =SUMIF(L7:L9,AE10,G7:G9) -> 0 | AF11: =SUMIF(L7:L9,AF10,G7:G9) -> 0 | AG11: SUM
A14: Poznámky uchazeče k zadání
AG15: POPUZIV
AG21: END

Sheet OVN 01 01 Naklady
A1: Položkový rozpočet | AG1: #TypZaznamu#
A2: S: | B2: MS0045 | C2: CNG Vrahovice | AG2: STA
A3: O: | B3: OVN 01 | C3: Ostatní náklady | AC3: NAK | AG3: OBJ
A4: R: | B4: 01 | C4: Ostatní a vedlejší náklady | AG4: ROZ
A6: P.č. | B6: Číslo položky | C6: Název položky | D6: MJ | E6: Množství | F6: Cena / MJ | G6: Celkem | H6: Dodávka | I6: Dodávka celk. | J6: Montáž | K6: Montáž celk. | L6: DPH | M6: Cena s DPH | N6: Hmotnost / MJ | O6: Hmotnost celk.(t) | P6: Dem. hmotnost / MJ | Q6: Dem. hmotnost celk.(t) | R6: Ceník | S6: Cen. soustava / platnost | T6: Cenová úroveň | U6: Nhod / MJ | V6: Nhod celk. | W6: Dodavatel | X6: Typ položky
A8: Díl: | B8: ON | C8: Ostatní náklady | G8: =SUMIF(AG9:AG13,"<>NOR",G9:G13) -> 0 | I8: =SUM(I9:I13) -> 0 | K8: =SUM(K9:K13) -> 0 | M8: =SUM(M9:M13) -> 0 | O8: =SUM(O9:O13) -> 0 | Q8: =SUM(Q9:Q13) -> 0 | V8: =SUM(V9:V13) -> 0.17 | AG8: DIL
A9: 1 | B9: 953941312T01 | C9: Vytyčení stavby a vypracování geometrického plánu | D9: kompl | E9: 1 | G9: =ROUND(E9*F9,2) -> 0 | I9: =ROUND(E9*H9,2) -> 0 | K9: =ROUND(E9*J9,2) -> 0 | L9: 21 | M9: =G9*(1+L9/100) -> 0 | N9: 1e-05 | O9: =ROUND(E9*N9,2) -> 0 | P9: 0 | Q9: =ROUND(E9*P9,2) -> 0 | S9: Vlastní | T9: Indiv | U9: 0.17 | V9: =ROUND(E9*U9,2) -> 0.17 | X9: Práce | AG9: POL1_
A10: 2 | B10: 005111021R | C10: Vytyčení inženýrských sítí | D10: Soubor | E10: 1 | G10: =ROUND(E10*F10,2) -> 0 | I10: =ROUND(E10*H10,2) -> 0 | K10: =ROUND(E10*J10,2) -> 0 | L10: 21 | M10: =G10*(1+L10/100) -> 0 | N10: 0 | O10: =ROUND(E10*N10,2) -> 0 | P10: 0 | Q10: =ROUND(E10*P10,2) -> 0 | S10: RTS 21/ I | T10: Indiv | U10: 0 | V10: =ROUND(E10*U10,2) -> 0 | X10: VRN | AG10: POL99_8
A11: 3 | B11: 005121 R | C11: Zařízení staveniště | D11: Soubor | E11: 1 | G11: =ROUND(E11*F11,2) -> 0 | I11: =ROUND(E11*H11,2) -> 0 | K11: =ROUND(E11*J11,2) -> 0 | L11: 21 | M11: =G11*(1+L11/100) -> 0 | N11: 0 | O11: =ROUND(E11*N11,2) -> 0 | P11: 0 | Q11: =ROUND(E11*P11,2) -> 0 | S11: RTS 21/ I | T11: Indiv | U11: 0 | V11: =ROUND(E11*U11,2) -> 0 | X11: VRN | AG11: POL99_8
A12: 4 | B12: 00523 R | C12: Zkoušky a revize | D12: Soubor | E12: 1 | G12: =ROUND(E12*F12,2) -> 0 | I12: =ROUND(E12*H12,2) -> 0 | K12: =ROUND(E12*J12,2) -> 0 | L12: 21 | M12: =G12*(1+L12/100) -> 0 | N12: 0 | O12: =ROUND(E12*N12,2) -> 0 | P12: 0 | Q12: =ROUND(E12*P12,2) -> 0 | S12: RTS 21/ I | T12: Indiv | U12: 0 | V12: =ROUND(E12*U12,2) -> 0 | X12: VRN | AG12: POL99_8
A13: 5 | B13: 005241010R | C13: Dokumentace skutečného provedení | D13: Soubor | E13: 1 | G13: =ROUND(E13*F13,2) -> 0 | I13: =ROUND(E13*H13,2) -> 0 | K13: =ROUND(E13*J13,2) -> 0 | L13: 21 | M13: =G13*(1+L13/100) -> 0 | N13: 0 | O13: =ROUND(E13*N13,2) -> 0 | P13: 0 | Q13: =ROUND(E13*P13,2) -> 0 | S13: RTS 21/ I | T13: Indiv | U13: 0 | V13: =ROUND(E13*U13,2) -> 0 | X13: VRN | AG13: POL99_8
AE14: 15 | AF14: 21 | AG14: DPH
B15: Celkem | G15: =G8 -> 0 | AE15: =SUMIF(L7:L13,AE14,G7:G13) -> 0 | AF15: =SUMIF(L7:L13,AF14,G7:G13) -> 0 | AG15: SUM
A18: Poznámky uchazeče k zadání
AG19: POPUZIV
AG25: END

Sheet SO 01 01 Pol
A1: Položkový rozpočet | AG1: #TypZaznamu#
A2: S: | B2: MS0045 | C2: CNG Vrahovice | AG2: STA
A3: O: | B3: SO 01 | C3: Zařízení pro čištění bioplynu | AC3: STA | AG3: OBJ
A4: R: | B4: 01 | C4: Stavební část | AG4: ROZ
A6: P.č. | B6: Číslo položky | C6: Název položky | D6: MJ | E6: Množství | F6: Cena / MJ | G6: Celkem | H6: Dodávka | I6: Dodávka celk. | J6: Montáž | K6: Montáž celk. | L6: DPH | M6: Cena s DPH | N6: Hmotnost / MJ | O6: Hmotnost celk.(t) | P6: Dem. hmotnost / MJ | Q6: Dem. hmotnost celk.(t) | R6: Ceník | S6: Cen. soustava / platnost | T6: Cenová úroveň | U6: Nhod / MJ | V6: Nhod celk. | W6: Dodavatel | X6: Typ položky
A8: Díl: | B8: 1 | C8: Zemní práce | G8: =SUMIF(AG9:AG17,"<>NOR",G9:G17) -> 0 | I8: =SUM(I9:I17) -> 0 | K8: =SUM(K9:K17) -> 0 | M8: =SUM(M9:M17) -> 0 | O8: =SUM(O9:O17) -> 0 | Q8: =SUM(Q9:Q17) -> 0 | V8: =SUM(V9:V17) -> 10.08 | AG8: DIL
A9: 1 | B9: 122301101R00 | C9: Odkopávky nezapažené v hor. 4 do 100 m3 | D9: m3 | E9: 4.3125 | G9: =ROUND(E9*F9,2) -> 0 | I9: =ROUND(E9*H9,2) -> 0 | K9: =ROUND(E9*J9,2) -> 0 | L9: 21 | M9: =G9*(1+L9/100) -> 0 | N9: 0 | O9: =ROUND(E9*N9,2) -> 0 | P9: 0 | Q9: =ROUND(E9*P9,2) -> 0 | S9: RTS 21/ I | T9: RTS 21/ I | U9: 0.63 | V9: =ROUND(E9*U9,2) -> 2.72 | X9: Práce | AG9: POL1_
A10: 2 | B10: 122301109R00 | C10: Příplatek za lepivost - odkopávky v hor. 4 | D10: m3 | E10: 4.3125 | G10: =ROUND(E10*F10,2) -> 0 | I10: =ROUND(E10*H10,2) -> 0 | K10: =ROUND(E10*J10,2) -> 0 | L10: 21 | M10: =G10*(1+L10/100) -> 0 | N10: 0 | O10: =ROUND(E10*N10,2) -> 0 | P10: 0 | Q10: =ROUND(E10*P10,2) -> 0 | S10: RTS 21/ I | T10: RTS 21/ I | U10: 0.081 | V10: =ROUND(E10*U10,2) -> 0.35 | X10: Práce | AG10: POL1_
A11: 3 | B11: 132201210R00 | C11: Hloubení rýh š.do 200 cm hor.3 do 50 m3,STROJNĚ | D11: m3 | E11: 5.8696 | G11: =ROUND(E11*F11,2) -> 0 | I11: =ROUND(E11*H11,2) -> 0 | K11: =ROUND(E11*J11,2) -> 0 | L11: 21 | M11: =G11*(1+L11/100) -> 0 | N11: 0 | O11: =ROUND(E11*N11,2) -> 0 | P11: 0 | Q11: =ROUND(E11*P11,2) -> 0 | S11: RTS 21/ I | T11: RTS 21/ I | U11: 0.365 | V11: =ROUND(E11*U11,2) -> 2.14 | X11: Práce | AG11: POL1_
A12: 4 | B12: 132301219R00 | C12: Přípl.za lepivost,hloubení rýh 200cm,hor.4,STROJNĚ | D12: m3 | E12: 5.8696 | G12: =ROUND(E12*F12,2) -> 0 | I12: =ROUND(E12*H12,2) -> 0 | K12: =ROUND(E12*J12,2) -> 0 | L12: 21 | M12: =G12*(1+L12/100) -> 0 | N12: 0 | O12: =ROUND(E12*N12,2) -> 0 | P12: 0 | Q12: =ROUND(E12*P12,2) -> 0 | S12: RTS 21/ I | T12: RTS 21/ I | U12: 0.1483 | V12: =ROUND(E12*U12,2) -> 0.87 | X12: Práce | AG12: POL1_
A13: 5 | B13: 162301101R00 | C13: Vodorovné přemístění výkopku z hor.1-4 do 500 m | D13: m3 | E13: 3.6005 | G13: =ROUND(E13*F13,2) -> 0 | I13: =ROUND(E13*H13,2) -> 0 | K13: =ROUND(E13*J13,2) -> 0 | L13: 21 | M13: =G13*(1+L13/100) -> 0 | N13: 0 | O13: =ROUND(E13*N13,2) -> 0 | P13: 0 | Q13: =ROUND(E13*P13,2) -> 0 | S13: RTS 21/ I | T13: RTS 21/ I | U13: 0.011 | V13: =ROUND(E13*U13,2) -> 0.04 | X13: Práce | AG13: POL1_
A14: 6 | B14: 167101101R00 | C14: Nakládání výkopku z hor.1-4 v množství do 100 m3 | D14: m3 | E14: 3.6005 | G14: =ROUND(E14*F14,2) -> 0 | I14: =ROUND(E14*H14,2) -> 0 | K14: =ROUND(E14*J14,2) -> 0 | L14: 21 | M14: =G14*(1+L14/100) -> 0 | N14: 0 | O14: =ROUND(E14*N14,2) -> 0 | P14: 0 | Q14: =ROUND(E14*P14,2) -> 0 | S14: RTS 21/ I | T14: RTS 21/ I | U14: 0.652 | V14: =ROUND(E14*U14,2) -> 2.35 | X14: Práce | AG14: POL1_
A15: 7 | B15: 171201201R00 | C15: Uložení sypaniny na skl.-sypanina na výšku přes 2m | D15: m3 | E15: 3.6005 | G15: =ROUND(E15*F15,2) -> 0 | I15: =ROUND(E15*H15,2) -> 0 | K15: =ROUND(E15*J15,2) -> 0 | L15: 21 | M15: =G15*(1+L15/100) -> 0 | N15: 0 | O15: =ROUND(E15*N15,2) -> 0 | P15: 0 | Q15: =ROUND(E15*P15,2) -> 0 | S15: RTS 21/ I | T15: RTS 21/ I | U15: 0.01 | V15: =ROUND(E15*U15,2) -> 0.04 | X15: Práce | AG15: POL1_
A16: 8 | B16: 174101101R00 | C16: Zásyp jam, rýh, šachet se zhutněním | D16: m3 | E16: 6.5816 | G16: =ROUND(E16*F16,2) -> 0 | I16: =ROUND(E16*H16,2) -> 0 | K16: =ROUND(E16*J16,2) -> 0 | L16: 21 | M16: =G16*(1+L16/100) -> 0 | N16: 0 | O16: =ROUND(E16*N16,2) -> 0 | P16: 0 | Q16: =ROUND(E16*P16,2) -> 0 | S16: RTS 21/ I | T16: RTS 21/ I | U16: 0.202 | V16: =ROUND(E16*U16,2) -> 1.33 | X16: Práce | AG16: POL1_
A17: 9 | B17: 181101102R00 | C17: Úprava pláně v zářezech v hor. 1-4, se zhutněním | D17: m2 | E17: 13.5 | G17: =ROUND(E17*F17,2) -> 0 | I17: =ROUND(E17*H17,2) -> 0 | K17: =ROUND(E17*J17,2) -> 0 | L17: 21 | M17: =G17*(1+L17/100) -> 0 | N17: 0 | O17: =ROUND(E17*N17,2) -> 0 | P17: 0 | Q17: =ROUND(E17*P17,2) -> 0 | S17: RTS 21/ I | T17: RTS 21/ I | U17: 0.018 | V17: =ROUND(E17*U17,2) -> 0.24 | X17: Práce | AG17: POL1_
A18: Díl: | B18: 2 | C18: Základy a zvláštní zakládání | G18: =SUMIF(AG19:AG21,"<>NOR",G19:G21) -> 0 | I18: =SUM(I19:I21) -> 0 | K18: =SUM(K19:K21) -> 0 | M18: =SUM(M19:M21) -> 0 | O18: =SUM(O19:O21) -> 3.8 | Q18: =SUM(Q19:Q21) -> 0 | V18: =SUM(V19:V21) -> 14.45 | AG18: DIL
A19: 10 | B19: 274313621R00 | C19: Beton základových pasů prostý C 20/25 | D19: m3 | E19: 1.35 | G19: =ROUND(E19*F19,2) -> 0 | I19: =ROUND(E19*H19,2) -> 0 | K19: =ROUND(E19*J19,2) -> 0 | L19: 21 | M19: =G19*(1+L19/100) -> 0 | N19: 2.525 | O19: =ROUND(E19*N19,2) -> 3.41 | P19: 0 | Q19: =ROUND(E19*P19,2) -> 0 | S19: RTS 21/ I | T19: RTS 21/ I | U19: 0.477 | V19: =ROUND(E19*U19,2) -> 0.64 | X19: Práce | AG19: POL1_
A20: 11 | B20: 274351215R00 | C20: Bednění stěn základových pasů - zřízení | D20: m2 | E20: 10.08 | G20: =ROUND(E20*F20,2) -> 0 | I20: =ROUND(E20*H20,2) -> 0 | K20: =ROUND(E20*J20,2) -> 0 | L20: 21 | M20: =G20*(1+L20/100) -> 0 | N20: 0.03916 | O20: =ROUND(E20*N20,2) -> 0.39 | P20: 0 | Q20: =ROUND(E20*P20,2) -> 0 | S20: RTS 21/ I | T20: RTS 21/ I | U20: 1.05 | V20: =ROUND(E20*U20,2) -> 10.58 | X20: Práce | AG20: POL1_
A21: 12 | B21: 274351216R00 | C21: Bednění stěn základových pasů - odstranění | D21: m2 | E21: 10.08 | G21: =ROUND(E21*F21,2) -> 0 | I21: =ROUND(E21*H21,2) -> 0 | K21: =ROUND(E21*J21,2) -> 0 | L21: 21 | M21: =G21*(1+L21/100) -> 0 | N21: 0 | O21: =ROUND(E21*N21,2) -> 0 | P21: 0 | Q21: =ROUND(E21*P21,2) -> 0 | S21: RTS 21/ I | T21: RTS 21/ I | U21: 0.32 | V21: =ROUND(E21*U21,2) -> 3.23 | X21: Práce | AG21: POL1_
A22: Díl: | B22: 5 | C22: Komunikace | G22: =SUMIF(AG23:AG23,"<>NOR",G23:G23) -> 0 | I22: =SUM(I23:I23) -> 0 | K22: =SUM(K23:K23) -> 0 | M22: =SUM(M23:M23) -> 0 | O22: =SUM(O23:O23) -> 1.84 | Q22: =SUM(Q23:Q23) -> 0 | V22: =SUM(V23:V23) -> 0.15 | AG22: DIL
A23: 13 | B23: 564831111RT4 | C23: Podklad ze štěrkodrti po zhutnění tloušťky 10 cm štěrkodrť frakce 0-63 mm | D23: m2 | E23: 6.38 | G23: =ROUND(E23*F23,2) -> 0 | I23: =ROUND(E23*H23,2) -> 0 | K23: =ROUND(E23*J23,2) -> 0 | L23: 21 | M23: =G23*(1+L23/100) -> 0 | N23: 0.288 | O23: =ROUND(E23*N23,2) -> 1.84 | P23: 0 | Q23: =ROUND(E23*P23,2) -> 0 | S23: RTS 21/ I | T23: RTS 21/ I | U23: 0.023 | V23: =ROUND(E23*U23,2) -> 0.15 | X23: Práce | AG23: POL1_
A24: Díl: | B24: 99 | C24: Staveništní přesun hmot | G24: =SUMIF(AG25:AG25,"<>NOR",G25:G25) -> 0 | I24: =SUM(I25:I25) -> 0 | K24: =SUM(K25:K25) -> 0 | M24: =SUM(M25:M25) -> 0 | O24: =SUM(O25:O25) -> 0 | Q24: =SUM(Q25:Q25) -> 0 | V24: =SUM(V25:V25) -> 0.55 | AG24: DIL
A25: 14 | B25: 998014011R00 | C25: Přesun hmot, budovy mont. jednopodl. s pláštěm | D25: t | E25: 5.64092 | G25: =ROUND(E25*F25,2) -> 0 | I25: =ROUND(E25*H25,2) -> 0 | K25: =ROUND(E25*J25,2) -> 0 | L25: 21 | M25: =G25*(1+L25/100) -> 0 | N25: 0 | O25: =ROUND(E25*N25,2) -> 0 | P25: 0 | Q25: =ROUND(E25*P25,2) -> 0 | S25: RTS 21/ I | T25: RTS 21/ I | U25: 0.097 | V25: =ROUND(E25*U25,2) -> 0.55 | X25: Přesun hmot | AG25: POL7_
A26: Díl: | B26: M21 | C26: Elektromontáže | G26: =SUMIF(AG27:AG27,"<>NOR",G27:G27) -> 0 | I26: =SUM(I27:I27) -> 0 | K26: =SUM(K27:K27) -> 0 | M26: =SUM(M27:M27) -> 0 | O26: =SUM(O27:O27) -> 0 | Q26: =SUM(Q27:Q27) -> 0 | V26: =SUM(V27:V27) -> 0 | AG26: DIL
A27: 15 | B27: M21/01-R | C27: D+M uzemnění kontejneru, pospojení a ochrana proti účinkům atmosférické elektřiny | D27: kompl | E27: 1 | G27: =ROUND(E27*F27,2) -> 0 | I27: =ROUND(E27*H27,2) -> 0 | K27: =ROUND(E27*J27,2) -> 0 | L27: 21 | M27: =G27*(1+L27/100) -> 0 | N27: 0 | O27: =ROUND(E27*N27,2) -> 0 | P27: 0 | Q27: =ROUND(E27*P27,2) -> 0 | S27: Vlastní | T27: Indiv | U27: 0 | V27: =ROUND(E27*U27,2) -> 0 | X27: Práce | AG27: POL1_
AE28: 15 | AF28: 21 | AG28: DPH
B29: Celkem | G29: =G8+G18+G22+G24+G26 -> 0 | AE29: =SUMIF(L7:L27,AE28,G7:G27) -> 0 | AF29: =SUMIF(L7:L27,AF28,G7:G27) -> 0 | AG29: SUM
A32: Poznámky uchazeče k zadání
AG33: POPUZIV
AG39: END

Sheet SO 01 02 Pol
A1: Položkový rozpočet | AG1: #TypZaznamu#
A2: S: | B2: MS0045 | C2: CNG Vrahovice | AG2: STA
A3: O: | B3: SO 01 | C3: Zařízení pro čištění bioplynu | AC3: STA | AG3: OBJ
A4: R: | B4: 02 | C4: Technologická část | AG4: ROZ
A6: P.č. | B6: Číslo položky | C6: Název položky | D6: MJ | E6: Množství | F6: Cena / MJ | G6: Celkem | H6: Dodávka | I6: Dodávka celk. | J6: Montáž | K6: Montáž celk. | L6: DPH | M6: Cena s DPH | N6: Hmotnost / MJ | O6: Hmotnost celk.(t) | P6: Dem. hmotnost / MJ | Q6: Dem. hmotnost celk.(t) | R6: Ceník | S6: Cen. soustava / platnost | T6: Cenová úroveň | U6: Nhod / MJ | V6: Nhod celk. | W6: Dodavatel | X6: Typ položky
A8: Díl: | B8: M74 | C8: Technologie | G8: =SUMIF(AG9:AG9,"<>NOR",G9:G9) -> 0 | I8: =SUM(I9:I9) -> 0 | K8: =SUM(K9:K9) -> 0 | M8: =SUM(M9:M9) -> 0 | O8: =SUM(O9:O9) -> 0 | Q8: =SUM(Q9:Q9) -> 0 | V8: =SUM(V9:V9) -> 0 | AG8: DIL
A9: 1 | B9: M74/01-R | C9: D+M Membránová technologie čištění bioplynu včetně železobetonového kontejneru, výstupní kvalita biometanu dle ČSN 656514, jmenovitý výkon zařízení 50 Nm3/h bioplynu,obsah metanu v bioplynu 50,5-65%, výroba biometanu min. 26 Nm3/h, minimální roční proběh 8000mth při udržení minimálních požadovaných hodnot dle tabulky parametrů, odsiřovací kolona a předúprava bioplynu, měření kvality výstupního biometanu plynovou analýzou, odorizace injekčním způsobem (dávkování čerpadlem řízeným na základě měření průtoku plynu plynoměrem), odvod kondenzátu do kondenzátní šachty, elektroinstalace a MaR, komunikace s plnicí stanicí, bezpečnostní prvky, osvětlení vstupních dveří, hasicí přístroje dle PBŘS, dodávka včetně dopravy, instalace, uvedení do provozu | D9: kompl | E9: 1 | G9: =ROUND(E9*F9,2) -> 0 | I9: =ROUND(E9*H9,2) -> 0 | K9: =ROUND(E9*J9,2) -> 0 | L9: 21 | M9: =G9*(1+L9/100) -> 0 | N9: 0 | O9: =ROUND(E9*N9,2) -> 0 | P9: 0 | Q9: =ROUND(E9*P9,2) -> 0 | S9: Vlastní | T9: Indiv | U9: 0 | V9: =ROUND(E9*U9,2) -> 0 | X9: Práce | AG9: POL1_
AE10: 15 | AF10: 21 | AG10: DPH
B11: Celkem | G11: =G8 -> 0 | AE11: =SUMIF(L7:L9,AE10,G7:G9) -> 0 | AF11: =SUMIF(L7:L9,AF10,G7:G9) -> 0 | AG11: SUM
A14: Poznámky uchazeče k zadání
AG15: POPUZIV
AG21: END

Sheet SO 02 01 Pol
A1: Položkový rozpočet | AG1: #TypZaznamu#
A2: S: | B2: MS0045 | C2: CNG Vrahovice | AG2: STA
A3: O: | B3: SO 02 | C3: Plnící stanice | AC3: STA | AG3: OBJ
A4: R: | B4: 01 | C4: Stavební část | AG4: ROZ
A6: P.č. | B6: Číslo položky | C6: Název položky | D6: MJ | E6: Množství | F6: Cena / MJ | G6: Celkem | H6: Dodávka | I6: Dodávka celk. | J6: Montáž | K6: Montáž celk. | L6: DPH | M6: Cena s DPH | N6: Hmotnost / MJ | O6: Hmotnost celk.(t) | P6: Dem. hmotnost / MJ | Q6: Dem. hmotnost celk.(t) | R6: Ceník | S6: Cen. soustava / platnost | T6: Cenová úroveň | U6: Nhod / MJ | V6: Nhod celk. | W6: Dodavatel | X6: Typ položky
A8: Díl: | B8: 1 | C8: Zemní práce | G8: =SUMIF(AG9:AG17,"<>NOR",G9:G17) -> 0 | I8: =SUM(I9:I17) -> 0 | K8: =SUM(K9:K17) -> 0 | M8: =SUM(M9:M17) -> 0 | O8: =SUM(O9:O17) -> 0 | Q8: =SUM(Q9:Q17) -> 0 | V8: =SUM(V9:V17) -> 10.08 | AG8: DIL
A9: 1 | B9: 122301101R00 | C9: Odkopávky nezapažené v hor. 4 do 100 m3 | D9: m3 | E9: 4.3125 | G9: =ROUND(E9*F9,2) -> 0 | I9: =ROUND(E9*H9,2) -> 0 | K9: =ROUND(E9*J9,2) -> 0 | L9: 21 | M9: =G9*(1+L9/100) -> 0 | N9: 0 | O9: =ROUND(E9*N9,2) -> 0 | P9: 0 | Q9: =ROUND(E9*P9,2) -> 0 | S9: RTS 21/ I | T9: RTS 21/ I | U9: 0.63 | V9: =ROUND(E9*U9,2) -> 2.72 | X9: Práce | AG9: POL1_
A10: 2 | B10: 122301109R00 | C10: Příplatek za lepivost - odkopávky v hor. 4 | D10: m3 | E10: 4.3125 | G10: =ROUND(E10*F10,2) -> 0 | I10: =ROUND(E10*H10,2) -> 0 | K10: =ROUND(E10*J10,2) -> 0 | L10: 21 | M10: =G10*(1+L10/100) -> 0 | N10: 0 | O10: =ROUND(E10*N10,2) -> 0 | P10: 0 | Q10: =ROUND(E10*P10,2) -> 0 | S10: RTS 21/ I | T10: RTS 21/ I | U10: 0.081 | V10: =ROUND(E10*U10,2) -> 0.35 | X10: Práce | AG10: POL1_
A11: 3 | B11: 132201210R00 | C11: Hloubení rýh š.do 200 cm hor.3 do 50 m3,STROJNĚ | D11: m3 | E11: 5.8696 | G11: =ROUND(E11*F11,2) -> 0 | I11: =ROUND(E11*H11,2) -> 0 | K11: =ROUND(E11*J11,2) -> 0 | L11: 21 | M11: =G11*(1+L11/100) -> 0 | N11: 0 | O11: =ROUND(E11*N11,2) -> 0 | P11: 0 | Q11: =ROUND(E11*P11,2) -> 0 | S11: RTS 21/ I | T11: RTS 21/ I | U11: 0.365 | V11: =ROUND(E11*U11,2) -> 2.14 | X11: Práce | AG11: POL1_
A12: 4 | B12: 132301219R00 | C12: Přípl.za lepivost,hloubení rýh 200cm,hor.4,STROJNĚ | D12: m3 | E12: 5.8696 | G12: =ROUND(E12*F12,2) -> 0 | I12: =ROUND(E12*H12,2) -> 0 | K12: =ROUND(E12*J12,2) -> 0 | L12: 21 | M12: =G12*(1+L12/100) -> 0 | N12: 0 | O12: =ROUND(E12*N12,2) -> 0 | P12: 0 | Q12: =ROUND(E12*P12,2) -> 0 | S12: RTS 21/ I | T12: RTS 21/ I | U12: 0.1483 | V12: =ROUND(E12*U12,2) -> 0.87 | X12: Práce | AG12: POL1_
A13: 5 | B13: 162301101R00 | C13: Vodorovné přemístění výkopku z hor.1-4 do 500 m | D13: m3 | E13: 3.6005 | G13: =ROUND(E13*F13,2) -> 0 | I13: =ROUND(E13*H13,2) -> 0 | K13: =ROUND(E13*J13,2) -> 0 | L13: 21 | M13: =G13*(1+L13/100) -> 0 | N13: 0 | O13: =ROUND(E13*N13,2) -> 0 | P13: 0 | Q13: =ROUND(E13*P13,2) -> 0 | S13: RTS 21/ I | T13: RTS 21/ I | U13: 0.011 | V13: =ROUND(E13*U13,2) -> 0.04 | X13: Práce | AG13: POL1_
A14: 6 | B14: 167101101R00 | C14: Nakládání výkopku z hor.1-4 v množství do 100 m3 | D14: m3 | E14: 3.6005 | G14: =ROUND(E14*F14,2) -> 0 | I14: =ROUND(E14*H14,2) -> 0 | K14: =ROUND(E14*J14,2) -> 0 | L14: 21 | M14: =G14*(1+L14/100) -> 0 | N14: 0 | O14: =ROUND(E14*N14,2) -> 0 | P14: 0 | Q14: =ROUND(E14*P14,2) -> 0 | S14: RTS 21/ I | T14: RTS 21/ I | U14: 0.652 | V14: =ROUND(E14*U14,2) -> 2.35 | X14: Práce | AG14: POL1_
A15: 7 | B15: 171201201R00 | C15: Uložení sypaniny na skl.-sypanina na výšku přes 2m | D15: m3 | E15: 3.6005 | G15: =ROUND(E15*F15,2) -> 0 | I15: =ROUND(E15*H15,2) -> 0 | K15: =ROUND(E15*J15,2) -> 0 | L15: 21 | M15: =G15*(1+L15/100) -> 0 | N15: 0 | O15: =ROUND(E15*N15,2) -> 0 | P15: 0 | Q15: =ROUND(E15*P15,2) -> 0 | S15: RTS 21/ I | T15: RTS 21/ I | U15: 0.01 | V15: =ROUND(E15*U15,2) -> 0.04 | X15: Práce | AG15: POL1_
A16: 8 | B16: 174101101R00 | C16: Zásyp jam, rýh, šachet se zhutněním | D16: m3 | E16: 6.5816 | G16: =ROUND(E16*F16,2) -> 0 | I16: =ROUND(E16*H16,2) -> 0 | K16: =ROUND(E16*J16,2) -> 0 | L16: 21 | M16: =G16*(1+L16/100) -> 0 | N16: 0 | O16: =ROUND(E16*N16,2) -> 0 | P16: 0 | Q16: =ROUND(E16*P16,2) -> 0 | S16: RTS 21/ I | T16: RTS 21/ I | U16: 0.202 | V16: =ROUND(E16*U16,2) -> 1.33 | X16: Práce | AG16: POL1_
A17: 9 | B17: 181101102R00 | C17: Úprava pláně v zářezech v hor. 1-4, se zhutněním | D17: m2 | E17: 13.5 | G17: =ROUND(E17*F17,2) -> 0 | I17: =ROUND(E17*H17,2) -> 0 | K17: =ROUND(E17*J17,2) -> 0 | L17: 21 | M17: =G17*(1+L17/100) -> 0 | N17: 0 | O17: =ROUND(E17*N17,2) -> 0 | P17: 0 | Q17: =ROUND(E17*P17,2) -> 0 | S17: RTS 21/ I | T17: RTS 21/ I | U17: 0.018 | V17: =ROUND(E17*U17,2) -> 0.24 | X17: Práce | AG17: POL1_
A18: Díl: | B18: 2 | C18: Základy a zvláštní zakládání | G18: =SUMIF(AG19:AG21,"<>NOR",G19:G21) -> 0 | I18: =SUM(I19:I21) -> 0 | K18: =SUM(K19:K21) -> 0 | M18: =SUM(M19:M21) -> 0 | O18: =SUM(O19:O21) -> 3.8 | Q18: =SUM(Q19:Q21) -> 0 | V18: =SUM(V19:V21) -> 14.45 | AG18: DIL
A19: 10 | B19: 274313621R00 | C19: Beton základových pasů prostý C 20/25 | D19: m3 | E19: 1.35 | G19: =ROUND(E19*F19,2) -> 0 | I19: =ROUND(E19*H19,2) -> 0 | K19: =ROUND(E19*J19,2) -> 0 | L19: 21 | M19: =G19*(1+L19/100) -> 0 | N19: 2.525 | O19: =ROUND(E19*N19,2) -> 3.41 | P19: 0 | Q19: =ROUND(E19*P19,2) -> 0 | S19: RTS 21/ I | T19: RTS 21/ I | U19: 0.477 | V19: =ROUND(E19*U19,2) -> 0.64 | X19: Práce | AG19: POL1_
A20: 11 | B20: 274351215R00 | C20: Bednění stěn základových pasů - zřízení | D20: m2 | E20: 10.08 | G20: =ROUND(E20*F20,2) -> 0 | I20: =ROUND(E20*H20,2) -> 0 | K20: =ROUND(E20*J20,2) -> 0 | L20: 21 | M20: =G20*(1+L20/100) -> 0 | N20: 0.03916 | O20: =ROUND(E20*N20,2) -> 0.39 | P20: 0 | Q20: =ROUND(E20*P20,2) -> 0 | S20: RTS 21/ I | T20: RTS 21/ I | U20: 1.05 | V20: =ROUND(E20*U20,2) -> 10.58 | X20: Práce | AG20: POL1_
A21: 12 | B21: 274351216R00 | C21: Bednění stěn základových pasů - odstranění | D21: m2 | E21: 10.08 | G21: =ROUND(E21*F21,2) -> 0 | I21: =ROUND(E21*H21,2) -> 0 | K21: =ROUND(E21*J21,2) -> 0 | L21: 21 | M21: =G21*(1+L21/100) -> 0 | N21: 0 | O21: =ROUND(E21*N21,2) -> 0 | P21: 0 | Q21: =ROUND(E21*P21,2) -> 0 | S21: RTS 21/ I | T21: RTS 21/ I | U21: 0.32 | V21: =ROUND(E21*U21,2) -> 3.23 | X21: Práce | AG21: POL1_
A22: Díl: | B22: 5 | C22: Komunikace | G22: =SUMIF(AG23:AG23,"<>NOR",G23:G23) -> 0 | I22: =SUM(I23:I23) -> 0 | K22: =SUM(K23:K23) -> 0 | M22: =SUM(M23:M23) -> 0 | O22: =SUM(O23:O23) -> 1.84 | Q22: =SUM(Q23:Q23) -> 0 | V22: =SUM(V23:V23) -> 0.15 | AG22: DIL
A23: 13 | B23: 564831111RT4 | C23: Podklad ze štěrkodrti po zhutnění tloušťky 10 cm štěrkodrť frakce 0-63 mm | D23: m2 | E23: 6.38 | G23: =ROUND(E23*F23,2) -> 0 | I23: =ROUND(E23*H23,2) -> 0 | K23: =ROUND(E23*J23,2) -> 0 | L23: 21 | M23: =G23*(1+L23/100) -> 0 | N23: 0.288 | O23: =ROUND(E23*N23,2) -> 1.84 | P23: 0 | Q23: =ROUND(E23*P23,2) -> 0 | S23: RTS 21/ I | T23: RTS 21/ I | U23: 0.023 | V23: =ROUND(E23*U23,2) -> 0.15 | X23: Práce | AG23: POL1_
A24: Díl: | B24: 99 | C24: Staveništní přesun hmot | G24: =SUMIF(AG25:AG25,"<>NOR",G25:G25) -> 0 | I24: =SUM(I25:I25) -> 0 | K24: =SUM(K25:K25) -> 0 | M24: =SUM(M25:M25) -> 0 | O24: =SUM(O25:O25) -> 0 | Q24: =SUM(Q25:Q25) -> 0 | V24: =SUM(V25:V25) -> 0.55 | AG24: DIL
A25: 14 | B25: 998014011R00 | C25: Přesun hmot, budovy mont. jednopodl. s pláštěm | D25: t | E25: 5.64092 | G25: =ROUND(E25*F25,2) -> 0 | I25: =ROUND(E25*H25,2) -> 0 | K25: =ROUND(E25*J25,2) -> 0 | L25: 21 | M25: =G25*(1+L25/100) -> 0 | N25: 0 | O25: =ROUND(E25*N25,2) -> 0 | P25: 0 | Q25: =ROUND(E25*P25,2) -> 0 | S25: RTS 21/ I | T25: RTS 21/ I | U25: 0.097 | V25: =ROUND(E25*U25,2) -> 0.55 | X25: Přesun hmot | AG25: POL7_
A26: Díl: | B26: M21 | C26: Elektromontáže | G26: =SUMIF(AG27:AG27,"<>NOR",G27:G27) -> 0 | I26: =SUM(I27:I27) -> 0 | K26: =SUM(K27:K27) -> 0 | M26: =SUM(M27:M27) -> 0 | O26: =SUM(O27:O27) -> 0 | Q26: =SUM(Q27:Q27) -> 0 | V26: =SUM(V27:V27) -> 0 | AG26: DIL
A27: 15 | B27: M21/01-R | C27: D+M uzemnění kontejneru, pospojení a ochrana proti účinkům atmosférické elektřiny | D27: kompl | E27: 1 | G27: =ROUND(E27*F27,2) -> 0 | I27: =ROUND(E27*H27,2) -> 0 | K27: =ROUND(E27*J27,2) -> 0 | L27: 21 | M27: =G27*(1+L27/100) -> 0 | N27: 0 | O27: =ROUND(E27*N27,2) -> 0 | P27: 0 | Q27: =ROUND(E27*P27,2) -> 0 | S27: Vlastní | T27: Indiv | U27: 0 | V27: =ROUND(E27*U27,2) -> 0 | X27: Práce | AG27: POL1_
AE28: 15 | AF28: 21 | AG28: DPH
B29: Celkem | G29: =G8+G18+G22+G24+G26 -> 0 | AE29: =SUMIF(L7:L27,AE28,G7:G27) -> 0 | AF29: =SUMIF(L7:L27,AF28,G7:G27) -> 0 | AG29: SUM
A32: Poznámky uchazeče k zadání
AG33: POPUZIV
AG39: END

Sheet SO 02 02 Pol
A1: Položkový rozpočet | AG1: #TypZaznamu#
A2: S: | B2: MS0045 | C2: CNG Vrahovice | AG2: STA
A3: O: | B3: SO 02 | C3: Plnící stanice | AC3: STA | AG3: OBJ
A4: R: | B4: 02 | C4: Technologická část | AG4: ROZ
A6: P.č. | B6: Číslo položky | C6: Název položky | D6: MJ | E6: Množství | F6: Cena / MJ | G6: Celkem | H6: Dodávka | I6: Dodávka celk. | J6: Montáž | K6: Montáž celk. | L6: DPH | M6: Cena s DPH | N6: Hmotnost / MJ | O6: Hmotnost celk.(t) | P6: Dem. hmotnost / MJ | Q6: Dem. hmotnost celk.(t) | R6: Ceník | S6: Cen. soustava / platnost | T6: Cenová úroveň | U6: Nhod / MJ | V6: Nhod celk. | W6: Dodavatel | X6: Typ položky
A8: Díl: | B8: M74 | C8: Technologie | G8: =SUMIF(AG9:AG9,"<>NOR",G9:G9) -> 0 | I8: =SUM(I9:I9) -> 0 | K8: =SUM(K9:K9) -> 0 | M8: =SUM(M9:M9) -> 0 | O8: =SUM(O9:O9) -> 0 | Q8: =SUM(Q9:Q9) -> 0 | V8: =SUM(V9:V9) -> 0 | AG8: DIL
A9: 1 | B9: M74/01-R | C9: D+M plnicí stanice biometanu včetně železobetonového kontejneru, vstupní tlak biometanu dle SO 01, minimální kapacita skladovací banky 6x140l (vodní objem), min. 2 tlakové sekce skladovací banky, jmenovitý výkon zařízení min. 26 Nm3/h, vyrovnávací nádrž, měření rosného bodu, minimální roční proběh 8000mth, max. výstupní tlak CNG 250 barg, včetně výdeje CNG do mobilního zásobníku, integrovaný výdejní panel, 1x výdejní hadice + 1x koncovka NGV1, délka výdejní hadice min.3m, trhací spojka, min. 2 tlakové sekce, display, signální maják, integrovaný terminál řídícího a evidenčního systému, samoobslužný odbavovací terminál, min. 10ks RFID čipů, vč. dopravy, elektroinstalace a MaR, bezpečnostní prvky, zajištění komunikace s technologií čištění, dodávka včetně dopravy, instalace, osvětlení vstupních dveří, hasicí přístroje dle PBŘS , uvedení do provozu. | D9: kompl | E9: 1 | G9: =ROUND(E9*F9,2) -> 0 | I9: =ROUND(E9*H9,2) -> 0 | K9: =ROUND(E9*J9,2) -> 0 | L9: 21 | M9: =G9*(1+L9/100) -> 0 | N9: 0 | O9: =ROUND(E9*N9,2) -> 0 | P9: 0 | Q9: =ROUND(E9*P9,2) -> 0 | S9: Vlastní | T9: Indiv | U9: 0 | V9: =ROUND(E9*U9,2) -> 0 | X9: Práce | AG9: POL1_
AE10: 15 | AF10: 21 | AG10: DPH
B11: Celkem | G11: =G8 -> 0 | AE11: =SUMIF(L7:L9,AE10,G7:G9) -> 0 | AF11: =SUMIF(L7:L9,AF10,G7:G9) -> 0 | AG11: SUM
A14: Poznámky uchazeče k zadání
AG15: POPUZIV
AG21: END

Sheet SO 03 01 Pol
A1: Položkový rozpočet | AG1: #TypZaznamu#
A2: S: | B2: MS0045 | C2: CNG Vrahovice | AG2: STA
A3: O: | B3: SO 03 | C3: Přívod bioplynu a odvod permeátu | AC3: STA | AG3: OBJ
A4: R: | B4: 01 | C4: Stavební část | AG4: ROZ
A6: P.č. | B6: Číslo položky | C6: Název položky | D6: MJ | E6: Množství | F6: Cena / MJ | G6: Celkem | H6: Dodávka | I6: Dodávka celk. | J6: Montáž | K6: Montáž celk. | L6: DPH | M6: Cena s DPH | N6: Hmotnost / MJ | O6: Hmotnost celk.(t) | P6: Dem. hmotnost / MJ | Q6: Dem. hmotnost celk.(t) | R6: Ceník | S6: Cen. soustava / platnost | T6: Cenová úroveň | U6: Nhod / MJ | V6: Nhod celk. | W6: Dodavatel | X6: Typ položky
A8: Díl: | B8: 1 | C8: Zemní práce | G8: =SUMIF(AG9:AG17,"<>NOR",G9:G17) -> 0 | I8: =SUM(I9:I17) -> 0 | K8: =SUM(K9:K17) -> 0 | M8: =SUM(M9:M17) -> 0 | O8: =SUM(O9:O17) -> 0 | Q8: =SUM(Q9:Q17) -> 0 | V8: =SUM(V9:V17) -> 29.56 | AG8: DIL
A9: 1 | B9: 115101201R00 | C9: Čerpání vody na výšku do 10 m, přítok do 500 l/min | D9: h | E9: 36 | G9: =ROUND(E9*F9,2) -> 0 | I9: =ROUND(E9*H9,2) -> 0 | K9: =ROUND(E9*J9,2) -> 0 | L9: 21 | M9: =G9*(1+L9/100) -> 0 | N9: 0 | O9: =ROUND(E9*N9,2) -> 0 | P9: 0 | Q9: =ROUND(E9*P9,2) -> 0 | S9: RTS 21/ I | T9: RTS 21/ I | U9: 0.203 | V9: =ROUND(E9*U9,2) -> 7.31 | X9: Práce | AG9: POL1_
A10: 2 | B10: 115101301R00 | C10: Pohotovost čerp.soupravy, výška 10 m, přítok 500 l | D10: den | E10: 4 | G10: =ROUND(E10*F10,2) -> 0 | I10: =ROUND(E10*H10,2) -> 0 | K10: =ROUND(E10*J10,2) -> 0 | L10: 21 | M10: =G10*(1+L10/100) -> 0 | N10: 0 | O10: =ROUND(E10*N10,2) -> 0 | P10: 0 | Q10: =ROUND(E10*P10,2) -> 0 | S10: RTS 21/ I | T10: RTS 21/ I | U10: 0 | V10: =ROUND(E10*U10,2) -> 0 | X10: Práce | AG10: POL1_
A11: 3 | B11: 131301110R00 | C11: Hloubení nezapaž. jam hor.4 do 50 m3, STROJNĚ | D11: m3 | E11: 31.08544 | G11: =ROUND(E11*F11,2) -> 0 | I11: =ROUND(E11*H11,2) -> 0 | K11: =ROUND(E11*J11,2) -> 0 | L11: 21 | M11: =G11*(1+L11/100) -> 0 | N11: 0 | O11: =ROUND(E11*N11,2) -> 0 | P11: 0 | Q11: =ROUND(E11*P11,2) -> 0 | S11: RTS 21/ I | T11: RTS 21/ I | U11: 0.31 | V11: =ROUND(E11*U11,2) -> 9.64 | X11: Práce | AG11: POL1_
A12: 4 | B12: 131301119R00 | C12: Příplatek za lepivost - hloubení nezap.jam v hor.4 | D12: m3 | E12: 31.08544 | G12: =ROUND(E12*F12,2) -> 0 | I12: =ROUND(E12*H12,2) -> 0 | K12: =ROUND(E12*J12,2) -> 0 | L12: 21 | M12: =G12*(1+L12/100) -> 0 | N12: 0 | O12: =ROUND(E12*N12,2) -> 0 | P12: 0 | Q12: =ROUND(E12*P12,2) -> 0 | S12: RTS 21/ I | T12: RTS 21/ I | U12: 0.1024 | V12: =ROUND(E12*U12,2) -> 3.18 | X12: Práce | AG12: POL1_
A13: 5 | B13: 162301101R00 | C13: Vodorovné přemístění výkopku z hor.1-4 do 500 m | D13: m3 | E13: 6.33048 | G13: =ROUND(E13*F13,2) -> 0 | I13: =ROUND(E13*H13,2) -> 0 | K13: =ROUND(E13*J13,2) -> 0 | L13: 21 | M13: =G13*(1+L13/100) -> 0 | N13: 0 | O13: =ROUND(E13*N13,2) -> 0 | P13: 0 | Q13: =ROUND(E13*P13,2) -> 0 | S13: RTS 21/ I | T13: RTS 21/ I | U13: 0.011 | V13: =ROUND(E13*U13,2) -> 0.07 | X13: Práce | AG13: POL1_
A14: 6 | B14: 167101101R00 | C14: Nakládání výkopku z hor.1-4 v množství do 100 m3 | D14: m3 | E14: 6.33048 | G14: =ROUND(E14*F14,2) -> 0 | I14: =ROUND(E14*H14,2) -> 0 | K14: =ROUND(E14*J14,2) -> 0 | L14: 21 | M14: =G14*(1+L14/100) -> 0 | N14: 0 | O14: =ROUND(E14*N14,2) -> 0 | P14: 0 | Q14: =ROUND(E14*P14,2) -> 0 | S14: RTS 21/ I | T14: RTS 21/ I | U14: 0.652 | V14: =ROUND(E14*U14,2) -> 4.13 | X14: Práce | AG14: POL1_
A15: 7 | B15: 171201201R00 | C15: Uložení sypaniny na skl.-sypanina na výšku přes 2m | D15: m3 | E15: 6.33048 | G15: =ROUND(E15*F15,2) -> 0 | I15: =ROUND(E15*H15,2) -> 0 | K15: =ROUND(E15*J15,2) -> 0 | L15: 21 | M15: =G15*(1+L15/100) -> 0 | N15: 0 | O15: =ROUND(E15*N15,2) -> 0 | P15: 0 | Q15: =ROUND(E15*P15,2) -> 0 | S15: RTS 21/ I | T15: RTS 21/ I | U15: 0.01 | V15: =ROUND(E15*U15,2) -> 0.06 | X15: Práce | AG15: POL1_
A16: 8 | B16: 174101101R00 | C16: Zásyp jam, rýh, šachet se zhutněním | D16: m3 | E16: 24.75496 | G16: =ROUND(E16*F16,2) -> 0 | I16: =ROUND(E16*H16,2) -> 0 | K16: =ROUND(E16*J16,2) -> 0 | L16: 21 | M16: =G16*(1+L16/100) -> 0 | N16: 0 | O16: =ROUND(E16*N16,2) -> 0 | P16: 0 | Q16: =ROUND(E16*P16,2) -> 0 | S16: RTS 21/ I | T16: RTS 21/ I | U16: 0.2 | V16: =ROUND(E16*U16,2) -> 4.95 | X16: Práce | AG16: POL1_
A17: 9 | B17: 181101102R00 | C17: Úprava pláně v zářezech v hor. 1-4, se zhutněním | D17: m2 | E17: 11.0016 | G17: =ROUND(E17*F17,2) -> 0 | I17: =ROUND(E17*H17,2) -> 0 | K17: =ROUND(E17*J17,2) -> 0 | L17: 21 | M17: =G17*(1+L17/100) -> 0 | N17: 0 | O17: =ROUND(E17*N17,2) -> 0 | P17: 0 | Q17: =ROUND(E17*P17,2) -> 0 | S17: RTS 21/ I | T17: RTS 21/ I | U17: 0.02 | V17: =ROUND(E17*U17,2) -> 0.22 | X17: Práce | AG17: POL1_
A18: Díl: | B18: 2 | C18: Základy a zvláštní zakládání | G18: =SUMIF(AG19:AG22,"<>NOR",G19:G22) -> 0 | I18: =SUM(I19:I22) -> 0 | K18: =SUM(K19:K22) -> 0 | M18: =SUM(M19:M22) -> 0 | O18: =SUM(O19:O22) -> 5.43 | Q18: =SUM(Q19:Q22) -> 0 | V18: =SUM(V19:V22) -> 12.96 | AG18: DIL
A19: 10 | B19: 275313621R00 | C19: Beton základových patek prostý C 20/25 | D19: m3 | E19: 2 | G19: =ROUND(E19*F19,2) -> 0 | I19: =ROUND(E19*H19,2) -> 0 | K19: =ROUND(E19*J19,2) -> 0 | L19: 21 | M19: =G19*(1+L19/100) -> 0 | N19: 2.525 | O19: =ROUND(E19*N19,2) -> 5.05 | P19: 0 | Q19: =ROUND(E19*P19,2) -> 0 | S19: RTS 21/ I | T19: RTS 21/ I | U19: 0.477 | V19: =ROUND(E19*U19,2) -> 0.95 | X19: Práce | AG19: POL1_
A20: 11 | B20: 275351215R00 | C20: Bednění stěn základových patek - zřízení | D20: m2 | E20: 8 | G20: =ROUND(E20*F20,2) -> 0 | I20: =ROUND(E20*H20,2) -> 0 | K20: =ROUND(E20*J20,2) -> 0 | L20: 21 | M20: =G20*(1+L20/100) -> 0 | N20: 0.0392 | O20: =ROUND(E20*N20,2) -> 0.31 | P20: 0 | Q20: =ROUND(E20*P20,2) -> 0 | S20: RTS 21/ I | T20: RTS 21/ I | U20: 1.05 | V20: =ROUND(E20*U20,2) -> 8.4 | X20: Práce | AG20: POL1_
A21: 12 | B21: 275351216R00 | C21: Bednění stěn základových patek - odstranění | D21: m2 | E21: 8 | G21: =ROUND(E21*F21,2) -> 0 | I21: =ROUND(E21*H21,2) -> 0 | K21: =ROUND(E21*J21,2) -> 0 | L21: 21 | M21: =G21*(1+L21/100) -> 0 | N21: 0 | O21: =ROUND(E21*N21,2) -> 0 | P21: 0 | Q21: =ROUND(E21*P21,2) -> 0 | S21: RTS 21/ I | T21: RTS 21/ I | U21: 0.32 | V21: =ROUND(E21*U21,2) -> 2.56 | X21: Práce | AG21: POL1_
A22: 13 | B22: 275361921RT4 | C22: Výztuž základových patek ze svařovaných sítí průměr drátu 6,0, oka 100/100 mm KH30 | D22: t | E22: 0.06926 | G22: =ROUND(E22*F22,2) -> 0 | I22: =ROUND(E22*H22,2) -> 0 | K22: =ROUND(E22*J22,2) -> 0 | L22: 21 | M22: =G22*(1+L22/100) -> 0 | N22: 1.04548 | O22: =ROUND(E22*N22,2) -> 0.07 | P22: 0 | Q22: =ROUND(E22*P22,2) -> 0 | S22: RTS 21/ I | T22: RTS 21/ I | U22: 15.231 | V22: =ROUND(E22*U22,2) -> 1.05 | X22: Práce | AG22: POL1_
A23: Díl: | B23: 5 | C23: Komunikace | G23: =SUMIF(AG24:AG24,"<>NOR",G24:G24) -> 0 | I23: =SUM(I24:I24) -> 0 | K23: =SUM(K24:K24) -> 0 | M23: =SUM(M24:M24) -> 0 | O23: =SUM(O24:O24) -> 3.17 | Q23: =SUM(Q24:Q24) -> 0 | V23: =SUM(V24:V24) -> 0.22 | AG23: DIL
A24: 14 | B24: 564831111RT4 | C24: Podklad ze štěrkodrti po zhutnění tloušťky 10 cm štěrkodrť frakce 0-63 mm | D24: m2 | E24: 11.0016 | G24: =ROUND(E24*F24,2) -> 0 | I24: =ROUND(E24*H24,2) -> 0 | K24: =ROUND(E24*J24,2) -> 0 | L24: 21 | M24: =G24*(1+L24/100) -> 0 | N24: 0.288 | O24: =ROUND(E24*N24,2) -> 3.17 | P24: 0 | Q24: =ROUND(E24*P24,2) -> 0 | S24: RTS 21/ I | T24: RTS 21/ I | U24: 0.02 | V24: =ROUND(E24*U24,2) -> 0.22 | X24: Práce | AG24: POL1_
A25: Díl: | B25: 8 | C25: Trubní vedení | G25: =SUMIF(AG26:AG33,"<>NOR",G26:G33) -> 0 | I25: =SUM(I26:I33) -> 0 | K25: =SUM(K26:K33) -> 0 | M25: =SUM(M26:M33) -> 0 | O25: =SUM(O26:O33) -> 2.7 | Q25: =SUM(Q26:Q33) -> 0 | V25: =SUM(V26:V33) -> 10.51 | AG25: DIL
A26: 15 | B26: 894423111R00 | C26: Osazení betonových dílců šachet do 2,0 t | D26: kus | E26: 6 | G26: =ROUND(E26*F26,2) -> 0 | I26: =ROUND(E26*H26,2) -> 0 | K26: =ROUND(E26*J26,2) -> 0 | L26: 21 | M26: =G26*(1+L26/100) -> 0 | N26: 0 | O26: =ROUND(E26*N26,2) -> 0 | P26: 0 | Q26: =ROUND(E26*P26,2) -> 0 | S26: RTS 21/ I | T26: RTS 21/ I | U26: 1.752 | V26: =ROUND(E26*U26,2) -> 10.51 | X26: Práce | AG26: POL1_
A27: 16 | B27: 8/01-R | C27: Dno nádrže NK 100/100/9 V=0,74m3, DN 1000 | D27: kus | E27: 1 | G27: =ROUND(E27*F27,2) -> 0 | I27: =ROUND(E27*H27,2) -> 0 | K27: =ROUND(E27*J27,2) -> 0 | L27: 21 | M27: =G27*(1+L27/100) -> 0 | N27: 0.965 | O27: =ROUND(E27*N27,2) -> 0.97 | P27: 0 | Q27: =ROUND(E27*P27,2) -> 0 | S27: Vlastní | T27: Indiv | U27: 0 | V27: =ROUND(E27*U27,2) -> 0 | X27: Specifikace | AG27: POL3_
A28: 17 | B28: 8/02a-R | C28: Skruž nádrže TBH 100/100/9 DN 1000 | D28: kus | E28: 1 | G28: =ROUND(E28*F28,2) -> 0 | I28: =ROUND(E28*H28,2) -> 0 | K28: =ROUND(E28*J28,2) -> 0 | L28: 21 | M28: =G28*(1+L28/100) -> 0 | N28: 0.72 | O28: =ROUND(E28*N28,2) -> 0.72 | P28: 0 | Q28: =ROUND(E28*P28,2) -> 0 | S28: Vlastní | T28: Indiv | U28: 0 | V28: =ROUND(E28*U28,2) -> 0 | X28: Specifikace | AG28: POL3_
A29: 18 | B29: 8/02b-R | C29: Skruž nádrže TBH 100/50/9 DN 1000 | D29: kus | E29: 1 | G29: =ROUND(E29*F29,2) -> 0 | I29: =ROUND(E29*H29,2) -> 0 | K29: =ROUND(E29*J29,2) -> 0 | L29: 21 | M29: =G29*(1+L29/100) -> 0 | N29: 0.36 | O29: =ROUND(E29*N29,2) -> 0.36 | P29: 0 | Q29: =ROUND(E29*P29,2) -> 0 | S29: Vlastní | T29: Indiv | U29: 0 | V29: =ROUND(E29*U29,2) -> 0 | X29: Specifikace | AG29: POL3_
A30: 19 | B30: 8/03-R | C30: Přechodové dílce - konus TBSK 100-63/67/9 DN 625 | D30: kus | E30: 1 | G30: =ROUND(E30*F30,2) -> 0 | I30: =ROUND(E30*H30,2) -> 0 | K30: =ROUND(E30*J30,2) -> 0 | L30: 21 | M30: =G30*(1+L30/100) -> 0 | N30: 0.485 | O30: =ROUND(E30*N30,2) -> 0.49 | P30: 0 | Q30: =ROUND(E30*P30,2) -> 0 | S30: Vlastní | T30: Indiv | U30: 0 | V30: =ROUND(E30*U30,2) -> 0 | X30: Specifikace | AG30: POL3_
A31: 20 | B31: 8/04-R | C31: Vyrovnávací prstenec TBH 63/10/12 DN 625 | D31: kus | E31: 1 | G31: =ROUND(E31*F31,2) -> 0 | I31: =ROUND(E31*H31,2) -> 0 | K31: =ROUND(E31*J31,2) -> 0 | L31: 21 | M31: =G31*(1+L31/100) -> 0 | N31: 0.064 | O31: =ROUND(E31*N31,2) -> 0.06 | P31: 0 | Q31: =ROUND(E31*P31,2) -> 0 | S31: Vlastní | T31: Indiv | U31: 0 | V31: =ROUND(E31*U31,2) -> 0 | X31: Specifikace | AG31: POL3_
A32: 21 | B32: 8/05-R | C32: Poklop odvětraný KB01 EN124 B125 BG DN 625 | D32: kus | E32: 1 | G32: =ROUND(E32*F32,2) -> 0 | I32: =ROUND(E32*H32,2) -> 0 | K32: =ROUND(E32*J32,2) -> 0 | L32: 21 | M32: =G32*(1+L32/100) -> 0 | N32: 0.099 | O32: =ROUND(E32*N32,2) -> 0.1 | P32: 0 | Q32: =ROUND(E32*P32,2) -> 0 | S32: Vlastní | T32: Indiv | U32: 0 | V32: =ROUND(E32*U32,2) -> 0 | X32: Specifikace | AG32: POL3_
A33: 22 | B33: 8/06-R | C33: D+M prostupu pro kondenzátní potrubí do stěny šachty | D33: kus | E33: 3 | G33: =ROUND(E33*F33,2) -> 0 | I33: =ROUND(E33*H33,2) -> 0 | K33: =ROUND(E33*J33,2) -> 0 | L33: 21 | M33: =G33*(1+L33/100) -> 0 | N33: 0 | O33: =ROUND(E33*N33,2) -> 0 | P33: 0 | Q33: =ROUND(E33*P33,2) -> 0 | S33: Vlastní | T33: Indiv | U33: 0 | V33: =ROUND(E33*U33,2) -> 0 | X33: Specifikace | AG33: POL3_
A34: Díl: | B34: 99 | C34: Staveništní přesun hmot | G34: =SUMIF(AG35:AG35,"<>NOR",G35:G35) -> 0 | I34: =SUM(I35:I35) -> 0 | K34: =SUM(K35:K35) -> 0 | M34: =SUM(M35:M35) -> 0 | O34: =SUM(O35:O35) -> 0 | Q34: =SUM(Q35:Q35) -> 0 | V34: =SUM(V35:V35) -> 0.12 | AG34: DIL
A35: 23 | B35: 998224111R00 | C35: Přesun hmot, pozemní komunikace, kryt betonový | D35: t | E35: 11.29747 | G35: =ROUND(E35*F35,2) -> 0 | I35: =ROUND(E35*H35,2) -> 0 | K35: =ROUND(E35*J35,2) -> 0 | L35: 21 | M35: =G35*(1+L35/100) -> 0 | N35: 0 | O35: =ROUND(E35*N35,2) -> 0 | P35: 0 | Q35: =ROUND(E35*P35,2) -> 0 | S35: RTS 21/ I | T35: RTS 21/ I | U35: 0.011 | V35: =ROUND(E35*U35,2) -> 0.12 | X35: Přesun hmot | AG35: POL7_
A36: Díl: | B36: 767 | C36: Konstrukce zámečnické | G36: =SUMIF(AG37:AG40,"<>NOR",G37:G40) -> 0 | I36: =SUM(I37:I40) -> 0 | K36: =SUM(K37:K40) -> 0 | M36: =SUM(M37:M40) -> 0 | O36: =SUM(O37:O40) -> 2.7 | Q36: =SUM(Q37:Q40) -> 0 | V36: =SUM(V37:V40) -> 26.87 | AG36: DIL
A37: 24 | B37: 767995105R00 | C37: Výroba a montáž kov. atypických konstr. do 100 kg | D37: kg | E37: 319.912 | G37: =ROUND(E37*F37,2) -> 0 | I37: =ROUND(E37*H37,2) -> 0 | K37: =ROUND(E37*J37,2) -> 0 | L37: 21 | M37: =G37*(1+L37/100) -> 0 | N37: 5e-05 | O37: =ROUND(E37*N37,2) -> 0.02 | P37: 0 | Q37: =ROUND(E37*P37,2) -> 0 | S37: RTS 21/ I | T37: RTS 21/ I | U37: 0.084 | V37: =ROUND(E37*U37,2) -> 26.87 | X37: Práce | AG37: POL1_
A38: 25 | B38: 13483315R | C38: Tyč průřezu U 200, hrubé, jakost oceli S235 11375 | D38: t | E38: 0.0506 | G38: =ROUND(E38*F38,2) -> 0 | I38: =ROUND(E38*H38,2) -> 0 | K38: =ROUND(E38*J38,2) -> 0 | L38: 21 | M38: =G38*(1+L38/100) -> 0 | N38: 1 | O38: =ROUND(E38*N38,2) -> 0.05 | P38: 0 | Q38: =ROUND(E38*P38,2) -> 0 | R38: SPCM | S38: RTS 21/ I | T38: RTS 21/ I | U38: 0 | V38: =ROUND(E38*U38,2) -> 0 | X38: Specifikace | AG38: POL3_
A39: 26 | B39: 14211119R | C39: Trubka bezešvá hladká 11353.0 D 152x6,3 mm | D39: m | E39: 8 | G39: =ROUND(E39*F39,2) -> 0 | I39: =ROUND(E39*H39,2) -> 0 | K39: =ROUND(E39*J39,2) -> 0 | L39: 21 | M39: =G39*(1+L39/100) -> 0 | N39: 0.0226 | O39: =ROUND(E39*N39,2) -> 0.18 | P39: 0 | Q39: =ROUND(E39*P39,2) -> 0 | R39: SPCM | S39: RTS 21/ I | T39: RTS 21/ I | U39: 0 | V39: =ROUND(E39*U39,2) -> 0 | X39: Specifikace | AG39: POL3_
A40: 27 | B40: 767/01-R | C40: Kotevní plotna, svary, spojovací materiál pro podpůrný sloup | D40: kg | E40: 70 | G40: =ROUND(E40*F40,2) -> 0 | I40: =ROUND(E40*H40,2) -> 0 | K40: =ROUND(E40*J40,2) -> 0 | L40: 21 | M40: =G40*(1+L40/100) -> 0 | N40: 0.035 | O40: =ROUND(E40*N40,2) -> 2.45 | P40: 0 | Q40: =ROUND(E40*P40,2) -> 0 | S40: Vlastní | T40: Indiv | U40: 0 | V40: =ROUND(E40*U40,2) -> 0 | X40: R-položka | AG40: POL12_1
A41: Díl: | B41: M21 | C41: Elektromontáže | G41: =SUMIF(AG42:AG42,"<>NOR",G42:G42) -> 0 | I41: =SUM(I42:I42) -> 0 | K41: =SUM(K42:K42) -> 0 | M41: =SUM(M42:M42) -> 0 | O41: =SUM(O42:O42) -> 0 | Q41: =SUM(Q42:Q42) -> 0 | V41: =SUM(V42:V42) -> 0 | AG41: DIL
A42: 28 | B42: M21/01-R | C42: D+M uzemnění sloupu | D42: kompl | E42: 1 | G42: =ROUND(E42*F42,2) -> 0 | I42: =ROUND(E42*H42,2) -> 0 | K42: =ROUND(E42*J42,2) -> 0 | L42: 21 | M42: =G42*(1+L42/100) -> 0 | N42: 0 | O42: =ROUND(E42*N42,2) -> 0 | P42: 0 | Q42: =ROUND(E42*P42,2) -> 0 | S42: Vlastní | T42: Indiv | U42: 0 | V42: =ROUND(E42*U42,2) -> 0 | X42: Práce | AG42: POL1_
...

Sheet SO 03 02 Pol
A1: Položkový rozpočet | AG1: #TypZaznamu#
A2: S: | B2: MS0045 | C2: CNG Vrahovice | AG2: STA
A3: O: | B3: SO 03 | C3: Přívod bioplynu a odvod permeátu | AC3: STA | AG3: OBJ
A4: R: | B4: 02 | C4: Technologická část - přívod bioplynu | AG4: ROZ
A6: P.č. | B6: Číslo položky | C6: Název položky | D6: MJ | E6: Množství | F6: Cena / MJ | G6: Celkem | H6: Dodávka | I6: Dodávka celk. | J6: Montáž | K6: Montáž celk. | L6: DPH | M6: Cena s DPH | N6: Hmotnost / MJ | O6: Hmotnost celk.(t) | P6: Dem. hmotnost / MJ | Q6: Dem. hmotnost celk.(t) | R6: Ceník | S6: Cen. soustava / platnost | T6: Cenová úroveň | U6: Nhod / MJ | V6: Nhod celk. | W6: Dodavatel | X6: Typ položky
A8: Díl: | B8: M74 | C8: Technologie | G8: =SUMIF(AG9:AG13,"<>NOR",G9:G13) -> 0 | I8: =SUM(I9:I13) -> 0 | K8: =SUM(K9:K13) -> 0 | M8: =SUM(M9:M13) -> 0 | O8: =SUM(O9:O13) -> 0 | Q8: =SUM(Q9:Q13) -> 0 | V8: =SUM(V9:V13) -> 0 | AG8: DIL
A9: 1 | B9: M74/01-R | C9: D+M potrubí NEREZ DN80 pro plyn, provozní přetlak 100mbar, včetně tvarovek a napojení | D9: bm | E9: 20 | G9: =ROUND(E9*F9,2) -> 0 | I9: =ROUND(E9*H9,2) -> 0 | K9: =ROUND(E9*J9,2) -> 0 | L9: 21 | M9: =G9*(1+L9/100) -> 0 | N9: 0 | O9: =ROUND(E9*N9,2) -> 0 | P9: 0 | Q9: =ROUND(E9*P9,2) -> 0 | S9: Vlastní | T9: Indiv | U9: 0 | V9: =ROUND(E9*U9,2) -> 0 | X9: Práce | AG9: POL1_
A10: 2 | B10: M74/02-R | C10: D+M Klapka uzavírací mezipřírubová DN800/PN16, včetně napojení na SO 01 | D10: ks | E10: 2 | G10: =ROUND(E10*F10,2) -> 0 | I10: =ROUND(E10*H10,2) -> 0 | K10: =ROUND(E10*J10,2) -> 0 | L10: 21 | M10: =G10*(1+L10/100) -> 0 | N10: 0 | O10: =ROUND(E10*N10,2) -> 0 | P10: 0 | Q10: =ROUND(E10*P10,2) -> 0 | S10: Vlastní | T10: Indiv | U10: 0 | V10: =ROUND(E10*U10,2) -> 0 | X10: Práce | AG10: POL1_
A11: 3 | B11: M74/03-R | C11: D+M odvzdušnění DN15/PN16, včetně armatur, tvarovek a napojení | D11: ks | E11: 2 | G11: =ROUND(E11*F11,2) -> 0 | I11: =ROUND(E11*H11,2) -> 0 | K11: =ROUND(E11*J11,2) -> 0 | L11: 21 | M11: =G11*(1+L11/100) -> 0 | N11: 0 | O11: =ROUND(E11*N11,2) -> 0 | P11: 0 | Q11: =ROUND(E11*P11,2) -> 0 | S11: Vlastní | T11: Indiv | U11: 0 | V11: =ROUND(E11*U11,2) -> 0 | X11: Práce | AG11: POL1_
A12: 4 | B12: M74/04-R | C12: D+M odvod kondenzátu DN50 do kondenzátní šachty včetně sifonu, armatur a napojení | D12: kompl | E12: 1 | G12: =ROUND(E12*F12,2) -> 0 | I12: =ROUND(E12*H12,2) -> 0 | K12: =ROUND(E12*J12,2) -> 0 | L12: 21 | M12: =G12*(1+L12/100) -> 0 | N12: 0 | O12: =ROUND(E12*N12,2) -> 0 | P12: 0 | Q12: =ROUND(E12*P12,2) -> 0 | S12: Vlastní | T12: Indiv | U12: 0 | V12: =ROUND(E12*U12,2) -> 0 | X12: Práce | AG12: POL1_
A13: 5 | B13: M74/05-R | C13: D+M Tepelné izolace potrubí odvodu kondenzátu potrubními pouzdry tl. 50mm + oplechování AL plechem + topné kabely | D13: kompl | E13: 1 | G13: =ROUND(E13*F13,2) -> 0 | I13: =ROUND(E13*H13,2) -> 0 | K13: =ROUND(E13*J13,2) -> 0 | L13: 21 | M13: =G13*(1+L13/100) -> 0 | N13: 0 | O13: =ROUND(E13*N13,2) -> 0 | P13: 0 | Q13: =ROUND(E13*P13,2) -> 0 | S13: Vlastní | T13: Indiv | U13: 0 | V13: =ROUND(E13*U13,2) -> 0 | X13: Práce | AG13: POL1_
AE14: 15 | AF14: 21 | AG14: DPH
B15: Celkem | G15: =G8 -> 0 | AE15: =SUMIF(L7:L13,AE14,G7:G13) -> 0 | AF15: =SUMIF(L7:L13,AF14,G7:G13) -> 0 | AG15: SUM
A18: Poznámky uchazeče k zadání
AG19: POPUZIV
AG25: END

Sheet SO 03 03 Pol
A1: Položkový rozpočet | AG1: #TypZaznamu#
A2: S: | B2: MS0045 | C2: CNG Vrahovice | AG2: STA
A3: O: | B3: SO 03 | C3: Přívod bioplynu a odvod permeátu | AC3: STA | AG3: OBJ
A4: R: | B4: 03 | C4: Technologická část - odvod permeátu | AG4: ROZ
A6: P.č. | B6: Číslo položky | C6: Název položky | D6: MJ | E6: Množství | F6: Cena / MJ | G6: Celkem | H6: Dodávka | I6: Dodávka celk. | J6: Montáž | K6: Montáž celk. | L6: DPH | M6: Cena s DPH | N6: Hmotnost / MJ | O6: Hmotnost celk.(t) | P6: Dem. hmotnost / MJ | Q6: Dem. hmotnost celk.(t) | R6: Ceník | S6: Cen. soustava / platnost | T6: Cenová úroveň | U6: Nhod / MJ | V6: Nhod celk. | W6: Dodavatel | X6: Typ položky
A8: Díl: | B8: M74 | C8: Technologie | G8: =SUMIF(AG9:AG15,"<>NOR",G9:G15) -> 0 | I8: =SUM(I9:I15) -> 0 | K8: =SUM(K9:K15) -> 0 | M8: =SUM(M9:M15) -> 0 | O8: =SUM(O9:O15) -> 0 | Q8: =SUM(Q9:Q15) -> 0 | V8: =SUM(V9:V15) -> 0 | AG8: DIL
A9: 1 | B9: M74/01-R | C9: D+M potrubí NEREZ DN80 pro plyn, provozní přetlak 100mbar, včetně tvarovek a napojení | D9: bm | E9: 20 | G9: =ROUND(E9*F9,2) -> 0 | I9: =ROUND(E9*H9,2) -> 0 | K9: =ROUND(E9*J9,2) -> 0 | L9: 21 | M9: =G9*(1+L9/100) -> 0 | N9: 0 | O9: =ROUND(E9*N9,2) -> 0 | P9: 0 | Q9: =ROUND(E9*P9,2) -> 0 | S9: Vlastní | T9: Indiv | U9: 0 | V9: =ROUND(E9*U9,2) -> 0 | X9: Práce | AG9: POL1_
A10: 2 | B10: M74/02-R | C10: D+M Klapka uzavírací mezipřírubová DN80/PN16, včetně napojení | D10: ks | E10: 2 | G10: =ROUND(E10*F10,2) -> 0 | I10: =ROUND(E10*H10,2) -> 0 | K10: =ROUND(E10*J10,2) -> 0 | L10: 21 | M10: =G10*(1+L10/100) -> 0 | N10: 0 | O10: =ROUND(E10*N10,2) -> 0 | P10: 0 | Q10: =ROUND(E10*P10,2) -> 0 | S10: Vlastní | T10: Indiv | U10: 0 | V10: =ROUND(E10*U10,2) -> 0 | X10: Práce | AG10: POL1_
A11: 3 | B11: M74/03-R | C11: D+M Klapka zpětná mezipřírubová DN80/PN16, včetně napojení | D11: ks | E11: 1 | G11: =ROUND(E11*F11,2) -> 0 | I11: =ROUND(E11*H11,2) -> 0 | K11: =ROUND(E11*J11,2) -> 0 | L11: 21 | M11: =G11*(1+L11/100) -> 0 | N11: 0 | O11: =ROUND(E11*N11,2) -> 0 | P11: 0 | Q11: =ROUND(E11*P11,2) -> 0 | S11: Vlastní | T11: Indiv | U11: 0 | V11: =ROUND(E11*U11,2) -> 0 | X11: Práce | AG11: POL1_
A12: 4 | B12: M74/04-R | C12: D+M Odvzdušnění DN15/PN16, včetně armatur, tvarovek a napojení | D12: kompl | E12: 1 | G12: =ROUND(E12*F12,2) -> 0 | I12: =ROUND(E12*H12,2) -> 0 | K12: =ROUND(E12*J12,2) -> 0 | L12: 21 | M12: =G12*(1+L12/100) -> 0 | N12: 0 | O12: =ROUND(E12*N12,2) -> 0 | P12: 0 | Q12: =ROUND(E12*P12,2) -> 0 | S12: Vlastní | T12: Indiv | U12: 0 | V12: =ROUND(E12*U12,2) -> 0 | X12: Práce | AG12: POL1_
A13: 5 | B13: M74/05-R | C13: D+M Odvod kondenzátu do kondenzátní šachty včetně sifonu, armatur a napojení | D13: kompl | E13: 1 | G13: =ROUND(E13*F13,2) -> 0 | I13: =ROUND(E13*H13,2) -> 0 | K13: =ROUND(E13*J13,2) -> 0 | L13: 21 | M13: =G13*(1+L13/100) -> 0 | N13: 0 | O13: =ROUND(E13*N13,2) -> 0 | P13: 0 | Q13: =ROUND(E13*P13,2) -> 0 | S13: Vlastní | T13: Indiv | U13: 0 | V13: =ROUND(E13*U13,2) -> 0 | X13: Práce | AG13: POL1_
A14: 6 | B14: M74/06-R | C14: D+M Tepelné izolace potrubí potrubí odvodu kondenzátu potrubními pouzdry tl. 50mm + oplechování Al plechem + topné kabely | D14: kompl | E14: 1 | G14: =ROUND(E14*F14,2) -> 0 | I14: =ROUND(E14*H14,2) -> 0 | K14: =ROUND(E14*J14,2) -> 0 | L14: 21 | M14: =G14*(1+L14/100) -> 0 | N14: 0 | O14: =ROUND(E14*N14,2) -> 0 | P14: 0 | Q14: =ROUND(E14*P14,2) -> 0 | S14: Vlastní | T14: Indiv | U14: 0 | V14: =ROUND(E14*U14,2) -> 0 | X14: Práce | AG14: POL1_
A15: 7 | B15: M74/07-R | C15: D+M Havarijní uzávěr plynu DN80/16, elektrický, bez napětí uzavřeno včetně napojení na ŘS BPS | D15: ks | E15: 1 | G15: =ROUND(E15*F15,2) -> 0 | I15: =ROUND(E15*H15,2) -> 0 | K15: =ROUND(E15*J15,2) -> 0 | L15: 21 | M15: =G15*(1+L15/100) -> 0 | N15: 0 | O15: =ROUND(E15*N15,2) -> 0 | P15: 0 | Q15: =ROUND(E15*P15,2) -> 0 | S15: Vlastní | T15: Indiv | U15: 0 | V15: =ROUND(E15*U15,2) -> 0 | X15: Práce | AG15: POL1_
AE16: 15 | AF16: 21 | AG16: DPH
B17: Celkem | G17: =G8 -> 0 | AE17: =SUMIF(L7:L15,AE16,G7:G15) -> 0 | AF17: =SUMIF(L7:L15,AF16,G7:G15) -> 0 | AG17: SUM
A20: Poznámky uchazeče k zadání
AG21: POPUZIV
AG27: END

Sheet SO 04 01 Pol
A1: Položkový rozpočet | AG1: #TypZaznamu#
A2: S: | B2: MS0045 | C2: CNG Vrahovice | AG2: STA
A3: O: | B3: SO 04 | C3: Přípojka NN | AC3: STA | AG3: OBJ
A4: R: | B4: 01 | C4: Technologická část | AG4: ROZ
A6: P.č. | B6: Číslo položky | C6: Název položky | D6: MJ | E6: Množství | F6: Cena / MJ | G6: Celkem | H6: Dodávka | I6: Dodávka celk. | J6: Montáž | K6: Montáž celk. | L6: DPH | M6: Cena s DPH | N6: Hmotnost / MJ | O6: Hmotnost celk.(t) | P6: Dem. hmotnost / MJ | Q6: Dem. hmotnost celk.(t) | R6: Ceník | S6: Cen. soustava / platnost | T6: Cenová úroveň | U6: Nhod / MJ | V6: Nhod celk. | W6: Dodavatel | X6: Typ položky
A8: Díl: | B8: M74 | C8: Technologie | G8: =SUMIF(AG9:AG10,"<>NOR",G9:G10) -> 0 | I8: =SUM(I9:I10) -> 0 | K8: =SUM(K9:K10) -> 0 | M8: =SUM(M9:M10) -> 0 | O8: =SUM(O9:O10) -> 0 | Q8: =SUM(Q9:Q10) -> 0 | V8: =SUM(V9:V10) -> 0 | AG8: DIL
A9: 1 | B9: M74/01-R | C9: D+M Kabel 1AYKY 3x95+70mm2, včetně jištění a napojení do rozvaděčů | D9: bm | E9: 35 | G9: =ROUND(E9*F9,2) -> 0 | I9: =ROUND(E9*H9,2) -> 0 | K9: =ROUND(E9*J9,2) -> 0 | L9: 21 | M9: =G9*(1+L9/100) -> 0 | N9: 0 | O9: =ROUND(E9*N9,2) -> 0 | P9: 0 | Q9: =ROUND(E9*P9,2) -> 0 | S9: Vlastní | T9: Indiv | U9: 0 | V9: =ROUND(E9*U9,2) -> 0 | X9: Práce | AG9: POL1_
A10: 2 | B10: M74/02-R | C10: D+M Kabelová lávka nebo žlab | D10: bm | E10: 35 | G10: =ROUND(E10*F10,2) -> 0 | I10: =ROUND(E10*H10,2) -> 0 | K10: =ROUND(E10*J10,2) -> 0 | L10: 21 | M10: =G10*(1+L10/100) -> 0 | N10: 0 | O10: =ROUND(E10*N10,2) -> 0 | P10: 0 | Q10: =ROUND(E10*P10,2) -> 0 | S10: Vlastní | T10: Indiv | U10: 0 | V10: =ROUND(E10*U10,2) -> 0 | X10: Práce | AG10: POL1_
AE11: 15 | AF11: 21 | AG11: DPH
B12: Celkem | G12: =G8 -> 0 | AE12: =SUMIF(L7:L10,AE11,G7:G10) -> 0 | AF12: =SUMIF(L7:L10,AF11,G7:G10) -> 0 | AG12: SUM
A15: Poznámky uchazeče k zadání
AG16: POPUZIV
AG22: END

Sheet SO 05 01 Pol
A1: Položkový rozpočet | AG1: #TypZaznamu#
A2: S: | B2: MS0045 | C2: CNG Vrahovice | AG2: STA
A3: O: | B3: SO 05 | C3: Zpevněné plochy | AC3: STA | AG3: OBJ
A4: R: | B4: 01 | C4: Konstrukce pochozích zpevněných ploch | AG4: ROZ
A6: P.č. | B6: Číslo položky | C6: Název položky | D6: MJ | E6: Množství | F6: Cena / MJ | G6: Celkem | H6: Dodávka | I6: Dodávka celk. | J6: Montáž | K6: Montáž celk. | L6: DPH | M6: Cena s DPH | N6: Hmotnost / MJ | O6: Hmotnost celk.(t) | P6: Dem. hmotnost / MJ | Q6: Dem. hmotnost celk.(t) | R6: Ceník | S6: Cen. soustava / platnost | T6: Cenová úroveň | U6: Nhod / MJ | V6: Nhod celk. | W6: Dodavatel | X6: Typ položky
A8: Díl: | B8: 1 | C8: Zemní práce | G8: =SUMIF(AG9:AG14,"<>NOR",G9:G14) -> 0 | I8: =SUM(I9:I14) -> 0 | K8: =SUM(K9:K14) -> 0 | M8: =SUM(M9:M14) -> 0 | O8: =SUM(O9:O14) -> 0 | Q8: =SUM(Q9:Q14) -> 0 | V8: =SUM(V9:V14) -> 8.12 | AG8: DIL
A9: 1 | B9: 122301101R00 | C9: Odkopávky nezapažené v hor. 4 do 100 m3 | D9: m3 | E9: 5.589 | G9: =ROUND(E9*F9,2) -> 0 | I9: =ROUND(E9*H9,2) -> 0 | K9: =ROUND(E9*J9,2) -> 0 | L9: 21 | M9: =G9*(1+L9/100) -> 0 | N9: 0 | O9: =ROUND(E9*N9,2) -> 0 | P9: 0 | Q9: =ROUND(E9*P9,2) -> 0 | S9: RTS 21/ I | T9: RTS 21/ I | U9: 0.626 | V9: =ROUND(E9*U9,2) -> 3.5 | X9: Práce | AG9: POL1_
A10: 2 | B10: 122301109R00 | C10: Příplatek za lepivost - odkopávky v hor. 4 | D10: m3 | E10: 5.589 | G10: =ROUND(E10*F10,2) -> 0 | I10: =ROUND(E10*H10,2) -> 0 | K10: =ROUND(E10*J10,2) -> 0 | L10: 21 | M10: =G10*(1+L10/100) -> 0 | N10: 0 | O10: =ROUND(E10*N10,2) -> 0 | P10: 0 | Q10: =ROUND(E10*P10,2) -> 0 | S10: RTS 21/ I | T10: RTS 21/ I | U10: 0.081 | V10: =ROUND(E10*U10,2) -> 0.45 | X10: Práce | AG10: POL1_
A11: 3 | B11: 162301101R00 | C11: Vodorovné přemístění výkopku z hor.1-4 do 500 m | D11: m3 | E11: 5.589 | G11: =ROUND(E11*F11,2) -> 0 | I11: =ROUND(E11*H11,2) -> 0 | K11: =ROUND(E11*J11,2) -> 0 | L11: 21 | M11: =G11*(1+L11/100) -> 0 | N11: 0 | O11: =ROUND(E11*N11,2) -> 0 | P11: 0 | Q11: =ROUND(E11*P11,2) -> 0 | S11: RTS 21/ I | T11: RTS 21/ I | U11: 0.011 | V11: =ROUND(E11*U11,2) -> 0.06 | X11: Práce | AG11: POL1_
A12: 4 | B12: 167101101R00 | C12: Nakládání výkopku z hor.1-4 v množství do 100 m3 | D12: m3 | E12: 5.589 | G12: =ROUND(E12*F12,2) -> 0 | I12: =ROUND(E12*H12,2) -> 0 | K12: =ROUND(E12*J12,2) -> 0 | L12: 21 | M12: =G12*(1+L12/100) -> 0 | N12: 0 | O12: =ROUND(E12*N12,2) -> 0 | P12: 0 | Q12: =ROUND(E12*P12,2) -> 0 | S12: RTS 21/ I | T12: RTS 21/ I | U12: 0.652 | V12: =ROUND(E12*U12,2) -> 3.64 | X12: Práce | AG12: POL1_
A13: 5 | B13: 171201201R00 | C13: Uložení sypaniny na skl.-sypanina na výšku přes 2m | D13: m3 | E13: 5.589 | G13: =ROUND(E13*F13,2) -> 0 | I13: =ROUND(E13*H13,2) -> 0 | K13: =ROUND(E13*J13,2) -> 0 | L13: 21 | M13: =G13*(1+L13/100) -> 0 | N13: 0 | O13: =ROUND(E13*N13,2) -> 0 | P13: 0 | Q13: =ROUND(E13*P13,2) -> 0 | S13: RTS 21/ I | T13: RTS 21/ I | U13: 0.01 | V13: =ROUND(E13*U13,2) -> 0.06 | X13: Práce | AG13: POL1_
