Workbook

Sheet Rekapitulace
C2: Rozpočet
C3: CÚ 2022/I
C5: název stavby
C6: NÁMĚSTÍ BĚCHOVICE
A9: Objednatel: | C9: Městská část Praha - Běchovice | E9: IČO: | F9: 00240044
C10: Českobrodská 3, 190 11 Praha – Běchovice | E10: DIČ:
A12: Projektant: | E12: IČO:
E13: DIČ:
A15: Zhotovitel: | E15: IČO:
E16: DIČ:
C20: Celková rekapitulace stavby
C22: Rekapitulace bez DPH | D22: Kč | E22: celkem | F22: =SUM(F29:F41) -> 0
C23: VRN - GZS | D23: Kč | E23: 0.03 | F23: =F22*E23 -> 0
C24: Rekapitulace s VRN bez DPH | F24: =SUM(F22:F23) -> 0
C25: DPH 21% | D25: Kč | F25: =F24*0.21 -> 0
C26: Rekapitulace s DPH 21% | D26: Kč | E26: celkem | F26: =SUM(F24:F25) -> 0
A29: 1 | C29: SO 001 Objekty zařízení staveniště (HTU) | D29: Kč | F29: ='SO 001 (HTU)'!G12 -> 0
A30: 2 | C30: SO 101 Komunikace a zpevněné plochy | D30: Kč | F30: ='SO 101'!J30 -> 0
A31: 3 | C31: SO 301 Kanalizace | D31: Kč | F31: ='SO 301'!G13 -> 0
A32: 4 | C32: SO 302 Vodovod | D32: Kč | F32: ='SO 302'!G13 -> 0
A33: 5 | C33: SO 401 Veřejné osvětlení | D33: Kč | F33: ='SO 401'!G13 -> 0
A34: 6 | C34: SO 402 Elektro silnoproud | D34: Kč | F34: ='SO 402'!G12 -> 0
A35: 7 | C35: SO 403 Preložka optického kabelu T- Mobile | D35: Kč | F35: ='SO 403'!G11 -> 0
A36: 8 | C36: SO 701 Fontana - stavební řešení | D36: Kč | F36: ='SO 701'!G12 -> 0
A37: 9 | C37: SO 702 Technologie fontány | D37: Kč | F37: ='SO 702-technologie'!G89+'SO 702-elektroinstalace'!G72 -> 0
A38: 10 | C38: SO 703 Drobná architektura | D38: Kč | F38: ='SO 703'!G14 -> 0
A39: 11 | C39: SO 801 Vegetační úpravy | D39: Kč | F39: ='SO 801'!I6 -> 0
B44: v | D44: dne
B50: Za zhotovitele | F50: Za objednatele

Sheet SO 001 (HTU)
C1: Rozpočet
C2: název stavby
C3: NÁMĚSTÍ BĚCHOVICE
C6: název části stavby
C7: SO 001 Objekty zařízení staveniště (HTU)
A11: 1 | C11: Rekapitulace nákladů
A12: 2 | C12: SO 001 | D12: Kč | G12: =G44 -> 0
A13: 3
A14: 4 | C14: ZRN mezisoučet bez DPH 21% | D14: Kč | G14: =SUM(G12:G13) -> 0
A15: 5 | C15: VRN - GZS | D15: Kč | E15: 0.03 | G15: =G14*E15 -> 0
A16: 6 | C16: celkem bez DPH 21% | D16: Kč | G16: =SUM(G14:G15) -> 0
A17: 7 | C17: DPH 21% | D17: Kč | E17: 0.21 | G17: =G16*E17 -> 0
A18: 8
A19: 9 | C19: Náklady celkem včetně DPH 21% | D19: Kč | G19: =SUM(G16:G17) -> 0
A20: 10
A21: 11
A22: p.č. | B22: kód | C22: popis | D22: m. j.. | E22: počet m.j.. | F22: jednotková cena / m.j. | G22: cena celkem | H22: hmoty t / celkem
A23: 12 | C23: 1)Soupis prací a dodávek je zpracován dle Vyhlášky 169 ze dne 12.05.2016
A24: 13 | C24: 2) Neopominutelným podkladem pro ocenění je projektová dokumentace.
A25: 14 | C25: 3) Při oceňování díla stavební firmou je PD a TZ technicky i technologicky nadřazena soupisu prací a dodávek s výkazem výměr . Zhotovitel díla odpovídá za to, že provedl kontrolu kompletnosti seznamu operací v soupise prací a dodávek s výkazem výměr a do své nabídky zahrnul veškeré dodávky a kompletní provedení prací nutné k provedení díla, které je předmětem smlouvy a bude schopno plnit svoji funkci po dobu několika desítek let.
A26: 15 | C26: 4) Hutnění konstrukcí nových i stávajících po demontáži. Konstrukce pro zpevnění hutnit po jednotlivých podkladních vrstvách dle PD a IGP k příslušejícímu SO.
A27: 16 | C27: 5) Detaily a podrobnosti dle PD
A28: 17 | C28: 6) Likvidace kovových částí: Veškeré kovové části budou před odvozem k prodeji zváženy a jejich hmotnost zapsána do Stavebního deníku. Následně budou odvezeny a prodány jako druhotné suroviny do Kovošrotu za cenu platnou v den prodeje. Jejich výtěžek bude poslán na účet investora ve výši ceny platné v den prodeje.
A29: 18 | C29: 7) Jednotková cena obsahuje přesun hmot, není-li uvedeno samostatně.
A30: 19 | C30: 8) Výměry jsou vykázány odměřením nebo změřeno digitálně z výkresů PD k příslušnému SO
A31: 20 | C31: 9)Hutnění (zeminy) konstrukcí nových i stávajících (po demontáži nášlapných vrstev s ložem): konstrukce pro zpevnění hutnit po jednotlivých podkladních vrstvách dle PD a IGP
A32: 21 | C32: 10) Detaily a podrobnosti dle PD
A33: 22 | C33: 11) Spárořez dle PD
A34: 23 | C34: 12) Zemní práce dle DP a IGP
... A42: 31 | C42: 20) Přesuny hmot jsou započítány v ceně, není-li uvedeno jinak.
A43: 32
A44: 33 | C44: Zemní práce | D44: Kč | E44: celkem | G44: =SUM(G45:G117) -> 0
A45: 34
A46: 35 | B46: HZS4212 | C46: Vyhledání detektorem a vytyčení stávajících inženýrských sítí (např. el.kabelů a kabelových tratí silno a slaboproudých, potrubí vody a kanalizace) ve spolupráci správců sítí. | D46: hod | E46: 20 | G46: =E46*F46 -> 0
A47: 36 | B47: 1190014 | C47: Dočasné zajištění - stávajících inženýrských sítí během výkopových prací, podél celé délky na pozemku, výměra cca: (49+61,5)*10+49*3 Nutno zajistit před prováděním zemních prací. | D47: bm | E47: =(49+61.5)*10+49*3 -> 1252 | G47: =E47*F47 -> 0 | H47: =0.04*E47 -> 50.08
A48: 37 | B48: 119001423 | C48: Dočasné zajištění kabelů a kabelových tratí z více než 6 volně ložených kabelů (61,5+50,5)*2 | D48: bm | E48: =(61.5+50.5)*2 -> 224 | G48: =E48*F48 -> 0 | H48: =0.10775*E48 -> 24.136
A49: 38 | B49: 119001421 | C49: Dočasné zajištění kabelů a kabelových tratí ze 3 volně ložených kabelů (50,5*3)*2 | D49: bm | E49: =50.5*3*2 -> 303 | G49: =E49*F49 -> 0 | H49: =0.0369*E49 -> 11.1807
A50: 39 | B50: 119001412 | C50: Dočasné zajištění potrubí betonového, ŽB nebo kameninového DN do 500 mm (61,5+49)bm | D50: bm | E50: =61.5+49 -> 110.5 | G50: =E50*F50 -> 0 | H50: =0.01269*E50 -> 1.402245
A51: 40 | B51: 119001406 | C51: Dočasné zajištění potrubí z PE DN do 500 mm | D51: bm | E51: 59 | G51: =E51*F51 -> 0 | H51: =0.00868*E51 -> 0.51212
A52: 41 | B52: 119002121 | C52: Přechodová lávka délky do 2 m včetně zábradlí pro zabezpečení výkopu zřízení | D52: ks | E52: 8 | G52: =E52*F52 -> 0 | H52: =0.00065*E52 -> 0.0052
A53: 42 | B53: 119002122 | C53: Dtto, avšak odstranění | D53: ks | E53: 8 | G53: =E53*F53 -> 0 | H53: 0
A54: 43
A55: 44 | B55: 121151125 | C55: Sejmutí ornice plochy přes 500 m2 tl vrstvy do 300 mm strojně s naložením a vodorovným přemístěním do 50 se složením na mezideponii | D55: m2 | E55: =E56+E57 -> 2416.6395 | G55: =E55*F55 -> 0
A56: 45 | C56: výměra : (podél Mlad. Běchovic41,41m2+34,56m2+ kolem stání u rybníka8,00m2*2+6,00m2+ podél pozemku u domova důchodců61,31*1,60+ místo kaple7,66*13,25+ svah pod bosketem16,03*5,75+ pod velkými stromy 17,35m2*3+ u Staré pošty 118,69m2+153,37m2+ pod malými stromy2,25m2*8ks) | D56: m2 | E56: =(41.41+34.56+8*2+6+61.31*1.6+7.66*13.25+16.03*5.75+17.35*3+118.69+153.37+2.25*8) -> 731.8435
A57: 46 | C57: výměra:(2630m2) - odpočet 214m2 parkovací plocha + přípočet svahování u domova důchodců 61,31*1,60- odpočet chodníku podél ul.Mlad.Běch.107,60*2,0+ přípočet zelená plocha u Staré pošty 118,69m2)- odpočet ornice k dalšímu použití 732m2 | D57: m2 | E57: =(2630- 214.79+ 61.31*1.6-107.6*2+118.69)-732 -> 1684.796
A58: 47 | B58: 162751117 | C58: Vodorovné přemístění do 10000 m výkopku/sypaniny z horniny třídy těžitelnosti I, skupiny 1 až 3 | D58: m3 | E58: =2417*0.3 -> 725.1 | G58: =E58*F58 -> 0
A59: 48 | B59: 162751119 | C59: Příplatek k vodorovnému přemístění výkopku/sypaniny z horniny třídy těžitelnosti I, skupiny 1 až 3 ZKD 1000 m přes 10000 m cena(10x 23Kč/1000m)=Kč celkem | D59: m3 | E59: 725 | G59: =E59*F59 -> 0
A60: 49 | B60: 122552206 | C60: Odkopávky a prokopávky se sjezdem do výkopu (v navážkách) v hornině cca třídy těžitelnosti III objem do 5000 m3 strojně s naložením na dopravní prostředek | D60: m3 | E60: =(1.6-0.3)*(2630)+1.28*61.31-1.28*159.68-(61.31*6.5*0.6+40.5*6.5*0.6)*1.2 -> 2816.6156 | G60: =E60*F60 -> 0
A61: 50 | C61: poznámka : IGP číst současně s oceňováním
A62: 51 | C62: výměra ; 1,60 (-0,30m ornice) dle IGP, výměra:(1,60-0,30)*(2630m2)+svahování u dom. důch.1,28m2*61,31m- svahování podél komunikací 1,28m2*159,68m-stará zasypaná betonová komunikace cca (61,31m d.*6,5m š.*0,6+40,50*6,50*0,6 )*1,2
A63: 52 | B63: 139951121/P | C63: Bourání kcí v hloubených vykopávkách ( z betonu prostého strojně cca ( silnice z betonových panelů) ve východní a severní části pozemku dle IGP o mocnosti cca průměrně 0,6m, výměra cca : (61,31m d.*6,5m š.*0,6+40,50*6,50*0,6)*1,20 | D63: m3 | E63: =(61.31*6.5*0.6+40.5*6.5*0.6)*1.2 -> 476.4708 | G63: =E63*F63 -> 0
A64: 53 | B64: 162751137 | C64: Vodorovné přemístění do 10000m výkopku/sypaniny z horniny třídy těžitelnosti II,skupiny 4+5 (beton+navážka) | D64: m3 | E64: =E63+E60 -> 3293.0864 | G64: =E64*F64 -> 0
A65: 54 | B65: 162751139 | C65: Příplatek k vodorovnému přemístění výkopku( beton) /sypaniny z horniny třídy těžitelnosti II, skupiny 4 a 5 ZKD 1000 m přes 10000 m (50kmx 27Kč/1000m)=Kč celkem | D65: m3 | E65: 476 | G65: =E65*F65 -> 0
A66: 55 | B66: 162751139 | C66: Příplatek k vodorovnému přemístění (navážka)výkopku/ sypaniny z horniny třídy těžitelnosti II, skupiny 4 a 5 ZKD 1000 m přes 10000 m (10x 27Kč/1000m)=Kč celkem | D66: m3 | E66: 2817 | G66: =E66*F66 -> 0
A67: 56 | B67: 171201231 | C67: Poplatek za uložení nekvalitní ornice na recyklační skládce (skládkovné) kód odpadu 17 05 04 | D67: t | E67: =2417*0.3*1.5 -> 1087.65 | G67: =E67*F67 -> 0
A68: 57 | B68: 997221625 | C68: Poplatek za uložení stavebního odpadu (silniční panely) na skládce (skládkovné) z armovaného betonu pod kódem 17 01 01 | D68: t | E68: =476*1.9 -> 904.4 | G68: =E68*F68 -> 0
A69: 58 | B69: 997221645/P | C69: Poplatek za uložení stavebního odpadu na skládce (skládkovné) za /navážku=popel,cihly,prkénka,dráty/ bez obsahu dehtu zatříděného do Katalogu odpadů pod kódem 17 03 02 | D69: t | E69: =2817*1.3 -> 3662.1 | G69: =E69*F69 -> 0
A70: 59 | B70: 171152501 | C70: Zhutnění podloží po odtěžení zeminy pod násypy z rostlé horniny třídy těžitelnosti I a II, skupiny 1 až 4 z hornin soudržných a nesoudržných na min. 30MPa/m2 viz IGP | D70: m2 | E70: 2630 | G70: =E70*F70 -> 0
A71: 60 | B71: 119004111 | C71: Bezpečný vstup nebo výstup z výkopu pomocí žebříku zřízení cca, 1,80m | D71: ks | E71: 10 | G71: =E71*F71 -> 0
A72: 61
A73: 62
A74: 63 | B74: 17415/R1102 | C74: Násypy z drceného kameniva frakce 0-32mm, hutněno po vrstvách max. 20cm (viz IGP odst.4.4.2.); výměra: 2630m2*1,6+svahování u dom. důch. 1,28m2*61,31-svahování podél komunikací 1,28m2*159,68+zvýšená část kolem bosketu21,90m2*23,29-prostor pod schodištěm a schodiště 14,18m2*7,00m-rampa 9,54m2*6,35m-technická šachta0,5m2*6,6-retenční jímka25m2*2,1m-základy fontány, palisády sochy (0,30*1,45*0,90*10+0,15*1,45*0,60*2+1,880*1,95*1,03+0,50*0,90*12,30+žlb.deska9,40*1,35*0,15+(0,23m2+0,11m2+0,18m2)*1,35 | D74: m3 | E74: =2630*1.6+1.28*61.31-1.28*159.68+21.9*23.29-14.18*7-9.54*6.35-0.5*6.6-25*2.1-(0.3*1.45*0.9*10+0.15*1.45*0.6*2+1.8*1.95*1.03+0.5*0.9*12.3+9.4*1.35*0.15+(0.23+0.11+0.18)*1.35) -> 4360.5666 | G74: =E74*F74 -> 0
A75: 64 | B75: 58344171 | C75: Štěrkodrť frakce 0-32 | D75: T | E75: =E74*2.054 -> 8956.6038 | G75: =E75*F75 -> 0
A76: 65 | C76: kamenivo přírodní drcené pro stavební účely PTK (drobné, hrubé, štěrkodrtě) štěrkodrtě ČSN 72 1511-2 frakce 0-32 ; výměra: 4361m3*2,054t
A77: 66 | B77: 181351005 | C77: Rozprostření ornice v tl. 300mm včetně přivezení z mezideponie do 50m | D77: m2 | E77: =(41.41+34.56+8*2+6+61.31*1.6+7.66*13.25+16.03*5.75+17.35*3+118.69+153.37+2.25*8) -> 731.8435 | G77: =E77*F77 -> 0
A78: 67
A79: 68 | C79: Rozebrání
A80: 69 | B80: 113106111 | C80: Rozebrání dlažeb z mozaiky komunikací pro pěší, ručně, včetně lože a naložení na dopravní prostředek (k dalšímu použití) | D80: m2 | E80: =146.97+51.06+138 -> 336.03 | G80: =E80*F80 -> 0 | H80: =0.281*E80 -> 94.42443
A81: 70 | C81: výměra: chodník podél Mlad. Běch. 146,97m2+51,06m2+dlažba u Star. Pošty 138m2
A82: 71 | B82: 979071131 | C82: Očištění dlažebních kostek mozaikových kamenivem těženým | D82: m2 | E82: =146.97+51.06+138 -> 336.03 | G82: =E82*F82 -> 0 | H82: =0*E82 -> 0
A83: 72 | B83: 113201111 | C83: Vytrhání obrub chodníkových ležatých včetně lože a naložení na dopravní prostředek (k dalšímu použití) | D83: bm | E83: =64.5+22.85+47.65 -> 135 | G83: =E83*F83 -> 0 | H83: =0.23*E83 -> 31.05
A84: 73 | C84: Demontáž žulových obrub ; výměra:64,50bm+22,85bm+47,65bm
A85: 74 | B85: 460912211 | C85: Očištění vybouraných obrubníků chodníkových od spojovacího materiálu | D85: bm | E85: =64.5+22.85+47.65 -> 135 | G85: =E85*F85 -> 0 | H85: =0*E85 -> 0
A86: 75 | B86: 997221571 | C86: Vodorovné přemístění žulové mozaiky do 200m, se složením, na mezidepon. ke zpětnému použití; chodník podél Mlad. Běch. (146,97m2+51,06m2+115,1m2)*0,281)=88t | D86: t | E86: =H80 -> 94.42443 | G86: =E86*F86 -> 0 | H86: =0*E86 -> 0
A87: 76 | B87: 997221571 | C87: Vodorovné přemístění žulových obrub do 200m, se složením, na mezideponii ke zpětnému použití ; chodník podél Mlad.Běch.(64,50bm+22,85bm+47,65bm) | D87: t | E87: =H83 -> 31.05 | G87: =E87*F87 -> 0 | H87: =0*E87 -> 0
A88: 77
A89: 78 | B89: 113106123 | C89: Rozebrání dlažeb ze zámkových betonových dlaždic komunikací pro pěší ručně včetně lože a naložení na dopravní prostředek (k dalšímu použití) | D89: m2 | E89: =121+269+75.26+74.65+132.4+12.5+28 -> 712.81 | G89: =E89*F89 -> 0 | H89: =0.26*E89 -> 185.3306
A90: 79 | C90: výměra: chodník ul. Za poštov. Zahr. 121m2+ park.místa ul. Za poštov. Zahr.269m2+ chodník na severu75,26m2+park.místa na severu74,65m2+silnice u rybníka 132,40m2+ přes ulici u rybníka 12,5m2 + naproti přechodu 28m2)
A91: 80 | B91: 460911122/P | C91: Očištění dlaždic betonových zámkových z rozebraných dlaždic ručně | D91: m2 | E91: =E89 -> 712.81 | G91: =E91*F91 -> 0 | H91: 0
A92: 81 | B92: 997221571 | C92: Vodorovné přemístění betonových dlaždic do 200m, se složením, na mezideponii ke zpětnému použití | D92: t | E92: =H89 -> 185.3306 | G92: =E92*F92 -> 0 | H92: =0*E92 -> 0
A93: 82 | B93: 113201111 | C93: Vytrhání obrub chodníkových ležatých včetně lože a naložení na dopravní prostředek (k dalšímu použití) | D93: m | E93: =168+4.5+24 -> 196.5 | G93: =E93*F93 -> 0 | H93: =0.23*E93 -> 45.195
A94: 83 | C94: Demontáž betonových obrub , výměra: Chodníck za poštovskou zahradou, podél Mladých Běch., ul. u rybníka 168,bm + ukončení mozaiky2,5+2+vedle Staré Pošty 24bm
A95: 84 | B95: 113201112 | C95: Vytrhání obrub silničních ležatých včetně lože a naložení na dopravní prostředek (k dalšímu použití) | D95: bm | E95: =55.15+51.55+41.02+25+33 -> 205.72 | G95: =E95*F95 -> 0 | H95: =0.23*E95 -> 47.3156
A96: 85 | C96: výměra : u park. míst Za Poštovskou zahradou 55,15bm+ 51,55bm+u silnice 41,02bm+ulice u rybníka (parkování)25bm+silnice 33bm
A97: 86 | B97: 460912211 | C97: Očištění vybouraných obrubníků chodníkových od spojovacího materiálu | D97: bm | E97: =E93 -> 196.5 | G97: =E97*F97 -> 0 | H97: =0*E97 -> 0
A98: 87 | B98: 460912111 | C98: Očištění vybouraných obrubníků silničních od spojovacího materiálu | D98: bm | E98: =E95 -> 205.72 | G98: =E98*F98 -> 0 | H98: =0*E98 -> 0
A99: 88 | B99: 997221571 | C99: Vodorovné přemístění betonových obrub do 200m, se složením, na mezideponii ke zpětnému použití ; | D99: t | E99: =H93 -> 45.195 | G99: =E99*F99 -> 0 | H99: 0
A100: 89 | C100: Vodorovné přemístění betonových obrub do 200m, se složením, na mezideponii a zpětné použití ; 56,18+68,45+51,1+48,45)*0,06*0,15+(22,00*2bm+127,52bm-(19,00+6,7))*0,15*0,25
A101: 90 | B101: 113107242 | C101: Odstranění podkladu živičného tl 100 mm strojně pl přes 200 m2 (výměra Za poštovskou zahradou 360,62m2+Mladých Běchovic 39,0m2) | D101: m2 | E101: =360.62+39 -> 399.62 | G101: =E101*F101 -> 0 | H101: =0.22*E101 -> 87.9164
A102: 91 | B102: 997221561 | C102: Odvoz asfaltového koberce na skládku do 1km; výměra: (360,62+39,0)m2*0,22 | D102: t | E102: 87.92 | G102: =E102*F102 -> 0 | H102: 0
A103: 92 | B103: 997221569 | C103: Příplatek ZKD 1 km u vodorovné dopravy suti z kusových materiálů do 59km cena: 14,50Kč/km*59km | D103: t | E103: =E102 -> 87.92 | G103: =E103*F103 -> 0 | H103: 0
A104: 93 | B104: 997013645 | C104: Poplatek za uložení na skládce (skládkovné) odpadu asfaltového bez dehtu kód odpadu 17 03 02 | D104: t | E104: =H101 -> 87.9164 | G104: =E104*F104 -> 0 | H104: 0
A105: 94 | C105: Demontáž souvrství pod zpevněné plochy, (použít k následným násypům) výměra: (360,62+39,0m2+146,97m2+51,06m2+112,89+253,26+75,26+74,65+115,1m2+132,40m2)
A106: 95 | B106: 113107224 | C106: Odstranění podkladu z kameniva drceného, strojně, tl. 350 mm plochy přes 200m2 ; výměra : 360,62m2 + 269 m2 | D106: m2 | E106: =360.62+269 -> 629.62 | G106: =E106*F106 -> 0 | H106: =0.58*E106 -> 365.1796
A107: 96 | B107: 113107163 | C107: Dtto, avšak tl. 300 plochy přes 50 do 200m2 s naložením; výměra : (146,97m2+51,06m2+dlažba u Star. Pošty 138+121m2+75,26m2+74,65m2+ 132,40m2+ 12,5m2 + 28)m2 | D107: m2 | E107: =(146.97+51+138+121+75.26+74.65+132.4+12.5+28) -> 779.78 | G107: =E107*F107 -> 0 | H107: =0.44*E107 -> 343.1032
A108: 97 | B108: 997221551 | C108: Vodorovná doprava suti tam a zpět ze sypkých materiálů do cca 300m*2 na meziskládku a k dalšímu použití do násypů ( přesnou vzdálenost určí zástupce investora) | D108: t | E108: =(H106+H107)*2 -> 1416.5656 | G108: =E108*F108 -> 0 | H108: 0
A109: 98 | B109: 174151102 | C109: Zásyp v uzavřených prostorech sypaninou se zhutněním z materiálu ze souvrství pod zpevněnými plochami - výměra cca ; 0,34*(360,62+269+146,97m2+51,06m2+dlažba u Star. Pošty 138+121m2+75,26m2+74,65m2+ 132,40m2+ 12,5m2 +28) | D109: m3 | E109: =0.34*(360.62+269+146.97+51.06+138+121+75.26+74.65+ 132.4+ 12.5 + 28) -> 479.2164 | G109: =E109*F109 -> 0 | H109: 0
A110: 99
A111: 100 | B111: 210040011/P | C111: Demontáž stožárů veřejného osvětlení včetně betonových základků , vodorovné přemístění do 200m, se složením, na mezideponii k dalšímu použití | D111: ks | E111: 1 | G111: =E111*F111 -> 0 | H111: 0
A112: 101 | B112: 767996703 | C112: Demontáž reklamního panelu, cca vel. 2,00*3,50m včetně kovového rámu cca 420kg, kotvení a odvozu k likvidaci. | D112: kg | E112: 420 | G112: =E112*F112 -> 0
...

Sheet SO 101
L2: >> skryté sloupce << | AT2: {58721ed3-a99d-43ac-9e57-2d6cc8a8f2b0} | AZ2: DREN | BA2: Drenáž DN 150 | BB2: m | BC2: 184,91 | BD2: 3
AT3: 2 | AZ3: SKL_4_PS_Veg | BA3: Parkovací stání (skladba 4) z polovegetační bet. dlažby | BB3: m2 | BC3: 88 | BD3: 3
D4: KRYCÍ LIST SOUPISU PRACÍ | M4: v --- níže se nacházejí doplnkové a pomocné údaje k sestavám --- v | AT4: False | AZ4: SKL_4A_PS_Kdl | BA4: Parkovací stání (skladba 4A) z kamenné dlažby 100x100x100 mm (kroužková) | BB4: m2 | BC4: 19,25 | BD4: 3
AZ5: SKL_4_PS_Bdl | BA5: Parkovací stání (skladba 4) z betonové dlažby (kost) | BB5: m2 | BC5: 33,275 | BD5: 3
D6: Stavba: | AZ6: SKL_3_DB | BA6: Komunikace (skladba 3) z betonové dlažby | BB6: m2 | BC6: 24,75 | BD6: 3
E7: ='[1]Rekapitulace stavby'!K6 -> Náměstí Běchovice | AZ7: SKL_3_BD_P | BA7: Komunikace (skladba 3) z betonové dlažby - předláždění | BB7: m2 | BC7: 63,62 | BD7: 3
D8: Objekt: | AZ8: SKL_2_Kdl | BA8: Komunikace (skladba 2) z kamenné velkoformátové dlažby 150x150-300 mm tl. 120 mm | BB8: m2 | BC8: 368,67 | BD8: 3
E9: SO 101 - Komunikace a zpevněné plochy | AZ9: SKL_1_Asf_F | BA9: Komunikace (skladba 1) asfaltová fréza | BB9: m2 | BC9: 85,13 | BD9: 3
AZ10: SKL_1_Asf | BA10: Komunikace (skladba 1 ) asfaltová plná skladba | BB10: m2 | BC10: 33,49 | BD10: 3
D11: KSO: | I11: CC-CZ: | AZ11: SKL_5 | BA11: Chodník (skladba 5) z kamenné velkoformátové dlažby 150x150-300 mm tl. 120 mm | BB11: m2 | BC11: 1088,2 | BD11: 3
D12: Místo: | F12: Běchovice, k.ú. 601527 | I12: Datum: | J12: ='[1]Rekapitulace stavby'!AN8 -> 27. 4. 2021 | AZ12: SKL_5A | BA12: Chodník (skladba 5a) z kamenné velkoformátové dlažby 150x150-300 mm tl. 80 mm | BB12: m2 | BC12: 439,13 | BD12: 3
AZ13: SKL_5_část | BA13: Chodník (skladba 5 - částečná) z kamenné velkoformátové dlažby 150x150-300 mm tl. 120 mm | BB13: m2 | BC13: 22,67 | BD13: 3
D14: Zadavatel: | I14: IČ: | AZ14: SKL_5_šach | BA14: Šachovnice (skladba 5) z kamenné velkoformátové dlažby 500x500x120 mm | BB14: m2 | BC14: 10,24 | BD14: 3
E15: Městská část Praha - Běchovice | I15: DIČ: | AZ15: SKL_6 | BA15: Chodník (skladba 6) parteru z kamenné dlažby - mozaika 60x60 mm | BB15: m2 | BC15: 411,88 | BD15: 3
AZ16: SKL_6_1 | BA16: Chodník (skladba 6) stáv. chodník z kamenné dlažby - mozaika 60x60 mm | BB16: m2 | BC16: 33,23 | BD16: 3
D17: Zhotovitel: | I17: IČ: | J17: ='[1]Rekapitulace stavby'!AN13 | AZ17: SKL_7 | BA17: Chodník (skladba 7 - částečná konstrukce) z kamenné dlažby - mozaika 60x60 mm | BB17: m2 | BC17: 22,34 | BD17: 3
E18: ='[1]Rekapitulace stavby'!E14 | I18: DIČ: | J18: ='[1]Rekapitulace stavby'!AN14 | AZ18: SKL_7_P | BA18: Chodník (skladba 7 - částečná konstrukce) - předláždění | BB18: m2 | BC18: 38,36 | BD18: 3
AZ19: SKL_8 | BA19: Chodník (skladba 8) z betonové dlažby tl. 60 mm | BB19: m2 | BC19: 30,16 | BD19: 3
D20: Projektant: | I20: IČ: | AZ20: SKL_8_P | BA20: Chodník (skladba 8 - částečná konstrukce) z betonové dlažby tl. 60 mm - předláždění | BB20: m2 | BC20: 8,88 | BD20: 3
E21: DOPAS s.r.o. | I21: DIČ: | AZ21: SKL_9 | BA21: Kamenné odseky (skladba 9) - plná skladba | BB21: m2 | BC21: 149,35 | BD21: 3
AZ22: SKL_9_1 | BA22: Kamenné odseky (skladba 9) - částečná skladba | BB22: m2 | BC22: 2,92 | BD22: 3
D23: Zpracovatel: | I23: IČ: | J23: 62196243 | AZ23: SKL_10 | BA23: Běžecký pás (skladba 10) - SMARTSOFT (mimo nášlapnou vrstvu) | BB23: m2 | BC23: 39,49 | BD23: 3
E24: L. Štuller | I24: DIČ: | AZ24: SKL_10A | BA24: Hřiště a doj.plochy (skladba 10A) - SMARTSOFT (mimo nášlapné vrstvy) | BB24: m2 | BC24: 21,36 | BD24: 3
AZ25: SKL_11 | BA25: Chodník (skladba 11) z lomového plochého kamene | BB25: m2 | BC25: 8,18 | BD25: 3
D26: Poznámka: | AZ26: SKL_2_Hmat | BA26: Komunikace - hmatná dlažba (skladba 2) | BB26: m2 | BC26: 10,43 | BD26: 3
E27: Soupis prací je sestaven s využitím Cenové soustavy ÚRS. Položky, které pochází z této cenové soustavy, jsou ve sloupci 'Cenová soustava' označeny popisem 'CS ÚRS' a úrovní příslušného kalendářního pololetí. Veškeré další informace vymezující popis a podmínky použití těchto položek z Cenové soustavy, které nejsou uvedeny přímo v soupisu prací, jsou neomezeně dálkově k dispozici na webu www.podminky.urs.cz. | AZ27: SKL_2_UměVL | BA27: Komunikace (skladba 2) - umělá vodící linie | BB27: m2 | BC27: 2,45 | BD27: 3
AZ28: SKL_5_Hmat | BA28: Chodník - hmatná dlažba (skladba 5) | BB28: m2 | BC28: 1,33 | BD28: 3
AZ29: SKL_5A_Hmat | BA29: Chodník (skladba 5A) - hmatná dlažba umělý kámen | BB29: m2 | BC29: 10,59 | BD29: 3
D30: Cena bez DPH | J30: =ROUND(J92, 2) -> 0 | AZ30: SKL_5_ZTP | BA30: Chodník (skladba 5) - hmatná betonová dlažba | BB30: m2 | BC30: 1,03 | BD30: 3
AZ31: SKL_5A_ZTP | BA31: Chodník (skladba 5A) - hmatná betonová dlažba | BB31: m2 | BC31: 6,39 | BD31: 3
F32: Základ daně | I32: Sazba daně | J32: Výše daně | AZ32: SKL_6_Hmat | BA32: Chodník (skladba 6) - hmatná dlažba umělý kámen | BB32: m2 | BC32: 19,7 | BD32: 3
D33: DPH | E33: základní | F33: =ROUND((SUM(BE92:BE894)), 2) -> 0 | I33: 0.21 | J33: =ROUND(((SUM(BE92:BE894))*I33), 2) -> 0 | AZ33: SKL_6_ZTP | BA33: Chodník (skladba 6) - hmatná betonová dlažba | BB33: m2 | BC33: 11,82 | BD33: 3
E34: snížená | F34: =ROUND((SUM(BF92:BF894)), 2) -> 0 | I34: 0.15 | J34: =ROUND(((SUM(BF92:BF894))*I34), 2) -> 0 | AZ34: SKL_8_ZTP | BA34: Chodník (skladba 8) - hmatná betonová dlažba | BB34: m2 | BC34: 8,14 | BD34: 3
E35: zákl. přenesená | F35: =ROUND((SUM(BG92:BG894)), 2) -> 0 | I35: 0.21 | J35: =0 -> 0
E36: sníž. přenesená | F36: =ROUND((SUM(BH92:BH894)), 2) -> 0 | I36: 0.15 | J36: =0 -> 0
E37: nulová | F37: =ROUND((SUM(BI92:BI894)), 2) -> 0 | I37: 0 | J37: =0 -> 0
D39: Cena s DPH | G39: v | H39: CZK | J39: =SUM(J30:J37) -> 0
C45: REKAPITULACE ČLENĚNÍ SOUPISU PRACÍ
C47: Stavba:
E48: =E7 -> Náměstí Běchovice
C49: Objekt:
E50: =E9 -> SO 101 - Komunikace a zpevněné plochy
C52: Místo: | F52: =F12 -> Běchovice, k.ú. 601527 | I52: Datum: | J52: =IF(J12="","",J12) -> 27. 4. 2021
C54: Zadavatel: | F54: =E15 -> Městská část Praha - Běchovice | I54: Projektant: | J54: =E21 -> DOPAS s.r.o.
C55: Zhotovitel: | F55: =IF(E18="","",E18) | I55: Zpracovatel: | J55: =E24 -> L. Štuller
C57: Kód dílu - Popis | J57: Cena celkem [CZK]
C59: Náklady stavby celkem | J59: =J92 -> 0 | AU59: -1
D60: HSV - Práce a dodávky HSV | J60: =J93 -> 0
D61: 1 - Zemní práce | J61: =J94 -> 0
D62: 2 - Zakládání | J62: =J134 -> 0
D63: 3 - Svislé a kompletní konstrukce | J63: =J169 -> 0
D64: 4 - Vodorovné konstrukce | J64: =J186 -> 0
D65: 5 - Komunikace pozemní | J65: =J249 -> 0
D66: 6 - Úpravy povrchů, podlahy a osazování výplní | J66: =J534 -> 0
D67: 8 - Trubní vedení | J67: =J547 -> 0
D68: 9 - Ostatní konstrukce a práce, bourání | J68: =J572 -> 0
D69: 998 - Přesun hmot | J69: =J871 -> 0
D70: PSV - Práce a dodávky PSV | J70: =J873 -> 0
D71: 711 - Izolace proti vodě, vlhkosti a plynům | J71: =J874 -> 0
D72: 721 - Zdravotechnika - vnitřní kanalizace | J72: =J884 -> 0
C79: SOUPIS PRACÍ
C81: Stavba:
E82: =E7 -> Náměstí Běchovice
C83: Objekt:
E84: =E9 -> SO 101 - Komunikace a zpevněné plochy
C86: Místo: | F86: =F12 -> Běchovice, k.ú. 601527 | I86: Datum: | J86: =IF(J12="","",J12) -> 27. 4. 2021
C88: Zadavatel: | F88: =E15 -> Městská část Praha - Běchovice | I88: Projektant: | J88: =E21 -> DOPAS s.r.o.
C89: Zhotovitel: | F89: =IF(E18="","",E18) | I89: Zpracovatel: | J89: =E24 -> L. Štuller
C91: PČ | D91: Typ | E91: Kód | F91: Popis | G91: MJ | H91: Množství | I91: J.cena [CZK] | J91: Cena celkem [CZK] | K91: Cenová soustava | N91: DPH | O91: J. Nh [h] | P91: Nh celkem [h] | Q91: J. hmotnost [t] | R91: Hmotnost celkem [t] | S91: J. suť [t] | T91: Suť Celkem [t]
C92: Náklady soupisu celkem | J92: =BK92 -> 0 | P92: =P93+P873 -> 4401.657 | R92: =R93+R873 -> 1472.0693 | T92: =T93+T873 -> 50.98705 | AT92: D | AU92: -1 | BK92: =BK93+BK873 -> 0
D93: D | E93: HSV | F93: Práce a dodávky HSV | J93: =BK93 -> 0 | P93: =P94+P134+P169+P186+P249+P534+P547+P572+P871 -> 4392.8877 | R93: =R94+R134+R169+R186+R249+R534+R547+R572+R871 -> 1472.0284 | T93: =T94+T134+T169+T186+T249+T534+T547+T572+T871 -> 50.98705 | AR93: 1 | AT93: D | AU93: 0 | AY93: ROZPOCET | BK93: =BK94+BK134+BK169+BK186+BK249+BK534+BK547+BK572+BK871 -> 0
D94: D | E94: 1 | F94: Zemní práce | J94: =BK94 -> 0 | P94: =SUM(P95:P133) -> 94.192935 | R94: =SUM(R95:R133) -> 71.173 | T94: =SUM(T95:T133) -> 0 | AR94: 1 | AT94: D | AU94: 1 | AY94: ROZPOCET | BK94: =SUM(BK95:BK133) -> 0
C95: 1 | D95: K | E95: 174151103 | F95: Zásyp sypaninou z jakékoliv horniny strojně s uložením výkopku ve vrstvách se zhutněním zářezů se šikmými stěnami pro podzemní vedení a kolem objektů zřízených v těchto zářezech | G95: m3 | H95: 40.67 | J95: =ROUND(I95*H95,2) -> 0 | K95: CS ÚRS 2022 01 | N95: základní | O95: 0.235 | P95: =O95*H95 -> 9.55745 | Q95: 0 | R95: =Q95*H95 -> 0 | S95: 0 | T95: =S95*H95 -> 0 | AR95: 4 | AT95: K | AU95: 2 | AY95: ROZPOCET | BE95: =IF(N95="základní",J95,0) -> 0 | BF95: =IF(N95="snížená",J95,0) -> 0 | BG95: =IF(N95="zákl. přenesená",J95,0) -> 0 | BH95: =IF(N95="sníž. přenesená",J95,0) -> 0 | BI95: =IF(N95="nulová",J95,0) -> 0 | BJ95: 1 | BK95: =ROUND(I95*H95,2) -> 0 | BL95: 4 | BM95: -35528619
D96: VV | F96: SO_101_D.1_02_Situace.pdf | AT96: VV | AU96: 2 | AV96: 1 | AW96: True | AX96: 0 | AY96: ROZPOCET
D97: VV | F97: zásyp za obrubou | AT97: VV | AU97: 2 | AV97: 1 | AW97: True | AX97: 0 | AY97: ROZPOCET
D98: VV | F98: ((0,350*0,350)/2)*664 | H98: 40.67 | AT98: VV | AU98: 2 | AV98: 2 | AW98: True | AX98: 0 | AY98: ROZPOCET
D99: VV | F99: Součet | H99: 40.67 | AT99: VV | AU99: 2 | AV99: 4 | AW99: True | AX99: 1 | AY99: ROZPOCET
C100: 2 | D100: M | E100: 10364100 | F100: zemina pro terénní úpravy - tříděná | G100: t | H100: 71.173 | J100: =ROUND(I100*H100,2) -> 0 | K100: CS ÚRS 2022 01 | N100: základní | O100: 0 | P100: =O100*H100 -> 0 | Q100: 1 | R100: =Q100*H100 -> 71.173 | S100: 0 | T100: =S100*H100 -> 0 | AR100: 8 | AT100: M | AU100: 2 | AY100: ROZPOCET | BE100: =IF(N100="základní",J100,0) -> 0 | BF100: =IF(N100="snížená",J100,0) -> 0 | BG100: =IF(N100="zákl. přenesená",J100,0) -> 0 | BH100: =IF(N100="sníž. přenesená",J100,0) -> 0 | BI100: =IF(N100="nulová",J100,0) -> 0 | BJ100: 1 | BK100: =ROUND(I100*H100,2) -> 0 | BL100: 4 | BM100: 735270367
D101: VV | F101: 40,67*1,75 'Přepočtené koeficientem množství | H101: 71.173 | AT101: VV | AU101: 2 | AV101: 2 | AW101: False | AX101: 1 | AY101: ROZPOCET
C102: 3 | D102: K | E102: 181252305 | F102: Úprava pláně na stavbách silnic a dálnic strojně na násypech se zhutněním | G102: m2 | H102: 2918.465 | J102: =ROUND(I102*H102,2) -> 0 | K102: CS ÚRS 2022 01 | N102: základní | O102: 0.029 | P102: =O102*H102 -> 84.635485 | Q102: 0 | R102: =Q102*H102 -> 0 | S102: 0 | T102: =S102*H102 -> 0 | AR102: 4 | AT102: K | AU102: 2 | AY102: ROZPOCET | BE102: =IF(N102="základní",J102,0) -> 0 | BF102: =IF(N102="snížená",J102,0) -> 0 | BG102: =IF(N102="zákl. přenesená",J102,0) -> 0 | BH102: =IF(N102="sníž. přenesená",J102,0) -> 0 | BI102: =IF(N102="nulová",J102,0) -> 0 | BJ102: 1 | BK102: =ROUND(I102*H102,2) -> 0 | BL102: 4 | BM102: -1313397796
D103: VV | F103: SO_101_D.1_01_Technická_zpráva.pdf | AT103: VV | AU103: 2 | AV103: 1 | AW103: True | AX103: 0 | AY103: ROZPOCET
D104: VV | F104: SO_101_D.1_02_Situace.pdf | AT104: VV | AU104: 2 | AV104: 1 | AW104: True | AX104: 0 | AY104: ROZPOCET
D105: VV | F105: SKL_1_Asf | H105: 33.49 | AT105: VV | AU105: 2 | AV105: 2 | AW105: True | AX105: 0 | AY105: ROZPOCET
D106: VV | F106: SKL_2_Hmat | H106: 10.43 | AT106: VV | AU106: 2 | AV106: 2 | AW106: True | AX106: 0 | AY106: ROZPOCET
D107: VV | F107: SKL_2_Kdl | H107: 368.67 | AT107: VV | AU107: 2 | AV107: 2 | AW107: True | AX107: 0 | AY107: ROZPOCET
D108: VV | F108: SKL_2_UměVL | H108: 2.45 | AT108: VV | AU108: 2 | AV108: 2 | AW108: True | AX108: 0 | AY108: ROZPOCET
D109: VV | F109: SKL_3_DB | H109: 24.75 | AT109: VV | AU109: 2 | AV109: 2 | AW109: True | AX109: 0 | AY109: ROZPOCET
D110: VV | F110: SKL_4_PS_Bdl | H110: 33.275 | AT110: VV | AU110: 2 | AV110: 2 | AW110: True | AX110: 0 | AY110: ROZPOCET
D111: VV | F111: SKL_4_PS_Veg | H111: 88 | AT111: VV | AU111: 2 | AV111: 2 | AW111: True | AX111: 0 | AY111: ROZPOCET
D112: VV | F112: SKL_4A_PS_Kdl | H112: 19.25 | AT112: VV | AU112: 2 | AV112: 2 | AW112: True | AX112: 0 | AY112: ROZPOCET
D113: VV | F113: SKL_5 | H113: 1088.2 | AT113: VV | AU113: 2 | AV113: 2 | AW113: True | AX113: 0 | AY113: ROZPOCET
D114: VV | F114: SKL_5_část | H114: 22.67 | AT114: VV | AU114: 2 | AV114: 2 | AW114: True | AX114: 0 | AY114: ROZPOCET
D115: VV | F115: SKL_5_Hmat | H115: 1.33 | AT115: VV | AU115: 2 | AV115: 2 | AW115: True | AX115: 0 | AY115: ROZPOCET
D116: VV | F116: SKL_5_šach | H116: 10.24 | AT116: VV | AU116: 2 | AV116: 2 | AW116: True | AX116: 0 | AY116: ROZPOCET
... D133: VV | F133: Součet | H133: 2918.465 | AT133: VV | AU133: 2 | AV133: 4 | AW133: True | AX133: 1 | AY133: ROZPOCET
D134: D | E134: 2 | F134: Zakládání | J134: =BK134 -> 0 | P134: =SUM(P135:P168) -> 134.32098 | R134: =SUM(R135:R168) -> 50.87103 | T134: =SUM(T135:T168) -> 0 | AR134: 1 | AT134: D | AU134: 1 | AY134: ROZPOCET | BK134: =SUM(BK135:BK168) -> 0
C135: 4 | D135: K | E135: 211531111 | F135: Výplň kamenivem do rýh odvodňovacích žeber nebo trativodů bez zhutnění, s úpravou povrchu výplně kamenivem hrubým drceným frakce 16 až 63 mm | G135: m3 | H135: 20.583 | J135: =ROUND(I135*H135,2) -> 0 | K135: CS ÚRS 2022 01 | N135: základní | O135: 0.92 | P135: =O135*H135 -> 18.93636 | Q135: 0 | R135: =Q135*H135 -> 0 | S135: 0 | T135: =S135*H135 -> 0 | AR135: 4 | AT135: K | AU135: 2 | AY135: ROZPOCET | BE135: =IF(N135="základní",J135,0) -> 0 | BF135: =IF(N135="snížená",J135,0) -> 0 | BG135: =IF(N135="zákl. přenesená",J135,0) -> 0 | BH135: =IF(N135="sníž. přenesená",J135,0) -> 0 | BI135: =IF(N135="nulová",J135,0) -> 0 | BJ135: 1 | BK135: =ROUND(I135*H135,2) -> 0 | BL135: 4 | BM135: 1220808602
D136: VV | F136: SO_101_D.1_02_Sitace.pdf | AT136: VV | AU136: 2 | AV136: 1 | AW136: True | AX136: 0 | AY136: ROZPOCET
D137: VV | F137: SO_101_D.1_03_Vzorové_příčné_řezy_1.pdf | AT137: VV | AU137: 2 | AV137: 1 | AW137: True | AX137: 0 | AY137: ROZPOCET
D138: VV | F138: SO_101_D.1_04_Vzorové_příčné_řezy_2.pdf | AT138: VV | AU138: 2 | AV138: 1 | AW138: True | AX138: 0 | AY138: ROZPOCET
...

Sheet SO101-seznam figur
C4: SEZNAM FIGUR
C5: Kód: | D5: R21-024
C6: Stavba: | D6: Náměstí Běchovice
C7: Datum: | D7: ='[1]Rekapitulace stavby'!AN8 -> 27. 4. 2021
C9: Kód | D9: Popis | E9: MJ | F9: Výměra
C10: SO 101 | D10: Komunikace a zpevněné plochy
C11: DREN | D11: Drenáž DN 150 | E11: m | F11: 184.91
D12: 37,410+13,690+52,580+33,930+34,870+12,430 | F12: 184.91
C13: Použití figury:
C14: 212752102 | D14: Trativod z drenážních trubek korugovaných PE-HD SN 4 perforace 360° včetně lože otevřený výkop DN 150 pro liniové stavby | E14: m | F14: 184.91
C15: SKL_1_Asf | D15: Komunikace (skladba 1 ) asfaltová plná skladba | E15: m2 | F15: 33.49
D16: 33,490 | F16: 33.49
C17: Použití figury:
C18: 181252305 | D18: Úprava pláně pro silnice a dálnice na násypech se zhutněním | E18: m2 | F18: 2918.465
C19: 564861113 | D19: Podklad ze štěrkodrtě ŠD tl 220 mm | E19: m2 | F19: 33.49
C20: 565136101 | D20: Asfaltový beton vrstva podkladní ACP 22 (obalované kamenivo OKH) tl 50 mm š do 1,5 m | E20: m2 | F20: 33.49
C21: 567122112 | D21: Podklad ze směsi stmelené cementem SC C 8/10 (KSC I) tl 130 mm | E21: m2 | F21: 33.49
C22: 573111112 | D22: Postřik živičný infiltrační s posypem z asfaltu množství 1 kg/m2 | E22: m2 | F22: 118.62
C23: 573211107 | D23: Postřik živičný spojovací z asfaltu v množství 0,30 kg/m2 | E23: m2 | F23: 152.11
C24: 577134111 | D24: Asfaltový beton vrstva obrusná ACO 11 (ABS) tř. I tl 40 mm š do 3 m z nemodifikovaného asfaltu | E24: m2 | F24: 118.62
C25: 577155112 | D25: Asfaltový beton vrstva ložní ACL 16 (ABH) tl 60 mm š do 3 m z nemodifikovaného asfaltu | E25: m2 | F25: 118.62
C26: 919726123 | D26: Geotextilie pro ochranu, separaci a filtraci netkaná měrná hmotnost do 500 g/m2 | E26: m2 | F26: 2937.075
C27: 938908411 | D27: Čištění vozovek splachováním vodou | E27: m2 | F27: 3114.455
C28: SKL_1_Asf_F | D28: Komunikace (skladba 1) asfaltová fréza | E28: m2 | F28: 85.13
D29: 0,610+10,020+36,380+38,120 | F29: 85.13
C30: Použití figury:
C31: 573111112 | D31: Postřik živičný infiltrační s posypem z asfaltu množství 1 kg/m2 | E31: m2 | F31: 118.62
C32: 573211107 | D32: Postřik živičný spojovací z asfaltu v množství 0,30 kg/m2 | E32: m2 | F32: 152.11
C33: 577134111 | D33: Asfaltový beton vrstva obrusná ACO 11 (ABS) tř. I tl 40 mm š do 3 m z nemodifikovaného asfaltu | E33: m2 | F33: 118.62
C34: 577155112 | D34: Asfaltový beton vrstva ložní ACL 16 (ABH) tl 60 mm š do 3 m z nemodifikovaného asfaltu | E34: m2 | F34: 118.62
C35: 919721291 | D35: Geomříž pro vyztužení stávajícího asfaltového povrchu ze skelných vláken | E35: m2 | F35: 85.13
C36: 938908411 | D36: Čištění vozovek splachováním vodou | E36: m2 | F36: 3114.455
C37: SKL_10 | D37: Běžecký pás (skladba 10) - SMARTSOFT (mimo nášlapnou vrstvu) | E37: m2 | F37: 39.49
D38: 39,490 | F38: 39.49
C39: Použití figury:
C40: 181252305 | D40: Úprava pláně pro silnice a dálnice na násypech se zhutněním | E40: m2 | F40: 2918.465
C41: 564851111 | D41: Podklad ze štěrkodrtě ŠD tl 150 mm | E41: m2 | F41: 724.485
C42: 567122R01 | D42: Podklad ze směsi stmelené cementem SC C 8/10 (KSC I) tl 100 mm | E42: m2 | F42: 39.49
C43: 631311234 | D43: Mazanina tl do 240 mm z betonu prostého se zvýšenými nároky na prostředí tř. C 25/30 | E43: m3 | F43: 10.86
C44: 919726123 | D44: Geotextilie pro ochranu, separaci a filtraci netkaná měrná hmotnost do 500 g/m2 | E44: m2 | F44: 2937.075
C45: 938908411 | D45: Čištění vozovek splachováním vodou | E45: m2 | F45: 3114.455
C46: SKL_10A | D46: Hřiště a doj.plochy (skladba 10A) - SMARTSOFT (mimo nášlapné vrstvy) | E46: m2 | F46: 21.36
D47: 2,340+3,400+15,620 | F47: 21.36
C48: Použití figury:
C49: 181252305 | D49: Úprava pláně pro silnice a dálnice na násypech se zhutněním | E49: m2 | F49: 2918.465
C50: 564801111 | D50: Podklad ze štěrkodrtě ŠD tl 30 mm | E50: m2 | F50: 21.36
C51: 564851111 | D51: Podklad ze štěrkodrtě ŠD tl 150 mm | E51: m2 | F51: 724.485
C52: 564851114 | D52: Podklad ze štěrkodrtě ŠD tl 180 mm | E52: m2 | F52: 21.36
C53: 919726123 | D53: Geotextilie pro ochranu, separaci a filtraci netkaná měrná hmotnost do 500 g/m2 | E53: m2 | F53: 2937.075
C54: 938908411 | D54: Čištění vozovek splachováním vodou | E54: m2 | F54: 3114.455
C55: SKL_11 | D55: Chodník (skladba 11) z lomového plochého kamene | E55: m2 | F55: 8.18
D56: 8,180 | F56: 8.18
C57: Použití figury:
C58: 181252305 | D58: Úprava pláně pro silnice a dálnice na násypech se zhutněním | E58: m2 | F58: 2918.465
C59: 564851111 | D59: Podklad ze štěrkodrtě ŠD tl 150 mm | E59: m2 | F59: 724.485
C60: 594111111 | D60: Dlažba z lomového kamene s provedením lože z kameniva těženého | E60: m2 | F60: 160.45
C61: 599432111 | D61: Vyplnění spár dlažby z lomového kamene drobným kamenivem | E61: m2 | F61: 160.45
C62: 919726123 | D62: Geotextilie pro ochranu, separaci a filtraci netkaná měrná hmotnost do 500 g/m2 | E62: m2 | F62: 2937.075
C63: 938908411 | D63: Čištění vozovek splachováním vodou | E63: m2 | F63: 3114.455
C64: SKL_2_Hmat | D64: Komunikace - hmatná dlažba (skladba 2) | E64: m2 | F64: 10.43
D65: 2,840+7,590 | F65: 10.43
C66: Použití figury:
C67: 181252305 | D67: Úprava pláně pro silnice a dálnice na násypech se zhutněním | E67: m2 | F67: 2918.465
C68: 564861111 | D68: Podklad ze štěrkodrtě ŠD tl 200 mm | E68: m2 | F68: 469.92
C69: 567122114 | D69: Podklad ze směsi stmelené cementem SC C 8/10 (KSC I) tl 150 mm | E69: m2 | F69: 610.445
C70: 915491211 | D70: Osazení vodícího proužku z betonových desek do betonového lože tl do 100 mm š proužku 250 mm | E70: m | F70: 244.639
C71: 919726123 | D71: Geotextilie pro ochranu, separaci a filtraci netkaná měrná hmotnost do 500 g/m2 | E71: m2 | F71: 2937.075
C72: 938908411 | D72: Čištění vozovek splachováním vodou | E72: m2 | F72: 3114.455
C73: 59211.3 | D73: hmatná dlažba 200x200x60 mm | E73: m2 | F73: 43.312
C74: SKL_2_Kdl | D74: Komunikace (skladba 2) z kamenné velkoformátové dlažby 150x150-300 mm tl. 120 mm | E74: m2 | F74: 368.67
D75: 259,890+108,780 | F75: 368.67
C76: Použití figury:
C77: 181252305 | D77: Úprava pláně pro silnice a dálnice na násypech se zhutněním | E77: m2 | F77: 2918.465
C78: 564861111 | D78: Podklad ze štěrkodrtě ŠD tl 200 mm | E78: m2 | F78: 469.92
C79: 567122114 | D79: Podklad ze směsi stmelené cementem SC C 8/10 (KSC I) tl 150 mm | E79: m2 | F79: 610.445
C80: 596811411 | D80: Kladení velkoformátové betonové dlažby tl do 150 mm velikosti do 0,5 m2 pl do 300 m2 | E80: m2 | F80: 1489.78
C81: 919726123 | D81: Geotextilie pro ochranu, separaci a filtraci netkaná měrná hmotnost do 500 g/m2 | E81: m2 | F81: 2937.075
C82: 938908411 | D82: Čištění vozovek splachováním vodou | E82: m2 | F82: 3114.455
C83: 583811.1 | D83: kamenná velkoformátová dlažba 150x150-300 mm tl. 120 mm řezaná, smirkový povrch | E83: m2 | F83: 1523.926
C84: SKL_2_UměVL | D84: Komunikace (skladba 2) - umělá vodící linie | E84: m2 | F84: 2.45
D85: 2,450 | F85: 2.45
C86: Použití figury:
C87: 181252305 | D87: Úprava pláně pro silnice a dálnice na násypech se zhutněním | E87: m2 | F87: 2918.465
C88: 564861111 | D88: Podklad ze štěrkodrtě ŠD tl 200 mm | E88: m2 | F88: 469.92
C89: 567122114 | D89: Podklad ze směsi stmelené cementem SC C 8/10 (KSC I) tl 150 mm | E89: m2 | F89: 610.445
C90: 915491211 | D90: Osazení vodícího proužku z betonových desek do betonového lože tl do 100 mm š proužku 250 mm | E90: m | F90: 244.639
C91: 919726123 | D91: Geotextilie pro ochranu, separaci a filtraci netkaná měrná hmotnost do 500 g/m2 | E91: m2 | F91: 2937.075
C92: 938908411 | D92: Čištění vozovek splachováním vodou | E92: m2 | F92: 3114.455
C93: 59211.2 | D93: umělá vodící linie 95x200x70 mm | E93: m2 | F93: 2.524
C94: SKL_3_BD_P | D94: Komunikace (skladba 3) z betonové dlažby - předláždění | E94: m2 | F94: 63.62
D95: 19,300+44,320 | F95: 63.62
C96: Použití figury:
C97: 564861111 | D97: Podklad ze štěrkodrtě ŠD tl 200 mm | E97: m2 | F97: 469.92
C98: 566301111 | D98: Úprava krytu z kameniva drceného pro nový kryt s doplněním kameniva drceného do 0,06 m3/m2 | E98: m2 | F98: 110.86
C99: 567122114 | D99: Podklad ze směsi stmelené cementem SC C 8/10 (KSC I) tl 150 mm | E99: m2 | F99: 610.445
C100: 596212210 | D100: Kladení zámkové dlažby pozemních komunikací tl 80 mm skupiny A pl do 50 m2 | E100: m2 | F100: 121.645
C101: 919726123 | D101: Geotextilie pro ochranu, separaci a filtraci netkaná měrná hmotnost do 500 g/m2 | E101: m2 | F101: 2937.075
C102: 938908411 | D102: Čištění vozovek splachováním vodou | E102: m2 | F102: 3114.455
C103: 979054451 | D103: Očištění vybouraných zámkových dlaždic s původním spárováním z kameniva těženého | E103: m2 | F103: 72.5
C104: SKL_3_DB | D104: Komunikace (skladba 3) z betonové dlažby | E104: m2 | F104: 24.75
...

Sheet SO 301
C1: Rozpočet
C2: název stavby
C3: NÁMĚSTÍ BĚCHOVICE
C6: název části stavby
C7: SO 301 Kanalizace
C11: Rekapitulace nákladů
A12: 1
A13: 2 | C13: SO 301 Kanalizace | D13: Kč | G13: =SUM(G44:G156) -> 0
A14: 3 | D14: Kč
A15: 4 | C15: ZRN mezisoučet bez DPH 21% | D15: Kč | G15: =SUM(G13:G14) -> 0
A16: 5 | C16: VRN - GZS | D16: Kč | E16: 0.03 | G16: =G15*E16 -> 0
A17: 6 | C17: celkem bez DPH 21% | D17: Kč | G17: =SUM(G15:G16) -> 0
A18: 7 | C18: DPH 21% | D18: Kč | E18: 0.21 | G18: =G17*E18 -> 0
A19: 8
A20: 9 | C20: Náklady celkem včetně DPH 21% | D20: Kč | G20: =SUM(G17:G18) -> 0
A21: 10
A22: 11
A23: p.č. | B23: kód | C23: popis | D23: m. j.. | E23: počet m.j.. | F23: jednotková cena / m.j. | G23: cena celkem | H23: hmoty t / celkem
A24: 13 | C24: 1)Soupis prací a dodávek je zpracován dle Vyhlášky 169 ze dne 12.05.2016
A25: 14 | C25: 2) Neopominutelným podkladem pro ocenění je projektová dokumentace.
A26: 15 | C26: 3) Při oceňování díla stavební firmou je PD a TZ technicky i technologicky nadřazena soupisu prací a dodávek s výkazem výměr . Zhotovitel díla odpovídá za to, že provedl kontrolu kompletnosti seznamu operací v soupise prací a dodávek s výkazem výměr a do své nabídky zahrnul veškeré dodávky a kompletní provedení prací nutné k provedení díla, které je předmětem smlouvy a bude schopno plnit svoji funkci po dobu několika desítek let.
A27: 16 | C27: 4) Hutnění konstrukcí nových i stávajících po demontáži. Konstrukce pro zpevnění hutnit po jednotlivých podkladních vrstvách dle PD a IGP k příslušejícímu SO.
A28: 17 | C28: 5) Detaily a podrobnosti dle PD
A29: 18 | C29: 6) Likvidace kovových částí: Veškeré kovové části budou před odvozem k prodeji zváženy a jejich hmotnost zapsána do Stavebního deníku. Následně budou odvezeny a prodány jako druhotné suroviny do Kovošrotu za cenu platnou v den prodeje. Jejich výtěžek bude poslán na účet investora ve výši ceny platné v den prodeje.
A30: 19 | C30: 7) Jednotková cena obsahuje přesun hmot, není-li uvedeno samostatně.
A31: 20 | C31: 8) Výměry jsou vykázány odměřením nebo změřeno digitálně z výkresů PD k příslušnému SO
A32: 21 | C32: 9)Hutnění (zeminy) konstrukcí nových i stávajících (po demontáži nášlapných vrstev s ložem): konstrukce pro zpevnění hutnit po jednotlivých podkladních vrstvách dle PD a IGP
A33: 22 | C33: 10) Detaily a podrobnosti dle PD
A34: 23 | C34: 11) Spárořez dle PD
A35: 24 | C35: 12) Zemní práce dle DP a IGP
... A44: 33 | C44: Detaily viz v.č. D.1.03.02 až 07 + TZ
A45: 34 | B45: 871315//231 | C45: Bezpečnostní přepad DN 150-KG2000 SN 10, roura bude seříznuta ve sklonu stávajícího břehu (u ústí do rybníka), ; výměra:38,11bm+1,60bm. Kompletní provedení. | D45: bm | E45: =38.11+1.6 -> 39.71 | G45: =E45*F45 -> 0 | H45: =0.00248*E45 -> 0.0984808
A46: 35 | B46: PC | C46: Demontáž a zpětná oprava stávajícího opevnění z lomového kamene min. 500mm na každou stranu (velké kameny dle stávajících) v betonu, U dlažeb do betonového lože se nejprve na upravený terén rozprostře štěrkopísková podkladní vrstva tl. 100 mm, která zajistí odvodnění podkladu. Následně pak se rozprostře lože ze zavlhlé betonové směsi, do kterého se klade dlažební kámen. Tloušťka betonového lože má činit nejméně polovinu tloušťky dlažby. Vytlačená betonová směs lože ve spárách bude upěchována tak, aby zůstala volná spára do úrovně, jež nebude výše než min. 100 mm pod horní hranu kamene. Případné nepevné části budou před spárováním odstraněny. Spáry se vyplní a zatřou cementovou maltou tak, aby malta zůstala asi 5 mm pod lícem, výměra min. 1,5m2, Kompletní provedení | D46: m2 | E46: 1.5 | G46: =E46*F46 -> 0
A47: 36 | B47: 141721215 | C47: Řízený zemní protlak délky do 50 m hloubky do 6 m s protlačením potrubí vnějšího průměru vrtu do 225 mm v hornině třídy těžitelnosti I a II, skupiny 1 až 4 , ochranná trubka PP DN200, výměra:2,30bm+2,00bm | D47: bm | E47: 4.3 | G47: =E47*F47 -> 0
A48: 37 | B48: PC | C48: Potrubí pod chodníkem a molem provedeno podkopem (protakem), potrubí uloženo v ochranné trubce, ochranná trubka PP DN200, výměra:2,30bm+2,00bm | D48: bm | E48: 4.3 | G48: =E48*F48 -> 0
A49: 38 | B49: 894811135/P | C49: Revizní šachta, prefabrikovaná plastová šachta Ø425mm s litinovým poklopem B125, dodávka + montáž. Kompletní provedení. | D49: ks | E49: 1 | G49: =E49*F49 -> 0 | H49: =0.055*E49 -> 0.055
A50: 39 | B50: 2127R1001 | C50: Zaústěná žlabovka do štěrbinového žlabu, | D50: ks | E50: 1 | G50: =E50*F50 -> 0 | H50: =0.005 -> 0.005
A51: 40 | B51: 93593/P | C51: Hluboká vpust se sifonem, kalovým košem - lapačem nečistot, zpětnou klapkou a příslušenstvím, kompletní provedení (vpust liniového žlabu) | D51: ks | E51: 1 | G51: =E51*F51 -> 0 | H51: =0.03574*E51 -> 0.03574
A52: 41 | C52: Zaústění drenáže do akumulační nádrže | D52: ks | E52: 2 | G52: =E52*F52 -> 0 | H52: 0.001
A53: 42 | B53: 871315231 | C53: Napojení liniového žlabu DN150-KG2000 SN10, výměra 4,31bm +1,60bm | D53: bm | E53: =4.31+1.6 -> 5.91 | G53: =E53*F53 -> 0 | H53: =0.00308*E53 -> 0.0182028
A54: 43 | B54: 871315231 | C54: Napojení DV1 DN150 - KG2000 SN10, výměra 14,45bm +1,60bm | D54: bm | E54: =14.45+1.6 -> 16.05 | G54: =E54*F54 -> 0 | H54: =0.00308*E54 -> 0.049434
A55: 44 | B55: 72121/R1001 | C55: Dvorní vpust - DV1, s lapačem nečistot (košem) a zpětnou klapkou, litinový rošt | D55: ks | E55: 1 | G55: =E55*F55 -> 0 | H55: =0.04712*E55 -> 0.04712
A56: 45 | C56: Pítko
A57: 46 | B57: 721173316 | C57: Odvodnění pítka DN125 - KG SN8, výměra: 1,90bm+1,60bm | D57: bm | E57: =1.9+1.6 -> 3.5 | G57: =E57*F57 -> 0 | H57: =0.00191*E57 -> 0.006685
A58: 47 | B58: 72121R002 | C58: Vpust pod pítkem s mřížkou (viz. Technická zpráva SO 302) | D58: ks | E58: 1 | G58: =E58*F58 -> 0 | H58: =0.01024*E58 -> 0.01024
A59: 48 | B59: 45153/R8123 | C59: Zasakovací objekt - odvodnění pítka,prostor 2,0*5,0m* hloubky 0,75 m vyplněný štěrkem, kačírkem frakce 32/63mm včetně zem. prací | D59: m3 | E59: =2*5*0.75 -> 7.5 | G59: =E59*F59 -> 0 | H59: =1.7875*E59 -> 13.40625
A60: 49 | B60: 919726220 | C60: Geotextilie, dno a boky vsakovacího objektu,geotextilie pro vyztužení, separaci a filtraci tkaná z polyesteru podélná/příčná pevnost 150/50 kN/m výměra:(2,0+5,0)*2*0,75+2,0*5,0*2 | D60: m2 | E60: =(2+5)*2*0.75+2*5*2 -> 30.5 | G60: =E60*F60 -> 0 | H60: =0.00057*E60 -> 0.017385
A61: 50 | B61: 871218213/R | C61: Rozváděcí potrubí v zasakovacím objektu, děrování bez zanášení (ucpávání), výměra: cca 10bm | D61: bm | E61: 10 | G61: =E61*F61 -> 0 | H61: =0.00405*E61 -> 0.0405
A62: 51 | B62: 894811135/P | C62: Revizní šachta, prefabrikovaná plastová šachta Ø425mm s litinovým zadlažďovacím poklopem B125, včetně zadláždění | D62: ks | E62: 1 | G62: =E62*F62 -> 0
A63: 52 | B63: PC | C63: Poklop pro šachtu Ø 425 zadlažďovací, včetně osazovacího rámu, cca poklop- B 125, dodávka+montáž ; Kompletní provedení | D63: ks | E63: 1 | G63: =E63*F63 -> 0
A64: 53 | C64: DV2
A65: 54 | B65: 72121R003 | C65: Dvorní vpust DV2, s lapačem nečistot (košem) a zpětnou klapkou, litinový rošt | D65: ks | E65: 1 | G65: =E65*F65 -> 0
A66: 55 | B66: 871315231 | C66: Napojení DV2 DN150 - KG2000 SN10, výměra 5,80 bm +1,00bm | D66: bm | E66: =5.8+1 -> 6.8 | G66: =E66*F66 -> 0
A67: 56 | C67: Kanalizační přípojka
A68: 57 | B68: 871355231 | C68: Kanalizační přípojka DN200- KG2000 SN10, výměra: 1,28bm | D68: bm | E68: 1.28 | G68: =E68*F68 -> 0
A69: 58 | C69: Napojení nové kanalizační přípojky DN200 do nově vysazené odbočky, navrtávkou, na stoku splaškové kanalizace DN315, viz. detail připojení (způsob napojení bude upřesněn po odhalení stáv. potrubí) | D69: ks | E69: 1 | G69: =E69*F69 -> 0
A70: 59 | C70: Revizní šachta z betonových prefabrokovaných dílů Ø1000mm s litinovým poklopem B125 | D70: ks | E70: 1 | G70: =E70*F70 -> 0 | H70: 0.15
A71: 60 | B71: 871315231 | C71: Potrubí DN150 - KG2000 SN10, výměra: 1,10bm | D71: bm | E71: 1.1 | G71: =E71*F71 -> 0 | H71: =0.00248*E71 -> 0.002728
A72: 61 | C72: Potrubí DN150 ukončeno zpětnou klapkou v technologické šachtě | D72: ks | E72: 1 | G72: =E72*F72 -> 0 | H72: =0.008 -> 0.008
A73: 62 | C73: Vodní zápachový uzávěr | D73: ks | E73: 1 | G73: =E73*F73 -> 0
A74: 63 | C74: Zemní práce, výkopy, zásypy, hutnění pro akumulační jímku
A75: 64 | B75: 131351102 | C75: Hloubení jam nezapažených v hornině třídy těžitelnosti II, skupiny 4 (navážka) objem do 50m3 strojně ; výměra: 0,75*(3,56+0,60*2)*(7,22+0,60*2) | D75: m3 | E75: =0.75*(3.56+0.6*2)*(7.22+0.6*2) -> 30.0594 | G75: =E75*F75 -> 0 | H75: 0
A76: 65 | B76: 162751137 | C76: Vodorovné přemístění výkoplku na skládku do 10km výměra : 30,06m3*cca1,7t/m3 | D76: m3 | E76: =0.75*(3.56+0.6*2)*(7.22+0.6*2)*1.7 -> 51.10098 | G76: =E76*F76 -> 0 | H76: 0
A77: 66 | B77: 162751139 | C77: Příplatek k vodorovnému přemístění výkopku/sypaniny z horniny třídy těžitelnosti II, skupiny 4 a 5 ZKD 1000 m přes 10000 m ; cena 27Kč/m3*30km | D77: m3 | E77: =E76 -> 51.10098 | G77: =E77*F77 -> 0 | H77: 0
A78: 67 | B78: 469973116/P | C78: Poplatek za skládku (navážka) výměra ; 30,06m3 x 1,7t/m3 | E78: =0.75*(3.56+0.6*2)*(7.22+0.6*2)*1.7 -> 51.10098 | G78: =E78*F78 -> 0 | H78: 0
A79: 68 | B79: 564932111 | C79: Podklad z mechanicky zpevněného kameniva MZK (minerální beton) s rozprostřením a s hutněním, po zhutnění tl. 100 mm ; výměra (3,56+0,60*2)*(7,22+0,60*2) | D79: m2 | E79: =(3.56+0.6*2)*(7.22+0.6*2) -> 40.0792 | G79: =E79*F79 -> 0 | H79: =0.24794*E79 -> 9.9372368
A80: 69 | C80: v.č. D.1.03.05
A81: 70 | C81: pro přepad do rybníka
A82: 71 | C82: Demontáž ploch z betonové zámkové dlažby, přesun na deponii, očištění a zpětné použití včetně hutněného podkladního souvrství, výměra: silnice u rybníka 12,25bm*1,5bm
A83: 72 | B83: 113106071 | C83: Rozebrání dlažeb ze zámkových betonových dlaždic vozovek ručně včetně lože a naložení na dopravní prostředek (k dalšímu použití) | D83: m2 | E83: =12.25*1.5 -> 18.375 | G83: =E83*F83 -> 0 | H83: =0.26*E83 -> 4.7775
A84: 73 | B84: 460911122/P | C84: Očištění dlaždic betonových zámkových z rozebraných dlaždic ručně | D84: m2 | E84: 18.38 | G84: =E84*F84 -> 0 | H84: 0
A85: 74 | B85: 997221571 | C85: Vodorovné přemístění betonových dlaždic do 200m, se složením, na mezideponii ke zpětnému použití | D85: t | E85: 4.8 | G85: =E85*F85 -> 0 | H85: =0*E85 -> 0
A86: 75 | B86: 113107125 | C86: Odstranění podkladu z kameniva drceného tl 500 mm ručně k dalšímu použití výměra : (12,25*1,5)=19m2 | D86: m2 | E86: =12.25*1.5 -> 18.375 | G86: =E86*F86 -> 0 | H86: =0.75*E86 -> 13.78125
A87: 76 | B87: 132251101 | C87: Hloubení rýh nezapažených š do 800 mm v hornině třídy těžitelnosti I, skupiny 3 objem do 20 m3 strojně | D87: m3 | E87: =(18.44+5.8+4.31+14.45)*0.8*0.65+(19.67-1.58)*0.8*1.75+1.58*0.8*0.4 -> 48.1916 | G87: =E87*F87 -> 0 | H87: 0
A88: 77 | C88: Výkop pro uložení potrubí DN 150, výměra: (18,44+5,80+4,31+14,45 bm dl.)*0,80bm š.*0,65bm hl.+včetně pro překop silnice(19,67-1,58)*0,80*1,75+1,58*0,80*0,40
A89: 78 | B89: 151201101 | C89: Zřízení zátažného pažení a rozepření stěn rýh hl do 2 m | D89: m2 | E89: =(19.67-1.58+0.8)*1.75*2 -> 66.115 | G89: =E89*F89 -> 0 | H89: =0.00199*E89 -> 0.13156885
A90: 79 | C90: Pažení zátažné, výměra: (19,67-1,58+0,80)*1,75*2ks
A91: 80 | B91: 151101111 | C91: Dtto, avšak odstranění | D91: m2 | E91: =(19.67-1.58+0.8)*1.75*2 -> 66.115 | G91: =E91*F91 -> 0 | H91: 0
A92: 81 | B92: 271562200 | C92: Podsyp pro uložení potrubí DN 150, pískové zhutněné lože tl. 100mm, výměra: (38,11+5,80+4,31+14,45bm dl.)*0,80bm š.*0,10bm hl. (dodávka+montáž ) | D92: m3 | E92: =(38.11+5.8+4.31+14.45)*0.8*0.1 -> 5.0136 | G92: =E92*F92 -> 0 | H92: =1.980009*E92 -> 9.9269731
A93: 82 | B93: 271562200 | C93: Obsyp pro uložení potrubí DN 150, písek, násyp a hutnění po oboustranách trubky po vrstvách dle PD, tl. 500mm, výměra:(38,11+5,80+4,31+14,45bm dl.)*0,80bm š.*0,50bm hl. (dodávka+montáž) | D93: m3 | E93: =(38.11+5.8+4.31+14.45)*0.8*0.5 -> 25.068 | G93: =E93*F93 -> 0 | H93: =1.980009*E93 -> 49.634866
A94: 83 | B94: 271562211/P | C94: Hlavní násyp pro uložení potrubí DN 150, materiál dle PD, hutněný po vrstvách, výměra: (38,11)*0,80*1,15 | D94: m3 | E94: =38.11*0.8*1.15 -> 35.0612 | G94: =E94*F94 -> 0 | H94: =1.980009*E94 -> 69.421492
A95: 84 | B95: 185804253/P | C95: Odstranění vegetace, mulčovací kůry a ornice a uvedení do původního stavu záhonu s vegetací u rybníka, výměra: 4,0*1,0bm | D95: m2 | E95: =4*1 -> 4 | G95: =E95*F95 -> 0 | H95: 0
A96: 85 | B96: 132251101 | C96: Hloubení rýh nezapažených š do 800 mm v hornině třídy těžitelnosti I, skupiny 3 objem do 20 m3 strojně | D96: m3 | E96: =(1.28+1.1)*0.8*0.65 -> 1.2376 | G96: =E96*F96 -> 0 | H96: 0
A97: 86 | C97: Práce spojené s protlakem
A98: 87 | C98: Cena a Práce spojené s protlakem budou upřesněny dle postupu provádění viz Realizační Dokumentace Stavby.
A99: 88 | B99: PC | C99: Zemní práce pro startovací a cílovou jámu ( hloubení jam, pažení zátažné zřízení a odstranění, odvozy zeminy na mezideponii a zpět pro zásyp (demontáž zpevněných ploch viz HTU a nové zpevněné plochy viz SO 101). Zabezpečení výkopů. | D99: ks | E99: 2 | G99: =E99*F99 -> 0
A100: 89 | B100: 460631215 | C100: Řízené horizontální vrtání pro dešťovou kanalizaci v hornině tř I a II skupiny 1 až 4 vnějšího průměru do 225 mm | D100: bm | E100: 10 | G100: =E100*F100 -> 0 | H100: 0.00447
A101: 90 | B101: PC | C101: Doprava a práce spojená s vrtací technikou a obsluhou. | D101: ks | E101: 1 | G101: =E101*F101 -> 0
A102: 91 | B102: 460242211 | C102: Provizorní zajištění inženýrských sítí ve výkopech při jejich křížení pomocí drátů, dřevěných a plastových prvků apod., kabelů při křížení s kabelem a případně potrubím | D102: ks | E102: 5 | G102: =E102*F102 -> 0
A103: 92 | B103: 776992111 | C103: Montáž zemnícího pásku FeZn 30/4 | D103: bm | E103: 10 | G103: =E103*F103 -> 0
A104: 93 | C104: v.č. D.1.03.03
A105: 94 | C105: Výkop pro uložení potrubí DN 200,DN 150, výměra: (1,28+1,10)*0,80bm š.*0,65bm hl.
A106: 95 | B106: 271562200 | C106: Podsyp pro uložení potrubí DN 200,DN 150, pískové zhutněné lože tl. 100mm, výměra: (1,28+1,10bm dl.)*0,80bm š.*0,10bm hl. | D106: m3 | E106: =(1.28+1.1)*0.8*0.1 -> 0.1904 | G106: =E106*F106 -> 0 | H106: =1.980009*E106 -> 0.37699371
A107: 96 | B107: 271562200 | C107: Obsyp pro uložení potrubí DN 200, DN 150, písek, násyp a hutnění po oboustranách trubky po vrstvách dle PD, tl. 500mm, výměra: (1,28+1,10bm dl.)*0,80bm š.*0,50bm hl. | D107: m3 | E107: =(1.28+1.1)*0.8*0.5 -> 0.952 | G107: =E107*F107 -> 0 | H107: =1.980009*E107 -> 1.8849686
A108: 97 | C108: v.č. D.1.03.02
A109: 98 | B109: 132251101 | C109: Hloubení rýh nezapažených š do 800 mm v hornině třídy těžitelnosti I, skupiny 3 objem do 20 m3 strojně | D109: m3 | E109: =(1.9)*0.8*0.65 -> 0.988 | G109: =E109*F109 -> 0 | H109: 0
A110: 99 | C110: Výkop pro uložení potrubí DN 125, výměra: (1,90)*0,80bm š.*0,65bm hl.
A111: 100 | B111: 271562200 | C111: Podsyp pro uložení potrubí DN 125, pískové zhutněné lože tl. 10mm, výměra: (1,90bm dl.)*0,80bm š.*0,10bm hl. | D111: m3 | E111: =(1.9)*0.8*0.1 -> 0.152 | G111: =E111*F111 -> 0 | H111: =1.980009*E111 -> 0.30096137
A112: 101 | B112: 271562200 | C112: Obsyp pro uložení potrubí DN 125, písek, násyp a hutnění po oboustranách trubky po vrstvách dle PD, tl. 500mm, výměra:(1,90dl.)*0,80bm š.*0,50bm hl. | D112: m3 | E112: =(1.28+1.1)*0.8*0.5 -> 0.952 | G112: =E112*F112 -> 0 | H112: =1.980009*E112 -> 1.8849686
A113: 102 | C113: Akumulační nádrž na dešťovou vodu pro ruční zalévání 22m3
...

Sheet SO 302
C1: Rozpočet
C2: název stavby
C3: NÁMĚSTÍ BĚCHOVICE
C6: název části stavby
C7: SO 302 Vodovod
C11: Rekapitulace nákladů
A12: 1
A13: 2 | C13: SO 302 Vodovod | D13: Kč | G13: =G15 G15 -> 0
A14: 3
A15: 4 | C15: ZRN mezisoučet bez DPH 21% | D15: Kč | G15: =G44 -> 0
A16: 5 | C16: VRN - GZS | D16: Kč | E16: 0.03 | G16: =G15*E16 -> 0
A17: 6 | C17: celkem bez DPH 21% | D17: Kč | G17: =SUM(G15:G16) -> 0
A18: 7 | C18: DPH 21% | D18: Kč | E18: 0.21 | G18: =G17*E18 -> 0
A19: 8
A20: 9 | C20: Náklady celkem včetně DPH 21% | D20: Kč | G20: =SUM(G17:G18) -> 0
A21: 10
A22: 11
A23: p.č. | B23: kód | C23: popis | D23: m. j.. | E23: počet m.j.. | F23: jednotková cena / m.j. | G23: cena celkem | H23: hmoty t / celkem
A24: 13 | C24: 1)Soupis prací a dodávek je zpracován dle Vyhlášky 169 ze dne 12.05.2016
A25: 14 | C25: 2) Neopominutelným podkladem pro ocenění je projektová dokumentace a technické zprávy.
A26: 15 | C26: 3) Při oceňování díla stavební firmou je PD a TZ technicky i technologicky nadřazena soupisu prací a dodávek s výkazem výměr . Zhotovitel díla odpovídá za to, že provedl kontrolu kompletnosti seznamu operací v soupise prací a dodávek s výkazem výměr a do své nabídky zahrnul veškeré dodávky a kompletní provedení prací nutné k provedení díla, které je předmětem smlouvy a bude schopno plnit svoji funkci po dobu několika desítek let.
A27: 16 | C27: 4) Hutnění konstrukcí nových i stávajících po demontáži. Konstrukce pro zpevnění hutnit po jednotlivých podkladních vrstvách dle PD a IGP k příslušejícímu SO.
A28: 17 | C28: 5) Detaily a podrobnosti dle PD+TZ
A29: 18 | C29: 6) Likvidace kovových částí: Veškeré kovové části budou před odvozem k prodeji zváženy a jejich hmotnost zapsána do Stavebního deníku. Následně budou odvezeny a prodány jako druhotné suroviny do Kovošrotu za cenu platnou v den prodeje. Jejich výtěžek bude poslán na účet investora ve výši ceny platné v den prodeje.
A30: 19 | C30: 7) Jednotková cena obsahuje přesun hmot, není-li uvedeno samostatně.
A31: 20 | C31: 8) Výměry jsou vykázány odměřením nebo změřeno digitálně z výkresů PD k příslušnému SO
A32: 21 | C32: 9)Hutnění (zeminy) konstrukcí nových i stávajících (po demontáži nášlapných vrstev s ložem): konstrukce pro zpevnění hutnit po jednotlivých podkladních vrstvách dle PD a IGP
A33: 22 | C33: 10) Detaily a podrobnosti dle PD a TZ .
A34: 23 | C34: 11) Spárořez dle PD
A35: 24 | C35: 12) Zemní práce dle DP a IGP
... A43: 32 | C43: 20) Přesuny hmot jsou započítány v ceně, není-li uvedeno jinak.
A44: 33 | C44: VODOVODNÍ PŘÍPOJKA | D44: Kč | E44: celkem | G44: =SUM(G46:G157) -> 0 | H44: =SUM(H46:H154) -> 284.42256
A45: 34 | C45: Podrobnosti viz v.č. 19 013 DPS- D.1.04.02 - 04
A46: 35 | B46: 871171911/R | C46: Vodovodní přípojka PE 100SDR11PN16 40x3,7mm, výměra: 8,03mm, včetně tvarovek-kolen, odboček apod | D46: bm | E46: 8.03 | G46: =E46*F46 -> 0 | H46: 0
A47: 36 | B47: 28613640/R | C47: Dtto specifikace, potrubí vodovodní třívrstvé PE100 SDR11 s dodatečným opláštěním a integrovaným detekčním vodičem, 40 x 3,7mm včetně kolen, odboček apod. | D47: bm | E47: =8.03*1.03 -> 8.2709 | G47: =E47*F47 -> 0 | H47: =0.00067*E47 -> 0.005541503
A48: 37 | B48: PC | C48: Dodávka+montáž, Napojení přípojky na řad, zemní zákopová souprava (cena a způsob napojení bude upřesněn po odhalení stáv. potrubí), např. pomocí navrtávacího pasu na stávající veřejný řad LT100, očištění potrubí v dl. min. 500mm. Kompletní provedení. | D48: ks | E48: 1 | G48: =E48*F48 -> 0 | H48: 0.01
A49: 38 | C49: Vodoměrná šachta
A50: 39 | B50: 56230512 | C50: Šachta vodoměrná hranatá tl včetně výztuhy 0,9/1,2/1,4 m - specifikace | D50: ks | E50: 1 | G50: =E50*F50 -> 0 | H50: =0.075*1 -> 0.075
A51: 40 | B51: 893811112 | C51: Dtto, avšak jen osazení | D51: ks | E51: 1 | G51: =E51*F51 -> 0 | H51: 0.015
A52: 41 | B52: 28614188 | C52: Poklop litinový D400 dodávka + montáž , kompletní provedení (upřesní se dle montážní dokumentace | D52: ks | E52: 1 | G52: =E52*F52 -> 0 | H52: 0.0538
A53: 42 | C53: Vodoměrná šachta 900/1200mm, plastová s obetonováním včetně litinového poklopu 600x600mm, Kompletní provedení.
A54: 43 | B54: 564932111/P | C54: Podklad z mechanicky zpevněného kameniva MZK, s rozprostřením a zhutněním, po zhutnění tl. 100mm .ČSN 73 6126-1 připouští pro MZK max. tl. 300 mm. | D54: m2 | E54: =1.325*1.625 -> 2.153125 | G54: =E54*F54 -> 0 | H54: =0.24794*E54 -> 0.53384581
A55: 44 | B55: 247571113/P | C55: Obsyp vodoměrné šachty, zhutněno, tl. 100mm, výměra:(1,625+0,10*2+1,325)*2*0,10bm š.*2,0 bm hl. | D55: m3 | E55: =(1.625+0.1*2+1.325)*2*0.1*2 -> 1.26 | G55: =E55*F55 -> 0 | H55: =2.91415*E55 -> 3.671829
A56: 45 | B56: 59224656 | C56: Dno betonové vodoměrné šachty hranaté 0,9/1,2 pro zatížení B125.dodávka, nebo (Podkladní beton C25/30 vyztuženo kari sítí, výměra : 1,325bm*1,625bm* 0,20bm hl.) | D56: ks | E56: 1 | G56: =E56*F56 -> 0 | H56: 0.04
A57: 46 | B57: 894414111 | C57: Dtto osazení | D57: ks | E57: 1 | G57: =E57*F57 -> 0 | H57: =0.02854 *E57 -> 0.02854
A58: 47 | B58: 272362021 | C58: Výztuž do podkladního betonu, kari síť Ø6, 100*100mm, výměra: 1,325bm*1,625bm=2,15m2 | D58: t | E58: =2.15*4.5*0.001 -> 0.009675 | G58: =E58*F58 -> 0 | H58: 0.01
A59: 48 | B59: 899620151 | C59: Obetonování plastových šachet z polypropylenu betonem prostým v otevřeném výkopu, beton tř. C 25/30, vyztuženo, výměra: (0,90bm+1,625bm)*2ks*1,80bm hl.*0,30bm tl. | D59: m3 | E59: =(0.9+1.625)*2*1.8*0.3 -> 2.727 | G59: =E59*F59 -> 0 | H59: =2.45329*E59 -> 6.6901218
A60: 49 | B60: 899640111 | C60: Bednění obetonování šachty, výměra: (1,625bm+1,325bm)*2ks*1,80bm hl. | D60: m2 | E60: =(1.625+1.325)*2*1.8 -> 10.62 | G60: =E60*F60 -> 0 | H60: =0.0042*E60 -> 0.044604
A61: 50 | B61: 894608112 | C61: Výztuž do obetonování šachty, 50kg/m3 | D61: t | E61: =50*E59*0.001 -> 0.13635 | G61: =E61*F61 -> 0 | H61: =1.04232*E61 -> 0.14212033
A62: 51 | B62: 767861001 | C62: Montáž - Nerezový žebřík, cca dl. 1500mm, kotvený ke stěně šachty | D62: ks | E62: 1 | G62: =E62*F62 -> 0 | H62: 0.005
A63: 52 | B63: 8661982 | C63: Dtto, avšak specifikace - žebřík šachtový pro dno DN 1000 dl 1,63m (délku upravit dle montážní PD | D63: ks | E63: 1 | G63: =E63*F63 -> 0 | H63: 0.015
A64: 53 | C64: Pevné madlo zakotvené ve stěně, nerez Ø35mm, výměra: 1,80bm*2ks ; dodávka+montáž | D64: bm | E64: =1.8*2 -> 3.6 | G64: =E64*F64 -> 0 | H64: 0.025
A65: 54 | B65: 722270001 | C65: Vodoměrná sestava s fakturačním vodoměrem, cenu upřesnit dle montážní dokumentace | D65: ks | E65: 1 | G65: =E65*F65 -> 0 | H65: 0.026
A66: 55 | B66: 56231180/P | C66: Kromě jiných armatur bude osazena také kontrolovatelná zpětná armatura, tedy zpětný ventil (zpětná klapka) se zkušebním kohoutem | D66: ks | E66: 1 | G66: =E66*F66 -> 0 | H66: 0.008
A67: 56 | B67: 871171211 28613640 | C67: Přívod do technologické šachty, PE100 SDR11 PN16 40x3,7mm, výměra: 58,84m - dodávka + montáž | D67: bm | E67: 58.84 | G67: =E67*F67 -> 0 | H67: 0.006
A68: 57 | B68: 722212221 | C68: Přívod ukončen v technologické šachtě uzávěrem DN40 , prostup ochráněn ochranným potrubím | D68: ks | E68: 1 | G68: =E68*F68 -> 0 | H68: =0.01283*E68 -> 0.01283
A69: 58 | B69: PC | C69: Napojení přívodů k technologii fontány, závlahového systému, mlžení, pítka a kaple. Na jednotlivých větvích osazeny podružné vodoměry | D69: ks | E69: 5 | G69: =E69*F69 -> 0 | H69: =0.0015*E69 -> 0.0075
A70: 59 | B70: 734292728/P | C70: Uzávěry s vypouštěním, u napojení přívodů k technologii fontány, závlahového systému, mlžení, pítka a kaple. | D70: ks | E70: 5 | G70: =E70*F70 -> 0 | H70: =0.00182 -> 0.00182
A71: 60 | B71: 28613850/P +montáž | C71: Potrubí vodovodní + propojení v technologické šachtě, PE100 SDR11 PN16 32x3,0mm, výměra: 1,26bm*2ks+0,96bm+0,66+0,70+0,845+1,065 + 1,215+1,365; kompletní provedení | D71: bm | E71: =1.26*2+0.96+0.66+0.7+0.845+1.065+1.215+1.365 -> 9.33 | G71: =E71*F71 -> 0 | H71: =0.00027*E71 -> 0.0025191
A72: 61 | B72: 28613850/P +montáž | C72: Potrubí vodovodní + propojení k pítku a mlžítku, PE100 SDR11 PN16 32x3,0mm, výměra: 39,70m ; kompletní provedení | D72: bm | E72: 39.7 | G72: =E72*F72 -> 0 | H72: =0.00027*E72 -> 0.010719
A73: 62 | B73: PC | C73: Instalační armaturní šachta KS 1000/950m (s poklopem pro zadláždění) pro umístění externího ventilu mlžítka a uzavíracího ventilu pro pítko ; kompletní provedení | D73: ks | E73: 1 | G73: =E73*F73 -> 0 | H73: =0.06*E73 -> 0.06
A74: 63 | B74: PC | C74: Poklop dodávka Ø600mm, únosnost cca D400 + montáž + zadláždení | D74: ks | E74: 1 | G74: =E74*F74 -> 0 | H74: 0.15
A75: 64 | B75: 564932111 | C75: Podklad z mechanicky zpevněného kameniva MZK, s rozprostřením a zhutněním, po zhutnění tl. 100mm .ČSN 73 6126-1 připouští pro MZK max. tl. 300 mm. | D75: m2 | E75: =1.1*1 -> 1.1 | G75: =E75*F75 -> 0 | H75: =0.24794*E75 -> 0.272734
A76: 65 | B76: 59224656 | C76: Podkladní beton C25/30 vyztuženo kari sítí, výměra : 1,10bm*1,00*0,20bm hl. | D76: ks | E76: 1 | G76: =E76*F76 -> 0 | H76: =2.13*0.2 -> 0.426
A77: 66 | B77: 272362021 | C77: Výztuž do podkladního betonu, kari síť Ø6, 100*100mm, výměra: 1,10bm*1,00bm | D77: t | E77: =1.1*1*4.5*0.001 -> 0.00495 | G77: =E77*F77 -> 0 | H77: 0.01
A78: 67 | B78: 247571113/P | C78: Obsyp vodoměrné šachty, zhutněno, tl. 100mm, výměra:(1,00+0,10*2+0,90)*2*0,10bm š.*1,40 bm hl. | D78: m3 | E78: =(1+0.1*2+0.9)*2*0.1*1.4 -> 0.588 | G78: =E78*F78 -> 0 | H78: =2.91415*E78 -> 1.7135202
A79: 68 | B79: PC | C79: Pítko, ocelové pítko Pítko - Prameník s mřížkou, které se skládá z těla a odtokové mřížky (vlnový prořez). Výška 1200 mm. Výška kohoutku 1100 mm, Odtoková mřížka: Délka 900 mm, šířka 300 mm, tloušťka 5 mm., včetně příslušenství, montáže a kotvení, kompletní provedení | D79: ks | E79: 1 | G79: =E79*F79 -> 0 | H79: 0.08
A80: 69 | B80: 275321511 | C80: Betonový základ-pítka, pod pítko včetně výztuže a přípravy kotvení, na zhutněný povrch, cca výměra: 1,500*0,70*0,80bm, C 25/30 | D80: m3 | E80: =1.5*0.7*0.8 -> 0.84 | G80: =E80*F80 -> 0 | H80: =2.45329*E80 -> 2.0607636
A81: 70 | B81: 275354111 275354211 | C81: Bednění základové patky pod pítko; Zřízení a odstranění | D81: m2 | E81: =(1.5+0.7)*2*0.8 -> 3.52 | G81: =E81*F81 -> 0 | H81: =0.00144*E81 -> 0.0050688
A82: 71 | B82: 275361821 | C82: Výztuž do betonové patky 50kg/m3, ocel B500B,:, výměra: 0,50kg/m3 * 0,84m3 | D82: t | E82: =0.05*0.84 -> 0.042 | G82: =E82*F82 -> 0 | H82: =0.04 -> 0.04
A83: 72 | B83: PC | C83: Mlžítko, včetně montáže a kotvení, Mlžící sprcha (mlžítko) v antivandalovém nerezovém provedení umožňuje díky své konstrukci vytváření mlhoviny (mlžný opar) pomocí trysek umístěných v jedné linii pod sebou. Ovládání vody (spouštění vody) do mlžítka je řešeno externě pomocí ventilu na připojovacím potrubí. Ventil MS bude osazen v armaturní šachtě v prostoru odbočení potrubí pro pítko. Ventil bude ovládaný elektronickou řídící jednotkou. Včetně příslušenství, montáže a kotvení, kompletní provedení. Technické parametry: materiál: nerez, AISI 304, povrch kartáčovaný připojení vody: G 1/2 (jedná se o připojovací parametr do mlžítka) průtok: 1 tryska má průtok 40 litrů/hod. (možno dodat trysky s průtokem 6 litrů/hod.) Stavební připravenost: 1. Připravená zpevněná plocha (např. betonová plocha) pro upevnění kotevní konstrukce viz. schéma 2. Připraven přívod vody z vodovodního řádu | D83: ks | E83: 1 | G83: =E83*F83 -> 0 | H83: 0
A84: 73 | B84: 275313811 | C84: Betonový základ-patka pro mlžítko včetně přípravy kotvení, cca 4kotvy na zhutněný povrch, ; výměra : cca 0,50*0,50*dl.1,0bm, | D84: m3 | E84: =0.5*0.5*1 -> 0.25 | G84: =E84*F84 -> 0 | H84: =2.45329*E84 -> 0.6133225
A85: 74 | B85: 953965133 | C85: Kotevní šroub pro chemické kotvy M 16 dl 300 mm
A86: 75 | B86: 28613850/P +montáž | C86: Propojení k pítku a mlžítku, PE100 SDR11 PN16 32x3,0mm, výměra: 2,05m+1,20bm | D86: bm | E86: =2.05+1.2 -> 3.25 | G86: =E86*F86 -> 0 | H86: =0.00027*E86 -> 0.0008775
A87: 76 | B87: 28613850/P +montáž | C87: Propojení k pítku a mlžítku, PE100 SDR11 PN16 32x3,0mm, výměra: 11,35m+1,20bm | D87: bm | E87: =11.35+1.2 -> 12.55 | G87: =E87*F87 -> 0 | H87: =0.00027*E87 -> 0.0033885
A88: 77 | B88: 28613850/P +montáž | C88: Propojení ke kapli, PE100 SDR11 PN16 32x3,0mm, výměra: 30,50m | D88: bm | E88: 30.5 | G88: =E88*F88 -> 0 | H88: =0.00027*E88 -> 0.008235
A89: 78 | B89: 73319/R191 | C89: Zaslepení potrubí, příprava pro stavbu kaple | D89: ks | E89: 1 | G89: =E89*F89 -> 0 | H89: =0.00047*E89 -> 0.00047
A90: 79 | B90: PC | C90: Vodní zásuvka, připojená potrubím DN32 od čerpání, rychlospojný ventil (vodní zásuvce). navržen v mosazném provedení, které je tlakově odolnější, samotný ventil a přípojný klíč, kterým se provádí připojení na rychlospojný ventil, Rychlospojný ventil v šachtici bude obsypán jemným štěrkem. Kompletní provedení | D90: ks | E90: 1 | G90: =E90*F90 -> 0 | H90: =0.00027*E90 -> 0.00027
A91: 80 | B91: 56241658+ montáž | C91: Čerpání z akumulační nádrže, ponorná automatická vodárna, vodárna s integrovanou elektronickou řídicí jednotkou, která při odběru spouští čerpadlo a po ukončení odběru jej vypíná. Čerpadlo čerpá (spíná) a vypíná automaticky. | D91: ks | E91: 1 | G91: =E91*F91 -> 0 | H91: =0.00027*E91 -> 0.00027
A92: 81 | C92: Výtok užitkové vody bude příslušně označen nápisem UŽITKOVÁ VODA. | D92: ks | E92: 1 | G92: =E92*F92 -> 0 | H92: 0
A93: 82 | C93: Zemní práce
A94: 83 | C94: Podrobnosti viz. D.1.04.03
A95: 84 | B95: 132251253 | C95: Hloubení rýh nezapažených š do 2000 mm v hornině třídy těžitelnosti I, skupiny 3 objem do 100 m3 strojně | D95: m3 | E95: 2.16 | G95: =F95*E95 -> 0
A96: 85 | C96: Výkop pro uložení vodovodního potrubí PE100 SDR11 PN 16 40x3,7mm, výměra: napojení na vod. řad 1,20*1,00*1,80
A97: 86 | B97: 132254104 | C97: Hloubení rýh zapažených š do 800 mm v hornině třídy těžitelnosti I, skupiny 3 objem do 100 m3 strojně | D97: m3 | E97: =E98+E99 -> 112.1048 | G97: =F97*E97 -> 0
A98: 87 | C98: Výkop pro uložení vodovodního potrubí PE100 SDR11 PN 16 40x3,7mm, výměra: napojení na vod. řad vod. přípojka (8,03bm-0,90bm) d.*0,80bm š.*1,80bm hl.+přívod do technolog. šachty (58,84bm-10,14bm) *0,80bm š. * 1,71bm hl. | D98: m3 | E98: =(8.03-0.9)*0.8*1.8 +(58.84-10.14) *0.8* 1.71 -> 76.8888
A99: 88 | C99: Výkop pro uložení vodovodního potrubí PE100 SDR11 PN 16 40x3,7mm a PN 16 32x3,00mm, ( v místě výkopu zeminy na -1,60), výměra: přívod do technolog. šachty (10,14bm)* 0,80 š.* 0,50 hl.+(36,50+2,05+11,35+28,00)* 0,80*0,50 | D99: m3 | E99: =(10.14) *0.8* 0.5+(36.5+2.05+11.35+28)*0.8*0.5 -> 35.216
A100: 89 | B100: 162751137 | C100: Vodorovné přemístění do 10000m výkopku/sypaniny z horniny třídy těžitelnosti II,skupiny 4+5 (beton+navážka) | D100: m3 | E100: =E95+E97 -> 114.2648 | G100: =E100*F100 -> 0
A101: 90 | B101: 162751139 | C101: Příplatek k vodorovnému přemístění (navážka)výkopku/ sypaniny z horniny třídy těžitelnosti II, skupiny 4 a 5 ZKD 1000 m přes 10000 m (10x 27Kč/1000m)=Kč celkem | D101: m3 | E101: =E100 -> 114.2648 | G101: =E101*F101 -> 0
A102: 91 | C102: Podrobnosti viz. D.1.04.02
A103: 92 | B103: 113106071 | C103: Rozebrání dlažeb ze zámkových betonových dlaždic vozovek ručně včetně lože a naložení na dopravní prostředek (k dalšímu použití) ; Výměra : (7,25+17,15+19,80)*0,80 | D103: m2 | E103: =(7.25+17.15+19.8)*0.8 -> 35.36 | G103: =E103*F103 -> 0 | H103: =0.26*E103 -> 9.1936
A104: 93 | B104: 460911122/P | C104: Očištění dlaždic betonových zámkových z rozebraných dlaždic ručně | D104: m2 | E104: =E103 -> 35.36 | G104: =E104*F104 -> 0 | H104: 0
A105: 94 | B105: 997221571 | C105: Vodorovné přemístění betonových dlaždic do 200m, se složením, (na meziskládku a zpět k montáži) | D105: t | E105: =E103*0.08*1.5*2 -> 8.4864 | G105: =E105*F105 -> 0 | H105: =0*E105 -> 0
A106: 95 | B106: 113107125 | C106: Odstranění podkladu z kameniva drceného tl 500 mm ručně k dalšímu použití | D106: m2 | E106: =E103 -> 35.36 | G106: =E106*F106 -> 0 | H106: =0.75*E106 -> 26.52
A107: 96 | B107: 596212210 | C107: Kladení zámkové dlažby pozemních komunikací tl 80 mm skupiny A pl do 50 m2 (od navrtání na řad k šachtě); výměra : 9,0*1,00 | D107: m2 | E107: 9 | G107: =E107*F107 -> 0 | H107: =0.10362*E107 -> 0.93258
A108: 97 | B108: 567122114 | C108: Podklad ze směsi stmelené cementem SC C 8/10 (KSC I) tl 150 mm | D108: m2 | E108: =E107 -> 9 | G108: =E108*F108 -> 0 | H108: =0.38314*E108 -> 3.44826
A109: 98 | B109: 564861111 | C109: Podklad ze štěrkodrtě ŠD tl 200 mm po zhutnění tl 200mm | D109: m2 | E109: 9 | G109: =E109*F109 -> 0 | H109: =0.46*E109 -> 4.14
A110: 99 | B110: 113201112 | C110: Vytrhání obrub silničních ležatých včetně lože a naložení na dopravní prostředek na mezideponii (k dalšímu použití) (2,0+4,0+2,00+1,00*2+2,00) | D110: m | E110: =(2+4+2+1*2+2) -> 12 | G110: =E110*F110 -> 0 | H110: =0.23*E110 -> 2.76
A111: 100 | B111: 460912211 | C111: Očištění vybouraných obrubníků chodníkových od spojovacího materiálu | D111: bm | E111: =E110 -> 12 | G111: =E111*F111 -> 0 | H111: =0*E111 -> 0
A112: 101 | B112: 997221571 | C112: Vodorovné přemístění betonových obrub do 200m, se složením, na mezideponii ke zpětnému použití tam a zpět ; | D112: t | E112: =H110 -> 2.76 | G112: =E112*F112 -> 0 | H112: 0
...

Sheet SO 401
C1: Rozpočet
C2: název stavby
C3: NÁMĚSTÍ BĚCHOVICE
C6: název části stavby
C7: SO 401 Veřejné osvětlení
A12: 1 | C12: Rekapitulace nákladů
A13: 2 | C13: SO 401 Veřejné osvětlení | D13: Kč | G13: =SUM(G46:G119) -> 0
A14: 3
A15: 4 | C15: ZRN mezisoučet bez DPH 21% | D15: Kč | G15: =SUM(G13:G14) -> 0
A16: 5 | C16: VRN - GZS | D16: Kč | E16: 0.03 | G16: =G15*E16 -> 0
A17: 6 | C17: celkem bez DPH 21% | D17: Kč | G17: =SUM(G15:G16) -> 0
A18: 7 | C18: DPH 21% | D18: Kč | E18: 0.21 | G18: =G17*E18 -> 0
A19: 8
A20: 9 | C20: Náklady celkem včetně DPH 21% | D20: Kč | G20: =SUM(G17:G18) -> 0
A21: 10
A22: 11
A23: p.č. | B23: kód | C23: popis | D23: m. j.. | E23: počet m.j.. | F23: jednotková cena / m.j. | G23: cena celkem | H23: hmoty t / celkem
A24: 13 | C24: 1)Soupis prací a dodávek je zpracován dle Vyhlášky 169 ze dne 12.05.2016
A25: 14 | C25: 2) Neopominutelným podkladem pro ocenění je projektová dokumentace.
A26: 15 | C26: 3) Při oceňování díla stavební firmou je PD a TZ technicky i technologicky nadřazena soupisu prací a dodávek s výkazem výměr . Zhotovitel díla odpovídá za to, že provedl kontrolu kompletnosti seznamu operací v soupise prací a dodávek s výkazem výměr a do své nabídky zahrnul veškeré dodávky a kompletní provedení prací nutné k provedení díla, které je předmětem smlouvy a bude schopno plnit svoji funkci po dobu několika desítek let.
A27: 16 | C27: 4) Hutnění konstrukcí nových i stávajících po demontáži. Konstrukce pro zpevnění hutnit po jednotlivých podkladních vrstvách dle PD a IGP k příslušejícímu SO.
A28: 17 | C28: 5) Detaily a podrobnosti dle PD
A29: 18 | C29: 6) Likvidace kovových částí: Veškeré kovové části budou před odvozem k prodeji zváženy a jejich hmotnost zapsána do Stavebního deníku. Následně budou odvezeny a prodány jako druhotné suroviny do Kovošrotu za cenu platnou v den prodeje. Jejich výtěžek bude poslán na účet investora ve výši ceny platné v den prodeje.
A30: 19 | C30: 7) Jednotková cena obsahuje přesun hmot, není-li uvedeno samostatně.
A31: 20 | C31: 8) Výměry jsou vykázány odměřením nebo změřeno digitálně z výkresů PD k příslušnému SO
A32: 21 | C32: 9)Hutnění (zeminy) konstrukcí nových i stávajících (po demontáži nášlapných vrstev s ložem): konstrukce pro zpevnění hutnit po jednotlivých podkladních vrstvách dle PD a IGP
A33: 22 | C33: 10) Detaily a podrobnosti dle PD
A34: 23 | C34: 11) Spárořez dle PD
A35: 24 | C35: 12) Zemní práce dle DP a IGP
... A47: 36 | C47: A1) Kabelové rozvody silnoproudu (vč. Trubkovodů)
A48: 37 | B48: D+M | C48: Kabel CYKY J 4x16 | D48: m | E48: 350 | G48: =E48*F48 -> 0
A49: 38 | B49: D+M | C49: Vodič FeZn prům 10mm | D49: m | E49: 350 | G49: =E49*F49 -> 0
A50: 39 | B50: D+M | C50: Svorka zemní propojovací | D50: ks | E50: 25 | G50: =E50*F50 -> 0
A51: 40 | B51: D+M | C51: Svorka zemní odbočovací | D51: ks | E51: 12 | G51: =E51*F51 -> 0
A52: 41 | B52: D+M | C52: Svorka zemní připojovací | D52: ks | E52: 12 | G52: =E52*F52 -> 0
A53: 42 | B53: D | C53: Trubka kopoflex prům. 110mm | D53: m | E53: 300 | G53: =E53*F53 -> 0
A54: 43 | C54: A2) Ukončení a připojení kabelů
A55: 44 | B55: D+M | C55: Připojení nového stožáru smyčkou | D55: ks | E55: 7 | G55: =E55*F55 -> 0
A56: 45 | B56: D+M | C56: Připojení nového stožáru odbočkou | D56: ks | E56: 1 | G56: =E56*F56 -> 0
A57: 46 | B57: D+M | C57: Připojení (přepojení) stávajícího stožáru | D57: ks | E57: 5 | G57: =E57*F57 -> 0
A58: 47 | C58: A3) Osvětlovací tělesa
A59: 48 | B59: D | C59: Nový osvětlovací stožár SM1 dle výkresu č. 19-013-DPS-D.1-05-02-02 + příloha "SO 401 Veřejné osvětlení, 01 část světelně technická", včetně příslušenství | D59: ks | E59: 7 | G59: =E59*F59 -> 0
A60: 49 | B60: D | C60: Nový osvětlovací stožár SM2 dle výkresu č. 19-013-DPS-D.1-05-02-02 + příloha "SO 401 Veřejné osvětlení, 01 část světelně technická", včetně příslušenství | D60: ks | E60: 1 | G60: =E60*F60 -> 0
A61: 50 | B61: D | C61: Nový osvětlovací stožár SM3 dle výkresu č. 19-013-DPS-D.1-05-02-02 + příloha "SO 401 Veřejné osvětlení, 01 část světelně technická", včetně příslušenství | D61: ks | E61: 2 | G61: =E61*F61 -> 0
A62: 51 | B62: D+M | C62: Stávající přepojený stožár SPS dle výkresu č. 19-013-DPS-D.1-05-02-02 | D62: ks | E62: 5 | G62: =E62*F62 -> 0
A63: 52 | B63: D+M | C63: Stávající nově nasmyčkovaný stožár SS dle výkresu č. 19-013-DPS-D.1-05-02-02 | D63: ks | E63: 4 | G63: =E63*F63 -> 0
A64: 53 | B64: D+M | C64: Stávající demontovaný a odpojený stožár SD dle výkresu č. 19-013-DPS-D.1-05-02-02 | D64: ks | E64: 1 | G64: =E64*F64 -> 0
A65: 54 | B65: D+M | C65: Osvětlovací těleso typ F1 vč. výložníku dle výkresu č. 19-013-DPS-D.1-05-02-02 + příloha "SO 401 Veřejné osvětlení, 01 část světelně technická" , včetně příslušenství, kompletní provedení | D65: ks | E65: 22 | G65: =E65*F65 -> 0
A66: 55 | B66: D+M | C66: Osvětlovací těleso typ F3 vč. výložníku dle výkresu č. 19-013-DPS-D.1-05-02-02 + příloha "SO 401 Veřejné osvětlení, 01 část světelně technická" , včetně příslušenství, kompletní provedení | D66: ks | E66: 2 | G66: =E66*F66 -> 0
A67: 56 | B67: M | C67: Zapuštění (vetknutí) stožáru | D67: ks | E67: 10 | G67: =E67*F67 -> 0
A68: 57 | B68: M | C68: Montáž elektrické výzbroje stožárů | D68: ks | E68: 10 | G68: =E68*F68 -> 0 | H68: 0
A69: 58 | B69: D+M | C69: Svodový kabel ze svítidla CYKY 3x1,5mm | D69: bm | E69: 202 | G69: =E69*F69 -> 0
A70: 59 | B70: D+M | C70: Stožárová rozvodnice s jednou pojistkou, průchozí | D70: ks | E70: 3 | G70: =E70*F70 -> 0
A71: 60 | B71: D+M | C71: Stožárová rozvodnice se třemi pojistkami, průchozí | D71: ks | E71: 7 | G71: =E71*F71 -> 0
A72: 61 | B72: D+M | C72: Exteriérové hodiny, kulaté Ø400mm, autonomní řízené a monitorované systémem s vestavěným přijímačem pro bezdrátovou komunikaci, napájení 230Vac, včetně osvětlení, provedení se sekundovou ručičkou, dvoustranné , boční konzola s montáží na kuželový sloup, design ciferníku : pouze čárky bez číslic, včetně příslušenství, kompletní provedení | D72: ks | E72: 2 | G72: =E72*F72 -> 0
A73: 62 | C73: A4) Ostatní
A74: 63 | B74: HZS4212 | C74: Revize el. zařízení a kompletní zkoušky 2 * 8hod | D74: hod | E74: 16 | G74: =E74*F74 -> 0
A75: 64 | B75: HZS4222 | C75: Vyhledání a vytýčení stávajících kabel. tras a podzemních objektů 2*16hod | D75: hod | E75: 32 | G75: =E75*F75 -> 0
A76: 65 | C76: Kabelové lože 1-1 dle v.č. .19-013-DPS-D.1-05-02-02 (vč. hloubení výkopů 35x50cm, reailzace pískového lože, položení krycí cihly a krycí fólie, hutnění materiálu, odvozu přebytečné zeminy)
A77: 66 | B77: 460161142 | C77: Hloubení rýh zapažených i nezapažených kabelových rýh ručně včetně urovnání dna s přemístěním výkopku do vzdálenosti 3 m od okraje jámy nebo s naložením na dopravní prostředek šířky 35 cm hloubky 50 cm v hornině třídy těžitelnosti I skupiny 3 | D77: bm | E77: 280 | G77: =E77*F77 -> 0
A78: 67 | B78: 460661213 | C78: Kabelové lože včetně podsypu, zhutnění a urovnání povrchu z písku tl. 50mm nad kabel, zakryté cihlami, š. lože do 350mm | D78: bm | E78: =E77 -> 280 | G78: =E78*F78 -> 0
A79: 68 | B79: 460431252 | C79: Zásyp kabelových rýh ručně včetně zhutnění a uložení výkopku do vrstev a urovnání povrchu š. 350mm hloubky 500mm v hornině tř. 3 (zemina již násypová viz výše, bod 18) | D79: bm | E79: 280 | G79: =E79*F79 -> 0
A80: 69 | B80: 460242211 | C80: Provizorní zajištění inženýrských sítí ve výkopech pomocí drátů, dřevěných a plastových prvků apod., kabelů při křížení s kabelem a případně potrubím | D80: ks | E80: 23 | G80: =E80*F80 -> 0
A81: 70 | B81: 460242221 | C81: Provizorní zajištění kabelů ve vkopišti při jejich souběhu, avšak při jejich souběhu | D81: bm | E81: 65 | G81: =E81*F81 -> 0
A82: 71 | B82: 460791214 | C82: Montáž trubek ochranných uložených volně do rýhy ohebných, vnitřního průměru 110mm + konce chráničky zapěnit ; výměry 300bm | D82: bm | E82: 300 | G82: =E82*F82 -> 0
A83: 72 | B83: 776992111 | C83: Montáž + dodávka , zemnícího pásku FeZn Ø10mm | D83: bm | E83: 350 | G83: =E83*F83 -> 0
A84: 73 | B84: 460671112 | C84: Uložení+dodání výstražné folie z PVC šířky 250mm, položenou nad cihelným krytem kabelu viz vzorový řez - trasa1 - 1 | D84: bm | E84: 280 | G84: =E84*F84 -> 0
A85: 74 | C85: Poznámka :
A86: 75 | C86: Před realizací podzemního vedení pod ul. Mladých Běchovic, je nutno přizvat investora, správce komunikace, hlavního architekta, projektanta elektro a rozhodnout o způsobu provádění protlaku.
A87: 76 | C87: Realizace podzemního vedení pod ulicí Mladých Běchovic bude pravděpodobně řešena protlakem. Před realizací protlaku musí být vytyčeny všechny inženýrské sítě v trase protlaku včetně hloubek uložení. Před realizací bude navržena bezpečná trasa protlaku tak, aby nedošlo k poškození stávajících inženýrských sítí. Způsob realizace navrhne zhotovitel stavby, včetně případných úprav DIO.
A88: 77 | C88: Cena a Práce spojené s protlakem budou upřesněny dle postupu provádění viz Realizační Dokumentace Stavby.
A89: 78 | B89: PC | C89: Zemní práce pro startovací a cílovou jámu ( hloubení jam, pažení zátažné zřízení a odstranění, odvozy zeminy na mezideponii a zpět pro zásyp (demontáž zpevněných ploch viz HTU a nové zpevněné plochy viz SO 101). Zabezpečení výkopů. | D89: ks | E89: 2 | G89: =E89*F89 -> 0
A90: 79 | B90: 460631215 | C90: Řízené horizontální vrtání při elektromontážích v hornině tř I a II skupiny 1 až 4 vnějšího průměru do 225 mm | D90: bm | E90: 15 | G90: =E90*F90 -> 0 | H90: 0.00447
A91: 80 | B91: PC | C91: Doprava a práce spojená s vrtací technikou a obsluhou. | D91: ks | E91: 1 | G91: =E91*F91 -> 0
A92: 81 | B92: 460242211 | C92: Provizorní zajištění inženýrských sítí ve výkopech při jejich křížení pomocí drátů, dřevěných a plastových prvků apod., kabelů při křížení s kabelem a případně potrubím | D92: ks | E92: 20 | G92: =E92*F92 -> 0
A93: 82 | B93: 460242221 | C93: Provizorní zajištění kabelů ve výkopišti při jejich souběhu, avšak při jejich souběhu | D93: bm | E93: 40 | G93: =E93*F93 -> 0
A94: 83 | B94: 776992111 | C94: Montáž zemnícího pásku FeZn 30/4 | D94: bm | E94: 15 | G94: =E94*F94 -> 0
A95: 84 | B95: 460671112 | C95: Uložení+dodání výstražné folie z PVC šířky 250mm, položenou nad krycí cihlu kabelu viz vzorový řez - trasa 2 - 2 | D95: bm | E95: 15 | G95: =E95*F95 -> 0
A96: 85 | C96: Chráničky
A97: 86 | B97: 38899/R5219 | C97: Dodávka a osazení - chráničky z novoduru nebo jiného vhodného materiálu osadit do základu pro el. sloupek včetně vodotěsného utěsnění oboustranně , dl.cca 0,70bm ; 15ks | D97: ks | E97: 15 | G97: =E97*F97 -> 0
A98: 87 | C98: Sadové stožáry
A99: 88 | B99: 460131113 | C99: Hloubení nezapažené jámy ručně pro stožáry nadzemního vedení, nepažené, hloubky 1,7bm, včetně odvozu vykopané zeminy a skládkovného, v hornině tř. 3; | D99: m3 | E99: =SUM(E100:E101) -> 12.555 | G99: =E99*F99 -> 0
A100: 89 | C100: velikost 900/900mm - hl. 1,70bm * 7ks | D100: m3 | E100: =0.9*0.9*1.7*7 -> 9.639
A101: 90 | C101: velikost 900/900mm - hl. 1,20bm * (1+2)ks | D101: m3 | E101: =0.9*0.9*1.2*3 -> 2.916
A102: 91 | B102: 460281113 | C102: Pažení příložné plné výkopů jam hloubky do 4 m | D102: m2 | E102: =(0.9*4*1.7)*7+(0.9*4*1.2)*3 -> 55.8 | G102: =E102*F102 -> 0
A103: 92 | C103: (0,90*4*1,70)*7+(0,90*4*1,20)*3
A104: 93 | B104: 460281123 | C104: Odstranění pažení příložného výkopů jam hloubky do 4 m | D104: m2 | E104: =E102 -> 55.8 | G104: =E104*F104 -> 0
A105: 94 | B105: 460281114 | C105: Pažení stěn rýh nebo jam - rozepření | D105: m3 | E105: =E99 -> 12.555 | G105: =E105*F105 -> 0
A106: 95 | B106: 460281124 | C106: Odstranění rozepření stěn rýh nebo jam | D106: m3 | E106: =E105 -> 12.555 | G106: =E106*F106 -> 0
A107: 96 | B107: 460391123 | C107: Zásyp jam při elektromontážích ručně se zhutněním z hornin třídy I skupiny 3 | D107: m3 | E107: =SUM(E108:E110) -> 3.712 | G107: =E107*F107 -> 0
A108: 97 | C108: (0,90+0,80)*0,10*1,70*7 | D108: m3 | E108: =(0.9+0.8)*0.1*1.7*7 -> 2.023
A109: 98 | C109: (0,90+0,55)*0,35*1,20*1 | D109: m3 | E109: =(0.9+0.55)*0.35*1.2*1 -> 0.609
A110: 99 | C110: (0,90+0,60)*0,30*1,20*2 | D110: m3 | E110: =(0.9+0.6)*0.3*1.2*2 -> 1.08
A111: 100 | B111: PC | C111: Základ - prefabrikát - základová kotvící patka z betonu tř. B20 pro stožáry s předpřipravenými otvory pro vtahování kabelů-; vel. 800/800/1700mm výměry : 0,80*0,80*1,7bm - 7ks | D111: ks | E111: 7 | G111: =E111*F111 -> 0
A112: 101 | B112: PC | C112: Základ - prefabrikát - základová kotvící patka z betonu tř. B20 pro stožáry s předpřipravenými otvory pro vtahování kabelů-; vel. 550/550/1200mm výměry : 0,55*0,55*1,2bm - 1ks | D112: ks | E112: 1 | G112: =E112*F112 -> 0
A113: 102 | B113: PC | C113: Základ - prefabrikát - základová kotvící patka z betonu tř. B20 pro stožáry s předpřipravenými otvory pro vtahování kabelů-; vel. 600/600/1200mm výměry : 0,60*0,60*1,2bm - 2ks | D113: ks | E113: 2 | G113: =E113*F113 -> 0
A114: 103 | B114: 27512/R1111 | C114: Osazení prefabrikovaných patek pro sloupy VO | D114: ks | E114: 10 | G114: =E114*F114 -> 0
A115: 104 | B115: 41121867 | C115: Odstranění stávajících elektro - kabelů do suti | D115: bm | E115: 84 | G115: =E115*F115 -> 0
A116: 105 | C116: Ostatní práce
A117: 106 | B117: HZS4222 | C117: Geodetické zaměření | D117: hod | E117: 32 | G117: =E117*F117 -> 0
...

Sheet SO 402
C1: Rozpočet
C2: název stavby
C3: NÁMĚSTÍ BĚCHOVICE
C6: název části stavby
C7: SO 402 Elektro silnoproud
A11: 1 | C11: Rekapitulace nákladů
A12: 2 | C12: SO 402 Elektro silnoproud | D12: Kč | G12: =SUM(G43:G141) -> 0
A13: 3
A14: 4 | C14: ZRN mezisoučet bez DPH 21% | D14: Kč | G14: =SUM(G12:G13) -> 0
A15: 5 | C15: VRN - GZS | D15: Kč | E15: 0.03 | G15: =G14*E15 -> 0
A16: 6 | C16: celkem bez DPH 21% | D16: Kč | G16: =SUM(G14:G15) -> 0
A17: 7 | C17: DPH 21% | D17: Kč | E17: 0.21 | G17: =G16*E17 -> 0
A18: 8
A19: 9 | C19: Náklady celkem včetně DPH 21% | D19: Kč | G19: =SUM(G16:G17) -> 0
A20: 10
A21: 11
A22: p.č. | B22: kód | C22: popis | D22: m. j.. | E22: počet m.j.. | F22: jednotková cena / m.j. | G22: cena celkem | H22: hmoty t / celkem
A23: 13 | C23: 1)Soupis prací a dodávek je zpracován dle Vyhlášky 169 ze dne 12.05.2016
A24: 14 | C24: 2) Neopominutelným podkladem pro ocenění je projektová dokumentace.
A25: 15 | C25: 3) Při oceňování díla stavební firmou je PD a TZ technicky i technologicky nadřazena soupisu prací a dodávek s výkazem výměr . Zhotovitel díla odpovídá za to, že provedl kontrolu kompletnosti seznamu operací v soupise prací a dodávek s výkazem výměr a do své nabídky zahrnul veškeré dodávky a kompletní provedení prací nutné k provedení díla, které je předmětem smlouvy a bude schopno plnit svoji funkci po dobu několika desítek let.
A26: 16 | C26: 4) Hutnění konstrukcí nových i stávajících po demontáži. Konstrukce pro zpevnění hutnit po jednotlivých podkladních vrstvách dle PD a IGP k příslušejícímu SO.
A27: 17 | C27: 5) Detaily a podrobnosti dle PD
A28: 18 | C28: 6) Likvidace kovových částí: Veškeré kovové části budou před odvozem k prodeji zváženy a jejich hmotnost zapsána do Stavebního deníku. Následně budou odvezeny a prodány jako druhotné suroviny do Kovošrotu za cenu platnou v den prodeje. Jejich výtěžek bude poslán na účet investora ve výši ceny platné v den prodeje.
A29: 19 | C29: 7) Jednotková cena obsahuje přesun hmot, není-li uvedeno samostatně.
A30: 20 | C30: 8) Výměry jsou vykázány odměřením nebo změřeno digitálně z výkresů PD k příslušnému SO
A31: 21 | C31: 9)Hutnění (zeminy) konstrukcí nových i stávajících (po demontáži nášlapných vrstev s ložem): konstrukce pro zpevnění hutnit po jednotlivých podkladních vrstvách dle PD a IGP
A32: 22 | C32: 10) Detaily a podrobnosti dle PD
A33: 23 | C33: 11) Spárořez dle PD
A34: 24 | C34: 12) Zemní práce dle DP a IGP
... A44: 34 | C44: A) Dodávky rozvaděčů
A45: 35 | C45: Rozvaděč RE skříň 500x600x250 dle standardu ČEZ – výzbroj dle výkresu č. 19-013-DPS-D.1-06-01-02 | D45: ks | E45: 1 | G45: =E45*F45 -> 0
A46: 36 | C46: B) Hlavní montážní materiál
A47: 37 | C47: B1) Kabelové rozvody silnoproudu (vč. trubkovodů)
A48: 38 | C48: Kabel CYKY J 4x70 | D48: bm | E48: 3 | G48: =E48*F48 -> 0
A49: 39 | C49: B2) Ukončení a připojení kabelů
A50: 40 | C50: Ukončení a připojení kabelů CYKY J 4x70 | D50: ks | E50: 2 | G50: =E50*F50 -> 0
A51: 41 | C51: B3) Ostatní
A52: 42 | C52: Revize el. zařízení a kompletní zkoušky | D52: kpl | E52: 1 | G52: =E52*F52 -> 0
A53: 43 | C53: 02 část Architektonické osvětlení a technologické rozvody
A54: 44 | C54: A) Dodávky rozvaděčů
A55: 45 | B55: D+M | C55: Rozvaděč RH1 3x skříň 600x600x210 + 1x skříň 300x600x210 + 1x skříň 2100x300x100– výzbroj dle výkresu č. 19-013-DPS-D.1-06-02-03 | D55: ks | E55: 1 | G55: =E55*F55 -> 0
A56: 46 | B56: D+M | C56: Rozvaděč RP1 2x skříň 600x600x210 + 1x skříň 300x600x210 + 1x skříň 1500x300x100– výzbroj dle výkresu č. 19-013-DPS-D.1-06-02-03 | D56: ks | E56: 1 | G56: =E56*F56 -> 0
A57: 47 | C57: B) Hlavní montážní materiál
A58: 48 | C58: B1) Kabelové rozvody silnoproudu (vč. trubkovodů)
A59: 49 | B59: D+M | C59: Kabel CYKY J 4x50 | D59: m | E59: 5 | G59: =E59*F59 -> 0
A60: 50 | B60: D+M | C60: Kabel CYKY J 5x35 | D60: m | E60: 80 | G60: =E60*F60 -> 0
A61: 51 | B61: D+M | C61: Kabel CYKY J 5x16 | D61: m | E61: 25 | G61: =E61*F61 -> 0
A62: 52 | B62: D+M | C62: Kabel CYKY J 5x6 | D62: m | E62: 375 | G62: =E62*F62 -> 0
A63: 53 | B63: D+M | C63: Kabel CYKY J 5x4 | D63: m | E63: 25 | G63: =E63*F63 -> 0
A64: 54 | B64: D+M | C64: Kabel CYKY J 3x4 | D64: m | E64: 385 | G64: =E64*F64 -> 0
A65: 55 | B65: D+M | C65: Kabel CYKY J 3x2,5 | D65: m | E65: 130 | G65: =E65*F65 -> 0
A66: 56 | B66: D+M | C66: Kabel CYKY J 12x2,5 | D66: m | E66: 80 | G66: =E66*F66 -> 0
A67: 57 | B67: D+M | C67: Kabel CYKY J 5x1,5 | D67: m | E67: 5 | G67: =E67*F67 -> 0
A68: 58 | B68: D+M | C68: Kabel CYKY 2x2,5 (červená/černá) | D68: m | E68: 1350 | G68: =E68*F68 -> 0
A69: 59 | B69: D+M | C69: Vodič CY35mm-z/žl | D69: m | E69: 5 | G69: =E69*F69 -> 0
A70: 60 | B70: D+M | C70: Vodič CY6mm-z/žl | D70: m | E70: 520 | G70: =E70*F70 -> 0
... A75: 65 | B75: D+M | C75: Trubka kopoflex prům. 110mm | D75: m | E75: 630 | G75: =E75*F75 -> 0
A76: 66 | C76: B2) Ostatní elektroinstalace
A77: 67 | B77: D+M | C77: Zásuvková skříň MX | D77: ks | E77: 8 | G77: =E77*F77 -> 0
A78: 68 | B78: D+M | C78: Zásuvka 230V/16A, umístěná na sloupu VO | D78: ks | E78: 1 | G78: =E78*F78 -> 0
A79: 69 | B79: D+M | C79: Komplet připojení technologie fontány | D79: ks | E79: 1 | G79: =E79*F79 -> 0
A80: 70 | B80: D+M | C80: Komplet připojení technologie závlahového systému | D80: ks | E80: 1 | G80: =E80*F80 -> 0
A81: 71 | B81: D+M | C81: Komplet připojení technologie čerpadla AKU | D81: ks | E81: 1 | G81: =E81*F81 -> 0
A82: 72 | B82: D+M | C82: Komplet připojení technologie mlžítka | D82: ks | E82: 1 | G82: =E82*F82 -> 0
A83: 73 | B83: D+M | C83: Integrovaný soumrakový stmívač | D83: ks | E83: 1 | G83: =E83*F83 -> 0
A84: 74 | C84: B3) Osvětlovací tělesa
A85: 75 | B85: D+M | C85: Osvětlovací těleso typ F2 dle výkresu č.19-013-DPS-D.1-06-02-02 + příloha "SO 401 Veřejné osvětlení, 01 část světelně technická", včetně příslušenství, kompletní provedení | D85: ks | E85: 22 | G85: =E85*F85 -> 0
A86: 76 | B86: D+M | C86: Osvětlovací těleso typ F4 dle výkresu č. 19-013-DPS-D.1-06-02-02 + příloha "SO 401 Veřejné osvětlení, 01 část světelně technická", včetně příslušenství, kompletní provedení | D86: ks | E86: 8 | G86: =E86*F86 -> 0
A87: 77 | B87: D+M | C87: Osvětlovací těleso typ G1 dle výkresu č. 19-013-DPS-D.1-06-02-02 + příloha "SO 401 Veřejné osvětlení, 01 část světelně technická", včetně příslušenství, kompletní provedení | D87: ks | E87: 8 | G87: =E87*F87 -> 0
A88: 78 | B88: D+M | C88: Osvětlovací těleso typ G2 dle výkresu č. 19-013-DPS-D.1-06-02-02 + příloha "SO 401 Veřejné osvětlení, 01 část světelně technická", včetně příslušenství, kompletní provedení | D88: ks | E88: 9 | G88: =E88*F88 -> 0
A89: 79 | B89: D+M | C89: Osvětlovací těleso typ H1 dle výkresu č. 19-013-DPS-D.1-06-02-02 + příloha "SO 401 Veřejné osvětlení, 01 část světelně technická", včetně příslušenství, kompletní provedení | D89: ks | E89: 5 | G89: =E89*F89 -> 0
A90: 80 | B90: 275322511 | C90: Betonové základky C25/30 se zvýšenými nároky na prostředí pro zemní svítidla typu G1 a G2, výměra:0,50bm*0,50bm*0,60bm*17ks | D90: m3 | E90: =0.5*0.5*0.6*17 -> 2.55 | G90: =E90*F90 -> 0
A91: 81 | B91: 460131113 | C91: Výkop pro betonové základky pro zemní svítidla typu G1 a G2, výměra: 0,50bm*0,50bm*0,90bm*17ks | D91: m3 | E91: =0.5*0.5*0.9*17 -> 3.825 | G91: =E91*F91 -> 0
A92: 82 | B92: 271532212 | C92: Podsyp pod základové kce se zhutněním z kameniva fr 16-32mm tl. 300mm, výměra: 0,50bm*0,50bm*0,30bm*17ks | D92: m3 | E92: =0.5*0.5*0.3*17 -> 1.275 | G92: =E92*F92 -> 0
A93: 83 | B93: 212751104 | C93: Odvodnění základu svítidel, z drenážních trubek pro drenáže se zřízením štěrkového lože pod trubky a s jejich obsypem v otevřeném výkopu trubka flexibilní PVC-U SN 4 celoperforovaná 360° DN 100 | D93: bm | E93: 90 | G93: =E93*F93 -> 0
A94: 84 | B94: 211971121 | C94: Zřízení opláštění trativodů geotextilií v rýze nebo zářezu přes 1:2 š do 2,5 m | D94: m2 | E94: =1.3*0.9 -> 1.17 | G94: =E94*F94 -> 0
A95: 85 | B95: 71277R0019 | C95: Ochrana před prorůstáním kořenů kolem základů osvětlovacích těles (ochrané vrstvy z rohoží nebo desek) výměry : cca 25,0m2*9ks | D95: ks | E95: 9 | G95: =E95*F95 -> 0
A96: 86 | B96: 27035/R0001 | C96: Vrtání do kamenného schodu pro umístění svítidla F4, kompletní provedení | D96: ks | E96: 8 | G96: =E96*F96 -> 0
A97: 87 | B97: 27035/R0002 | C97: Instalace svítidla F4 do kamenného schodu+spojka a spojkování kabelů, kompletní provedení | D97: ks | E97: 8 | G97: =E97*F97 -> 0
A98: 88 | B98: 27035/R0002 | C98: Instalace svítidla F2 do kamenného patníku+spojka a spojkování kabelů, kompletní provedení | D98: ks | E98: 22 | G98: =E98*F98 -> 0
A99: 89 | C99: B4) Ostatní
A100: 90 | B100: HZS4212 | C100: Revize el. zařízení a kompletní zkoušky 2 * 8hod | D100: hod | E100: 16 | G100: =E100*F100 -> 0
A101: 91 | B101: HZS4222 | C101: Vyhledání a vytýčení stávajících kabel. tras a podzemních objektů 2*16hod | D101: hod | E101: 32 | G101: =E101*F101 -> 0
A102: 92 | C102: Kabelové lože 1-1 dle v.č. .19-013-DPS-D.1-05-02-02 (vč. hloubení výkopů 50x50cm, reailzace pískového lože, položení krycí cihly a krycí fólie, hutnění materiálu, odvozu přebytečné zeminy)
A103: 93 | B103: 460161242 | C103: Hloubení rýh nezapažených kabelových ručně, včetně urovnání dna, s ponecháním výkopku 3m od okraje jámy, š. 500mm, hl. 500mm v hornině tř.3,; | D103: bm | E103: 420 | G103: =E103*F103 -> 0
A104: 94 | B104: 460661214 | C104: Kabelové lože z písku pro kabely nn zakryté cihlami š lože do 60 cm | D104: bm | E104: 420 | G104: =E104*F104 -> 0
A105: 95 | B105: 460242211 | C105: Provizorní zajištění inženýrských sítí ve výkopech pomocí drátů, dřevěných a plastových prvků apod., kabelů při křížení s kabelem a případně potrubím | D105: ks | E105: 20 | G105: =E105*F105 -> 0
A106: 96 | B106: 460242221 | C106: Provizorní zajištění kabelů ve výkopišti při jejich souběhu, avšak při jejich souběhu | D106: bm | E106: 65 | G106: =E106*F106 -> 0
A107: 97 | B107: 460791214 | C107: Montáž trubek ochranných uložených volně do rýhy ohebných, vnitřního průměru 110mm + konce chráničky zapěnit ; výměry 630bm | D107: bm | E107: 630 | G107: =E107*F107 -> 0
A108: 98 | B108: 460431252 | C108: Zásyp kabelových rýh ručně včetně zhutnění a uložení výkopku do vrstev a urovnání povrchu š. 500mm hloubky 500mm v hornině tř. 3 (použít výkopový- nový násypový materiál - z výkopu) | D108: bm | E108: 420 | G108: =E108*F108 -> 0
A109: 99 | B109: 56493/R2111 | C109: Přehutnění podkladní stávající vrstvy pod dlažbu/ asfaltobeton v pásmu 1m na obě straby od osy výkopu rýhy | D109: m2 | E109: =420*2 -> 840 | G109: =E109*F109 -> 0
A110: 100 | B110: 776992111 | C110: Montáž + dodávka , zemnícího pásku FeZn Ø10mm | D110: bm | E110: 420 | G110: =E110*F110 -> 0
A111: 101 | B111: 460671112 | C111: Uložení+dodání výstražné folie z PVC šířky 250mm, položenou nad cihelným krytem kabelu viz vzorový řez - trasa1 - 1 | D111: bm | E111: 420 | G111: =E111*F111 -> 0
A112: 102 | C112: Kabelové lože 2-2 dle v.č. 19-013-DPS-D.1-05-02-02 (vč. hloubení výkopů 50x120cm, reailzace beton. stabiliařních vrstev, štěrkové vrstvy, krycí fólie, hutnění materiálu, odvozu přebytečné zeminy)
A113: 103 | B113: 460161312 | C113: Hloubení rýh nezapažených kabelových ručně,včetně urovnání dna, s ponecháním výkopku 3m od okraje jámy, š. 500mm, hl.1200mm v hornině3 | D113: bm | E113: 15 | G113: =E113*F113 -> 0
A114: 104 | B114: 460281111 | C114: Pažení výkopu rýh příložné plné, do 2m; 15,0*1,20*2 | D114: m2 | E114: =15*1.2*2 -> 36 | G114: =E114*F114 -> 0
A115: 105 | B115: 460281121 | C115: Dtto, odstranění | D115: m2 | E115: =E114 -> 36 | G115: =E115*F115 -> 0
A116: 106 | B116: 460281114 | C116: Rozepření stěn rýh ; 15,0*0,50*1,20 | D116: m3 | E116: =15*0.5*1.2 -> 9 | G116: =E116*F116 -> 0
A117: 107 | B117: 460281124 | C117: Dtto, odstranění | D117: m3 | E117: =E116 -> 9 | G117: =E117*F117 -> 0
A118: 108 | B118: 567122114 | C118: Betonová stabilizace tl. 200mm-shodná jako ve stávající komunikaci a kolem vedení kabelů ; 15,0*0,20*2*0,50 | D118: m3 | E118: =15*0.2*2*0.5 -> 3 | G118: =E118*F118 -> 0
...

Sheet SO 403
C1: Rozpočet
C2: NÁMĚSTÍ BĚCHOVICE
C5: název části stavby
C6: SO 403 Přeložka optického kabelu T-Mobile
A10: 1 | C10: Rekapitulace nákladů
A11: 2 | C11: SO 403 Přeložka optického kabelu T-Mobile | D11: Kč | G11: =SUM(G42:G77) -> 0
A12: 3
A13: 4 | C13: ZRN mezisoučet bez DPH 21% | D13: Kč | G13: =SUM(G11:G12) -> 0
A14: 5 | C14: GZS | D14: Kč | E14: 0.03 | G14: =G13*E14 -> 0
A15: 6 | C15: celkem bez DPH 21% | D15: Kč | G15: =SUM(G13:G14) -> 0
A16: 7 | C16: DPH 21% | D16: Kč | E16: 0.21 | G16: =G15*E16 -> 0
A17: 8
A18: 9 | C18: Náklady celkem včetně DPH 21% | D18: Kč | G18: =SUM(G15:G16) -> 0
A19: 10
A20: 11
A21: p.č. | B21: kód | C21: popis | D21: m. j.. | E21: počet m.j.. | F21: jednotková cena / m.j. | G21: cena celkem | H21: hmoty t / celkem
A22: 13 | C22: 1)Soupis prací a dodávek je zpracován dle Vyhlášky 169 ze dne 12.05.2016
A23: 14 | C23: 2) Neopominutelným podkladem pro ocenění je projektová dokumentace.
A24: 15 | C24: 3) Při oceňování díla stavební firmou je PD a TZ technicky i technologicky nadřazena soupisu prací a dodávek s výkazem výměr . Zhotovitel díla odpovídá za to, že provedl kontrolu kompletnosti seznamu operací v soupise prací a dodávek s výkazem výměr a do své nabídky zahrnul veškeré dodávky a kompletní provedení prací nutné k provedení díla, které je předmětem smlouvy a bude schopno plnit svoji funkci po dobu několika desítek let.
A25: 16 | C25: 4) Hutnění konstrukcí nových i stávajících po demontáži. Konstrukce pro zpevnění hutnit po jednotlivých podkladních vrstvách dle PD a IGP k příslušejícímu SO.
A26: 17 | C26: 5) Detaily a podrobnosti dle PD
A27: 18 | C27: 6) Likvidace kovových částí: Veškeré kovové části budou před odvozem k prodeji zváženy a jejich hmotnost zapsána do Stavebního deníku. Následně budou odvezeny a prodány jako druhotné suroviny do Kovošrotu za cenu platnou v den prodeje. Jejich výtěžek bude poslán na účet investora ve výši ceny platné v den prodeje.
A28: 19 | C28: 7) Jednotková cena obsahuje přesun hmot, není-li uvedeno samostatně.
A29: 20 | C29: 8) Výměry jsou vykázány odměřením nebo změřeno digitálně z výkresů PD k příslušnému SO
A30: 21 | C30: 9)Hutnění (zeminy) konstrukcí nových i stávajících (po demontáži nášlapných vrstev s ložem): konstrukce pro zpevnění hutnit po jednotlivých podkladních vrstvách dle PD a IGP
A31: 22 | C31: 10) Detaily a podrobnosti dle PD
A32: 23 | C32: 11) Spárořez dle PD
A33: 24 | C33: 12) Zemní práce dle DP a IGP
... A42: 33 | C42: MATERIÁL
A43: 34 | C43: HDPE 40/33 - Žlutá (popis dle požadavku T-Mobile) | D43: m | E43: 67.98 | G43: =E43*F43 -> 0
A44: 35 | C44: HDPE 40/33 - Žlutá s červeným pruhem (popis dle požadavku T-Mobile) | D44: m | E44: 67.98 | G44: =E44*F44 -> 0
A45: 36 | C45: HDPE 40/33 - Žlutá s modrým pruhem (popis dle požadavku T-Mobile) | D45: m | E45: 67.98 | G45: =E45*F45 -> 0
A46: 37 | C46: Chránička korugovaná 125 mm do překopu | D46: m | E46: 7 | G46: =E46*F46 -> 0
A47: 38 | C47: Spojka na HDPE | D47: ks | E47: 5 | G47: =E47*F47 -> 0
A48: 39 | C48: Koncovka na HDPE | D48: ks | E48: 9 | G48: =E48*F48 -> 0
A49: 40 | C49: Kabelová komora CB 2436-660 | D49: ks | E49: 1 | G49: =E49*F49 -> 0
A50: 41 | C50: Víko kabelové komory - zadlažďovací | D50: ks | E50: 1 | G50: =E50*F50 -> 0
A51: 42 | C51: výstražná fólie | D51: m | E51: 66 | G51: =E51*F51 -> 0
A52: 43 | C52: Deska plastová | D52: m | E52: 66 | G52: =E52*F52 -> 0
A53: 44 | C53: Recyklát včetně dopravy | D53: m3 | E53: 1.652 | G53: =E53*F53 -> 0
A54: 45 | C54: Navezení nové zeminy (ohumusování zelené plochy) - včetně dopravy | D54: m3 | E54: 31.25 | G54: =E54*F54 -> 0
A55: 46 | C55: MONTÁŽNÍ PRÁCE
A56: 47 | C56: DSP paušaĺní cena | D56: clk | E56: 1 | G56: =E56*F56 -> 0
A57: 48 | C57: ZEMNÍ PRÁCE
A58: 49 | C58: Vytyčení trasy | D58: m | E58: 66 | G58: =E58*F58 -> 0
A59: 50 | C59: Sdružená cena rýhy 35x60 - mozaika - výkop ručně | D59: m | E59: 3 | G59: =E59*F59 -> 0
A60: 51 | C60: Sdružená cena rýhy 35x60 - zámková dlažba nebo dlažba - výkop ručně | D60: m | E60: 4 | G60: =E60*F60 -> 0
A61: 52 | C61: Sdružená cena rýhy 35x80 - volný terén - výkop ručně | D61: m | E61: 52 | G61: =E61*F61 -> 0
A62: 53 | C62: Sdružená cena rýhy 50x120 - zámková dlažba nebo dlažba - výkop ručně | D62: m | E62: 7 | G62: =E62*F62 -> 0
A63: 54 | C63: Výkop a zához zemních sond - mozaika | D63: m3 | E63: 1.44 | G63: =E63*F63 -> 0
A64: 55 | C64: Výkop pro kabelovou komoru | D64: ks | E64: 1 | G64: =E64*F64 -> 0
A65: 56 | C65: bourání betonů vozovka - nad rámec | D65: m3 | E65: 0.77 | G65: =E65*F65 -> 0
A66: 57 | C66: Odvoz vykopaného materiálu se skládkovným do 20 km | D66: m3 | E66: 2.905 | G66: =E66*F66 -> 0
A67: 58 | C67: Vyzvednutí silničních obrub | D67: ks | E67: 2 | G67: =E67*F67 -> 0
A68: 59 | C68: Uložení silničních obrub | D68: ks | E68: 2 | G68: =E68*F68 -> 0
A69: 60 | C69: Kalibrace a tlaková zkouška HDPE nebo LSPE včetně protokolů | D69: m | E69: 198 | G69: =E69*F69 -> 0
... A76: 67 | C76: Geodetické zam. a mapování | D76: m | E76: 66 | G76: =E76*F76 -> 0
A77: 68 | C77: Ostatní práce
A78: 69 | C78: Pozn. V době zpracování DPS byly HDPE trubky T-Mobile prázdné bez kabelu, ale je tam již jeden kabel naplánován. Tento výkaz výměr a vůlbec celá DPS je na prázdné HDPE trubky.

Sheet SO 701
C1: Rozpočet
C2: název stavby
C3: NÁMĚSTÍ BĚCHOVICE
C6: název části stavby
C7: SO 701 - Fontána stavební řešení
A11: 1 | C11: Rekapitulace nákladů
A12: 2 | C12: SO 701 - Fontána stavební řešení | D12: Kč | G12: =SUM(G48:G249) -> 0
A13: 3
A14: 4 | C14: ZRN mezisoučet bez DPH 21% | D14: Kč | G14: =SUM(G12:G13) -> 0
A15: 5 | C15: VRN - GZS | D15: Kč | E15: 0.03 | G15: =G14*E15 -> 0
A16: 6 | C16: celkem bez DPH 21% | D16: Kč | G16: =SUM(G14:G15) -> 0
A17: 7 | C17: DPH 21% | D17: Kč | E17: 0.21 | G17: =G16*E17 -> 0
A18: 8
A19: 9 | C19: Náklady celkem včetně DPH 21% | D19: Kč | G19: =SUM(G16:G17) -> 0
A20: 10
A21: 11
A22: p.č. | B22: kód | C22: popis | D22: m. j.. | E22: počet m.j.. | F22: jednotková cena / m.j. | G22: cena celkem | H22: hmoty t / celkem
A23: 14 | C23: 1)Soupis prací a dodávek je zpracován dle Vyhlášky 169 ze dne 12.05.2016
A24: 15 | C24: 2) Neopominutelným podkladem pro ocenění je projektová dokumentace.
A25: 16 | C25: 3) Při oceňování díla stavební firmou je PD a TZ technicky i technologicky nadřazena soupisu prací a dodávek s výkazem výměr. Zhotovitel díla odpovídá za to, že provedl kontrolu kompletnosti seznamu operací v soupise prací a dodávek s výkazem výměr a do své nabídky zahrnul veškeré dodávky a kompletní provedení prací nutné k provedení díla, které je předmětem smlouvy a bude schopno plnit svoji funkci po dobu několika desítek let.
A26: 17 | C26: 4) Hutnění konstrukcí nových i stávajících po demontáži. Konstrukce pro zpevnění hutnit po jednotlivých podkladních vrstvách dle PD a IGP k příslušejícímu SO.
A27: 18 | C27: 5) Detaily a podrobnosti dle PD
A28: 19 | C28: 6) Likvidace kovových částí: Veškeré kovové části budou před odvozem k prodeji zváženy a jejich hmotnost zapsána do Stavebního deníku. Následně budou odvezeny a prodány jako druhotné suroviny do Kovošrotu za cenu platnou v den prodeje. Jejich výtěžek bude poslán na účet investora ve výši ceny platné v den prodeje.
A29: 20 | C29: 7) Jednotková cena obsahuje přesun hmot, není-li uvedeno samostatně.
A30: 21 | C30: 8) Výměry jsou vykázány odměřením nebo změřeno digitálně z výkresů PD k příslušnému SO
A31: 22 | C31: 9)Hutnění (zeminy) konstrukcí nových i stávajících (po demontáži nášlapných vrstev s ložem): konstrukce pro zpevnění hutnit po jednotlivých podkladních vrstvách dle PD a IGP
A32: 23 | C32: 10) Detaily a podrobnosti dle PD
A33: 24 | C33: 11) Spárořez dle PD
A34: 25 | C34: 12) Zemní práce dle DP a IGP
... A49: 40 | C49: Základy fontány, palisády a sochy
A50: 41 | B50: 279113154 | C50: Základová zeď tl 300mm z tvárnic ztraceného bednění včetně výplně z betonu tř. C 25/30 | D50: m2 | E50: =1.45*(0.9*4+1.53*6+0.94*6+0.53) -> 27.4775 | G50: =E50*F50 -> 0 | H50: =0.71546*E50 -> 19.659052
A51: 42 | C51: fontána 1,45*(0,9*4+1,53*6+0,94*6+0,53)
A52: 43 | B52: 279113151 | C52: Základová zeď tl 150 mm z tvárnic ztraceného bednění včetně výplně z betonu tř. C 25/30 | D52: m2 | E52: =1.45*(1.25+0.7) -> 2.8275 | G52: =E52*F52 -> 0 | H52: =0.36277*E52 -> 1.0257322
A53: 44 | C53: fontána - (pod schody)1,45*(1,25+0,70))
A54: 45 | B54: 279113156 | C54: Základová zeď tl 500 mm z tvárnic ztraceného bednění včetně výplně z betonu tř. C 25/30 | D54: m2 | E54: 23.1 | G54: =E54*F54 -> 0 | H54: =1.20855*E54 -> 27.917505
A55: 46 | C55: palisáda 23,10m2
A56: 47 | B56: 279361821 | C56: (pro fontánu,palisádu,fontána-pod schody) Výztuž základových zdí nosných betonářskou ocelí B500B Ø R12- výměry : (0,97kg/bm)*(8+8)ks/m2* (27,48+2,83+23,10)m2*1,20%přesah*0,001 | D56: t | E56: =0.97*16*(23.1+2.83+27.48)*1.2*0.001 -> 0.99470784 | G56: =E56*F56 -> 0 | H56: =1.0584*E56 -> 1.0527988
A57: 48 | B57: 275321511 | C57: Základové patky ze ŽB bez zvýšených nároků na prostředí tř. C 25/30 | D57: m3 | E57: =0.9*1.45*1.08+(0.9*1.95*0.97) -> 3.11175 | G57: =E57*F57 -> 0 | H57: =2.45329*E57 -> 7.6340252
A58: 49 | C58: část fontány+socha ; 0,90*1,45*1,080+(0,90*1,95*0,97)
A59: 50 | B59: 275351121 | C59: Zřízení bednění základových patek (1,80+1,45+0,90+0,50+0,90+1,95)*1,08+(0,30*1,45)+(0,35*1,45)*2+(0,30*0,35)*2 | D59: m2 | E59: =(1.8+1.45+0.9+0.5+0.9+1.95)*1.08+(0.3*1.45)+(0.35*1.45)*2+(0.3*0.35)*2 -> 9.76 | G59: =E59*F59 -> 0 | H59: =0.00264*E59 -> 0.0257664
A60: 51 | B60: 275351122 | C60: Odstranění bednění základových patek | D60: m2 | E60: =E59 -> 9.76 | G60: =E60*F60 -> 0 | H60: 0
A61: 52 | B61: 275361821/P | C61: Výztuž základových patek betonářskou ocelí B500B Ø R12 , výměra ; (0,97bm*6ks*0,89kg/bm*9,76*1,20%přesah*0,001 | D61: t | E61: =0.97*6*0.89*9.7*1.2*0.001 -> 0.060292872 | G61: =E61*F61 -> 0 | H61: =1.06062*E61 -> 0.063947826
A62: 53 | B62: 275362021 | C62: Výztuž základových patek svařovanými sítěmi Kari 100/100/8 ; výměra ; 7,9kg/m2*9,76m2*1,20%přesah*0,001 | D62: t | E62: =7.9*9.76*0.001*1.2 -> 0.0925248 | G62: =E62*F62 -> 0 | H62: =1.06277*E62 -> 0.098332582
A63: 54 | B63: 273321511 | C63: Podkladní - Základové desky ze ŽB bez zvýšených nároků na prostředí tř. C 25/30. tl. 150mm | D63: m3 | E63: =0.15*1.35*((0.9*7+0.3*7+0.15*2+0.68)+(0.3*7+0.9*5+0.38+1.7)+1)+0.25*1.35*2 -> 4.53465 | G63: =E63*F63 -> 0 | H63: =2.45329*E63 -> 11.124811
A64: 55 | C64: výměra: 0,15*1,35*((0,90*7+0,30*7+ 0,15*2+0,68)+(0,30*7+0,90*5+0,38+ 1,70)+pod podestu1,00)+pod stupně 0,25m2*1,35*2ks
A65: 56 | B65: 273362132 | C65: Výztuž základových desek sítě při obou površích plocha : (9,53+1,65+0,98+1,55+9,70)*1,45=33,95m2 (KY 49- 100/100/8) 47,40kg=2*3m /7,90kg/m2*2*33,95m2*1,20%přesah*0,001 | D65: t | E65: =7.9*2*33.95*0.001*1.2 -> 0.643692 | G65: =E65*F65 -> 0 | H65: =1.04145*E65 -> 0.67037303
A66: 57 | B66: 274321511 | C66: Základové pasy ze ŽB bez zvýšených nároků na prostředí tř. C 25/30 (koruna základů pro provedení spádu) | D66: m3 | E66: =( 0.2*(0.3*1.45)*17)+0.2*(0.15*1.45)*2 +( 0.2*(24.2*0.5)) -> 3.986 | G66: =E66*F66 -> 0 | H66: =2.45329*E66 -> 9.7788139
A67: 58 | C67: výměra fontána: 0,20*(0,30*1,45)*17ks+0,20*(0,15*1,45)*2ks +palisáda 0,20*(24,20*0,50)
A68: 59 | B68: 274354111 | C68: Bednění základových pasů - zřízení (koruna základů pro provedení spádu) | D68: m2 | E68: =0.2*(0.3+1.45)*2*17+0.2*(0.15+1.45)*2*2 +0.2*(24.2+0.5)*2+0.15*0.5*7 -> 23.585 | G68: =E68*F68 -> 0 | H68: =0.00144 *E68 -> 0.0339624
A69: 60 | C69: výměra fontána: 0,20*(0,30+1,45)*2*17ks+0,20*(0,15+1,45)*2*2ks +palisáda 0,20*(24,20+0,50)*2+0,15*0,50*7ks
A70: 61 | B70: 274354211 | C70: Dtto, avšak odstranění (koruna základů pro provedení spádu) | D70: m2 | E70: =E68 -> 23.585 | G70: =E70*F70 -> 0 | H70: 0
A71: 62 | B71: 274361821 | C71: Výztuž základových pasů betonářskou ocelí 10 505 (R) ; 50kg/m3 | D71: t | E71: =0.05*E66 -> 0.1993 | G71: =E71*F71 -> 0 | H71: =1.06062*E71 -> 0.21138157
A72: 63 | B72: 998012021 | C72: Přesun hmot | D72: t | E72: =SUM(H50:H71) -> 79.296503 | G72: =E72*F72 -> 0
A73: 64 | C73: skladba D
A74: 65 | B74: PC | C74: Kamenná deska fontány- žula, tl.60mm ; dodávka v.č. D1.07.09 | D74: m2 | E74: =E75+E76 -> 27.715 | G74: =E74*F74 -> 0
A75: 66 | C75: výměra kamenná deska fontány: 1,15*((20,40+2,70-0,25-0,60+0,05)) | D75: m2 | E75: =1.15*((20.4+2.7-0.25-0.6+0.05)) -> 25.645
A76: 67 | C76: výměra kamenná deska podstupnice:1,15*podstupnice 0,15*12ks) | D76: m2 | E76: =1.15*(0.15*12) -> 2.07
A77: 68 | B77: PC | C77: Dtto avšak montáž se spárováním , obklad kladený do lepidla vodě a mrazu odolného včetně spárování | D77: m2 | E77: 27.72 | G77: =E77*F77 -> 0
A78: 69 | B78: PC | C78: Kamenné desky na bocích fontány vel. 100x130mm, tl.100mm, - 100*130*600mm | D78: bm | E78: =SUM(E80+E79) -> 50.65 | G78: =E78*F78 -> 0
A79: 70 | C79: výměra: ((20,40+2,70+0,05+0,1*2))*2+(1,35+0,8) | D79: bm | E79: =((20.4+2.7+0.05+0.1*2))*2+(1.35+0.8) -> 48.85
A80: 71 | C80: výměra kamenná deska - boky podstupnice: 0,15*12ks) | D80: bm | E80: =0.15*12 -> 1.8
A81: 72 | B81: PC | C81: Dtto avšak montáž se spárováním , obklad kladený do lepidla vodě a mrazu odolného včetně spárování | D81: bm | E81: 50.65 | G81: =E81*F81 -> 0
A82: 73 | B82: PC | C82: Lepidlo mrazuvzdorné na kamenné desky 7 mm | D82: m2 | E82: =E83+E84+E85+E86 -> 43.8205 | G82: =E82*F82 -> 0
A83: 74 | C83: výměra : 1,35*((20,40+2,70-0,25-0,60+0,05+0,1*2)) | D83: m2 | E83: =1.35*((20.4+2.7-0.25-0.6+0.05+0.1*2)) -> 30.375
A84: 75 | C84: výměra kamenná deska podstupnice:1,35*podstupnice 0,15*12ks) | D84: m2 | E84: =1.35*(0.15*12) -> 2.43
A85: 76 | C85: výměra boky: 0,13*((20,40+2,70+0,05+0,1*2))*2+0,13*(1,35+0,8) | E85: =0.13*((20.4+2.7+0.05+0.1*2))*2+0.13*(1.35+0.8) -> 6.3505
A86: 77 | C86: výměra spáry:0,05*((20,40+2,70+0,05))*2+0,05*(1,35+0,8)+1,15*0,05*39 | D86: m2 | E86: =0.05*((20.4+2.7+0.05))*2+0.05*(1.35+0.8)+1.15*0.05*39 -> 4.665
A87: 78 | B87: 711490001 | C87: Hydroizolace stěrková dvousložková pružná, mrazuvzdorná do venkovního prostředí ; včetně příslušenství(rohy, dilatace, spoje) tl. 5 mm, na ploše vodorovné - kompletní provedení (Podrobnosti viz. D.1.07.06,08,09) | D87: m2 | E87: =SUM(E88:E89) -> 32.805 | G87: =E87*F87 -> 0
A88: 79 | C88: výměra kamenná deska fontány: 1,35*((20,40+2,70-0,25-0,60+0,05+0,1*2)) | E88: =1.35*((20.4+2.7-0.25-0.6+0.05+0.1*2)) -> 30.375
A89: 80 | C89: výměra kamenná deska podstupnice:1,35*podstupnice 0,15*12ks) | E89: =1.35*(0.15*12) -> 2.43
A90: 81 | B90: 711490002 | C90: Dtto, avšak svislá - boky | D90: m2 | E90: =SUM(E91:E92) -> 19.6377 | G90: =E90*F90 -> 0
A91: 82 | C91: výměra boky: 0,13*((20,40+2,70+0,05+0,1*2))*2+0,13*(1,35+0,8) | E91: =0.13*((20.4+2.7+0.05+0.1*2))*2+0.13*(1.35+0.8) -> 6.3505
A92: 83 | C92: výměra vrstva za nerez. úhelníkem: (0,13+0,13+0,012)*(20,40+2,70+0,05+0,1*2))*2+(0,13+0,13+0,012)*(1,35+0,8) | E92: =(0.13+0.13+0.012)*(20.4+2.7+0.05+0.1*2)*2+(0.13+0.13+0.012)*(1.35+0.8) -> 13.2872
A93: 84 | B93: 632441212/P | C93: Vyrovnávací stěrka (dotvoření spádu) tl.30 mm | D93: m2 | E93: =E94+E95 -> 32.805 | G93: =E93*F93 -> 0
A94: 85 | C94: výměra: 1,35*((20,40+2,70-0,25-0,60+0,05+0,1*2)) | E94: =1.35*((20.4+2.7-0.25-0.6+0.05+0.1*2)) -> 30.375
A95: 86 | C95: výměra kamenná deska podstupnice:1,35*podstupnice 0,15*12ks) | E95: =1.35*(0.15*12) -> 2.43
A96: 87 | C96: Přesun hmot pro 782, 2,21% | D96: Kč | E96: 0.021 | G96: =E96*F96 -> 0
A97: 88 | B97: 273321511 | C97: Podkladní - Základová deska ze ŽB bez zvýšených nároků na prostředí tř. C 25/30. tl. 150mm | D97: m3 | E97: =0.15*1.35*((0.9*7+0.3*7+0.15*2+0.68)+(0.3*7+0.9*5+0.38+1.7)+1)+0.25*1.35*2 -> 4.53465 | G97: =E97*F97 -> 0 | H97: =2.45329*E97 -> 11.124811
A98: 89 | C98: 0,15*1,35*((0,9*7+0,3*7+0,15*2+0,68)+(0,3*7+0,9*5+0,38+1,7)+1)+0,25*1,35*2
A99: 90 | B99: 273362132 | C99: Výztuž základových desek sítě při obou površích (KY 49- 100/100/8) / 47,40kg=2*3m / 7,90kg/m2 výměra : (60,91m2*0,0079t/m2) | D99: t | E99: =60.91*0.0079 -> 0.481189 | G99: =E99*F99 -> 0 | H99: =1.04145*E99 -> 0.50113428
A100: 91 | C100: výměra: 1,35*((0,90*7+0,30*7+0,15*2+0,68)+(0,30*7+0,90*5+0,38+1,70)+pod podestu1,00)*2ks+pod stupně 1,75*1,35*2ks*2ks
A101: 92 | B101: 273351121 | C101: Zřízení bednění základových desek | D101: m2 | E101: =1.45*2+0.45*2+1.45*2 -> 6.7 | G101: =E101*F101 -> 0 | H101: =0.00247*E101 -> 0.016549
A102: 93 | C102: 1,45*2+0,45*2+1,45*2
A103: 94 | B103: 273351122 | C103: Dtto, avšak odstranění | D103: m2 | E103: =E101 -> 6.7 | G103: =E103*F103 -> 0 | H103: =0*E103 -> 0
A104: 95 | B104: 271532212 | C104: Podsyp pod základové konstrukce se zhutněním z hrubého kameniva frakce 16 až 32 mm | D104: m3 | E104: =(11.3+1.8+1.25+1.5+8.7)*1.45*0.25 -> 8.899375 | G104: =E104*F104 -> 0 | H104: =2.16 *E104 -> 19.22265
A105: 96 | C105: (11,30+1,80+1,25+1,50+8,70)*1,45*0,25
A106: 97 | B106: Dodávka | C106: Nerez L130/90/12 u napouštěcího objektu, (52,49bm)*19,50kg/bm=1023,56kg | D106: kg | E106: =52.49*19.5 -> 1023.555 | G106: =E106*F106 -> 0 | H106: =0.01784*E106 -> 18.260221
A107: 98 | B107: 953943124 | C107: Dtto avšak osazování výrobků do 30 kg/kus =2bm do betonu | D107: ks | E107: 27 | G107: =E107*F107 -> 0 | H107: =0.00044*E107 -> 0.01188
A108: 99 | C108: součet | D108: bm | E108: =E109+E110 -> 52.49
A109: 100 | C109: výměra:((20,40+2,70+0,07+0,1*2))*2+(1,35+0,80) | E109: =((20.4+2.7+0.07+0.1*2))*2+(1.35+0.8) -> 48.89
A110: 101 | C110: výměra podstupnice: podstupnice 0,15*12ks*2ks | E110: =0.15*12*2 -> 3.6
A111: 102 | B111: Montáž | C111: Zabudování led svítidla+provedení drážky dl.cca 400mm a otvor pro nerezový prostup skrz kamennou desku tl. cca 100mm, vedení přívodu ke světlu v chráničce , kompletní provedení. | D111: ks | E111: 7 | G111: =E111*F111 -> 0 | H111: =0.003*E111 -> 0.021
A112: 103 | B112: 953965131 | C112: Kotevní šroub pro chemické kotvy M 16 dl 190 mm včetně dodání a zasunutí kotevního šroubu do otvoru vyplněného chemickým tmelem | D112: ks | E112: =52.49*8 -> 419.92 | G112: =E112*F112 -> 0 | H112: =0.00027*E112 -> 0.1133784
A113: 104 | B113: Dodávka | C113: Nerez L100/100/12 u napouštěcího objektu, výměra:(1,90bm+1,35bm)*2 | D113: bm | E113: =(2.9+1.35)*2 -> 8.5 | G113: =E113*F113 -> 0 | H113: =0.01784*E113 -> 0.15164
A114: 105 | B114: 953943124 | C114: Dtto avšak osazování výrobků do 30 kg/kus do betonu | D114: ks | E114: 4 | G114: =E114*F114 -> 0 | H114: =0.00044*E114 -> 0.00176
A115: 106 | C115: Prostup v betonovém základu pro potrubí k napouštěcímu objektu+plotna pro izolaci, chránička a potrubí dl. cca 1400mm, příruba DN 100, izolační manžeta
A116: 107 | B116: 312101213 | C116: Vytvoření prostupu Ø 100 v betonovém základu pro potrubí k napouštěcímu objektu | D116: bm | E116: 1.4 | G116: =E116*F116 -> 0 | H116: =0.0014*E116 -> 0.00196
A117: 108 | B117: Dod + Mont | C117: Plotna pro izolaci do bet. základu | D117: ks | E117: 1 | G117: =E117*F117 -> 0 | H117: =0.005*E117 -> 0.005
A118: 109 | B118: 230200118/P | C118: Chránička a potrubí dl. cca 1400mm, příruba, DN 100, (dl. 1400mm*2) | D118: bm | E118: =1.4*2 -> 2.8 | G118: =E118*F118 -> 0 | H118: =0.00496*E118 -> 0.013888
A119: 110 | B119: Dod + Mont | C119: Prostupová izolační manžeta (těsnění) | D119: ks | E119: 2 | G119: =E119*F119 -> 0 | H119: =0.003*E119 -> 0.006
...

Sheet SO 702-technologie
A2: SO 702 - TECHNOLOGIE FONTÁNY BĚCHOVICE, podrobnosti viz. D.1.08.01-12
A4: Pol. | C4: Zařízení | D4: MJ | E4: Počet | F4: Cena jed. | G4: Cena celkem
C5: I. Technologie úpravny vody
A6: 1 | B6: 1.1 | C6: Pískový jednovrstvý laminátový filtr; Ø500 mm, ovzduš. a vypouštěcí ventil | D6: ks | E6: 1 | G6: =F6*E6 -> 0
A7: 2 | B7: 1.2 | C7: Ventil filtrace šesticestný G6/4" - automatický - časové řízení + tlakové řízení, umístění horní, napájení: 230 V AC/50 Hz - horní umístění | D7: ks | E7: 1 | G7: =F7*E7 -> 0
A8: 3 | C8: Písková náplň - hrubý písek, frakce 1-2mm | D8: kg | E8: 25 | G8: =F8*E8 -> 0
A9: 4 | C9: Písková náplň - jemný písek, frakce 0,4-0,8mm | D9: kg | E9: 50 | G9: =F9*E9 -> 0
A10: 5 | B10: 1.3 | C10: Čerpadlo filtrace horizontální s předfiltrem plast Q=6,0m³/hod, H=10m, P=0,25kW, U=230V - horizontální provedení; materiál: tělo plast , oběžné kolo plast, hřídel nerez ocel, ucpávka keramická, síto PP; krytí IP55; 2-pólový asynchronní motor, 50 Hz (n = 2850 rpm); třída izolace F | D10: ks | E10: 1 | G10: =F10*E10 -> 0
A11: 6 | B11: 1.4 | C11: UV reaktor nízkotlaký, P=0,11kW, U=230V | D11: ks | E11: 1 | G11: =F11*E11 -> 0
A12: 7 | B12: 1.5 | C12: Regulátor chemického hospodářství - měření pH a ORP; integrovaná čerpadla; průtok čerpadla: 1,5 l/h; maximální zpětný tlak: 1,5 barů; napěťový signál: 100–240 V AC, 2x vstup pro hladinovou sondu; krytí IP65; napájení: 230 V AC/50 Hz | D12: ks | E12: 1 | G12: =F12*E12 -> 0
A13: 8 | B13: 1.6 | C13: Zásobník dezinfikant - 20l | D13: ks | E13: 1 | G13: =F13*E13 -> 0
A14: 9 | B14: 1.7 | C14: Zásobník pH korektor - 20l | D14: ks | E14: 1 | G14: =F14*E14 -> 0
A15: 10 | B15: 1.8 | C15: Záchytná vana pro zásobník | D15: ks | E15: 2 | G15: =F15*E15 -> 0
A16: 11 | B16: 1.9 | C16: Akumulační nádrž 2,83 x 1,73 x 1,45m - PP svařenec, vevařená dopadová komora s úchyty pro síto | D16: ks | E16: 1 | G16: =F16*E16 -> 0
A17: 12 | B17: 1.10 | C17: Vodoměr vodní prvek napouštění G 1'', DN20, Q3 2,5; montáž do horizontální polohy | D17: ks | E17: 1 | G17: =F17*E17 -> 0
A18: 13 | B18: 1.11 | C18: Zachycovač mechanických nečistot DN25 - manuální | D18: ks | E18: 1 | G18: =F18*E18 -> 0
A19: 14 | B19: 1.12 | C19: Ventil s el. pohonem G 1'', P=15W, U=230V | D19: ks | E19: 1 | G19: =F19*E19 -> 0
A20: 15 | B20: 1.13 | C20: Kalové čerpadlo (kalník) Q=10,2m³/hod, H=4m, P=0,7kW, U=230V - nerez materiál, ponorné | D20: ks | E20: 1 | G20: =F20*E20 -> 0
A21: 16 | B21: 1.14 | C21: Kalové čerpadlo (akumulační nádrž) Q=10,2m³/hod, H=4m, P=0,7kW, U=230V - nerez materiál, ponorné | D21: ks | E21: 1 | G21: =F21*E21 -> 0
C22: Mezisoučet technologie úpravny vody | G22: =SUM(G6:G21) -> 0
C23: II. Okruh potok
A24: 17 | B24: 1.15 | C24: Čerpadlo potoka - Q=54,8m³/hod, H=11,3m, P=3,0kW, U=230/400V - horizontální provedení; materiál: tělo litina, oběžné kolo litina, hřídel nerez ocel, ucpávka uhlík - keramika - NBR; krytí IP54; 4-pólový asynchronní motor, 50 Hz (n=1450 rpm); třída izolace F | D24: ks | E24: 1 | G24: =F24*E24 -> 0
A25: 18 | B25: 1.16 | C25: Zachycovač mechanických nečistot DN150 , 60l | D25: ks | E25: 1 | G25: =F25*E25 -> 0
C26: Mezisoučet potok | G26: =SUM(G24:G25) -> 0
C27: III. Osvětlení
A28: 19 | B28: 1.17 | C28: LED pásek IP68 WW, 2700K, nerezové pouzdro, l=400mm | D28: ks | E28: 7 | G28: =F28*E28 -> 0
A29: 20 | B29: 1.18 | C29: LED pásek IP68 RGB, 4000K, nerezové pouzdro, l=400mm | D29: ks | E29: 1 | G29: =F29*E29 -> 0
A30: 21 | C30: Kontroler RGB - pevně nastavené programy | D30: ks | E30: 1 | G30: =F30*E30 -> 0
C31: Mezisoučet osvětlení | G31: =SUM(G28:G30) -> 0
C32: IV. Zámečnické konstrukce
A33: 22 | B33: 1.19 | C33: Nerezový prostup DN25 - elektro LED - potok, mat. 1.4301 | D33: ks | E33: 7 | G33: =ROUND(E33*F33,0) -> 0
A34: 23 | B34: 1.20 | C34: Nerezový prostup DN80 - plnění - běžec, mat. 1.4301 | D34: ks | E34: 1 | G34: =ROUND(E34*F34,0) -> 0
A35: 24 | B35: 1.21 | C35: Nerezový prostup DN100 - plnění - potok, mat. 1.4301 | D35: ks | E35: 1 | G35: =ROUND(E35*F35,0) -> 0
A36: 25 | B36: 1.22 | C36: Nerezový prostup DN200 - vratka (odbočka)- strojovna, mat. 1.4301 | D36: ks | E36: 1 | G36: =ROUND(E36*F36,0) -> 0
A37: 26 | B37: 1.23 | C37: Nerezový prostup DN200 - vratka (koncovka)- strojovna, mat. 1.4301 | D37: ks | E37: 1 | G37: =ROUND(E37*F37,0) -> 0
A38: 27 | B38: 1.24 | C38: Nerezový šachtový přeliv 600x450/DN200 - potok, mat. 1.4301 | D38: ks | E38: 1 | G38: =ROUND(E38*F38,0) -> 0
A39: 28 | B39: 1.25 | C39: Nerezový pororošt plnění - potok, mat. 1.4301 | D39: ks | E39: 1 | G39: =ROUND(E39*F39,0) -> 0
A40: 29 | B40: 1.26 | C40: Nerezový pororošt šachtového přelivu 590x440mm - potok, mat. 1.4301 | D40: ks | E40: 1 | G40: =ROUND(E40*F40,0) -> 0
A41: 30 | B41: 1.27 | C41: Nerezový pororošt kalníku 490x490mm - strojovna, mat. 1.4301 | D41: ks | E41: 1 | G41: =ROUND(E41*F41,0) -> 0
A42: 31 | B42: 1.28 | C42: Nerezové síto 740x600mm - AN - oka 10mm, mat. 1.4301 | D42: ks | E42: 2 | G42: =ROUND(E42*F42,0) -> 0
A43: 32 | B43: 1.29 | C43: Nerezový sací koš DN150 - oka 4mm, Ø250mm, l=250mm, mat. 1.4301 | D43: ks | E43: 1 | G43: =ROUND(E43*F43,0) -> 0
A44: 33 | B44: 1.30 | C44: Nerezový sací koš DN40 - oka 4mm, Ø250mm, l=250mm, mat. 1.4301 | D44: ks | E44: 1 | G44: =ROUND(E44*F44,0) -> 0
... A47: 36 | B47: 1.33 | C47: Nerezové prostup DN125 - LED - strojovna, mat. 1.4302 | D47: ks | E47: 2 | G47: =ROUND(E47*F47,0) -> 0
C48: Mezisoučet záměčnické konstrukce | G48: =SUM(G33:G47) -> 0
C49: V. Instalační materiál
A50: 37 | C50: Potrubí PVC-U PN 10, DN 25 vč. fitinek, spojovacího materiálu, kotevního a pomocného materiálu | D50: m | E50: 10.1 | G50: =E50*F50 -> 0
A51: 38 | C51: Potrubí PVC-U PN 10, DN 40 vč. fitinek, spojovacího materiálu, kotevního a pomocného materiálu | D51: m | E51: 15.9 | G51: =E51*F51 -> 0
A52: 39 | C52: Potrubí PVC-U PN 10, DN 50 vč. fitinek, spojovacího materiálu, kotevního a pomocného materiálu | D52: m | E52: 0.2 | G52: =E52*F52 -> 0
A53: 40 | C53: Potrubí PVC-U PN 10, DN 80 vč. fitinek, spojovacího materiálu, kotevního a pomocného materiálu | D53: m | E53: 26.9 | G53: =E53*F53 -> 0
A54: 41 | C54: Potrubí PVC-U PN 10, DN 100 vč. fitinek, spojovacího materiálu, kotevního a pomocného materiálu | D54: m | E54: 25.5 | G54: =E54*F54 -> 0
A55: 42 | C55: Potrubí PVC-U PN 10, DN 150 vč. fitinek, spojovacího materiálu, kotevního a pomocného materiálu | D55: m | E55: 3 | G55: =E55*F55 -> 0
A56: 43 | C56: Potrubí KG, DN 100 vč. fitinek, spojovacího materiálu, kotevního a pomocného materiálu | D56: m | E56: 4.3 | G56: =E56*F56 -> 0
A57: 46 | C57: Potrubí HDPE DN25 - chránička světel | D57: m | E57: 92.7 | G57: =E57*F57 -> 0
A58: 44 | C58: Izolace PE DN80 | D58: m | E58: 25.7 | G58: =E58*F58 -> 0
A59: 45 | C59: Izolace PE DN100 | D59: m | E59: 24.5 | G59: =E59*F59 -> 0
A60: 47 | C60: Kulový kohout PVC-U DN25 | D60: ks | E60: 5 | G60: =E60*F60 -> 0
A61: 48 | C61: Kulový kohout PVC-U DN40 | D61: ks | E61: 9 | G61: =E61*F61 -> 0
... A77: 64 | C77: Drobný materiál do DN25 | D77: ks | E77: 1 | G77: =E77*F77 -> 0
C78: Mezisoučet instalační materiál | G78: =SUM(G50:G77) -> 0
C79: VI. Montáž, doprava, ostatní
A80: 65 | C80: Tlakové zkoušky | D80: m | E80: =SUM(E50:E57) -> 178.6 | G80: =E80*F80 -> 0
A81: 66 | C81: Montáž technologie | D81: hod | E81: 288 | G81: =E81*F81 -> 0
A82: 67 | C82: Doprava materiálu a osob | D82: kpl | E82: 1 | G82: =E82*F82 -> 0
A83: 68 | C83: Návod pro obsluhu a údržbu | D83: ks | E83: 1 | G83: =E83*F83 -> 0
A84: 69 | C84: Uvedení do provozu zašk. obsluhy | D84: hod | E84: 8 | G84: =E84*F84 -> 0
A85: 70 | C85: VRN | D85: ks | E85: 1 | G85: =E85*F85 -> 0
C86: Mezisoučet montáž, doprava, ostatní | G86: =SUM(G80:G85) -> 0
C89: Cena celkem bez DPH | G89: =G22+G31+G86+G78+G48+G26 -> 0
C90: DPH 21% | G90: =SUM(G89*0.21) -> 0
C91: Cena celkem s DPH | G91: =SUM(G89:G90) -> 0

Sheet SO 702-elektroinstalace
A2: SO 702 - ELEKTROTECHNOLOGIE FONTÁNY BĚCHOVICE
A4: Pol. | C4: Zařízení | D4: MJ | E4: Počet | F4: Cena jed. | G4: Cena celkem
C5: I. Elektroinstalace
C6: I.Elektrotechnologie
C7: ROZVODNICE
A8: 1 | C8: Rozvodnice 800x600x230 + motážní deska IP65 | D8: ks | E8: 1 | G8: =F8*E8 -> 0
A9: 2 | C9: PG11------ Vývodka PG11 s maticí | D9: ks | E9: 12 | G9: =F9*E9 -> 0
A10: 3 | C10: PG13,5---- Vývodka PG13,5 s maticí | D10: ks | E10: 1 | G10: =F10*E10 -> 0
A11: 4 | C11: PG21------ Vývodka PG21 s maticí | D11: ks | E11: 1 | G11: =F11*E11 -> 0
C12: VODIČ JEDNOŽILOVÝ OHEBNÝ (CYA)
A13: 5 | C13: H05V-K 1 mm2 , pevně | D13: m | E13: 100 | G13: =F13*E13 -> 0
A14: 6 | C14: H07V-K 2.5 mm2 , pevně | D14: m | E14: 16 | G14: =F14*E14 -> 0
C15: SONDY k HLADINOVÉMU RELÉ
A16: 7 | C16: SHR-2 hladinová sonda - nerezová elektroda uložená v PVC krytu | D16: ks | E16: 10 | G16: =F16*E16 -> 0
A17: 8 | C17: B6/1 Jistič , char B, 1-pólový | D17: ks | E17: 4 | G17: =F17*E17 -> 0
A18: 9 | C18: APN-32-3 Páčkový spínač | D18: Ks | E18: 1 | G18: =F18*E18 -> 0
A19: 10 | C19: B10/1 , char B, 1-pólový | D19: ks | E19: 3 | G19: =F19*E19 -> 0
A20: 11 | C20: MS 10A , 3-pólový | D20: ks | E20: 1 | G20: =F20*E20 -> 0
A21: 12 | C21: 40-20-A230 Instalační stykač | D21: Ks | E21: 1 | G21: =F21*E21 -> 0
A22: 13 | C22: 20-20-A230 Instalační stykač | D22: Ks | E22: 3 | G22: =F22*E22 -> 0
A23: 14 | C23: 40/4/003 Chránič Ir=250A, typ A/G, 4-pól | D23: ks | E23: 1 | G23: =F23*E23 -> 0
A24: 15 | C24: BO668610-- Jistič s chráničem B10/003/A | D24: ks | E24: 3 | G24: =F24*E24 -> 0
A25: 16 | C25: ST315 230V/24V DC,63VA | D25: ks | E25: 1 | G25: =F25*E25 -> 0
A26: 17 | C26: BZ325001-A Zásuvka ČSN,230V/16A,na DIN lištu | D26: ks | E26: 1 | G26: =F26*E26 -> 0
C27: HLADINOVÉ RELÉ
A28: 18 | C28: 1/230 hlídací hladiny s 1stavovým. i 2stav. hlídáním,hlídání ve dvou nezávislých nádržíchnastav.citlivost i čas.prodleva,měřící frekv. 50Hz | D28: ks | E28: 4 | G28: =F28*E28 -> 0
A29: 19 | C29: Frekvenční měnič 3,00kW 3-fázový | D29: ks | E29: 1 | G29: =F29*E29 -> 0
C30: SVORKOVNICE KRABICOVÁ | G30: =F30*E30 -> 0
A31: 20 | C31: 273-102 4x1-2,5mm2 | D31: ks | E31: 30 | G31: =F31*E31 -> 0
A32: 21 | C32: 273-105 5x1-2,5mm2 | D32: ks | E32: 20 | G32: =F32*E32 -> 0
C33: ŠNŮRA STŘEDNÍ PRYŽOVÁ | G33: =F33*E33 -> 0
A34: 22 | C34: H07RN-F-G 4x2.5 mm2 , pevně | D34: m | E34: 25 | G34: =F34*E34 -> 0
C35: KABEL SILOVÝ,IZOLACE PVC S VODIČEM PE | G35: =F35*E35 -> 0
A36: 23 | C36: CYKY-J 3x1.5 mm2 , pevně | D36: m | E36: 55 | G36: =F36*E36 -> 0
A37: 24 | C37: CYKY-J 3x2.5 mm2 , pevně | D37: m | E37: 25 | G37: =F37*E37 -> 0
A38: 25 | C38: CMFM 4x2.5 mm2 , pevně | D38: m | E38: 15 | G38: =F38*E38 -> 0
C39: OHEBNÁ CHRÁNIČKA KOPOFLEX | G39: =F39*E39 -> 0
A40: 26 | C40: KF09040 světlost 32mm | D40: m | E40: 40 | G40: =F40*E40 -> 0
C41: DK-KABELOVÉ KRABICOVÉ ROZVODKY IP 65 | G41: =F41*E41 -> 0
A42: 27 | C42: KF 8500 210x310x117, bez svorkovnice | D42: ks | E42: 1 | G42: =F42*E42 -> 0
C43: ZÁSUVKA NN, PRAKTIK IP 44 (PLAST) | G43: =F43*E43 -> 0
A44: 28 | C44: 5518-2929 B Zásuvka jednonásobná IP 44, s ochranným kolíkem, s víčkem; d. Praktik; b. bílá | D44: ks | E44: 4 | G44: =F44*E44 -> 0
A45: 29 | C45: 5518-2029 B Zásuvka dvojnásobná IP 44, s ochrannými kolíky, s víčky; d. Praktik; b. bílá | D45: ks | E45: 1 | G45: =F45*E45 -> 0
A46: 30 | C46: LV 24X22 LIŠTA VKLÁDACÍ (2m v kartonu) | D46: m | E46: 12 | G46: =F46*E46 -> 0
A47: 31 | C47: LH 40X40 LIŠTA HRANATÁ (2m v kartonu) - DVOJ. ZÁMEK | D47: m | E47: 12 | G47: =F47*E47 -> 0
A48: 32 | C48: SKP-100/B KRUH IP44 bílá 230V 100W/E27 | D48: ks | E48: 1 | G48: =F48*E48 -> 0
C49: SPÍNAČ, PŘEPÍNAČ, PRAKTIK IP 44 (PLAST) | G49: =F49*E49 -> 0
A50: 33 | C50: 3558-01929 B Spínač jednopólový IP 44; řazení 1; d. Praktik; b. bílá | D50: ks | E50: 1 | G50: =F50*E50 -> 0
C51: ŠŇŮRA PVC | G51: =F51*E51 -> 0
A52: 34 | C52: H05VV-F-G 5x1 mm2 , pevně | D52: m | E52: 15 | G52: =F52*E52 -> 0
A53: 35 | C53: H05VV-F-G 3x1 mm2 , pevně | D53: m | E53: 24 | G53: =F53*E53 -> 0
C54: VODIČ JEDNOŽILOVÝ, IZOLACE PVC | G54: =F54*E54 -> 0
A55: 36 | C55: CY 4 , pevně | D55: m | E55: 16 | G55: =F55*E55 -> 0
A56: 37 | C56: CY 16 , pevně | D56: m | E56: 10 | G56: =F56*E56 -> 0
A57: 38 | C57: A11 Krabice odbočná plastová, šedá, prázdná, IP 54,12 otv. | D57: ks | E57: 6 | G57: =F57*E57 -> 0
C58: OSAZENÍ HMOŽDINKY DO MĚKKÝCH STAVEBNÍCH MATERIÁLŮ | G58: =F58*E58 -> 0
A59: 39 | C59: HL6 | D59: ks | E59: 80 | G59: =F59*E59 -> 0
A60: 40 | C60: Podružný materiál | D60: ks | E60: 1 | G60: =F60*E60 -> 0
C61: Mezisoučet elektroinstalace | G61: =SUM(G7:G60) -> 0
C62: II.Montáže, doprava, ostatní náklady
A63: 41 | C63: Montážní práce | D63: hod | E63: 48 | G63: =E63*F63 -> 0
A64: 42 | C64: Zkoušky a prohlídky elektrických rozvodů a zařízení celková prohlídka a vyhotovení revizní zprávy pro objem montážních prací do 100 tis. Kč | D64: hod | E64: 8 | G64: =E64*F64 -> 0
A65: 43 | C65: Dopravné | D65: ks | E65: 1 | G65: =E65*F65 -> 0
A66: 44 | C66: Kompletační práce | D66: hod | E66: 8 | G66: =E66*F66 -> 0
A67: 45 | C67: Revize | D67: ks | E67: 1 | G67: =E67*F67 -> 0
A68: 46 | C68: Vedlejší náklady | D68: ks | E68: 1 | G68: =E68*F68 -> 0
C69: Mezisoučet ostatní náklady a dopravy | G69: =SUM(G63:G68) -> 0
C72: Cena celkem bez DPH | G72: =SUM(G69,G61) -> 0
C73: DPH 21% | G73: =SUM(G72*0.21) -> 0
C74: Cena celkem s DPH | G74: =SUM(G72:G73) -> 0

Sheet SO 703
C1: Rozpočet
C2: název stavby
C3: NÁMĚSTÍ BĚCHOVICE
C6: název části stavby
C7: SO 703 Drobná architektura
A13: 1 | C13: Rekapitulace nákladů
A14: 2 | C14: SO 703 Drobná architektura | D14: Kč | G14: =G44 -> 0
A15: 3
A16: 4 | C16: ZRN mezisoučet bez DPH 21% | D16: Kč | G16: =SUM(G14:G15) -> 0
A17: 5 | C17: VRN - GZS | D17: Kč | E17: 0.03 | G17: =G16*E17 -> 0
A18: 6 | C18: celkem bez DPH 21% | D18: Kč | G18: =SUM(G16:G17) -> 0
A19: 7 | C19: DPH 21% | D19: Kč | E19: 0.21 | G19: =G18*E19 -> 0
A20: 8
A21: 9 | C21: Náklady celkem včetně DPH 21% | D21: Kč | G21: =SUM(G18:G19) -> 0
A22: 10
A23: p.č. | C23: popis | D23: m. j.. | E23: počet m.j.. | F23: jednotková cena / m.j. | G23: cena celkem
A24: 12 | C24: 1)Soupis prací a dodávek je zpracován dle Vyhlášky 169 ze dne 12.05.2016
A25: 13 | C25: 2) Neopominutelným podkladem pro ocenění je projektová dokumentace.
A26: 14 | C26: 3) Při oceňování díla stavební firmou je PD a TZ technicky i technologicky nadřazena soupisu prací a dodávek s výkazem výměr . Zhotovitel díla odpovídá za to, že provedl kontrolu kompletnosti seznamu operací v soupise prací a dodávek s výkazem výměr a do své nabídky zahrnul veškeré dodávky a kompletní provedení prací nutné k provedení díla, které je předmětem smlouvy a bude schopno plnit svoji funkci po dobu několika desítek let.
A27: 15 | C27: 4) Hutnění konstrukcí nových i stávajících po demontáži. Konstrukce pro zpevnění hutnit po jednotlivých podkladních vrstvách dle PD a IGP k příslušejícímu SO.
A28: 16 | C28: 5) Detaily a podrobnosti dle PD
A29: 17 | C29: 6) Likvidace kovových částí: Veškeré kovové části budou před odvozem k prodeji zváženy a jejich hmotnost zapsána do Stavebního deníku. Následně budou odvezeny a prodány jako druhotné suroviny do Kovošrotu za cenu platnou v den prodeje. Jejich výtěžek bude poslán na účet investora ve výši ceny platné v den prodeje.
A30: 18 | C30: 7) Jednotková cena obsahuje přesun hmot, není-li uvedeno samostatně.
A31: 19 | C31: 8) Výměry jsou vykázány odměřením nebo změřeno digitálně z výkresů PD k příslušnému SO
A32: 20 | C32: 9)Hutnění konstrukcí nových i stávajících (po demontáži nášlapných vrstev s ložem): konstrukce pro zpevnění hutnit po jednotlivých podkladních vrstvách dle PD
A33: 21 | C33: 10) Detaily a podrobnosti dle PD
A34: 22 | C34: 11) Spárořez dle PD
A35: 23 | C35: 12) Zemní práce dle DP a IGP
... A43: 31 | C43: 20) Přesuny hmot jsou započítány v ceně, není-li uvedeno jinak.
A44: 32 | C44: SO 703 Drobná architektura, podrobnosti viz. PD SO 703 - M01-M21 | D44: Kč | G44: =SUM(G46:G187) -> 0
A45: 33 | C45: M01-Lavička s opěradlem (atypická)- kompletní provedení, podrobnosti viz. PD SO 703 - M01
A46: 34 | B46: D+M | C46: Svařovaná ocelová konstrukce bočnic lavičky opatřená antikorozní úpravou s finální barevností RAL 7016 antracitová šedá, zabroušené sváry, sražené hrany, dřevěné latě sibiřský modřín kotvené nerezovými vruty s hvězdičkovitou hlavou sražené hrany, poznámka: délka nohy bude přizpůsobena tloušťce navazující dlažby. 4 ks jsou umístěny v dlažbě tl. 120 mm - tzn. noha lavičky bude delší o 60 mm, kotveno chemickými kotvami do betonového základu | D46: ks | E46: 12 | G46: =E46*F46 -> 0
A47: 35 | B47: 131213101 | C47: Hloubení jam v soudržných horninách třídy těžitelnosti I, skupiny 3 ručně | D47: m3 | E47: =E48 -> 5.184 | G47: =E47*F47 -> 0
A48: 36 | B48: 272311511 | C48: Betonová patka pro lavičku C 12/15 ; výměra 0,60*0,60*0,60*2*12 | D48: m3 | E48: =0.6*0.6*0.6*2*12 -> 5.184 | G48: =E48*F48 -> 0
A49: 37 | B49: 162251101 | C49: Vodorovné přemístění do 20 m výkopku/sypaniny z horniny třídy těžitelnosti I, skupiny 1 až 3 na meziskládku a zpět do zásypů | D49: m3 | E49: =E47 -> 5.184 | G49: =E49*F49 -> 0
A50: 38 | B50: 174151101 | C50: Zásyp sypaninou se zhutněním | D50: m3 | E50: =E48 -> 5.184 | G50: =E50*F50 -> 0
A51: 39 | B51: 953961200 | C51: Kotvení chemickými kotvami 4ks*M12*dl.165mm*2*12 včetně vyvrtání děr do betonového základu | D51: ks | E51: =4*2*12 -> 96 | G51: =E51*F51 -> 0
A52: 40 | C52: M02. Kruhová lavička bez opěradla (celý kruh kolem paty stromu)
A53: 41 | B53: D+M | C53: Sestava obloukových laviček na centrální noze, bez opěradla, poloměr oblouku cca 2000 mm, výseč jedné lavičky 45 stupňů. charakter konstrukce: ocelová konstrukce spojená s dřevěnými deskami pomocí šroubových spojů z nerezu. povrchová úprava: ocelová konstrukce bočnic je opatřena ochrannou vrstvou zinku a práškovým vypalovacím lakem ral 7016 antracitová šedá matná. každý segment lavičky má ocelovou konstrukci s šestnácti deskami z masivního dřeva lichoběžníkového tvaru obdélníkového průřezu délky 500 mm, tropické dřevo. skryté kotvení každé nohy do betonového základu 400x400x400 mm pomocí závitových tyčí 4x M12x165, průměr vrtání 14 mm, délka vrtání cca 130 mm, na jeden kruh celkem 8 betonových základů, beton C12/15, cca 0,064 m3, po výběru konkrétního výrobku lavičky bude v rámci dokumentace RDS dořešen detail návaznosti lavičky na kamenný obrubník a dlažbu, kompletní provedení. | D53: ks | E53: 24 | G53: =E53*F53 -> 0
A54: 42 | B54: D+M | C54: Průběžná noha pro stavebnici do oblouku - pro lavičky s dřevěnou výplní, kompletní provedení | D54: ks | E54: 24 | G54: =E54*F54 -> 0
A55: 43 | B55: D+M | C55: Spodní stavba - skryté kotvení každé nohy do betonového základu 400x400x400 mm pomocí závitových tyčí 4xM12x165mm dl. , průměr vrtání 14 mm, délka vrtání cca 130 mm, na jeden kruh celkem 8 betonových základů, beton C12/15, výměra: betonový základ C12/15 0,40*0,40*0,40*8*3 +výkop zeminy: 0,40*0,40*0,70*8*3 + + chemické kotvy 4*M12 dl.165mm*8*3- kompletní provedení | D55: ks | E55: 24 | G55: =E55*F55 -> 0
A56: 44 | B56: 71277R0019 | C56: Ochrana před prorůstáním kořenů kolem základů osvětlovacích těles (ochrana vrstvy z rohoží nebo desek) výměry : cca 25,0m2*9ks | D56: ks | E56: 24 | G56: =E56*F56 -> 0
A57: 45 | C57: M03. Lehátko, dl. 1630mm
A58: 46 | B58: D+M | C58: Charakter konstrukce: ocelová konstrukce spojená s dřevěnými deskami a lamelami nerezovými šroubovými spoji. nosná kostra: bočnice svařené z ocelových trubek obdélníkového průřezu a z výpalků z ocelového plechu. sedák: desky a lamely z masivního tropického dřeva obdélníkového průřezu. povrchová úprava: ocelová konstrukce bočnic je opatřena ochrannou vrstvou zinku a práškovým vypalovacím lakem RAL7016 antracitová šedá matná. kotvení na dlažbu do betonového základu pomocí závitových tyčí M10. | D58: ks | E58: 6 | G58: =E58*F58 -> 0
A59: 47 | B59: D+M | C59: Spodní stavba - kotvení do betonového základu cca 250x800x200 mm pomocí závitových tyčí 4xM10x165mm dl. na jedno lehátko 2 základy, beton C12/15, výměra: betonový základ C12/15 0,25*0,80*0,20*2*6 +výkop zeminy: 0,25*0,80*0,40*2*6 + chemické kotvy 4*M10 dl.165mm*6 - kompletní proveden | D59: ks | E59: 6 | G59: =E59*F59 -> 0
A60: 48 | C60: M04. Krátké lavičky s opěradlem – židle, (atypické)- kompletní provedení, podrobnosti viz. PD SO 703 - M04
A61: 49 | B61: D+M | C61: Svařovaná ocelová konstrukce bočnic lavičky opatřená antikorozní úpravou s finální barevností RAL 7016 antracitová šedá, zabroušené sváry, sražené hrany, dřevěné latě sibiřský modřín kotvené nerezovými vruty s hvězdičkovitou hlavou sražené hrany, poznámka: délka nohy bude přizpůsobena tloušťce navazující dlažby. 4 ks jsou umístěny v dlažbě tl. 120 mm - tzn. noha lavičky bude delší o 60 mm, kotveno chemickými kotvami do betonového základu | D61: ks | E61: 14 | G61: =E61*F61 -> 0
A62: 50 | B62: 131213101 | C62: Hloubení jam v soudržných horninách třídy těžitelnosti I, skupiny 3 ručně | D62: m3 | E62: =E63 -> 5.04 | G62: =E62*F62 -> 0
A63: 51 | B63: 272311511 | C63: Betonová patka pro lavičku C 12/15 ; výměra 0,60*0,60*1,00*14 | D63: m3 | E63: =0.6*0.6*1*14 -> 5.04 | G63: =E63*F63 -> 0
A64: 52 | B64: 162251101 | C64: Vodorovné přemístění do 20 m výkopku/sypaniny z horniny třídy těžitelnosti I, skupiny 1 až 3 na meziskládku a zpět do zásypů | D64: m3 | E64: =E62 -> 5.04 | G64: =E64*F64 -> 0
A65: 53 | B65: 174151101 | C65: Zásyp sypaninou se zhutněním | D65: m3 | E65: =E64 -> 5.04 | G65: =E65*F65 -> 0
A66: 54 | B66: D+M | C66: Kotvení chemickými kotvami 4ks*M12*dl.165mm*2*14 včetně vyvrtání děr do betonového základu | D66: ks | E66: =4*2*14 -> 112 | G66: =E66*F66 -> 0
A67: 55 | C67: M05. Odpadkový koš
A68: 56 | B68: D+M | C68: Odpadkový koš čtvercového půdorysu opláštěný dřevěnými lamelami, se stříškou, objem nádoby 50 l charakter konstrukce: ocelová konstrukce s dřevěnými lamelami připojenými pomocí šroubových spojů z nerezu. ocelová konstrukce je opatřena ochrannou vrstvou zinku a práškovým vypalovacím lakem. nosnou kostru tvoří svařenec z výpalků z ocelového plechu tloušťky 4 mm a trubky průřezu 80x80x3. opláštění tvoří: 4 lamely z masivního tropického dřeva lichoběžníkového průřezu 15×37×67×804 mm, 12 lamel z masivního tropického dřeva lichoběžníkového průřezu 15×67×67×804 mm. vnitřní nádoba - ohýbaný pozinkovaný plech tloušťky 0,8 mm, objem 50 l. barevnost ocelové konstrukce: ral 7016 antracitová šedá. kotvení pod dlažbu nebo ve zhutněném terénu do betonového základu pomocí závitových tyčí M12. | D68: ks | E68: 6 | G68: =E68*F68 -> 0
A69: 57 | B69: D+M | C69: Spodní stavba - skryté kotvení každé nohy do betonového základu 400x400x400 mm pomocí závitových tyčí 4xM12x165mm dl., beton C12/15, výměra: betonový základ C12/15 0,40*0,40*0,40*3 +výkop zeminy: 0,40*0,40*0,60*3 + chemické kotvy 4*M12 dl.165mm*3- kompletní provedení | D69: ks | E69: 24 | G69: =E69*F69 -> 0
A70: 58 | C70: M06. Piknikové sezení
A71: 59 | B71: D+M | C71: Sestava stolu a lavic bez opěradel, délka 1,8 m, charakter konstrukce: ocelová konstrukce spojená s dřevěnými deskami pomocí šroubových spojů z nerezu. nosná kostra: svařence ocelových plechů. sedáky a deska stolu: desky z masivního dřeva obdélníkového průřezu - tropické dřevo. povrchová úprava: ocelová konstrukce je opatřena ochrannou vrstvou zinku a práškovým vypalovacím lakem RAL 7016 antracitová šedá matná. kotveno na dlažbu do betonového základu pomocí závitových tyčí. | D71: ks | E71: 2 | G71: =E71*F71 -> 0
A72: 60 | B72: D+M | C72: Spodní stavba - kotvení do betonového základu 240x1493x200 mm pomocí závitových tyčí 4xM12x165mm dl., beton C12/15, výměra: betonový základ C12/15 0,240*1,493*0,20*2*3 + výkop zeminy: 0,24*1,493*0,40*2*3 + chemické kotvy 4ks*M12 dl.165mm*3- kompletní provedení | D72: ks | E72: 2 | G72: =E72*F72 -> 0
A73: 61 | C73: M07. Stojan na kola
A74: 62 | B74: D+M | C74: Stojan na kola umožňující opření a zamknutí rámu kola ke stojanu. Charakter konstrukce: odlitek ze slitiny hliníku. Určen pro obsazení třemi koly. Povrchová úprava: odlitek opatřen práškovým vypalovacím lakem. Tělo: odlitek ze slitiny hliníku. Rozměry 555x610x880mm. Barevnost: RAL 7016 antracitová šedá - polyesterový práškový lak v jemné struktuře mat Kotvení: kotvení na dlažbu do betonového základu pomocí závitových tyčí. | D74: ks | E74: 6 | G74: =E74*F74 -> 0
A75: 63 | B75: D+M | C75: Spodní stavba - kotvení do betonového základu 450x800x350 mm pomocí závitových tyčí 4xM10x200mm dl., beton C12/15, výměra: betonový základ C12/15 0,45*0,80*0,35*2*6 +výkop zeminy: 0,45*0,80*0,55*2*6+ chemické kotvy 4ks*M10 dl.200mm*6- kompletní provedení | D75: ks | E75: 6 | G75: =E75*F75 -> 0
A76: 64 | C76: M08. Venkovní knihovna
A77: 65 | B77: D+M | C77: Svařovaná ocelová konstrukce š. 545mm x dl. 575mm x v.2200mm (podrobnosti viz. SO 703 Drobná architektura) z plechů tl. 5 mm, zabroušené sváry, žárově zinkovaná, opatřená nátěrovým systémem s finální barevností RAL 7016 antracitová šedá matná. Police dřevěné, spárovka, sibiřský modřín, tl. 18 mm, Dveře: ocelový rám žárově zinkovaný, opatřený nátěrovým systémem s finální barevností RAL 7016 antracitová šedá matná, zasklení čirým bezpečnostním sklem, ocelové madlo délky 300 mm, samozavírací systém, těsnění dveří proti vniku vlhkosti Kotvení do betonového základu na 4 chemické kotvy. Před výrobou bude předložena výrobní dokumentace k odsouhlasení hlavnímu architektovi projektu. Včetně dopravy na místo a ukotvení do základu. Základ na stropní desce podzemní nádrže na vodu. | D77: ks | E77: 1 | G77: =E77*F77 -> 0
A78: 66 | B78: D+M | C78: Spodní stavba - kotvení do betonového základu cca 960x960x360mm pomocí 4x chemických kotev, beton C25/30 vyztužen kari sítí, výměra: betonový základ C25/30 (0,96*0,96*0,13+0,72*0,72*0,1+0,42*0,42*0,13)*2 +výkop zeminy: 0,96*0,96*0,56*2+ chemické kotvy 4ks - kompletní provedení, doprava a montáž na místě | D78: ks | E78: 1 | G78: =E78*F78 -> 0
A79: 67 | C79: M09. Mříž ke stromům
A80: 68 | B80: D+M | C80: Hranatá mříž z vypalované oceli je sestavena z roštů ležících na dvoudílném ocelovém rámu. Mříž je opatřena základním antikorozním nátěrem a syntetickou vrchní barvou s barevností RAL 7016 antracitová šedá. Rozměr 1500x1500mm. Kompletní provedení, doprava, příprava a montáž na místě. | D80: ks | E80: 8 | G80: =E80*F80 -> 0
A81: 69 | C81: M10. Zábradlí schodiště u fontány
A82: 70 | B82: D+M | C82: Svařovaná ocelová konstrukce z Jaklů 40x40x4 mm, rozměry (1985+160mm dl. )+1060mm*2 v., 4ks a patních plechů, zabroušené sváry, žárově zinkovaná konstrukce, opatřená nátěrovým systémem s finální barevností RAL 7016 antracitová šedá matná. Kotveno do betonové podkladní části schodiště. Chemická kotva 4 x M12 x 165 ∅15 mm průměr vrtání, detail kotvení viz RDS. Kompletní provedení, doprava, příprava a montáž na místě., výměry: (1,985+0,160+1,06*2)bm*4,10kg*4ks, patní plechy 1,00kg*2ks*4ks | D82: kg | E82: =(1.985+0.16+1.06*2)*4.1*4+1*2*4 -> 77.946 | G82: =E82*F82 -> 0
A83: 71 | C83: M11 + M12. zábradlí schodiště
A84: 72 | C84: svařovaná ocelová konstrukce z jacklů 40x40x4 mm a patních plechů, zabroušené sváry, žárově zinkovaná konstrukce, opatřená nátěrovým systémem s finální barevností RAL7016 antracitová šedá matná. Kotveno do betonové podkladní části schodiště. Chemická kotva 4 x M12 x 165 ∅15 mm průměr vrtání, detail kotvení viz RDS. Kompletní provedení, doprava, příprava a montáž na místě., výměry: ((2,71+0,160+1,06*1+1,10*2)+(0,90+0,16+1,06+1,09))bm*4,10kg, patní plechy 1,00kg*5ks | D84: kg | E84: =((2.71+0.16+1.06*1+1.1*2)+(0.9+0.16+1.06+1.09))*4.1+1*5 -> 43.294 | G84: =E84*F84 -> 0
A85: 73 | C85: Chemická kotva 4 x M12 x 165 ∅15 mm průměr vrtání, detail kotvení viz RDS, včetně vyvrtání děr do betonového základu | D85: ks | E85: =4*8+4*5 -> 52 | G85: =E85*F85 -> 0
A86: 74 | B86: D+M | C86: Všechny nadzemní OK budou žárově zinkovány ponořením v horké lázni viz PD - včetně svarů, šroubů, kotev, atd., včetně dopravy, kompletní provedení | D86: kg | E86: =E82+E84 -> 121.24 | G86: =E86*F86 -> 0
A87: 75 | C87: Poznámka : všechny svary na viditelných konstrukcích budou před nátěrem zabroušeny tak, aby se o ně nikdo nezranil.
A88: 76 | C88: Beton C25/30 XF2 ČSN EN 206-1, základové patky pro zábradlí, detail kotvení viz RDS, výměra:0,40bm*0,40*0,40*8ks+0,40bm*0,40*0,40*5ks | D88: m3 | E88: =0.4*0.4*0.4*(8+5) -> 0.832 | G88: =E88*F88 -> 0
A89: 77 | C89: M13. Skluzavka
A90: 78 | C90: Specifikace nerezové zahnuté skluzavky: Koryto 2,1m nástupní výška, 60cm šířka (dostatečná pro dospělého), materiál 1.4301 - nerez, zatáčky cca. 140 stupňů, podpěrné nohy, certifikace. Před výrobou budou předloženy vzorky materiálu a výrobků k odsouhlasení hlavnímu architektovi projektu. Kompletní provedení včetně kotvení k základu chemickými kotvami, doprava a montáž. | D90: ks | E90: 1 | G90: =E90*F90 -> 0
A91: 79 | C91: Betonové patky pro skluzavku vytvořeny v souladu s dokumentací RDS. | D91: m3 | E91: =1*1.2*5.8 -> 6.96 | G91: =E91*F91 -> 0
A92: 80 | C92: Chemické kotvy, kotvení skluzavky do betonových patek, bližší specifikace v RDS. | D92: ks | E92: =6*6 -> 36 | G92: =E92*F92 -> 0
A93: 81 | C93: M14. Informační vitrína
A94: 82 | B94: D+M | C94: Osvětlená vitrína, jednostranná, samostatně stojící, s ocelovou plochou na magnety Charakter konstrukce: ocelová konstrukce je řešena jako dvoudílný výrobek, kde zadní část tvoří skříň vitríny a přední otvíratelné okno vitríny; celá sestava je postavena na dvou robustních nohách; do skříně je vsazena veškerá elektro výbava tohoto zařízení. Použití: vitrína slouží jako osvětlený nosič informačních nebo i reklamních plakátů; je konstruována do venkovního prostředí. povrchová úprava: ocelová konstrukce je opatřena ochrannou vrstvou zinku a také práškovým vypalovacím lakem. Hlavní rám: svařenec tvořený obdélným uzavřeným profilem 70×50 mm a u–profilem 70×40 mm; slouží jako nosič elektro rámu a plexisklových desek upevněných přes plastové úchyty; zajišťuje odvětrání vitríny pomocí diagonálně umístěných otvorů s krycí nerezovou mřížkou proti hmyzu.
A95: 83 | C95: Okno: svařenec obdélného ocelového profilu 50×20 mm, na němž je nalepeno sklo a našroubovány krycí lišty - horizontální (ohýbané z hliníkového plechu) a vertikální (hliníková tyč plochého průřezu); rám okna nese zámek vitríny, těsnění a úchyty plakátů; okno v otevřeném stavu drží dvě plynové vzpěry 450n. Zadní stěna: je obdobný svařenec ocelového profilu 50×20 mm jako okno, uzavřený pozinkovaným krycím plechem. Uchycení informačních materiálů: je řešeno buď pomocí magnetů Elektro výbava: všechny elektro prvky jsou namontovány uvnitř skříně; ta nese 2 trubice T8, každá s výkonem 36W. V trubici jsou integrovány patice, svorkovnice pro připojení el. přívodu, elektronické předřadníky a jistič kombinovaný s proudovým chráničem; elektrický přívod nohou vitríny. Základní technické údaje (elektro): typ sítě: 1npe 50 hz, 230 v, ac, tn-s. jištění – jednofázový jistič kombinovaný s proudovým chráničem 10A (b10/1n/003).Instalovaný výkon: cca 0,1 kVa. barevnost: RAL 7016 antracitová šedá - polyesterový práškový lak v jemné struktuře mat. Kotvení: kotvení na zhutněném terénu do betonového základu pomocí závitových tyčí M12. | D95: ks | E95: 1 | G95: =E95*F95 -> 0
A96: 84 | B96: D+M | C96: Spodní stavba - kotvení do betonového základu 600x800x400mm pomocí závitových tyčí 4xM12x165mm dl., beton C12/15, výměra: betonový základ C12/15 0,60*0,80*0,40*2 +výkop zeminy: 0,60*0,80*0,60*2+ chemické kotvy 4ks*M12 dl.165mm*2- kompletní provedení | D96: ks | E96: 1 | G96: =E96*F96 -> 0
A97: 85 | C97: Podsyp štěrkodrtí, fr 16-32mm, zhutněno, výměra: 0,60*0,80*0,20*2 | D97: m3 | E97: =0.6*0.8*0.2*2 -> 0.192 | G97: =E97*F97 -> 0
A98: 86 | C98: M15. Orientační rozcestník
A99: 87 | C99: Orientační rozcestník výšky cca 3,2 m Charakter konstrukce: ocelová konstrukce sloupu doplněná orientačními směrovkami ze slitiny hliníku povrchová úprava: ocelová konstrukce sloupu je opatřena ochrannou vrstvou zinku a práškovým vypalovacím lakem s barevností ral 7016 antracitová šedá Hliníkové směrovky jsou opatřeny práškovým vypalovacím lakem a potiskem dle přání stavebníka. dodavatel stavby vypracuje návrh popisů směrovek a předloží ho k odsouhlasení stavebníkovi a architektovi. Nosná kostra: sloup z ocelových trubek 89 × 5 mm a 48,3 × 2,6 mm a výpalků z plechu tloušťky 5 a 10 mm objímky: ocelová konstrukce z trubky 89 × 5 mm a výpalků z plechu tloušťky 10 mm Směrovky: hliníkový profil obdélného průřezu 120 × 695 × 15 mm zakončený plastovou záslepkou osazený na objímce Severní rozcestník - směrovky ve třech patrech nad sebou, na rozcestníku celkem 6 směrovek Jižní rozcestník - směrovky ve čtyřech patrech nad sebou, na rozcestníku celkem 12 směrovek Kotvení: kotvení pod dlažbu nebo trávník do betonového základu pomocí závitových tyčí M16 hmotnost: 36÷72 kg (dle počtu směrovek)
A100: 88 | B100: D+M | C100: Nosná kostra: sloup z ocelových trubek 89 × 5 mm a 48,3 × 2,6 mm a výpalků z plechu tloušťky 5 a 10 mm | D100: ks | E100: 2 | G100: =E100*F100 -> 0
A101: 89 | B101: D+M | C101: Směrovky: hliníkový profil obdélného průřezu 120 × 695 × 15 mm zakončený plastovou záslepkou osazený na objímce. Severní rozcestník - směrovky ve třech patrech nad sebou, na rozcestníku celkem 6 směrovek Jižní rozcestník - směrovky ve čtyřech patrech nad sebou, na rozcestníku celkem 12 směrovek | D101: ks | E101: 18 | G101: =E101*F101 -> 0
A102: 90 | B102: D+M | C102: Spodní stavba - skryté kotvení do betonového základu 750x750x600mm pomocí závitových tyčí 4ksxM12x165mm dl., beton C12/15, výměra: betonový základ C12/15 0,75*0,75*0,60*2 +výkop zeminy: 0,75*0,75*0,80*2+ chemické kotvy 4ks*M12 dl.165mm*2- kompletní provedení | D102: ks | E102: 2 | G102: =E102*F102 -> 0
A103: 91 | C103: Doprava mobiliáře na místo (M02, M03, M05-M07, M14, M15) | D103: ks | E103: 1 | G103: =E103*F103 -> 0
A104: 92 | C104: Doprava montážní čety (M02, M03, M05-M07, M14, M15) | D104: ks | E104: 1 | G104: =E104*F104 -> 0
A105: 93 | C105: Doprava montážní čety v předstihu pro zhotovení spodních staveb (M02, M03, M05-M07, M14, M15) | D105: ks | E105: 1 | G105: =E105*F105 -> 0
A106: 94 | C106: Přípatek za montáž na žulový skládaný povrch | D106: ks | E106: 2 | G106: =E106*F106 -> 0
A107: 95 | C107: M16. Herní prvek
A108: 96 | B108: D+M | C108: Technická charakteristika: vertikální kolotoč "pračka", šířka: 560 mm, výška: 1420 mm, délka: 1370 mm, věk uživatele: 6+, barevnost: limetkově zelená, před výrobou bude předložena výrobní dokumentace k odsouhlasení hlavnímu architektovi projektu. Včetně dopravy a montáže. | D108: ks | E108: 1 | G108: =E108*F108 -> 0
A109: 97 | C109: Výkop pro základové betonové patky, včetně zhutnění podloží, vel. 1000 x 1000x 150 mm, + příprava pro kotvení Herního prvku, kompletní provedení | D109: ks | E109: 1 | G109: =E109*F109 -> 0
A110: 98 | B110: D+M | C110: Betonový základ 1000 x 1000x 150 mm cca C25/30 viz. RDS, výztuž ∅ 8 mm, á 100 mm, kompletní provedení | D110: ks | E110: 1 | G110: =E110*F110 -> 0
A111: 99 | C111: Bezpečný polyuretanový povrch EPDM 35mm (25mm SBR + 10mm EPDM)- HIC 1,6m v dané barevnosti
A112: 100 | C112: Vrchní vrstva - Celoprobarvený EPDM (Ethylen Propylen Diene Monomer) - gumový granulát je povrch v barevných odstínech je dopadová plocha dle ČSN EN 1177 - (uměle vyrobený kaučuk).
A113: 101 | C113: Základní vrstva - Spodní vysoce elastická vrstva SBR granulátu (Starene Butadene Rubber) (recyklovaná technická guma smíchaná se speciálním polyuretanovým pojivem).
A114: 102 | B114: D+M | C114: 1. Barva EPDM tmavě zelená (pod prvky M13. Skluzavka a M16. Herní prvek ), kompletní provedení | D114: m2 | E114: =2.35+5.35 -> 7.7 | G114: =E114*F114 -> 0
...

Sheet SO 801
A1: akce: | D1: =+'[2]Rekapitulace projektu'!D1 -> Náměstí Běchovice
A2: investor : | D2: =+'[2]Rekapitulace projektu'!D2 -> Městská část Praha – Běchovice, Českobrodská 3, 190 11 Praha – Běchovice
A3: zpracoval: | D3: =+'[2]Rekapitulace projektu'!D3 -> Ing. Tomáš Pilař
A4: datum: | D4: =+'[2]Souhrn SO'!D4 -> 44301
I5: cena za objekt (součet dílčích položek):
A6: díl: | D6: SO 801 Vegetační úpravy | I6: =+SUM(I9:I134) -> 0 | J6: Kč
A8: klasifi kace | B8: číslo položky | C8: technologie | D8: položka | E8: počet/ koeficient položky pro technologii | F8: m.j. | G8: cena/m.j. (Kč) | H8: cena za položku v rámci techno logie (Kč) | I8: cena za položku (Kč) | J8: komentář/ dílčí výpočet
C9: výsadba soliterních stromů vel. 16-18 výpočet: +1+ 1+1+4+2+4+2+4 | E9: 19 | F9: ks | I9: =+E9*G9 -> 0 | J9: Hloubení jamky 250L s 50% výměnou půdy, dodání dřevin - školkařské výpěstky vel 16-18, stromy s balem, výsadba dřevin s balem, tříbodové kotvení (kůly min 2 m délky, prům. 6 cm, příčky 50 cm, úvazku podložené jutou), ochrana kmene rákosovou rohoží výšky min 150 cm), zásobní hnojení s dlouhodobou účinností, zahrnutí 50 g/ strom (ref. Silvamix), vytvoření stromové mísy, zálivka, mulč stromové mísy 10cm; komparativní řez
A10: T | B10: 183 10-1215/R | D10: hloubení jamek 0,125-0,40 m3 s 50% výměnou půdy půdy v rovině | E10: 1 | F10: ks | H10: =+E10*G10 -> 0
A11: M | D11: dodání ornice (0,15m3/strom) | E11: 0.125 | F11: m3 | H11: =+E11*G11 -> 0
A12: T | B12: 184 10-2114/R | D12: výsadba dřeviny s balem 50-60 cm v rovině | E12: 1 | F12: ks | H12: =+E12*G12 -> 0
A13: M | D13: dodání stromů (školkařské výpěstky s balem vel. 14-16) | E13: 1 | F13: ks | H13: =+E13*G13 -> 0 | J13: rostlinný materiál za technologii celkem: ApG: Acer platanoides ' Globosum' 3ks GtS: Gleditsia triacanthos 'Sunburst' 10ks Kp: Koeleuteria paniculata 2ks Ph: Platanus x hispanica 4ks
A14: T | B14: 185 80-2114/R | D14: hnojení minerálním hnojivem 40g/ks k vysazovaným rostlinám v rovině | E14: 0.05 | F14: kg | H14: =+E14*G14 -> 0
A15: M | D15: dodání dlouhodobě působícího hnojiva (ref Silvamix) | E15: 0.05 | F15: kg | H15: =+E15*G15 -> 0
A16: T | B16: 184 21-5133/R | D16: ukotvení dřeviny 3mi kůly 2-3m | E16: 1 | F16: ks | H16: =+E16*G16 -> 0
A17: M | D17: dodání kůlů a příček | E17: 1 | F17: sada | H17: =+E17*G17 -> 0 | J17: kůly 2,5m
A18: T | B18: 184 50-1141/R | D18: zhotovení obalu kmene z rákosové rohože v rovině | E18: =1.5*0.45 -> 0.675 | F18: m2 | H18: =+E18*G18 -> 0 | J18: rohož 1,5 m výšky, rozvinutá délka do 45 cm
A19: M | D19: dodání rákosové rohože ke krytí kmene | E19: =+E18 -> 0.675 | F19: m2 | H19: =+E19*G19 -> 0
A20: T | B20: 184 21-5413/R | D20: zhotovení závlahové mísy přes 1m u soliterních dřevin v rovině | E20: 1 | F20: ks | H20: =+E20*G20 -> 0
A21: T | B21: 184 91-1421/R | D21: mulčování borkou nebo štěpkou do 100mm | E21: 2 | F21: m2 | H21: =+E21*G21 -> 0
A22: M | B22: 185 91-1421/R | D22: dodání štěpky | E22: 0.1 | F22: m3 | H22: =+E22*G22 -> 0
A23: T | B23: 184 80-1121/R | D23: ošetření vysazených dřevin | E23: 1 | F23: ks | H23: =+E23*G23 -> 0
C25: rozvojová péče o výsadbu stromů 3 roky | E25: =+E9 -> 19 | F25: ks | I25: =+E25*G25 -> 0 | J25: v prvním roce: odplevelení stromové mísy 1x, zavlažování 16 x (50L), oprava poškozených úvazků a bandážování kmene; v druhém roce: zálivka 12 x (50L), ve třetím roce: zálivka 6 x (50L), odstranění opěr a bandážování kmene
A26: T | B26: 184 80-2613/R | D26: chemické odplevelení po založení kultury hnízdově | E26: 1.5 | F26: m2 | H26: =+E26*G26 -> 0 | J26: 20% plochy 3x, včetně přípravků
A27: T | B27: 184 91-1111/R | D27: znovuuvázání dřeviny ke stávajícímu kůlu | E27: 1 | F27: ks | H27: =+E27*G27 -> 0
A28: R | B28: 185 80-4311/R | D28: zalití ploch vodou, plochy do 20 m2 | E28: =(16+16+8)*0.05 -> 2 | F28: m3 | H28: =+E28*G28 -> 0 | J28: 50L/ks 40x, včetně vodného, odběr z řadu
A29: T | B29: 184 21-5173/R | D29: odstraněná kůlů | E29: 1 | F29: ks | H29: =+E29*G29 -> 0
A30: T | B30: 184 50-1181/R | D30: odstranění ochrany kmene | E30: 1 | F30: m2 | H30: =+E30*G30 -> 0
C32: výsadba soliterních stromů vel. 16-18 s kotvením za kořenový bal výpočet: +4+4+12 | E32: 20 | F32: ks | I32: =+E32*G32 -> 0 | J32: Hloubení jamky 800L se 100% výměnou půdy za lávový substrát (ref Gramoflor Vulkatec), dodání dřevin - školkařské výpěstky vel 16-18, stromy s balem, výsadba dřevin s balem, kotvení za kořenový bal (ref KOTVOS KSB-Z1), ochrana kmene rákosovou rohoží výšky min 150 cm), zásobní hnojení s dlouhodobou účinností, zahrnutí 50 g/ strom (ref. Silvamix), vytvoření stromové mísy, zálivka; komparativní řez - stromy v dlažbě: stromová mříž je obsahem jiné části dokumentace - stromy v rastru vedle kaple bez výměny substrátu (lávový substrát Vulkatec je použitý celoplošně v tl. min 350 mm jako podkladová vrstva dlažby)
A33: T | B33: 183 10-1321/R | D33: hloubení jamek 0,40-1,0 m3 se 100% výměnou půdy půdy v rovině | E33: 1 | F33: ks | H33: =+E33*G33 -> 0
A34: M | D34: dodání lávového substrátu (0,8m3/strom) | E34: 0.8 | F34: m3 | H34: =+E34*G34 -> 0
A35: T | B35: 184 10-2114/R | D35: výsadba dřeviny s balem 50-60 cm v rovině | E35: 1 | F35: ks | H35: =+E35*G35 -> 0
A36: M | D36: dodání stromů (školkařské výpěstky s balem vel. 16-18) | E36: 1 | F36: ks | H36: =+E36*G36 -> 0 | J36: rostlinný materiál za technologii celkem: Kp: Koeleuteria paniculata 8ks Ph_u: Platanus x hispanica ("_u" = "umbrella shape" - ve školce zapěstovaná plochá koruna) 12ks
A37: T | B37: 185 80-2114/R | D37: hnojení minerálním hnojivem 50g/ks k vysazovaným rostlinám v rovině | E37: 0.05 | F37: kg | H37: =+E37*G37 -> 0
A38: M | D38: dodání dlouhodobě působícího hnojiva (ref Silvamix) | E38: 0.05 | F38: kg | H38: =+E38*G38 -> 0
A39: T | B39: 184 21-5211/R | D39: ukotvení dřeviny podzemním kotvením do obvodu kmene 25 cm | E39: 1 | F39: ks | H39: =+E39*G39 -> 0
A40: M | D40: dodání sady pro kotvení za kořenový bal do obvodu kmene 20 cm | E40: 1 | F40: sada | H40: =+E40*G40 -> 0
A41: T | B41: 184 50-1141/R | D41: zhotovení obalu kmene z rákosové rohože v rovině | E41: =1.5*0.45 -> 0.675 | F41: m2 | H41: =+E41*G41 -> 0 | J41: rohož 1,5 m výšky, rozvinutá délka do 45 cm
A42: M | D42: dodání rákosové rohože ke krytí kmene | E42: =+E41 -> 0.675 | F42: m2 | H42: =+E42*G42 -> 0
A43: T | B43: 184 21-5413/R | D43: zhotovení závlahové mísy přes 1m u soliterních dřevin v rovině | E43: 1 | F43: ks | H43: =+E43*G43 -> 0
A44: T | B44: 184 80-1121/R | D44: ošetření vysazených dřevin | E44: 1 | F44: ks | H44: =+E44*G44 -> 0
C46: rozvojová péče o výsadbu stromů 3 roky | E46: =+E32 -> 20 | F46: ks | I46: =+E46*G46 -> 0 | J46: v prvním roce: oprava bandážování kmene; ve třetím roce: odstranění bandážování kmene - prvky s automatickou závlahou po dobu rozvojové péče
A47: T | B47: 184 91-1111/R | D47: znovuuvázání dřeviny ke stávajícímu kůlu | E47: 1 | F47: ks | H47: =+E47*G47 -> 0 | J47: použito pro opravu ochrany kmene
A48: T | B48: 184 50-1181/R | D48: odstranění ochrany kmene | E48: 1 | F48: m2 | H48: =+E48*G48 -> 0
C50: výsadba soliterních stromů vel. 45-50 s kotvením za kořenový bal výpočet: +3 | E50: 3 | F50: ks | I50: =+E50*G50 -> 0 | J50: Hloubení jamky 2000L s 50% výměnou půdy za lávový substrát (ref Gramoflor Vulkatec), dodání dřevin - školkařské výpěstky vel 45-50, stromy s balem, výsadba dřevin s balem, kotvení za kořenový bal (ref KOTVOS KSB-Z3), ochrana kmene rákosovou rohoží výšky min 150 cm), zásobní hnojení s dlouhodobou účinností, zahrnutí 150 g/ strom (ref. Silvamix), vytvoření stromové mísy, zálivka; komparativní řez
A51: T | B51: 183 10-1223/R | D51: hloubení jamek 2-3 m3 s 50% výměnou půdy v rovině | E51: 1 | F51: ks | H51: =+E51*G51 -> 0
A52: M | D52: dodání lávového substrátu (1m3/strom) | E52: 1 | F52: m3 | H52: =+E52*G52 -> 0
A53: T | B53: 184 10-2119/R | D53: výsadba dřeviny s balem 120-140 cm v rovině | E53: 1 | F53: ks | H53: =+E53*G53 -> 0
A54: M | D54: dodání stromů (školkařské výpěstky s balem vel. 45-50) | E54: 1 | F54: ks | H54: =+E54*G54 -> 0 | J54: rostlinný materiál za technologii celkem: Ph: Platanus x hispanica 3ks
A55: T | B55: 185 80-2114/R | D55: hnojení minerálním hnojivem 150g/ks k vysazovaným rostlinám v rovině | E55: 0.15 | F55: kg | H55: =+E55*G55 -> 0
A56: M | D56: dodání dlouhodobě působícího hnojiva (ref Silvamix) | E56: 0.15 | F56: kg | H56: =+E56*G56 -> 0
A57: T | B57: 184 21-5213/R | D57: ukotvení dřeviny podzemním kotvením do obvodu kmene 75 cm | E57: 1 | F57: ks | H57: =+E57*G57 -> 0
A58: M | D58: dodání sady pro kotvení za kořenový bal do obvodu kmene 60 cm | E58: 1 | F58: sada | H58: =+E58*G58 -> 0
A59: T | B59: 184 50-1141/R | D59: zhotovení obalu kmene z rákosové rohože v rovině | E59: =1.5*1.8 -> 2.7 | F59: m2 | H59: =+E59*G59 -> 0 | J59: rohož 1,5 m výšky, rozvinutá délka do 180cm
A60: M | D60: dodání rákosové rohože ke krytí kmene | E60: =+E59 -> 2.7 | F60: m2 | H60: =+E60*G60 -> 0
A61: T | B61: 184 21-5413/R | D61: zhotovení závlahové mísy přes 1m u soliterních dřevin v rovině | E61: 1 | F61: ks | H61: =+E61*G61 -> 0
A62: T | B62: 184 91-1421/R | D62: mulčování borkou nebo štěpkou do 100mm | E62: 2 | F62: m2 | H62: =+E62*G62 -> 0
A63: M | D63: dodání štěpky | E63: 0.1 | F63: m3 | H63: =+E63*G63 -> 0
A64: T | B64: 184 80-1121/R | D64: ošetření vysazených dřevin | E64: 1 | F64: ks | H64: =+E64*G64 -> 0
C66: rozvojová péče o výsadbu stromů 3 roky | E66: =+E50 -> 3 | F66: ks | I66: =+E66*G66 -> 0 | J66: v prvním roce: oprava bandážování kmene; ve třetím roce: odstranění bandážování kmene - prvky s automatickou závlahou po dobu rozvojové péče
A67: T | B67: 184 91-1111/R | D67: znovuuvázání dřeviny ke stávajícímu kůlu | E67: 1 | F67: ks | H67: =+E67*G67 -> 0 | J67: použito pro opravu ochrany kmene
A68: T | B68: 184 50-1181/R | D68: odstranění ochrany kmene | E68: 1 | F68: m2 | H68: =+E68*G68 -> 0
C70: založení porostu keřů 3 ks/m2 výpočet: +4 | E70: 4 | F70: m2 | I70: =+E70*G70 -> 0 | J70: úprava terénu, odstranění nesourodých zbytků a odpadu, navážka ornice 15cm, urovnání, vyhloubení 5L (0,005m3) jamek, výměna půdy 50%; dodání a výsadba keřů 1-2L kontejner 3 ks/m2, zásobní hnojení s dlouhodobou účinností 10 g/ keř (ref. Silvamix), zahrnutí, mulčování borkou či štěpkou 5 cm V případě výsadby směsi taxonů, realizovat vždy stejnorodé plošky cca 1-2 m2)
A71: T | B71: 171 20-3111/R | D71: uložení zeminy bez zhutnění z hrubým rozhrnutím | E71: 0.15 | F71: m3 | H71: =+E71*G71 -> 0
A72: M | D72: dodání ornice (tl. 15 cm) | E72: 0.15 | F72: m3 | H72: =+E72*G72 -> 0
A73: T | B73: 181 10-1121/R | D73: úprava terénu s rozpojením , přehrnutím a urovnáním | E73: 1 | F73: m2 | H73: =+E73*G73 -> 0
A74: T | B74: 183 11-1112/R | D74: hloubení jamek bez výměny půdy do 2-5L v rovině | E74: 3 | F74: ks | H74: =+E74*G74 -> 0
A75: T | B75: 184 10-2111/R | D75: výsadba dřeviny s balem 10-20 cm v rovině | E75: 3 | F75: ks | H75: =+E75*G75 -> 0
A76: M | D76: dodání keřů 1-2L kontejner | E76: 3 | F76: ks | H76: =+E76*G76 -> 0 | J76: rostlinný materiál za technologii celkem: g: Eounymus phlelomanus 4ks; Exochorda racemosa 2ks; Jasminum fruticans 6ks
A77: T | B77: 185 80-2114/R | D77: hnojení minerálním hnojivem 10g/ks k vysazovaným rostlinám v rovině | E77: 0.03 | F77: kg | H77: =+E77*G77 -> 0
A78: M | D78: dodání dlouhodobě působícího hnojiva (ref Silvamix) | E78: 0.03 | F78: kg | H78: =+E78*G78 -> 0
A79: T | B79: 184 91-1421/R | D79: mulčování borkou do 10 cm v rovině | E79: 1 | F79: m2 | H79: =+E79*G79 -> 0
A80: M | D80: dodání borky nebo štěpky | E80: 0.05 | F80: m3 | H80: =+E80*G80 -> 0
C82: rozvojová péče o výsadbu keřů 3 roky | E82: =+E70 -> 4 | F82: m2 | I82: =+E82*G82 -> 0 | J82: prvním roce: hnízdovité odplevelení (20%plochy) 2x; zálivka 16x 20L/m2, v druhém roce: hnízdovité odplevelení (20%plochy) 1x, zálivka 16x 20L/m2; v třetím roce zálivka 8x 20L/m2
A83: T | B83: 184 80-2611/R | D83: Chemické odplevelení po založení kultury smáčením v rovině | E83: 0.6 | F83: m2 | H83: =+E83*G83 -> 0 | J83: 20% plochy 3x, včetně přípravků
A84: T | B84: 185 80-4312/R | D84: zalití ploch vodou, plochy přes 20 m2 | E84: =16*0.02+16*0.02+8*0.02 -> 0.8 | F84: m3 | H84: =+E84*G84 -> 0 | J84: 20L/m2 24x, včetně vodného, odběr z řadu
C86: založení porostu keřů 5 ks/m2 výpočet: +8+ 17+29+7+8+2+3+2+3+3+2+2+3+28 | E86: 117 | F86: m2 | I86: =+E86*G86 -> 0 | J86: úprava terénu, odstranění nesourodých zbytků a odpadu, navážka ornice 15cm, urovnání, vyhloubení 5L (0,005m3) jamek, výměna půdy 50%, dodání a výsadba keřů 0,5-2L kontejner 5 ks/m2, zásobní hnojení s dlouhodobou účinností 10 g/ keř (ref. Silvamix), zahrnutí , mulčování borkou či štěpkou 5 cm V případě výsadby směsi taxonů, realizovat vždy stejnorodé plošky cca 3-5 m2)
A87: T | B87: 171 20-3111/R | D87: uložení zeminy bez zhutnění z hrubým rozhrnutím | E87: 0.15 | F87: m3 | H87: =+E87*G87 -> 0
A88: M | D88: dodání ornice (tl. 15 cm) | E88: 0.15 | F88: m3 | H88: =+E88*G88 -> 0
A89: T | B89: 181 10-1121/R | D89: úprava terénu s rozpojením , přehrnutím a urovnáním | E89: 1 | F89: m2 | H89: =+E89*G89 -> 0
A90: T | B90: 183 11-1112/R | D90: hloubení jamek bez výměny půdy do 2-5L v rovině | E90: 5 | F90: ks | H90: =+E90*G90 -> 0
A91: T | B91: 184 10-2111/R | D91: výsadba dřeviny s balem 10-20 cm v rovině | E91: 5 | F91: ks | H91: =+E91*G91 -> 0
A92: M | D92: dodání keřů 1-2L kontejner | E92: 5 | F92: ks | H92: =+E92*G92 -> 0 | J92: rostlinný materiál za technologii celkem: a: Lonicera xylosteum 'Clavey's Dwarf' 69ks; Stephanandra incisa Crispa 138ks; Spiraea bumalda 35ks; Spiraea prunifolia 35ks; Spiraea decumbens 69ks c: Jasminum nudiflorum 5ks; Cotoneaster salicifolius ' Gnom' 13ks; Cotoneaster ' Skogholmen' 8ks d: Calicarpa japonica 1ks; Cotoneaster salicifolius ' Flocosus' 1ks; Hydrangea paniculata 1ks; Viburnum fragrans 1ks; Viburnum ' Eskimo' 1ks; Spiraea arguta 18ks; Spiraea prunifolia 18ks; Hypericum hookerianum ' Hidcote' 18ks h: Cotoneaster lacteus 21ks; Cotonester dammerii ' Skogholmen' 14ks; Hypericum hookerianum ' Hidcote' 21ks; Euonymus europaeus 7ks; Spiraea cinerea 'Grefsheim' 14ks; Spiraea bella 7ks; Spiraea decumbens 28ks; Spiraea bumalda14ks; Stephanandra incisa ' Crispa' 14ks f: Spiraea cinerea 'Grefsheim' 2ks; Spiraea bella 2ks; Spiraea decumbens 5ks; Spiraea bumalda 3ks; Stephanandra incisa ' Crispa' 5ks
A93: T | B93: 185 80-2114/R | D93: hnojení minerálním hnojivem 10g/ks k vysazovaným rostlinám v rovině | E93: 0.05 | F93: kg | H93: =+E93*G93 -> 0
A94: M | D94: dodání dlouhodobě působícího hnojiva (ref Silvamix) | E94: 0.05 | F94: kg | H94: =+E94*G94 -> 0
A95: T | B95: 184 91-1421/R | D95: mulčování borkou do 10 cm v rovině | E95: 1 | F95: m2 | H95: =+E95*G95 -> 0
A96: M | D96: dodání borky nebo štěpky | E96: 0.05 | F96: m3 | H96: =+E96*G96 -> 0
C98: rozvojová péče o výsadbu keřů 3 roky | E98: =+E86 -> 117 | F98: m2 | I98: =+E98*G98 -> 0 | J98: v prvním roce: hnízdovité odplevelení (20%plochy) 2x; zálivka 16x 20L/m2, v druhém roce: hnízdovité odplevelení (20%plochy) 1x, zálivka 16x 20L/m2; v třetím roce zálivka 8x 20L/m2; předpis závlahy platí pouze pro plochy bez zavlažovacího systému (54 m2)
A99: T | B99: 184 80-2611/R | D99: Chemické odplevelení po založení kultury smáčením v rovině | E99: 0.6 | F99: m2 | H99: =+E99*G99 -> 0 | J99: 20% plochy 3x, včetně přípravků
A100: T | B100: 185 80-4312/R | D100: zalití ploch vodou, plochy přes 20 m2 | E100: =16*0.02+16*0.02+8*0.02 -> 0.8 | F100: m3 | H100: =+E100*G100 -> 0 | J100: 20L/m2 24x, včetně vodného, odběr z řadu
C102: výsadba trvalek 7 ks/m2 výpočet:+13+47+13+13+8+19+26+21+17+39+10+9 | E102: 235 | F102: m2 | I102: =+E102*G102 -> 0 | J102: úprava terénu, odstranění nesourodých zbytků a odpadu, navážka ornice 15cm, urovnání, vyhloubení 5L (0,005m3) jamek, výměna půdy 50%, výsadba trvalek 0,5-1L 7 ks/m2, zásobní hnojení s dlouhodobou účinností, zahrnutí 10 g/ keř (ref. Silvamix), mulčování borkou či štěpkou 5 cm V případě výsadby směsi taxonů, realizovat vždy stejnorodé plošky cca 1-5 m2)
A103: T | B103: 171 20-3111/R | D103: uložení zeminy bez zhutnění z hrubým rozhrnutím | E103: 0.15 | F103: m3 | H103: =+E103*G103 -> 0
A104: M | D104: dodání ornice (tl. 15 cm) | E104: 0.15 | F104: m3 | H104: =+E104*G104 -> 0
A105: T | B105: 181 10-1121/R | D105: úprava terénu s rozpojením , přehrnutím a urovnáním | E105: 1 | F105: m2 | H105: =+E105*G105 -> 0
A106: T | B106: 183 11-1112/R | D106: hloubení jamek bez výměny půdy do 2-5L v rovině | E106: 7 | F106: ks | H106: =+E106*G106 -> 0
A107: T | B107: 183 21-1322/R | D107: výsadba květin hrnkovaných, prům květináče do 120mm | E107: =+E106 -> 7 | F107: ks | H107: =+E107*G107 -> 0
A108: M | D108: dodání dlouhodobě působícího hnojiva (ref Silvamix) | E108: 0.07 | F108: kg | H108: =+E108*G108 -> 0
A109: T | B109: 185 80-2114/R | D109: hnojení minerálním hnojivem 10g/ks k vysazovaným rostlinám v rovině | E109: 0.07 | F109: kg | H109: =+E109*G109 -> 0
D110: dodání trvalek 0,5-1L kontejner | E110: 7 | F110: ks | H110: =+E110*G110 -> 0 | J110: b: Calamagrostis acutiflora Karl Foester 97ks; Miscanthus sinensis Silberspine 49ks; Panicum virgatum Shenandoah 19ks; Ceranthus ruber ‘Coccineus' 19ks; Achillea filipendulina ‘Credo' 49ks; Hemerocallis ‘Purple Waters' 19ks; Hemerocallis ‘Stella d' Oro' 19ks; Asclepias tuberosa 19ks; Geranium cantabriense ‘Biokovo' 97ks; Geranium cantabriense ‘Karmina' 97ks; Geranium cantabriense ‘St. Ola' 97ks; Geranium cinereum ‘Ballerina' 49ks; Geranium x ' Rozanne' 49ks; Nepeta x faassenii ' Blue Wonder' 146ks; Lithospermum purpuraocaeruleum 146ks; Lavandula angustifolia 49ks e: Alchemilla mollis ‘Thriller' 54ks; Bergenia cordifolia ‘Winter Glut' 27ks; Bergenia cordifolia ‘Silberlicht' 27ks; Carex morowii ‘Irish Green' 54ks; Carex muskingumensis 11ks; Molinia cearuela Dauerstrahl 27ks; Geranium himalayense ' Gravetye' 27ks; Geranium macrorrhizum ' White Ness' 27ks; Geranium macrorrhizum ' Ridsko' 54ks; Geranium renardii 54ks; Geranium sylvaticum ' Mayflower' 27ks; Heuchera ' Caramell' 11ks; Hemerocallis ' Little Anna Rosa' 11ks; Hemerocallis lilioasphodelus 11ks; Hemerocallis citrina 11ks; Hypericum calycine 54ks; Veronica penducularis ' Georgia Blue' 54ks i: Alchemilla mollis 'Thriller ' 20ks; Baptistia sphaerocarpa 7ks; Geranium x cantabrigiense 'Bikovo ' 27ks; Geranium x cantabrigiense 'Karmin ' 7ks; Geranium macrorhizum 'White Ness ' 7ks; Geranium renardii 7ks; Nepeta x faassenii 'Drop More ' 7ks; Nepeta x racemosa 'Grog ' 20ks; Rudbeckia missouriensis 7ks; Carex montana 20ks; Pennisetum alopecuroides ' Little Bunny ' 7ks
A111: T | B111: 184 91-1421/R | D111: mulčování borkou do 10 cm v rovině | E111: 1 | F111: m2 | H111: =+E111*G111 -> 0
...

Sheet SO 101-pokyny pro vyplnění
C3: Struktura údajů, formát souboru a metodika pro zpracování
C4: Struktura
C6: Soubor je složen ze záložky Rekapitulace stavby a záložek s názvem soupisu prací pro jednotlivé objekty ve formátu XLSX. Každá ze záložek přitom obsahuje
C7: ještě samostatné sestavy vymezené orámovaním a nadpisem sestavy.
C9: Rekapitulace stavby obsahuje sestavu Rekapitulace stavby a Rekapitulace objektů stavby a soupisů prací.
D10: V sestavě Rekapitulace stavby jsou uvedeny informace identifikující předmět veřejné zakázky na stavební práce, KSO, CC-CZ, CZ-CPV, CZ-CPA a rekapitulaci
D11: celkové nabídkové ceny uchazeče.
D13: Termínem "uchazeč" (resp. zhotovitel) se myslí "účastník zadávacího řízení" ve smyslu zákona o zadávání veřejných zakázek.
D15: V sestavě Rekapitulace objektů stavby a soupisů prací je uvedena rekapitulace stavebních objektů, inženýrských objektů, provozních souborů,
D16: vedlejších a ostatních nákladů a ostatních nákladů s rekapitulací nabídkové ceny za jednotlivé soupisy prací. Na základě údaje Typ je možné
D17: identifikovat, zda se jedná o objekt nebo soupis prací pro daný objekt:
E18: STA | F18: Stavební objekt pozemní
E19: ING | F19: Stavební objekt inženýrský
E20: PRO | F20: Provozní soubor
E21: VON | F21: Vedlejší a ostatní náklady
E22: OST | F22: Ostatní
E23: Soupis | F23: Soupis prací pro daný typ objektu
C25: Soupis prací pro jednotlivé objekty obsahuje sestavy Krycí list soupisu prací, Rekapitulace členění soupisu prací, Soupis prací. Za soupis prací může být považován
C26: i objekt stavby v případě, že neobsahuje podřízenou zakázku.
D27: Krycí list soupisu obsahuje rekapitulaci informací o předmětu veřejné zakázky ze sestavy Rekapitulace stavby, informaci o zařazení objektu do KSO,
D28: CC-CZ, CZ-CPV, CZ-CPA a rekapitulaci celkové nabídkové ceny uchazeče za aktuální soupis prací.
D30: Rekapitulace členění soupisu prací obsahuje rekapitulaci soupisu prací ve všech úrovních členění soupisu tak, jak byla tato členění použita (např.
D31: stavební díly, funkční díly, případně jiné členění) s rekapitulací nabídkové ceny.
D33: Soupis prací obsahuje položky veškerých stavebních nebo montážních prací, dodávek materiálů a služeb nezbytných pro zhotovení stavebního objektu,
D34: inženýrského objektu, provozního souboru, vedlejších a ostatních nákladů.
D35: Pro položky soupisu prací se zobrazují následující informace:
E36: PČ | G36: Pořadové číslo položky v aktuálním soupisu
E37: TYP | G37: Typ položky: K - konstrukce, M - materiál, PP - plný popis, PSC - poznámka k souboru cen, P - poznámka k položce, VV - výkaz výměr
E38: Kód | G38: Kód položky
E39: Popis | G39: Zkrácený popis položky
E40: MJ | G40: Měrná jednotka položky
E41: Množství | G41: Množství v měrné jednotce
E42: J.cena | G42: Jednotková cena položky. Zadaní může obsahovat namísto J.ceny sloupce J.materiál a J.montáž, jejichž součet definuje
G43: J.cenu položky.
E44: Cena celkem | G44: Celková cena položky daná jako součin množství a j.ceny
E45: Cenová soustava | G45: Příslušnost položky do cenové soustavy
D47: Ke každé položce soupisu prací se na samostatných řádcích může zobrazovat:
E48: Plný popis položky
E49: Poznámka k souboru cen a poznámka zadavatele
E50: Výkaz výměr
D51: Pokud je k řádku výkazu výměr evidovaný údaj ve sloupci Kód, jedná se o definovaný odkaz, na který se může odvolávat výkaz výměr z jiné položky.
C52: Metodika pro zpracování
C54: Jednotlivé sestavy jsou v souboru provázány. Editovatelné pole jsou zvýrazněny žlutým podbarvením, ostatní pole neslouží k editaci a nesmí být jakkoliv
C55: modifikovány.
C57: Uchazeč je pro podání nabídky povinen vyplnit žlutě podbarvená pole:
D58: Pole Uchazeč v sestavě Rekapitulace stavby - zde uchazeč vyplní svůj název (název subjektu)
D59: Pole IČ a DIČ v sestavě Rekapitulace stavby - zde uchazeč vyplní svoje IČ a DIČ
D60: Datum v sestavě Rekapitulace stavby - zde uchazeč vyplní datum vytvoření nabídky
D61: J.cena = jednotková cena v sestavě Soupis prací o maximálním počtu desetinných míst uvedených v poli
D62: - pokud sestavy soupisů prací obsahují pole J.cena, měla by být všechna tato pole vyplněna nenulovými
D63: Poznámka - nepovinný údaj pro položku soupisu
D65: V případě, že sestavy soupisů prací neobsahují pole J.cena, potom ve všech soupisech prací obsahují pole:
D66: - J.materiál - jednotková cena materiálu
D67: - J.montáž - jednotková cena montáže
D68: Uchazeč v tomto případě by měl vyplnit všechna pole J.materiál a pole J.montáž nenulovými kladnými číslicemi. V případech, kdy položka
D69: neobsahuje žádný materiál je přípustné, aby pole J.materiál bylo vyplněno nulou. V případech, kdy položka neobsahuje žádnou montáž je přípustné,
D70: aby pole J.montáž bylo vyplněno nulou. Obě pole - J.materiál, J.Montáž u jedné položky by však neměly být vyplněny nulou.
C75: Rekapitulace stavby
C76: Název | F76: Povinný | H76: Popis | I76: Typ | J76: Max. počet
C77: atributu | F77: (A/N) | J77: znaků
C79: Kód | F79: A | H79: Kód stavby | I79: String | J79: 20
C80: Stavba | F80: A | H80: Název stavby | I80: String | J80: 120
C81: Místo | F81: N | H81: Místo stavby | I81: String | J81: 50
C82: Datum | F82: A | H82: Datum vykonaného exportu | I82: Date
C83: KSO | F83: N | H83: Klasifikace stavebního objektu | I83: String | J83: 15
C84: CC-CZ | F84: N | H84: Klasifikace stavbeních děl | I84: String | J84: 15
C85: CZ-CPV | F85: N | H85: Společný slovník pro veřejné zakázky | I85: String | J85: 20
C86: CZ-CPA | F86: N | H86: Klasifikace produkce podle činností | I86: String | J86: 20
C87: Zadavatel | F87: N | H87: Zadavatel zadaní | I87: String | J87: 50
C88: IČ | F88: N | H88: IČ zadavatele zadaní | I88: String | J88: 20
C89: DIČ | F89: N | H89: DIČ zadavatele zadaní | I89: String | J89: 20
C90: Uchazeč | F90: N | H90: Uchazeč veřejné zakázky | I90: String | J90: 50
C91: Projektant | F91: N | H91: Projektant | I91: String | J91: 50
C92: Poznámka | F92: N | H92: Poznámka k zadání | I92: String | J92: 255
C93: Sazba DPH | F93: A | H93: Rekapitulace sazeb DPH u položek soupisů | I93: eGSazbaDph
C94: Základna DPH | F94: A | H94: Základna DPH určena součtem celkové ceny z položek soupisů | I94: Double
C95: Hodnota DPH | F95: A | H95: Hodnota DPH | I95: Double
C96: Cena bez DPH | F96: A | H96: Celková cena bez DPH za celou stavbu. Sčítává se ze všech listů. | I96: Double
C97: Cena s DPH | F97: A | H97: Celková cena s DPH za celou stavbu | I97: Double
C102: Rekapitulace objektů stavby a soupisů prací
C103: Název | F103: Povinný | H103: Popis | I103: Typ | J103: Max. počet
C104: atributu | F104: (A/N) | J104: znaků
C106: Kód | F106: A | H106: Přebírá se z Rekapitulace stavby | I106: String | J106: 20
C107: Stavba | F107: A | H107: Přebírá se z Rekapitulace stavby | I107: String | J107: 120
C108: Místo | F108: N | H108: Přebírá se z Rekapitulace stavby | I108: String | J108: 50
C109: Datum | F109: A | H109: Přebírá se z Rekapitulace stavby | I109: Date
C110: Zadavatel | F110: N | H110: Přebírá se z Rekapitulace stavby | I110: String | J110: 50
C111: Projektant | F111: N | H111: Přebírá se z Rekapitulace stavby | I111: String | J111: 50
C112: Uchazeč | F112: N | H112: Přebírá se z Rekapitulace stavby | I112: String | J112: 50
C113: Kód | F113: A | H113: Kód objektu | I113: String | J113: 20
C114: Objektu, Soupis prací | F114: A | H114: Název objektu | I114: String | J114: 120
C115: Cena bez DPH | F115: A | H115: Cena bez DPH za daný objekt | I115: Double
C116: Cena s DPH | F116: A | H116: Cena spolu s DPH za daný objekt | I116: Double
C117: Typ | F117: A | H117: Typ zakázky | I117: eGTypZakazky
C122: Krycí list soupisu
C123: Název | F123: Povinný | H123: Popis | I123: Typ | J123: Max. počet
C124: atributu | F124: (A/N) | J124: znaků
C126: Stavba | F126: A | H126: Přebírá se z Rekapitulace stavby | I126: String | J126: 120
C127: Objekt | F127: A | H127: Kód a název objektu | I127: String | J127: 20 + 120
C128: Soupis | F128: A | H128: Kód a název soupisu | I128: String | J128: 20 + 120
...

Sheet Příloha č. 1
A1: příloha č. 1
A2: Všeobecné podmínky k Soupisu prací a dodávek
A4: Smluvní strany se budou řídit právním řádem České republiky
A6: Jednotkové ceny nabídky zahrnují zejména :
A8: a) Veškeré náklady pro zhotovení bezvadného funkčně způsobilého díla, které je předmětem smlouvy a bude schopno plnit řádně svoji funkci po dobu několika dalších desítek let.
A10: b) Náklady pro zajištění bezpečnosti práce, ochrany materiálů, součástí a dalších předmětů pro bezvadné realizované dílo.
A12: c) Náklady na přípomoce,pomocný a montážní materiál, lešení, přesuny hmot-není-li uvedeno jinak pro vnitřní i vnější dopravu, na skladování, dovozné, balné, zpětné odevzdání obalů, cla, ochrany konstrukcí, poplatky za skládkovné, recyklaci, dále náklady na veškeré údžbářské, opravárenské, udržovací práce nutné pro zhotovení díla a náklady na podpěrné konstrukce pro jakoukoliv výšku, není-li stanoveno jinak.
A14: d) Náklady na veškerý úklid na staveništi uvnitř i vně během zhotovování díla bude prováděný pravidelně a konečný úklid před přejímkou. Odvozy prováděné pravidelně zbylé suti, hmot a odpadků během zhotovování díla a dle potřeby.
A16: e) Náklady na zhotovení, předložení a odstranění použitých vzorků materiálů a kvality práce pro zhotovení díla, předepsané zkoušky a atesty podle příslušných předpisů nebo potřebných norem pro prokázání bezchybné funkce díla.
A18: f) Náklady na ochranu a pojištění díla až do přejímky.
A20: g) Náklady na poskytnutí odborného dohledu t.j. odpovědného stavbyvedoucího a vedoucího šéfmontéra.
A22: h) Náklady na zhotovení výkresů, výpočtů a dalších výkonů potřebných pro detailní rozpracování projektů předaných zadavatelem, které jsou potřebné pro bezvadnou realizaci díla (realizační, dílenská a montážní dokumentace).
... A55: 10) Nedílnou součástí Soupisu prací a dodávek je i projektová dokumentace. Soupis prací a dodávek je určen pro ocenění díla nikoliv náhrada dokumentace.
