Workbook

Sheet Rekapitulace
C2: Rozpočet
C3: CÚ 2022/I
C5: název stavby
C6: NÁMĚSTÍ BĚCHOVICE
A9: Objednatel: | C9: Městská část Praha - Běchovice | E9: IČO: | F9: 00240044
C10: Českobrodská 3, 190 11 Praha – Běchovice | E10: DIČ:
A12: Projektant: | E12: IČO:
E13: DIČ:
A15: Zhotovitel: | E15: IČO:
E16: DIČ:
C20: Celková rekapitulace stavby
C22: Rekapitulace bez DPH | D22: Kč | E22: celkem | F22: =SUM(F29:F41) -> 0
C23: VRN - GZS | D23: Kč | E23: 0.03 | F23: =F22*E23 -> 0
C24: Rekapitulace s VRN bez DPH | F24: =SUM(F22:F23) -> 0
C25: DPH 21% | D25: Kč | F25: =F24*0.21 -> 0
C26: Rekapitulace s DPH 21% | D26: Kč | E26: celkem | F26: =SUM(F24:F25) -> 0
A29: 1 | C29: SO 001 Objekty zařízení staveniště (HTU) | D29: Kč | F29: ='SO 001 (HTU)'!G12 -> 0
A30: 2 | C30: SO 101 Komunikace a zpevněné plochy | D30: Kč | F30: ='SO 101'!J30 -> 0
A31: 3 | C31: SO 301 Kanalizace | D31: Kč | F31: ='SO 301'!G13 -> 0
A32: 4 | C32: SO 302 Vodovod | D32: Kč | F32: ='SO 302'!G13 -> 0
A33: 5 | C33: SO 401 Veřejné osvětlení | D33: Kč | F33: ='SO 401'!G13 -> 0
A34: 6 | C34: SO 402 Elektro silnoproud | D34: Kč | F34: ='SO 402'!G12 -> 0
A35: 7 | C35: SO 403 Preložka optického kabelu T- Mobile | D35: Kč | F35: ='SO 403'!G11 -> 0
A36: 8 | C36: SO 701 Fontana - stavební řešení | D36: Kč | F36: ='SO 701'!G12 -> 0
A37: 9 | C37: SO 702 Technologie fontány | D37: Kč | F37: ='SO 702-technologie'!G89+'SO 702-elektroinstalace'!G72 -> 0
A38: 10 | C38: SO 703 Drobná architektura | D38: Kč | F38: ='SO 703'!G14 -> 0
A39: 11 | C39: SO 801 Vegetační úpravy | D39: Kč | F39: ='SO 801'!I6 -> 0
B44: v | D44: dne
B50: Za zhotovitele | F50: Za objednatele

Sheet SO 001 (HTU)
C1: Rozpočet
C2: název stavby
C3: NÁMĚSTÍ BĚCHOVICE
C6: název části stavby
C7: SO 001 Objekty zařízení staveniště (HTU)
A11: 1 | C11: Rekapitulace nákladů
A12: 2 | C12: SO 001 | D12: Kč | G12: =G44 -> 0
A13: 3
A14: 4 | C14: ZRN mezisoučet bez DPH 21% | D14: Kč | G14: =SUM(G12:G13) -> 0
A15: 5 | C15: VRN - GZS | D15: Kč | E15: 0.03 | G15: =G14*E15 -> 0
A16: 6 | C16: celkem bez DPH 21% | D16: Kč | G16: =SUM(G14:G15) -> 0
A17: 7 | C17: DPH 21% | D17: Kč | E17: 0.21 | G17: =G16*E17 -> 0
A18: 8
A19: 9 | C19: Náklady celkem včetně DPH 21% | D19: Kč | G19: =SUM(G16:G17) -> 0
A20: 10
A21: 11
A22: p.č. | B22: kód | C22: popis | D22: m. j.. | E22: počet m.j.. | F22: jednotková cena / m.j. | G22: cena celkem | H22: hmoty t / celkem
A23: 12 | C23: 1)Soupis prací a dodávek je zpracován dle Vyhlášky 169 ze dne 12.05.2016
A24: 13 | C24: 2) Neopominutelným podkladem pro ocenění je projektová dokumentace.
A25: 14 | C25: 3) Při oceňování díla stavební firmou je PD a TZ technicky i technologicky nadřazena soupisu prací a dodávek s výkazem výměr . Zhotovitel díla odpovídá za to, že provedl kontrolu kompletnosti seznamu operací v soupise prací a dodávek s výkazem výměr a do své nabídky zahrnul veškeré dodávky a kompletní provedení prací nutné k provedení díla, které je předmětem smlouvy a bude schopno plnit svoji funkci po dobu několika desítek let.
A26: 15 | C26: 4) Hutnění konstrukcí nových i stávajících po demontáži. Konstrukce pro zpevnění hutnit po jednotlivých podkladních vrstvách dle PD a IGP k příslušejícímu SO.
A27: 16 | C27: 5) Detaily a podrobnosti dle PD
A28: 17 | C28: 6) Likvidace kovových částí: Veškeré kovové části budou před odvozem k prodeji zváženy a jejich hmotnost zapsána do Stavebního deníku. Následně budou odvezeny a prodány jako druhotné suroviny do Kovošrotu za cenu platnou v den prodeje. Jejich výtěžek bude poslán na účet investora ve výši ceny platné v den prodeje.
A29: 18 | C29: 7) Jednotková cena obsahuje přesun hmot, není-li uvedeno samostatně.
A30: 19 | C30: 8) Výměry jsou vykázány odměřením nebo změřeno digitálně z výkresů PD k příslušnému SO
A31: 20 | C31: 9)Hutnění (zeminy) konstrukcí nových i stávajících (po demontáži nášlapných vrstev s ložem): konstrukce pro zpevnění hutnit po jednotlivých podkladních vrstvách dle PD a IGP
A32: 21 | C32: 10) Detaily a podrobnosti dle PD
A33: 22 | C33: 11) Spárořez dle PD
A34: 23 | C34: 12) Zemní práce dle DP a IGP
... A42: 31 | C42: 20) Přesuny hmot jsou započítány v ceně, není-li uvedeno jinak.
A43: 32
A44: 33 | C44: Zemní práce | D44: Kč | E44: celkem | G44: =SUM(G45:G117) -> 0
A45: 34
A46: 35 | B46: HZS4212 | C46: Vyhledání detektorem a vytyčení stávajících inženýrských sítí (např. el.kabelů a kabelových tratí silno a slaboproudých, potrubí vody a kanalizace) ve spolupráci správců sítí. | D46: hod | E46: 20 | G46: =E46*F46 -> 0
A47: 36 | B47: 1190014 | C47: Dočasné zajištění - stávajících inženýrských sítí během výkopových prací, podél celé délky na pozemku, výměra cca: (49+61,5)*10+49*3 Nutno zajistit před prováděním zemních prací. | D47: bm | E47: =(49+61.5)*10+49*3 -> 1252 | G47: =E47*F47 -> 0 | H47: =0.04*E47 -> 50.08
A48: 37 | B48: 119001423 | C48: Dočasné zajištění kabelů a kabelových tratí z více než 6 volně ložených kabelů (61,5+50,5)*2 | D48: bm | E48: =(61.5+50.5)*2 -> 224 | G48: =E48*F48 -> 0 | H48: =0.10775*E48 -> 24.136
A49: 38 | B49: 119001421 | C49: Dočasné zajištění kabelů a kabelových tratí ze 3 volně ložených kabelů (50,5*3)*2 | D49: bm | E49: =50.5*3*2 -> 303 | G49: =E49*F49 -> 0 | H49: =0.0369*E49 -> 11.1807
A50: 39 | B50: 119001412 | C50: Dočasné zajištění potrubí betonového, ŽB nebo kameninového DN do 500 mm (61,5+49)bm | D50: bm | E50: =61.5+49 -> 110.5 | G50: =E50*F50 -> 0 | H50: =0.01269*E50 -> 1.402245
A51: 40 | B51: 119001406 | C51: Dočasné zajištění potrubí z PE DN do 500 mm | D51: bm | E51: 59 | G51: =E51*F51 -> 0 | H51: =0.00868*E51 -> 0.51212
A52: 41 | B52: 119002121 | C52: Přechodová lávka délky do 2 m včetně zábradlí pro zabezpečení výkopu zřízení | D52: ks | E52: 8 | G52: =E52*F52 -> 0 | H52: =0.00065*E52 -> 0.0052
...

Sheet SO 101
L2: >> skryté sloupce << | AT2: {58721ed3-a99d-43ac-9e57-2d6cc8a8f2b0} | AZ2: DREN | BA2: Drenáž DN 150 | BB2: m | BC2: 184,91 | BD2: 3
AT3: 2 | AZ3: SKL_4_PS_Veg | BA3: Parkovací stání (skladba 4) z polovegetační bet. dlažby | BB3: m2 | BC3: 88 | BD3: 3
D4: KRYCÍ LIST SOUPISU PRACÍ | M4: v --- níže se nacházejí doplnkové a pomocné údaje k sestavám --- v | AT4: False | AZ4: SKL_4A_PS_Kdl | BA4: Parkovací stání (skladba 4A) z kamenné dlažby 100x100x100 mm (kroužková) | BB4: m2 | BC4: 19,25 | BD4: 3
AZ5: SKL_4_PS_Bdl | BA5: Parkovací stání (skladba 4) z betonové dlažby (kost) | BB5: m2 | BC5: 33,275 | BD5: 3
D6: Stavba: | AZ6: SKL_3_DB | BA6: Komunikace (skladba 3) z betonové dlažby | BB6: m2 | BC6: 24,75 | BD6: 3
E7: ='[1]Rekapitulace stavby'!K6 -> Náměstí Běchovice | AZ7: SKL_3_BD_P | BA7: Komunikace (skladba 3) z betonové dlažby - předláždění | BB7: m2 | BC7: 63,62 | BD7: 3
D8: Objekt: | AZ8: SKL_2_Kdl | BA8: Komunikace (skladba 2) z kamenné velkoformátové dlažby 150x150-300 mm tl. 120 mm | BB8: m2 | BC8: 368,67 | BD8: 3
E9: SO 101 - Komunikace a zpevněné plochy | AZ9: SKL_1_Asf_F | BA9: Komunikace (skladba 1) asfaltová fréza | BB9: m2 | BC9: 85,13 | BD9: 3
AZ10: SKL_1_Asf | BA10: Komunikace (skladba 1 ) asfaltová plná skladba | BB10: m2 | BC10: 33,49 | BD10: 3
D11: KSO: | I11: CC-CZ: | AZ11: SKL_5 | BA11: Chodník (skladba 5) z kamenné velkoformátové dlažby 150x150-300 mm tl. 120 mm | BB11: m2 | BC11: 1088,2 | BD11: 3
D12: Místo: | F12: Běchovice, k.ú. 601527 | I12: Datum: | J12: ='[1]Rekapitulace stavby'!AN8 -> 27. 4. 2021 | AZ12: SKL_5A | BA12: Chodník (skladba 5a) z kamenné velkoformátové dlažby 150x150-300 mm tl. 80 mm | BB12: m2 | BC12: 439,13 | BD12: 3
AZ13: SKL_5_část | BA13: Chodník (skladba 5 - částečná) z kamenné velkoformátové dlažby 150x150-300 mm tl. 120 mm | BB13: m2 | BC13: 22,67 | BD13: 3
D14: Zadavatel: | I14: IČ: | AZ14: SKL_5_šach | BA14: Šachovnice (skladba 5) z kamenné velkoformátové dlažby 500x500x120 mm | BB14: m2 | BC14: 10,24 | BD14: 3
E15: Městská část Praha - Běchovice | I15: DIČ: | AZ15: SKL_6 | BA15: Chodník (skladba 6) parteru z kamenné dlažby - mozaika 60x60 mm | BB15: m2 | BC15: 411,88 | BD15: 3
AZ16: SKL_6_1 | BA16: Chodník (skladba 6) stáv. chodník z kamenné dlažby - mozaika 60x60 mm | BB16: m2 | BC16: 33,23 | BD16: 3
D17: Zhotovitel: | I17: IČ: | J17: ='[1]Rekapitulace stavby'!AN13 | AZ17: SKL_7 | BA17: Chodník (skladba 7 - částečná konstrukce) z kamenné dlažby - mozaika 60x60 mm | BB17: m2 | BC17: 22,34 | BD17: 3
E18: ='[1]Rekapitulace stavby'!E14 | I18: DIČ: | J18: ='[1]Rekapitulace stavby'!AN14 | AZ18: SKL_7_P | BA18: Chodník (skladba 7 - částečná konstrukce) - předláždění | BB18: m2 | BC18: 38,36 | BD18: 3
AZ19: SKL_8 | BA19: Chodník (skladba 8) z betonové dlažby tl. 60 mm | BB19: m2 | BC19: 30,16 | BD19: 3
D20: Projektant: | I20: IČ: | AZ20: SKL_8_P | BA20: Chodník (skladba 8 - částečná konstrukce) z betonové dlažby tl. 60 mm - předláždění | BB20: m2 | BC20: 8,88 | BD20: 3
E21: DOPAS s.r.o. | I21: DIČ: | AZ21: SKL_9 | BA21: Kamenné odseky (skladba 9) - plná skladba | BB21: m2 | BC21: 149,35 | BD21: 3
AZ22: SKL_9_1 | BA22: Kamenné odseky (skladba 9) - částečná skladba | BB22: m2 | BC22: 2,92 | BD22: 3
D23: Zpracovatel: | I23: IČ: | J23: 62196243 | AZ23: SKL_10 | BA23: Běžecký pás (skladba 10) - SMARTSOFT (mimo nášlapnou vrstvu) | BB23: m2 | BC23: 39,49 | BD23: 3
E24: L. Štuller | I24: DIČ: | AZ24: SKL_10A | BA24: Hřiště a doj.plochy (skladba 10A) - SMARTSOFT (mimo nášlapné vrstvy) | BB24: m2 | BC24: 21,36 | BD24: 3
AZ25: SKL_11 | BA25: Chodník (skladba 11) z lomového plochého kamene | BB25: m2 | BC25: 8,18 | BD25: 3
D26: Poznámka: | AZ26: SKL_2_Hmat | BA26: Komunikace - hmatná dlažba (skladba 2) | BB26: m2 | BC26: 10,43 | BD26: 3
E27: Soupis prací je sestaven s využitím Cenové soustavy ÚRS. Položky, které pochází z této cenové soustavy, jsou ve sloupci 'Cenová soustava' označeny popisem 'CS ÚRS' a úrovní příslušného kalendářního pololetí. Veškeré další informace vymezující popis a podmínky použití těchto položek z Cenové soustavy, které nejsou uvedeny přímo v soupisu prací, jsou neomezeně dálkově k dispozici na webu www.podminky.urs.cz. | AZ27: SKL_2_UměVL | BA27: Komunikace (skladba 2) - umělá vodící linie | BB27: m2 | BC27: 2,45 | BD27: 3
AZ28: SKL_5_Hmat | BA28: Chodník - hmatná dlažba (skladba 5) | BB28: m2 | BC28: 1,33 | BD28: 3
AZ29: SKL_5A_Hmat | BA29: Chodník (skladba 5A) - hmatná dlažba umělý kámen | BB29: m2 | BC29: 10,59 | BD29: 3
D30: Cena bez DPH | J30: =ROUND(J92, 2) -> 0 | AZ30: SKL_5_ZTP | BA30: Chodník (skladba 5) - hmatná betonová dlažba | BB30: m2 | BC30: 1,03 | BD30: 3
AZ31: SKL_5A_ZTP | BA31: Chodník (skladba 5A) - hmatná betonová dlažba | BB31: m2 | BC31: 6,39 | BD31: 3
F32: Základ daně | I32: Sazba daně | J32: Výše daně | AZ32: SKL_6_Hmat | BA32: Chodník (skladba 6) - hmatná dlažba umělý kámen | BB32: m2 | BC32: 19,7 | BD32: 3
D33: DPH | E33: základní | F33: =ROUND((SUM(BE92:BE894)), 2) -> 0 | I33: 0.21 | J33: =ROUND(((SUM(BE92:BE894))*I33), 2) -> 0 | AZ33: SKL_6_ZTP | BA33: Chodník (skladba 6) - hmatná betonová dlažba | BB33: m2 | BC33: 11,82 | BD33: 3
E34: snížená | F34: =ROUND((SUM(BF92:BF894)), 2) -> 0 | I34: 0.15 | J34: =ROUND(((SUM(BF92:BF894))*I34), 2) -> 0 | AZ34: SKL_8_ZTP | BA34: Chodník (skladba 8) - hmatná betonová dlažba | BB34: m2 | BC34: 8,14 | BD34: 3
E35: zákl. přenesená | F35: =ROUND((SUM(BG92:BG894)), 2) -> 0 | I35: 0.21 | J35: =0 -> 0
E36: sníž. přenesená | F36: =ROUND((SUM(BH92:BH894)), 2) -> 0 | I36: 0.15 | J36: =0 -> 0
E37: nulová | F37: =ROUND((SUM(BI92:BI894)), 2) -> 0 | I37: 0 | J37: =0 -> 0
D39: Cena s DPH | G39: v | H39: CZK | J39: =SUM(J30:J37) -> 0
C45: REKAPITULACE ČLENĚNÍ SOUPISU PRACÍ
C47: Stavba:
E48: =E7 -> Náměstí Běchovice
...

Sheet SO101-seznam figur
C4: SEZNAM FIGUR
C5: Kód: | D5: R21-024
C6: Stavba: | D6: Náměstí Běchovice
C7: Datum: | D7: ='[1]Rekapitulace stavby'!AN8 -> 27. 4. 2021
C9: Kód | D9: Popis | E9: MJ | F9: Výměra
C10: SO 101 | D10: Komunikace a zpevněné plochy
C11: DREN | D11: Drenáž DN 150 | E11: m | F11: 184.91
D12: 37,410+13,690+52,580+33,930+34,870+12,430 | F12: 184.91
C13: Použití figury:
C14: 212752102 | D14: Trativod z drenážních trubek korugovaných PE-HD SN 4 perforace 360° včetně lože otevřený výkop DN 150 pro liniové stavby | E14: m | F14: 184.91
C15: SKL_1_Asf | D15: Komunikace (skladba 1 ) asfaltová plná skladba | E15: m2 | F15: 33.49
D16: 33,490 | F16: 33.49
C17: Použití figury:
C18: 181252305 | D18: Úprava pláně pro silnice a dálnice na násypech se zhutněním | E18: m2 | F18: 2918.465
C19: 564861113 | D19: Podklad ze štěrkodrtě ŠD tl 220 mm | E19: m2 | F19: 33.49
C20: 565136101 | D20: Asfaltový beton vrstva podkladní ACP 22 (obalované kamenivo OKH) tl 50 mm š do 1,5 m | E20: m2 | F20: 33.49
C21: 567122112 | D21: Podklad ze směsi stmelené cementem SC C 8/10 (KSC I) tl 130 mm | E21: m2 | F21: 33.49
C22: 573111112 | D22: Postřik živičný infiltrační s posypem z asfaltu množství 1 kg/m2 | E22: m2 | F22: 118.62
C23: 573211107 | D23: Postřik živičný spojovací z asfaltu v množství 0,30 kg/m2 | E23: m2 | F23: 152.11
C24: 577134111 | D24: Asfaltový beton vrstva obrusná ACO 11 (ABS) tř. I tl 40 mm š do 3 m z nemodifikovaného asfaltu | E24: m2 | F24: 118.62
C25: 577155112 | D25: Asfaltový beton vrstva ložní ACL 16 (ABH) tl 60 mm š do 3 m z nemodifikovaného asfaltu | E25: m2 | F25: 118.62
C26: 919726123 | D26: Geotextilie pro ochranu, separaci a filtraci netkaná měrná hmotnost do 500 g/m2 | E26: m2 | F26: 2937.075
C27: 938908411 | D27: Čištění vozovek splachováním vodou | E27: m2 | F27: 3114.455
C28: SKL_1_Asf_F | D28: Komunikace (skladba 1) asfaltová fréza | E28: m2 | F28: 85.13
D29: 0,610+10,020+36,380+38,120 | F29: 85.13
C30: Použití figury:
C31: 573111112 | D31: Postřik živičný infiltrační s posypem z asfaltu množství 1 kg/m2 | E31: m2 | F31: 118.62
C32: 573211107 | D32: Postřik živičný spojovací z asfaltu v množství 0,30 kg/m2 | E32: m2 | F32: 152.11
C33: 577134111 | D33: Asfaltový beton vrstva obrusná ACO 11 (ABS) tř. I tl 40 mm š do 3 m z nemodifikovaného asfaltu | E33: m2 | F33: 118.62
C34: 577155112 | D34: Asfaltový beton vrstva ložní ACL 16 (ABH) tl 60 mm š do 3 m z nemodifikovaného asfaltu | E34: m2 | F34: 118.62
C35: 919721291 | D35: Geomříž pro vyztužení stávajícího asfaltového povrchu ze skelných vláken | E35: m2 | F35: 85.13
C36: 938908411 | D36: Čištění vozovek splachováním vodou | E36: m2 | F36: 3114.455
C37: SKL_10 | D37: Běžecký pás (skladba 10) - SMARTSOFT (mimo nášlapnou vrstvu) | E37: m2 | F37: 39.49
D38: 39,490 | F38: 39.49
C39: Použití figury:
C40: 181252305 | D40: Úprava pláně pro silnice a dálnice na násypech se zhutněním | E40: m2 | F40: 2918.465
C41: 564851111 | D41: Podklad ze štěrkodrtě ŠD tl 150 mm | E41: m2 | F41: 724.485
C42: 567122R01 | D42: Podklad ze směsi stmelené cementem SC C 8/10 (KSC I) tl 100 mm | E42: m2 | F42: 39.49
C43: 631311234 | D43: Mazanina tl do 240 mm z betonu prostého se zvýšenými nároky na prostředí tř. C 25/30 | E43: m3 | F43: 10.86
C44: 919726123 | D44: Geotextilie pro ochranu, separaci a filtraci netkaná měrná hmotnost do 500 g/m2 | E44: m2 | F44: 2937.075
...

Sheet SO 301
C1: Rozpočet
C2: název stavby
C3: NÁMĚSTÍ BĚCHOVICE
C6: název části stavby
C7: SO 301 Kanalizace
C11: Rekapitulace nákladů
A12: 1
A13: 2 | C13: SO 301 Kanalizace | D13: Kč | G13: =SUM(G44:G156) -> 0
A14: 3 | D14: Kč
A15: 4 | C15: ZRN mezisoučet bez DPH 21% | D15: Kč | G15: =SUM(G13:G14) -> 0
A16: 5 | C16: VRN - GZS | D16: Kč | E16: 0.03 | G16: =G15*E16 -> 0
A17: 6 | C17: celkem bez DPH 21% | D17: Kč | G17: =SUM(G15:G16) -> 0
A18: 7 | C18: DPH 21% | D18: Kč | E18: 0.21 | G18: =G17*E18 -> 0
A19: 8
A20: 9 | C20: Náklady celkem včetně DPH 21% | D20: Kč | G20: =SUM(G17:G18) -> 0
A21: 10
A22: 11
A23: p.č. | B23: kód | C23: popis | D23: m. j.. | E23: počet m.j.. | F23: jednotková cena / m.j. | G23: cena celkem | H23: hmoty t / celkem
A24: 13 | C24: 1)Soupis prací a dodávek je zpracován dle Vyhlášky 169 ze dne 12.05.2016
A25: 14 | C25: 2) Neopominutelným podkladem pro ocenění je projektová dokumentace.
A26: 15 | C26: 3) Při oceňování díla stavební firmou je PD a TZ technicky i technologicky nadřazena soupisu prací a dodávek s výkazem výměr . Zhotovitel díla odpovídá za to, že provedl kontrolu kompletnosti seznamu operací v soupise prací a dodávek s výkazem výměr a do své nabídky zahrnul veškeré dodávky a kompletní provedení prací nutné k provedení díla, které je předmětem smlouvy a bude schopno plnit svoji funkci po dobu několika desítek let.
A27: 16 | C27: 4) Hutnění konstrukcí nových i stávajících po demontáži. Konstrukce pro zpevnění hutnit po jednotlivých podkladních vrstvách dle PD a IGP k příslušejícímu SO.
A28: 17 | C28: 5) Detaily a podrobnosti dle PD
A29: 18 | C29: 6) Likvidace kovových částí: Veškeré kovové části budou před odvozem k prodeji zváženy a jejich hmotnost zapsána do Stavebního deníku. Následně budou odvezeny a prodány jako druhotné suroviny do Kovošrotu za cenu platnou v den prodeje. Jejich výtěžek bude poslán na účet investora ve výši ceny platné v den prodeje.
A30: 19 | C30: 7) Jednotková cena obsahuje přesun hmot, není-li uvedeno samostatně.
A31: 20 | C31: 8) Výměry jsou vykázány odměřením nebo změřeno digitálně z výkresů PD k příslušnému SO
A32: 21 | C32: 9)Hutnění (zeminy) konstrukcí nových i stávajících (po demontáži nášlapných vrstev s ložem): konstrukce pro zpevnění hutnit po jednotlivých podkladních vrstvách dle PD a IGP
A33: 22 | C33: 10) Detaily a podrobnosti dle PD
A34: 23 | C34: 11) Spárořez dle PD
A35: 24 | C35: 12) Zemní práce dle DP a IGP
... A44: 33 | C44: Detaily viz v.č. D.1.03.02 až 07 + TZ
A45: 34 | B45: 871315//231 | C45: Bezpečnostní přepad DN 150-KG2000 SN 10, roura bude seříznuta ve sklonu stávajícího břehu (u ústí do rybníka), ; výměra:38,11bm+1,60bm. Kompletní provedení. | D45: bm | E45: =38.11+1.6 -> 39.71 | G45: =E45*F45 -> 0 | H45: =0.00248*E45 -> 0.0984808
A46: 35 | B46: PC | C46: Demontáž a zpětná oprava stávajícího opevnění z lomového kamene min. 500mm na každou stranu (velké kameny dle stávajících) v betonu, U dlažeb do betonového lože se nejprve na upravený terén rozprostře štěrkopísková podkladní vrstva tl. 100 mm, která zajistí odvodnění podkladu. Následně pak se rozprostře lože ze zavlhlé betonové směsi, do kterého se klade dlažební kámen. Tloušťka betonového lože má činit nejméně polovinu tloušťky dlažby. Vytlačená betonová směs lože ve spárách bude upěchována tak, aby zůstala volná spára do úrovně, jež nebude výše než min. 100 mm pod horní hranu kamene. Případné nepevné části budou před spárováním odstraněny. Spáry se vyplní a zatřou cementovou maltou tak, aby malta zůstala asi 5 mm pod lícem, výměra min. 1,5m2, Kompletní provedení | D46: m2 | E46: 1.5 | G46: =E46*F46 -> 0
A47: 36 | B47: 141721215 | C47: Řízený zemní protlak délky do 50 m hloubky do 6 m s protlačením potrubí vnějšího průměru vrtu do 225 mm v hornině třídy těžitelnosti I a II, skupiny 1 až 4 , ochranná trubka PP DN200, výměra:2,30bm+2,00bm | D47: bm | E47: 4.3 | G47: =E47*F47 -> 0
A48: 37 | B48: PC | C48: Potrubí pod chodníkem a molem provedeno podkopem (protakem), potrubí uloženo v ochranné trubce, ochranná trubka PP DN200, výměra:2,30bm+2,00bm | D48: bm | E48: 4.3 | G48: =E48*F48 -> 0
A49: 38 | B49: 894811135/P | C49: Revizní šachta, prefabrikovaná plastová šachta Ø425mm s litinovým poklopem B125, dodávka + montáž. Kompletní provedení. | D49: ks | E49: 1 | G49: =E49*F49 -> 0 | H49: =0.055*E49 -> 0.055
A50: 39 | B50: 2127R1001 | C50: Zaústěná žlabovka do štěrbinového žlabu, | D50: ks | E50: 1 | G50: =E50*F50 -> 0 | H50: =0.005 -> 0.005
A51: 40 | B51: 93593/P | C51: Hluboká vpust se sifonem, kalovým košem - lapačem nečistot, zpětnou klapkou a příslušenstvím, kompletní provedení (vpust liniového žlabu) | D51: ks | E51: 1 | G51: =E51*F51 -> 0 | H51: =0.03574*E51 -> 0.03574
A52: 41 | C52: Zaústění drenáže do akumulační nádrže | D52: ks | E52: 2 | G52: =E52*F52 -> 0 | H52: 0.001
A53: 42 | B53: 871315231 | C53: Napojení liniového žlabu DN150-KG2000 SN10, výměra 4,31bm +1,60bm | D53: bm | E53: =4.31+1.6 -> 5.91 | G53: =E53*F53 -> 0 | H53: =0.00308*E53 -> 0.0182028
...

Sheet SO 302
C1: Rozpočet
C2: název stavby
C3: NÁMĚSTÍ BĚCHOVICE
C6: název části stavby
C7: SO 302 Vodovod
C11: Rekapitulace nákladů
A12: 1
A13: 2 | C13: SO 302 Vodovod | D13: Kč | G13: =G15 G15 -> 0
A14: 3
A15: 4 | C15: ZRN mezisoučet bez DPH 21% | D15: Kč | G15: =G44 -> 0
A16: 5 | C16: VRN - GZS | D16: Kč | E16: 0.03 | G16: =G15*E16 -> 0
A17: 6 | C17: celkem bez DPH 21% | D17: Kč | G17: =SUM(G15:G16) -> 0
A18: 7 | C18: DPH 21% | D18: Kč | E18: 0.21 | G18: =G17*E18 -> 0
A19: 8
A20: 9 | C20: Náklady celkem včetně DPH 21% | D20: Kč | G20: =SUM(G17:G18) -> 0
A21: 10
A22: 11
A23: p.č. | B23: kód | C23: popis | D23: m. j.. | E23: počet m.j.. | F23: jednotková cena / m.j. | G23: cena celkem | H23: hmoty t / celkem
A24: 13 | C24: 1)Soupis prací a dodávek je zpracován dle Vyhlášky 169 ze dne 12.05.2016
A25: 14 | C25: 2) Neopominutelným podkladem pro ocenění je projektová dokumentace a technické zprávy.
A26: 15 | C26: 3) Při oceňování díla stavební firmou je PD a TZ technicky i technologicky nadřazena soupisu prací a dodávek s výkazem výměr . Zhotovitel díla odpovídá za to, že provedl kontrolu kompletnosti seznamu operací v soupise prací a dodávek s výkazem výměr a do své nabídky zahrnul veškeré dodávky a kompletní provedení prací nutné k provedení díla, které je předmětem smlouvy a bude schopno plnit svoji funkci po dobu několika desítek let.
A27: 16 | C27: 4) Hutnění konstrukcí nových i stávajících po demontáži. Konstrukce pro zpevnění hutnit po jednotlivých podkladních vrstvách dle PD a IGP k příslušejícímu SO.
A28: 17 | C28: 5) Detaily a podrobnosti dle PD+TZ
A29: 18 | C29: 6) Likvidace kovových částí: Veškeré kovové části budou před odvozem k prodeji zváženy a jejich hmotnost zapsána do Stavebního deníku. Následně budou odvezeny a prodány jako druhotné suroviny do Kovošrotu za cenu platnou v den prodeje. Jejich výtěžek bude poslán na účet investora ve výši ceny platné v den prodeje.
A30: 19 | C30: 7) Jednotková cena obsahuje přesun hmot, není-li uvedeno samostatně.
A31: 20 | C31: 8) Výměry jsou vykázány odměřením nebo změřeno digitálně z výkresů PD k příslušnému SO
A32: 21 | C32: 9)Hutnění (zeminy) konstrukcí nových i stávajících (po demontáži nášlapných vrstev s ložem): konstrukce pro zpevnění hutnit po jednotlivých podkladních vrstvách dle PD a IGP
A33: 22 | C33: 10) Detaily a podrobnosti dle PD a TZ .
A34: 23 | C34: 11) Spárořez dle PD
A35: 24 | C35: 12) Zemní práce dle DP a IGP
... A43: 32 | C43: 20) Přesuny hmot jsou započítány v ceně, není-li uvedeno jinak.
A44: 33 | C44: VODOVODNÍ PŘÍPOJKA | D44: Kč | E44: celkem | G44: =SUM(G46:G157) -> 0 | H44: =SUM(H46:H154) -> 284.42256
A45: 34 | C45: Podrobnosti viz v.č. 19 013 DPS- D.1.04.02 - 04
A46: 35 | B46: 871171911/R | C46: Vodovodní přípojka PE 100SDR11PN16 40x3,7mm, výměra: 8,03mm, včetně tvarovek-kolen, odboček apod | D46: bm | E46: 8.03 | G46: =E46*F46 -> 0 | H46: 0
A47: 36 | B47: 28613640/R | C47: Dtto specifikace, potrubí vodovodní třívrstvé PE100 SDR11 s dodatečným opláštěním a integrovaným detekčním vodičem, 40 x 3,7mm včetně kolen, odboček apod. | D47: bm | E47: =8.03*1.03 -> 8.2709 | G47: =E47*F47 -> 0 | H47: =0.00067*E47 -> 0.005541503
A48: 37 | B48: PC | C48: Dodávka+montáž, Napojení přípojky na řad, zemní zákopová souprava (cena a způsob napojení bude upřesněn po odhalení stáv. potrubí), např. pomocí navrtávacího pasu na stávající veřejný řad LT100, očištění potrubí v dl. min. 500mm. Kompletní provedení. | D48: ks | E48: 1 | G48: =E48*F48 -> 0 | H48: 0.01
A49: 38 | C49: Vodoměrná šachta
A50: 39 | B50: 56230512 | C50: Šachta vodoměrná hranatá tl včetně výztuhy 0,9/1,2/1,4 m - specifikace | D50: ks | E50: 1 | G50: =E50*F50 -> 0 | H50: =0.075*1 -> 0.075
A51: 40 | B51: 893811112 | C51: Dtto, avšak jen osazení | D51: ks | E51: 1 | G51: =E51*F51 -> 0 | H51: 0.015
A52: 41 | B52: 28614188 | C52: Poklop litinový D400 dodávka + montáž , kompletní provedení (upřesní se dle montážní dokumentace | D52: ks | E52: 1 | G52: =E52*F52 -> 0 | H52: 0.0538
...

Sheet SO 401
C1: Rozpočet
C2: název stavby
C3: NÁMĚSTÍ BĚCHOVICE
C6: název části stavby
C7: SO 401 Veřejné osvětlení
A12: 1 | C12: Rekapitulace nákladů
A13: 2 | C13: SO 401 Veřejné osvětlení | D13: Kč | G13: =SUM(G46:G119) -> 0
A14: 3
A15: 4 | C15: ZRN mezisoučet bez DPH 21% | D15: Kč | G15: =SUM(G13:G14) -> 0
A16: 5 | C16: VRN - GZS | D16: Kč | E16: 0.03 | G16: =G15*E16 -> 0
A17: 6 | C17: celkem bez DPH 21% | D17: Kč | G17: =SUM(G15:G16) -> 0
A18: 7 | C18: DPH 21% | D18: Kč | E18: 0.21 | G18: =G17*E18 -> 0
A19: 8
A20: 9 | C20: Náklady celkem včetně DPH 21% | D20: Kč | G20: =SUM(G17:G18) -> 0
A21: 10
A22: 11
A23: p.č. | B23: kód | C23: popis | D23: m. j.. | E23: počet m.j.. | F23: jednotková cena / m.j. | G23: cena celkem | H23: hmoty t / celkem
A24: 13 | C24: 1)Soupis prací a dodávek je zpracován dle Vyhlášky 169 ze dne 12.05.2016
A25: 14 | C25: 2) Neopominutelným podkladem pro ocenění je projektová dokumentace.
A26: 15 | C26: 3) Při oceňování díla stavební firmou je PD a TZ technicky i technologicky nadřazena soupisu prací a dodávek s výkazem výměr . Zhotovitel díla odpovídá za to, že provedl kontrolu kompletnosti seznamu operací v soupise prací a dodávek s výkazem výměr a do své nabídky zahrnul veškeré dodávky a kompletní provedení prací nutné k provedení díla, které je předmětem smlouvy a bude schopno plnit svoji funkci po dobu několika desítek let.
A27: 16 | C27: 4) Hutnění konstrukcí nových i stávajících po demontáži. Konstrukce pro zpevnění hutnit po jednotlivých podkladních vrstvách dle PD a IGP k příslušejícímu SO.
A28: 17 | C28: 5) Detaily a podrobnosti dle PD
A29: 18 | C29: 6) Likvidace kovových částí: Veškeré kovové části budou před odvozem k prodeji zváženy a jejich hmotnost zapsána do Stavebního deníku. Následně budou odvezeny a prodány jako druhotné suroviny do Kovošrotu za cenu platnou v den prodeje. Jejich výtěžek bude poslán na účet investora ve výši ceny platné v den prodeje.
A30: 19 | C30: 7) Jednotková cena obsahuje přesun hmot, není-li uvedeno samostatně.
A31: 20 | C31: 8) Výměry jsou vykázány odměřením nebo změřeno digitálně z výkresů PD k příslušnému SO
A32: 21 | C32: 9)Hutnění (zeminy) konstrukcí nových i stávajících (po demontáži nášlapných vrstev s ložem): konstrukce pro zpevnění hutnit po jednotlivých podkladních vrstvách dle PD a IGP
A33: 22 | C33: 10) Detaily a podrobnosti dle PD
A34: 23 | C34: 11) Spárořez dle PD
A35: 24 | C35: 12) Zemní práce dle DP a IGP
... A47: 36 | C47: A1) Kabelové rozvody silnoproudu (vč. Trubkovodů)
A48: 37 | B48: D+M | C48: Kabel CYKY J 4x16 | D48: m | E48: 350 | G48: =E48*F48 -> 0
A49: 38 | B49: D+M | C49: Vodič FeZn prům 10mm | D49: m | E49: 350 | G49: =E49*F49 -> 0
A50: 39 | B50: D+M | C50: Svorka zemní propojovací | D50: ks | E50: 25 | G50: =E50*F50 -> 0
A51: 40 | B51: D+M | C51: Svorka zemní odbočovací | D51: ks | E51: 12 | G51: =E51*F51 -> 0
A52: 41 | B52: D+M | C52: Svorka zemní připojovací | D52: ks | E52: 12 | G52: =E52*F52 -> 0
A53: 42 | B53: D | C53: Trubka kopoflex prům. 110mm | D53: m | E53: 300 | G53: =E53*F53 -> 0
A54: 43 | C54: A2) Ukončení a připojení kabelů
A55: 44 | B55: D+M | C55: Připojení nového stožáru smyčkou | D55: ks | E55: 7 | G55: =E55*F55 -> 0
A56: 45 | B56: D+M | C56: Připojení nového stožáru odbočkou | D56: ks | E56: 1 | G56: =E56*F56 -> 0
A57: 46 | B57: D+M | C57: Připojení (přepojení) stávajícího stožáru | D57: ks | E57: 5 | G57: =E57*F57 -> 0
...

Sheet SO 402
C1: Rozpočet
C2: název stavby
C3: NÁMĚSTÍ BĚCHOVICE
C6: název části stavby
C7: SO 402 Elektro silnoproud
A11: 1 | C11: Rekapitulace nákladů
A12: 2 | C12: SO 402 Elektro silnoproud | D12: Kč | G12: =SUM(G43:G141) -> 0
A13: 3
A14: 4 | C14: ZRN mezisoučet bez DPH 21% | D14: Kč | G14: =SUM(G12:G13) -> 0
A15: 5 | C15: VRN - GZS | D15: Kč | E15: 0.03 | G15: =G14*E15 -> 0
A16: 6 | C16: celkem bez DPH 21% | D16: Kč | G16: =SUM(G14:G15) -> 0
A17: 7 | C17: DPH 21% | D17: Kč | E17: 0.21 | G17: =G16*E17 -> 0
A18: 8
A19: 9 | C19: Náklady celkem včetně DPH 21% | D19: Kč | G19: =SUM(G16:G17) -> 0
A20: 10
A21: 11
A22: p.č. | B22: kód | C22: popis | D22: m. j.. | E22: počet m.j.. | F22: jednotková cena / m.j. | G22: cena celkem | H22: hmoty t / celkem
A23: 13 | C23: 1)Soupis prací a dodávek je zpracován dle Vyhlášky 169 ze dne 12.05.2016
A24: 14 | C24: 2) Neopominutelným podkladem pro ocenění je projektová dokumentace.
A25: 15 | C25: 3) Při oceňování díla stavební firmou je PD a TZ technicky i technologicky nadřazena soupisu prací a dodávek s výkazem výměr . Zhotovitel díla odpovídá za to, že provedl kontrolu kompletnosti seznamu operací v soupise prací a dodávek s výkazem výměr a do své nabídky zahrnul veškeré dodávky a kompletní provedení prací nutné k provedení díla, které je předmětem smlouvy a bude schopno plnit svoji funkci po dobu několika desítek let.
A26: 16 | C26: 4) Hutnění konstrukcí nových i stávajících po demontáži. Konstrukce pro zpevnění hutnit po jednotlivých podkladních vrstvách dle PD a IGP k příslušejícímu SO.
A27: 17 | C27: 5) Detaily a podrobnosti dle PD
A28: 18 | C28: 6) Likvidace kovových částí: Veškeré kovové části budou před odvozem k prodeji zváženy a jejich hmotnost zapsána do Stavebního deníku. Následně budou odvezeny a prodány jako druhotné suroviny do Kovošrotu za cenu platnou v den prodeje. Jejich výtěžek bude poslán na účet investora ve výši ceny platné v den prodeje.
A29: 19 | C29: 7) Jednotková cena obsahuje přesun hmot, není-li uvedeno samostatně.
A30: 20 | C30: 8) Výměry jsou vykázány odměřením nebo změřeno digitálně z výkresů PD k příslušnému SO
A31: 21 | C31: 9)Hutnění (zeminy) konstrukcí nových i stávajících (po demontáži nášlapných vrstev s ložem): konstrukce pro zpevnění hutnit po jednotlivých podkladních vrstvách dle PD a IGP
A32: 22 | C32: 10) Detaily a podrobnosti dle PD
A33: 23 | C33: 11) Spárořez dle PD
A34: 24 | C34: 12) Zemní práce dle DP a IGP
... A44: 34 | C44: A) Dodávky rozvaděčů
A45: 35 | C45: Rozvaděč RE skříň 500x600x250 dle standardu ČEZ – výzbroj dle výkresu č. 19-013-DPS-D.1-06-01-02 | D45: ks | E45: 1 | G45: =E45*F45 -> 0
A46: 36 | C46: B) Hlavní montážní materiál
A47: 37 | C47: B1) Kabelové rozvody silnoproudu (vč. trubkovodů)
A48: 38 | C48: Kabel CYKY J 4x70 | D48: bm | E48: 3 | G48: =E48*F48 -> 0
A49: 39 | C49: B2) Ukončení a připojení kabelů
A50: 40 | C50: Ukončení a připojení kabelů CYKY J 4x70 | D50: ks | E50: 2 | G50: =E50*F50 -> 0
A51: 41 | C51: B3) Ostatní
A52: 42 | C52: Revize el. zařízení a kompletní zkoušky | D52: kpl | E52: 1 | G52: =E52*F52 -> 0
A53: 43 | C53: 02 část Architektonické osvětlení a technologické rozvody
A54: 44 | C54: A) Dodávky rozvaděčů
...

Sheet SO 403
C1: Rozpočet
C2: NÁMĚSTÍ BĚCHOVICE
C5: název části stavby
C6: SO 403 Přeložka optického kabelu T-Mobile
A10: 1 | C10: Rekapitulace nákladů
A11: 2 | C11: SO 403 Přeložka optického kabelu T-Mobile | D11: Kč | G11: =SUM(G42:G77) -> 0
A12: 3
A13: 4 | C13: ZRN mezisoučet bez DPH 21% | D13: Kč | G13: =SUM(G11:G12) -> 0
A14: 5 | C14: GZS | D14: Kč | E14: 0.03 | G14: =G13*E14 -> 0
A15: 6 | C15: celkem bez DPH 21% | D15: Kč | G15: =SUM(G13:G14) -> 0
A16: 7 | C16: DPH 21% | D16: Kč | E16: 0.21 | G16: =G15*E16 -> 0
A17: 8
A18: 9 | C18: Náklady celkem včetně DPH 21% | D18: Kč | G18: =SUM(G15:G16) -> 0
A19: 10
A20: 11
A21: p.č. | B21: kód | C21: popis | D21: m. j.. | E21: počet m.j.. | F21: jednotková cena / m.j. | G21: cena celkem | H21: hmoty t / celkem
A22: 13 | C22: 1)Soupis prací a dodávek je zpracován dle Vyhlášky 169 ze dne 12.05.2016
A23: 14 | C23: 2) Neopominutelným podkladem pro ocenění je projektová dokumentace.
A24: 15 | C24: 3) Při oceňování díla stavební firmou je PD a TZ technicky i technologicky nadřazena soupisu prací a dodávek s výkazem výměr . Zhotovitel díla odpovídá za to, že provedl kontrolu kompletnosti seznamu operací v soupise prací a dodávek s výkazem výměr a do své nabídky zahrnul veškeré dodávky a kompletní provedení prací nutné k provedení díla, které je předmětem smlouvy a bude schopno plnit svoji funkci po dobu několika desítek let.
A25: 16 | C25: 4) Hutnění konstrukcí nových i stávajících po demontáži. Konstrukce pro zpevnění hutnit po jednotlivých podkladních vrstvách dle PD a IGP k příslušejícímu SO.
A26: 17 | C26: 5) Detaily a podrobnosti dle PD
A27: 18 | C27: 6) Likvidace kovových částí: Veškeré kovové části budou před odvozem k prodeji zváženy a jejich hmotnost zapsána do Stavebního deníku. Následně budou odvezeny a prodány jako druhotné suroviny do Kovošrotu za cenu platnou v den prodeje. Jejich výtěžek bude poslán na účet investora ve výši ceny platné v den prodeje.
A28: 19 | C28: 7) Jednotková cena obsahuje přesun hmot, není-li uvedeno samostatně.
A29: 20 | C29: 8) Výměry jsou vykázány odměřením nebo změřeno digitálně z výkresů PD k příslušnému SO
A30: 21 | C30: 9)Hutnění (zeminy) konstrukcí nových i stávajících (po demontáži nášlapných vrstev s ložem): konstrukce pro zpevnění hutnit po jednotlivých podkladních vrstvách dle PD a IGP
A31: 22 | C31: 10) Detaily a podrobnosti dle PD
A32: 23 | C32: 11) Spárořez dle PD
A33: 24 | C33: 12) Zemní práce dle DP a IGP
... A42: 33 | C42: MATERIÁL
A43: 34 | C43: HDPE 40/33 - Žlutá (popis dle požadavku T-Mobile) | D43: m | E43: 67.98 | G43: =E43*F43 -> 0
A44: 35 | C44: HDPE 40/33 - Žlutá s červeným pruhem (popis dle požadavku T-Mobile) | D44: m | E44: 67.98 | G44: =E44*F44 -> 0
A45: 36 | C45: HDPE 40/33 - Žlutá s modrým pruhem (popis dle požadavku T-Mobile) | D45: m | E45: 67.98 | G45: =E45*F45 -> 0
A46: 37 | C46: Chránička korugovaná 125 mm do překopu | D46: m | E46: 7 | G46: =E46*F46 -> 0
A47: 38 | C47: Spojka na HDPE | D47: ks | E47: 5 | G47: =E47*F47 -> 0
A48: 39 | C48: Koncovka na HDPE | D48: ks | E48: 9 | G48: =E48*F48 -> 0
A49: 40 | C49: Kabelová komora CB 2436-660 | D49: ks | E49: 1 | G49: =E49*F49 -> 0
A50: 41 | C50: Víko kabelové komory - zadlažďovací | D50: ks | E50: 1 | G50: =E50*F50 -> 0
A51: 42 | C51: výstražná fólie | D51: m | E51: 66 | G51: =E51*F51 -> 0
A52: 43 | C52: Deska plastová | D52: m | E52: 66 | G52: =E52*F52 -> 0
A53: 44 | C53: Recyklát včetně dopravy | D53: m3 | E53: 1.652 | G53: =E53*F53 -> 0
...

Sheet SO 701
C1: Rozpočet
C2: název stavby
C3: NÁMĚSTÍ BĚCHOVICE
C6: název části stavby
C7: SO 701 - Fontána stavební řešení
A11: 1 | C11: Rekapitulace nákladů
A12: 2 | C12: SO 701 - Fontána stavební řešení | D12: Kč | G12: =SUM(G48:G249) -> 0
A13: 3
A14: 4 | C14: ZRN mezisoučet bez DPH 21% | D14: Kč | G14: =SUM(G12:G13) -> 0
A15: 5 | C15: VRN - GZS | D15: Kč | E15: 0.03 | G15: =G14*E15 -> 0
A16: 6 | C16: celkem bez DPH 21% | D16: Kč | G16: =SUM(G14:G15) -> 0
A17: 7 | C17: DPH 21% | D17: Kč | E17: 0.21 | G17: =G16*E17 -> 0
A18: 8
A19: 9 | C19: Náklady celkem včetně DPH 21% | D19: Kč | G19: =SUM(G16:G17) -> 0
A20: 10
A21: 11
A22: p.č. | B22: kód | C22: popis | D22: m. j.. | E22: počet m.j.. | F22: jednotková cena / m.j. | G22: cena celkem | H22: hmoty t / celkem
A23: 14 | C23: 1)Soupis prací a dodávek je zpracován dle Vyhlášky 169 ze dne 12.05.2016
A24: 15 | C24: 2) Neopominutelným podkladem pro ocenění je projektová dokumentace.
A25: 16 | C25: 3) Při oceňování díla stavební firmou je PD a TZ technicky i technologicky nadřazena soupisu prací a dodávek s výkazem výměr. Zhotovitel díla odpovídá za to, že provedl kontrolu kompletnosti seznamu operací v soupise prací a dodávek s výkazem výměr a do své nabídky zahrnul veškeré dodávky a kompletní provedení prací nutné k provedení díla, které je předmětem smlouvy a bude schopno plnit svoji funkci po dobu několika desítek let.
A26: 17 | C26: 4) Hutnění konstrukcí nových i stávajících po demontáži. Konstrukce pro zpevnění hutnit po jednotlivých podkladních vrstvách dle PD a IGP k příslušejícímu SO.
A27: 18 | C27: 5) Detaily a podrobnosti dle PD
A28: 19 | C28: 6) Likvidace kovových částí: Veškeré kovové části budou před odvozem k prodeji zváženy a jejich hmotnost zapsána do Stavebního deníku. Následně budou odvezeny a prodány jako druhotné suroviny do Kovošrotu za cenu platnou v den prodeje. Jejich výtěžek bude poslán na účet investora ve výši ceny platné v den prodeje.
A29: 20 | C29: 7) Jednotková cena obsahuje přesun hmot, není-li uvedeno samostatně.
A30: 21 | C30: 8) Výměry jsou vykázány odměřením nebo změřeno digitálně z výkresů PD k příslušnému SO
A31: 22 | C31: 9)Hutnění (zeminy) konstrukcí nových i stávajících (po demontáži nášlapných vrstev s ložem): konstrukce pro zpevnění hutnit po jednotlivých podkladních vrstvách dle PD a IGP
A32: 23 | C32: 10) Detaily a podrobnosti dle PD
A33: 24 | C33: 11) Spárořez dle PD
A34: 25 | C34: 12) Zemní práce dle DP a IGP
... A49: 40 | C49: Základy fontány, palisády a sochy
A50: 41 | B50: 279113154 | C50: Základová zeď tl 300mm z tvárnic ztraceného bednění včetně výplně z betonu tř. C 25/30 | D50: m2 | E50: =1.45*(0.9*4+1.53*6+0.94*6+0.53) -> 27.4775 | G50: =E50*F50 -> 0 | H50: =0.71546*E50 -> 19.659052
A51: 42 | C51: fontána 1,45*(0,9*4+1,53*6+0,94*6+0,53)
A52: 43 | B52: 279113151 | C52: Základová zeď tl 150 mm z tvárnic ztraceného bednění včetně výplně z betonu tř. C 25/30 | D52: m2 | E52: =1.45*(1.25+0.7) -> 2.8275 | G52: =E52*F52 -> 0 | H52: =0.36277*E52 -> 1.0257322
A53: 44 | C53: fontána - (pod schody)1,45*(1,25+0,70))
A54: 45 | B54: 279113156 | C54: Základová zeď tl 500 mm z tvárnic ztraceného bednění včetně výplně z betonu tř. C 25/30 | D54: m2 | E54: 23.1 | G54: =E54*F54 -> 0 | H54: =1.20855*E54 -> 27.917505
A55: 46 | C55: palisáda 23,10m2
A56: 47 | B56: 279361821 | C56: (pro fontánu,palisádu,fontána-pod schody) Výztuž základových zdí nosných betonářskou ocelí B500B Ø R12- výměry : (0,97kg/bm)*(8+8)ks/m2* (27,48+2,83+23,10)m2*1,20%přesah*0,001 | D56: t | E56: =0.97*16*(23.1+2.83+27.48)*1.2*0.001 -> 0.99470784 | G56: =E56*F56 -> 0 | H56: =1.0584*E56 -> 1.0527988
A57: 48 | B57: 275321511 | C57: Základové patky ze ŽB bez zvýšených nároků na prostředí tř. C 25/30 | D57: m3 | E57: =0.9*1.45*1.08+(0.9*1.95*0.97) -> 3.11175 | G57: =E57*F57 -> 0 | H57: =2.45329*E57 -> 7.6340252
A58: 49 | C58: část fontány+socha ; 0,90*1,45*1,080+(0,90*1,95*0,97)
A59: 50 | B59: 275351121 | C59: Zřízení bednění základových patek (1,80+1,45+0,90+0,50+0,90+1,95)*1,08+(0,30*1,45)+(0,35*1,45)*2+(0,30*0,35)*2 | D59: m2 | E59: =(1.8+1.45+0.9+0.5+0.9+1.95)*1.08+(0.3*1.45)+(0.35*1.45)*2+(0.3*0.35)*2 -> 9.76 | G59: =E59*F59 -> 0 | H59: =0.00264*E59 -> 0.0257664
...

Sheet SO 702-technologie
A2: SO 702 - TECHNOLOGIE FONTÁNY BĚCHOVICE, podrobnosti viz. D.1.08.01-12
A4: Pol. | C4: Zařízení | D4: MJ | E4: Počet | F4: Cena jed. | G4: Cena celkem
C5: I. Technologie úpravny vody
A6: 1 | B6: 1.1 | C6: Pískový jednovrstvý laminátový filtr; Ø500 mm, ovzduš. a vypouštěcí ventil | D6: ks | E6: 1 | G6: =F6*E6 -> 0
A7: 2 | B7: 1.2 | C7: Ventil filtrace šesticestný G6/4" - automatický - časové řízení + tlakové řízení, umístění horní, napájení: 230 V AC/50 Hz - horní umístění | D7: ks | E7: 1 | G7: =F7*E7 -> 0
A8: 3 | C8: Písková náplň - hrubý písek, frakce 1-2mm | D8: kg | E8: 25 | G8: =F8*E8 -> 0
A9: 4 | C9: Písková náplň - jemný písek, frakce 0,4-0,8mm | D9: kg | E9: 50 | G9: =F9*E9 -> 0
A10: 5 | B10: 1.3 | C10: Čerpadlo filtrace horizontální s předfiltrem plast Q=6,0m³/hod, H=10m, P=0,25kW, U=230V - horizontální provedení; materiál: tělo plast , oběžné kolo plast, hřídel nerez ocel, ucpávka keramická, síto PP; krytí IP55; 2-pólový asynchronní motor, 50 Hz (n = 2850 rpm); třída izolace F | D10: ks | E10: 1 | G10: =F10*E10 -> 0
A11: 6 | B11: 1.4 | C11: UV reaktor nízkotlaký, P=0,11kW, U=230V | D11: ks | E11: 1 | G11: =F11*E11 -> 0
A12: 7 | B12: 1.5 | C12: Regulátor chemického hospodářství - měření pH a ORP; integrovaná čerpadla; průtok čerpadla: 1,5 l/h; maximální zpětný tlak: 1,5 barů; napěťový signál: 100–240 V AC, 2x vstup pro hladinovou sondu; krytí IP65; napájení: 230 V AC/50 Hz | D12: ks | E12: 1 | G12: =F12*E12 -> 0
A13: 8 | B13: 1.6 | C13: Zásobník dezinfikant - 20l | D13: ks | E13: 1 | G13: =F13*E13 -> 0
A14: 9 | B14: 1.7 | C14: Zásobník pH korektor - 20l | D14: ks | E14: 1 | G14: =F14*E14 -> 0
A15: 10 | B15: 1.8 | C15: Záchytná vana pro zásobník | D15: ks | E15: 2 | G15: =F15*E15 -> 0
A16: 11 | B16: 1.9 | C16: Akumulační nádrž 2,83 x 1,73 x 1,45m - PP svařenec, vevařená dopadová komora s úchyty pro síto | D16: ks | E16: 1 | G16: =F16*E16 -> 0
A17: 12 | B17: 1.10 | C17: Vodoměr vodní prvek napouštění G 1'', DN20, Q3 2,5; montáž do horizontální polohy | D17: ks | E17: 1 | G17: =F17*E17 -> 0
A18: 13 | B18: 1.11 | C18: Zachycovač mechanických nečistot DN25 - manuální | D18: ks | E18: 1 | G18: =F18*E18 -> 0
A19: 14 | B19: 1.12 | C19: Ventil s el. pohonem G 1'', P=15W, U=230V | D19: ks | E19: 1 | G19: =F19*E19 -> 0
A20: 15 | B20: 1.13 | C20: Kalové čerpadlo (kalník) Q=10,2m³/hod, H=4m, P=0,7kW, U=230V - nerez materiál, ponorné | D20: ks | E20: 1 | G20: =F20*E20 -> 0
A21: 16 | B21: 1.14 | C21: Kalové čerpadlo (akumulační nádrž) Q=10,2m³/hod, H=4m, P=0,7kW, U=230V - nerez materiál, ponorné | D21: ks | E21: 1 | G21: =F21*E21 -> 0
C22: Mezisoučet technologie úpravny vody | G22: =SUM(G6:G21) -> 0
C23: II. Okruh potok
A24: 17 | B24: 1.15 | C24: Čerpadlo potoka - Q=54,8m³/hod, H=11,3m, P=3,0kW, U=230/400V - horizontální provedení; materiál: tělo litina, oběžné kolo litina, hřídel nerez ocel, ucpávka uhlík - keramika - NBR; krytí IP54; 4-pólový asynchronní motor, 50 Hz (n=1450 rpm); třída izolace F | D24: ks | E24: 1 | G24: =F24*E24 -> 0
A25: 18 | B25: 1.16 | C25: Zachycovač mechanických nečistot DN150 , 60l | D25: ks | E25: 1 | G25: =F25*E25 -> 0
C26: Mezisoučet potok | G26: =SUM(G24:G25) -> 0
C27: III. Osvětlení
A28: 19 | B28: 1.17 | C28: LED pásek IP68 WW, 2700K, nerezové pouzdro, l=400mm | D28: ks | E28: 7 | G28: =F28*E28 -> 0
A29: 20 | B29: 1.18 | C29: LED pásek IP68 RGB, 4000K, nerezové pouzdro, l=400mm | D29: ks | E29: 1 | G29: =F29*E29 -> 0
A30: 21 | C30: Kontroler RGB - pevně nastavené programy | D30: ks | E30: 1 | G30: =F30*E30 -> 0
C31: Mezisoučet osvětlení | G31: =SUM(G28:G30) -> 0
C32: IV. Zámečnické konstrukce
A33: 22 | B33: 1.19 | C33: Nerezový prostup DN25 - elektro LED - potok, mat. 1.4301 | D33: ks | E33: 7 | G33: =ROUND(E33*F33,0) -> 0
A34: 23 | B34: 1.20 | C34: Nerezový prostup DN80 - plnění - běžec, mat. 1.4301 | D34: ks | E34: 1 | G34: =ROUND(E34*F34,0) -> 0
A35: 24 | B35: 1.21 | C35: Nerezový prostup DN100 - plnění - potok, mat. 1.4301 | D35: ks | E35: 1 | G35: =ROUND(E35*F35,0) -> 0
A36: 25 | B36: 1.22 | C36: Nerezový prostup DN200 - vratka (odbočka)- strojovna, mat. 1.4301 | D36: ks | E36: 1 | G36: =ROUND(E36*F36,0) -> 0
A37: 26 | B37: 1.23 | C37: Nerezový prostup DN200 - vratka (koncovka)- strojovna, mat. 1.4301 | D37: ks | E37: 1 | G37: =ROUND(E37*F37,0) -> 0
A38: 27 | B38: 1.24 | C38: Nerezový šachtový přeliv 600x450/DN200 - potok, mat. 1.4301 | D38: ks | E38: 1 | G38: =ROUND(E38*F38,0) -> 0
A39: 28 | B39: 1.25 | C39: Nerezový pororošt plnění - potok, mat. 1.4301 | D39: ks | E39: 1 | G39: =ROUND(E39*F39,0) -> 0
A40: 29 | B40: 1.26 | C40: Nerezový pororošt šachtového přelivu 590x440mm - potok, mat. 1.4301 | D40: ks | E40: 1 | G40: =ROUND(E40*F40,0) -> 0
A41: 30 | B41: 1.27 | C41: Nerezový pororošt kalníku 490x490mm - strojovna, mat. 1.4301 | D41: ks | E41: 1 | G41: =ROUND(E41*F41,0) -> 0
A42: 31 | B42: 1.28 | C42: Nerezové síto 740x600mm - AN - oka 10mm, mat. 1.4301 | D42: ks | E42: 2 | G42: =ROUND(E42*F42,0) -> 0
...

Sheet SO 702-elektroinstalace
A2: SO 702 - ELEKTROTECHNOLOGIE FONTÁNY BĚCHOVICE
A4: Pol. | C4: Zařízení | D4: MJ | E4: Počet | F4: Cena jed. | G4: Cena celkem
C5: I. Elektroinstalace
C6: I.Elektrotechnologie
C7: ROZVODNICE
A8: 1 | C8: Rozvodnice 800x600x230 + motážní deska IP65 | D8: ks | E8: 1 | G8: =F8*E8 -> 0
A9: 2 | C9: PG11------ Vývodka PG11 s maticí | D9: ks | E9: 12 | G9: =F9*E9 -> 0
A10: 3 | C10: PG13,5---- Vývodka PG13,5 s maticí | D10: ks | E10: 1 | G10: =F10*E10 -> 0
A11: 4 | C11: PG21------ Vývodka PG21 s maticí | D11: ks | E11: 1 | G11: =F11*E11 -> 0
C12: VODIČ JEDNOŽILOVÝ OHEBNÝ (CYA)
A13: 5 | C13: H05V-K 1 mm2 , pevně | D13: m | E13: 100 | G13: =F13*E13 -> 0
A14: 6 | C14: H07V-K 2.5 mm2 , pevně | D14: m | E14: 16 | G14: =F14*E14 -> 0
C15: SONDY k HLADINOVÉMU RELÉ
A16: 7 | C16: SHR-2 hladinová sonda - nerezová elektroda uložená v PVC krytu | D16: ks | E16: 10 | G16: =F16*E16 -> 0
A17: 8 | C17: B6/1 Jistič , char B, 1-pólový | D17: ks | E17: 4 | G17: =F17*E17 -> 0
A18: 9 | C18: APN-32-3 Páčkový spínač | D18: Ks | E18: 1 | G18: =F18*E18 -> 0
A19: 10 | C19: B10/1 , char B, 1-pólový | D19: ks | E19: 3 | G19: =F19*E19 -> 0
A20: 11 | C20: MS 10A , 3-pólový | D20: ks | E20: 1 | G20: =F20*E20 -> 0
A21: 12 | C21: 40-20-A230 Instalační stykač | D21: Ks | E21: 1 | G21: =F21*E21 -> 0
A22: 13 | C22: 20-20-A230 Instalační stykač | D22: Ks | E22: 3 | G22: =F22*E22 -> 0
A23: 14 | C23: 40/4/003 Chránič Ir=250A, typ A/G, 4-pól | D23: ks | E23: 1 | G23: =F23*E23 -> 0
A24: 15 | C24: BO668610-- Jistič s chráničem B10/003/A | D24: ks | E24: 3 | G24: =F24*E24 -> 0
A25: 16 | C25: ST315 230V/24V DC,63VA | D25: ks | E25: 1 | G25: =F25*E25 -> 0
A26: 17 | C26: BZ325001-A Zásuvka ČSN,230V/16A,na DIN lištu | D26: ks | E26: 1 | G26: =F26*E26 -> 0
C27: HLADINOVÉ RELÉ
A28: 18 | C28: 1/230 hlídací hladiny s 1stavovým. i 2stav. hlídáním,hlídání ve dvou nezávislých nádržíchnastav.citlivost i čas.prodleva,měřící frekv. 50Hz | D28: ks | E28: 4 | G28: =F28*E28 -> 0
A29: 19 | C29: Frekvenční měnič 3,00kW 3-fázový | D29: ks | E29: 1 | G29: =F29*E29 -> 0
C30: SVORKOVNICE KRABICOVÁ | G30: =F30*E30 -> 0
A31: 20 | C31: 273-102 4x1-2,5mm2 | D31: ks | E31: 30 | G31: =F31*E31 -> 0
A32: 21 | C32: 273-105 5x1-2,5mm2 | D32: ks | E32: 20 | G32: =F32*E32 -> 0
C33: ŠNŮRA STŘEDNÍ PRYŽOVÁ | G33: =F33*E33 -> 0
A34: 22 | C34: H07RN-F-G 4x2.5 mm2 , pevně | D34: m | E34: 25 | G34: =F34*E34 -> 0
C35: KABEL SILOVÝ,IZOLACE PVC S VODIČEM PE | G35: =F35*E35 -> 0
A36: 23 | C36: CYKY-J 3x1.5 mm2 , pevně | D36: m | E36: 55 | G36: =F36*E36 -> 0
A37: 24 | C37: CYKY-J 3x2.5 mm2 , pevně | D37: m | E37: 25 | G37: =F37*E37 -> 0
A38: 25 | C38: CMFM 4x2.5 mm2 , pevně | D38: m | E38: 15 | G38: =F38*E38 -> 0
C39: OHEBNÁ CHRÁNIČKA KOPOFLEX | G39: =F39*E39 -> 0
A40: 26 | C40: KF09040 světlost 32mm | D40: m | E40: 40 | G40: =F40*E40 -> 0
C41: DK-KABELOVÉ KRABICOVÉ ROZVODKY IP 65 | G41: =F41*E41 -> 0
A42: 27 | C42: KF 8500 210x310x117, bez svorkovnice | D42: ks | E42: 1 | G42: =F42*E42 -> 0
...

Sheet SO 703
C1: Rozpočet
C2: název stavby
C3: NÁMĚSTÍ BĚCHOVICE
C6: název části stavby
C7: SO 703 Drobná architektura
A13: 1 | C13: Rekapitulace nákladů
A14: 2 | C14: SO 703 Drobná architektura | D14: Kč | G14: =G44 -> 0
A15: 3
A16: 4 | C16: ZRN mezisoučet bez DPH 21% | D16: Kč | G16: =SUM(G14:G15) -> 0
A17: 5 | C17: VRN - GZS | D17: Kč | E17: 0.03 | G17: =G16*E17 -> 0
A18: 6 | C18: celkem bez DPH 21% | D18: Kč | G18: =SUM(G16:G17) -> 0
A19: 7 | C19: DPH 21% | D19: Kč | E19: 0.21 | G19: =G18*E19 -> 0
A20: 8
A21: 9 | C21: Náklady celkem včetně DPH 21% | D21: Kč | G21: =SUM(G18:G19) -> 0
A22: 10
A23: p.č. | C23: popis | D23: m. j.. | E23: počet m.j.. | F23: jednotková cena / m.j. | G23: cena celkem
A24: 12 | C24: 1)Soupis prací a dodávek je zpracován dle Vyhlášky 169 ze dne 12.05.2016
A25: 13 | C25: 2) Neopominutelným podkladem pro ocenění je projektová dokumentace.
A26: 14 | C26: 3) Při oceňování díla stavební firmou je PD a TZ technicky i technologicky nadřazena soupisu prací a dodávek s výkazem výměr . Zhotovitel díla odpovídá za to, že provedl kontrolu kompletnosti seznamu operací v soupise prací a dodávek s výkazem výměr a do své nabídky zahrnul veškeré dodávky a kompletní provedení prací nutné k provedení díla, které je předmětem smlouvy a bude schopno plnit svoji funkci po dobu několika desítek let.
A27: 15 | C27: 4) Hutnění konstrukcí nových i stávajících po demontáži. Konstrukce pro zpevnění hutnit po jednotlivých podkladních vrstvách dle PD a IGP k příslušejícímu SO.
A28: 16 | C28: 5) Detaily a podrobnosti dle PD
A29: 17 | C29: 6) Likvidace kovových částí: Veškeré kovové části budou před odvozem k prodeji zváženy a jejich hmotnost zapsána do Stavebního deníku. Následně budou odvezeny a prodány jako druhotné suroviny do Kovošrotu za cenu platnou v den prodeje. Jejich výtěžek bude poslán na účet investora ve výši ceny platné v den prodeje.
A30: 18 | C30: 7) Jednotková cena obsahuje přesun hmot, není-li uvedeno samostatně.
A31: 19 | C31: 8) Výměry jsou vykázány odměřením nebo změřeno digitálně z výkresů PD k příslušnému SO
A32: 20 | C32: 9)Hutnění konstrukcí nových i stávajících (po demontáži nášlapných vrstev s ložem): konstrukce pro zpevnění hutnit po jednotlivých podkladních vrstvách dle PD
A33: 21 | C33: 10) Detaily a podrobnosti dle PD
A34: 22 | C34: 11) Spárořez dle PD
A35: 23 | C35: 12) Zemní práce dle DP a IGP
... A43: 31 | C43: 20) Přesuny hmot jsou započítány v ceně, není-li uvedeno jinak.
A44: 32 | C44: SO 703 Drobná architektura, podrobnosti viz. PD SO 703 - M01-M21 | D44: Kč | G44: =SUM(G46:G187) -> 0
A45: 33 | C45: M01-Lavička s opěradlem (atypická)- kompletní provedení, podrobnosti viz. PD SO 703 - M01
A46: 34 | B46: D+M | C46: Svařovaná ocelová konstrukce bočnic lavičky opatřená antikorozní úpravou s finální barevností RAL 7016 antracitová šedá, zabroušené sváry, sražené hrany, dřevěné latě sibiřský modřín kotvené nerezovými vruty s hvězdičkovitou hlavou sražené hrany, poznámka: délka nohy bude přizpůsobena tloušťce navazující dlažby. 4 ks jsou umístěny v dlažbě tl. 120 mm - tzn. noha lavičky bude delší o 60 mm, kotveno chemickými kotvami do betonového základu | D46: ks | E46: 12 | G46: =E46*F46 -> 0
A47: 35 | B47: 131213101 | C47: Hloubení jam v soudržných horninách třídy těžitelnosti I, skupiny 3 ručně | D47: m3 | E47: =E48 -> 5.184 | G47: =E47*F47 -> 0
A48: 36 | B48: 272311511 | C48: Betonová patka pro lavičku C 12/15 ; výměra 0,60*0,60*0,60*2*12 | D48: m3 | E48: =0.6*0.6*0.6*2*12 -> 5.184 | G48: =E48*F48 -> 0
A49: 37 | B49: 162251101 | C49: Vodorovné přemístění do 20 m výkopku/sypaniny z horniny třídy těžitelnosti I, skupiny 1 až 3 na meziskládku a zpět do zásypů | D49: m3 | E49: =E47 -> 5.184 | G49: =E49*F49 -> 0
A50: 38 | B50: 174151101 | C50: Zásyp sypaninou se zhutněním | D50: m3 | E50: =E48 -> 5.184 | G50: =E50*F50 -> 0
A51: 39 | B51: 953961200 | C51: Kotvení chemickými kotvami 4ks*M12*dl.165mm*2*12 včetně vyvrtání děr do betonového základu | D51: ks | E51: =4*2*12 -> 96 | G51: =E51*F51 -> 0
A52: 40 | C52: M02. Kruhová lavička bez opěradla (celý kruh kolem paty stromu)
A53: 41 | B53: D+M | C53: Sestava obloukových laviček na centrální noze, bez opěradla, poloměr oblouku cca 2000 mm, výseč jedné lavičky 45 stupňů. charakter konstrukce: ocelová konstrukce spojená s dřevěnými deskami pomocí šroubových spojů z nerezu. povrchová úprava: ocelová konstrukce bočnic je opatřena ochrannou vrstvou zinku a práškovým vypalovacím lakem ral 7016 antracitová šedá matná. každý segment lavičky má ocelovou konstrukci s šestnácti deskami z masivního dřeva lichoběžníkového tvaru obdélníkového průřezu délky 500 mm, tropické dřevo. skryté kotvení každé nohy do betonového základu 400x400x400 mm pomocí závitových tyčí 4x M12x165, průměr vrtání 14 mm, délka vrtání cca 130 mm, na jeden kruh celkem 8 betonových základů, beton C12/15, cca 0,064 m3, po výběru konkrétního výrobku lavičky bude v rámci dokumentace RDS dořešen detail návaznosti lavičky na kamenný obrubník a dlažbu, kompletní provedení. | D53: ks | E53: 24 | G53: =E53*F53 -> 0
A54: 42 | B54: D+M | C54: Průběžná noha pro stavebnici do oblouku - pro lavičky s dřevěnou výplní, kompletní provedení | D54: ks | E54: 24 | G54: =E54*F54 -> 0
...

Sheet SO 801
A1: akce: | D1: =+'[2]Rekapitulace projektu'!D1 -> Náměstí Běchovice
A2: investor : | D2: =+'[2]Rekapitulace projektu'!D2 -> Městská část Praha – Běchovice, Českobrodská 3, 190 11 Praha – Běchovice
A3: zpracoval: | D3: =+'[2]Rekapitulace projektu'!D3 -> Ing. Tomáš Pilař
A4: datum: | D4: =+'[2]Souhrn SO'!D4 -> 44301
I5: cena za objekt (součet dílčích položek):
A6: díl: | D6: SO 801 Vegetační úpravy | I6: =+SUM(I9:I134) -> 0 | J6: Kč
A8: klasifi kace | B8: číslo položky | C8: technologie | D8: položka | E8: počet/ koeficient položky pro technologii | F8: m.j. | G8: cena/m.j. (Kč) | H8: cena za položku v rámci techno logie (Kč) | I8: cena za položku (Kč) | J8: komentář/ dílčí výpočet
C9: výsadba soliterních stromů vel. 16-18 výpočet: +1+ 1+1+4+2+4+2+4 | E9: 19 | F9: ks | I9: =+E9*G9 -> 0 | J9: Hloubení jamky 250L s 50% výměnou půdy, dodání dřevin - školkařské výpěstky vel 16-18, stromy s balem, výsadba dřevin s balem, tříbodové kotvení (kůly min 2 m délky, prům. 6 cm, příčky 50 cm, úvazku podložené jutou), ochrana kmene rákosovou rohoží výšky min 150 cm), zásobní hnojení s dlouhodobou účinností, zahrnutí 50 g/ strom (ref. Silvamix), vytvoření stromové mísy, zálivka, mulč stromové mísy 10cm; komparativní řez
A10: T | B10: 183 10-1215/R | D10: hloubení jamek 0,125-0,40 m3 s 50% výměnou půdy půdy v rovině | E10: 1 | F10: ks | H10: =+E10*G10 -> 0
A11: M | D11: dodání ornice (0,15m3/strom) | E11: 0.125 | F11: m3 | H11: =+E11*G11 -> 0
A12: T | B12: 184 10-2114/R | D12: výsadba dřeviny s balem 50-60 cm v rovině | E12: 1 | F12: ks | H12: =+E12*G12 -> 0
A13: M | D13: dodání stromů (školkařské výpěstky s balem vel. 14-16) | E13: 1 | F13: ks | H13: =+E13*G13 -> 0 | J13: rostlinný materiál za technologii celkem: ApG: Acer platanoides ' Globosum' 3ks GtS: Gleditsia triacanthos 'Sunburst' 10ks Kp: Koeleuteria paniculata 2ks Ph: Platanus x hispanica 4ks
A14: T | B14: 185 80-2114/R | D14: hnojení minerálním hnojivem 40g/ks k vysazovaným rostlinám v rovině | E14: 0.05 | F14: kg | H14: =+E14*G14 -> 0
A15: M | D15: dodání dlouhodobě působícího hnojiva (ref Silvamix) | E15: 0.05 | F15: kg | H15: =+E15*G15 -> 0
A16: T | B16: 184 21-5133/R | D16: ukotvení dřeviny 3mi kůly 2-3m | E16: 1 | F16: ks | H16: =+E16*G16 -> 0
A17: M | D17: dodání kůlů a příček | E17: 1 | F17: sada | H17: =+E17*G17 -> 0 | J17: kůly 2,5m
A18: T | B18: 184 50-1141/R | D18: zhotovení obalu kmene z rákosové rohože v rovině | E18: =1.5*0.45 -> 0.675 | F18: m2 | H18: =+E18*G18 -> 0 | J18: rohož 1,5 m výšky, rozvinutá délka do 45 cm
A19: M | D19: dodání rákosové rohože ke krytí kmene | E19: =+E18 -> 0.675 | F19: m2 | H19: =+E19*G19 -> 0
A20: T | B20: 184 21-5413/R | D20: zhotovení závlahové mísy přes 1m u soliterních dřevin v rovině | E20: 1 | F20: ks | H20: =+E20*G20 -> 0
A21: T | B21: 184 91-1421/R | D21: mulčování borkou nebo štěpkou do 100mm | E21: 2 | F21: m2 | H21: =+E21*G21 -> 0
A22: M | B22: 185 91-1421/R | D22: dodání štěpky | E22: 0.1 | F22: m3 | H22: =+E22*G22 -> 0
A23: T | B23: 184 80-1121/R | D23: ošetření vysazených dřevin | E23: 1 | F23: ks | H23: =+E23*G23 -> 0
C25: rozvojová péče o výsadbu stromů 3 roky | E25: =+E9 -> 19 | F25: ks | I25: =+E25*G25 -> 0 | J25: v prvním roce: odplevelení stromové mísy 1x, zavlažování 16 x (50L), oprava poškozených úvazků a bandážování kmene; v druhém roce: zálivka 12 x (50L), ve třetím roce: zálivka 6 x (50L), odstranění opěr a bandážování kmene
A26: T | B26: 184 80-2613/R | D26: chemické odplevelení po založení kultury hnízdově | E26: 1.5 | F26: m2 | H26: =+E26*G26 -> 0 | J26: 20% plochy 3x, včetně přípravků
A27: T | B27: 184 91-1111/R | D27: znovuuvázání dřeviny ke stávajícímu kůlu | E27: 1 | F27: ks | H27: =+E27*G27 -> 0
A28: R | B28: 185 80-4311/R | D28: zalití ploch vodou, plochy do 20 m2 | E28: =(16+16+8)*0.05 -> 2 | F28: m3 | H28: =+E28*G28 -> 0 | J28: 50L/ks 40x, včetně vodného, odběr z řadu
A29: T | B29: 184 21-5173/R | D29: odstraněná kůlů | E29: 1 | F29: ks | H29: =+E29*G29 -> 0
A30: T | B30: 184 50-1181/R | D30: odstranění ochrany kmene | E30: 1 | F30: m2 | H30: =+E30*G30 -> 0
C32: výsadba soliterních stromů vel. 16-18 s kotvením za kořenový bal výpočet: +4+4+12 | E32: 20 | F32: ks | I32: =+E32*G32 -> 0 | J32: Hloubení jamky 800L se 100% výměnou půdy za lávový substrát (ref Gramoflor Vulkatec), dodání dřevin - školkařské výpěstky vel 16-18, stromy s balem, výsadba dřevin s balem, kotvení za kořenový bal (ref KOTVOS KSB-Z1), ochrana kmene rákosovou rohoží výšky min 150 cm), zásobní hnojení s dlouhodobou účinností, zahrnutí 50 g/ strom (ref. Silvamix), vytvoření stromové mísy, zálivka; komparativní řez - stromy v dlažbě: stromová mříž je obsahem jiné části dokumentace - stromy v rastru vedle kaple bez výměny substrátu (lávový substrát Vulkatec je použitý celoplošně v tl. min 350 mm jako podkladová vrstva dlažby)
A33: T | B33: 183 10-1321/R | D33: hloubení jamek 0,40-1,0 m3 se 100% výměnou půdy půdy v rovině | E33: 1 | F33: ks | H33: =+E33*G33 -> 0
A34: M | D34: dodání lávového substrátu (0,8m3/strom) | E34: 0.8 | F34: m3 | H34: =+E34*G34 -> 0
A35: T | B35: 184 10-2114/R | D35: výsadba dřeviny s balem 50-60 cm v rovině | E35: 1 | F35: ks | H35: =+E35*G35 -> 0
A36: M | D36: dodání stromů (školkařské výpěstky s balem vel. 16-18) | E36: 1 | F36: ks | H36: =+E36*G36 -> 0 | J36: rostlinný materiál za technologii celkem: Kp: Koeleuteria paniculata 8ks Ph_u: Platanus x hispanica ("_u" = "umbrella shape" - ve školce zapěstovaná plochá koruna) 12ks
A37: T | B37: 185 80-2114/R | D37: hnojení minerálním hnojivem 50g/ks k vysazovaným rostlinám v rovině | E37: 0.05 | F37: kg | H37: =+E37*G37 -> 0
A38: M | D38: dodání dlouhodobě působícího hnojiva (ref Silvamix) | E38: 0.05 | F38: kg | H38: =+E38*G38 -> 0
A39: T | B39: 184 21-5211/R | D39: ukotvení dřeviny podzemním kotvením do obvodu kmene 25 cm | E39: 1 | F39: ks | H39: =+E39*G39 -> 0
A40: M | D40: dodání sady pro kotvení za kořenový bal do obvodu kmene 20 cm | E40: 1 | F40: sada | H40: =+E40*G40 -> 0
A41: T | B41: 184 50-1141/R | D41: zhotovení obalu kmene z rákosové rohože v rovině | E41: =1.5*0.45 -> 0.675 | F41: m2 | H41: =+E41*G41 -> 0 | J41: rohož 1,5 m výšky, rozvinutá délka do 45 cm
A42: M | D42: dodání rákosové rohože ke krytí kmene | E42: =+E41 -> 0.675 | F42: m2 | H42: =+E42*G42 -> 0
A43: T | B43: 184 21-5413/R | D43: zhotovení závlahové mísy přes 1m u soliterních dřevin v rovině | E43: 1 | F43: ks | H43: =+E43*G43 -> 0
...

Sheet SO 101-pokyny pro vyplnění
C3: Struktura údajů, formát souboru a metodika pro zpracování
C4: Struktura
C6: Soubor je složen ze záložky Rekapitulace stavby a záložek s názvem soupisu prací pro jednotlivé objekty ve formátu XLSX. Každá ze záložek přitom obsahuje
C7: ještě samostatné sestavy vymezené orámovaním a nadpisem sestavy.
C9: Rekapitulace stavby obsahuje sestavu Rekapitulace stavby a Rekapitulace objektů stavby a soupisů prací.
D10: V sestavě Rekapitulace stavby jsou uvedeny informace identifikující předmět veřejné zakázky na stavební práce, KSO, CC-CZ, CZ-CPV, CZ-CPA a rekapitulaci
D11: celkové nabídkové ceny uchazeče.
D13: Termínem "uchazeč" (resp. zhotovitel) se myslí "účastník zadávacího řízení" ve smyslu zákona o zadávání veřejných zakázek.
D15: V sestavě Rekapitulace objektů stavby a soupisů prací je uvedena rekapitulace stavebních objektů, inženýrských objektů, provozních souborů,
D16: vedlejších a ostatních nákladů a ostatních nákladů s rekapitulací nabídkové ceny za jednotlivé soupisy prací. Na základě údaje Typ je možné
D17: identifikovat, zda se jedná o objekt nebo soupis prací pro daný objekt:
E18: STA | F18: Stavební objekt pozemní
E19: ING | F19: Stavební objekt inženýrský
E20: PRO | F20: Provozní soubor
E21: VON | F21: Vedlejší a ostatní náklady
E22: OST | F22: Ostatní
E23: Soupis | F23: Soupis prací pro daný typ objektu
C25: Soupis prací pro jednotlivé objekty obsahuje sestavy Krycí list soupisu prací, Rekapitulace členění soupisu prací, Soupis prací. Za soupis prací může být považován
C26: i objekt stavby v případě, že neobsahuje podřízenou zakázku.
D27: Krycí list soupisu obsahuje rekapitulaci informací o předmětu veřejné zakázky ze sestavy Rekapitulace stavby, informaci o zařazení objektu do KSO,
D28: CC-CZ, CZ-CPV, CZ-CPA a rekapitulaci celkové nabídkové ceny uchazeče za aktuální soupis prací.
D30: Rekapitulace členění soupisu prací obsahuje rekapitulaci soupisu prací ve všech úrovních členění soupisu tak, jak byla tato členění použita (např.
D31: stavební díly, funkční díly, případně jiné členění) s rekapitulací nabídkové ceny.
D33: Soupis prací obsahuje položky veškerých stavebních nebo montážních prací, dodávek materiálů a služeb nezbytných pro zhotovení stavebního objektu,
D34: inženýrského objektu, provozního souboru, vedlejších a ostatních nákladů.
