Workbook

Sheet titulní list
C2: Soupis prací a dodávek s výkazem výměr - Položkový rozpočet
C3: CÚ 2022/I
C6: název stavby :
C7: NÁMĚSTÍ BĚCHOVICE - KAPLE S VYHLÍDKOU
A10: Stupeň dokumentace: | C10: DPS
A11: místo stavby: | C11: 190 11 Praha - Běchovice
A14: Objednatel: | C14: Městská část Praha - Běchovice | D14: IČO: | E14: 00240044
C15: Českobrodská 3, 190 11 Praha – Běchovice | D15: DIČ:
A17: Projektant: | D17: IČO:
D18: DIČ:
A20: Sestavil: | C20: Věra Ulčová - SIMO (+420773518887)
C21: Ing. Josef Fuk - SIPK (+420606643181)
C22: V Podbabě 2516, 160 00 Praha 6-Dejvice
A23: Zhotovitel: | D23: IČO:
D24: DIČ:
C30: Celková rekapitulace stavby
C32: Rekapitulace bez DPH | D32: Kč | E32: celkem | F32: =SSPDsVV!H39 -> 0
C33: VRN - GZS | D33: Kč | E33: 0.03 | F33: =F32*E33 -> 0
C34: Rekapitulace s VRN bez DPH | F34: =SUM(F32:F33) -> 0
C35: DPH 21% | D35: Kč | F35: =F34*0.21 -> 0
C36: Rekapitulace s DPH 21% | D36: Kč | E36: celkem | F36: =SUM(F34:F35) -> 0
B42: V …............................, dne …................. | D42: V …............................, dne ….................
B47: …................................................. | D47: ….................................................
B48: Za zhotovitele | D48: Za objednatele

Sheet SSPDsVV
D3: Soupis prací a dodávek s výkazem výměr - Položkový rozpočet
D4: CÚ 2022/I
D7: název stavby :
D8: NÁMĚSTÍ BĚCHOVICE - KAPLE S VYHLÍDKOU
A11: Stupeň dokumentace: | D11: DPS
A12: místo stavby: | D12: 190 11 Praha - Běchovice
D15: SO 704 - Kaple s vyhlídkou
D18: Rekapitulace nákladů
A20: 1 | D20: Přípravné práce | E20: Kč | H20: =H60 -> 0
A21: 2 | D21: Zemní práce | E21: Kč | H21: =H64 -> 0
A22: 3 | D22: Statika - základy, stropy, stěny+věž, sloupy, schodiště | E22: Kč | H22: =H174 -> 0
A23: 4 | D23: Konstrukce a práce v 1.PP | E23: Kč | H23: =H428 -> 0
A24: 5 | D24: Skladby podlah | E24: Kč | H24: =H488 -> 0
A25: 6 | D25: Skladby střech | E25: Kč | H25: =H616 -> 0
A26: 7 | D26: Skladby stěnových konstrukcí | E26: Kč | H26: =H706 -> 0
A27: 8 | D27: Dokončující konstrukce a práce | E27: Kč | H27: =H801 -> 0
A28: 9 | D28: Zdravotně technické instalace - voda, kanalizace | E28: Kč | H28: =ZTI!H16 -> 0
A29: 10 | D29: Elektroinstalace - silno | E29: Kč | H29: ='EL-silno'!G15 -> 0
A30: 11 | D30: Elektroinstalace - osvětlení | E30: Kč | H30: ='EL-osvětl'!G15 -> 0
A31: 12 | D31: Vzduchotechnika | E31: Kč | H31: =VZT!G15 -> 0
A32: 13 | D32: Výplně otvorů - okna | E32: Kč | H32: ='Výpisy prvků'!H15 -> 0
A33: 14 | D33: Výplně otvorů - dveře | E33: Kč | H33: ='Výpisy prvků'!H16 -> 0
A34: 15 | D34: Truhlářské konstrukce | E34: Kč | H34: ='Výpisy prvků'!H17 -> 0
A35: 16 | D35: Zámečnické konstrukce | E35: Kč | H35: ='Výpisy prvků'!H18 -> 0
A36: 17 | D36: Klempířské konstrukce | E36: Kč | H36: ='Výpisy prvků'!H19 -> 0
A37: 18 | D37: Specifikace ostatních výrobků | E37: Kč | H37: ='Výpisy prvků'!H20 -> 0
A38: 19
A39: 20 | D39: základní náklady bez DPH 21% | E39: Kč | H39: =SUM(H20:H38) -> 0
A40: 21
A41: 28
A42: p.č. | B42: pol. | C42: ozn. | D42: popis prací a dodávek | E42: mj | F42: počet mj | G42: jednotková cena | H42: celková cena v Kč | I42: celková váha/t (t * mj)
A43: 31 | D43: Poznámky.
A44: 32 | D44: 1)Soupis prací a dodávek je zpracován dle Vyhlášky 169 ze dne 12.05.2016
A45: 33 | D45: 2) Neopominutelným podkladem pro ocenění je projektová dokumentace.
A46: 34 | D46: 3) Při oceňování díla stavební firmou je PD a TZ technicky i technologicky nadřazena soupisu prací a dodávek s výkazem výměr . Zhotovitel díla odpovídá za to, že provedl kontrolu kompletnosti seznamu operací v soupise prací a dodávek s výkazem výměr a do své nabídky zahrnul veškeré dodávky a kompletní provedení prací nutné k provedení díla, které je předmětem smlouvy a bude schopno plnit svoji funkci po dobu několika desítek let.
A47: 35 | D47: 4) Hutnění konstrukcí nových i stávajících po demontáži. Konstrukce pro zpevnění hutnit po jednotlivých podkladních vrstvách dle PD a IGP.
A48: 36 | D48: 5) Detaily a podrobnosti dle PD
A49: 37 | D49: 6) Likvidace kovových částí: Veškeré kovové části budou před odvozem k prodeji zváženy a jejich hmotnost zapsána do Stavebního deníku. Následně budou odvezeny a prodány jako druhotné suroviny do Kovošrotu za cenu platnou v den prodeje. Jejich výtěžek bude poslán na účet investora ve výši ceny platné v den prodeje.
A50: 38 | D50: 7) Jednotková cena obsahuje přesun hmot, není-li uvedeno samostatně.
A51: 39 | D51: 8) Výměry jsou vykázány odměřením nebo změřeno digitálně z výkresů PD.
A52: 40 | D52: 9) Nedílnou součástí Soupisu prací a dodávek s výkazem výměr je Příloha č. 1 - Všeobecné podmínky k Soupisu prací a dodávek.
A53: 41 | D53: 10) Před započetím prací budou ve spolupráci správců sítí vytyčeny veškeré inženýrské sítě
A54: 42 | D54: 11) V blízkosti inženýrských sítí budou veškeré práce prováděny ručně
... A59: 47 | D59: 16) Oceňovat spolu s PD a TZ.
A60: 48 | D60: P ř í p r a v n é práce | E60: Kč | F60: celkem | H60: =SUM(H61:H63) -> 0 | I60: =SUM(I61:I63) -> 25.194765
A61: 49 | B61: HZS4222 | D61: - Vyhledání detektorem a vytyčení stávajících inženýrských sítí (např. el.kabelů a kabelových tratí silno a slaboproudých, potrubí vody a kanalizace) ve spolupráci správců sítí. | E61: hod | F61: 30 | H61: =F61*G61 -> 0
A62: 50 | B62: Plánovací cena D+M | D62: - Dočasné zajištění - stávajících inženýrských sítí během výkopových prací, podél výkopových prací, kompletní provedení, výměra cca: (18,5)m*28ks+15m*8ks . Nutno zajistit před prováděním zemních prací. | E62: bm | F62: =18*28+15*8 -> 624 | H62: =F62*G62 -> 0 | I62: =0.04*F62 -> 24.96
A63: 51 | B63: 119001412 | D63: - Dočasné zajištění potrubí betonového, ŽB nebo kameninového DN do 500 mm (18,5)bm | E63: bm | F63: 18.5 | H63: =F63*G63 -> 0 | I63: =0.01269*F63 -> 0.234765
A64: 52 | D64: Z e m n í práce | E64: Kč | F64: celkem | H64: =SUM(H65+H116) -> 0 | I64: =SUM(I65:I115)+I116 -> 229.58768
A65: 53 | D65: Výkop pro kapli | E65: Kč | F65: celkem | H65: =SUM(H66:H115) -> 0 | I65: =SUM(I66:I115) -> 14.850925
A66: 54 | B66: 131251104 | D66: - Hloubení jam nezapažených včetně zpevněného sjezdu v hornině třídy těžitelnosti I, skupiny 3 objem do 500 m3 strojně ( ; výměra :kopáno v původní navážce , výměra: 150m2*v. 2,41m+110m2*v. 2,41 + pro vsakovací objekt 3,768 m3 | E66: m3 | F66: =(150+110)*2.41+3.768 -> 630.368 | H66: =F66*G66 -> 0
A67: 55 | B67: 174151102 | D67: - Zásyp štěrkopísku fr. 0-32m v místě vytěžené původní zeminy -navážka, hutněno po v. 200mm, s rozprostřením,vlhčením a zhutněním ; výměra: 150m2*v. 2,41m+110m2*v. 2,41 - odpočet objektu v.1,35*74,95m2+pro dernáž 4,428m3 | E67: m3 | F67: =150* 2.41+110* 2.41-(1.35*74.95)+3.768+4.428 -> 533.6135 | H67: =F67*G67 -> 0
A68: 56 | B68: 58337344 | D68: - Štěrkopísek frakce 0-32 - dodávka | E68: t | F68: =F67*2.054 -> 1096.0421 | H68: =F68*G68 -> 0
A69: 57 | D69: kamenivo přírodní těžené pro stavební účely PTK (drobné, hrubé, štěrkopísky) štěrkopísky ČSN 72 1511-2 frakce 0-32 ;
A70: 58 | B70: 171111111/P | D70: - Zhutnění podloží po odtěžení zeminy z rostlé horniny třídy těžitelnosti I a II, skupiny 1až4 z hornin soudržných a nesoudržných na min.45MPa/m2 viz IGP | E70: m2 | F70: 125 | H70: =F70*G70 -> 0
A71: 59 | B71: 162751137 | D71: - Vodorovné přemístění do 10000m výkopku/sypaniny z horniny třídy těžitelnosti II,skupiny 4+5 (beton+navážka) + pro vsakovací objekt 3,768 m3+prodrenáž a patku5,3405m3 | E71: m3 | F71: =626.6+3.768+5.3405 -> 635.7085 | H71: =F71*G71 -> 0
A72: 60 | B72: 162751139 | D72: - Příplatek k vodorovnému přemístění výkopku( beton) /sypaniny z horniny třídy těžitelnosti II, skupiny 4 a 5 ZKD 1000 m přes 10000 m (30km x …..Kč/1000m)=Kč celkem | E72: m3 | F72: =F71 -> 635.7085 | H72: =F72*G72 -> 0
A73: 61 | B73: 997221873 | D73: - Poplatek za uložení stavebního odpadu na recyklační skládce(skládkovné) za /navážku=popel,cihly,prkénka,dráty/ bez obsahu dehtu zatříděného do Katalogu odpadů pod kódem 17 01 04; výměra : navážka - 626m3 | E73: t | F73: =2.5*(F72) -> 1589.2713 | H73: =F73*G73 -> 0
A74: 62 | B74: 119004111/P | D74: - Bezpečný vstup nebo výstup z výkopu pomocí žebříku zřízení cca v. 3,40m | E74: ks | F74: 10 | H74: =F74*G74 -> 0
A75: 63 | B75: 10364100 | D75: Zemina pro terénní úpravy vhodná do zásypů pod skladby, hutnění po cca 200mm výšky dle IGP na min.45MPa/m2 ; výměra : 6,70m2*33,9bm | E75: t | F75: =6.7*33.9*1.7 -> 386.121 | H75: =F75*G75 -> 0
A76: 64 | B76: 181951112 | D76: Hutnění podkladu pro terénní úpravy | E76: m2 | F76: =24*30 -> 720 | H76: =F76*G76 -> 0
A77: 65 | D77: Drenáž
A78: 66 | D78: Výkop v navážce pro drenáž od úrovně -3,810 na úroveň - 4,06, výměra: cca 0,123m2*36,0+pro patku sloupu 3,65*0,25 (je započteno viz popis výše -vsakovací objekt) dopsat čísla položek | E78: m3 | F78: =0.123*36+3.65*0.25 -> 5.3405
A79: 67 | B79: 212751109/P | D79: - Drenážní potrubí z trubek flexibilních PVC DN 100 mm + lože a obsyp štěrkopískem; výměra : 0,25m2*(36,80+1,00+6,3*2) | E79: bm | F79: =36.8+6.3*2+1 -> 50.4 | H79: =F79*G79 -> 0 | I79: =0.20449*F79 -> 10.306296
A80: 68 | B80: 919726121 | D80: Geotextilie pro ochranu, separaci a filtraci netkaná měrná hm do 200 g/m2; výměra : 0,50*(36,80+1,00+6,3*2) | E80: m2 | F80: =0.5*50.4 -> 25.2 | H80: =F80*G80 -> 0 | I80: =0.00036*F80 -> 0.009072
A81: 69 | B81: Plánovací cena D+M | D81: Napojení drenážního potrubí do vsakovacího objektu | E81: ks | F81: 2 | H81: =F81*G81 -> 0 | I81: =0.006 -> 0.006
A82: 70 | D82: Vsakovací objekt
A83: 71 | D83: poznámka :
A84: 72 | D84: Napojení drenážního potrubí do vsakovacího objektu ∅ 2m, s.h. -5,000 vysypání štěrkem+ po obvodu geotextilie. Nejvhodnější konkrétní řešení odvodnění základové spáry bude navrženo autorizovaným inženýrem pro vodohospodářské stavby na základě parametrů zjištěných hydrodynamickou zkouškou na stavbě.
A85: 73 | D85: - Výkop v navážce pro vsakovací objekt od úrovně -3,810 na úroveň - 5,000, výměra: cca 3,14m2*1,20 (je započteno viz popis výše -vsakovací objekt) dopsat čísla položek | E85: m3 | F85: =3.14*1.2 -> 3.768
A86: 74 | D86: Vsakovací objekt ∅ 2m, s.h. -5,000
A87: 75 | B87: 174151101 | D87: - Zásyp štěrkem se zhutněním, výměra: cca 3,14m2*v. 1,20 | E87: m3 | F87: =3.14*1.2 -> 3.768 | H87: =F87*G87 -> 0 | I87: =0*F87 -> 0
A88: 76 | B88: 58331200/D | D88: - štěrkopísek netříděný (pevný stav 2,7t/m3), výměra : 3,768m3*2,7t | E88: t | F88: =3.768*2.7 -> 10.1736 | H88: =F88*G88 -> 0
A89: 77 | B89: 919726121 | D89: - Geotextilie po obvodu vsakovacího objektu , výměra: cca 6,3*1,20+3,14m2 | E89: m2 | F89: =6.3*1.2+3.14 -> 10.7 | H89: =F89*G89 -> 0 | I89: =0.00036*F89 -> 0.003852
A90: 78 | B90: Plánovací cena | D90: - Hydrodynamická zkouška, kompletní provedení včetně dopravy, montáž a demontáž čerpací osádky a zařízení cca 2ks (upřesnit dle realizační dokumentace) | E90: ks | F90: 2 | H90: =F90*G90 -> 0 | I90: 0
A91: 79 | D91: Nasávací objekt, podrobnosti viz. výkres D.1.12.1.22
A92: 80 | D92: poznámka : upřesní se dle realizační dokumentace
A93: 81 | D93: skladba vzt 1 Ochranná geotextilie 2 mm Hydroizolace - PVC-P fólie se zabudovaným skleněným rounem, svařená, na koncích stažená páskami 4 mm Tepelná izolace - čedičová vata stažená strunami 100 mm Potrubí KG DN 400 400 mm, část podzemního KG potrubí ve spádu 16,7% Tepelná izolace - čedičová vata stažená strunami 100 mm Hydroizolace - PVC-P fólie se zabudovaným skleněným rounem, svařená, na koncích stažená páskami 4 mm Ochranná geotextilie 2 mm Štěrkopískový podsyp zhutněný, tl. 150 mm Výkop ve štěrkopísku
A94: 82 | B94: 919726126 | D94: - Ochranná geotextilie, tl. 2 mm, výměra: cca obvod 2,10m*7,2m | E94: m2 | F94: =2.1*7.2 -> 15.12 | H94: =F94*G94 -> 0 | I94: =0.00146*F94 -> 0.0220752
A95: 83 | B95: Plánovací cena D+M | D95: - Hydroizolace - PVC-P fólie se zabudovaným skleněným rounem, svařená, na koncích stažená páskami tl. 4 mm, výměra: cca obvod 2,10m*7,2m | E95: m2 | F95: =F94 -> 15.12 | H95: =F95*G95 -> 0 | I95: =0.005*F95 -> 0.0756
A96: 84 | B96: Plánovací cena D+M | D96: - Tepelná izolace - čedičová vata stažená strunami tl. 100 mm, výměra: cca obvod 2,10m*7,2m | E96: m2 | F96: =F94 -> 15.12 | H96: =F96*G96 -> 0 | I96: =0.00146*F96 -> 0.0220752
A97: 85 | B97: Plánovací cena D+M | D97: - Potrubí KG DN400, část podzemního KG potrubí ve spádu 16,7% | E97: bm | F97: 8 | H97: =F97*G97 -> 0 | I97: =0.002*F97 -> 0.016
A98: 86 | B98: Plánovací cena D+M | D98: - Koleno KG DN400, 67° | E98: ks | F98: 1 | H98: =F98*G98 -> 0 | I98: =0.002*F98 -> 0.002
A99: 87 | B99: 271572211 | D99: - Štěrkopískový podsyp zhutněný, tl. 150 mm, výměra: cca 0,80m*7,2m*0,15 | E99: m3 | F99: =0.8*7.2*0.15 -> 0.864 | H99: =F99*G99 -> 0
A100: 88 | D100: - Výkop ve štěrkopísku , výměra :5,65bm*1,00*1,10+pro patku 2,32m2*1,95 + zásyp do násypu | E100: m3 | F100: =5.65*1.1+2.32*1.95 -> 10.739 | H100: =F100*G100 -> 0
A101: 89 | B101: Plánovací cena D+M | D101: - Těsnící vložka "hydroizolační" pro průnik potrubí KG DN 400 v místě prostupu želbet stěnou | E101: ks | F101: 2 | H101: =F101*G101 -> 0 | I101: =0.002*F101 -> 0.004
A102: 90 | B102: Plánovací cena D+M | D102: - Napojení potrubí DN 400 -1ks + DN 50 1ks skrz žlb. konstrukci do šachtového dna, Napojení hydroizolací, vodotěsné napojení pomocí manžet, vodotěsný prostup žlb konstrukcí, vodotěsný prostup do šachtového dna průtočného přes žlb kci | E102: ks | F102: 2 | H102: =F102*G102 -> 0 | I102: =0.004 *F102 -> 0.008
A103: 91 | C103: viz část dokumentace VZT | D103: Nadzemní vzt hlavice válcového tvaru s protidešťovou hlavicí po celém obvodu, vnější ∅560 (připojovací potrubí DN400) vyrobeno z pozinkovaného plechu povrchová úprava s finální barevností ral 7016 antracitová šedá matná, uvedeno v části dokumentace VZT
A104: 92 | B104: Plánovací cena D+M | D104: - Železobetonový prefabrikát kónický tvar tl. 100mm, výška 850mm, h.h. cca průměr vnitřní 400mm, s.h. průměr vnitřní 720mm, železobetonový staveništní prefabrikát,kónický tvar, vnější povrh z pohledového betonu s výrazným otiskem vertikálních prken - pro bednění budou použita kartáčovaná smrková prkna různých tlouštěk (cca 15, 18 mm), šířek (70, 90, 110 mm) a délek (1500,2000, 2500 mm) + bednění zřízení a odbednění+výztuž+příplatek za tvar kónický+příplatek za povrch pohledového betonu s otiskem | E104: m3 | F104: =3.14*0.463*0.463*0.85 -> 0.57215086 | H104: =F104*G104 -> 0 | I104: =2.4*F104 -> 1.3731621
A105: 93 | B105: Plánovací cena D+M | D105: - Obetonování šachtového dna - ŽB C16/20 - stěny+ šachtové dno kruhového půdorysu včetně bednění a výztuže; výměra: (2*3,14*r) ; 2*3,14*0,5*0,75*0,14 | E105: m3 | F105: =3.14*1*0.75*0.14 -> 0.3297 | H105: =F105*G105 -> 0 | I105: =2.4*F105 -> 0.79128
A106: 94 | B106: Plánovací cena D+M | D106: - Šachtové dno průtočné plastové pro průměr DN 400mm, průměr h.h. 720mm, zaslepení šachty víkem | E106: ks | F106: 1 | H106: =F106*G106 -> 0 | I106: =0.025*F106 -> 0.025
A107: 95 | B107: Plánovací cena D+M | D107: - Hydroizolace - fólie PVC-P svařená a přitížená zeminou, kolem obetonování šachty, výměra: 3,14*1,00*0,75 | E107: m2 | F107: =3.14*1*0.75 -> 2.355 | H107: =F107*G107 -> 0 | I107: =0.003*F107 -> 0.007065
A108: 96 | B108: Plánovací cena D+M | D108: - Napojení trativodu KG DN 50, délka 2 m, zaústěno do vsakovacího objektu velikosti 0,5x0,5x0,5 m (štěrk obalený geotextilii), včetně vodotěsného napojení | E108: bm | F108: 2 | H108: =F108*G108 -> 0 | I108: =0.005*F108 -> 0.01
A109: 97 | B109: Plánovací cena D+M | D109: - Vsakovací objekt velikosti 0,5x0,5x0,5 m (štěrk obalený geotextilii), včetně geotextilie | E109: ks | F109: 1 | H109: =F109*G109 -> 0 | I109: =2.7*0.5*0.5*0.5 -> 0.3375
A110: 98 | B110: Plánovací cena D+M | D110: - Betonový základ - beton C16/20 + bednění - zřízení+odbednění, výměra: 3,14*0,46*0,46*0,90 | E110: m3 | F110: =3.14*0.46*0.46*0.9 -> 0.5979816 | H110: =F110*G110 -> 0 | I110: =2.4*F110 -> 1.4351558
A111: 99 | B111: 637121111/P | D111: Kačírek frakce 16/32 tl. 100 mm do vzdálenosti 400 mm od nasávacího objektu, výměra: obvod 5,40m*š. 0,40m*v. 0,10m | E111: m2 | F111: =5.4*0.4 -> 2.16 | H111: =F111*G111 -> 0 | I111: =0.1837*F111 -> 0.396792
A112: 100 | D112: Ostatní práce
A113: 101 | D113: Geodetické zaměření | E113: hod | F113: 48 | H113: =F113*G113 -> 0
A114: 102 | D114: Realizační dokumentace | E114: ks | F114: 1 | H114: =F114*G114 -> 0
A115: 103 | D115: Dokumentace skutečného provedení stavby | E115: ks | F115: 1 | H115: =F115*G115 -> 0
...

Sheet List3
D2: ROZPOČET - návrh
D3: stavební část CÚ 2022/I
D5: na akci :
D6: NÁMĚSTÍ BĚCHOVICE - KAPLE s VYHLÍDKOU
D7: stupeň projektu: - DSJ
D9: místo stavby :
D10: 190 11 Praha - Běchovice
D12: stavebník :
D13: Městská část Praha - Běchovice Českobrodská 3, 190 11, Praha-Běchovice
D16: Rekapitulace nákladů
D18: Přípravné práce | E18: Kč | H18: =H51 -> 178821.5
D19: Zemní práce | E19: Kč | H19: =H56 -> 2174125.5
D20: Statika - základy | E20: Kč | H20: =H200 -> 251733.17
D21: Statika -stropy | E21: Kč | H21: =H219 -> 771106.23
D22: Statika - stěny+věž | E22: Kč | H22: =H300 -> 1815568.5
D23: Statika -sloupy | H23: =H400 -> 125924.69
D24: Statika - schodiště | E24: Kč | H24: =H455 -> 863224.75
D25: Konstrukce a práce v 1.PP | E25: Kč | H25: =H531 -> 295592.42
D26: Skladby podlah | E26: Kč | H26: =H604 -> 1080299
D27: Skladby střech | E27: Kč | H27: =H760 -> 677456.79
E28: Kč
E29: Kč
E30: Kč
E31: Kč
E32: Kč
E33: Kč | H33: =H884 -> 0
E34: Kč | H34: =H934 -> 0
E35: Kč | H35: =H942 -> 0
E36: Kč | H36: =H950 -> 0
E37: Kč | H37: =H953 -> 0
E38: 3430
D40: stavební náklady bez DPH 21% | E40: Kč | H40: =SUM(H18:H39) -> 8233852.6
D42: DPH 21% | E42: Kč | H42: =H40*0.21 -> 1729109
D43: náklady celkem včetně DPH 21% | E43: Kč | H43: =SUM(H40:H42) -> 9962961.6
A49: p.č. | B49: pol. | C49: ozn. | D49: popis prací a dodávek | E49: mj | F49: počet mj | G49: jednotková cena | H49: celková cena v Kč | I49: celková váha/t (t * mj)
D51: P ř í p r a v n é práce | E51: Kč | F51: celkem | H51: =SUM(H52:H54) -> 178821.5
B52: HZS4222 | D52: - Vyhledání detektorem a vytyčení stávajících inženýrských sítí (např. el.kabelů a kabelových tratí silno a slaboproudých, potrubí vody a kanalizace) ve spolupráci správců sítí. | E52: hod | F52: 20 | G52: 679 | H52: =F52*G52 -> 13580
B53: Plánovací cena D+M | D53: - Dočasné zajištění - stávajících inženýrských sítí během výkopových prací, podél výkopových prací, kompletní provedení, výměra cca: (18,5)m*28ks+15m*8ks . Nutno zajistit před prováděním zemních prací. | E53: bm | F53: =18*28+15*8 -> 624 | G53: 248 | H53: =F53*G53 -> 154752 | I53: =0.04*F53 -> 24.96
B54: 119001412 | D54: - Dočasné zajištění potrubí betonového, ŽB nebo kameninového DN do 500 mm (18,5)bm | E54: bm | F54: 18.5 | G54: 567 | H54: =F54*G54 -> 10489.5 | I54: =0.01269*F54 -> 0.234765
D56: Z e m n í práce | E56: Kč | F56: celkem | H56: =SUM(H57:H121) -> 2174125.5 | I56: =SUM(I57:I121) -> 420.72875
D57: Výkop pro kapli
B58: 131251104 | D58: - Hloubení jam nezapažených včetně zpevněného sjezdu v hornině třídy těžitelnosti I, skupiny 3 objem do 500 m3 strojně, (původní terén -1,60) výměra : (kopáno ve štěrkopísku fr. 0-32mm) ; výměra: 165m2*v.2,11m +117m2*v. 0,90m | E58: m3 | F58: =165*2.11+117*0.9 -> 453.45 | G58: 203 | H58: =F58*G58 -> 92050.35
B59: 174151102 | C59: ? | D59: - Zásyp v uzavřených prostorech sypaninou se zhutněním z materiálu ze souvrství pod zpevněnými plochami ; výměra : 453m3 odpočet 74,9m2* v. 1,30m | E59: m3 | F59: =453-(74.9*1.3) -> 355.63 | G59: 391 | H59: =F59*G59 -> 139051.33 | I59: 0
B60: 1627511108 | D60: - Mezideponie štěrkopísku do 10000m, odvoz vytěženého štěrkopísku fr. 0-32mm na mezideponii a zpět do zásypů; výměra : 453m3 +356m3 (zůstatek na meziskládce 98,0m3) | E60: m3 | F60: =F58+F59 -> 809.08 | G60: 298 | H60: =F60*G60 -> 241105.84
D61: skládka
B63: 131251104 | D63: - Hloubení jam nezapažených včetně zpevněného sjezdu v hornině třídy těžitelnosti I, skupiny 3 objem do 500 m3 strojně ( ; výměra :kopáno v původní navážce (-3,810 až -4,060 ), výměra: 150m2*v. 1,50m+110m2*v. 1,50 | E63: m3 | F63: =(150+110)*1.5 -> 390 | G63: 203 | H63: =F63*G63 -> 79170
B64: 174151102 | D64: - Zásyp štěrkopísku fr. 0-32m v místě vytěžené původní zeminy -navážka, hutněno po v. 200mm, s rozprostřením,vlhčením a zhutněním ; výměra: 150m2*v. 1,50m+110m2*v. 1,50 - odpočet v.1,35*74,95m2 | E64: m3 | F64: =150* 1.5+110* 1.5-(1.35*74.95) -> 288.8175 | G64: 391 | H64: =F64*G64 -> 112927.64
B65: 58337344 | D65: - Štěrkopísek frakce 0-32 - dodávka- nákup jen 288,82m3-97,0m3 | E65: t | F65: =(F64-97)*2.054 -> 393.99314 | G65: 346 | H65: =F65*G65 -> 136321.63 | I65: =F65 -> 393.99314
D66: kamenivo přírodní těžené pro stavební účely PTK (drobné, hrubé, štěrkopísky) štěrkopísky ČSN 72 1511-2 frakce 0-32 ; výměra: 288,82-98,0m3=191,79m3 *2,054t
B68: 1627511108 | D68: - Mezideponie štěrkopísku do 10000m, odvoz vytěženého štěrkopísku fr. 0-32mm zpět z mezideponie do zásypů; výměra :( 97,0m3 z meziskládky) | E68: m3 | F68: 97 | G68: 298 | H68: =F68*G68 -> 28906
B69: 171111111/P | D69: - Zhutnění podloží po odtěžení zeminy z rostlé horniny třídy těžitelnosti I a II, skupiny 1až4 z hornin soudržných a nesoudržných na min.45MPa/m2 viz IGP | E69: m2 | F69: 125 | G69: 74.6 | H69: =F69*G69 -> 9325
B70: 162751137 | D70: - Vodorovné přemístění do 10000m výkopku/sypaniny z horniny třídy těžitelnosti II,skupiny 4+5 (beton+navážka) | E70: m3 | F70: 390 | G70: 345 | H70: =F70*G70 -> 134550
B71: 162751139 | D71: - Příplatek k vodorovnému přemístění výkopku( beton) /sypaniny z horniny třídy těžitelnosti II, skupiny 4 a 5 ZKD 1000 m přes 10000 m (50km x …..Kč/1000m)=Kč celkem | E71: m3 | F71: 390 | G71: =50*27 -> 1350 | H71: =F71*G71 -> 526500
B72: 997221873 | D72: - Poplatek za uložení stavebního odpadu na recyklační skládce(skládkovné) za /navážku=popel,cihly,prkénka,dráty/ bez obsahu dehtu zatříděného do Katalogu odpadů pod kódem 17 01 04; výměra : navážka - 390m3 | E72: t | F72: =2.4*390 -> 936 | G72: 294 | H72: =F72*G72 -> 275184
B73: 119004111/P | D73: - Bezpečný vstup nebo výstup z výkopu pomocí žebříku zřízení cca v. 3,40m | E73: ks | F73: 10 | G73: =3.4*193 -> 656.2 | H73: =F73*G73 -> 6562
B75: 10364100 | D75: Zemina pro terénní úpravy vhodná do zásypů pod skladby, hutnění po cca 200mm výšky dle IGP na min.45MPa/m2 ; výměra : 6,70m2*33,9bm | E75: t | F75: =6.7*33.9*1.7 -> 386.121 | G75: 252 | H75: =F75*G75 -> 97302.492
B76: 181951112 | D76: Hutnění podkladu pro terénní úpravy | E76: m2 | F76: =24*30 -> 720 | G76: 24.1 | H76: =F76*G76 -> 17352
D78: Drenáž
B79: 212751109/P | D79: - Drenážní potrubí z trubek flexibilních PVC DN 100 mm + lože a obsyp štěrkopískem; výměra : 0,25m2*(36,80+1,00+6,3*2) | E79: bm | F79: =36.8+6.3*2+1 -> 50.4 | G79: 314 | H79: =F79*G79 -> 15825.6 | I79: =0.20449*F79 -> 10.306296
B80: 919726121 | D80: Geotextilie pro ochranu, separaci a filtraci netkaná měrná hm do 200 g/m2; výměra : 0,50*(36,80+1,00+6,3*2) | E80: m2 | F80: =0.5*50.4 -> 25.2 | G80: 56 | H80: =F80*G80 -> 1411.2 | I80: =0.00036*F80 -> 0.009072
B81: Plánovací cena D+M | D81: Napojení drenážního potrubí do vsakovacího objektu | E81: ks | F81: 2 | G81: 500 | H81: =F81*G81 -> 1000 | I81: =0.006 -> 0.006
D83: Vsakovací objekt
D84: poznámka :
D85: Napojení drenážního potrubí do vsakovacího objektu ∅ 2m, s.h. -5,000 vysypání štěrkem+ po obvodu geotextilie. Nejvhodnější konkrétní řešení odvodnění základové spáry bude navrženo autorizovaným inženýrem pro vodohospodářské stavby na základě parametrů zjištěných hydrodynamickou zkouškou na stavbě.
D86: Výkop v navážce pro vsakovací objekt od úrovně -3,810 na úroveň - 5,000, výměra: cca 3,14m2*1,20 | E86: m3 | F86: =3.14*1.2 -> 3.768
B88: Plánovací cena D+M | D88: Vsakovací objekt ∅ 2m, s.h. -5,000 | E88: ks | F88: 1 | G88: =4*1500 -> 6000 | H88: =F88*G88 -> 6000 | I88: =0.00036*F88 -> 0.00036
B89: 174151101 | D89: Zásyp štěrkem se zhutněním, výměra: cca 3,14m2*v. 1,20 | E89: m3 | F89: =3.14*1.2 -> 3.768 | G89: 143 | H89: =F89*G89 -> 538.824 | I89: =0*F89 -> 0
B90: 58331200 | D90: štěrkopísek netříděný (pevný stav 2,7t/m3), výměra : 3,768m3*2,7t | E90: t | F90: =3.768*2.7 -> 10.1736 | G90: 288 | H90: =F90*G90 -> 2929.9968 | I90: =F90 -> 10.1736
B91: 919726121 | D91: Geotextilie po obvodu vsakovacího objektu , výměra: cca 6,3*1,20+3,14m2 | E91: m2 | F91: =6.3*1.2+3.14 -> 10.7 | G91: 56 | H91: =F91*G91 -> 599.2 | I91: =0.00036*F91 -> 0.003852
D92: Hydrodynamická zkouška, kompletní provedení včetně dopravy, montáž a demontáž čerpací osádky a zařízení cca 2ks (upřesnit dle realizační dokumentace) | E92: ks | F92: 2 | G92: =10000 -> 10000 | H92: =F92*G92 -> 20000 | I92: 0
D94: Nasávací objekt, podrobnosti viz. výkres D.1.12.1.22
D95: poznámka : upřesní se dle realizační dokumentace
D96: skladba vzt 1 Ochranná geotextilie 2 mm Hydroizolace - PVC-P fólie se zabudovaným skleněným rounem, svařená, na koncích stažená páskami 4 mm Tepelná izolace - čedičová vata stažená strunami 100 mm Potrubí KG DN 400 400 mm, část podzemního KG potrubí ve spádu 16,7% Tepelná izolace - čedičová vata stažená strunami 100 mm Hydroizolace - PVC-P fólie se zabudovaným skleněným rounem, svařená, na koncích stažená páskami 4 mm Ochranná geotextilie 2 mm Štěrkopískový podsyp zhutněný, tl. 150 mm
B98: 919726126 | D98: Ochranná geotextilie, tl. 2 mm, výměra: cca obvod 2,10m*7,2m | E98: m2 | F98: =2.1*7.2 -> 15.12 | G98: 179 | H98: =F98*G98 -> 2706.48 | I98: =0.00146*F98 -> 0.0220752
B99: Plánovací cena D+M | D99: Hydroizolace - PVC-P fólie se zabudovaným skleněným rounem, svařená, na koncích stažená páskami tl. 4 mm, výměra: cca obvod 2,10m*7,2m | E99: m2 | F99: =F98 -> 15.12 | G99: 290 | H99: =F99*G99 -> 4384.8 | I99: =0.005*F99 -> 0.0756
B100: Plánovací cena D+M | D100: Tepelná izolace - čedičová vata stažená strunami tl. 100 mm, výměra: cca obvod 2,10m*7,2m | E100: m2 | F100: =F98 -> 15.12 | G100: =215+160 -> 375 | H100: =F100*G100 -> 5670 | I100: =0.00146*F100 -> 0.0220752
B101: Plánovací cena D+M | D101: Potrubí KG DN400, část podzemního KG potrubí ve spádu 16,7% | E101: bm | F101: 8 | G101: =2300*1.155+250 -> 2906.5 | H101: =F101*G101 -> 23252 | I101: =0.002*F101 -> 0.016
B102: Plánovací cena D+M | D102: Koleno KG DN400, 67° | E102: ks | F102: 1 | G102: =6259/1.21*1.1551+300 -> 6275.0173 | H102: =F102*G102 -> 6275.0173 | I102: =0.002*F102 -> 0.002
B103: 271572211 | D103: Štěrkopískový podsyp zhutněný, tl. 150 mm, výměra: cca 0,80m*7,2m*0,15 | E103: m3 | F103: =0.8*7.2*0.15 -> 0.864 | G103: 1220 | H103: =F103*G103 -> 1054.08 | I103: =1.98*F103 -> 1.71072
B104: Plánovací cena D+M | D104: Těsnící vložka "hydroizolační" pro průnik potrubí KG DN 400 v místě prostupu želbet stěnou | E104: ks | F104: 2 | G104: 1200 | H104: =F104*G104 -> 2400 | I104: =0.002*F104 -> 0.004
B105: Plánovací cena D+M | D105: Napojení potrubí DN 400 -1ks + DN 50 1ks skrz žlb. konstrukci do šachtového dna, Napojení hydroizolací, vodotěsné napojení pomocí manžet, vodotěsný prostup žlb konstrukcí, vodotěsný prostup do šachtového dna průtočného přes žlb kci | E105: ks | F105: 2 | G105: 3000 | H105: =F105*G105 -> 6000 | I105: =0.004 *F105 -> 0.008
C107: viz část dokumentace VZT | D107: Nadzemní vzt hlavice válcového tvaru s protidešťovou hlavicí po celém obvodu, vnější ∅560 (připojovací potrubí dn400) vyrobeno z pozinkovaného plechu povrchová úprava s finální barevností ral 7016 antracitová šedá matná, uvedeno v části dokumentace VZT
B109: Plánovací cena D+M | D109: Železobetonový prefabrikát kónický tvar tl. 100mm, výška 850mm, h.h. cca průměr vnitřní 400mm, s.h. průměr vnitřní 720mm, železobetonový staveništní prefabrikát,kónický tvar, vnější povrh z pohledového betonu s výrazným otiskem vertikálních prken - pro bednění budou použita kartáčovaná smrková prkna různých tlouštěk (cca 15, 18 mm), šířek (70, 90, 110 mm) a délek (1500,2000, 2500 mm) + bednění zřízení a odbednění+výztuž+příplatek za tvar kónický+příplatek za povrch pohledového betonu s otiskem | E109: m3 | F109: =3.14*0.463*0.463*0.85 -> 0.57215086 | G109: 35000 | H109: =F109*G109 -> 20025.28 | I109: =2.4*F109 -> 1.3731621
B111: Plánovací cena D+M | D111: Obetonování šachtového dna - ŽB C16/20 - stěny+ šachtové dno kruhového půdorysu včetně bednění a výztuže ; výměra: (2*3,14*r) ; 2*3,14*0,5*0,75*0,14 | E111: m3 | F111: =3.14*1*0.75*0.14 -> 0.3297 | G111: 10000 | H111: =F111*G111 -> 3297 | I111: =2.4*F111 -> 0.79128
B112: Plánovací cena D+M | D112: Šachtové dno průtočné plastové pro průměr DN 400mm, průměr h.h. 720mm, zaslepení šachty víkem | E112: ks | F112: 1 | G112: =23000/1.21*1.1551+1200 -> 23156.446 | H112: =F112*G112 -> 23156.446 | I112: =0.025*F112 -> 0.025
B113: Plánovací cena D+M | D113: Hydroizolace - fólie PVC-P svařená a přitížená zeminou, kolem obetonování šachty, výměra: 3,14*1,00*0,75 | E113: m2 | F113: =3.14*1*0.75 -> 2.355 | G113: 450 | H113: =F113*G113 -> 1059.75 | I113: =0.003*F113 -> 0.007065
B114: Plánovací cena D+M | D114: Napojení trativodu KG DN 50, délka 2 m, zaústěno do vsakovacího objektu velikosti 0,5x0,5x0,5 m (štěrk obalený geotextilii), včetně vodotěsného napojení | E114: bm | F114: 2 | G114: 1500 | H114: =F114*G114 -> 3000 | I114: =0.005*F114 -> 0.01
B115: Plánovací cena D+M | D115: Vsakovací objekt velikosti 0,5x0,5x0,5 m (štěrk obalený geotextilii), včetně geotextilie | E115: ks | F115: 1 | G115: 3800 | H115: =F115*G115 -> 3800 | I115: =2.7*0.5*0.5*0.5 -> 0.3375
B116: Plánovací cena D+M | D116: Betonový základ - beton C16/20 + bednění - zřízení+odbednění, výměra: 3,14*0,46*0,46*0,90 | E116: m3 | F116: =3.14*0.46*0.46*0.9 -> 0.5979816 | G116: 6000 | H116: =F116*G116 -> 3587.8896 | I116: =2.4*F116 -> 1.4351558
B117: 637121111/P | D117: Kačírek frakce 16/32 tl. 100 mm do vzdálenosti 400 mm od nasávacího objektu, výměra: obvod 5,40m*š. 0,40m*v. 0,10m | E117: m2 | F117: =5.4*0.4 -> 2.16 | G117: 323 | H117: =F117*G117 -> 697.68 | I117: =0.1837*F117 -> 0.396792
D119: Geodetické zaměření | E119: hod | F119: 42 | G119: 813 | H119: =F119*G119 -> 34146
D120: Realizační dokumentace | E120: ks | F120: 1 | G120: 65000 | H120: =F120*G120 -> 65000
D121: Dokumentace skutečného provedení stavby | E121: ks | F121: 1 | G121: 20000 | H121: =F121*G121 -> 20000
D123: Jak to nazveme část možného provedení | E123: Kč | F123: celkem | H123: =SUM(H125:H191) -> 488437.1 | I123: =SUM(I125:I191) -> 163.19083
D125: Demontáž výsadby trvalek 7ks/m2, včetně přesazení na určené místo a rozvojové péče po dobu výstavby kaple, včetně uložení zeminy bez zhutnění z hrubým rozhrnutím, dodání ornice (tl. 15 cm), úprava terénu s rozpojením , přehrnutím a urovnáním, hloubení jamek bez výměny půdy do 2-5L v rovině, výsadba květin hrnkovaných, prům květináče do 120mm, dodání dlouhodobě působícího hnojiva (ref Silvamix), hnojení minerálním hnojivem 10g/ks k vysazovaným rostlinám v rovině, výměra: 108m2 | E125: m2 | F125: 108 | G125: 464 | H125: =F125*G125 -> 50112
D127: Zpětná výsadba trvalek 7ks/m2 na původní místo, včetně uložení zeminy bez zhutnění z hrubým rozhrnutím, dodání ornice (tl. 15 cm), úprava terénu s rozpojením , přehrnutím a urovnáním, hloubení jamek bez výměny půdy do 2-5L v rovině, výsadba květin hrnkovaných, prům květináče do 120mm, dodání dlouhodobě působícího hnojiva (ref Silvamix), hnojení minerálním hnojivem 10g/ks k vysazovaným rostlinám v rovině , výměra: 108m2 | E127: m2 | F127: 108 | G127: 464 | H127: =F127*G127 -> 50112
D128: Rozvojová péče o výsadbu trvalek 2 roky, Chemické odplevelení po založení kultury smáčením v rovině, zalití ploch vodou, plochy přes 20 m2 | E128: m2 | F128: 235 | G128: 146 | H128: =F128*G128 -> 34310
D129: Demontáž výsadby solitérních stromů vel. 16-18, včetně přesazení a dopravy na určené místo a rozvojové péče po dobu výstavby kaple, včetně hloubení jamek 0,40-1,0 m3 se 100% výměnou půdy v rovině, výsadba dřeviny s balem 50-60 cm v rovině, hnojení minerálním hnojivem 50g/ks k vysazovaným rostlinám v rovině, dodání dlouhodobě působícího hnojiva (ref Silvamix), ukotvení dřeviny podzemním kotvením do obvodu kmene 25 cm, dodání sady pro kotvení za kořenový bal do obvodu kmene 20 cm, zhotovení obalu kmene z rákosové rohože v rovině, dodání rákosové rohože ke krytí kmene, zhotovení závlahové mísy přes 1m u solitérních dřevin v rovině, ošetření vysazených dřevin, výměra: 15ks | E129: ks | F129: 15 | G129: 3849 | H129: =F129*G129 -> 57735
D131: Zpětná výsadba solitérních stromů vel. 16-18 na původní místo včetně dopravy, včetně hloubení jamek 0,40-1,0 m3 se 100% výměnou půdy v rovině, výsadba dřeviny s balem 50-60 cm v rovině, hnojení minerálním hnojivem 50g/ks k vysazovaným rostlinám v rovině, dodání dlouhodobě působícího hnojiva (ref Silvamix), ukotvení dřeviny podzemním kotvením do obvodu kmene 25 cm, dodání sady pro kotvení za kořenový bal do obvodu kmene 20 cm, zhotovení obalu kmene z rákosové rohože v rovině, dodání rákosové rohože ke krytí kmene, zhotovení závlahové mísy přes 1m u solitérních dřevin v rovině, ošetření vysazených dřevin, rozvojová péče - 2roky: znovu uvázání dřeviny ke stávajícímu kůlu, odstranění ochrany kmene, výměra: 15ks | E131: ks | F131: 15 | G131: 3849 | H131: =H129 -> 57735
D132: Skladba S 6 - (k dalšímu použití)
...

Sheet Výpisy prvků
D1: Soupis prací a dodávek s výkazem výměr - Položkový rozpočet
D2: CÚ 2022/I
D5: název stavby :
D6: NÁMĚSTÍ BĚCHOVICE - KAPLE S VYHLÍDKOU
B9: Stupeň dokumentace: DPS
B10: Místo stavby: 190 11 Praha - Běchovice
D13: SO 704 - Kaple s vyhlídkou, výpisy prvků
B15: 1 | D15: Výplně otvorů - okna | E15: Kč | H15: =H44 -> 0
B16: 2 | D16: Výplně otvorů - dveře | E16: Kč | H16: =H66 -> 0
B17: 3 | D17: Truhlářské konstrukce | E17: Kč | H17: =H77 -> 0
B18: 4 | D18: Zámečnické konstrukce | E18: Kč | H18: =H94 -> 0
B19: 5 | D19: Klempířské konstrukce | E19: Kč | H19: =H112 -> 0
B20: 6 | D20: Specifikace ostatních výrobků | E20: Kč | H20: =H130 -> 0
B21: 7
B22: 8 | D22: Celkem | E22: Kč | H22: =SUM(H15:H21) -> 0
B23: 9
B24: 10
B25: 11
B26: p.č. | D26: popis | E26: m. j.. | F26: počet m.j.. | G26: jednotková cena / m.j. | H26: cena celkem
B27: 12 | D27: Poznámky:
B28: 13 | D28: 1)Soupis prací a dodávek je zpracován dle Vyhlášky 169 ze dne 12.05.2016
B29: 14 | D29: 2) Neopominutelným podkladem pro ocenění je projektová dokumentace.
B30: 15 | D30: 3) Při oceňování díla stavební firmou je PD a TZ technicky i technologicky nadřazena soupisu prací a dodávek s výkazem výměr . Zhotovitel díla odpovídá za to, že provedl kontrolu kompletnosti seznamu operací v soupise prací a dodávek s výkazem výměr a do své nabídky zahrnul veškeré dodávky a kompletní provedení prací nutné k provedení díla, které je předmětem smlouvy a bude schopno plnit svoji funkci po dobu několika desítek let.
B31: 16 | D31: 4) Hutnění konstrukcí nových i stávajících po demontáži. Konstrukce pro zpevnění hutnit po jednotlivých podkladních vrstvách dle PD a IGP.
B32: 17 | D32: 5) Detaily a podrobnosti dle PD
B33: 18 | D33: 6) Likvidace kovových částí: Veškeré kovové části budou před odvozem k prodeji zváženy a jejich hmotnost zapsána do Stavebního deníku. Následně budou odvezeny a prodány jako druhotné suroviny do Kovošrotu za cenu platnou v den prodeje. Jejich výtěžek bude poslán na účet investora ve výši ceny platné v den prodeje.
B34: 19 | D34: 7) Jednotková cena obsahuje přesun hmot, není-li uvedeno samostatně.
B35: 20 | D35: 8) Výměry jsou vykázány odměřením nebo změřeno digitálně z výkresů PD.
B36: 21 | D36: 9) Nedílnou součástí Soupisu prací a dodávek s výkazem výměr je Příloha č. 1 - Všeobecné podmínky k Soupisu prací a dodávek.
B37: 22 | D37: 10) Před započetím prací budou ve spolupráci správců sítí vytyčeny veškeré inženýrské sítě
B38: 23 | D38: 11) V blízkosti inženýrských sítí budou veškeré práce prováděny ručně
... B43: 28 | D43: 16) Oceňovat spolu s PD a TZ.
B44: 29 | D44: Výplně otvorů - okna viz. D.1.12.1.15 | E44: Kč | H44: =SUM(H45:H65) -> 0
B45: 30 | D45: Poznámka všeobecně : Dodávka bude zhotovena na základě realizační a dílenské dokumentace zhotovitele, který bude odsouhlasen architektem - budou zahrnuty veškeré materiály včetně parotěsných pásek, kování a kotvení (akceptace řešení zhotovitele architektem nezbaví zhotovitele zodpovědnosti plynoucí ze záruk za výrobek, výrobních vlastností dodávky a bezvadnou funkčnost výrobku jako celku). Podrobnosti viz dokumentace. Kompletní provedení včetně montáže, kotvení, pomocného materiálu, mechanizace, dopravy a zaměření.
B46: 31 | C46: O1 | D46: Okno pevné se skrytými obvodovými rámy a členěním ve tvaru kříže, spodní část: vel. cca š. 2400mm x v. 6680mm, rám dřevěný, dřevina dub, přírodní olej. Barva okapnice: bílá matná.Těsnění: hnědé. Silikon: černý. Distanční rámeček (mezi sklem): tmavě hnědý. Výplň pevné části (spodní): čiré, izolační trojsklo, ESG 8/16/LE6/16/VSG55.2LE1.1, ug: 0.60 W/m2K. Výplň otvíravé části (horní): čiré, izolační trojsklo, F4/16/LE4/16/le4, ug: 0.60 w/m2K . Skládání bezrámu na stavbě. Horní část: vel. cca š. 2400mm x v. 595mm, 2x otvíravé / výklopné okno se sloupkem, rám dřevohliníkový, dřevina dub, přírodní olej, z exteriéru hliníkový v barvě RAL 7016 antracitová šedá matná. Těsnění: hnědé. Silikon: černý. Distanční rámeček (mezi sklem): tmavě hnědý. Sklo: čiré, izolační trojsklo. Bezfalcové provedení. Kování: povrch černý matný, rukojeť masivní zahnutá trubka ∅ 15 mm, masivní rozeta kruhový tvar. Venkovní sklo je kalené - esg (odolnější, proti tepelnému šoku, nerozbíjí se na ostré střepy), středové sklo extračiré (proti přehřívání meziprostoru skla a samovolnému praskání) a vnitřní sklo vrstvené a lepené - vsg (odolnější, nerozbíjí se na ostré střepy). Vnitřní parapet: dubový hranol 57 / 90-110, délka 2400 mm s nosem pro nasazení na zeď s cílem překrýt spáru, přírodní olej. Dodavatel předloží výrobní dokumentaci ke schválení architektovi stavby před započetím výroby. Rozměry nutno ověřit na stavbě. Podrobnosti viz dokumentace. Kompletní provedení. | E46: ks | F46: 1 | H46: =F46*G46 -> 0
B47: 32 | C47: O2 | D47: Okno pevné se skrytými obvodovými rámy, vel. cca š. 955mm x v. 5160mm, rám dřevěný, dřevina dub, přírodní olej. Barva okapnice: RAL 7016 antracitová šedá matná. Těsnění: hnědé. Silikon: černý. Distanční rámeček (mezi sklem): tmavě hnědý. Výplň: čiré, izolační trojsklo, ESG 10/16/8/16/VSG66.2LE1.1, Ug: 0.60 W/m2K. Venkovní sklo je kalené - esg (odolnější, proti tepelnému šoku, nerozbíjí se na ostré střepy), středové sklo extračiré (proti přehřívání meziprostoru skla a samovolnému praskání) a vnitřní sklo vrstvené a lepené - vsg (odolnější, nerozbíjí se na ostré střepy). Dodavatel předloží výrobní dokumentaci ke schválení architektovi stavby před započetím výroby. Rozměry nutno ověřit na stavbě. Podrobnosti viz dokumentace. Kompletní provedení. | E47: ks | F47: 1 | H47: =F47*G47 -> 0
B48: 33 | C48: O3 | D48: Okno pevné se skrytým obvodovým rámem - tvar kříže, svislá část - vel. cca š. 320 mm x v. 8555mm, vodorovná část - vel. cca v. (320 mm x š. 1475mm) x 2ks, rám dřevěný, dřevina dub, přírodní olej. Barva okapnice: RAL 7016 antracitová šedá matná. Těsnění: hnědé. Silikon: černý. Distanční rámeček (mezi sklem): tmavě hnědý. Výplň: čiré, izolační trojsklo, ESG 8/16/8/16/VSG66.2LE1.1, Ug: 0.60 W/m2K. Stropní části: izolační sendvičová deska, z exteriéru obloženo včetně rámu smaltem na skle - barva RAL 7016 antracitová šedá. Venkovní sklo je kalené - esg (odolnější, proti tepelnému šoku, nerozbíjí se na ostré střepy), středové sklo extračiré (proti přehřívání meziprostoru skla a samovolnému praskání) a vnitřní sklo vrstvené a lepené - vsg (odolnější, nerozbíjí se na ostré střepy). V 1.np bez vnitřního parapetu. V 1.pp s vnitřním parapetem: dubový parapet , tloušťka 20 mm + nos na 40 mm, přírodní olej. Dodavatel předloží výrobní dokumentaci ke schválení architektovi stavby před započetím výroby. Rozměry nutno ověřit na stavbě. Podrobnosti viz dokumentace. Kompletní provedení. | E48: ks | F48: 1 | H48: =F48*G48 -> 0
B49: 34 | C49: O4 | D49: Okno pevné se skrytými obvodovými rámy, vel. cca š. 955mm x v. 5160mm a vel. cca š. 955mm x v. 1000mm, rám dřevěný, dřevina dub, přírodní olej. Barva okapnice: RAL 7016 antracitová šedá matná. Těsnění: hnědé. Silikon: černý. Distanční rámeček (mezi sklem): tmavě hnědý. Výplň: čiré, izolační trojsklo, ESG 10/16/8/16/VSG66.2LE1.1, Ug: 0.60 W/m2K. Stropní část: vel. cca š. 955mm x v. 340mm, izolační sendvičová deska, z exteriéru obloženo včetně rámu smaltem na skle - barva RAL 7016 antracitová šedá. Venkovní sklo je kalené - esg (odolnější, proti tepelnému šoku, nerozbíjí se na ostré střepy), středové sklo extračiré (proti přehřívání meziprostoru skla a samovolnému praskání) a vnitřní sklo vrstvené a lepené - vsg (odolnější, nerozbíjí se na ostré střepy). V 1.np bez vnitřního parapetu - navazuje na podlahu V 1.pp s vnitřním parapetem: dubový parapet , tloušťka 20 mm + nos na 40 mm, přírodní olej Dodavatel předloží výrobní dokumentaci ke schválení architektovi stavby před započetím výroby. Rozměry nutno ověřit na stavbě. Podrobnosti viz dokumentace. Kompletní provedení. | E49: ks | F49: 1 | H49: =F49*G49 -> 0
B50: 35 | C50: O5 | D50: 2x otvíravé / výklopné okno se sloupkem, vel. cca š. 1830mm x v. 790mm, rám dřevohliníkový, dřevina dub, přírodní olej, z exteriéru hliníkový v barvě RAL 7016 antracitová šedá matná. Těsnění: hnědé. Silikon: černý. Distanční rámeček (mezi sklem): tmavě hnědý. Výplň: čiré, izolační trojsklo, F4/16/LE4/16/LE4, Ug: 0.60 W/m2K. Bezfalcové provedení. Vnitřní parapet: dubový parapet, tloušťka 20 mm + nos na 40 mm, přírodní olej. Kování: povrch černý matný, rukojeť masivní zahnutá trubka ∅ 15 mm, masivní rozeta kruhový tvar. Dodavatel předloží výrobní dokumentaci ke schválení architektovi stavby před započetím výroby. Rozměry nutno ověřit na stavbě. Podrobnosti viz dokumentace. Kompletní provedení. | E50: ks | F50: 1 | H50: =F50*G50 -> 0
B51: 36 | C51: O6 | D51: 3x okno pevné se skrytými obvodovými rámy s rohovým napojením, vel. cca dl. (2095mm x 2ks + 2865mm) x v. 1120mm včetně rohů, rám dřevěný, dřevina dub, přírodní olej. Barva okapnice: RAL 7016 antracitová šedá matná. Těsnění: hnědé. Silikon: černý. Distanční rámeček (mezi sklem): tmavě hnědý. SKLO: čiré, izolační trojsklo, ESG 6/16/LE6/16/LE6, Ug: 0.60 W/m2K. V místě překryvu se sloupy : izolační sendvičová deska, z exteriéru obloženo včetně rámu smaltem na skle - barva RAL 7016 antracitová šedá. Vnitřní parapet: dubový parapet, tloušťka 20 mm + nos na 40 mm, přírodní olej. Dodavatel předloží výrobní dokumentaci ke schválení architektovi stavby před započetím výroby. Rozměry nutno ověřit na stavbě. Podrobnosti viz dokumentace. Kompletní provedení. | E51: ks | F51: 1 | H51: =F51*G51 -> 0
B52: 37 | C52: O7 | D52: Otvíravé / výklopné okno, vel. cca dl. 1230mm x v. 1170mm, rám dřevohliníkový, dřevina dub, přírodní olej, z exteriéru hliníkový v barvě RAL 7016 antracitová šedá matná. Těsnění: hnědé. Silikon: černý. Distanční rámeček (mezi sklem): tmavě hnědý. Výplň: čiré, izolační trojsklo, F4/16/LE4/16/LE4, Ug: 0.60 W/m2K. Bezfalcové provedení. Vnitřní parapet: dubový parapet, tloušťka 20 mm + nos na 40 mm, přírodní olej. Kování: povrch černý matný, rukojeť masivní zahnutá trubka ∅ 15 mm, masivní rozeta kruhový tvar. Dodavatel předloží výrobní dokumentaci ke schválení architektovi stavby před započetím výroby. Rozměry nutno ověřit na stavbě. Podrobnosti viz dokumentace. Kompletní provedení. | E52: ks | F52: 1 | H52: =F52*G52 -> 0
B53: 38 | C53: O8 | D53: Okno pevné se skrytým obvodovým rámem, vel. cca dl. 2080mm x v. 1240mm, rám dřevěný, dřevina dub, přírodní olej. Barva okapnice: RAL 7016 antracitová šedá matná. Těsnění: hnědé. Silikon: černý. Distanční rámeček (mezi sklem): tmavě hnědý. Výplň: čiré, izolační trojsklo, ESG 6/16/LE6/16/VSG44.2LE1.1, Ug: 0.60 W/m2K. Podkladový dřevěný profil. Vnitřní sklo bezpečnostní vrstvené a lepené - vsg (odolnější, nerozbíjí se na ostré střepy). Dodavatel předloží výrobní dokumentaci ke schválení architektovi stavby před započetím výroby. Rozměry nutno ověřit na stavbě. Podrobnosti viz dokumentace. Kompletní provedení. | E53: ks | F53: 1 | H53: =F53*G53 -> 0
B54: 39 | C54: M | D54: Montáž předsazená, včetně typizovaných kotev, k položkám O1, O5, O7, D9, výměra: cca 22,87m | E54: m | F54: 22.87 | H54: =F54*G54 -> 0
B55: 40 | C55: M | D55: Montáž předsazená, bezrámová okna a sestavy do 150kg, včetně typizovaných kotev, k položkám O3, O6, O8, výměra: cca 52,42m | E55: m | F55: 52.42 | H55: =F55*G55 -> 0
B56: 41 | C56: M | D56: Montáž předsazená, bezrámová okna a sestavy nad 150kg, včetně typizovaných kotev, k položkám O1, O2, O4, výměra: cca 45,30m | E56: m | F56: 45.3 | H56: =F56*G56 -> 0
B57: 42 | C57: M | D57: Skládání bezrámu na stavbě, k položkám: O3, výměra: cca 24,94m | E57: m | F57: 24.94 | H57: =F57*G57 -> 0
... B60: 45 | C60: D | D60: Parotěsná páska dle technologických předpisů výrobce oken tl. 70mm, k položkám: O1, O2, O3, O4, O5, O6, O7, O8, D9 | E60: ks | F60: 1 | H60: =F60*G60 -> 0
B61: 46 | D61: Montáž parotěsné pásky jednostranně - tl. 70mm, k položkám: O1, O2, O3, O4, O5, O6, O7, O8, D9, výměra: cca 120,59m | E61: m | F61: 120.59 | H61: =F61*G61 -> 0
B62: 47 | D62: Doprava, mechanizace, zaměření | E62: ks | F62: 1 | H62: =F62*G62 -> 0
B63: 48 | C63: O9 | D63: Střešní výlez pro výstup na střechu, víko plné, čistý rozměr otvoru 600x800 mm. - celokovový s tepelnou a zvukovou izolací a těsněním proti proniku vody - vysoce odolný vlivu povětrnosti a vzniku koroze - jednoduše ovladatelný jednou osobou pomocí jednoručního ovládacího mechanismu a pomocí zvedáků Horní hrana 300 mm nad úrovní ploché střechy. V úrovni spodní hrany stropní konstrukce bude instalován střešní kovový poklop s otevíráním dolů, barva černá matná. V meziprostoru instalován žebřík výšky cca 690 mm s teleskopickou výstupní tyčí hliníkovou. Součástí dodávky bude teleskopický žebřík hliníkový, maximální délka 3,2 m, ve složeném stavu délka 0,8 m, nosnost 150kg, hmotnost 9kg, šířka 500 mm, žebřík bude umožňovat bezvadné napojení na pevný žebřík ve výlezu na střechu. Žebřík bude uložen v 1. pp v technické místnosti. Dodavatel předloží výrobní dokumentaci ke schválení architektovi stavby před započetím výroby. Rozměry nutno ověřit na stavbě. Podrobnosti viz dokumentace. Kompletní provedení. | E63: ks | F63: 1 | H63: =F63*G63 -> 0
B64: 49 | C64: O10 | D64: Kruhový skleněný světlík na ploché střechy, cca vnitřní Ø 2000mm, cca vnější Ø 1820mm, zasklení trojsklem, hliníkový rám, vnější pohledový okraj rámu RAL 1036 pearl gold, pevně sešroubováno, bez možnosti otevření. Speciální sklo s ochranou proti poškrábání. Certifikát lga o trvalé bezpečnosti proti propadnutí. Dodavatel předloží výrobní dokumentaci ke schválení architektovi stavby před započetím výroby. rozměry nutno ověřit na stavbě. Podrobnosti viz dokumentace. Kompletní provedení. | E64: ks | F64: 1 | H64: =F64*G64 -> 0
B65: 50 | D65: Stavební přípomoce | E65: ks | F65: 1 | H65: =F65*G65 -> 0
B66: 51 | D66: Výplně otvorů - dveře viz. D.1.12.1.15 | E66: Kč | H66: =SUM(H68:H76) -> 0
B67: 52 | D67: Poznámka všeobecně : Dodávka bude zhotovena na základě realizační a dílenské dokumentace zhotovitele, který bude odsouhlasen architektem - budou zahrnuty veškeré materiály včetně parotěsných pásek, kování a kotvení (akceptace řešení zhotovitele architektem nezbaví zhotovitele zodpovědnosti plynoucí ze záruk za výrobek, výrobních vlastností dodávky a bezvadnou funkčnost výrobku jako celku). Podrobnosti viz dokumentace. Kompletní provedení včetně montáže, kotvení, pomocného materiálu, mechanizace, dopravy a zaměření.
B68: 53 | C68: D1 | D68: Vstupní dveře dvoukřídlé s nadsvětlíkem, vel. celkem cca š.2000mm x v. 4000mm, křídla vel. cca š.900mm+900mm x v. 2560mm, prosklené části křídel, rám dřevěný, šířka rámu min. 92 mm, dřevina dub, přírodní olej z interiéru, lazura z exteriéru, bezfalcové provedení, směr kladení dřeva na křídlech dveří viz výkres. Těsnění: hnědé. Silikon: černý. Distanční rámeček (mezi sklem): tmavě hnědý. Sklo: čiré, izolační trojsklo. Venkovní sklo je kalené - esg (odolnější, proti tepelnému šoku, nerozbíjí se na ostré střepy), středové sklo extračiré (proti přehřívání meziprostoru skla a samovolnému praskání) a vnitřní sklo vrstvené a lepené - vsg (odolnější, nerozbíjí se na ostré střepy). Kování: panty skryté. 2x klika, atypické provedení na míru, nerezová tyč ∅ 30 mm, zalomený tvar, rozvinutá délka cca 230 mm, matná černá barva s odolností proti opotřebení. 2x rozeta navazující na tvarování dveřních křídel, obdélník 109x190 mm, nerezový plech, matná černá barva s odolností proti opotřebení. Bezpečnostní mechanický zámek. 2x madlo, atypické provedení na míru, nerezová tyč ∅ 30 mm, zalomený tvar, rozvinutá délka cca 585 mm, matná černá barva s odolností proti opotřebení. Okopový plech mosaz, výška 150 mm. Dodavatel předloží výrobní dokumentaci ke schválení architektovi stavby před započetím výroby. Rozměry nutno ověřit na stavbě. Podrobnosti viz dokumentace. Kompletní provedení. | E68: ks | F68: 1 | H68: =F68*G68 -> 0
B69: 54 | C69: D2 | D69: Dveře dvoukřídlé bezfalcové Světlá šířka: 1100 mm, křídla 900 + 300 mm Světlá výška: 2100 mm Tloušťka stěny: 115 mm Křídlo: plné Samozavírač: ne Zámek: ano - povrch černý matný, fab Kování: povrch černý matný, rukojeť masivní zahnutá trubka ∅ 15 mm, masivní rozeta kruhový tvar Zárubeň: obložková, voděodolná, hpl laminát, u961 grafitově šedá Křídlo: hpl laminát, u961 grafitově šedá, konstrukce: dutinková dtd deska Informační tabulka na zdi vedle dveří: černý eloxovaný hliník, bílý nápis: technická a úklidová místnost Práh: dubový Dodavatel předloží výrobní dokumentaci ke schválení architektovi stavby před započetím výroby. Rozměry nutno ověřit na stavbě. Podrobnosti viz dokumentace. Kompletní provedení. | E69: ks | F69: 1 | H69: =F69*G69 -> 0
B70: 55 | C70: D3 | D70: Dveře otvíravé levé bezfalcové Světlá šířka: 800 mm Světlá výška: 2100 mm Tloušťka stěny: 115 mm Křídlo: plné Samozavírač: ne Zámek: ano - povrch černý matný, fab Kování: povrch černý matný, rukojeť masivní zahnutá trubka ∅ 15 mm, masivní rozeta kruhový tvar Zárubeň: obložková, voděodolná, hpl laminát, u961 grafitově šedá Křídlo: hpl laminát, u961 grafitově šedá, konstrukce: dutinková dtd deska Informační tabulka na zdi vedle dveří: černý eloxovaný hliník, bílý nápis: seminární místnost Větrací mřížka pro transfér vzduchu, plocha otvoru 0,03 m3, barva černá matná Práh: bez prahu Dodavatel předloží výrobní dokumentaci ke schválení architektovi stavby před započetím výroby. Rozměry nutno ověřit na stavbě. Podrobnosti viz dokumentace. Kompletní provedení. | E70: ks | F70: 1 | H70: =F70*G70 -> 0
B71: 56 | C71: D4 | D71: Dveře otvíravé levé bezfalcové Světlá šířka: 800 mm Světlá výška: 2100 mm Tloušťka stěny: 115 mm Křídlo: plné Samozavírač: ne Zámek: ano - povrch černý matný, fab Kování: povrch černý matný, rukojeť masivní zahnutá trubka ∅ 15 mm, masivní rozeta kruhový tvar Zárubeň: obložková, voděodolná, hpl laminát, u961 grafitově šedá Křídlo: hpl laminát, u961 grafitově šedá, konstrukce: dutinková dtd deska Informační tabulka na zdi vedle dveří: černý eloxovaný hliník, bílý nápis: sakristie mezera pod dveřními křídlem pro transfér vzduchu výšky 12,5 mm, plocha 0,01 m3 Práh: bez prahu Dodavatel předloží výrobní dokumentaci ke schválení architektovi stavby před započetím výroby. Rozměry nutno ověřit na stavbě. Podrobnosti viz dokumentace. Kompletní provedení. | E71: ks | F71: 1 | H71: =F71*G71 -> 0
B72: 57 | C72: D5 | D72: Dveře otvíravé levé bezfalcové Světlá šířka: 800 mm Světlá výška: 2100 mm Tloušťka stěny: 115 mm Křídlo: plné Samozavírač: ano Zámek: ano - povrch černý matný, fab Kování: povrch černý matný, rukojeť masivní zahnutá trubka ∅ 15 mm, masivní rozeta kruhový tvar Zárubeň: obložková, voděodolná, hpl laminát, u961 grafitově šedá Křídlo: hpl laminát, U961 grafitově šedá, konstrukce: dutinková dtd deska Informační tabulka na zdi vedle dveří: černý eloxovaný hliník, bílý nápis: toalety Větrací mřížka pro transfér vzduchu, plocha otvoru 0,04 m3, barva černá matná Práh: bez prahu Dodavatel předloží výrobní dokumentaci ke schválení architektovi stavby před započetím výroby. Rozměry nutno ověřit na stavbě. Rozměry nutno ověřit na stavbě. Podrobnosti viz dokumentace. Kompletní provedení. | E72: ks | F72: 1 | H72: =F72*G72 -> 0
B73: 58 | C73: D6 | D73: Dveře otvíravé levé bezfalcové Světlá šířka: 700 mm Světlá výška: 2100 mm Tloušťka stěny: 115 mm Křídlo: plné Samozavírač: ne Zámek: wc zámek - povrch černý matný Kování: povrch černý matný, rukojeť masivní zahnutá trubka ∅ 15 mm, masivní rozeta kruhový tvar Zárubeň: obložková, voděodolná, hpl laminát, u961 grafitově šedá Křídlo: hpl laminát, u961 grafitově šedá, konstrukce: dutinková dtd deska Mezera pod dveřními křídlem pro transfér vzduchu výšky 29 mm, plocha 0,02 m3 Práh: bez prahu Dodavatel předloží výrobní dokumentaci ke schválení architektovi stavby před započetím výroby. Rozměry nutno ověřit na stavbě. Podrobnosti viz dokumentace. Kompletní provedení. | E73: ks | F73: 1 | H73: =F73*G73 -> 0
B74: 59 | C74: D7 | D74: Dveře otvíravé pravé bezfalcové Světlá šířka: 700 mm Světlá výška: 2100 mm Tloušťka stěny: 115 mm Křídlo: plné Samozavírač: ne Zámek: wc zámek - povrch černý matný Kování: povrch černý matný, rukojeť masivní zahnutá trubka ∅ 15 mm, masivní rozeta kruhový tvar Zárubeň: obložková, voděodolná, hpl laminát, u961 grafitově šedá Křídlo: hpl laminát, u961 grafitově šedá, konstrukce: dutinková dtd deska Mezera pod dveřními křídlem pro transfér vzduchu výšky 29 mm, plocha 0,02 m3 Práh: bez prahu Dodavatel předloží výrobní dokumentaci ke schválení architektovi stavby před započetím výroby. Rozměry nutno ověřit na stavbě. Podrobnosti viz dokumentace. Kompletní provedení. | E74: ks | F74: 1 | H74: =F74*G74 -> 0
B75: 60 | C75: D8 | D75: Atypické dveře otvíravé dvoukřídlé nad sebou pravé a levé Světlá šířka: 810 mm Světlá výška: 2450 mm Křídlo: 2x plné Samozavírač: ne Zámek: ano Kování: povrch černý matný, zapuštěná úchytka na obou stranách dveřních křídel, magnetická aretace v zavřené a Otevřené poloze Zárubeň: rámová dub masivní, bezfalcové provedení Křídlo: dřevěné masivní z biodesky vrstvené, dub, Povrchová úprava olej Práh: bez prahu dD dveřních křídel budou vyfrézovány nápisy sem/tam - celkem 4ks. hloubka 2 mm, vyplněná černou barvou. Dodavatel předloží výrobní dokumentaci ke schválení architektovi stavby před započetím výroby. Rozměry nutno ověřit na stavbě. Podrobnosti viz dokumentace. Kompletní provedení. | E75: ks | F75: 1 | H75: =F75*G75 -> 0
B76: 61 | C76: D9 | D76: Vstupní dveře jednokřídlé Rám dřevohliníkový, šířka dřevěného rámu min. 92 mm, dřevina dub, přírodní olej z interiéru, hliník z exteriéru, barva Ral 7016 antracitová šedá matná Bezfalcové provedení, Světlá šířka: 840 mm Světlá výška: 2200 mm Těsnění: hnědé Silikon: černý distanční rámeček (mezi sklem): tmavě hnědý Sklo: čiré, izolační trojsklo Venkovní sklo je kalené - esg (odolnější, proti tepelnému šoku, nerozbíjí se na ostré střepy), středové sklo extračiré (proti přehřívání meziprostoru skla a samovolnému praskání) a vnitřní sklo vrstvené a lepené - vsg (odolnější, nerozbíjí se na ostré střepy). Kování: povrch černý matný, rukojeť masivní zahnutá trubka ∅ 15 mm, masivní rozeta kruhový tvar zámek Dodavatel předloží výrobní dokumentaci ke schválení architektovi stavby před započetím výroby. Rozměry nutno ověřit na stavbě. Podrobnosti viz dokumentace. Kompletní provedení. | E76: ks | F76: 1 | H76: =F76*G76 -> 0
B77: 62 | D77: Truhlářské konstrukce, viz. D.1.12.1.16 | E77: Kč | H77: =SUM(H79:H93) -> 0
B78: 63 | D78: Poznámka: Dodávka bude zhotovena na základě realizační a dílenské dokumentace zhotovitele, který bude odsouhlasen architektem - budou zahrnuty veškeré materiály, kování a kotvení (akceptace řešení zhotovitele architektem nezbaví zhotovitele zodpovědnosti plynoucí ze záruk za výrobek, výrobních vlastností dodávky a bezvadnou funkčnost výrobku jako celku). Podrobnosti viz dokumentace. Kompletní provedení včetně montáže, kotvení, pomocného materiálu, mechanizace, dopravy a zaměření.
B79: 64 | C79: T1 | D79: Lavice dřevěná, vel. cca v. 900mm, š. 1200mm x 2 =2400mm, hl. 780mm, dřevina dub, přírodní olej, spárovka průběžná, nebo biodeska. Lavice se skládá ze dvou samostatně stojících části, které jsou propojeny šroubovým spojem. Dodavatel předloží výrobní dokumentaci ke schválení architektovi stavby před započetím výroby. Poté bude vyroben jeden prototyp, který bude předložen k odsouhlasení architektovi stavby. Po odsouhlasení budou vyrobeny zbývající lavice. Podrobnosti viz dokumentace. Kompletní provedení. | E79: ks | F79: 8 | H79: =F79*G79 -> 0
B80: 65 | C80: T2 | D80: Lavice dřevěná, vel. cca v. 900mm, š. 1200mm, hl. 590mm, dřevina dub, přírodní olej, spárovka průběžná, nebo biodeska. Klekátko š.145mm, dl.1200mm, tl. cca 20mm kotveno ke konstrukci zábradlí. Dodavatel předloží výrobní dokumentaci ke schválení architektovi stavby před započetím výroby. Poté bude vyroben jeden prototyp, který bude předložen k odsouhlasení architektovi stavby. Po odsouhlasení budou vyrobeny zbývající lavice. Podrobnosti viz dokumentace. Kompletní provedení. | E80: ks | F80: 2 | H80: =F80*G80 -> 0
B81: 66 | C81: T3 | D81: Obklad čela stropní desky chóru ve tvaru L, vel. cca v. 445mm, š. 80-200mm, dl. 6690mm, dřevina dub, přírodní olej, spárovka průběžná, nebo biodeska tl. 20 mm, vodorovné směrování let dřeva. Kotveno přes nosný dřevěný rošt k nosné konstrukci. Spodní část bude zakrývat posuvný systém mříží - prvek Z 01 - nutno koordinovat. Případná spára bude umístěna v polovině. Dodavatel předloží výrobní dokumentaci ke schválení architektovi stavby před započetím výroby. Podrobnosti viz dokumentace. Kompletní provedení. | E81: ks | F81: 1 | H81: =F81*G81 -> 0
B82: 67 | C82: T4 | D82: Dřevěné madlo zábradlí chóru, vel. cca v. 250mm, tl. 60mm, dl. 6690mm, dřevina dub, přírodní olej, spárovka průběžná, nebo biodeska tl. 60 mm, vodorovné směrování let dřeva. Kotveno na prvek Z2 - je nutno vzájemně koordinovat!!! Případná spára bude umístěna v polovině. Dodavatel předloží výrobní dokumentaci ke schválení architektovi stavby před započetím výroby. Podrobnosti viz dokumentace. Kompletní provedení. | E82: ks | F82: 1 | H82: =F82*G82 -> 0
B83: 68 | C83: T5 | D83: Obklad vstupní části a VZT šachty, kombinace plošného hladkého dřevěného obkladu a akustického plošného obkladu s vertikálním členěním, v horní části je navržena skříňka s policemi.
B84: 69 | D84: Plošný hladký dřevěný obklad: Výměra: cca v. 2600mm x š. (1055+1055+350)mm, vel. cca (v. 1400 mm x š. 610mm) x2ks, vel. cca ( v. 1200mm x š. 350mm) x2ks, vel. cca v. 2400mm x š. 350mm, dřevěný pohled, vel. cca š. 610mm x dl. 2000mm, dřevina dub, přírodní olej, biodeska tl. 20 mm, kotveno přes nosný dřevěný rošt k nosné konstrukci. Sokl, vel. cca v. 100mm x dl. (1510mm x2ks+150mmx2ks), dřevěná dubová biodeska tl. , přírodní olej. Obložení parapetu okna, vel. cca v. 200mm x dl. 2000mm, dub, biodeska tl.20mm , přírodní olej + boční nákližek 2ks. Skříňka zabudovaná do akustického obkladu: 3 police + dno , strop, boky a střední příčka, na zadní stěně rám pro konstrukci (výměral: cca 2150mmx300mmx5ks+1200x350mmx3+(2150mmx1000mm)x2ksx100mm), korpus biodeska tl. 20mm, celkové rozměry cca š. 2150mm x v. 1200mm, hl. cca 350mm. | E84: ks | F84: 1 | H84: =F84*G84 -> 0
B85: 70 | D85: Akustický plošný obklad s vertikálním členěním: Výměra: cca v. 2595mm x š. ( 1510mm + 150mm + 350mm + 50mm) a v. 2400mm x š.( 1510mm+350mm+50mm), v. 1200mm x š. 150mm, dvířka skříňky: vel. cca v. 1200mm x š. 2150 mm (2 x 1075mm - otvíravá křídla), biodeska tl. 20 mm, dřevina dub, přírodní olej, koeficient zvukové= pohltivosti αw = 1,0, třída zvukové pohltivosti: A, akusticky otevřená plocha: 17,5%, vrchní deska z masivního dřeva - dub, (geometrie řezu: 15 mm pás – 3 mm drážka) • 30 mm voštinové jádro • rozměr cca. 33 x 200 x 2390 mm • akustická fleecová zadní podšívka (současná ochrana proti zatékání) Resistence proti nárazu, podrobnosti jsou uvedeny v dokumentaci. Součástí dodávky je rovněž akustický výpočet, který ověří vhodnost navrhovaného materiálu na obklad stěny. Výpočet zohlední veškeré parametry prostoru lodě kaple. Výpočet bude předložen ke schválení před objednáním materiálu. Dodavatel předloží vzorek materiálu akustického obkladu a hladkého obkladu k odsouhlasení architektem stavby. Ukončení hrany ukončovacím profilem ze stejného druhu dřeva. Všechny dřevěné prvky budou sjednoceny do podobného odstínu dřeva. Podrobnosti viz dokumentace. Kompletní provedení. | E85: ks | F85: 1 | H85: =F85*G85 -> 0
B86: 71 | D86: Součástí je: Zapuštěná informační vitrína 6xA4, černý rám, přední uzamykatelná výplň - polykarbonát, lakovaná zadní magnetická stěna, kterou lze popisovat fixy. Vitrína opatřena cylindrickým zámkem pro uzamčení. VZT větrací mřížka nasávací, vel. cca v. 405mm x dl. 505mm, dřevěná dubová, masiv, přírodní olej. Je nutno koordinovat s provedením navazujících konstrukcí, zejména okna O 8 a dveří D1. Dodavatel předloží výrobní dokumentaci ke schválení architektovi stavby před započetím výroby. Podrobnosti viz dokumentace. Kompletní provedení. | E86: ks | F86: 1 | H86: =F86*G86 -> 0
B87: 72 | D87: Akustický výpočet, kompletní provedení | E87: ks | F87: 1 | H87: =F87*G87 -> 0
B88: 73 | C88: T6 | D88: 2x stůl, rozměr cca 1400 x 1000 mm, výška 760 mm, dub masiv, přírodní olej. 10 židlí s opěradlem, dubová masivní konstrukce, přírodní olej, stohovatelná, výška sedadla 47 cm. Dodavatel předloží katalogové listy k odsouhlasení architektem stavby. Podrobnosti viz dokumentace. Kompletní provedení. | E88: ks | F88: 1 | H88: =F88*G88 -> 0
B89: 74 | C89: T7 | D89: Stůl, rozměr cca 1500 x 800 mm, výška 780 mm, dub masiv, přírodní olej. 1 židle s opěradlem, dubová masivní konstrukce, přírodní olej, stohovatelná, výška sedadla 47 cm. Dodavatel předloží katalogové listy k odsouhlasení architektem stavby. Podrobnosti viz dokumentace. Kompletní provedení. | E89: ks | F89: 1 | H89: =F89*G89 -> 0
B90: 75 | C90: T8 | D90: Vestavná skříň, rozměry cca š. 2490 x hl. 600 mm, výška 2400 mm (až k podhledu). Konstrukce DTD tl. 18 mm tmavě šedá (boky, strop, dno, 3x svislá střední příčka) + záda bílá, dveře otevíravé DTD + dýha dub, přírodní olej. Úchytky černé zapuštěné obdélné délka cca 200 mm. Vnitřní uspořádání zleva: 1. šatní tyč 2x nad sebou, horní police, dl. cca 600mm 2. šatní tyč 2x nad sebou, horní police, dl. cca 600mm 3. police po cca 250-300 mm, nastavitelné, dl. cca 600mm 4. police po cca 250-300 mm, nastavitelné, dl. cca 600mm Vykrytí boků a vrchu v rovině korpusu + sokl 50 mm, tmavě šedá. Dodavatel předloží výrobní dokumentaci ke schválení architektovi stavby před započetím výroby. Podrobnosti viz dokumentace. Kompletní provedení. | E90: ks | F90: 1 | H90: =F90*G90 -> 0
B91: 76 | C91: T9 | D91: Vestavná skříň, rozměry cca š. 4235 x hl. 600 mm, výška 2750 mm (až ke stropu). Konstrukce DTD tl. 18 mm + lamino tmavě šedá (boky, dno, strop, 6x svislá střední příčka) + záda bílá (pouze u částí s dveřmi), dveře otvíravé DTD 18 mm + dýha dub, přírodní olej. Úchytky černé zapuštěné obdélné délka cca 200 mm, v horní části skříň zakrývá VZT potrubí, VZT potrubí je přístupné přes dvířka. Vnitřní uspořádání zleva, moduly po cca 600 mm: 1. police pevné po cca 250-300 mm kotvené do žlb. kce, bez zad, bez dveří 2. police pevné po cca 250-300 mm, bez zad, bez dveří 3. police po cca 250-300 mm, nastavitelné + dveře 4. police po cca 250-300 mm, nastavitelné + dveře 5. police po cca 250-300 mm, nastavitelné + dveře 6. šatní tyč 2x nad sebou, bez zad, bez dveří 7. šatní tyč 2x nad sebou, bez zad, bez dveří Vykrytí boků a vrchu v rovině korpusu + sokl 50 mm, tmavě šedá. Dodavatel předloží výrobní dokumentaci ke schválení architektovi stavby před započetím výroby. Podrobnosti viz dokumentace. Kompletní provedení. | E91: ks | F91: 1 | H91: =F91*G91 -> 0
B92: 77 | C92: T10 | D92: Dřevěný obklad horní plochy vřetena schodiště, vel. cca Ø340mm, cca hl. 90mm, masivní dřevo, dřevina dub, přírodní olej. Bude použit špalek s dobře znatelnými letokruhy, které budou vidět shora. Dodavatel předloží vzorek materiálu k odsouhlasení architektem stavby. Podrobnosti viz dokumentace. Kompletní provedení. | E92: ks | F92: 1 | H92: =F92*G92 -> 0
B93: 78 | C93: T11 | D93: Konstrukce nábytkových dveří, vel. celkem cca š. 1140 x v. 2395mm, rám smrkový profil cca 100x100 mm + obložený deskou konstrukce DTD tl. 18 mm + dýha dub, přírodní olej. Dveře otevíravé, š. cca 940mm x v. cca 2295mm, DTD + dýha dub, přírodní olej, kování (panty) umožní otevření dveří o min. 152 stupňů. Úchytky černé zapuštěné obdélné délka cca 200 mm + zámek. Vše v jedné rovině. Dodavatel předloží výrobní dokumentaci ke schválení architektovi stavby před započetím výroby. Podrobnosti viz dokumentace. Kompletní provedení. | E93: ks | F93: 1 | H93: =F93*G93 -> 0
B94: 79 | D94: Zámečnické konstrukce, viz. D.1.12.1.17 | E94: Kč | H94: =SUM(H96:H111) -> 0
B95: 80 | D95: Poznámka všeobecně: Dodávka bude zhotovena na základě realizační a dílenské dokumentace zhotovitele, který bude odsouhlasen architektem - budou zahrnuty veškeré materiály, kování a kotvení (akceptace řešení zhotovitele architektem nezbaví zhotovitele zodpovědnosti plynoucí ze záruk za výrobek, výrobních vlastností dodávky a bezvadnou funkčnost výrobku jako celku). Podrobnosti viz dokumentace. Kompletní provedení včetně montáže, kotvení, pomocného materiálu, mechanizace, dopravy a zaměření.
B96: 81 | C96: Z1 | D96: 3 posuvné mříže a 1 pevná mříž, vel. cca š. celkově 6700mm x cca v. 2475 mm , 4 tvarově stejné mříže z masivní oceli svařené do požadovaného tvaru, se zabroušenými sváry, opatřeno nátěrovým systémem s finální barevností kovářská černá. Obvodový profil: masivní ocel 26x40 mm, vnitřní příčky: masivní ocel 12x25 mm, ve styku prvků zabroušené sváry do rádiusu r= 5 mm. Krajní mříž u schodiště napevno kotvená do zdi a sloupu. 3 mříže posuvné - posuvný kolejnicový systém s aretací prvků ve dvou polohách: - poloha 0: všechny mříže zasunuty v zákrytu za pevnou mříží - poloha 1: všechny posuvné mříže vysunuty v jedné rovině. Systém zamykání jedním zámkem. Bude použit posuvný systém pro posouvání mobilních příček. Posun mříží bude manuální vhodný pro 1 osobu. Napojeno na prvek T3 - je nutno vzájemně koordinovat!!! Dodavatel předloží výrobní dokumentaci ke schválení architektovi stavby před započetím výroby. Před započetím provádění povrchových úprav bude svařený a zabroušený prvek schválen architektem stavby. Podrobnosti viz dokumentace. Kompletní provedení. | E96: ks | F96: 1 | H96: =F96*G96 -> 0
B97: 82 | C97: Z2 | D97: Zábradlí složené ze zábradelních dílců, vel. cca dl. 6705mm x v. 940mm x š. 270mm, zámečnická konstrukce -prostorová - z masivní oceli svařené do požadovaného tvaru, ze zabroušenými sváry, opatřeno nátěrovým systémem s finální barevností kovářská černá. Patní plech tl. 10 mm, rozměr dle půdorysu. Sloupky: masivní ocel tyč 25x12 mm ve styku prvků zabroušené sváry do rádiusu r= 5 mm. Vodorovná konstrukce pro kotvení madla (T4): plochá ocel 5x50 mm navařená na sloupky. Zábradelní dílce jsou kotvené do železobetonové konstrukce pomocí chemických kotev. Zábradelní dílce jsou k sobě kladeny na sraz. Napojeno na prvek T4 a T2 - je nutno vzájemně koordinovat!!! Dodavatel předloží výrobní dokumentaci včetně statického posouzení ke schválení architektovi stavby před započetím výroby. Před započetím provádění povrchových úprav bude svařený a zabroušený prvek schválen architektem stavby. Podrobnosti viz dokumentace. Kompletní provedení. | E97: ks | F97: 1 | H97: =F97*G97 -> 0
B98: 83 | C98: Z3 | D98: Zábradelní madlo, dl. cca 41,4mb, zámečnická konstrukce z masivní oceli svařené do požadovaného tvaru, ze zabroušenými sváry a zaoblenými hranami, opatřeno nátěrovým systémem s finální barevností kovářská černá. Madlo: masivní ocel tyč 30 x 12 mm, ohýbaná v lomových bodech dle tvarování schodiště, kotvení do zdi pomocí tyčí ∅ 10 mm s malou rozetou. Napojeno na prvek T4, Z1 a Z2 - je nutno vzájemně koordinovat!!! Dodavatel předloží výrobní dokumentaci ke schválení architektovi stavby před započetím výroby. Před započetím provádění povrchových úprav bude svařený a zabroušený prvek schválen architektem stavby. Podrobnosti viz dokumentace. Kompletní provedení. | E98: ks | F98: 1 | H98: =F98*G98 -> 0
B99: 84 | C99: Z4 | D99: Zábradlí - zábradelní dílec, vel. cca š. 1085mm x v. 1000mm, zámečnická konstrukce z masivní oceli svařené do požadovaného tvaru, opatřeno nátěrovým systémem s finální barevností kovářská černá. Horní a spodní tyč: masivní ocel pásovina 60x12 mm. Svislá výplň: masivní ocel pásovina 60x6 mm. Zábradelní dílec je kotvené do železobetonové konstrukce stěny a vřetena schodiště pomocí chemických kotev Dodavatel předloží výrobní dokumentaci včetně statického posouzení ke schválení architektovi stavby před započetím výroby. Před započetím provádění povrchových úprav bude svařený a zabroušený prvek schválen architektem stavby. Podrobnosti viz dokumentace. Kompletní provedení. | E99: ks | F99: 1 | H99: =F99*G99 -> 0
B100: 85 | C100: Z5 | D100: Sluneční hodiny, stylus (ukazatel), dl. cca 695 mm, zámečnická konstrukce z ploché oceli tl. 12 mm, žárově zinkovaná, opatřená nátěrovým systémem s finální barevností bílá matná RAL 9016 dopravní bílá, kotvení skrz tepelnou izolaci pomocí tyčí a patního plechu, kotvení do železobetonové stěny. Ciferník, plocha cca š. 2585 mm x v. cca 750 mm, kovová grafika vyřezaná do požadovaného tvaru kotvená do fasády systémovým detailem (celkem 12 ks, z toho 5 kusů s číslicí). Barva grafiky a číslic: RAL 7016 antracitová šedá matná, lakování se provede kvalitními dvousložkovými barvami na bázi akrylátu, velikost číslic 130 mm, font trebuchet, linie tloušťky 10 mm. Přesná geometrie prvků slunečních hodin bude navržena dodavatelem, aby byla zajištěna bezvadná funkčnost. Dodavatel předloží výrobní dokumentaci ke schválení architektovi stavby před započetím výroby. Podrobnosti viz dokumentace. Kompletní provedení. | E100: ks | F100: 1 | H100: =F100*G100 -> 0
B101: 86 | C101: Z6 | D101: 3 zvony tónů A2, H2, D3 včetně kotvení do nosné konstrukce 1. Nový zvon tónu A2, hmotnost cca 65 kg, spodní průměr 470 mm, výška zvonu 450 mm: výroba zvonového žebra, hliněné formy zvonu, odlití zvonu včetně materiálu zvonařská bronz cusn22 výtvarná výzdoba zvonu – dle náročnosti (letopočet, jméno zvonu a místa,text a ornament) 2. Nový zvon tónu H2, hmotnost cca 50 kg, spodní průměru 420 mm,výška 410mm: výroba zvonového žebra,výroba zvonové formy a odlití zvonu s materiálem zvonařská bronz výtvarná výzdoba zvonu – dle náročnosti (letopočet, jméno zvonu a místa, text a ornament) 3. Nový zvon tónu D3, hmotnost cca 31 kg, spodní průměr 360 mm,výška 340 mm: výroba zvonového žebra, hliněné formy zvonu a odlití zvonu včetně materiálu zvonařská bronz výtvarná výzdoba zvonu – dle náročnosti (letopočet, jméno zvonu a místa, text a ornament) 4. Elektronické vybavení zvonů: řídící jednotka vybavená přijímačem dcf, ručním i automatickým spouštěním skladeb, ovládaná dotykovým panelem, neomezený počet písní nebo kombinací, vstup pro midi klávesnici, spínání programovatelnými denními a týdenními spínacími hodinami s přijímačem dcf/gps a ručním spínáním, výkonová jednotka pro 3 zvony, zprovoznění a jednorázové vložení skladeb, možnost odbíjení hodin na vybrané zvony. řídící jednotka bude umístěna v sakristii. 5. Komponenty zvonů: Komponenty zvonů včetně elektromagnetů a bicích kladívek pro 3 zvony. Zvony budou zhotoveny v profilu středního žebra. Závěsná koruna zvonu bude talířová s centrálním otvorem pro uchycení srdce zvonu. Zvonové originální formy budou modelovány z hlíny a výzdoba zvonu – písmo i reliéfy ze včelího vosku. Zvony budou vyrobeny z testovaného materiálu CuSn 78/22, dle norem čsn. Výtvarná výzdoba zvonů: Výtvarnou výzdobu provede renomovaný výtvarník, zpracování návrhu je součástí dodávky. | E101: ks | F101: 1 | H101: =F101*G101 -> 0
B102: 87 | D102: Součástí dodávky je rovněž atest a kolaudační protokol o akustickém obrazci zvonů, který bude zahrnovat rozbor všech tónů nového zvonu. Součástí dodávky je také návrh, statické posouzení a dodávka kotvení zvonů do nosné konstrukce skrz tepelnou izolaci s minimalizací tepelného mostu. Dodavatel předloží výrobní dokumentaci ke schválení architektovi stavby před započetím výroby. Podrobnosti viz dokumentace. Kompletní provedení.
B103: 88 | C103: Z7 | D103: Hliníkové pevné stínící lamely 14 ks, vel. celkem cca š. 2380mm x v. 6750 mm, šířka žaluzie 305 mm, osazení ve sklonu 15°, vzdálenost od skla okna 120 mm. Duté extrudované eliptické hliníkové lamely s povrchovou úpravou s finální barevností RAL 7016 antracitová šedá matná. Kotvení k rámu okna pomocí hliníkových prvků tvaru l a pomocí univerzálních bočních držáků v úhlové variantě15° k upevnění před fasádou. Dodavatel předloží výrobní dokumentaci ke schválení architektovi stavby před započetím výroby. Podrobnosti viz dokumentace. Kompletní provedení. | E103: ks | F103: 1 | H103: =F103*G103 -> 0
B104: 89 | C104: Z8 | D104: Oltářní mensa, rozměry celkem cca dl. 1990mm x š. 700mm, v. 900mm, mosazná svařovaná konstrukce s masivní mramorovou deskou. Mosazná konstrukce: dva plechy propojené mosaznými tyčemi v různých směrech, spodní plech tl. 10 mm, horní plech tl. 10 mm, mosazné tyče, rozměr 18x18mm, délka 820 - 880 mm, 37 ks, sváry zabroušené, povrchová úprava leštěním. Cílem je dosáhnout barevnosti podobné zlatu. Mramorová deska: tloušťka 60 mm, bílý mramor, například z lomu carrara, leštěný. Na prvky Z8, Z9, Z10 a Z11 bude použit stejný kámen s velmi podobnou kresbou. Dodavatel předloží výrobní dokumentaci ke schválení architektovi stavby před započetím výroby. Před započetím provádění povrchových úprav bude svařený a zabroušený prvek schválen architektem stavby. Dodavatel předloží vzorek kamene ve formátu minimálně 700x700 mm a vzorek mosazi ke schválení architektovi stavby před započetím výroby. Podrobnosti viz dokumentace. Kompletní provedení. | E104: ks | F104: 1 | H104: =F104*G104 -> 0
B105: 90 | C105: Z9 | D105: Kazatelna, rozměry celkem cca dl. 450mm x š. 360mm, v. 1325mm, mosazná svařovaná konstrukce s masivní mramorovou deskou. Mosazná konstrukce: dva plechy propojené mosaznými tyčemi v různých směrech, spodní plech tl. 10 mm, horní plech tl. 5 mm, mosazné tyče, rozměr 18x18mm, sváry zabroušené, povrchová úprava leštěním. Cílem je dosáhnout barevnosti podobné zlatu. Mramorová deska: tloušťka 25 mm + zarážka na knihy, bílý mramor, například z lomu Carrara, leštěný. Na prvky z8, z9, z10 a z11 bude použit stejný kámen s velmi podobnou kresbou. Dodavatel předloží výrobní dokumentaci ke schválení architektovi stavby před započetím výroby. Před započetím provádění povrchových úprav bude svařený a zabroušený prvek schválen architektem stavby. Dodavatel předloží vzorek kamene ve formátu minimálně 700x700 mm a vzorek mosazi ke schválení architektovi stavby před započetím výroby. Podrobnosti viz dokumentace. Kompletní provedení. | E105: ks | F105: 1 | H105: =F105*G105 -> 0
B106: 91 | C106: Z10 | D106: Eucharistický svatostánek, celkové rozměry cca dl. 435mm x š.250mm, v. 1435mm, mosazná svařovaná konstrukce se zabudovanou skříňkou z masivních mramorových desek. Mosazná konstrukce: mosazné tyče, rozměr 18x18mm, záda skříňky mosazný plech tl. 5 mm, sváry zabroušené, povrchová úprava leštěním. Cílem je dosáhnout barevnosti podobné zlatu. Mramorové desky skříňky: tloušťka 20 mm, bílý mramor, například z lomu Carrara, leštěný skříňka otvíravá jednokřídlá, zámek z boční strany. Na vrchní straně umístěna mosazná trubka ∅ 40x2, délka 120 mm, na trubku je přikotvena objímka a žárovka, specifikace viz část d.1.12.5b osvětlení (kabel bude procházet trubkou a skříňkou). Na prvky Z8, Z9, Z10 a Z11 bude použit stejný kámen s velmi podobnou kresbou. Dodavatel předloží výrobní dokumentaci ke schválení architektovi stavby před započetím výroby. Před započetím provádění povrchových úprav bude svařený a zabroušený prvek schválen architektem stavby. Dodavatel předloží vzorek kamene ve formátu minimálně 700x700 mm a vzorek mosazi ke schválení architektovi stavby před započetím výroby. Podrobnosti viz dokumentace. Kompletní provedení. | E106: ks | F106: 1 | H106: =F106*G106 -> 0
B107: 92 | C107: Z11 | D107: Kropenka, rozměr celkem cca dl. 350mm x š. 350mm, v. 1200mm, mosazná svařovaná konstrukce s nádobou z masivního mramoru a obkladem z mramorové desky. Mosazná konstrukce: mosazné tyče, rozměr 18x18mm, záda pro kotvení mosazný plech tl. 5 mm, sváry zabroušené, povrchová úprava leštěním. Cílem je dosáhnout barevnosti podobné zlatu. Nádoba: masivní tvarovaná, mramorový blok. Mramorový obklad za nádobou: tloušťka 15 mm, bílý mramor, například z lomu Carrara, leštěný. Kotveno do železobetonové stěny chemickými kotvami. Na prvky Z8, Z9, Z10 a Z11 bude použit stejný kámen s velmi podobnou kresbou. Dodavatel předloží výrobní dokumentaci ke schválení architektovi stavby před započetím výroby. Před započetím provádění povrchových úprav bude svařený a zabroušený prvek schválen architektem stavby. Dodavatel předloží vzorek kamene ve formátu minimálně 700x700 mm a vzorek mosazi ke schválení architektovi stavby před započetím výroby. Podrobnosti viz dokumentace. Kompletní provedení. | E107: ks | F107: 1 | H107: =F107*G107 -> 0
B108: 93 | C108: Z12 | D108: Atypické svítidlo zavěšené ve světlíku, svařená mosazná konstrukce, válec o průměru 400 mm a výšce 260 mm s kuželovou špičkou výšky 300 mm směřující dolů, ve svislé zaoblené stěně budou provedeny obdélné otvory pro vložení 32 ks svítidel A5, specifikace svítidla viz část D.1.12.5b osvětlení. Horní část válce bude odnímatelná pro servisní přístup ke svítidlům. Válec bude zavěšen na 3 táhlech (dl. cca 860mm / jedno táhlo) mosazné konstrukce, táhla budou umožňovat protažení kabelů pro napojení svítidel. Táhla budou umožňovat rektifikaci pro zajištění vodorovné polohy svítidla. Dodavatel předloží výrobní dokumentaci včetně statického posouzení ke schválení architektovi stavby před započetím výroby. Nutno koordinovat s prvkem KL15. Podrobnosti viz dokumentace. Kompletní provedení. | E108: ks | F108: 1 | H108: =F108*G108 -> 0
B109: 94 | C109: Z13 | D109: Spodní lem světlíku, Ø cca 2565mm, š. lemu cca 150mm, obruč - svařená mosazná konstrukce kotvená na chemické kotvy do železobetonové konstrukce. Povrchová úprava leštěním - cílem je dosáhnout barevnosti podobné zlatu.Tloušťka cca 5 mm. Dodavatel předloží výrobní dokumentaci včetně statického posouzení ke schválení architektovi stavby před započetím výroby. Nutno koordinovat s prvkem KL15. Podrobnosti viz dokumentace. Kompletní provedení. | E109: ks | F109: 1 | H109: =F109*G109 -> 0
B110: 95 | C110: Z14 | D110: Držák svítidel H2, rozměr celkem cca r.š. 465mm, dl. 190mm + boky 55mm*2ks, ocelová svařovaná konstrukce, zabroušené sváry, finální povrchová úprava bílá, totožná jako svítidla. Kotvení do železobetonové desky stropu pomocí chemických kotev. Tloušťka plechu cca 5 mm. Nutno koordinovat s vybraným typem svítidla. Dodavatel předloží výrobní dokumentaci včetně statického posouzení ke schválení architektovi stavby před započetím výroby. Nutno koordinovat s prvkem KL15. Podrobnosti viz dokumentace. Kompletní provedení. | E110: ks | F110: 1 | H110: =F110*G110 -> 0
B111: 96 | D111: Doprava, montáž, kotvení, mechanizace, plošina, kompletní provedení. | E111: ks | F111: 1 | H111: =F111*G111 -> 0
B112: 97 | D112: Klempířské konstrukce, viz. D.1.12.1.18 | E112: Kč | H112: =SUM(H114:H129) -> 0
B113: 98 | D113: Poznámky: rozměry ověřovat před výrobou na místě. klempířské výrobky musí být provedeny podle platných technických norem (ČSN). Uvedené prvky budou vždy dodány kompletní včetně montáže a potřebného pomocného materiálu jako jsou příponky, zatahovací plechy, tmelení apod. Klempířské okenní parapety na fasádě věže montovat před provedením finální povrchové úpravy fasády (omítky). Dodávka bude zhotovena na základě realizační a dílenské dokumentace zhotovitele, který bude odsouhlasen architektem - budou zahrnuty veškeré materiály a kotvení (akceptace řešení zhotovitele architektem nezbaví zhotovitele zodpovědnosti plynoucí ze záruk za výrobek, výrobních vlastností dodávky a bezvadnou funkčnost výrobku jako celku). Podrobnosti viz dokumentace. Kompletní provedení včetně montáže, kotvení, pomocného materiálu, mechanizace, dopravy a zaměření.
...

Sheet ZTI
D1: Soupis prací a dodávek s výkazem výměr - Položkový rozpočet
D2: CÚ 2022/I
D4: název stavby
D5: NÁMĚSTÍ BĚCHOVICE - KAPLE S VYHLÍDKOU
B8: Stupeň dokumentace: DPS
B9: Místo stavby: 190 11 Praha - Běchovice
D12: SO 704 - Kaple s vyhlídkou, ZTI
B16: 1 | D16: Zdravotně technické instalace | E16: Kč | H16: =SUM(H38) -> 0
B17: 2
B18: 3
B19: 4
B20: p.č. | D20: popis | E20: m. j.. | F20: počet m.j.. | G20: jednotková cena / m.j. | H20: cena celkem
B21: 6 | D21: 1)Soupis prací a dodávek je zpracován dle Vyhlášky 169 ze dne 12.05.2016
B22: 7 | D22: 2) Neopominutelným podkladem pro ocenění je projektová dokumentace.
B23: 8 | D23: 3) Při oceňování díla stavební firmou je PD a TZ technicky i technologicky nadřazena soupisu prací a dodávek s výkazem výměr . Zhotovitel díla odpovídá za to, že provedl kontrolu kompletnosti seznamu operací v soupise prací a dodávek s výkazem výměr a do své nabídky zahrnul veškeré dodávky a kompletní provedení prací nutné k provedení díla, které je předmětem smlouvy a bude schopno plnit svoji funkci po dobu několika desítek let.
B24: 9 | D24: 4) Hutnění konstrukcí nových i stávajících po demontáži. Konstrukce pro zpevnění hutnit po jednotlivých podkladních vrstvách dle PD a IGP.
B25: 10 | D25: 5) Detaily a podrobnosti dle PD
B26: 11 | D26: 6) Likvidace kovových částí: Veškeré kovové části budou před odvozem k prodeji zváženy a jejich hmotnost zapsána do Stavebního deníku. Následně budou odvezeny a prodány jako druhotné suroviny do Kovošrotu za cenu platnou v den prodeje. Jejich výtěžek bude poslán na účet investora ve výši ceny platné v den prodeje.
B27: 12 | D27: 7) Jednotková cena obsahuje přesun hmot, není-li uvedeno samostatně.
B28: 13 | D28: 8) Výměry jsou vykázány odměřením nebo změřeno digitálně z výkresů PD.
B29: 14 | D29: 9) Nedílnou součástí Soupisu prací a dodávek s výkazem výměr je Příloha č. 1 - Všeobecné podmínky k Soupisu prací a dodávek.
B30: 15 | D30: 10) Před započetím prací budou ve spolupráci správců sítí vytyčeny veškeré inženýrské sítě
B31: 16 | D31: 11) V blízkosti inženýrských sítí budou veškeré práce prováděny ručně
B32: 17 | D32: 12) Výměry budou upřesněny v realizační dokumentaci
... B37: 22 | D37: Poznámka všeobecně: Dodávka bude zhotovena na základě realizační a dílenské dokumentace zhotovitele, který bude odsouhlasen architektem a projektantem části PD - budou zahrnuty veškeré materiály a kotvení (akceptace řešení zhotovitele architektem nezbaví zhotovitele zodpovědnosti plynoucí ze záruk za výrobky, výrobních vlastností dodávky a bezvadnou funkčnost výrobků jako celku). Podrobnosti viz dokumentace D.1.12.4. Kompletní provedení včetně montáže, kotvení, pomocného materiálu, mechanizace, dopravy a zaměření.
B38: 23 | D38: Zdravotně technické instalace | E38: Kč | F38: celkem | H38: =SUM(H41:H169) -> 0
B39: 24 | D39: Splašková kanalizace
B40: 25 | D40: Přípojka splaškové kanalizace
B41: 26 | C41: 877355121 | D41: Výřez a montáž tvarovek odbočných na potrubí z kanalizačních trub z PVC DN 200 (Způsob napojení bude upřesněn po odhalení stáv. potrubí) | E41: ks | F41: 1 | H41: =F41*G41 -> 0
B42: 27 | C42: 877355121 | D42: Montáž nalepovací odbočné tvarovky na potrubí z kanalizačních trub z PVC DN 200 | E42: ks | F42: 1 | H42: =F42*G42 -> 0
B43: 28 | C43: 877355211 | D43: Montáž tvarovek z tvrdého PVC-systém KG nebo z polypropylenu-systém KG 2000 jednoosé DN 200Plastové koleno DN200/45° | E43: ks | F43: 4 | H43: =F43*G43 -> 0
B44: 29 | C44: 871355231 | D44: Kanalizační přípojka potrubí KG 2000 SN10 | E44: m | F44: 4 | H44: =F44*G44 -> 0
B45: 30 | C45: PC | D45: dodávka kolena dn200/45 | E45: ks | F45: 1 | H45: =F45*G45 -> 0
B46: 31 | C46: PC | D46: dodávka kolena dn200/15 | E46: ks | F46: 3 | H46: =F46*G46 -> 0
B47: 32 | C47: pc | D47: dodávka potrubí DN200 KG200 | E47: m | F47: 4 | H47: =F47*G47 -> 0
B48: 33 | C48: pc | D48: Revizní šachta z prefabrikovaných dílů betonová Ø 1000mm, v. 2915mm, + poklop DN 625mm s celolitinovým, odvětraným víkem, podrobnosti viz. D.1.12.4.04 | E48: ks | F48: 1 | H48: =F48*G48 -> 0
B49: 34 | D49: Betonový základ pro revizní šachtu C16/20 včetně bednění a odbednění, výměra: cca 1,310*1,310*0,15 | E49: m3 | F49: =1.31*1.31*0.15 -> 0.257415 | H49: =F49*G49 -> 0
B50: 35 | C50: pc | D50: KGR 200/150 | E50: ks | F50: 1 | H50: =F50*G50 -> 0
B51: 36 | C51: 721174027 | D51: Potrubí kanalizační z PP odpadní DN 160 | E51: m | F51: 12 | H51: =F51*G51 -> 0
B52: 37 | C52: 721174026 | D52: Potrubí kanalizační z PP odpadní DN 125 | E52: m | F52: =5.11+1.05 -> 6.16 | H52: =F52*G52 -> 0
B53: 38 | C53: 721174025 | D53: Potrubí kanalizační z PP odpadní DN 110 | E53: m | F53: =1.325+10.7+0.7+0.5 -> 13.225 | H53: =F53*G53 -> 0
B54: 39 | C54: 721174004 | D54: Potrubí kanalizační z PP svodné DN 75 | E54: m | F54: 5 | H54: =F54*G54 -> 0
B55: 40 | C55: 721174043 | D55: Potrubí kanalizační z PP připojovací DN 50 | E55: m | F55: 8 | H55: =F55*G55 -> 0
B56: 41 | C56: pc | D56: dodávka - DN 150 | E56: m | F56: 12 | H56: =F56*G56 -> 0
B57: 42 | C57: pc | D57: dodávka - DN 125 | E57: m | F57: 6.16 | H57: =F57*G57 -> 0
B58: 43 | C58: pc | D58: dodávka - DN 110 | E58: m | F58: 13.22 | H58: =F58*G58 -> 0
B59: 44 | C59: pc | D59: dodávka - DN 50 | E59: m | F59: 8 | H59: =F59*G59 -> 0
B60: 45 | C60: pc | D60: KGR 150/110 | E60: ks | F60: 1 | H60: =F60*G60 -> 0
B61: 46 | C61: pc | D61: KG Klapka 150 | E61: ks | F61: 1 | H61: =F61*G61 -> 0
B62: 47 | C62: pc | D62: KGEA 125/110 | E62: ks | F62: 2 | H62: =F62*G62 -> 0
B63: 48 | C63: pc | D63: KGR 160/125 | E63: ks | F63: 1 | H63: =F63*G63 -> 0
B64: 49 | C64: pc | D64: KGEA 125/125 | E64: ks | F64: 1 | H64: =F64*G64 -> 0
B65: 50 | C65: pc | D65: KGR 125/110 | E65: ks | F65: 1 | H65: =F65*G65 -> 0
B66: 51 | C66: pc | D66: KGB 125/45° | E66: ks | F66: 3 | H66: =F66*G66 -> 0
B67: 52 | C67: pc | D67: Revizní šachta pod podlahou vel. 600x600mm, hl. cca 1200mm s poklopem v interiéru | E67: ks | F67: 1 | H67: =F67*G67 -> 0
... B71: 56 | C71: pc | D71: Revizní dvířka pro čistící kus vel. 300x150mm (povrch dle povrchu místnosti), pro pozice 1,2,3 | E71: ks | F71: 3 | H71: =F71*G71 -> 0
B72: 57 | C72: 721290111 | D72: Zkouška těsnosti potrubí kanalizace vodou do DN 125 | E72: m | F72: 35 | H72: =F72*G72 -> 0
B73: 58 | D73: Zemní práce
B74: 59 | C74: pc | D74: Výkop pro vysazení kanalizační přípojky ze stávající stoky DN 315 v navážce, | E74: m3 | F74: =1*2.5*3.5 -> 8.75 | H74: =F74*G74 -> 0
B75: 60 | D75: výměra: cca 1,0*2,5*3,5
B76: 61 | C76: pc | D76: Výkop pro kanalizační potrubí v navážce, výměra: cca 11,5*0,80*0,45 | E76: m3 | F76: =11.5*0.8*0.45 -> 4.14 | H76: =F76*G76 -> 0
B77: 62 | C77: pc | D77: Vodorovné přemístění do 10000m výkopku/sypaniny z horniny třídy těžitelnosti II,skupiny 4+5 (navážka) | E77: m3 | F77: =F74+F76 -> 12.89 | H77: =F77*G77 -> 0
B78: 63 | C78: pc | D78: Příplatek k vodorovnému přemístění (navážka)výkopku/ sypaniny z horniny třídy těžitelnosti II, skupiny 4 a 5 ZKD 1000 m přes 10000 m (30km x ,,,,Kč)=Kč celkem | E78: m3 | F78: =F77 -> 12.89 | H78: =F78*G78 -> 0
B79: 64 | C79: pc | D79: Poplatek za uložení zeminy a kamení na recyklační skládce (skládkovné) kód odpadu 17 05 04 | E79: t | F79: =F77*2 -> 25.78 | H79: =F79*G79 -> 0
B80: 65 | C80: pc | D80: Úprava pláně v hornině třídy těžitelnosti II, skupiny 1 až 3 se zhutněním strojně, výměra: cca 12m*0,80 | E80: m2 | F80: =12*0.8 -> 9.6 | H80: =F80*G80 -> 0
B81: 66 | C81: pc | D81: Lože pod potrubí, stoky a drobné objekty v otevřeném výkopu z písku a štěrkopísku do 63mm po hutnění 100-150mm (včetně materiálu) | E81: m3 | F81: =10*0.8*0.15+1*2.5*0.15 -> 1.575 | H81: =F81*G81 -> 0
B82: 67 | D82: Zhutněná štěrkopísková spodní vrstva (lože podsyp), tl. 150mm, výměra: cca 10*0,80*0,15+1,0*2,5*0,15
B83: 68 | C83: pc | D83: Hutněný obsyp potrubí, směs písku, míra zhutnění dle předpisu výrobce potrubí (včetně materiálu), | E83: m3 | F83: =10*0.8*0.3+1*2.5*0.3 -> 3.15 | H83: =G83*F83 -> 0
B84: 69 | C84: pc | D84: Zásyp potrubí v účinné vrstvě, písek, tl. 300mm, Násyp a hutnění se provádí po vrstvách, vždy po obou stranách trubky. Hutní se ručně nebo lehkými strojními dusadly, nehutní se nad vrcholem trubky. Je třeba dodržet předepsaný minimální stupeň hutnění: Většinou platí pro nesoudržné zeminy D Pr = 95%, , výměra: cca 10*0,80*0,30+1,0*2,5*0,3 | E84: m3 | F84: 6 | H84: =G84*F84 -> 0
B85: 70 | C85: pc | D85: Zásyp jam, šachet rýh nebo kolem objektů sypaninou se zhutněním | E85: m3 | F85: =1*2.5*3.05 -> 7.625 | H85: =G85*F85 -> 0
B86: 71 | C86: pc | D86: Hlavní násyp pro uložení kanalizačního potrubí , materiál dle PD, hutněný po vrstvách, výměra: cca 1,0m*2,5*3,05 | E86: m3 | F86: 7.5 | H86: =G86*F86 -> 0
B87: 72 | C87: pc | D87: Štěrkopísek frakce 0-32 (kamenivo přírodní těžené pro stavební účely PTK (drobné, hrubé, štěrkopísky) štěrkopísky ČSN 72 1511-2 frakce 0-32 (výměra: cca 1,0m*2,5*3,05*2,054)) | E87: t | F87: =F85*2.054 -> 15.66175 | H87: =F87*G87 -> 0
B88: 73 | D88: Stavební přípomoce | E88: ks | F88: 1 | H88: =F88*G88 -> 0
B89: 74
B90: 75
B91: 76
B92: 77 | C92: 721290111 | D92: Zkouška těsnosti do DN125, výměra: cca 5,11m+1,05m(výlevka)+ 1,325m (umyvadla)+10,70m(odvětráno nad střechu)+0,70m(wc+0,50m(wc)+9,1 | E92: bm | F92: =5.11+1.05+ 1.325 +10.7+0.7+0.5+9.1 -> 28.485 | H92: =F92*G92 -> 0
B93: 78 | C93: 721290112 | D93: Zkouška těsnosti do DN200, výměra:cca 2,69m | E93: bm | F93: =2.69 -> 2.69 | H93: =F93*G93 -> 0
B94: 79 | D94: Kontrola vodotěsnosti | E94: den | F94: 2 | H94: =F94*G94 -> 0
B95: 80 | D95: Kontrola průtočnosti | E95: den | F95: 1 | H95: =F95*G95 -> 0
B96: 81 | C96: HZS4222 | D96: Geodetické zaměření a vytyčení | E96: hod | F96: 8 | H96: =F96*G96 -> 0
B97: 82 | D97: Kontrola skutečného provedení | E97: den | F97: 2 | H97: =F97*G97 -> 0
B98: 83 | D98: Realizační dokumentace | E98: ks | F98: 1 | H98: =F98*G98 -> 0
B99: 84 | D99: Dokumentace skutečného provedení stavby | E99: ks | F99: 1 | H99: =F99*G99 -> 0
B100: 85 | D100: Vodovod
B101: 86 | C101: 28613850/P +montáž | D101: Propojení ke kapli, PE100 SDR11 PN16 32x3,0mm, výměra: cca 12,1m (část již vedena viz. projekt "Náměstí Běchovice), koordinace s projektem "Náměstí Běchovice", dodávka+ montáž - kompletní provedení. | E101: bm | F101: 12.1 | H101: =F101*G101 -> 0
B102: 87 | C102: pc | D102: Hloubení rýh nezapažených š do 800 mm v hornině třídy těžitelnosti I, skupiny 3 objem do 100 m3 strojně | E102: m3 | F102: =12.1*0.8*1.5 -> 14.52 | H102: =G102*F102 -> 0
B103: 88 | D103: Výměra: cca 12,1m*0,80*1,50
B104: 89 | C104: pc | D104: Vodorovné přemístění do 10000m výkopku/sypaniny z horniny třídy těžitelnosti II,skupiny 4+5 (navážka) | E104: m3 | F104: =F102 -> 14.52 | H104: =F104*G104 -> 0
B105: 90 | C105: pc | D105: Příplatek k vodorovnému přemístění (navážka)výkopku/ sypaniny z horniny třídy těžitelnosti II, skupiny 4 a 5 ZKD 1000 m přes 10000 m (30km x ,,,,Kč)=Kč celkem | E105: m3 | F105: =F104 -> 14.52 | H105: =F105*G105 -> 0
B106: 91 | C106: pc | D106: Poplatek za uložení zeminy a kamení na recyklační skládce (skládkovné) kód odpadu 17 05 04 | E106: t | F106: =F104*2 -> 29.04 | H106: =F106*G106 -> 0
B107: 92 | C107: pc | D107: Úprava pláně v hornině třídy těžitelnosti II, skupiny 1 až 3 se zhutněním strojně, výměra: cca 12,1m*0,80 | E107: m2 | F107: =12.1*0.8 -> 9.68 | H107: =F107*G107 -> 0
B108: 93 | C108: pc | D108: Lože pod potrubí, stoky a drobné objekty v otevřeném výkopu z písku a štěrkopísku do 63mm po hutnění 100-150mm (včetně materiálu) | E108: m3 | F108: =12.1*0.8*0.15 -> 1.452 | H108: =F108*G108 -> 0
B109: 94 | C109: pc | D109: výměra: cca 12,1m*0,80*0,15
B110: 95 | C110: pc | D110: Hutněný obsyp potrubí, směs písku, míra zhutnění dle předpisu výrobce potrubí (včetně materiálu), | E110: m3 | F110: =12.1*0.8*0.35 -> 3.388 | H110: =G110*F110 -> 0
B111: 96 | D111: - pískový obsyp
B112: 97 | D112: Obsyp vhodnou zeminou pro uložení vodovodního potrubí PE100 SDR11 PN 16 32x3,0mm, písek, násyp a hutnění po obou stranách trubky po vrstvách dle PD, výměra: cca 12,1m*0,80*0,35
B113: 98 | C113: pc | D113: Zásyp jam, šachet rýh nebo kolem objektů sypaninou se zhutněním | E113: m3 | F113: =12.1*0.8*1 -> 9.68 | H113: =G113*F113 -> 0
B114: 99 | C114: pc | D114: Hlavní násyp pro uložení vodovodního potrubí PE100 SDR11 PN 16 32x3,0mm, materiál dle PD, hutněný po vrstvách, výměra: cca 12,1m*0,80*1,0
B115: 100 | C115: pc | D115: Štěrkopísek frakce 0-32 (kamenivo přírodní těžené pro stavební účely PTK (drobné, hrubé, štěrkopísky) štěrkopísky ČSN 72 1511-2 frakce 0-32 , kamenivo přírodní těžené pro stavební účely PTK (drobné, hrubé, štěrkopísky) štěrkopísky ČSN 72 1511-2 frakce 0-32 | E115: t | F115: =F113*2.054 -> 19.88272 | H115: =F115*G115 -> 0
...

Sheet EL-silno
C1: Soupis prací a dodávek s výkazem výměr - Položkový rozpočet
C2: CÚ 2022/I
C4: název stavby
C5: NÁMĚSTÍ BĚCHOVICE - KAPLE S VYHLÍDKOU
A8: Stupeň dokumentace: DPS
A9: Místo stavby: 190 11 Praha - Běchovice
C12: SO 704 - Kaple s vyhlídkou, Silnoproudá elektrotechnika
A15: 1 | C15: Silnoproudá elektrotechnika | D15: Kč | G15: =SUM(G39:G119) -> 0
A16: 2
A17: 3
A18: 4
A19: p.č. | C19: popis | D19: m. j.. | E19: počet m.j.. | F19: jednotková cena / m.j. | G19: cena celkem
A20: 5 | C20: 1)Soupis prací a dodávek je zpracován dle Vyhlášky 169 ze dne 12.05.2016
A21: 6 | C21: 2) Neopominutelným podkladem pro ocenění je projektová dokumentace.
A22: 7 | C22: 3) Při oceňování díla stavební firmou je PD a TZ technicky i technologicky nadřazena soupisu prací a dodávek s výkazem výměr . Zhotovitel díla odpovídá za to, že provedl kontrolu kompletnosti seznamu operací v soupise prací a dodávek s výkazem výměr a do své nabídky zahrnul veškeré dodávky a kompletní provedení prací nutné k provedení díla, které je předmětem smlouvy a bude schopno plnit svoji funkci po dobu několika desítek let.
A23: 8 | C23: 4) Hutnění konstrukcí nových i stávajících po demontáži. Konstrukce pro zpevnění hutnit po jednotlivých podkladních vrstvách dle PD a IGP.
A24: 9 | C24: 5) Detaily a podrobnosti dle PD
A25: 10 | C25: 6) Likvidace kovových částí: Veškeré kovové části budou před odvozem k prodeji zváženy a jejich hmotnost zapsána do Stavebního deníku. Následně budou odvezeny a prodány jako druhotné suroviny do Kovošrotu za cenu platnou v den prodeje. Jejich výtěžek bude poslán na účet investora ve výši ceny platné v den prodeje.
A26: 11 | C26: 7) Jednotková cena obsahuje přesun hmot, není-li uvedeno samostatně.
A27: 12 | C27: 8) Výměry jsou vykázány odměřením nebo změřeno digitálně z výkresů PD.
A28: 13 | C28: 9) Nedílnou součástí Soupisu prací a dodávek s výkazem výměr je Příloha č. 1 - Všeobecné podmínky k Soupisu prací a dodávek.
A29: 14 | C29: 10) Před započetím prací budou ve spolupráci správců sítí vytyčeny veškeré inženýrské sítě
A30: 15 | C30: 11) V blízkosti inženýrských sítí budou veškeré práce prováděny ručně
A31: 16 | C31: 12) Výměry budou upřesněny v realizační dokumentaci
... A38: 23 | C38: A) Dodávky
A39: 24 | C39: Rozvaděč RH1 skříňový 600x2000x200 – výzbroj dle výkresu č. D.1.12.05a.02 + příloha část světelně technická D.1.12.05b " | D39: ks | E39: 1 | G39: =E39*F39 -> 0
A40: 25 | C40: Sběrnice hlavního ochranného pospojování | D40: ks | E40: 1 | G40: =E40*F40 -> 0
A41: 26 | C41: B) Hlavní montážní materiál
A42: 27 | C42: B1) Kabelové rozvody silnoproudu (vč. trubkovodů)
A43: 28 | C43: Kabel CYKY J 4x25 | D43: m | E43: 30 | G43: =E43*F43 -> 0
A44: 29 | C44: Kabel CYKY J 5x2,5 | D44: m | E44: 20 | G44: =E44*F44 -> 0
A45: 30 | C45: Kabel CYKY J 3x2,5 | D45: m | E45: 290 | G45: =E45*F45 -> 0
A46: 31 | C46: Kabel CYKY J 5x1,5 | D46: m | E46: 880 | G46: =E46*F46 -> 0
A47: 32 | C47: Kabel CYKY J 3x1,5 | D47: m | E47: 630 | G47: =E47*F47 -> 0
A48: 33 | C48: Kabel CYKY o 3x1,5 | D48: m | E48: 70 | G48: =E48*F48 -> 0
A49: 34 | C49: Kabel CYKY o 2x1,5 | D49: m | E49: 40 | G49: =E49*F49 -> 0
A50: 35 | C50: Kabel CXKH-V 5Cx1,5 | D50: m | E50: 25 | G50: =E50*F50 -> 0
A51: 36 | C51: Kabel UTP 4x2x0,5, cat 5e | D51: m | E51: 140 | G51: =E51*F51 -> 0
A52: 37 | C52: Vodič CY16mm-z/žl | D52: m | E52: 30 | G52: =E52*F52 -> 0
A53: 38 | C53: Vodič CY4mm-z/žl | D53: m | E53: 320 | G53: =E53*F53 -> 0
A54: 39 | C54: Vodič CY2,5mm-z/žl | D54: m | E54: 270 | G54: =E54*F54 -> 0
... A58: 43 | C58: Trubka do betonu Js 23mm | D58: m | E58: 80 | G58: =E58*F58 -> 0
A59: 44 | C59: B2) Ostatní elektroinstalace
A60: 45 | C60: Vypínač řazení 1, 230V/10A (vč. krabice), IP20 | D60: ks | E60: 3 | G60: =E60*F60 -> 0
A61: 46 | C61: Vypínač řazení 5, 230V/10A (vč. krabice), IP20 | D61: ks | E61: 1 | G61: =E61*F61 -> 0
A62: 47 | C62: Vypínač řazení 6, 230V/10A (vč. krabice), IP20 | D62: ks | E62: 2 | G62: =E62*F62 -> 0
A63: 48 | C63: Vypínač řazení 7, 230V/10A (vč. krabice), IP20 | D63: ks | E63: 1 | G63: =E63*F63 -> 0
A64: 49 | C64: Ovládácí tlačítko 230V/10A (vč. krabice), IP20 – blíže viz příloha část světelně technická D.1.12.05b" | D64: ks | E64: 3
A65: 50 | C65: Ovládací panel osvětlení – blíže viz příloha část světelně technická D.1.12.05b" | D65: ks | E65: 1
A66: 51 | C66: Tlačítko total stop vč. krabice | D66: ks | E66: 1 | G66: =E66*F66 -> 0
A67: 52 | C67: Krabice svorková s požární integritou vč. svorkovnice | D67: ks | E67: 1 | G67: =E67*F67 -> 0
A68: 53 | C68: Přezbrojení a dozbrojení RH1 (viz techn. zpráva bod 3.5.3) | D68: ks | E68: 1 | G68: =E68*F68 -> 0
A69: 54 | C69: Zásuvka 230V/16A (vč. Krabice), IP20 | D69: ks | E69: 4 | G69: =E69*F69 -> 0
A70: 55 | C70: Dvojzásuvka 230V/16A (vč. Krabice), IP20 | D70: ks | E70: 9 | G70: =E70*F70 -> 0
A71: 56 | C71: Zásuvka 230V/16A (vč. Krabice), IP44 | D71: ks | E71: 1 | G71: =E71*F71 -> 0
A72: 57 | C72: Samoregulační topný kabel délky 4m | D72: ks | E72: 3 | G72: =E72*F72 -> 0
A73: 58 | C73: Osoušeč rukou | D73: ks | E73: 1 | G73: =E73*F73 -> 0
A74: 59 | C74: Komplet kabelového propojení technologie zvonkohry | D74: ks | E74: 1 | G74: =E74*F74 -> 0
A75: 60 | C75: Reproduktor s dálkoým vysíláním a příjmem přes Bluetooth, například s ipadem. Pro pouštění hudby. Viz. Tabulka ostatních prvků D.1.12.1.19 prvek V18 | G75: =E75*F75 -> 0
A76: 61 | C76: Kamera s dálkovým vysíláním a příjmem, D+M | D76: ks | E76: 4 | G76: =E76*F76 -> 0
A77: 62 | C77: WIFI - blíže viz příloha část světelně technická D.1.12.5b.05" a viz. příloha Tabulka ostatních prvků D.1.12.1.19" | G77: =E77*F77 -> 0
A78: 63 | C78: Čidlo autonomní detekce kouře a signalizace | D78: ks | E78: 2 | G78: =E78*F78 -> 0
A79: 64 | C79: Kombinovaný svodič bleskových proudů | D79: ks | E79: 5 | G79: =E79*F79 -> 0
A80: 65 | C80: B3) Osvětlovací tělesa
A81: 66 | C81: Osvětlovací těleso typ A1 dle legendy výkresu D.1.12.05a.03a a přílohy světelně technické D.1.12.05b" | D81: ks
A82: 67 | C82: Osvětlovací těleso typ A2 dle legendy výkresu D.1.12.05a.03a a přílohy světelně technické D.1.12.05b" | D82: ks
A83: 68 | C83: Osvětlovací těleso typ A3 dle legendy výkresu D.1.12.05a.03a a přílohy světelně technické D.1.12.05b" | D83: ks
A84: 69 | C84: Osvětlovací těleso typ A4 dle legendy výkresu D.1.12.05a.03a a přílohy světelně technické D.1.12.05b" | D84: ks
A85: 70 | C85: Osvětlovací těleso typ A5 dle legendy výkresu D.1.12.05a.03a a přílohy světelně technické D.1.12.05b" | D85: ks
A86: 71 | C86: Osvětlovací těleso typ A6 dle legendy výkresu D.1.12.05a.03a a přílohy světelně technické D.1.12.05b" | D86: ks
A87: 72 | C87: Osvětlovací těleso typ C1 dle legendy výkresu D.1.12.05a.03a a přílohy světelně technické D.1.12.05b" | D87: ks
A88: 73 | C88: Osvětlovací těleso typ C2 dle legendy výkresu D.1.12.05a.03a a přílohy světelně technické D.1.12.05b" | D88: ks
A89: 74 | C89: Osvětlovací těleso typ H0 dle legendy výkresu D.1.12.05a.03a a přílohy světelně technické D.1.12.05b" | D89: ks
A90: 75 | C90: Osvětlovací těleso typ H1 dle legendy výkresu D.1.12.05a.03a a přílohy světelně technické" | D90: ks
A91: 76 | C91: Osvětlovací těleso typ H2 dle legendy výkresu D.1.12.05a.03a a přílohy světelně technické D.1.12.05b" | D91: ks
A92: 77 | C92: Transformátor 230Vú12V dle přílohy světelně technické D.1.12.05b" | D92: ks
A93: 78 | C93: B4) Hromosvod a uzemnění
A94: 79 | C94: Podpůrná trubka 3.2m | D94: ks | E94: 1 | G94: =E94*F94 -> 0
A95: 80 | C95: Jímací tyč délky 2,5m | D95: ks | E95: 1 | G95: =E95*F95 -> 0
A96: 81 | C96: Svorka PA | D96: ks | E96: 1 | G96: =E96*F96 -> 0
A97: 82 | C97: Držák podpůrné trubky na stěnu | D97: ks | E97: 2 | G97: =E97*F97 -> 0
A98: 83 | C98: Vodič HV Long šedý | D98: m | E98: 50 | G98: =E98*F98 -> 0
A99: 84 | C99: Sada pro připojení vodičů HVI | D99: ks | E99: 1 | G99: =E99*F99 -> 0
A100: 85 | C100: Sada koncovek vodiče HVI Long šedý – vnější připojení | D100: ks | E100: 2 | G100: =E100*F100 -> 0
A101: 86 | C101: Držák vedení DVI na stěnu | D101: ks | E101: 40 | G101: =E101*F101 -> 0
A102: 87 | C102: Zemní litinoví krabice se zkušební svorkou | D102: ks | E102: 2 | G102: =E102*F102 -> 0
A103: 88 | C103: Spojka spojovací SP1/zkušební – uzemnění pláště | D103: ks | E103: 5 | G103: =E103*F103 -> 0
A104: 89 | C104: Pasek FeZn 30/4 | D104: m | E104: 80 | G104: =E104*F104 -> 0
A105: 90 | C105: Vodič FeZn prům 10mm | D105: m | E105: 25 | G105: =E105*F105 -> 0
... A108: 93 | C108: Revize hromosvodu | D108: ks | E108: 1 | G108: =E108*F108 -> 0
A109: 94 | C109: B5) Ostatní
A110: 95 | C110: Kabelové lože 1-1 dle v.č. . D.1.12.05a.01 (vč. hloubení výkopů 50x50cm, reailzace pískového lože, položení krycí cihly a krycí fólie, hutnění materiálu, odvozu přebytečné zeminy) | D110: m | E110: 25 | G110: =E110*F110 -> 0
A111: 96 | C111: Revize el. zařízení a kompletní zkoušky | D111: kompl | E111: 1 | G111: =E111*F111 -> 0
A112: 97 | C112: Vyhledání a vytýčení stávajících kabel. tras a podzemních objektů | D112: kompl | E112: 1 | G112: =E112*F112 -> 0
A113: 98 | C113: Doprava a mechanizace | D113: ks | E113: 1 | G113: =E113*F113 -> 0
A114: 99 | C114: Stavební přípomoce | D114: ks | E114: 1 | G114: =E114*F114 -> 0
A115: 100 | C115: Koordinace slaboproudých a řídích technologii (včetně zajištění vzájemné kompaktibility - hardware a software) | D115: ks | E115: 1 | G115: =E115*F115 -> 0
A116: 101 | C116: Geodetické zaměření a vytyčení | D116: hod | E116: 20 | G116: =E116*F116 -> 0
A117: 102 | C117: Realizační dokumentace | D117: ks | E117: 1 | G117: =E117*F117 -> 0
A118: 103 | C118: Dokumentace skutečného provedení stavby | D118: ks | E118: 1 | G118: =E118*F118 -> 0

Sheet EL-osvětl
C1: Soupis prací a dodávek s výkazem výměr - Položkový rozpočet
C2: CÚ 2022/I
C4: název stavby
C5: NÁMĚSTÍ BĚCHOVICE - KAPLE S VYHLÍDKOU
A8: Stupeň dokumentace: DPS
A9: Místo stavby: 190 11 Praha - Běchovice
C12: SO 704 - Kaple s vyhlídkou, Osvětlení
A15: 1 | C15: Osvětlení | D15: Kč | G15: =SUM(G37:G76) -> 0
A16: 2
A17: 3
A18: 4
A19: p.č. | C19: popis | D19: m. j.. | E19: počet m.j.. | F19: jednotková cena / m.j. | G19: cena celkem
A20: 6 | C20: 1)Soupis prací a dodávek je zpracován dle Vyhlášky 169 ze dne 12.05.2016
A21: 7 | C21: 2) Neopominutelným podkladem pro ocenění je projektová dokumentace.
A22: 8 | C22: 3) Při oceňování díla stavební firmou je PD a TZ technicky i technologicky nadřazena soupisu prací a dodávek s výkazem výměr . Zhotovitel díla odpovídá za to, že provedl kontrolu kompletnosti seznamu operací v soupise prací a dodávek s výkazem výměr a do své nabídky zahrnul veškeré dodávky a kompletní provedení prací nutné k provedení díla, které je předmětem smlouvy a bude schopno plnit svoji funkci po dobu několika desítek let.
A23: 9 | C23: 4) Hutnění konstrukcí nových i stávajících po demontáži. Konstrukce pro zpevnění hutnit po jednotlivých podkladních vrstvách dle PD a IGP.
A24: 10 | C24: 5) Detaily a podrobnosti dle PD
A25: 11 | C25: 6) Likvidace kovových částí: Veškeré kovové části budou před odvozem k prodeji zváženy a jejich hmotnost zapsána do Stavebního deníku. Následně budou odvezeny a prodány jako druhotné suroviny do Kovošrotu za cenu platnou v den prodeje. Jejich výtěžek bude poslán na účet investora ve výši ceny platné v den prodeje.
A26: 12 | C26: 7) Jednotková cena obsahuje přesun hmot, není-li uvedeno samostatně.
A27: 13 | C27: 8) Výměry jsou vykázány odměřením nebo změřeno digitálně z výkresů PD.
A28: 14 | C28: 9) Nedílnou součástí Soupisu prací a dodávek s výkazem výměr je Příloha č. 1 - Všeobecné podmínky k Soupisu prací a dodávek.
A29: 15 | C29: 10) Před započetím prací budou ve spolupráci správců sítí vytyčeny veškeré inženýrské sítě
A30: 16 | C30: 11) V blízkosti inženýrských sítí budou veškeré práce prováděny ručně
A31: 17 | C31: 12) Výměry budou upřesněny v realizační dokumentaci
... A36: 22 | C36: Poznámka všeobecně: Dodávka bude zhotovena na základě realizační a dílenské dokumentace zhotovitele, který bude odsouhlasen architektem a projektantem části PD - budou zahrnuty veškeré materiály a kotvení (akceptace řešení zhotovitele architektem nezbaví zhotovitele zodpovědnosti plynoucí ze záruk za výrobky, výrobních vlastností dodávky a bezvadnou funkčnost výrobků jako celku). Podrobnosti viz dokumentace D.1.12.5b. Kompletní provedení včetně montáže, kotvení, pomocného materiálu, mechanizace, dopravy a zaměření.
A37: 23 | C37: A1- stropní zápustné rámečkové kruhové LED svítidlo 300mA/DC, 15W / 927, 900 lm, WFL (56°), IP20, III, F, L80B10=50 000hod., bílé | D37: ks | E37: 10 | G37: =E37*F37 -> 0
A38: 24 | C38: A2 - stropní přisazené kruhové LED svítidlo s rozptylným krytem 230V/50Hz, 50W/827, 4 000 lm, IP20, d=500mm, L80=50 000hod, bílé | D38: ks | E38: 3 | G38: =E38*F38 -> 0
A39: 25 | C39: A3 - nástěnné přisazené válcové LED svítidlo U/D (50%/50%), 230V/50Hz, 15W/ 827, 1 200lm, IP40, L80=50 000hod., antracitové | D39: ks | E39: 7 | G39: =E39*F39 -> 0
A40: 26 | C40: A4 - stropní zápustné rámečkové kruhové LED svítidlo 300mA/DC, 15W / 927, 900 lm, WFL (56°), IP20, III, F, L80B10=50 000hod., vč. mont. pouzdra do betonu, bílé | D40: ks | E40: 8 | G40: =E40*F40 -> 0
A41: 27 | C41: A5 - vestavné bezrámečkové obdélníkové LED svítidlo 230V/50Hz, 30W/927, 1300 lm, M (24°), IP20, DALI, L80B10=50 000hod., zlato/mosaz | D41: ks | E41: 32 | G41: =E41*F41 -> 0
A42: 28 | C42: A6 - věčné LED světlo 230V/50Hz, E27, 25W/922, Tcp = 2200 K, 60 lm, stmívatelné, IP20, I, F, čiré | D42: ks | E42: 1 | G42: =E42*F42 -> 0
A43: 29 | C43: C1 - podhledový rámečkový kruhový výklopný LED světlomet 300mA/DC, 15W / 9270, I0=3 500 cd, M(26°), IP20, III, L80B10=50 000 hod., vč. mont. pouzdra do betonu, bílý | D43: ks | E43: 10 | G43: =E43*F43 -> 0
A44: 30 | C44: C2 - podhledový rámečkový kruhový výklopný LED světlomet 300mA/DC, 15W / 9270, I0=5 500 cd, S(16°), IP20, III, L80B10=50 000 hod., vč. mont. pouzdra do betonu, bílý | D44: ks | E44: 2 | G44: =E44*F44 -> 0
A45: 31 | C45: H0 - sloupkové LED svítidlo 230V/50Hz, 15W/830, 500lm, SM,IP66, IK10, hmax=700mm, ULR ≤ 1%, L80B50=50 000 hod., vč. montážní kotvy, rezavě hnědá | D45: ks | E45: 5 | G45: =E45*F45 -> 0
A46: 32 | C46: H1 - směrovatelný zemní LED světlomet 230V/AC, 10W/823, 2300K (filtr), I0=10 000 cd, S(10°), IP66, IK10, vč. mont. pouzdra, barva nerez. | D46: ks | E46: 2 | G46: =E46*F46 -> 0
A47: 33 | C47: H2 - venkovní bodový přísazený LED světlomet 230V/50Hz, 30W, RGB, I0=5000cd, S/WFL (12°/54°), DMX-RDM, IP66, IK07, L80B10=50 000hod., bílý | D47: ks | E47: 2 | G47: =E47*F47 -> 0
A48: 34 | C48: R1 – napájecí proudový zdroj 230VAC/300mADC, 15W, volná montáž, IP20, MM, DALI | D48: ks | E48: 30 | G48: =E48*F48 -> 0
... A75: 61 | C75: realizační dokumemtace | D75: ks | E75: 1 | G75: =E75*F75 -> 0

Sheet VZT
C1: Soupis prací a dodávek s výkazem výměr - Položkový rozpočet
C2: CÚ 2022/I
C4: název stavby
C5: NÁMĚSTÍ BĚCHOVICE - KAPLE S VYHLÍDKOU
A8: Stupeň dokumentace: DPS
A9: Místo stavby: 190 11 Praha - Běchovice
C12: SO 704 - Kaple s vyhlídkou, Vzduchotechnika a vytápění
A15: 1 | C15: Vzduchotechnika a vytápění | D15: Kč | G15: =SUM(G37:G70) -> 0
A16: 2
A17: 3
A18: 4
A19: p.č. | C19: popis | D19: m. j.. | E19: počet m.j.. | F19: jednotková cena / m.j. | G19: cena celkem
A20: 5 | C20: 1)Soupis prací a dodávek je zpracován dle Vyhlášky 169 ze dne 12.05.2016
A21: 6 | C21: 2) Neopominutelným podkladem pro ocenění je projektová dokumentace.
A22: 7 | C22: 3) Při oceňování díla stavební firmou je PD a TZ technicky i technologicky nadřazena soupisu prací a dodávek s výkazem výměr . Zhotovitel díla odpovídá za to, že provedl kontrolu kompletnosti seznamu operací v soupise prací a dodávek s výkazem výměr a do své nabídky zahrnul veškeré dodávky a kompletní provedení prací nutné k provedení díla, které je předmětem smlouvy a bude schopno plnit svoji funkci po dobu několika desítek let.
A23: 8 | C23: 4) Hutnění konstrukcí nových i stávajících po demontáži. Konstrukce pro zpevnění hutnit po jednotlivých podkladních vrstvách dle PD a IGP.
A24: 9 | C24: 5) Detaily a podrobnosti dle PD
A25: 10 | C25: 6) Likvidace kovových částí: Veškeré kovové části budou před odvozem k prodeji zváženy a jejich hmotnost zapsána do Stavebního deníku. Následně budou odvezeny a prodány jako druhotné suroviny do Kovošrotu za cenu platnou v den prodeje. Jejich výtěžek bude poslán na účet investora ve výši ceny platné v den prodeje.
A26: 11 | C26: 7) Jednotková cena obsahuje přesun hmot, není-li uvedeno samostatně.
A27: 12 | C27: 8) Výměry jsou vykázány odměřením nebo změřeno digitálně z výkresů PD.
A28: 13 | C28: 9) Nedílnou součástí Soupisu prací a dodávek s výkazem výměr je Příloha č. 1 - Všeobecné podmínky k Soupisu prací a dodávek.
A29: 14 | C29: 10) Před započetím prací budou ve spolupráci správců sítí vytyčeny veškeré inženýrské sítě
A30: 15 | C30: 11) V blízkosti inženýrských sítí budou veškeré práce prováděny ručně
A31: 16 | C31: 12) Výměry budou upřesněny v realizační dokumentaci
... A37: 22 | C37: ZŘÍZENÍ
A38: 23 | B38: 1.1.1 | C38: Kompaktní vzduchotechnická jednotka, včetně externích servoklapek. Podrobnosti viz datový list přílohou technické zprávy. Kompletní provedení včetně montáže, ref. v. Topvex TR06EL-L-CAV | D38: kpl. | E38: 1 | G38: =E38*F38 -> 0
A39: 24 | B39: 1.4.1 | C39: Jádrový tlumič hluku do čtyřhranného potrubí 500x200 mm, délka 2000 mm. Podrobnosti viz datový list přílohou technické zprávy. Kompletní provedení včetně montáže, ref. v. Stavoklima JTH | D39: kpl. | E39: 2 | G39: =E39*F39 -> 0
A40: 25 | B40: 1.4.2 | C40: Jádrový tlumič hluku do čtyřhranného potrubí 500x200 mm, délka 1000 mm. Podrobnosti viz datový list přílohou technické zprávy. Kompletní provedení včetně montáže, ref. v. Stavoklima JTH | D40: kpl. | E40: 2 | G40: =E40*F40 -> 0
A41: 26 | C41: DISTRIBUČNÍ PRVKY
A42: 27 | B42: 1.6.1 | C42: Střešní sací/výfuková kruhová žaluziová hlavice průměru 560 mm (připojovací průměr 400 mm). Povrchová úprava dle dohody s architektem. Kompletní provedení včetně montáže, ref. v. Lindab VHL | D42: kpl. | E42: 2 | G42: =E42*F42 -> 0
A43: 28 | B43: 1.6.2 | C43: Podlahová vyúsť, hliníková. Povrchová úprava dle dohody s architektem. Kompletní provedení včetně montáže, ref. v. Trox FBA 150 | D43: kpl. | E43: 12 | G43: =E43*F43 -> 0
A44: 29 | B44: 1.6.3 | C44: Talířový ventil pro přívod vzduchu, vč. montážního rámu. Průměr 100 mm. Povrchová úprava dle dohody s architektem. Kompletní provedení včetně montáže, ref.v. Trox Z-LVS 100 | D44: kpl. | E44: 1 | G44: =E44*F44 -> 0
A45: 30 | B45: 1.6.4 | C45: Talířový ventil pro odvod vzduchu, vč. montážního rámu. Průměr 125 mm. Povrchová úprava dle dohody s architektem. Kompletní provedení včetně montáže, ref. v. Trox LVS 125 | D45: kpl. | E45: 2 | G45: =E45*F45 -> 0
A46: 31 | B46: 1.6.5 | C46: Hliníková vyústka dvouřadá s nastavitelnými lamelami (přední řada rovnoběžně s delší stranou), s regulační sadou DG (protiběžné listy), vč. upevňovacího rámečku do potrubí, montáž pomocí pérových svorek. Povrchová úprava dle dohody s architektem. Kompletní provedení včetně montáže, ref. v. Trox ASL 225x125 | D46: kpl. | E46: 2 | G46: =E46*F46 -> 0
A47: 32 | B47: 1.6.6 | C47: Hliníková vyústka jednořadá s nastavitelnými lamelami (rovnoběžně s delší stranou), s regulační sadou AG (protiběžné listy), vč. upevňovacího rámečku do stěny, montáž pomocí pérových svorek. Povrchová úprava dle dohody s architektem. Kompletní provedení včetně montáže, ref. v. Trox ASL 225x125 | D47: kpl. | E47: 1 | G47: =E47*F47 -> 0
A48: 33 | B48: 1.6.7 | C48: Hliníková vyústka jednořadá s nastavitelnými lamelami (rovnoběžně s delší stranou), s regulační sadou AG (protiběžné listy), vč. upevňovacího rámečku do stěny, montáž pomocí pérových svorek. Povrchová úprava dle dohody s architektem. Kompletní provedení včetně montáže, ref. v. Trox ASL 425x325 | D48: kpl. | E48: 1 | G48: =E48*F48 -> 0
A49: 34 | C49: POTRUBÍ A IZOLACE
A50: 35 | C50: Potrubí čtyřhranné z pozinkovaného plechu, včetně tvarovek. Kompletní provedení včetně montáže | D50: m2 | E50: 81 | G50: =E50*F50 -> 0
A51: 36 | C51: Spiro potrubí z pozinkovaného plechu, včetně tvarovek, DN 100. Kompletní provedení včetně montáže | D51: m | E51: 15 | G51: =E51*F51 -> 0
A52: 37 | C52: Spiro potrubí z pozinkovaného plechu, včetně tvarovek, DN 125. Kompletní provedení včetně montáže | D52: m | E52: 4 | G52: =E52*F52 -> 0
A53: 38 | C53: Ohebné flexo potrubí z hliníkové fóie, vyztužené spirálově stáčeným ocelovým drátem, DN 100. Kompletní provedení včetně montáže | D53: m | E53: 2 | G53: =E53*F53 -> 0
A54: 39 | C54: Ohebné flexo potrubí z hliníkové fóie, vyztužené spirálově stáčeným ocelovým drátem, DN 150. Kompletní provedení včetně montáže | D54: m | E54: 6 | G54: =E54*F54 -> 0
A55: 40 | C55: Parotěsná tepelná izolace z umělého kaučuku tl. 20 mm s polepem ochrannou fólií. Kompletní provedení včetně montáže, ref. v. K-Flex H Duct Metal | D55: m2 | E55: 87 | G55: =E55*F55 -> 0
A56: 41 | C56: V dodávce potrubí a izolací se předpokládá i veškeré uložení, zavěšení a uchycení potrubí, potřebný pomocný materiál - závitové tyče, objímky, výstelky, nerezavějící šrouby a matice, podložky, hmoždinky, ocelové profily, pájecí, svářecí, lepící a jiný pomocný materiál, kolena, tvarovky, návarky, jímky, příruby, těsnění, tmelení, apod. Kompletní provedení včetně montáže | D56: kpl. | E56: 1 | G56: =E56*F56 -> 0
A57: 42 | C57: SPOLEČNÉ
A58: 43 | C58: Veškerá doprava na staveniště a po staveništi, včetně dopravy svislé uvnitř budovy do výšky 10 m. Kompletní provedení | D58: kpl. | E58: 1 | G58: =E58*F58 -> 0
A59: 44 | C59: Opatření k zajištění bezpečnosti práce dle příslušných právních předpisů. Kompletní provedení | D59: kpl. | E59: 1 | G59: =E59*F59 -> 0
A60: 45 | C60: Opatření na ochranu dodávaného zařízení před negativními vlivy počasí, např. deště, teploty apod. Kompletní provedení | D60: kpl. | E60: 1 | G60: =E60*F60 -> 0
A61: 46 | C61: Zakrytí (nebo jiné zajištění) a ochrana stavby a ostatních instalací TZB před znečištěním a poškozením a odstranění zakrytí. Kompletní provedení | D61: kpl. | E61: 1 | G61: =E61*F61 -> 0
A62: 47 | C62: Zaregulování systémů, vč. měření dosažení požadovaných průtoků. Kompletní provedení | D62: kpl. | E62: 1 | G62: =E62*F62 -> 0
A63: 48 | C63: Provozní zkoušky pro ověření správné funkce. Kompletní provedení | D63: kpl. | E63: 1 | G63: =E63*F63 -> 0
A64: 49 | C64: Zaškolení obsluhy. Kompletní provedení | D64: kpl. | E64: 1 | G64: =E64*F64 -> 0
A65: 50 | C65: Vyklizení pracoviště a staveniště, odvoz zbytků materiálu a odpadů, včetně případných souvisejících nákladů s jejich likvidací. Kompletní provedení | D65: kpl. | E65: 1 | G65: =E65*F65 -> 0
A66: 51 | C66: Vypracování odevzdávací dokumentace v rozsahu popsaném v technické zprávě. Kompletní provedení | D66: kpl. | E66: 1 | G66: =E66*F66 -> 0
A67: 52 | C67: Vlasní položky (dodavatel vypíše ve zvláštní příloze) | D67: kpl. | E67: 1 | G67: =E67*F67 -> 0
A68: 53 | C68: Geodetické zaměření | D68: hod | E68: 8 | G68: =E68*F68 -> 0
A69: 54 | C69: Realizační dokumentace | D69: ks | E69: 1 | G69: =E69*F69 -> 0
A70: 55 | C70: Dokumentace skutečného provedení stavby | D70: ks | E70: 1 | G70: =E70*F70 -> 0

Sheet Příloha č. 1
A1: Příloha č. 1
A2: Všeobecné podmínky k Soupisu prací a dodávek
A4: Smluvní strany se budou řídit právním řádem České republiky
A6: Jednotkové ceny nabídky zahrnují zejména :
A8: a) Veškeré náklady pro zhotovení bezvadného funkčně způsobilého díla, které je předmětem smlouvy a bude schopno plnit řádně svoji funkci po dobu několika dalších desítek let.
A10: b) Náklady pro zajištění bezpečnosti práce, ochrany materiálů, součástí a dalších předmětů pro bezvadné realizované dílo.
A12: c) Náklady na přípomoce,pomocný a montážní materiál, lešení, přesuny hmot-není-li uvedeno jinak pro vnitřní i vnější dopravu, na skladování, dovozné, balné, zpětné odevzdání obalů, cla, ochrany konstrukcí, poplatky za skládkovné, recyklaci, dále náklady na veškeré údžbářské, opravárenské, udržovací práce nutné pro zhotovení díla a náklady na podpěrné konstrukce pro jakoukoliv výšku, není-li stanoveno jinak.
A14: d) Náklady na veškerý úklid na staveništi uvnitř i vně během zhotovování díla bude prováděný pravidelně a konečný úklid před přejímkou. Odvozy prováděné pravidelně zbylé suti, hmot a odpadků během zhotovování díla a dle potřeby.
A16: e) Náklady na zhotovení, předložení a odstranění použitých vzorků materiálů a kvality práce pro zhotovení díla, předepsané zkoušky a atesty podle příslušných předpisů nebo potřebných norem pro prokázání bezchybné funkce díla.
A18: f) Náklady na ochranu a pojištění díla až do přejímky.
A20: g) Náklady na poskytnutí odborného dohledu t.j. odpovědného stavbyvedoucího a vedoucího šéfmontéra.
A22: h) Náklady na zhotovení výkresů, výpočtů a dalších výkonů potřebných pro detailní rozpracování projektů předaných zadavatelem, které jsou potřebné pro bezvadnou realizaci díla (realizační, dílenská a montážní dokumentace).
... A55: 10) Nedílnou součástí Soupisu prací a dodávek je i projektová dokumentace. Soupis prací a dodávek je určen pro ocenění díla nikoliv náhrada dokumentace.
