Workbook

Sheet titulní list
C2: Soupis prací a dodávek s výkazem výměr - Položkový rozpočet
C3: CÚ 2022/I
C6: název stavby :
C7: NÁMĚSTÍ BĚCHOVICE - KAPLE S VYHLÍDKOU
A10: Stupeň dokumentace: | C10: DPS
A11: místo stavby: | C11: 190 11 Praha - Běchovice
A14: Objednatel: | C14: Městská část Praha - Běchovice | D14: IČO: | E14: 00240044
C15: Českobrodská 3, 190 11 Praha – Běchovice | D15: DIČ:
A17: Projektant: | D17: IČO:
D18: DIČ:
A20: Sestavil: | C20: Věra Ulčová - SIMO (+420773518887)
C21: Ing. Josef Fuk - SIPK (+420606643181)
C22: V Podbabě 2516, 160 00 Praha 6-Dejvice
A23: Zhotovitel: | D23: IČO:
D24: DIČ:
C30: Celková rekapitulace stavby
C32: Rekapitulace bez DPH | D32: Kč | E32: celkem | F32: =SSPDsVV!H39 -> 0
C33: VRN - GZS | D33: Kč | E33: 0.03 | F33: =F32*E33 -> 0
C34: Rekapitulace s VRN bez DPH | F34: =SUM(F32:F33) -> 0
C35: DPH 21% | D35: Kč | F35: =F34*0.21 -> 0
C36: Rekapitulace s DPH 21% | D36: Kč | E36: celkem | F36: =SUM(F34:F35) -> 0
B42: V …............................, dne …................. | D42: V …............................, dne ….................
B47: …................................................. | D47: ….................................................
B48: Za zhotovitele | D48: Za objednatele

Sheet SSPDsVV
D3: Soupis prací a dodávek s výkazem výměr - Položkový rozpočet
D4: CÚ 2022/I
D7: název stavby :
D8: NÁMĚSTÍ BĚCHOVICE - KAPLE S VYHLÍDKOU
A11: Stupeň dokumentace: | D11: DPS
A12: místo stavby: | D12: 190 11 Praha - Běchovice
D15: SO 704 - Kaple s vyhlídkou
D18: Rekapitulace nákladů
A20: 1 | D20: Přípravné práce | E20: Kč | H20: =H60 -> 0
A21: 2 | D21: Zemní práce | E21: Kč | H21: =H64 -> 0
A22: 3 | D22: Statika - základy, stropy, stěny+věž, sloupy, schodiště | E22: Kč | H22: =H174 -> 0
A23: 4 | D23: Konstrukce a práce v 1.PP | E23: Kč | H23: =H428 -> 0
A24: 5 | D24: Skladby podlah | E24: Kč | H24: =H488 -> 0
A25: 6 | D25: Skladby střech | E25: Kč | H25: =H616 -> 0
A26: 7 | D26: Skladby stěnových konstrukcí | E26: Kč | H26: =H706 -> 0
A27: 8 | D27: Dokončující konstrukce a práce | E27: Kč | H27: =H801 -> 0
A28: 9 | D28: Zdravotně technické instalace - voda, kanalizace | E28: Kč | H28: =ZTI!H16 -> 0
A29: 10 | D29: Elektroinstalace - silno | E29: Kč | H29: ='EL-silno'!G15 -> 0
A30: 11 | D30: Elektroinstalace - osvětlení | E30: Kč | H30: ='EL-osvětl'!G15 -> 0
A31: 12 | D31: Vzduchotechnika | E31: Kč | H31: =VZT!G15 -> 0
A32: 13 | D32: Výplně otvorů - okna | E32: Kč | H32: ='Výpisy prvků'!H15 -> 0
A33: 14 | D33: Výplně otvorů - dveře | E33: Kč | H33: ='Výpisy prvků'!H16 -> 0
A34: 15 | D34: Truhlářské konstrukce | E34: Kč | H34: ='Výpisy prvků'!H17 -> 0
A35: 16 | D35: Zámečnické konstrukce | E35: Kč | H35: ='Výpisy prvků'!H18 -> 0
A36: 17 | D36: Klempířské konstrukce | E36: Kč | H36: ='Výpisy prvků'!H19 -> 0
A37: 18 | D37: Specifikace ostatních výrobků | E37: Kč | H37: ='Výpisy prvků'!H20 -> 0
A38: 19
A39: 20 | D39: základní náklady bez DPH 21% | E39: Kč | H39: =SUM(H20:H38) -> 0
A40: 21
A41: 28
A42: p.č. | B42: pol. | C42: ozn. | D42: popis prací a dodávek | E42: mj | F42: počet mj | G42: jednotková cena | H42: celková cena v Kč | I42: celková váha/t (t * mj)
A43: 31 | D43: Poznámky.
A44: 32 | D44: 1)Soupis prací a dodávek je zpracován dle Vyhlášky 169 ze dne 12.05.2016
A45: 33 | D45: 2) Neopominutelným podkladem pro ocenění je projektová dokumentace.
A46: 34 | D46: 3) Při oceňování díla stavební firmou je PD a TZ technicky i technologicky nadřazena soupisu prací a dodávek s výkazem výměr . Zhotovitel díla odpovídá za to, že provedl kontrolu kompletnosti seznamu operací v soupise prací a dodávek s výkazem výměr a do své nabídky zahrnul veškeré dodávky a kompletní provedení prací nutné k provedení díla, které je předmětem smlouvy a bude schopno plnit svoji funkci po dobu několika desítek let.
A47: 35 | D47: 4) Hutnění konstrukcí nových i stávajících po demontáži. Konstrukce pro zpevnění hutnit po jednotlivých podkladních vrstvách dle PD a IGP.
A48: 36 | D48: 5) Detaily a podrobnosti dle PD
A49: 37 | D49: 6) Likvidace kovových částí: Veškeré kovové části budou před odvozem k prodeji zváženy a jejich hmotnost zapsána do Stavebního deníku. Následně budou odvezeny a prodány jako druhotné suroviny do Kovošrotu za cenu platnou v den prodeje. Jejich výtěžek bude poslán na účet investora ve výši ceny platné v den prodeje.
A50: 38 | D50: 7) Jednotková cena obsahuje přesun hmot, není-li uvedeno samostatně.
A51: 39 | D51: 8) Výměry jsou vykázány odměřením nebo změřeno digitálně z výkresů PD.
...

Sheet List3
D2: ROZPOČET - návrh
D3: stavební část CÚ 2022/I
D5: na akci :
D6: NÁMĚSTÍ BĚCHOVICE - KAPLE s VYHLÍDKOU
D7: stupeň projektu: - DSJ
D9: místo stavby :
D10: 190 11 Praha - Běchovice
D12: stavebník :
D13: Městská část Praha - Běchovice Českobrodská 3, 190 11, Praha-Běchovice
D16: Rekapitulace nákladů
D18: Přípravné práce | E18: Kč | H18: =H51 -> 178821.5
D19: Zemní práce | E19: Kč | H19: =H56 -> 2174125.5
D20: Statika - základy | E20: Kč | H20: =H200 -> 251733.17
D21: Statika -stropy | E21: Kč | H21: =H219 -> 771106.23
D22: Statika - stěny+věž | E22: Kč | H22: =H300 -> 1815568.5
D23: Statika -sloupy | H23: =H400 -> 125924.69
D24: Statika - schodiště | E24: Kč | H24: =H455 -> 863224.75
D25: Konstrukce a práce v 1.PP | E25: Kč | H25: =H531 -> 295592.42
D26: Skladby podlah | E26: Kč | H26: =H604 -> 1080299
D27: Skladby střech | E27: Kč | H27: =H760 -> 677456.79
E28: Kč
E29: Kč
E30: Kč
E31: Kč
E32: Kč
E33: Kč | H33: =H884 -> 0
E34: Kč | H34: =H934 -> 0
E35: Kč | H35: =H942 -> 0
E36: Kč | H36: =H950 -> 0
E37: Kč | H37: =H953 -> 0
E38: 3430
D40: stavební náklady bez DPH 21% | E40: Kč | H40: =SUM(H18:H39) -> 8233852.6
D42: DPH 21% | E42: Kč | H42: =H40*0.21 -> 1729109
D43: náklady celkem včetně DPH 21% | E43: Kč | H43: =SUM(H40:H42) -> 9962961.6
A49: p.č. | B49: pol. | C49: ozn. | D49: popis prací a dodávek | E49: mj | F49: počet mj | G49: jednotková cena | H49: celková cena v Kč | I49: celková váha/t (t * mj)
D51: P ř í p r a v n é práce | E51: Kč | F51: celkem | H51: =SUM(H52:H54) -> 178821.5
B52: HZS4222 | D52: - Vyhledání detektorem a vytyčení stávajících inženýrských sítí (např. el.kabelů a kabelových tratí silno a slaboproudých, potrubí vody a kanalizace) ve spolupráci správců sítí. | E52: hod | F52: 20 | G52: 679 | H52: =F52*G52 -> 13580
B53: Plánovací cena D+M | D53: - Dočasné zajištění - stávajících inženýrských sítí během výkopových prací, podél výkopových prací, kompletní provedení, výměra cca: (18,5)m*28ks+15m*8ks . Nutno zajistit před prováděním zemních prací. | E53: bm | F53: =18*28+15*8 -> 624 | G53: 248 | H53: =F53*G53 -> 154752 | I53: =0.04*F53 -> 24.96
B54: 119001412 | D54: - Dočasné zajištění potrubí betonového, ŽB nebo kameninového DN do 500 mm (18,5)bm | E54: bm | F54: 18.5 | G54: 567 | H54: =F54*G54 -> 10489.5 | I54: =0.01269*F54 -> 0.234765
D56: Z e m n í práce | E56: Kč | F56: celkem | H56: =SUM(H57:H121) -> 2174125.5 | I56: =SUM(I57:I121) -> 420.72875
...

Sheet Výpisy prvků
D1: Soupis prací a dodávek s výkazem výměr - Položkový rozpočet
D2: CÚ 2022/I
D5: název stavby :
D6: NÁMĚSTÍ BĚCHOVICE - KAPLE S VYHLÍDKOU
B9: Stupeň dokumentace: DPS
B10: Místo stavby: 190 11 Praha - Běchovice
D13: SO 704 - Kaple s vyhlídkou, výpisy prvků
B15: 1 | D15: Výplně otvorů - okna | E15: Kč | H15: =H44 -> 0
B16: 2 | D16: Výplně otvorů - dveře | E16: Kč | H16: =H66 -> 0
B17: 3 | D17: Truhlářské konstrukce | E17: Kč | H17: =H77 -> 0
B18: 4 | D18: Zámečnické konstrukce | E18: Kč | H18: =H94 -> 0
B19: 5 | D19: Klempířské konstrukce | E19: Kč | H19: =H112 -> 0
B20: 6 | D20: Specifikace ostatních výrobků | E20: Kč | H20: =H130 -> 0
B21: 7
B22: 8 | D22: Celkem | E22: Kč | H22: =SUM(H15:H21) -> 0
B23: 9
B24: 10
B25: 11
B26: p.č. | D26: popis | E26: m. j.. | F26: počet m.j.. | G26: jednotková cena / m.j. | H26: cena celkem
B27: 12 | D27: Poznámky:
B28: 13 | D28: 1)Soupis prací a dodávek je zpracován dle Vyhlášky 169 ze dne 12.05.2016
B29: 14 | D29: 2) Neopominutelným podkladem pro ocenění je projektová dokumentace.
B30: 15 | D30: 3) Při oceňování díla stavební firmou je PD a TZ technicky i technologicky nadřazena soupisu prací a dodávek s výkazem výměr . Zhotovitel díla odpovídá za to, že provedl kontrolu kompletnosti seznamu operací v soupise prací a dodávek s výkazem výměr a do své nabídky zahrnul veškeré dodávky a kompletní provedení prací nutné k provedení díla, které je předmětem smlouvy a bude schopno plnit svoji funkci po dobu několika desítek let.
B31: 16 | D31: 4) Hutnění konstrukcí nových i stávajících po demontáži. Konstrukce pro zpevnění hutnit po jednotlivých podkladních vrstvách dle PD a IGP.
B32: 17 | D32: 5) Detaily a podrobnosti dle PD
B33: 18 | D33: 6) Likvidace kovových částí: Veškeré kovové části budou před odvozem k prodeji zváženy a jejich hmotnost zapsána do Stavebního deníku. Následně budou odvezeny a prodány jako druhotné suroviny do Kovošrotu za cenu platnou v den prodeje. Jejich výtěžek bude poslán na účet investora ve výši ceny platné v den prodeje.
B34: 19 | D34: 7) Jednotková cena obsahuje přesun hmot, není-li uvedeno samostatně.
B35: 20 | D35: 8) Výměry jsou vykázány odměřením nebo změřeno digitálně z výkresů PD.
B36: 21 | D36: 9) Nedílnou součástí Soupisu prací a dodávek s výkazem výměr je Příloha č. 1 - Všeobecné podmínky k Soupisu prací a dodávek.
B37: 22 | D37: 10) Před započetím prací budou ve spolupráci správců sítí vytyčeny veškeré inženýrské sítě
B38: 23 | D38: 11) V blízkosti inženýrských sítí budou veškeré práce prováděny ručně
... B43: 28 | D43: 16) Oceňovat spolu s PD a TZ.
B44: 29 | D44: Výplně otvorů - okna viz. D.1.12.1.15 | E44: Kč | H44: =SUM(H45:H65) -> 0
B45: 30 | D45: Poznámka všeobecně : Dodávka bude zhotovena na základě realizační a dílenské dokumentace zhotovitele, který bude odsouhlasen architektem - budou zahrnuty veškeré materiály včetně parotěsných pásek, kování a kotvení (akceptace řešení zhotovitele architektem nezbaví zhotovitele zodpovědnosti plynoucí ze záruk za výrobek, výrobních vlastností dodávky a bezvadnou funkčnost výrobku jako celku). Podrobnosti viz dokumentace. Kompletní provedení včetně montáže, kotvení, pomocného materiálu, mechanizace, dopravy a zaměření.
B46: 31 | C46: O1 | D46: Okno pevné se skrytými obvodovými rámy a členěním ve tvaru kříže, spodní část: vel. cca š. 2400mm x v. 6680mm, rám dřevěný, dřevina dub, přírodní olej. Barva okapnice: bílá matná.Těsnění: hnědé. Silikon: černý. Distanční rámeček (mezi sklem): tmavě hnědý. Výplň pevné části (spodní): čiré, izolační trojsklo, ESG 8/16/LE6/16/VSG55.2LE1.1, ug: 0.60 W/m2K. Výplň otvíravé části (horní): čiré, izolační trojsklo, F4/16/LE4/16/le4, ug: 0.60 w/m2K . Skládání bezrámu na stavbě. Horní část: vel. cca š. 2400mm x v. 595mm, 2x otvíravé / výklopné okno se sloupkem, rám dřevohliníkový, dřevina dub, přírodní olej, z exteriéru hliníkový v barvě RAL 7016 antracitová šedá matná. Těsnění: hnědé. Silikon: černý. Distanční rámeček (mezi sklem): tmavě hnědý. Sklo: čiré, izolační trojsklo. Bezfalcové provedení. Kování: povrch černý matný, rukojeť masivní zahnutá trubka ∅ 15 mm, masivní rozeta kruhový tvar. Venkovní sklo je kalené - esg (odolnější, proti tepelnému šoku, nerozbíjí se na ostré střepy), středové sklo extračiré (proti přehřívání meziprostoru skla a samovolnému praskání) a vnitřní sklo vrstvené a lepené - vsg (odolnější, nerozbíjí se na ostré střepy). Vnitřní parapet: dubový hranol 57 / 90-110, délka 2400 mm s nosem pro nasazení na zeď s cílem překrýt spáru, přírodní olej. Dodavatel předloží výrobní dokumentaci ke schválení architektovi stavby před započetím výroby. Rozměry nutno ověřit na stavbě. Podrobnosti viz dokumentace. Kompletní provedení. | E46: ks | F46: 1 | H46: =F46*G46 -> 0
B47: 32 | C47: O2 | D47: Okno pevné se skrytými obvodovými rámy, vel. cca š. 955mm x v. 5160mm, rám dřevěný, dřevina dub, přírodní olej. Barva okapnice: RAL 7016 antracitová šedá matná. Těsnění: hnědé. Silikon: černý. Distanční rámeček (mezi sklem): tmavě hnědý. Výplň: čiré, izolační trojsklo, ESG 10/16/8/16/VSG66.2LE1.1, Ug: 0.60 W/m2K. Venkovní sklo je kalené - esg (odolnější, proti tepelnému šoku, nerozbíjí se na ostré střepy), středové sklo extračiré (proti přehřívání meziprostoru skla a samovolnému praskání) a vnitřní sklo vrstvené a lepené - vsg (odolnější, nerozbíjí se na ostré střepy). Dodavatel předloží výrobní dokumentaci ke schválení architektovi stavby před započetím výroby. Rozměry nutno ověřit na stavbě. Podrobnosti viz dokumentace. Kompletní provedení. | E47: ks | F47: 1 | H47: =F47*G47 -> 0
B48: 33 | C48: O3 | D48: Okno pevné se skrytým obvodovým rámem - tvar kříže, svislá část - vel. cca š. 320 mm x v. 8555mm, vodorovná část - vel. cca v. (320 mm x š. 1475mm) x 2ks, rám dřevěný, dřevina dub, přírodní olej. Barva okapnice: RAL 7016 antracitová šedá matná. Těsnění: hnědé. Silikon: černý. Distanční rámeček (mezi sklem): tmavě hnědý. Výplň: čiré, izolační trojsklo, ESG 8/16/8/16/VSG66.2LE1.1, Ug: 0.60 W/m2K. Stropní části: izolační sendvičová deska, z exteriéru obloženo včetně rámu smaltem na skle - barva RAL 7016 antracitová šedá. Venkovní sklo je kalené - esg (odolnější, proti tepelnému šoku, nerozbíjí se na ostré střepy), středové sklo extračiré (proti přehřívání meziprostoru skla a samovolnému praskání) a vnitřní sklo vrstvené a lepené - vsg (odolnější, nerozbíjí se na ostré střepy). V 1.np bez vnitřního parapetu. V 1.pp s vnitřním parapetem: dubový parapet , tloušťka 20 mm + nos na 40 mm, přírodní olej. Dodavatel předloží výrobní dokumentaci ke schválení architektovi stavby před započetím výroby. Rozměry nutno ověřit na stavbě. Podrobnosti viz dokumentace. Kompletní provedení. | E48: ks | F48: 1 | H48: =F48*G48 -> 0
B49: 34 | C49: O4 | D49: Okno pevné se skrytými obvodovými rámy, vel. cca š. 955mm x v. 5160mm a vel. cca š. 955mm x v. 1000mm, rám dřevěný, dřevina dub, přírodní olej. Barva okapnice: RAL 7016 antracitová šedá matná. Těsnění: hnědé. Silikon: černý. Distanční rámeček (mezi sklem): tmavě hnědý. Výplň: čiré, izolační trojsklo, ESG 10/16/8/16/VSG66.2LE1.1, Ug: 0.60 W/m2K. Stropní část: vel. cca š. 955mm x v. 340mm, izolační sendvičová deska, z exteriéru obloženo včetně rámu smaltem na skle - barva RAL 7016 antracitová šedá. Venkovní sklo je kalené - esg (odolnější, proti tepelnému šoku, nerozbíjí se na ostré střepy), středové sklo extračiré (proti přehřívání meziprostoru skla a samovolnému praskání) a vnitřní sklo vrstvené a lepené - vsg (odolnější, nerozbíjí se na ostré střepy). V 1.np bez vnitřního parapetu - navazuje na podlahu V 1.pp s vnitřním parapetem: dubový parapet , tloušťka 20 mm + nos na 40 mm, přírodní olej Dodavatel předloží výrobní dokumentaci ke schválení architektovi stavby před započetím výroby. Rozměry nutno ověřit na stavbě. Podrobnosti viz dokumentace. Kompletní provedení. | E49: ks | F49: 1 | H49: =F49*G49 -> 0
B50: 35 | C50: O5 | D50: 2x otvíravé / výklopné okno se sloupkem, vel. cca š. 1830mm x v. 790mm, rám dřevohliníkový, dřevina dub, přírodní olej, z exteriéru hliníkový v barvě RAL 7016 antracitová šedá matná. Těsnění: hnědé. Silikon: černý. Distanční rámeček (mezi sklem): tmavě hnědý. Výplň: čiré, izolační trojsklo, F4/16/LE4/16/LE4, Ug: 0.60 W/m2K. Bezfalcové provedení. Vnitřní parapet: dubový parapet, tloušťka 20 mm + nos na 40 mm, přírodní olej. Kování: povrch černý matný, rukojeť masivní zahnutá trubka ∅ 15 mm, masivní rozeta kruhový tvar. Dodavatel předloží výrobní dokumentaci ke schválení architektovi stavby před započetím výroby. Rozměry nutno ověřit na stavbě. Podrobnosti viz dokumentace. Kompletní provedení. | E50: ks | F50: 1 | H50: =F50*G50 -> 0
B51: 36 | C51: O6 | D51: 3x okno pevné se skrytými obvodovými rámy s rohovým napojením, vel. cca dl. (2095mm x 2ks + 2865mm) x v. 1120mm včetně rohů, rám dřevěný, dřevina dub, přírodní olej. Barva okapnice: RAL 7016 antracitová šedá matná. Těsnění: hnědé. Silikon: černý. Distanční rámeček (mezi sklem): tmavě hnědý. SKLO: čiré, izolační trojsklo, ESG 6/16/LE6/16/LE6, Ug: 0.60 W/m2K. V místě překryvu se sloupy : izolační sendvičová deska, z exteriéru obloženo včetně rámu smaltem na skle - barva RAL 7016 antracitová šedá. Vnitřní parapet: dubový parapet, tloušťka 20 mm + nos na 40 mm, přírodní olej. Dodavatel předloží výrobní dokumentaci ke schválení architektovi stavby před započetím výroby. Rozměry nutno ověřit na stavbě. Podrobnosti viz dokumentace. Kompletní provedení. | E51: ks | F51: 1 | H51: =F51*G51 -> 0
...

Sheet ZTI
D1: Soupis prací a dodávek s výkazem výměr - Položkový rozpočet
D2: CÚ 2022/I
D4: název stavby
D5: NÁMĚSTÍ BĚCHOVICE - KAPLE S VYHLÍDKOU
B8: Stupeň dokumentace: DPS
B9: Místo stavby: 190 11 Praha - Běchovice
D12: SO 704 - Kaple s vyhlídkou, ZTI
B16: 1 | D16: Zdravotně technické instalace | E16: Kč | H16: =SUM(H38) -> 0
B17: 2
B18: 3
B19: 4
B20: p.č. | D20: popis | E20: m. j.. | F20: počet m.j.. | G20: jednotková cena / m.j. | H20: cena celkem
B21: 6 | D21: 1)Soupis prací a dodávek je zpracován dle Vyhlášky 169 ze dne 12.05.2016
B22: 7 | D22: 2) Neopominutelným podkladem pro ocenění je projektová dokumentace.
B23: 8 | D23: 3) Při oceňování díla stavební firmou je PD a TZ technicky i technologicky nadřazena soupisu prací a dodávek s výkazem výměr . Zhotovitel díla odpovídá za to, že provedl kontrolu kompletnosti seznamu operací v soupise prací a dodávek s výkazem výměr a do své nabídky zahrnul veškeré dodávky a kompletní provedení prací nutné k provedení díla, které je předmětem smlouvy a bude schopno plnit svoji funkci po dobu několika desítek let.
B24: 9 | D24: 4) Hutnění konstrukcí nových i stávajících po demontáži. Konstrukce pro zpevnění hutnit po jednotlivých podkladních vrstvách dle PD a IGP.
B25: 10 | D25: 5) Detaily a podrobnosti dle PD
B26: 11 | D26: 6) Likvidace kovových částí: Veškeré kovové části budou před odvozem k prodeji zváženy a jejich hmotnost zapsána do Stavebního deníku. Následně budou odvezeny a prodány jako druhotné suroviny do Kovošrotu za cenu platnou v den prodeje. Jejich výtěžek bude poslán na účet investora ve výši ceny platné v den prodeje.
B27: 12 | D27: 7) Jednotková cena obsahuje přesun hmot, není-li uvedeno samostatně.
B28: 13 | D28: 8) Výměry jsou vykázány odměřením nebo změřeno digitálně z výkresů PD.
B29: 14 | D29: 9) Nedílnou součástí Soupisu prací a dodávek s výkazem výměr je Příloha č. 1 - Všeobecné podmínky k Soupisu prací a dodávek.
B30: 15 | D30: 10) Před započetím prací budou ve spolupráci správců sítí vytyčeny veškeré inženýrské sítě
B31: 16 | D31: 11) V blízkosti inženýrských sítí budou veškeré práce prováděny ručně
B32: 17 | D32: 12) Výměry budou upřesněny v realizační dokumentaci
... B37: 22 | D37: Poznámka všeobecně: Dodávka bude zhotovena na základě realizační a dílenské dokumentace zhotovitele, který bude odsouhlasen architektem a projektantem části PD - budou zahrnuty veškeré materiály a kotvení (akceptace řešení zhotovitele architektem nezbaví zhotovitele zodpovědnosti plynoucí ze záruk za výrobky, výrobních vlastností dodávky a bezvadnou funkčnost výrobků jako celku). Podrobnosti viz dokumentace D.1.12.4. Kompletní provedení včetně montáže, kotvení, pomocného materiálu, mechanizace, dopravy a zaměření.
B38: 23 | D38: Zdravotně technické instalace | E38: Kč | F38: celkem | H38: =SUM(H41:H169) -> 0
B39: 24 | D39: Splašková kanalizace
B40: 25 | D40: Přípojka splaškové kanalizace
B41: 26 | C41: 877355121 | D41: Výřez a montáž tvarovek odbočných na potrubí z kanalizačních trub z PVC DN 200 (Způsob napojení bude upřesněn po odhalení stáv. potrubí) | E41: ks | F41: 1 | H41: =F41*G41 -> 0
B42: 27 | C42: 877355121 | D42: Montáž nalepovací odbočné tvarovky na potrubí z kanalizačních trub z PVC DN 200 | E42: ks | F42: 1 | H42: =F42*G42 -> 0
B43: 28 | C43: 877355211 | D43: Montáž tvarovek z tvrdého PVC-systém KG nebo z polypropylenu-systém KG 2000 jednoosé DN 200Plastové koleno DN200/45° | E43: ks | F43: 4 | H43: =F43*G43 -> 0
B44: 29 | C44: 871355231 | D44: Kanalizační přípojka potrubí KG 2000 SN10 | E44: m | F44: 4 | H44: =F44*G44 -> 0
B45: 30 | C45: PC | D45: dodávka kolena dn200/45 | E45: ks | F45: 1 | H45: =F45*G45 -> 0
B46: 31 | C46: PC | D46: dodávka kolena dn200/15 | E46: ks | F46: 3 | H46: =F46*G46 -> 0
B47: 32 | C47: pc | D47: dodávka potrubí DN200 KG200 | E47: m | F47: 4 | H47: =F47*G47 -> 0
B48: 33 | C48: pc | D48: Revizní šachta z prefabrikovaných dílů betonová Ø 1000mm, v. 2915mm, + poklop DN 625mm s celolitinovým, odvětraným víkem, podrobnosti viz. D.1.12.4.04 | E48: ks | F48: 1 | H48: =F48*G48 -> 0
B49: 34 | D49: Betonový základ pro revizní šachtu C16/20 včetně bednění a odbednění, výměra: cca 1,310*1,310*0,15 | E49: m3 | F49: =1.31*1.31*0.15 -> 0.257415 | H49: =F49*G49 -> 0
B50: 35 | C50: pc | D50: KGR 200/150 | E50: ks | F50: 1 | H50: =F50*G50 -> 0
B51: 36 | C51: 721174027 | D51: Potrubí kanalizační z PP odpadní DN 160 | E51: m | F51: 12 | H51: =F51*G51 -> 0
B52: 37 | C52: 721174026 | D52: Potrubí kanalizační z PP odpadní DN 125 | E52: m | F52: =5.11+1.05 -> 6.16 | H52: =F52*G52 -> 0
...

Sheet EL-silno
C1: Soupis prací a dodávek s výkazem výměr - Položkový rozpočet
C2: CÚ 2022/I
C4: název stavby
C5: NÁMĚSTÍ BĚCHOVICE - KAPLE S VYHLÍDKOU
A8: Stupeň dokumentace: DPS
A9: Místo stavby: 190 11 Praha - Běchovice
C12: SO 704 - Kaple s vyhlídkou, Silnoproudá elektrotechnika
A15: 1 | C15: Silnoproudá elektrotechnika | D15: Kč | G15: =SUM(G39:G119) -> 0
A16: 2
A17: 3
A18: 4
A19: p.č. | C19: popis | D19: m. j.. | E19: počet m.j.. | F19: jednotková cena / m.j. | G19: cena celkem
A20: 5 | C20: 1)Soupis prací a dodávek je zpracován dle Vyhlášky 169 ze dne 12.05.2016
A21: 6 | C21: 2) Neopominutelným podkladem pro ocenění je projektová dokumentace.
A22: 7 | C22: 3) Při oceňování díla stavební firmou je PD a TZ technicky i technologicky nadřazena soupisu prací a dodávek s výkazem výměr . Zhotovitel díla odpovídá za to, že provedl kontrolu kompletnosti seznamu operací v soupise prací a dodávek s výkazem výměr a do své nabídky zahrnul veškeré dodávky a kompletní provedení prací nutné k provedení díla, které je předmětem smlouvy a bude schopno plnit svoji funkci po dobu několika desítek let.
A23: 8 | C23: 4) Hutnění konstrukcí nových i stávajících po demontáži. Konstrukce pro zpevnění hutnit po jednotlivých podkladních vrstvách dle PD a IGP.
A24: 9 | C24: 5) Detaily a podrobnosti dle PD
A25: 10 | C25: 6) Likvidace kovových částí: Veškeré kovové části budou před odvozem k prodeji zváženy a jejich hmotnost zapsána do Stavebního deníku. Následně budou odvezeny a prodány jako druhotné suroviny do Kovošrotu za cenu platnou v den prodeje. Jejich výtěžek bude poslán na účet investora ve výši ceny platné v den prodeje.
A26: 11 | C26: 7) Jednotková cena obsahuje přesun hmot, není-li uvedeno samostatně.
A27: 12 | C27: 8) Výměry jsou vykázány odměřením nebo změřeno digitálně z výkresů PD.
A28: 13 | C28: 9) Nedílnou součástí Soupisu prací a dodávek s výkazem výměr je Příloha č. 1 - Všeobecné podmínky k Soupisu prací a dodávek.
A29: 14 | C29: 10) Před započetím prací budou ve spolupráci správců sítí vytyčeny veškeré inženýrské sítě
A30: 15 | C30: 11) V blízkosti inženýrských sítí budou veškeré práce prováděny ručně
A31: 16 | C31: 12) Výměry budou upřesněny v realizační dokumentaci
... A38: 23 | C38: A) Dodávky
A39: 24 | C39: Rozvaděč RH1 skříňový 600x2000x200 – výzbroj dle výkresu č. D.1.12.05a.02 + příloha část světelně technická D.1.12.05b " | D39: ks | E39: 1 | G39: =E39*F39 -> 0
A40: 25 | C40: Sběrnice hlavního ochranného pospojování | D40: ks | E40: 1 | G40: =E40*F40 -> 0
A41: 26 | C41: B) Hlavní montážní materiál
A42: 27 | C42: B1) Kabelové rozvody silnoproudu (vč. trubkovodů)
A43: 28 | C43: Kabel CYKY J 4x25 | D43: m | E43: 30 | G43: =E43*F43 -> 0
A44: 29 | C44: Kabel CYKY J 5x2,5 | D44: m | E44: 20 | G44: =E44*F44 -> 0
A45: 30 | C45: Kabel CYKY J 3x2,5 | D45: m | E45: 290 | G45: =E45*F45 -> 0
A46: 31 | C46: Kabel CYKY J 5x1,5 | D46: m | E46: 880 | G46: =E46*F46 -> 0
A47: 32 | C47: Kabel CYKY J 3x1,5 | D47: m | E47: 630 | G47: =E47*F47 -> 0
A48: 33 | C48: Kabel CYKY o 3x1,5 | D48: m | E48: 70 | G48: =E48*F48 -> 0
A49: 34 | C49: Kabel CYKY o 2x1,5 | D49: m | E49: 40 | G49: =E49*F49 -> 0
A50: 35 | C50: Kabel CXKH-V 5Cx1,5 | D50: m | E50: 25 | G50: =E50*F50 -> 0
A51: 36 | C51: Kabel UTP 4x2x0,5, cat 5e | D51: m | E51: 140 | G51: =E51*F51 -> 0
A52: 37 | C52: Vodič CY16mm-z/žl | D52: m | E52: 30 | G52: =E52*F52 -> 0
A53: 38 | C53: Vodič CY4mm-z/žl | D53: m | E53: 320 | G53: =E53*F53 -> 0
...

Sheet EL-osvětl
C1: Soupis prací a dodávek s výkazem výměr - Položkový rozpočet
C2: CÚ 2022/I
C4: název stavby
C5: NÁMĚSTÍ BĚCHOVICE - KAPLE S VYHLÍDKOU
A8: Stupeň dokumentace: DPS
A9: Místo stavby: 190 11 Praha - Běchovice
C12: SO 704 - Kaple s vyhlídkou, Osvětlení
A15: 1 | C15: Osvětlení | D15: Kč | G15: =SUM(G37:G76) -> 0
A16: 2
A17: 3
A18: 4
A19: p.č. | C19: popis | D19: m. j.. | E19: počet m.j.. | F19: jednotková cena / m.j. | G19: cena celkem
A20: 6 | C20: 1)Soupis prací a dodávek je zpracován dle Vyhlášky 169 ze dne 12.05.2016
A21: 7 | C21: 2) Neopominutelným podkladem pro ocenění je projektová dokumentace.
A22: 8 | C22: 3) Při oceňování díla stavební firmou je PD a TZ technicky i technologicky nadřazena soupisu prací a dodávek s výkazem výměr . Zhotovitel díla odpovídá za to, že provedl kontrolu kompletnosti seznamu operací v soupise prací a dodávek s výkazem výměr a do své nabídky zahrnul veškeré dodávky a kompletní provedení prací nutné k provedení díla, které je předmětem smlouvy a bude schopno plnit svoji funkci po dobu několika desítek let.
A23: 9 | C23: 4) Hutnění konstrukcí nových i stávajících po demontáži. Konstrukce pro zpevnění hutnit po jednotlivých podkladních vrstvách dle PD a IGP.
A24: 10 | C24: 5) Detaily a podrobnosti dle PD
A25: 11 | C25: 6) Likvidace kovových částí: Veškeré kovové části budou před odvozem k prodeji zváženy a jejich hmotnost zapsána do Stavebního deníku. Následně budou odvezeny a prodány jako druhotné suroviny do Kovošrotu za cenu platnou v den prodeje. Jejich výtěžek bude poslán na účet investora ve výši ceny platné v den prodeje.
A26: 12 | C26: 7) Jednotková cena obsahuje přesun hmot, není-li uvedeno samostatně.
A27: 13 | C27: 8) Výměry jsou vykázány odměřením nebo změřeno digitálně z výkresů PD.
A28: 14 | C28: 9) Nedílnou součástí Soupisu prací a dodávek s výkazem výměr je Příloha č. 1 - Všeobecné podmínky k Soupisu prací a dodávek.
A29: 15 | C29: 10) Před započetím prací budou ve spolupráci správců sítí vytyčeny veškeré inženýrské sítě
A30: 16 | C30: 11) V blízkosti inženýrských sítí budou veškeré práce prováděny ručně
A31: 17 | C31: 12) Výměry budou upřesněny v realizační dokumentaci
... A36: 22 | C36: Poznámka všeobecně: Dodávka bude zhotovena na základě realizační a dílenské dokumentace zhotovitele, který bude odsouhlasen architektem a projektantem části PD - budou zahrnuty veškeré materiály a kotvení (akceptace řešení zhotovitele architektem nezbaví zhotovitele zodpovědnosti plynoucí ze záruk za výrobky, výrobních vlastností dodávky a bezvadnou funkčnost výrobků jako celku). Podrobnosti viz dokumentace D.1.12.5b. Kompletní provedení včetně montáže, kotvení, pomocného materiálu, mechanizace, dopravy a zaměření.
A37: 23 | C37: A1- stropní zápustné rámečkové kruhové LED svítidlo 300mA/DC, 15W / 927, 900 lm, WFL (56°), IP20, III, F, L80B10=50 000hod., bílé | D37: ks | E37: 10 | G37: =E37*F37 -> 0
A38: 24 | C38: A2 - stropní přisazené kruhové LED svítidlo s rozptylným krytem 230V/50Hz, 50W/827, 4 000 lm, IP20, d=500mm, L80=50 000hod, bílé | D38: ks | E38: 3 | G38: =E38*F38 -> 0
A39: 25 | C39: A3 - nástěnné přisazené válcové LED svítidlo U/D (50%/50%), 230V/50Hz, 15W/ 827, 1 200lm, IP40, L80=50 000hod., antracitové | D39: ks | E39: 7 | G39: =E39*F39 -> 0
A40: 26 | C40: A4 - stropní zápustné rámečkové kruhové LED svítidlo 300mA/DC, 15W / 927, 900 lm, WFL (56°), IP20, III, F, L80B10=50 000hod., vč. mont. pouzdra do betonu, bílé | D40: ks | E40: 8 | G40: =E40*F40 -> 0
A41: 27 | C41: A5 - vestavné bezrámečkové obdélníkové LED svítidlo 230V/50Hz, 30W/927, 1300 lm, M (24°), IP20, DALI, L80B10=50 000hod., zlato/mosaz | D41: ks | E41: 32 | G41: =E41*F41 -> 0
A42: 28 | C42: A6 - věčné LED světlo 230V/50Hz, E27, 25W/922, Tcp = 2200 K, 60 lm, stmívatelné, IP20, I, F, čiré | D42: ks | E42: 1 | G42: =E42*F42 -> 0
A43: 29 | C43: C1 - podhledový rámečkový kruhový výklopný LED světlomet 300mA/DC, 15W / 9270, I0=3 500 cd, M(26°), IP20, III, L80B10=50 000 hod., vč. mont. pouzdra do betonu, bílý | D43: ks | E43: 10 | G43: =E43*F43 -> 0
A44: 30 | C44: C2 - podhledový rámečkový kruhový výklopný LED světlomet 300mA/DC, 15W / 9270, I0=5 500 cd, S(16°), IP20, III, L80B10=50 000 hod., vč. mont. pouzdra do betonu, bílý | D44: ks | E44: 2 | G44: =E44*F44 -> 0
A45: 31 | C45: H0 - sloupkové LED svítidlo 230V/50Hz, 15W/830, 500lm, SM,IP66, IK10, hmax=700mm, ULR ≤ 1%, L80B50=50 000 hod., vč. montážní kotvy, rezavě hnědá | D45: ks | E45: 5 | G45: =E45*F45 -> 0
A46: 32 | C46: H1 - směrovatelný zemní LED světlomet 230V/AC, 10W/823, 2300K (filtr), I0=10 000 cd, S(10°), IP66, IK10, vč. mont. pouzdra, barva nerez. | D46: ks | E46: 2 | G46: =E46*F46 -> 0
A47: 33 | C47: H2 - venkovní bodový přísazený LED světlomet 230V/50Hz, 30W, RGB, I0=5000cd, S/WFL (12°/54°), DMX-RDM, IP66, IK07, L80B10=50 000hod., bílý | D47: ks | E47: 2 | G47: =E47*F47 -> 0
A48: 34 | C48: R1 – napájecí proudový zdroj 230VAC/300mADC, 15W, volná montáž, IP20, MM, DALI | D48: ks | E48: 30 | G48: =E48*F48 -> 0
... A75: 61 | C75: realizační dokumemtace | D75: ks | E75: 1 | G75: =E75*F75 -> 0

Sheet VZT
C1: Soupis prací a dodávek s výkazem výměr - Položkový rozpočet
C2: CÚ 2022/I
C4: název stavby
C5: NÁMĚSTÍ BĚCHOVICE - KAPLE S VYHLÍDKOU
A8: Stupeň dokumentace: DPS
A9: Místo stavby: 190 11 Praha - Běchovice
C12: SO 704 - Kaple s vyhlídkou, Vzduchotechnika a vytápění
A15: 1 | C15: Vzduchotechnika a vytápění | D15: Kč | G15: =SUM(G37:G70) -> 0
A16: 2
A17: 3
A18: 4
A19: p.č. | C19: popis | D19: m. j.. | E19: počet m.j.. | F19: jednotková cena / m.j. | G19: cena celkem
A20: 5 | C20: 1)Soupis prací a dodávek je zpracován dle Vyhlášky 169 ze dne 12.05.2016
A21: 6 | C21: 2) Neopominutelným podkladem pro ocenění je projektová dokumentace.
A22: 7 | C22: 3) Při oceňování díla stavební firmou je PD a TZ technicky i technologicky nadřazena soupisu prací a dodávek s výkazem výměr . Zhotovitel díla odpovídá za to, že provedl kontrolu kompletnosti seznamu operací v soupise prací a dodávek s výkazem výměr a do své nabídky zahrnul veškeré dodávky a kompletní provedení prací nutné k provedení díla, které je předmětem smlouvy a bude schopno plnit svoji funkci po dobu několika desítek let.
A23: 8 | C23: 4) Hutnění konstrukcí nových i stávajících po demontáži. Konstrukce pro zpevnění hutnit po jednotlivých podkladních vrstvách dle PD a IGP.
A24: 9 | C24: 5) Detaily a podrobnosti dle PD
A25: 10 | C25: 6) Likvidace kovových částí: Veškeré kovové části budou před odvozem k prodeji zváženy a jejich hmotnost zapsána do Stavebního deníku. Následně budou odvezeny a prodány jako druhotné suroviny do Kovošrotu za cenu platnou v den prodeje. Jejich výtěžek bude poslán na účet investora ve výši ceny platné v den prodeje.
A26: 11 | C26: 7) Jednotková cena obsahuje přesun hmot, není-li uvedeno samostatně.
A27: 12 | C27: 8) Výměry jsou vykázány odměřením nebo změřeno digitálně z výkresů PD.
A28: 13 | C28: 9) Nedílnou součástí Soupisu prací a dodávek s výkazem výměr je Příloha č. 1 - Všeobecné podmínky k Soupisu prací a dodávek.
A29: 14 | C29: 10) Před započetím prací budou ve spolupráci správců sítí vytyčeny veškeré inženýrské sítě
A30: 15 | C30: 11) V blízkosti inženýrských sítí budou veškeré práce prováděny ručně
A31: 16 | C31: 12) Výměry budou upřesněny v realizační dokumentaci
... A37: 22 | C37: ZŘÍZENÍ
A38: 23 | B38: 1.1.1 | C38: Kompaktní vzduchotechnická jednotka, včetně externích servoklapek. Podrobnosti viz datový list přílohou technické zprávy. Kompletní provedení včetně montáže, ref. v. Topvex TR06EL-L-CAV | D38: kpl. | E38: 1 | G38: =E38*F38 -> 0
A39: 24 | B39: 1.4.1 | C39: Jádrový tlumič hluku do čtyřhranného potrubí 500x200 mm, délka 2000 mm. Podrobnosti viz datový list přílohou technické zprávy. Kompletní provedení včetně montáže, ref. v. Stavoklima JTH | D39: kpl. | E39: 2 | G39: =E39*F39 -> 0
A40: 25 | B40: 1.4.2 | C40: Jádrový tlumič hluku do čtyřhranného potrubí 500x200 mm, délka 1000 mm. Podrobnosti viz datový list přílohou technické zprávy. Kompletní provedení včetně montáže, ref. v. Stavoklima JTH | D40: kpl. | E40: 2 | G40: =E40*F40 -> 0
A41: 26 | C41: DISTRIBUČNÍ PRVKY
A42: 27 | B42: 1.6.1 | C42: Střešní sací/výfuková kruhová žaluziová hlavice průměru 560 mm (připojovací průměr 400 mm). Povrchová úprava dle dohody s architektem. Kompletní provedení včetně montáže, ref. v. Lindab VHL | D42: kpl. | E42: 2 | G42: =E42*F42 -> 0
A43: 28 | B43: 1.6.2 | C43: Podlahová vyúsť, hliníková. Povrchová úprava dle dohody s architektem. Kompletní provedení včetně montáže, ref. v. Trox FBA 150 | D43: kpl. | E43: 12 | G43: =E43*F43 -> 0
A44: 29 | B44: 1.6.3 | C44: Talířový ventil pro přívod vzduchu, vč. montážního rámu. Průměr 100 mm. Povrchová úprava dle dohody s architektem. Kompletní provedení včetně montáže, ref.v. Trox Z-LVS 100 | D44: kpl. | E44: 1 | G44: =E44*F44 -> 0
A45: 30 | B45: 1.6.4 | C45: Talířový ventil pro odvod vzduchu, vč. montážního rámu. Průměr 125 mm. Povrchová úprava dle dohody s architektem. Kompletní provedení včetně montáže, ref. v. Trox LVS 125 | D45: kpl. | E45: 2 | G45: =E45*F45 -> 0
A46: 31 | B46: 1.6.5 | C46: Hliníková vyústka dvouřadá s nastavitelnými lamelami (přední řada rovnoběžně s delší stranou), s regulační sadou DG (protiběžné listy), vč. upevňovacího rámečku do potrubí, montáž pomocí pérových svorek. Povrchová úprava dle dohody s architektem. Kompletní provedení včetně montáže, ref. v. Trox ASL 225x125 | D46: kpl. | E46: 2 | G46: =E46*F46 -> 0
A47: 32 | B47: 1.6.6 | C47: Hliníková vyústka jednořadá s nastavitelnými lamelami (rovnoběžně s delší stranou), s regulační sadou AG (protiběžné listy), vč. upevňovacího rámečku do stěny, montáž pomocí pérových svorek. Povrchová úprava dle dohody s architektem. Kompletní provedení včetně montáže, ref. v. Trox ASL 225x125 | D47: kpl. | E47: 1 | G47: =E47*F47 -> 0
A48: 33 | B48: 1.6.7 | C48: Hliníková vyústka jednořadá s nastavitelnými lamelami (rovnoběžně s delší stranou), s regulační sadou AG (protiběžné listy), vč. upevňovacího rámečku do stěny, montáž pomocí pérových svorek. Povrchová úprava dle dohody s architektem. Kompletní provedení včetně montáže, ref. v. Trox ASL 425x325 | D48: kpl. | E48: 1 | G48: =E48*F48 -> 0
A49: 34 | C49: POTRUBÍ A IZOLACE
A50: 35 | C50: Potrubí čtyřhranné z pozinkovaného plechu, včetně tvarovek. Kompletní provedení včetně montáže | D50: m2 | E50: 81 | G50: =E50*F50 -> 0
A51: 36 | C51: Spiro potrubí z pozinkovaného plechu, včetně tvarovek, DN 100. Kompletní provedení včetně montáže | D51: m | E51: 15 | G51: =E51*F51 -> 0
A52: 37 | C52: Spiro potrubí z pozinkovaného plechu, včetně tvarovek, DN 125. Kompletní provedení včetně montáže | D52: m | E52: 4 | G52: =E52*F52 -> 0
...

Sheet Příloha č. 1
A1: Příloha č. 1
A2: Všeobecné podmínky k Soupisu prací a dodávek
A4: Smluvní strany se budou řídit právním řádem České republiky
A6: Jednotkové ceny nabídky zahrnují zejména :
A8: a) Veškeré náklady pro zhotovení bezvadného funkčně způsobilého díla, které je předmětem smlouvy a bude schopno plnit řádně svoji funkci po dobu několika dalších desítek let.
A10: b) Náklady pro zajištění bezpečnosti práce, ochrany materiálů, součástí a dalších předmětů pro bezvadné realizované dílo.
A12: c) Náklady na přípomoce,pomocný a montážní materiál, lešení, přesuny hmot-není-li uvedeno jinak pro vnitřní i vnější dopravu, na skladování, dovozné, balné, zpětné odevzdání obalů, cla, ochrany konstrukcí, poplatky za skládkovné, recyklaci, dále náklady na veškeré údžbářské, opravárenské, udržovací práce nutné pro zhotovení díla a náklady na podpěrné konstrukce pro jakoukoliv výšku, není-li stanoveno jinak.
A14: d) Náklady na veškerý úklid na staveništi uvnitř i vně během zhotovování díla bude prováděný pravidelně a konečný úklid před přejímkou. Odvozy prováděné pravidelně zbylé suti, hmot a odpadků během zhotovování díla a dle potřeby.
A16: e) Náklady na zhotovení, předložení a odstranění použitých vzorků materiálů a kvality práce pro zhotovení díla, předepsané zkoušky a atesty podle příslušných předpisů nebo potřebných norem pro prokázání bezchybné funkce díla.
A18: f) Náklady na ochranu a pojištění díla až do přejímky.
A20: g) Náklady na poskytnutí odborného dohledu t.j. odpovědného stavbyvedoucího a vedoucího šéfmontéra.
A22: h) Náklady na zhotovení výkresů, výpočtů a dalších výkonů potřebných pro detailní rozpracování projektů předaných zadavatelem, které jsou potřebné pro bezvadnou realizaci díla (realizační, dílenská a montážní dokumentace).
... A55: 10) Nedílnou součástí Soupisu prací a dodávek je i projektová dokumentace. Soupis prací a dodávek je určen pro ocenění díla nikoliv náhrada dokumentace.
