Workbook

Sheet Rekapitulace stavby
A1: Export Komplet | AZ1: VZ | BA1: 2.0 | BT1: False | BU1: False | BV1: {b5436887-7aed-4c24-b2d5-b0fbd06ba03d}
AR2: >> skryté sloupce << | BS2: 0,01 | BT2: 21
BS3: 0,01 | BT3: 15
D4: REKAPITULACE STAVBY | AS4: v --- níže se nacházejí doplnkové a pomocné údaje k sestavám --- v | BE4: Návod na vyplnění | BS4: 0,001
D5: Kód: | K5: B | BE5: Měnit lze pouze buňky se žlutým podbarvením!_x000D_ _x000D_ 1) v Rekapitulaci stavby vyplňte údaje o Uchazeči (přenesou se do ostatních sestav i v jiných listech)_x000D_ _x000D_ 2) na vybraných listech vyplňte v sestavě Soupis prací ceny u položek | BS5: 0,01
D6: Stavba: | K6: Přestavba a rozšíření domova pro seniory Jiráskova č.p.193 Broumov - CHRÁNĚNÉ BYTY | BS6: 0,01
D7: KSO: | AK7: CC-CZ: | BS7: 0,01
D8: Místo: | AK8: Datum: | AN8: 4. 3. 2022 | BS8: 0,01
BS9: 0,01
D10: Zadavatel: | AK10: IČ: | BS10: 0,01
E11: Město Broumov, třída Masarykova 239 | AK11: DIČ: | BS11: 0,01
BS12: 0,01
D13: Uchazeč: | AK13: IČ: | AN13: Vyplň údaj | BS13: 0,01
E14: Vyplň údaj | AK14: DIČ: | AN14: Vyplň údaj | BS14: 0,01
BS15: False
D16: Projektant: | AK16: IČ: | BS16: False
AK17: DIČ: | BS17: True
BS18: 0,01
D19: Zpracovatel: | AK19: IČ: | BS19: 0,01
AK20: DIČ: | BS20: False
D22: Poznámka:
E23: Soupis prací je sestaven s využitím Cenové soustavy ÚRS. Položky, které pochází z této cenové soustavy, jsou ve sloupci 'Cenová soustava' označeny popisem 'CS ÚRS' a úrovní příslušného kalendářního pololetí. Veškeré další informace vymezující popis a podmínky použití těchto položek z Cenové soustavy, které nejsou uvedeny přímo v soupisu prací, jsou neomezeně dálkově k dispozici na webu www.podminky.urs.cz.
D26: Cena bez DPH | AK26: =ROUND(AG54,2) -> 0
L28: Sazba daně | W28: Základ daně | AK28: Výše daně
D29: DPH | F29: základní | L29: 0.21 | W29: =ROUND(AZ54, 2) -> 0 | AK29: =ROUND(AV54, 2) -> 0
F30: snížená | L30: 0.15 | W30: =ROUND(BA54, 2) -> 0 | AK30: =ROUND(AW54, 2) -> 0
F31: zákl. přenesená | L31: 0.21 | W31: =ROUND(BB54, 2) -> 0 | AK31: 0
F32: sníž. přenesená | L32: 0.15 | W32: =ROUND(BC54, 2) -> 0 | AK32: 0
F33: nulová | L33: 0 | W33: =ROUND(BD54, 2) -> 0 | AK33: 0
D35: Cena s DPH | T35: v | X35: CZK | AK35: =SUM(AK26:AK33) -> 0
C42: REKAPITULACE OBJEKTŮ STAVBY A SOUPISŮ PRACÍ
C44: Kód: | L44: =K5 -> B
C45: Stavba: | L45: =K6 -> Přestavba a rozšíření domova pro seniory Jiráskova č.p.193 Broumov - CHRÁNĚNÉ BYTY
C47: Místo: | L47: =IF(K8="","",K8) | AI47: Datum: | AM47: =IF(AN8= "","",AN8) -> 4. 3. 2022
C49: Zadavatel: | L49: =IF(E11= "","",E11) -> Město Broumov, třída Masarykova 239 | AI49: Projektant: | AM49: =IF(E17="","",E17) | AS49: Informatívní údaje z listů zakázek
C50: Uchazeč: | L50: =IF(E14= "Vyplň údaj","",E14) | AI50: Zpracovatel: | AM50: =IF(E20="","",E20)
C52: Kód | I52: Popis | AG52: Cena bez DPH [CZK] | AN52: Cena s DPH [CZK] | AQ52: Typ | AS52: z toho Ostat._x000D_ náklady [CZK] | AT52: DPH [CZK] | AU52: Normohodiny [h] | AV52: DPH základní [CZK] | AW52: DPH snížená [CZK] | AX52: DPH základní přenesená_x000D_ [CZK] | AY52: DPH snížená přenesená_x000D_ [CZK] | AZ52: Základna_x000D_ DPH základní | BA52: Základna_x000D_ DPH snížená | BB52: Základna_x000D_ DPH zákl. přenesená | BC52: Základna_x000D_ DPH sníž. přenesená | BD52: Základna_x000D_ DPH nulová
C54: Náklady stavby celkem | AG54: =ROUND(SUM(AG55:AG64),2) -> 0 | AN54: =SUM(AG54,AT54) -> 0 | AS54: =ROUND(SUM(AS55:AS64),2) -> 0 | AT54: =ROUND(SUM(AV54:AW54),2) -> 0 | AU54: =ROUND(SUM(AU55:AU64),5) -> 0 | AV54: =ROUND(AZ54*L29,2) -> 0 | AW54: =SUM(AW55:AW64) -> 0 | AX54: =ROUND(BB54*L29,2) -> 0 | AY54: =ROUND(BC54*L30,2) -> 0 | AZ54: =ROUND(SUM(AZ55:AZ64),2) -> 0 | BA54: =ROUND(SUM(BA55:BA64),2) -> 0 | BB54: =ROUND(SUM(BB55:BB64),2) -> 0 | BC54: =ROUND(SUM(BC55:BC64),2) -> 0 | BD54: =ROUND(SUM(BD55:BD64),2) -> 0 | BS54: D | BT54: 0 | BU54: ###NOIMPORT### | BV54: IMPORT | BW54: {b5436887-7aed-4c24-b2d5-b0fbd06ba03d} | BX54: {00000000-0000-0000-0000-000000000000}
A55: / | D55: D.1.1 | J55: Architektonicko-stavební řešení | AG55: ='D.1.1 - Architektonicko-s...'!J30 -> 0 | AN55: =SUM(AG55,AT55) -> 0 | AQ55: STA | AS55: 0 | AT55: =ROUND(SUM(AV55:AW55),2) -> 0 | AU55: ='D.1.1 - Architektonicko-s...'!P106 -> 0 | AV55: ='D.1.1 - Architektonicko-s...'!J33 -> 0 | AW55: ='D.1.1 - Architektonicko-s...'!J34 -> 0 | AX55: ='D.1.1 - Architektonicko-s...'!J35 -> 0 | AY55: ='D.1.1 - Architektonicko-s...'!J36 -> 0 | AZ55: ='D.1.1 - Architektonicko-s...'!F33 -> 0 | BA55: ='D.1.1 - Architektonicko-s...'!F34 -> 0 | BB55: ='D.1.1 - Architektonicko-s...'!F35 -> 0 | BC55: ='D.1.1 - Architektonicko-s...'!F36 -> 0 | BD55: ='D.1.1 - Architektonicko-s...'!F37 -> 0 | BT55: 1 | BV55: IMPORT | BW55: {cc774e05-60e9-4781-a40a-1073bfc8aafd} | BX55: {b5436887-7aed-4c24-b2d5-b0fbd06ba03d} | CM55: 1
A56: / | D56: D.1.4 | J56: Vytápění | AG56: ='D.1.4 - Vytápění'!J30 -> 0 | AN56: =SUM(AG56,AT56) -> 0 | AQ56: STA | AS56: 0 | AT56: =ROUND(SUM(AV56:AW56),2) -> 0 | AU56: ='D.1.4 - Vytápění'!P85 -> 0 | AV56: ='D.1.4 - Vytápění'!J33 -> 0 | AW56: ='D.1.4 - Vytápění'!J34 -> 0 | AX56: ='D.1.4 - Vytápění'!J35 -> 0 | AY56: ='D.1.4 - Vytápění'!J36 -> 0 | AZ56: ='D.1.4 - Vytápění'!F33 -> 0 | BA56: ='D.1.4 - Vytápění'!F34 -> 0 | BB56: ='D.1.4 - Vytápění'!F35 -> 0 | BC56: ='D.1.4 - Vytápění'!F36 -> 0 | BD56: ='D.1.4 - Vytápění'!F37 -> 0 | BT56: 1 | BV56: IMPORT | BW56: {53b3bb64-ebb1-42cc-8e51-4f4e6e8c26a4} | BX56: {b5436887-7aed-4c24-b2d5-b0fbd06ba03d} | CM56: 1
...

Sheet D.1.1 - Architektonicko-s...
L2: >> skryté sloupce << | AT2: {cc774e05-60e9-4781-a40a-1073bfc8aafd}
AT3: 1
D4: KRYCÍ LIST SOUPISU PRACÍ | M4: v --- níže se nacházejí doplnkové a pomocné údaje k sestavám --- v | AT4: False
D6: Stavba:
E7: ='Rekapitulace stavby'!K6 -> Přestavba a rozšíření domova pro seniory Jiráskova č.p.193 Broumov - CHRÁNĚNÉ BYTY
D8: Objekt:
E9: D.1.1 - Architektonicko-stavební řešení
D11: KSO: | I11: CC-CZ:
D12: Místo: | I12: Datum: | J12: ='Rekapitulace stavby'!AN8 -> 4. 3. 2022
D14: Zadavatel: | I14: IČ: | J14: =IF('Rekapitulace stavby'!AN10="","",'Rekapitulace stavby'!AN10)
E15: =IF('Rekapitulace stavby'!E11="","",'Rekapitulace stavby'!E11) -> Město Broumov, třída Masarykova 239 | I15: DIČ: | J15: =IF('Rekapitulace stavby'!AN11="","",'Rekapitulace stavby'!AN11)
D17: Uchazeč: | I17: IČ: | J17: ='Rekapitulace stavby'!AN13 -> Vyplň údaj
E18: ='Rekapitulace stavby'!E14 -> Vyplň údaj | I18: DIČ: | J18: ='Rekapitulace stavby'!AN14 -> Vyplň údaj
D20: Projektant: | I20: IČ: | J20: =IF('Rekapitulace stavby'!AN16="","",'Rekapitulace stavby'!AN16)
E21: =IF('Rekapitulace stavby'!E17="","",'Rekapitulace stavby'!E17) | I21: DIČ: | J21: =IF('Rekapitulace stavby'!AN17="","",'Rekapitulace stavby'!AN17)
D23: Zpracovatel: | I23: IČ: | J23: =IF('Rekapitulace stavby'!AN19="","",'Rekapitulace stavby'!AN19)
E24: =IF('Rekapitulace stavby'!E20="","",'Rekapitulace stavby'!E20) | I24: DIČ: | J24: =IF('Rekapitulace stavby'!AN20="","",'Rekapitulace stavby'!AN20)
D26: Poznámka:
D30: Cena bez DPH | J30: =ROUND(J106, 2) -> 0
F32: Základ daně | I32: Sazba daně | J32: Výše daně
D33: DPH | E33: základní | F33: =ROUND((SUM(BE106:BE797)), 2) -> 0 | I33: 0.21 | J33: =ROUND(((SUM(BE106:BE797))*I33), 2) -> 0
E34: snížená | F34: =ROUND((SUM(BF106:BF797)), 2) -> 0 | I34: 0.15 | J34: =ROUND(((SUM(BF106:BF797))*I34), 2) -> 0
E35: zákl. přenesená | F35: =ROUND((SUM(BG106:BG797)), 2) -> 0 | I35: 0.21 | J35: =0 -> 0
E36: sníž. přenesená | F36: =ROUND((SUM(BH106:BH797)), 2) -> 0 | I36: 0.15 | J36: =0 -> 0
E37: nulová | F37: =ROUND((SUM(BI106:BI797)), 2) -> 0 | I37: 0 | J37: =0 -> 0
D39: Cena s DPH | G39: v | H39: CZK | J39: =SUM(J30:J37) -> 0
C45: REKAPITULACE ČLENĚNÍ SOUPISU PRACÍ
C47: Stavba:
E48: =E7 -> Přestavba a rozšíření domova pro seniory Jiráskova č.p.193 Broumov - CHRÁNĚNÉ BYTY
C49: Objekt:
E50: =E9 -> D.1.1 - Architektonicko-stavební řešení
C52: Místo: | F52: =F12 | I52: Datum: | J52: =IF(J12="","",J12) -> 4. 3. 2022
C54: Zadavatel: | F54: =E15 -> Město Broumov, třída Masarykova 239 | I54: Projektant: | J54: =E21
C55: Uchazeč: | F55: =IF(E18="","",E18) -> Vyplň údaj | I55: Zpracovatel: | J55: =E24
C57: Kód dílu - Popis | J57: Cena celkem [CZK]
C59: Náklady stavby celkem | J59: =J106 -> 0 | AU59: -1
D60: HSV - Práce a dodávky HSV | J60: =J107 -> 0
D61: 1 - Zemní práce | J61: =J108 -> 0
D62: 2 - Zakládání | J62: =J138 -> 0
D63: 3 - Svislé a kompletní konstrukce | J63: =J205 -> 0
...

Sheet D.1.4 - Vytápění
L2: >> skryté sloupce << | AT2: {53b3bb64-ebb1-42cc-8e51-4f4e6e8c26a4}
AT3: 1
D4: KRYCÍ LIST SOUPISU PRACÍ | M4: v --- níže se nacházejí doplnkové a pomocné údaje k sestavám --- v | AT4: False
D6: Stavba:
E7: ='Rekapitulace stavby'!K6 -> Přestavba a rozšíření domova pro seniory Jiráskova č.p.193 Broumov - CHRÁNĚNÉ BYTY
D8: Objekt:
E9: D.1.4 - Vytápění
D11: KSO: | I11: CC-CZ:
D12: Místo: | I12: Datum: | J12: ='Rekapitulace stavby'!AN8 -> 4. 3. 2022
D14: Zadavatel: | I14: IČ: | J14: =IF('Rekapitulace stavby'!AN10="","",'Rekapitulace stavby'!AN10)
E15: =IF('Rekapitulace stavby'!E11="","",'Rekapitulace stavby'!E11) -> Město Broumov, třída Masarykova 239 | I15: DIČ: | J15: =IF('Rekapitulace stavby'!AN11="","",'Rekapitulace stavby'!AN11)
D17: Uchazeč: | I17: IČ: | J17: ='Rekapitulace stavby'!AN13 -> Vyplň údaj
E18: ='Rekapitulace stavby'!E14 -> Vyplň údaj | I18: DIČ: | J18: ='Rekapitulace stavby'!AN14 -> Vyplň údaj
D20: Projektant: | I20: IČ: | J20: =IF('Rekapitulace stavby'!AN16="","",'Rekapitulace stavby'!AN16)
E21: =IF('Rekapitulace stavby'!E17="","",'Rekapitulace stavby'!E17) | I21: DIČ: | J21: =IF('Rekapitulace stavby'!AN17="","",'Rekapitulace stavby'!AN17)
D23: Zpracovatel: | I23: IČ: | J23: =IF('Rekapitulace stavby'!AN19="","",'Rekapitulace stavby'!AN19)
E24: =IF('Rekapitulace stavby'!E20="","",'Rekapitulace stavby'!E20) | I24: DIČ: | J24: =IF('Rekapitulace stavby'!AN20="","",'Rekapitulace stavby'!AN20)
D26: Poznámka:
D30: Cena bez DPH | J30: =ROUND(J85, 2) -> 0
F32: Základ daně | I32: Sazba daně | J32: Výše daně
D33: DPH | E33: základní | F33: =ROUND((SUM(BE85:BE309)), 2) -> 0 | I33: 0.21 | J33: =ROUND(((SUM(BE85:BE309))*I33), 2) -> 0
E34: snížená | F34: =ROUND((SUM(BF85:BF309)), 2) -> 0 | I34: 0.15 | J34: =ROUND(((SUM(BF85:BF309))*I34), 2) -> 0
E35: zákl. přenesená | F35: =ROUND((SUM(BG85:BG309)), 2) -> 0 | I35: 0.21 | J35: =0 -> 0
E36: sníž. přenesená | F36: =ROUND((SUM(BH85:BH309)), 2) -> 0 | I36: 0.15 | J36: =0 -> 0
E37: nulová | F37: =ROUND((SUM(BI85:BI309)), 2) -> 0 | I37: 0 | J37: =0 -> 0
D39: Cena s DPH | G39: v | H39: CZK | J39: =SUM(J30:J37) -> 0
C45: REKAPITULACE ČLENĚNÍ SOUPISU PRACÍ
C47: Stavba:
E48: =E7 -> Přestavba a rozšíření domova pro seniory Jiráskova č.p.193 Broumov - CHRÁNĚNÉ BYTY
C49: Objekt:
E50: =E9 -> D.1.4 - Vytápění
C52: Místo: | F52: =F12 | I52: Datum: | J52: =IF(J12="","",J12) -> 4. 3. 2022
C54: Zadavatel: | F54: =E15 -> Město Broumov, třída Masarykova 239 | I54: Projektant: | J54: =E21
C55: Uchazeč: | F55: =IF(E18="","",E18) -> Vyplň údaj | I55: Zpracovatel: | J55: =E24
C57: Kód dílu - Popis | J57: Cena celkem [CZK]
C59: Náklady stavby celkem | J59: =J85 -> 0 | AU59: -1
D60: D1 - KOTELNA V OBJEKTU B | J60: =J86 -> 0
D61: D2 - ROZVODY POTRUBÍ V KOTELNĚ B | J61: =J125 -> 0
D62: D3 - ARMATURY KOTELNA B | J62: =J145 -> 0
D63: D4 - OTOPNÁ TĚLESA A | J63: =J232 -> 0
...

Sheet D.1.5 - MaR
L2: >> skryté sloupce << | AT2: {78649991-a1dc-4ba5-891a-4b478ebd384e}
AT3: 1
D4: KRYCÍ LIST SOUPISU PRACÍ | M4: v --- níže se nacházejí doplnkové a pomocné údaje k sestavám --- v | AT4: False
D6: Stavba:
E7: ='Rekapitulace stavby'!K6 -> Přestavba a rozšíření domova pro seniory Jiráskova č.p.193 Broumov - CHRÁNĚNÉ BYTY
D8: Objekt:
E9: D.1.5 - MaR
D11: KSO: | I11: CC-CZ:
D12: Místo: | I12: Datum: | J12: ='Rekapitulace stavby'!AN8 -> 4. 3. 2022
D14: Zadavatel: | I14: IČ: | J14: =IF('Rekapitulace stavby'!AN10="","",'Rekapitulace stavby'!AN10)
E15: =IF('Rekapitulace stavby'!E11="","",'Rekapitulace stavby'!E11) -> Město Broumov, třída Masarykova 239 | I15: DIČ: | J15: =IF('Rekapitulace stavby'!AN11="","",'Rekapitulace stavby'!AN11)
D17: Uchazeč: | I17: IČ: | J17: ='Rekapitulace stavby'!AN13 -> Vyplň údaj
E18: ='Rekapitulace stavby'!E14 -> Vyplň údaj | I18: DIČ: | J18: ='Rekapitulace stavby'!AN14 -> Vyplň údaj
D20: Projektant: | I20: IČ: | J20: =IF('Rekapitulace stavby'!AN16="","",'Rekapitulace stavby'!AN16)
E21: =IF('Rekapitulace stavby'!E17="","",'Rekapitulace stavby'!E17) | I21: DIČ: | J21: =IF('Rekapitulace stavby'!AN17="","",'Rekapitulace stavby'!AN17)
D23: Zpracovatel: | I23: IČ: | J23: =IF('Rekapitulace stavby'!AN19="","",'Rekapitulace stavby'!AN19)
E24: =IF('Rekapitulace stavby'!E20="","",'Rekapitulace stavby'!E20) | I24: DIČ: | J24: =IF('Rekapitulace stavby'!AN20="","",'Rekapitulace stavby'!AN20)
D26: Poznámka:
D30: Cena bez DPH | J30: =ROUND(J86, 2) -> 0
F32: Základ daně | I32: Sazba daně | J32: Výše daně
D33: DPH | E33: základní | F33: =ROUND((SUM(BE86:BE131)), 2) -> 0 | I33: 0.21 | J33: =ROUND(((SUM(BE86:BE131))*I33), 2) -> 0
E34: snížená | F34: =ROUND((SUM(BF86:BF131)), 2) -> 0 | I34: 0.15 | J34: =ROUND(((SUM(BF86:BF131))*I34), 2) -> 0
E35: zákl. přenesená | F35: =ROUND((SUM(BG86:BG131)), 2) -> 0 | I35: 0.21 | J35: =0 -> 0
E36: sníž. přenesená | F36: =ROUND((SUM(BH86:BH131)), 2) -> 0 | I36: 0.15 | J36: =0 -> 0
E37: nulová | F37: =ROUND((SUM(BI86:BI131)), 2) -> 0 | I37: 0 | J37: =0 -> 0
D39: Cena s DPH | G39: v | H39: CZK | J39: =SUM(J30:J37) -> 0
C45: REKAPITULACE ČLENĚNÍ SOUPISU PRACÍ
C47: Stavba:
E48: =E7 -> Přestavba a rozšíření domova pro seniory Jiráskova č.p.193 Broumov - CHRÁNĚNÉ BYTY
C49: Objekt:
E50: =E9 -> D.1.5 - MaR
C52: Místo: | F52: =F12 | I52: Datum: | J52: =IF(J12="","",J12) -> 4. 3. 2022
C54: Zadavatel: | F54: =E15 -> Město Broumov, třída Masarykova 239 | I54: Projektant: | J54: =E21
C55: Uchazeč: | F55: =IF(E18="","",E18) -> Vyplň údaj | I55: Zpracovatel: | J55: =E24
C57: Kód dílu - Popis | J57: Cena celkem [CZK]
C59: Náklady stavby celkem | J59: =J86 -> 0 | AU59: -1
D60: 1 - ROZVADĚČE | J60: =J87 -> 0
D61: 2 - KABELY | J61: =J90 -> 0
D62: 3 - KABELOVÉ TRASY | J62: =J95 -> 0
D63: 5 - Polní instrumentace | J63: =J100 -> 0
...

Sheet D.1.6 - Zdravotně-technic...
L2: >> skryté sloupce << | AT2: {ae75550c-3a22-46d5-a405-2d0385834a2e}
AT3: 1
D4: KRYCÍ LIST SOUPISU PRACÍ | M4: v --- níže se nacházejí doplnkové a pomocné údaje k sestavám --- v | AT4: False
D6: Stavba:
E7: ='Rekapitulace stavby'!K6 -> Přestavba a rozšíření domova pro seniory Jiráskova č.p.193 Broumov - CHRÁNĚNÉ BYTY
D8: Objekt:
E9: D.1.6 - Zdravotně-technic...
D11: KSO: | I11: CC-CZ:
D12: Místo: | I12: Datum: | J12: ='Rekapitulace stavby'!AN8 -> 4. 3. 2022
D14: Zadavatel: | I14: IČ: | J14: =IF('Rekapitulace stavby'!AN10="","",'Rekapitulace stavby'!AN10)
E15: =IF('Rekapitulace stavby'!E11="","",'Rekapitulace stavby'!E11) -> Město Broumov, třída Masarykova 239 | I15: DIČ: | J15: =IF('Rekapitulace stavby'!AN11="","",'Rekapitulace stavby'!AN11)
D17: Uchazeč: | I17: IČ: | J17: ='Rekapitulace stavby'!AN13 -> Vyplň údaj
E18: ='Rekapitulace stavby'!E14 -> Vyplň údaj | I18: DIČ: | J18: ='Rekapitulace stavby'!AN14 -> Vyplň údaj
D20: Projektant: | I20: IČ: | J20: =IF('Rekapitulace stavby'!AN16="","",'Rekapitulace stavby'!AN16)
E21: =IF('Rekapitulace stavby'!E17="","",'Rekapitulace stavby'!E17) | I21: DIČ: | J21: =IF('Rekapitulace stavby'!AN17="","",'Rekapitulace stavby'!AN17)
D23: Zpracovatel: | I23: IČ: | J23: =IF('Rekapitulace stavby'!AN19="","",'Rekapitulace stavby'!AN19)
E24: =IF('Rekapitulace stavby'!E20="","",'Rekapitulace stavby'!E20) | I24: DIČ: | J24: =IF('Rekapitulace stavby'!AN20="","",'Rekapitulace stavby'!AN20)
D26: Poznámka:
D30: Cena bez DPH | J30: =ROUND(J86, 2) -> 0
F32: Základ daně | I32: Sazba daně | J32: Výše daně
D33: DPH | E33: základní | F33: =ROUND((SUM(BE86:BE214)), 2) -> 0 | I33: 0.21 | J33: =ROUND(((SUM(BE86:BE214))*I33), 2) -> 0
E34: snížená | F34: =ROUND((SUM(BF86:BF131)), 2) -> 0 | I34: 0.15 | J34: =ROUND(((SUM(BF86:BF131))*I34), 2) -> 0
E35: zákl. přenesená | F35: =ROUND((SUM(BG86:BG214)), 2) -> 0 | I35: 0.21 | J35: =0 -> 0
E36: sníž. přenesená | F36: =ROUND((SUM(BH86:BH214)), 2) -> 0 | I36: 0.15 | J36: =0 -> 0
E37: nulová | F37: =ROUND((SUM(BI86:BI214)), 2) -> 0 | I37: 0 | J37: =0 -> 0
D39: Cena s DPH | G39: v | H39: CZK | J39: =SUM(J30:J37) -> 0
C45: REKAPITULACE ČLENĚNÍ SOUPISU PRACÍ
C47: Stavba:
E48: =E7 -> Přestavba a rozšíření domova pro seniory Jiráskova č.p.193 Broumov - CHRÁNĚNÉ BYTY
C49: Objekt:
E50: =E9 -> D.1.6 - Zdravotně-technic...
C52: Místo: | F52: =F12 | I52: Datum: | J52: =IF(J12="","",J12) -> 4. 3. 2022
C54: Zadavatel: | F54: =E15 -> Město Broumov, třída Masarykova 239 | I54: Projektant: | J54: =E21
C55: Uchazeč: | F55: =IF(E18="","",E18) -> Vyplň údaj | I55: Zpracovatel: | J55: =E24
C57: Kód dílu - Popis | J57: Cena celkem [CZK]
C59: Náklady stavby celkem | J59: =J86 -> 0 | AU59: -1
D60: 1 - KANALIZACE PŮVODNÍ OBJEKTY | J60: =J87 -> 0
D61: 2 - KANALIZACE PŘÍSTAVBA | J61: =J116 -> 0
D62: 3 - DEŠŤOVÁ KANALIZACE | J62: =J129 -> 0
D63: 4 - VODOMĚRNÁ SESTAVA | J63: =J132 -> 0
...

Sheet D.1.7 - VZT
L2: >> skryté sloupce << | AT2: {514232ea-e3fc-4c91-acca-12676b05ea3c}
AT3: 2
D4: KRYCÍ LIST SOUPISU PRACÍ | M4: v --- níže se nacházejí doplnkové a pomocné údaje k sestavám --- v | AT4: False
D6: Stavba:
E7: ='Rekapitulace stavby'!K6 -> Přestavba a rozšíření domova pro seniory Jiráskova č.p.193 Broumov - CHRÁNĚNÉ BYTY
D8: Objekt:
E9: D.1.7 - VZT
D11: KSO: | I11: CC-CZ:
D12: Místo: | I12: Datum: | J12: ='Rekapitulace stavby'!AN8 -> 4. 3. 2022
D14: Zadavatel: | I14: IČ: | J14: =IF('Rekapitulace stavby'!AN10="","",'Rekapitulace stavby'!AN10)
E15: =IF('Rekapitulace stavby'!E11="","",'Rekapitulace stavby'!E11) -> Město Broumov, třída Masarykova 239 | I15: DIČ: | J15: =IF('Rekapitulace stavby'!AN11="","",'Rekapitulace stavby'!AN11)
D17: Uchazeč: | I17: IČ: | J17: ='Rekapitulace stavby'!AN13 -> Vyplň údaj
E18: ='Rekapitulace stavby'!E14 -> Vyplň údaj | I18: DIČ: | J18: ='Rekapitulace stavby'!AN14 -> Vyplň údaj
D20: Projektant: | I20: IČ: | J20: =IF('Rekapitulace stavby'!AN16="","",'Rekapitulace stavby'!AN16)
E21: =IF('Rekapitulace stavby'!E17="","",'Rekapitulace stavby'!E17) | I21: DIČ: | J21: =IF('Rekapitulace stavby'!AN17="","",'Rekapitulace stavby'!AN17)
D23: Zpracovatel: | I23: IČ: | J23: =IF('Rekapitulace stavby'!AN19="","",'Rekapitulace stavby'!AN19)
E24: =IF('Rekapitulace stavby'!E20="","",'Rekapitulace stavby'!E20) | I24: DIČ: | J24: =IF('Rekapitulace stavby'!AN20="","",'Rekapitulace stavby'!AN20)
D26: Poznámka:
D30: Cena bez DPH | J30: =ROUND(J84, 2) -> 0
F32: Základ daně | I32: Sazba daně | J32: Výše daně
D33: DPH | E33: základní | F33: =ROUND((SUM(BE84:BE243)), 2) -> 0 | I33: 0.21 | J33: =ROUND(((SUM(BE84:BE243))*I33), 2) -> 0
E34: snížená | F34: =ROUND((SUM(BF84:BF243)), 2) -> 0 | I34: 0.15 | J34: =ROUND(((SUM(BF84:BF243))*I34), 2) -> 0
E35: zákl. přenesená | F35: =ROUND((SUM(BG84:BG243)), 2) -> 0 | I35: 0.21 | J35: =0 -> 0
E36: sníž. přenesená | F36: =ROUND((SUM(BH84:BH243)), 2) -> 0 | I36: 0.15 | J36: =0 -> 0
E37: nulová | F37: =ROUND((SUM(BI84:BI243)), 2) -> 0 | I37: 0 | J37: =0 -> 0
D39: Cena s DPH | G39: v | H39: CZK | J39: =SUM(J30:J37) -> 0
C45: REKAPITULACE ČLENĚNÍ SOUPISU PRACÍ
C47: Stavba:
E48: =E7 -> Přestavba a rozšíření domova pro seniory Jiráskova č.p.193 Broumov - CHRÁNĚNÉ BYTY
C49: Objekt:
E50: =E9 -> D.1.7 - VZT
C52: Místo: | F52: =F12 | I52: Datum: | J52: =IF(J12="","",J12) -> 4. 3. 2022
C54: Zadavatel: | F54: =E15 -> Město Broumov, třída Masarykova 239 | I54: Projektant: | J54: =E21
C55: Uchazeč: | F55: =IF(E18="","",E18) -> Vyplň údaj | I55: Zpracovatel: | J55: =E24
C57: Kód dílu - Popis | J57: Cena celkem [CZK]
C59: Náklady stavby celkem | J59: =J84 -> 0 | AU59: -1
D60: Zař. č. 1 - Zař. č. - Zař. č. 1 - Zař. č. | J60: =J85 -> 0
D61: Zař. č. 1A - Zař. č. - Zař. č. 1A - Zař. č. | J61: =J97 -> 0
D62: Zař. č. 3A - Zař. č. - Zař. č. 3A - Zař. č. | J62: =J107 -> 0
D63: Zař. č. 5 - Zař. č. - Zař. č. 5 - Zař. č. | J63: =J223 -> 0
...

Sheet D.1.8 - Elektroinstalace-...
L2: >> skryté sloupce << | AT2: {4a7d20d7-0934-4896-ba63-89c39f4cf540}
AT3: 1
D4: KRYCÍ LIST SOUPISU PRACÍ | M4: v --- níže se nacházejí doplnkové a pomocné údaje k sestavám --- v | AT4: False
D6: Stavba:
E7: ='Rekapitulace stavby'!K6 -> Přestavba a rozšíření domova pro seniory Jiráskova č.p.193 Broumov - CHRÁNĚNÉ BYTY
D8: Objekt:
E9: D.1.8 - Elektroinstalace-silnoproud
D11: KSO: | I11: CC-CZ:
D12: Místo: | I12: Datum: | J12: ='Rekapitulace stavby'!AN8 -> 4. 3. 2022
D14: Zadavatel: | I14: IČ: | J14: =IF('Rekapitulace stavby'!AN10="","",'Rekapitulace stavby'!AN10)
E15: =IF('Rekapitulace stavby'!E11="","",'Rekapitulace stavby'!E11) -> Město Broumov, třída Masarykova 239 | I15: DIČ: | J15: =IF('Rekapitulace stavby'!AN11="","",'Rekapitulace stavby'!AN11)
D17: Uchazeč: | I17: IČ: | J17: ='Rekapitulace stavby'!AN13 -> Vyplň údaj
E18: ='Rekapitulace stavby'!E14 -> Vyplň údaj | I18: DIČ: | J18: ='Rekapitulace stavby'!AN14 -> Vyplň údaj
D20: Projektant: | I20: IČ: | J20: =IF('Rekapitulace stavby'!AN16="","",'Rekapitulace stavby'!AN16)
E21: =IF('Rekapitulace stavby'!E17="","",'Rekapitulace stavby'!E17) | I21: DIČ: | J21: =IF('Rekapitulace stavby'!AN17="","",'Rekapitulace stavby'!AN17)
D23: Zpracovatel: | I23: IČ: | J23: =IF('Rekapitulace stavby'!AN19="","",'Rekapitulace stavby'!AN19)
E24: =IF('Rekapitulace stavby'!E20="","",'Rekapitulace stavby'!E20) | I24: DIČ: | J24: =IF('Rekapitulace stavby'!AN20="","",'Rekapitulace stavby'!AN20)
D26: Poznámka:
D30: Cena bez DPH | J30: =ROUND(J87, 2) -> 0
F32: Základ daně | I32: Sazba daně | J32: Výše daně
D33: DPH | E33: základní | F33: 0 | I33: 0.21 | J33: =ROUND(((SUM(BE87:BE270))*I33), 2) -> 0
E34: snížená | F34: 0 | I34: 0.15 | J34: =ROUND(((SUM(BF87:BF270))*I34), 2) -> 0
E35: zákl. přenesená | F35: 0 | I35: 0.21 | J35: =0 -> 0
E36: sníž. přenesená | F36: 0 | I36: 0.15 | J36: =0 -> 0
E37: nulová | F37: 0 | I37: 0 | J37: =0 -> 0
D39: Cena s DPH | G39: v | H39: CZK | J39: =SUM(J30:J37) -> 0
C45: REKAPITULACE ČLENĚNÍ SOUPISU PRACÍ
C47: Stavba:
E48: =E7 -> Přestavba a rozšíření domova pro seniory Jiráskova č.p.193 Broumov - CHRÁNĚNÉ BYTY
C49: Objekt:
E50: =E9 -> D.1.8 - Elektroinstalace-silnoproud
C52: Místo: | I52: Datum: | J52: =IF(J12="","",J12) -> 4. 3. 2022
C54: Zadavatel: | F54: Město Broumov, třída Masarykova 239 | I54: Projektant: | J54: =E21
C55: Uchazeč: | F55: Vyplň údaj | I55: Zpracovatel: | J55: =E24
C57: Kód dílu - Popis | J57: Cena celkem [CZK]
C59: Náklady stavby celkem | J59: =J87 -> 0 | AU59: -1
D60: Rozváděče - Rozváděče | J60: =J88 -> 0
D61: D1 - Kabely včetně prořezu CYKY(Lo), uložení pod omítkou, v dutinách stavebních konstrukcí, v ochranných | J61: =J103 -> 0
D62: D2 - Kabely dle vyhlášky 23/2008 Sb. vč. její novelizace 268/2011 Sb. kabely a kabelové kosntrukce s funk | J62: =J146 -> 0
D63: D3 - Kabelové konstrukce | J63: =J153 -> 0
...

Sheet D.1.9 - Elektroinstalace-...
L2: >> skryté sloupce << | AT2: {4b315629-10cd-4484-affa-f4f815fd400f}
AT3: 1
D4: KRYCÍ LIST SOUPISU PRACÍ | M4: v --- níže se nacházejí doplnkové a pomocné údaje k sestavám --- v | AT4: False
D6: Stavba:
E7: ='Rekapitulace stavby'!K6 -> Přestavba a rozšíření domova pro seniory Jiráskova č.p.193 Broumov - CHRÁNĚNÉ BYTY
D8: Objekt:
E9: D.1.9 - Elektroinstalace-slaboproud
D11: KSO: | I11: CC-CZ:
D12: Místo: | I12: Datum: | J12: ='Rekapitulace stavby'!AN8 -> 4. 3. 2022
D14: Zadavatel: | I14: IČ: | J14: =IF('Rekapitulace stavby'!AN10="","",'Rekapitulace stavby'!AN10)
E15: =IF('Rekapitulace stavby'!E11="","",'Rekapitulace stavby'!E11) -> Město Broumov, třída Masarykova 239 | I15: DIČ: | J15: =IF('Rekapitulace stavby'!AN11="","",'Rekapitulace stavby'!AN11)
D17: Uchazeč: | I17: IČ: | J17: ='Rekapitulace stavby'!AN13 -> Vyplň údaj
E18: ='Rekapitulace stavby'!E14 -> Vyplň údaj | I18: DIČ: | J18: ='Rekapitulace stavby'!AN14 -> Vyplň údaj
D20: Projektant: | I20: IČ: | J20: =IF('Rekapitulace stavby'!AN16="","",'Rekapitulace stavby'!AN16)
E21: =IF('Rekapitulace stavby'!E17="","",'Rekapitulace stavby'!E17) | I21: DIČ: | J21: =IF('Rekapitulace stavby'!AN17="","",'Rekapitulace stavby'!AN17)
D23: Zpracovatel: | I23: IČ: | J23: =IF('Rekapitulace stavby'!AN19="","",'Rekapitulace stavby'!AN19)
E24: =IF('Rekapitulace stavby'!E20="","",'Rekapitulace stavby'!E20) | I24: DIČ: | J24: =IF('Rekapitulace stavby'!AN20="","",'Rekapitulace stavby'!AN20)
D26: Poznámka:
D30: Cena bez DPH | J30: =ROUND(J104, 2) -> 0
F32: Základ daně | I32: Sazba daně | J32: Výše daně
D33: DPH | E33: základní | F33: =ROUND((SUM(BE104:BE274)), 2) -> 0 | I33: 0.21 | J33: =ROUND(((SUM(BE104:BE274))*I33), 2) -> 0
E34: snížená | F34: =ROUND((SUM(BF104:BF274)), 2) -> 0 | I34: 0.15 | J34: =ROUND(((SUM(BF104:BF274))*I34), 2) -> 0
E35: zákl. přenesená | F35: =ROUND((SUM(BG104:BG274)), 2) -> 0 | I35: 0.21 | J35: =0 -> 0
E36: sníž. přenesená | F36: =ROUND((SUM(BH104:BH274)), 2) -> 0 | I36: 0.15 | J36: =0 -> 0
E37: nulová | F37: =ROUND((SUM(BI104:BI274)), 2) -> 0 | I37: 0 | J37: =0 -> 0
D39: Cena s DPH | G39: v | H39: CZK | J39: =SUM(J30:J37) -> 0
C45: REKAPITULACE ČLENĚNÍ SOUPISU PRACÍ
C47: Stavba:
E48: =E7 -> Přestavba a rozšíření domova pro seniory Jiráskova č.p.193 Broumov - CHRÁNĚNÉ BYTY
C49: Objekt:
E50: =E9 -> D.1.9 - Elektroinstalace-slaboproud
C52: Místo: | F52: =F12 | I52: Datum: | J52: =IF(J12="","",J12) -> 4. 3. 2022
C54: Zadavatel: | F54: =E15 -> Město Broumov, třída Masarykova 239 | I54: Projektant: | J54: =E21
C55: Uchazeč: | F55: =IF(E18="","",E18) -> Vyplň údaj | I55: Zpracovatel: | J55: =E24
C57: Kód dílu - Popis | J57: Cena celkem [CZK]
C59: Náklady stavby celkem | J59: =J104 -> 0 | AU59: -1
D60: D1 - Strukturovaná kabeláž + telefonní rozvody | J60: =J105 -> 0
D61: D2 - Rack | J61: =J106 -> 0
D62: D3 - Podružné rozvaděče R-SLB-x | J62: =J111 -> 0
D63: D4 - Aktivní prvky /nutné upřesnit před dodávkou s IT uživatele/ | J63: =J115 -> 0
...

Sheet D.1.10 - EPS
L2: >> skryté sloupce << | AT2: {c7a6dc11-9d34-48e6-9886-f69d2130f30d}
AT3: 1
D4: KRYCÍ LIST SOUPISU PRACÍ | M4: v --- níže se nacházejí doplnkové a pomocné údaje k sestavám --- v | AT4: False
D6: Stavba:
E7: ='Rekapitulace stavby'!K6 -> Přestavba a rozšíření domova pro seniory Jiráskova č.p.193 Broumov - CHRÁNĚNÉ BYTY
D8: Objekt:
E9: D.1.10 - EPS
D11: KSO: | I11: CC-CZ:
D12: Místo: | I12: Datum: | J12: ='Rekapitulace stavby'!AN8 -> 4. 3. 2022
D14: Zadavatel: | I14: IČ: | J14: =IF('Rekapitulace stavby'!AN10="","",'Rekapitulace stavby'!AN10)
E15: =IF('Rekapitulace stavby'!E11="","",'Rekapitulace stavby'!E11) -> Město Broumov, třída Masarykova 239 | I15: DIČ: | J15: =IF('Rekapitulace stavby'!AN11="","",'Rekapitulace stavby'!AN11)
D17: Uchazeč: | I17: IČ: | J17: ='Rekapitulace stavby'!AN13 -> Vyplň údaj
E18: ='Rekapitulace stavby'!E14 -> Vyplň údaj | I18: DIČ: | J18: ='Rekapitulace stavby'!AN14 -> Vyplň údaj
D20: Projektant: | I20: IČ: | J20: =IF('Rekapitulace stavby'!AN16="","",'Rekapitulace stavby'!AN16)
E21: =IF('Rekapitulace stavby'!E17="","",'Rekapitulace stavby'!E17) | I21: DIČ: | J21: =IF('Rekapitulace stavby'!AN17="","",'Rekapitulace stavby'!AN17)
D23: Zpracovatel: | I23: IČ: | J23: =IF('Rekapitulace stavby'!AN19="","",'Rekapitulace stavby'!AN19)
E24: =IF('Rekapitulace stavby'!E20="","",'Rekapitulace stavby'!E20) | I24: DIČ: | J24: =IF('Rekapitulace stavby'!AN20="","",'Rekapitulace stavby'!AN20)
D26: Poznámka:
D30: Cena bez DPH | J30: =ROUND(J83, 2) -> 0
F32: Základ daně | I32: Sazba daně | J32: Výše daně
D33: DPH | E33: základní | F33: =ROUND((SUM(BE83:BE116)), 2) -> 0 | I33: 0.21 | J33: =ROUND(((SUM(BE83:BE116))*I33), 2) -> 0
E34: snížená | F34: =ROUND((SUM(BF83:BF116)), 2) -> 0 | I34: 0.15 | J34: =ROUND(((SUM(BF83:BF116))*I34), 2) -> 0
E35: zákl. přenesená | F35: =ROUND((SUM(BG83:BG116)), 2) -> 0 | I35: 0.21 | J35: =0 -> 0
E36: sníž. přenesená | F36: =ROUND((SUM(BH83:BH116)), 2) -> 0 | I36: 0.15 | J36: =0 -> 0
E37: nulová | F37: =ROUND((SUM(BI83:BI116)), 2) -> 0 | I37: 0 | J37: =0 -> 0
D39: Cena s DPH | G39: v | H39: CZK | J39: =SUM(J30:J37) -> 0
C45: REKAPITULACE ČLENĚNÍ SOUPISU PRACÍ
C47: Stavba:
E48: =E7 -> Přestavba a rozšíření domova pro seniory Jiráskova č.p.193 Broumov - CHRÁNĚNÉ BYTY
C49: Objekt:
E50: =E9 -> D.1.10 - EPS
C52: Místo: | F52: =F12 | I52: Datum: | J52: =IF(J12="","",J12) -> 4. 3. 2022
C54: Zadavatel: | F54: =E15 -> Město Broumov, třída Masarykova 239 | I54: Projektant: | J54: =E21
C55: Uchazeč: | F55: =IF(E18="","",E18) -> Vyplň údaj | I55: Zpracovatel: | J55: =E24
C57: Kód dílu - Popis | J57: Cena celkem [CZK]
C59: Náklady stavby celkem | J59: =J83 -> 0 | AU59: -1
D60: D1 - dodávka zařízení EPS | J60: =J84 -> 0
D61: D2 - Montážní materiál | J61: =J94 -> 0
D62: D3 - Montáž EPS | J62: =J99 -> 0
D63: D4 - Kabely | J63: =J112 -> 0
...

Sheet D.1.12 - Pokojový zvedací...
L2: >> skryté sloupce << | AT2: {6a15f03c-d33a-4f02-91df-3b1ca62a375d}
AT3: 1
D4: KRYCÍ LIST SOUPISU PRACÍ | M4: v --- níže se nacházejí doplnkové a pomocné údaje k sestavám --- v | AT4: False
D6: Stavba:
E7: ='Rekapitulace stavby'!K6 -> Přestavba a rozšíření domova pro seniory Jiráskova č.p.193 Broumov - CHRÁNĚNÉ BYTY
D8: Objekt:
E9: D.1.12 - Pokojový zvedací systém
D11: KSO: | I11: CC-CZ:
D12: Místo: | I12: Datum: | J12: ='Rekapitulace stavby'!AN8 -> 4. 3. 2022
D14: Zadavatel: | I14: IČ: | J14: =IF('Rekapitulace stavby'!AN10="","",'Rekapitulace stavby'!AN10)
E15: =IF('Rekapitulace stavby'!E11="","",'Rekapitulace stavby'!E11) -> Město Broumov, třída Masarykova 239 | I15: DIČ: | J15: =IF('Rekapitulace stavby'!AN11="","",'Rekapitulace stavby'!AN11)
D17: Uchazeč: | I17: IČ: | J17: ='Rekapitulace stavby'!AN13 -> Vyplň údaj
E18: ='Rekapitulace stavby'!E14 -> Vyplň údaj | I18: DIČ: | J18: ='Rekapitulace stavby'!AN14 -> Vyplň údaj
D20: Projektant: | I20: IČ: | J20: =IF('Rekapitulace stavby'!AN16="","",'Rekapitulace stavby'!AN16)
E21: =IF('Rekapitulace stavby'!E17="","",'Rekapitulace stavby'!E17) | I21: DIČ: | J21: =IF('Rekapitulace stavby'!AN17="","",'Rekapitulace stavby'!AN17)
D23: Zpracovatel: | I23: IČ: | J23: =IF('Rekapitulace stavby'!AN19="","",'Rekapitulace stavby'!AN19)
E24: =IF('Rekapitulace stavby'!E20="","",'Rekapitulace stavby'!E20) | I24: DIČ: | J24: =IF('Rekapitulace stavby'!AN20="","",'Rekapitulace stavby'!AN20)
D26: Poznámka:
D30: Cena bez DPH | J30: =ROUND(J81, 2) -> 0
F32: Základ daně | I32: Sazba daně | J32: Výše daně
D33: DPH | E33: základní | F33: =ROUND((SUM(BE81:BE124)), 2) -> 0 | I33: 0.21 | J33: =ROUND(((SUM(BE81:BE124))*I33), 2) -> 0
E34: snížená | F34: =ROUND((SUM(BF81:BF124)), 2) -> 0 | I34: 0.15 | J34: =ROUND(((SUM(BF81:BF124))*I34), 2) -> 0
E35: zákl. přenesená | F35: =ROUND((SUM(BG81:BG124)), 2) -> 0 | I35: 0.21 | J35: =0 -> 0
E36: sníž. přenesená | F36: =ROUND((SUM(BH81:BH124)), 2) -> 0 | I36: 0.15 | J36: =0 -> 0
E37: nulová | F37: =ROUND((SUM(BI81:BI124)), 2) -> 0 | I37: 0 | J37: =0 -> 0
D39: Cena s DPH | G39: v | H39: CZK | J39: =SUM(J30:J37) -> 0
C45: REKAPITULACE ČLENĚNÍ SOUPISU PRACÍ
C47: Stavba:
E48: =E7 -> Přestavba a rozšíření domova pro seniory Jiráskova č.p.193 Broumov - CHRÁNĚNÉ BYTY
C49: Objekt:
E50: =E9 -> D.1.12 - Pokojový zvedací systém
C52: Místo: | F52: =F12 | I52: Datum: | J52: =IF(J12="","",J12) -> 4. 3. 2022
C54: Zadavatel: | F54: =E15 -> Město Broumov, třída Masarykova 239 | I54: Projektant: | J54: =E21
C55: Uchazeč: | F55: =IF(E18="","",E18) -> Vyplň údaj | I55: Zpracovatel: | J55: =E24
C57: Kód dílu - Popis | J57: Cena celkem [CZK]
C59: Náklady stavby celkem | J59: =J81 -> 0 | AU59: -1
D60: Ostatní - Ostatní | J60: =J82 -> 0
D61: KZS - Kolejnicový zvedací systém | J61: =J83 -> 0
C68: SOUPIS PRACÍ
C70: Stavba:
...

Sheet VON - Vedlejší a ostatní ...
L2: >> skryté sloupce << | AT2: {bc4fe42b-4677-4368-80dd-5dd9ecd2bbef}
AT3: 1
D4: KRYCÍ LIST SOUPISU PRACÍ | M4: v --- níže se nacházejí doplnkové a pomocné údaje k sestavám --- v | AT4: False
D6: Stavba:
E7: ='Rekapitulace stavby'!K6 -> Přestavba a rozšíření domova pro seniory Jiráskova č.p.193 Broumov - CHRÁNĚNÉ BYTY
D8: Objekt:
E9: VON - Vedlejší a ostatní ...
D11: KSO: | I11: CC-CZ:
D12: Místo: | I12: Datum: | J12: ='Rekapitulace stavby'!AN8 -> 4. 3. 2022
D14: Zadavatel: | I14: IČ: | J14: =IF('Rekapitulace stavby'!AN10="","",'Rekapitulace stavby'!AN10)
E15: =IF('Rekapitulace stavby'!E11="","",'Rekapitulace stavby'!E11) -> Město Broumov, třída Masarykova 239 | I15: DIČ: | J15: =IF('Rekapitulace stavby'!AN11="","",'Rekapitulace stavby'!AN11)
D17: Uchazeč: | I17: IČ: | J17: ='Rekapitulace stavby'!AN13 -> Vyplň údaj
E18: ='Rekapitulace stavby'!E14 -> Vyplň údaj | I18: DIČ: | J18: ='Rekapitulace stavby'!AN14 -> Vyplň údaj
D20: Projektant: | I20: IČ: | J20: =IF('Rekapitulace stavby'!AN16="","",'Rekapitulace stavby'!AN16)
E21: =IF('Rekapitulace stavby'!E17="","",'Rekapitulace stavby'!E17) | I21: DIČ: | J21: =IF('Rekapitulace stavby'!AN17="","",'Rekapitulace stavby'!AN17)
D23: Zpracovatel: | I23: IČ: | J23: =IF('Rekapitulace stavby'!AN19="","",'Rekapitulace stavby'!AN19)
E24: =IF('Rekapitulace stavby'!E20="","",'Rekapitulace stavby'!E20) | I24: DIČ: | J24: =IF('Rekapitulace stavby'!AN20="","",'Rekapitulace stavby'!AN20)
D26: Poznámka:
D30: Cena bez DPH | J30: =ROUND(J83, 2) -> 0
F32: Základ daně | I32: Sazba daně | J32: Výše daně
D33: DPH | E33: základní | F33: =ROUND((SUM(BE83:BE91)), 2) -> 0 | I33: 0.21 | J33: =ROUND(((SUM(BE83:BE91))*I33), 2) -> 0
E34: snížená | F34: =ROUND((SUM(BF83:BF91)), 2) -> 0 | I34: 0.15 | J34: =ROUND(((SUM(BF83:BF91))*I34), 2) -> 0
E35: zákl. přenesená | F35: =ROUND((SUM(BG83:BG91)), 2) -> 0 | I35: 0.21 | J35: =0 -> 0
E36: sníž. přenesená | F36: =ROUND((SUM(BH83:BH91)), 2) -> 0 | I36: 0.15 | J36: =0 -> 0
E37: nulová | F37: =ROUND((SUM(BI83:BI91)), 2) -> 0 | I37: 0 | J37: =0 -> 0
D39: Cena s DPH | G39: v | H39: CZK | J39: =SUM(J30:J37) -> 0
C45: REKAPITULACE ČLENĚNÍ SOUPISU PRACÍ
C47: Stavba:
E48: =E7 -> Přestavba a rozšíření domova pro seniory Jiráskova č.p.193 Broumov - CHRÁNĚNÉ BYTY
C49: Objekt:
E50: =E9 -> VON - Vedlejší a ostatní ...
C52: Místo: | F52: =F12 | I52: Datum: | J52: =IF(J12="","",J12) -> 4. 3. 2022
C54: Zadavatel: | F54: =E15 -> Město Broumov, třída Masarykova 239 | I54: Projektant: | J54: =E21
C55: Uchazeč: | F55: =IF(E18="","",E18) -> Vyplň údaj | I55: Zpracovatel: | J55: =E24
C57: Kód dílu - Popis | J57: Cena celkem [CZK]
C59: Náklady stavby celkem | J59: =J83 -> 0 | AU59: -1
D60: VRN - VRN | J60: =J84 -> 0
D61: 1 - ZS - Zařízení staveniště | J61: =J85 -> 0
D62: 2 - PP - Projektové práce | J62: =J87 -> 0
D63: 3 - GP - Geodetické práce | J63: =J89 -> 0
...
