Workbook

Sheet Rekapitulace stavby
A1: Export Komplet | AZ1: VZ | BA1: 2.0 | BT1: False | BU1: False | BV1: {b5436887-7aed-4c24-b2d5-b0fbd06ba03d}
AR2: >> skryté sloupce << | BS2: 0,01 | BT2: 21
BS3: 0,01 | BT3: 15
D4: REKAPITULACE STAVBY | AS4: v --- níže se nacházejí doplnkové a pomocné údaje k sestavám --- v | BE4: Návod na vyplnění | BS4: 0,001
D5: Kód: | K5: B | BE5: Měnit lze pouze buňky se žlutým podbarvením!_x000D_ _x000D_ 1) v Rekapitulaci stavby vyplňte údaje o Uchazeči (přenesou se do ostatních sestav i v jiných listech)_x000D_ _x000D_ 2) na vybraných listech vyplňte v sestavě Soupis prací ceny u položek | BS5: 0,01
D6: Stavba: | K6: Přestavba a rozšíření domova pro seniory Jiráskova č.p.193 Broumov - CHRÁNĚNÉ BYTY | BS6: 0,01
D7: KSO: | AK7: CC-CZ: | BS7: 0,01
D8: Místo: | AK8: Datum: | AN8: 4. 3. 2022 | BS8: 0,01
BS9: 0,01
D10: Zadavatel: | AK10: IČ: | BS10: 0,01
E11: Město Broumov, třída Masarykova 239 | AK11: DIČ: | BS11: 0,01
BS12: 0,01
D13: Uchazeč: | AK13: IČ: | AN13: Vyplň údaj | BS13: 0,01
E14: Vyplň údaj | AK14: DIČ: | AN14: Vyplň údaj | BS14: 0,01
BS15: False
D16: Projektant: | AK16: IČ: | BS16: False
AK17: DIČ: | BS17: True
BS18: 0,01
D19: Zpracovatel: | AK19: IČ: | BS19: 0,01
AK20: DIČ: | BS20: False
D22: Poznámka:
E23: Soupis prací je sestaven s využitím Cenové soustavy ÚRS. Položky, které pochází z této cenové soustavy, jsou ve sloupci 'Cenová soustava' označeny popisem 'CS ÚRS' a úrovní příslušného kalendářního pololetí. Veškeré další informace vymezující popis a podmínky použití těchto položek z Cenové soustavy, které nejsou uvedeny přímo v soupisu prací, jsou neomezeně dálkově k dispozici na webu www.podminky.urs.cz.
D26: Cena bez DPH | AK26: =ROUND(AG54,2) -> 0
L28: Sazba daně | W28: Základ daně | AK28: Výše daně
D29: DPH | F29: základní | L29: 0.21 | W29: =ROUND(AZ54, 2) -> 0 | AK29: =ROUND(AV54, 2) -> 0
F30: snížená | L30: 0.15 | W30: =ROUND(BA54, 2) -> 0 | AK30: =ROUND(AW54, 2) -> 0
F31: zákl. přenesená | L31: 0.21 | W31: =ROUND(BB54, 2) -> 0 | AK31: 0
F32: sníž. přenesená | L32: 0.15 | W32: =ROUND(BC54, 2) -> 0 | AK32: 0
F33: nulová | L33: 0 | W33: =ROUND(BD54, 2) -> 0 | AK33: 0
D35: Cena s DPH | T35: v | X35: CZK | AK35: =SUM(AK26:AK33) -> 0
C42: REKAPITULACE OBJEKTŮ STAVBY A SOUPISŮ PRACÍ
C44: Kód: | L44: =K5 -> B
C45: Stavba: | L45: =K6 -> Přestavba a rozšíření domova pro seniory Jiráskova č.p.193 Broumov - CHRÁNĚNÉ BYTY
C47: Místo: | L47: =IF(K8="","",K8) | AI47: Datum: | AM47: =IF(AN8= "","",AN8) -> 4. 3. 2022
C49: Zadavatel: | L49: =IF(E11= "","",E11) -> Město Broumov, třída Masarykova 239 | AI49: Projektant: | AM49: =IF(E17="","",E17) | AS49: Informatívní údaje z listů zakázek
C50: Uchazeč: | L50: =IF(E14= "Vyplň údaj","",E14) | AI50: Zpracovatel: | AM50: =IF(E20="","",E20)
C52: Kód | I52: Popis | AG52: Cena bez DPH [CZK] | AN52: Cena s DPH [CZK] | AQ52: Typ | AS52: z toho Ostat._x000D_ náklady [CZK] | AT52: DPH [CZK] | AU52: Normohodiny [h] | AV52: DPH základní [CZK] | AW52: DPH snížená [CZK] | AX52: DPH základní přenesená_x000D_ [CZK] | AY52: DPH snížená přenesená_x000D_ [CZK] | AZ52: Základna_x000D_ DPH základní | BA52: Základna_x000D_ DPH snížená | BB52: Základna_x000D_ DPH zákl. přenesená | BC52: Základna_x000D_ DPH sníž. přenesená | BD52: Základna_x000D_ DPH nulová
C54: Náklady stavby celkem | AG54: =ROUND(SUM(AG55:AG64),2) -> 0 | AN54: =SUM(AG54,AT54) -> 0 | AS54: =ROUND(SUM(AS55:AS64),2) -> 0 | AT54: =ROUND(SUM(AV54:AW54),2) -> 0 | AU54: =ROUND(SUM(AU55:AU64),5) -> 0 | AV54: =ROUND(AZ54*L29,2) -> 0 | AW54: =SUM(AW55:AW64) -> 0 | AX54: =ROUND(BB54*L29,2) -> 0 | AY54: =ROUND(BC54*L30,2) -> 0 | AZ54: =ROUND(SUM(AZ55:AZ64),2) -> 0 | BA54: =ROUND(SUM(BA55:BA64),2) -> 0 | BB54: =ROUND(SUM(BB55:BB64),2) -> 0 | BC54: =ROUND(SUM(BC55:BC64),2) -> 0 | BD54: =ROUND(SUM(BD55:BD64),2) -> 0 | BS54: D | BT54: 0 | BU54: ###NOIMPORT### | BV54: IMPORT | BW54: {b5436887-7aed-4c24-b2d5-b0fbd06ba03d} | BX54: {00000000-0000-0000-0000-000000000000}
A55: / | D55: D.1.1 | J55: Architektonicko-stavební řešení | AG55: ='D.1.1 - Architektonicko-s...'!J30 -> 0 | AN55: =SUM(AG55,AT55) -> 0 | AQ55: STA | AS55: 0 | AT55: =ROUND(SUM(AV55:AW55),2) -> 0 | AU55: ='D.1.1 - Architektonicko-s...'!P106 -> 0 | AV55: ='D.1.1 - Architektonicko-s...'!J33 -> 0 | AW55: ='D.1.1 - Architektonicko-s...'!J34 -> 0 | AX55: ='D.1.1 - Architektonicko-s...'!J35 -> 0 | AY55: ='D.1.1 - Architektonicko-s...'!J36 -> 0 | AZ55: ='D.1.1 - Architektonicko-s...'!F33 -> 0 | BA55: ='D.1.1 - Architektonicko-s...'!F34 -> 0 | BB55: ='D.1.1 - Architektonicko-s...'!F35 -> 0 | BC55: ='D.1.1 - Architektonicko-s...'!F36 -> 0 | BD55: ='D.1.1 - Architektonicko-s...'!F37 -> 0 | BT55: 1 | BV55: IMPORT | BW55: {cc774e05-60e9-4781-a40a-1073bfc8aafd} | BX55: {b5436887-7aed-4c24-b2d5-b0fbd06ba03d} | CM55: 1
A56: / | D56: D.1.4 | J56: Vytápění | AG56: ='D.1.4 - Vytápění'!J30 -> 0 | AN56: =SUM(AG56,AT56) -> 0 | AQ56: STA | AS56: 0 | AT56: =ROUND(SUM(AV56:AW56),2) -> 0 | AU56: ='D.1.4 - Vytápění'!P85 -> 0 | AV56: ='D.1.4 - Vytápění'!J33 -> 0 | AW56: ='D.1.4 - Vytápění'!J34 -> 0 | AX56: ='D.1.4 - Vytápění'!J35 -> 0 | AY56: ='D.1.4 - Vytápění'!J36 -> 0 | AZ56: ='D.1.4 - Vytápění'!F33 -> 0 | BA56: ='D.1.4 - Vytápění'!F34 -> 0 | BB56: ='D.1.4 - Vytápění'!F35 -> 0 | BC56: ='D.1.4 - Vytápění'!F36 -> 0 | BD56: ='D.1.4 - Vytápění'!F37 -> 0 | BT56: 1 | BV56: IMPORT | BW56: {53b3bb64-ebb1-42cc-8e51-4f4e6e8c26a4} | BX56: {b5436887-7aed-4c24-b2d5-b0fbd06ba03d} | CM56: 1
A57: / | D57: D.1.5 | J57: MaR | AG57: ='D.1.5 - MaR'!J30 -> 0 | AN57: =SUM(AG57,AT57) -> 0 | AQ57: STA | AS57: 0 | AT57: =ROUND(SUM(AV57:AW57),2) -> 0 | AU57: ='D.1.5 - MaR'!P86 -> 0 | AV57: ='D.1.5 - MaR'!J33 -> 0 | AW57: ='D.1.5 - MaR'!J34 -> 0 | AX57: ='D.1.5 - MaR'!J35 -> 0 | AY57: ='D.1.5 - MaR'!J36 -> 0 | AZ57: ='D.1.5 - MaR'!F33 -> 0 | BA57: ='D.1.5 - MaR'!F34 -> 0 | BB57: ='D.1.5 - MaR'!F35 -> 0 | BC57: ='D.1.5 - MaR'!F36 -> 0 | BD57: ='D.1.5 - MaR'!F37 -> 0 | BT57: 1 | BV57: IMPORT | BW57: {78649991-a1dc-4ba5-891a-4b478ebd384e} | BX57: {b5436887-7aed-4c24-b2d5-b0fbd06ba03d} | CM57: 1
A58: / | D58: D.1.6 | J58: Zdravotně-technic... | AG58: ='D.1.6 - Zdravotně-technic...'!J30 -> 0 | AN58: =SUM(AG58,AT58) -> 0 | AQ58: STA | AS58: 0 | AT58: =ROUND(SUM(AV58:AW58),2) -> 0 | AU58: ='D.1.6 - Zdravotně-technic...'!P86 -> 0 | AV58: ='D.1.6 - Zdravotně-technic...'!J33 -> 0 | AW58: ='D.1.6 - Zdravotně-technic...'!J34 -> 0 | AX58: ='D.1.6 - Zdravotně-technic...'!J35 -> 0 | AY58: ='D.1.6 - Zdravotně-technic...'!J36 -> 0 | AZ58: ='D.1.6 - Zdravotně-technic...'!F33 -> 0 | BA58: ='D.1.6 - Zdravotně-technic...'!F34 -> 0 | BB58: ='D.1.6 - Zdravotně-technic...'!F35 -> 0 | BC58: ='D.1.6 - Zdravotně-technic...'!F36 -> 0 | BD58: ='D.1.6 - Zdravotně-technic...'!F37 -> 0 | BT58: 1 | BV58: IMPORT | BW58: {ae75550c-3a22-46d5-a405-2d0385834a2e} | BX58: {b5436887-7aed-4c24-b2d5-b0fbd06ba03d} | CM58: 1
A59: / | D59: D.1.7 | J59: VZT | AG59: ='D.1.7 - VZT'!J30 -> 0 | AN59: =SUM(AG59,AT59) -> 0 | AQ59: STA | AS59: 0 | AT59: =ROUND(SUM(AV59:AW59),2) -> 0 | AU59: ='D.1.7 - VZT'!P84 -> 0 | AV59: ='D.1.7 - VZT'!J33 -> 0 | AW59: ='D.1.7 - VZT'!J34 -> 0 | AX59: ='D.1.7 - VZT'!J35 -> 0 | AY59: ='D.1.7 - VZT'!J36 -> 0 | AZ59: ='D.1.7 - VZT'!F33 -> 0 | BA59: ='D.1.7 - VZT'!F34 -> 0 | BB59: ='D.1.7 - VZT'!F35 -> 0 | BC59: ='D.1.7 - VZT'!F36 -> 0 | BD59: ='D.1.7 - VZT'!F37 -> 0 | BT59: 1 | BV59: IMPORT | BW59: {514232ea-e3fc-4c91-acca-12676b05ea3c} | BX59: {b5436887-7aed-4c24-b2d5-b0fbd06ba03d} | CM59: 2
A60: / | D60: D.1.8 | J60: Elektroinstalace-silnoproud | AG60: ='D.1.8 - Elektroinstalace-...'!J30 -> 0 | AN60: =SUM(AG60,AT60) -> 0 | AQ60: STA | AS60: 0 | AT60: =ROUND(SUM(AV60:AW60),2) -> 0 | AU60: ='D.1.8 - Elektroinstalace-...'!P87 -> 0 | AV60: ='D.1.8 - Elektroinstalace-...'!J33 -> 0 | AW60: ='D.1.8 - Elektroinstalace-...'!J34 -> 0 | AX60: ='D.1.8 - Elektroinstalace-...'!J35 -> 0 | AY60: ='D.1.8 - Elektroinstalace-...'!J36 -> 0 | AZ60: ='D.1.8 - Elektroinstalace-...'!F33 -> 0 | BA60: ='D.1.8 - Elektroinstalace-...'!F34 -> 0 | BB60: ='D.1.8 - Elektroinstalace-...'!F35 -> 0 | BC60: ='D.1.8 - Elektroinstalace-...'!F36 -> 0 | BD60: ='D.1.8 - Elektroinstalace-...'!F37 -> 0 | BT60: 1 | BV60: IMPORT | BW60: {4a7d20d7-0934-4896-ba63-89c39f4cf540} | BX60: {b5436887-7aed-4c24-b2d5-b0fbd06ba03d} | CM60: 1
A61: / | D61: D.1.9 | J61: Elektroinstalace-slaboproud | AG61: ='D.1.9 - Elektroinstalace-...'!J30 -> 0 | AN61: =SUM(AG61,AT61) -> 0 | AQ61: STA | AS61: 0 | AT61: =ROUND(SUM(AV61:AW61),2) -> 0 | AU61: ='D.1.9 - Elektroinstalace-...'!P104 -> 0 | AV61: ='D.1.9 - Elektroinstalace-...'!J33 -> 0 | AW61: ='D.1.9 - Elektroinstalace-...'!J34 -> 0 | AX61: ='D.1.9 - Elektroinstalace-...'!J35 -> 0 | AY61: ='D.1.9 - Elektroinstalace-...'!J36 -> 0 | AZ61: ='D.1.9 - Elektroinstalace-...'!F33 -> 0 | BA61: ='D.1.9 - Elektroinstalace-...'!F34 -> 0 | BB61: ='D.1.9 - Elektroinstalace-...'!F35 -> 0 | BC61: ='D.1.9 - Elektroinstalace-...'!F36 -> 0 | BD61: ='D.1.9 - Elektroinstalace-...'!F37 -> 0 | BT61: 1 | BV61: IMPORT | BW61: {4b315629-10cd-4484-affa-f4f815fd400f} | BX61: {b5436887-7aed-4c24-b2d5-b0fbd06ba03d} | CM61: 1
A62: / | D62: D.1.10 | J62: EPS | AG62: ='D.1.10 - EPS'!J30 -> 0 | AN62: =SUM(AG62,AT62) -> 0 | AQ62: STA | AS62: 0 | AT62: =ROUND(SUM(AV62:AW62),2) -> 0 | AU62: ='D.1.10 - EPS'!P83 -> 0 | AV62: ='D.1.10 - EPS'!J33 -> 0 | AW62: ='D.1.10 - EPS'!J34 -> 0 | AX62: ='D.1.10 - EPS'!J35 -> 0 | AY62: ='D.1.10 - EPS'!J36 -> 0 | AZ62: ='D.1.10 - EPS'!F33 -> 0 | BA62: ='D.1.10 - EPS'!F34 -> 0 | BB62: ='D.1.10 - EPS'!F35 -> 0 | BC62: ='D.1.10 - EPS'!F36 -> 0 | BD62: ='D.1.10 - EPS'!F37 -> 0 | BT62: 1 | BV62: IMPORT | BW62: {c7a6dc11-9d34-48e6-9886-f69d2130f30d} | BX62: {b5436887-7aed-4c24-b2d5-b0fbd06ba03d} | CM62: 1
A63: / | D63: D.1.12 | J63: Pokojový zvedací systém | AG63: ='D.1.12 - Pokojový zvedací...'!J30 -> 0 | AN63: =SUM(AG63,AT63) -> 0 | AQ63: STA | AS63: 0 | AT63: =ROUND(SUM(AV63:AW63),2) -> 0 | AU63: ='D.1.12 - Pokojový zvedací...'!P81 -> 0 | AV63: ='D.1.12 - Pokojový zvedací...'!J33 -> 0 | AW63: ='D.1.12 - Pokojový zvedací...'!J34 -> 0 | AX63: ='D.1.12 - Pokojový zvedací...'!J35 -> 0 | AY63: ='D.1.12 - Pokojový zvedací...'!J36 -> 0 | AZ63: ='D.1.12 - Pokojový zvedací...'!F33 -> 0 | BA63: ='D.1.12 - Pokojový zvedací...'!F34 -> 0 | BB63: ='D.1.12 - Pokojový zvedací...'!F35 -> 0 | BC63: ='D.1.12 - Pokojový zvedací...'!F36 -> 0 | BD63: ='D.1.12 - Pokojový zvedací...'!F37 -> 0 | BT63: 1 | BV63: IMPORT | BW63: {6a15f03c-d33a-4f02-91df-3b1ca62a375d} | BX63: {b5436887-7aed-4c24-b2d5-b0fbd06ba03d} | CM63: 1
A64: / | D64: VON | J64: Vedlejší a ostatní ... | AG64: ='VON - Vedlejší a ostatní ...'!J30 -> 0 | AN64: =SUM(AG64,AT64) -> 0 | AQ64: STA | AS64: 0 | AT64: =ROUND(SUM(AV64:AW64),2) -> 0 | AU64: ='VON - Vedlejší a ostatní ...'!P83 -> 0 | AV64: ='VON - Vedlejší a ostatní ...'!J33 -> 0 | AW64: ='VON - Vedlejší a ostatní ...'!J34 -> 0 | AX64: ='VON - Vedlejší a ostatní ...'!J35 -> 0 | AY64: ='VON - Vedlejší a ostatní ...'!J36 -> 0 | AZ64: ='VON - Vedlejší a ostatní ...'!F33 -> 0 | BA64: ='VON - Vedlejší a ostatní ...'!F34 -> 0 | BB64: ='VON - Vedlejší a ostatní ...'!F35 -> 0 | BC64: ='VON - Vedlejší a ostatní ...'!F36 -> 0 | BD64: ='VON - Vedlejší a ostatní ...'!F37 -> 0 | BT64: 1 | BV64: IMPORT | BW64: {bc4fe42b-4677-4368-80dd-5dd9ecd2bbef} | BX64: {b5436887-7aed-4c24-b2d5-b0fbd06ba03d} | CM64: 1

Sheet D.1.1 - Architektonicko-s...
L2: >> skryté sloupce << | AT2: {cc774e05-60e9-4781-a40a-1073bfc8aafd}
AT3: 1
D4: KRYCÍ LIST SOUPISU PRACÍ | M4: v --- níže se nacházejí doplnkové a pomocné údaje k sestavám --- v | AT4: False
D6: Stavba:
E7: ='Rekapitulace stavby'!K6 -> Přestavba a rozšíření domova pro seniory Jiráskova č.p.193 Broumov - CHRÁNĚNÉ BYTY
D8: Objekt:
E9: D.1.1 - Architektonicko-stavební řešení
D11: KSO: | I11: CC-CZ:
D12: Místo: | I12: Datum: | J12: ='Rekapitulace stavby'!AN8 -> 4. 3. 2022
D14: Zadavatel: | I14: IČ: | J14: =IF('Rekapitulace stavby'!AN10="","",'Rekapitulace stavby'!AN10)
E15: =IF('Rekapitulace stavby'!E11="","",'Rekapitulace stavby'!E11) -> Město Broumov, třída Masarykova 239 | I15: DIČ: | J15: =IF('Rekapitulace stavby'!AN11="","",'Rekapitulace stavby'!AN11)
D17: Uchazeč: | I17: IČ: | J17: ='Rekapitulace stavby'!AN13 -> Vyplň údaj
E18: ='Rekapitulace stavby'!E14 -> Vyplň údaj | I18: DIČ: | J18: ='Rekapitulace stavby'!AN14 -> Vyplň údaj
D20: Projektant: | I20: IČ: | J20: =IF('Rekapitulace stavby'!AN16="","",'Rekapitulace stavby'!AN16)
E21: =IF('Rekapitulace stavby'!E17="","",'Rekapitulace stavby'!E17) | I21: DIČ: | J21: =IF('Rekapitulace stavby'!AN17="","",'Rekapitulace stavby'!AN17)
D23: Zpracovatel: | I23: IČ: | J23: =IF('Rekapitulace stavby'!AN19="","",'Rekapitulace stavby'!AN19)
E24: =IF('Rekapitulace stavby'!E20="","",'Rekapitulace stavby'!E20) | I24: DIČ: | J24: =IF('Rekapitulace stavby'!AN20="","",'Rekapitulace stavby'!AN20)
D26: Poznámka:
D30: Cena bez DPH | J30: =ROUND(J106, 2) -> 0
F32: Základ daně | I32: Sazba daně | J32: Výše daně
D33: DPH | E33: základní | F33: =ROUND((SUM(BE106:BE797)), 2) -> 0 | I33: 0.21 | J33: =ROUND(((SUM(BE106:BE797))*I33), 2) -> 0
E34: snížená | F34: =ROUND((SUM(BF106:BF797)), 2) -> 0 | I34: 0.15 | J34: =ROUND(((SUM(BF106:BF797))*I34), 2) -> 0
E35: zákl. přenesená | F35: =ROUND((SUM(BG106:BG797)), 2) -> 0 | I35: 0.21 | J35: =0 -> 0
E36: sníž. přenesená | F36: =ROUND((SUM(BH106:BH797)), 2) -> 0 | I36: 0.15 | J36: =0 -> 0
E37: nulová | F37: =ROUND((SUM(BI106:BI797)), 2) -> 0 | I37: 0 | J37: =0 -> 0
D39: Cena s DPH | G39: v | H39: CZK | J39: =SUM(J30:J37) -> 0
C45: REKAPITULACE ČLENĚNÍ SOUPISU PRACÍ
C47: Stavba:
E48: =E7 -> Přestavba a rozšíření domova pro seniory Jiráskova č.p.193 Broumov - CHRÁNĚNÉ BYTY
C49: Objekt:
E50: =E9 -> D.1.1 - Architektonicko-stavební řešení
C52: Místo: | F52: =F12 | I52: Datum: | J52: =IF(J12="","",J12) -> 4. 3. 2022
C54: Zadavatel: | F54: =E15 -> Město Broumov, třída Masarykova 239 | I54: Projektant: | J54: =E21
C55: Uchazeč: | F55: =IF(E18="","",E18) -> Vyplň údaj | I55: Zpracovatel: | J55: =E24
C57: Kód dílu - Popis | J57: Cena celkem [CZK]
C59: Náklady stavby celkem | J59: =J106 -> 0 | AU59: -1
D60: HSV - Práce a dodávky HSV | J60: =J107 -> 0
D61: 1 - Zemní práce | J61: =J108 -> 0
D62: 2 - Zakládání | J62: =J138 -> 0
D63: 3 - Svislé a kompletní konstrukce | J63: =J205 -> 0
D64: 4 - Vodorovné konstrukce | J64: =J266 -> 0
D65: 6 - Úpravy povrchů, podlahy a osazování výplní | J65: =J315 -> 0
D66: 9 - Ostatní konstrukce a práce, bourání | J66: =J366 -> 0
D67: 997 - Přesun sutě | J67: =J474 -> 0
D68: 998 - Přesun hmot | J68: =J484 -> 0
D69: PSV - Práce a dodávky PSV | J69: =J487 -> 0
D70: 711 - Izolace proti vodě, vlhkosti a plynům | J70: =J488 -> 0
D71: 712 - Povlakové krytiny | J71: =J503 -> 0
D72: 713 - Izolace tepelné | J72: =J515 -> 0
D73: 721 - Zdravotechnika - vnitřní kanalizace | J73: =J553 -> 0
D74: 760 - Výplně otvorů | J74: =J557 -> 0
D75: 762 - Konstrukce tesařské | J75: =J594 -> 0
D76: 763 - Konstrukce suché výstavby | J76: =J637 -> 0
D77: 764 - Konstrukce klempířské | J77: =J644 -> 0
D78: 765 - Krytina skládaná | J78: =J675 -> 0
D79: 766 - Konstrukce truhlářské | J79: =J686 -> 0
D80: 767 - Konstrukce zámečnické | J80: =J707 -> 0
D81: 771 - Podlahy z dlaždic | J81: =J725 -> 0
D82: 773 - Podlahy z litého teraca | J82: =J748 -> 0
D83: 776 - Podlahy povlakové | J83: =J754 -> 0
D84: 781 - Dokončovací práce - obklady | J84: =J770 -> 0
D85: 783 - Dokončovací práce - nátěry | J85: =J781 -> 0
D86: 784 - Dokončovací práce - malby a tapety | J86: =J792 -> 0
C93: SOUPIS PRACÍ
C95: Stavba:
E96: =E7 -> Přestavba a rozšíření domova pro seniory Jiráskova č.p.193 Broumov - CHRÁNĚNÉ BYTY
C97: Objekt:
E98: =E9 -> D.1.1 - Architektonicko-stavební řešení
C100: Místo: | F100: =F12 | I100: Datum: | J100: 44662
C102: Zadavatel: | F102: =E15 -> Město Broumov, třída Masarykova 239 | I102: Projektant: | J102: =E21
C103: Uchazeč: | F103: =IF(E18="","",E18) -> Vyplň údaj | I103: Zpracovatel: | J103: =E24
C105: PČ | D105: Typ | E105: Kód | F105: Popis | G105: MJ | H105: Množství | I105: J.cena [CZK] | J105: Cena celkem [CZK] | K105: Cenová soustava | N105: DPH | O105: J. Nh [h] | P105: Nh celkem [h] | Q105: J. hmotnost [t] | R105: Hmotnost celkem [t] | S105: J. suť [t] | T105: Suť Celkem [t]
C106: Náklady soupisu celkem | J106: =BK106 -> 0 | P106: =P107+P487 -> 0 | R106: =R107+R487 -> 1955.1291 | T106: =T107+T487 -> 797.46319 | AT106: D | AU106: -1 | BK106: =BK107+BK487 -> 0
D107: D | E107: HSV | F107: Práce a dodávky HSV | J107: =BK107 -> 0 | P107: =P108+P138+P205+P266+P315+P366+P474+P484 -> 0 | R107: =R108+R138+R205+R266+R315+R366+R474+R484 -> 1835.5118 | T107: =T108+T138+T205+T266+T315+T366+T474+T484 -> 761.95147 | AR107: 1 | AT107: D | AU107: 0 | AY107: ROZPOCET | BK107: =BK108+BK138+BK205+BK266+BK315+BK366+BK474+BK484 -> 0
D108: D | E108: 1 | F108: Zemní práce | J108: =BK108 -> 0 | P108: =SUM(P109:P137) -> 0 | R108: =SUM(R109:R137) -> 276.48 | T108: =SUM(T109:T137) -> 0 | AR108: 1 | AT108: D | AU108: 1 | AY108: ROZPOCET | BK108: =SUM(BK109:BK137) -> 0
C109: 1 | D109: K | E109: 131251104 | F109: Hloubení nezapažených jam a zářezů strojně s urovnáním dna do předepsaného profilu a spádu v hornině třídy těžitelnosti I skupiny 3 přes 100 do 500 m3 | G109: m3 | H109: 121.4 | J109: =ROUND(I109*H109,2) -> 0 | K109: CS ÚRS 2021 01 | N109: snížená | P109: =O109*H109 -> 0 | Q109: 0 | R109: =Q109*H109 -> 0 | S109: 0 | T109: =S109*H109 -> 0 | AR109: 4 | AT109: K | AU109: 2 | AY109: ROZPOCET | BE109: =IF(N109="základní",J109,0) -> 0 | BF109: =IF(N109="snížená",J109,0) -> 0 | BG109: =IF(N109="zákl. přenesená",J109,0) -> 0 | BH109: =IF(N109="sníž. přenesená",J109,0) -> 0 | BI109: =IF(N109="nulová",J109,0) -> 0 | BJ109: 2 | BK109: =ROUND(I109*H109,2) -> 0 | BL109: 4 | BM109: -1386872187
D110: Online PSC | F110: https://podminky.urs.cz/item/CS_URS_2021_01/131251104 | AT110: Online PSC | AU110: 2
D111: VV | F111: 0,9m2*16m + 0,2m* 135m2 +20m2*2,5m + 12m2*2,5m | AT111: VV | AU111: 2 | AV111: 1 | AW111: True | AX111: 0 | AY111: ROZPOCET
D112: VV | F112: 121,4 | H112: 121.4 | AT112: VV | AU112: 2 | AV112: 2 | AW112: True | AX112: 1 | AY112: ROZPOCET
C113: 2 | D113: K | E113: 162351103 | F113: Vodorovné přemístění výkopku nebo sypaniny po suchu na obvyklém dopravním prostředku, bez naložení výkopku, avšak se složením bez rozhrnutí z horniny třídy těžitelnosti I skupiny 1 až 3 na vzdálenost přes 50 do 500 m | G113: m3 | H113: 242.8 | J113: =ROUND(I113*H113,2) -> 0 | K113: CS ÚRS 2021 01 | N113: snížená | P113: =O113*H113 -> 0 | Q113: 0 | R113: =Q113*H113 -> 0 | S113: 0 | T113: =S113*H113 -> 0 | AR113: 4 | AT113: K | AU113: 2 | AY113: ROZPOCET | BE113: =IF(N113="základní",J113,0) -> 0 | BF113: =IF(N113="snížená",J113,0) -> 0 | BG113: =IF(N113="zákl. přenesená",J113,0) -> 0 | BH113: =IF(N113="sníž. přenesená",J113,0) -> 0 | BI113: =IF(N113="nulová",J113,0) -> 0 | BJ113: 2 | BK113: =ROUND(I113*H113,2) -> 0 | BL113: 4 | BM113: -1504642308
D114: Online PSC | F114: https://podminky.urs.cz/item/CS_URS_2021_01/162351103 | AT114: Online PSC | AU114: 2
D115: VV | F115: na meziskládku a zpět do zásypů | AT115: VV | AU115: 2 | AV115: 1 | AW115: True | AX115: 0 | AY115: ROZPOCET
D116: VV | F116: 121,4*2 | H116: 242.8 | AT116: VV | AU116: 2 | AV116: 2 | AW116: True | AX116: 1 | AY116: ROZPOCET
C117: 3 | D117: K | E117: 162751117 | F117: Vodorovné přemístění výkopku nebo sypaniny po suchu na obvyklém dopravním prostředku, bez naložení výkopku, avšak se složením bez rozhrnutí z horniny třídy těžitelnosti I skupiny 1 až 3 na vzdálenost přes 9 000 do 10 000 m | G117: m3 | H117: 76.538 | J117: =ROUND(I117*H117,2) -> 0 | K117: CS ÚRS 2021 01 | N117: snížená | P117: =O117*H117 -> 0 | Q117: 0 | R117: =Q117*H117 -> 0 | S117: 0 | T117: =S117*H117 -> 0 | AR117: 4 | AT117: K | AU117: 2 | AY117: ROZPOCET | BE117: =IF(N117="základní",J117,0) -> 0 | BF117: =IF(N117="snížená",J117,0) -> 0 | BG117: =IF(N117="zákl. přenesená",J117,0) -> 0 | BH117: =IF(N117="sníž. přenesená",J117,0) -> 0 | BI117: =IF(N117="nulová",J117,0) -> 0 | BJ117: 2 | BK117: =ROUND(I117*H117,2) -> 0 | BL117: 4 | BM117: -1484872411
D118: Online PSC | F118: https://podminky.urs.cz/item/CS_URS_2021_01/162751117 | AT118: Online PSC | AU118: 2
D119: VV | F119: piloty | AT119: VV | AU119: 2 | AV119: 1 | AW119: True | AX119: 0 | AY119: ROZPOCET
D120: VV | F120: 97,5*3,14*0,5*0,5 | H120: 76.538 | AT120: VV | AU120: 2 | AV120: 2 | AW120: True | AX120: 1 | AY120: ROZPOCET
C121: 4 | D121: K | E121: 162751119 | F121: Vodorovné přemístění výkopku nebo sypaniny po suchu na obvyklém dopravním prostředku, bez naložení výkopku, avšak se složením bez rozhrnutí z horniny třídy těžitelnosti I skupiny 1 až 3 na vzdálenost Příplatek k ceně za každých dalších i započatých 1 000 | G121: m3 | H121: 765.38 | J121: =ROUND(I121*H121,2) -> 0 | K121: CS ÚRS 2021 01 | N121: snížená | P121: =O121*H121 -> 0 | Q121: 0 | R121: =Q121*H121 -> 0 | S121: 0 | T121: =S121*H121 -> 0 | AR121: 4 | AT121: K | AU121: 2 | AY121: ROZPOCET | BE121: =IF(N121="základní",J121,0) -> 0 | BF121: =IF(N121="snížená",J121,0) -> 0 | BG121: =IF(N121="zákl. přenesená",J121,0) -> 0 | BH121: =IF(N121="sníž. přenesená",J121,0) -> 0 | BI121: =IF(N121="nulová",J121,0) -> 0 | BJ121: 2 | BK121: =ROUND(I121*H121,2) -> 0 | BL121: 4 | BM121: 1533958486
D122: Online PSC | F122: https://podminky.urs.cz/item/CS_URS_2021_01/162751119 | AT122: Online PSC | AU122: 2
D123: VV | F123: 76,538*10 | H123: 765.38 | AT123: VV | AU123: 2 | AV123: 2 | AW123: True | AX123: 1 | AY123: ROZPOCET
C124: 5 | D124: K | E124: 167151111 | F124: Nakládání, skládání a překládání neulehlého výkopku nebo sypaniny strojně nakládání, množství přes 100 m3, z hornin třídy těžitelnosti I, skupiny 1 až 3 | G124: m3 | H124: 121.4 | J124: =ROUND(I124*H124,2) -> 0 | K124: CS ÚRS 2021 01 | N124: snížená | P124: =O124*H124 -> 0 | Q124: 0 | R124: =Q124*H124 -> 0 | S124: 0 | T124: =S124*H124 -> 0 | AR124: 4 | AT124: K | AU124: 2 | AY124: ROZPOCET | BE124: =IF(N124="základní",J124,0) -> 0 | BF124: =IF(N124="snížená",J124,0) -> 0 | BG124: =IF(N124="zákl. přenesená",J124,0) -> 0 | BH124: =IF(N124="sníž. přenesená",J124,0) -> 0 | BI124: =IF(N124="nulová",J124,0) -> 0 | BJ124: 2 | BK124: =ROUND(I124*H124,2) -> 0 | BL124: 4 | BM124: 1358507472
D125: Online PSC | F125: https://podminky.urs.cz/item/CS_URS_2021_01/167151111 | AT125: Online PSC | AU125: 2
C126: 6 | D126: K | E126: 171201221 | F126: Poplatek za uložení stavebního odpadu na skládce (skládkovné) zeminy a kamení zatříděného do Katalogu odpadů pod kódem 17 05 04 | G126: t | H126: 137.768 | J126: =ROUND(I126*H126,2) -> 0 | K126: CS ÚRS 2021 01 | N126: snížená | P126: =O126*H126 -> 0 | Q126: 0 | R126: =Q126*H126 -> 0 | S126: 0 | T126: =S126*H126 -> 0 | AR126: 4 | AT126: K | AU126: 2 | AY126: ROZPOCET | BE126: =IF(N126="základní",J126,0) -> 0 | BF126: =IF(N126="snížená",J126,0) -> 0 | BG126: =IF(N126="zákl. přenesená",J126,0) -> 0 | BH126: =IF(N126="sníž. přenesená",J126,0) -> 0 | BI126: =IF(N126="nulová",J126,0) -> 0 | BJ126: 2 | BK126: =ROUND(I126*H126,2) -> 0 | BL126: 4 | BM126: 126679322
D127: Online PSC | F127: https://podminky.urs.cz/item/CS_URS_2021_01/171201221 | AT127: Online PSC | AU127: 2
D128: VV | F128: 76,538*1,8 | H128: 137.768 | AT128: VV | AU128: 2 | AV128: 2 | AW128: True | AX128: 1 | AY128: ROZPOCET
C129: 7 | D129: K | E129: 171251201 | F129: Uložení sypaniny na skládky nebo meziskládky bez hutnění s upravením uložené sypaniny do předepsaného tvaru | G129: m3 | H129: 197.938 | J129: =ROUND(I129*H129,2) -> 0 | K129: CS ÚRS 2021 01 | N129: snížená | P129: =O129*H129 -> 0 | Q129: 0 | R129: =Q129*H129 -> 0 | S129: 0 | T129: =S129*H129 -> 0 | AR129: 4 | AT129: K | AU129: 2 | AY129: ROZPOCET | BE129: =IF(N129="základní",J129,0) -> 0 | BF129: =IF(N129="snížená",J129,0) -> 0 | BG129: =IF(N129="zákl. přenesená",J129,0) -> 0 | BH129: =IF(N129="sníž. přenesená",J129,0) -> 0 | BI129: =IF(N129="nulová",J129,0) -> 0 | BJ129: 2 | BK129: =ROUND(I129*H129,2) -> 0 | BL129: 4 | BM129: -1169249593
D130: Online PSC | F130: https://podminky.urs.cz/item/CS_URS_2021_01/171251201 | AT130: Online PSC | AU130: 2
D131: VV | F131: 121,4+76,538 | H131: 197.938 | AT131: VV | AU131: 2 | AV131: 2 | AW131: True | AX131: 1 | AY131: ROZPOCET
C132: 8 | D132: K | E132: 174151101 | F132: Zásyp sypaninou z jakékoliv horniny strojně s uložením výkopku ve vrstvách se zhutněním jam, šachet, rýh nebo kolem objektů v těchto vykopávkách | G132: m3 | H132: 275 | J132: =ROUND(I132*H132,2) -> 0 | K132: CS ÚRS 2021 01 | N132: snížená | P132: =O132*H132 -> 0 | Q132: 0 | R132: =Q132*H132 -> 0 | S132: 0 | T132: =S132*H132 -> 0 | AR132: 4 | AT132: K | AU132: 2 | AY132: ROZPOCET | BE132: =IF(N132="základní",J132,0) -> 0 | BF132: =IF(N132="snížená",J132,0) -> 0 | BG132: =IF(N132="zákl. přenesená",J132,0) -> 0 | BH132: =IF(N132="sníž. přenesená",J132,0) -> 0 | BI132: =IF(N132="nulová",J132,0) -> 0 | BJ132: 2 | BK132: =ROUND(I132*H132,2) -> 0 | BL132: 4 | BM132: 1382150663
D133: Online PSC | F133: https://podminky.urs.cz/item/CS_URS_2021_01/174151101 | AT133: Online PSC | AU133: 2
...

Sheet D.1.4 - Vytápění
L2: >> skryté sloupce << | AT2: {53b3bb64-ebb1-42cc-8e51-4f4e6e8c26a4}
AT3: 1
D4: KRYCÍ LIST SOUPISU PRACÍ | M4: v --- níže se nacházejí doplnkové a pomocné údaje k sestavám --- v | AT4: False
D6: Stavba:
E7: ='Rekapitulace stavby'!K6 -> Přestavba a rozšíření domova pro seniory Jiráskova č.p.193 Broumov - CHRÁNĚNÉ BYTY
D8: Objekt:
E9: D.1.4 - Vytápění
D11: KSO: | I11: CC-CZ:
D12: Místo: | I12: Datum: | J12: ='Rekapitulace stavby'!AN8 -> 4. 3. 2022
D14: Zadavatel: | I14: IČ: | J14: =IF('Rekapitulace stavby'!AN10="","",'Rekapitulace stavby'!AN10)
E15: =IF('Rekapitulace stavby'!E11="","",'Rekapitulace stavby'!E11) -> Město Broumov, třída Masarykova 239 | I15: DIČ: | J15: =IF('Rekapitulace stavby'!AN11="","",'Rekapitulace stavby'!AN11)
D17: Uchazeč: | I17: IČ: | J17: ='Rekapitulace stavby'!AN13 -> Vyplň údaj
E18: ='Rekapitulace stavby'!E14 -> Vyplň údaj | I18: DIČ: | J18: ='Rekapitulace stavby'!AN14 -> Vyplň údaj
D20: Projektant: | I20: IČ: | J20: =IF('Rekapitulace stavby'!AN16="","",'Rekapitulace stavby'!AN16)
E21: =IF('Rekapitulace stavby'!E17="","",'Rekapitulace stavby'!E17) | I21: DIČ: | J21: =IF('Rekapitulace stavby'!AN17="","",'Rekapitulace stavby'!AN17)
D23: Zpracovatel: | I23: IČ: | J23: =IF('Rekapitulace stavby'!AN19="","",'Rekapitulace stavby'!AN19)
E24: =IF('Rekapitulace stavby'!E20="","",'Rekapitulace stavby'!E20) | I24: DIČ: | J24: =IF('Rekapitulace stavby'!AN20="","",'Rekapitulace stavby'!AN20)
D26: Poznámka:
D30: Cena bez DPH | J30: =ROUND(J85, 2) -> 0
F32: Základ daně | I32: Sazba daně | J32: Výše daně
D33: DPH | E33: základní | F33: =ROUND((SUM(BE85:BE309)), 2) -> 0 | I33: 0.21 | J33: =ROUND(((SUM(BE85:BE309))*I33), 2) -> 0
E34: snížená | F34: =ROUND((SUM(BF85:BF309)), 2) -> 0 | I34: 0.15 | J34: =ROUND(((SUM(BF85:BF309))*I34), 2) -> 0
E35: zákl. přenesená | F35: =ROUND((SUM(BG85:BG309)), 2) -> 0 | I35: 0.21 | J35: =0 -> 0
E36: sníž. přenesená | F36: =ROUND((SUM(BH85:BH309)), 2) -> 0 | I36: 0.15 | J36: =0 -> 0
E37: nulová | F37: =ROUND((SUM(BI85:BI309)), 2) -> 0 | I37: 0 | J37: =0 -> 0
D39: Cena s DPH | G39: v | H39: CZK | J39: =SUM(J30:J37) -> 0
C45: REKAPITULACE ČLENĚNÍ SOUPISU PRACÍ
C47: Stavba:
E48: =E7 -> Přestavba a rozšíření domova pro seniory Jiráskova č.p.193 Broumov - CHRÁNĚNÉ BYTY
C49: Objekt:
E50: =E9 -> D.1.4 - Vytápění
C52: Místo: | F52: =F12 | I52: Datum: | J52: =IF(J12="","",J12) -> 4. 3. 2022
C54: Zadavatel: | F54: =E15 -> Město Broumov, třída Masarykova 239 | I54: Projektant: | J54: =E21
C55: Uchazeč: | F55: =IF(E18="","",E18) -> Vyplň údaj | I55: Zpracovatel: | J55: =E24
C57: Kód dílu - Popis | J57: Cena celkem [CZK]
C59: Náklady stavby celkem | J59: =J85 -> 0 | AU59: -1
D60: D1 - KOTELNA V OBJEKTU B | J60: =J86 -> 0
D61: D2 - ROZVODY POTRUBÍ V KOTELNĚ B | J61: =J125 -> 0
D62: D3 - ARMATURY KOTELNA B | J62: =J145 -> 0
D63: D4 - OTOPNÁ TĚLESA A | J63: =J232 -> 0
D64: D5 - ROZVODY POTRUBÍ | J64: =J267 -> 0
D65: D6 - DEMONTÁŽE KOTELNY | J65: =J288 -> 0
C72: SOUPIS PRACÍ
C74: Stavba:
E75: =E7 -> Přestavba a rozšíření domova pro seniory Jiráskova č.p.193 Broumov - CHRÁNĚNÉ BYTY
C76: Objekt:
E77: =E9 -> D.1.4 - Vytápění
C79: Místo: | F79: =F12 | I79: Datum: | J79: 44651
C81: Zadavatel: | F81: =E15 -> Město Broumov, třída Masarykova 239 | I81: Projektant: | J81: =E21
C82: Uchazeč: | F82: =IF(E18="","",E18) -> Vyplň údaj | I82: Zpracovatel: | J82: =E24
C84: PČ | D84: Typ | E84: Kód | F84: Popis | G84: MJ | H84: Množství | I84: J.cena [CZK] | J84: Cena celkem [CZK] | K84: Cenová soustava | N84: DPH | O84: J. Nh [h] | P84: Nh celkem [h] | Q84: J. hmotnost [t] | R84: Hmotnost celkem [t] | S84: J. suť [t] | T84: Suť Celkem [t]
C85: Náklady soupisu celkem | J85: =BK85 -> 0 | P85: =P86+P125+P145+P232 -> 0 | R85: =R86+R125+R145+R232 -> 0 | T85: =T86+T125+T145+T232 -> 0 | AT85: D | AU85: -1 | BK85: =BK86+BK125+BK145+BK232 -> 0
D86: D | E86: D1 | F86: KOTELNA V OBJEKTU B | J86: =BK86 -> 0 | P86: =SUM(P87:P123) -> 0 | R86: =SUM(R87:R123) -> 0 | T86: =SUM(T87:T123) -> 0 | AR86: 1 | AT86: D | AU86: 0 | AY86: ROZPOCET | BK86: =SUM(BK87:BK123) -> 0
C87: 1 | D87: K | E87: 73200001 | F87: Montáž kotle | G87: soubor | H87: 2 | J87: =ROUND(I87*H87,2) -> 0 | N87: snížená | P87: =O87*H87 -> 0 | Q87: 0 | R87: =Q87*H87 -> 0 | S87: 0 | T87: =S87*H87 -> 0 | AR87: 4 | AT87: K | AU87: 1 | AY87: ROZPOCET | BE87: =IF(N87="základní",J87,0) -> 0 | BF87: =IF(N87="snížená",J87,0) -> 0 | BG87: =IF(N87="zákl. přenesená",J87,0) -> 0 | BH87: =IF(N87="sníž. přenesená",J87,0) -> 0 | BI87: =IF(N87="nulová",J87,0) -> 0 | BJ87: 2 | BK87: =ROUND(I87*H87,2) -> 0 | BL87: 4 | BM87: -2057868650
D88: VV | F88: Odečteno v Autocadu | AT88: VV | AU88: 2 | AV88: 2 | AW88: True | AX88: 1 | AY88: ROZPOCET
C89: 2 | D89: K | E89: 73200002 | F89: Montáž ohříváku | G89: kpl | H89: 1 | J89: =ROUND(I89*H89,2) -> 0 | N89: snížená | P89: =O89*H89 -> 0 | Q89: 0 | R89: =Q89*H89 -> 0 | S89: 0 | T89: =S89*H89 -> 0 | AR89: 4 | AT89: K | AU89: 1 | AY89: ROZPOCET | BE89: =IF(N89="základní",J89,0) -> 0 | BF89: =IF(N89="snížená",J89,0) -> 0 | BG89: =IF(N89="zákl. přenesená",J89,0) -> 0 | BH89: =IF(N89="sníž. přenesená",J89,0) -> 0 | BI89: =IF(N89="nulová",J89,0) -> 0 | BJ89: 2 | BK89: =ROUND(I89*H89,2) -> 0 | BL89: 4 | BM89: -350388527
F90: Odečteno v Autocadu
C91: 3 | D91: K | E91: 73200003 | F91: Montáž elektrického topného tělesa | G91: kpl | H91: 1 | J91: =ROUND(I91*H91,2) -> 0 | N91: snížená | P91: =O91*H91 -> 0 | Q91: 0 | R91: =Q91*H91 -> 0 | S91: 0 | T91: =S91*H91 -> 0 | AR91: 4 | AT91: K | AU91: 1 | AY91: ROZPOCET | BE91: =IF(N91="základní",J91,0) -> 0 | BF91: =IF(N91="snížená",J91,0) -> 0 | BG91: =IF(N91="zákl. přenesená",J91,0) -> 0 | BH91: =IF(N91="sníž. přenesená",J91,0) -> 0 | BI91: =IF(N91="nulová",J91,0) -> 0 | BJ91: 2 | BK91: =ROUND(I91*H91,2) -> 0 | BL91: 4 | BM91: 364264812
F92: Odečteno v Autocadu
C93: 4 | D93: K | E93: 73200004 | F93: montáž plnoautomatického doplňovacího zařízení | G93: kpl | H93: 1 | J93: =ROUND(I93*H93,2) -> 0 | N93: snížená | P93: =O93*H93 -> 0 | Q93: 0 | R93: =Q93*H93 -> 0 | S93: 0 | T93: =S93*H93 -> 0 | AR93: 4 | AT93: K | AU93: 1 | AY93: ROZPOCET | BE93: =IF(N93="základní",J93,0) -> 0 | BF93: =IF(N93="snížená",J93,0) -> 0 | BG93: =IF(N93="zákl. přenesená",J93,0) -> 0 | BH93: =IF(N93="sníž. přenesená",J93,0) -> 0 | BI93: =IF(N93="nulová",J93,0) -> 0 | BJ93: 2 | BK93: =ROUND(I93*H93,2) -> 0 | BL93: 4 | BM93: -925548130
F94: Odečteno v Autocadu
C95: 5 | D95: K | E95: 73200005 | F95: Montáž změkčovacího filtru | G95: kpl | H95: 1 | J95: =ROUND(I95*H95,2) -> 0 | N95: snížená | P95: =O95*H95 -> 0 | Q95: 0 | R95: =Q95*H95 -> 0 | S95: 0 | T95: =S95*H95 -> 0 | AR95: 4 | AT95: K | AU95: 1 | AY95: ROZPOCET | BE95: =IF(N95="základní",J95,0) -> 0 | BF95: =IF(N95="snížená",J95,0) -> 0 | BG95: =IF(N95="zákl. přenesená",J95,0) -> 0 | BH95: =IF(N95="sníž. přenesená",J95,0) -> 0 | BI95: =IF(N95="nulová",J95,0) -> 0 | BJ95: 2 | BK95: =ROUND(I95*H95,2) -> 0 | BL95: 4 | BM95: -17523831
F96: Odečteno v Autocadu
C97: 6 | D97: K | E97: 73200006 | F97: Montáž elektronického vodoměru s kontrolou kapacity | G97: kpl | H97: 1 | J97: =ROUND(I97*H97,2) -> 0 | N97: snížená | P97: =O97*H97 -> 0 | Q97: 0 | R97: =Q97*H97 -> 0 | S97: 0 | T97: =S97*H97 -> 0 | AR97: 4 | AT97: K | AU97: 1 | AY97: ROZPOCET | BE97: =IF(N97="základní",J97,0) -> 0 | BF97: =IF(N97="snížená",J97,0) -> 0 | BG97: =IF(N97="zákl. přenesená",J97,0) -> 0 | BH97: =IF(N97="sníž. přenesená",J97,0) -> 0 | BI97: =IF(N97="nulová",J97,0) -> 0 | BJ97: 2 | BK97: =ROUND(I97*H97,2) -> 0 | BL97: 4 | BM97: 25672622
F98: Odečteno v Autocadu
C99: 7 | D99: K | E99: 732101 | F99: Teplovodní stacionární kondenzační kotel na ZP o výkonu MAX 49,9 Kw | G99: soubor | H99: 2 | J99: =ROUND(I99*H99,2) -> 0 | N99: snížená | P99: =O99*H99 -> 0 | Q99: 0 | R99: =Q99*H99 -> 0 | S99: 0 | T99: =S99*H99 -> 0 | AR99: 4 | AT99: K | AU99: 1 | AY99: ROZPOCET | BE99: =IF(N99="základní",J99,0) -> 0 | BF99: =IF(N99="snížená",J99,0) -> 0 | BG99: =IF(N99="zákl. přenesená",J99,0) -> 0 | BH99: =IF(N99="sníž. přenesená",J99,0) -> 0 | BI99: =IF(N99="nulová",J99,0) -> 0 | BJ99: 2 | BK99: =ROUND(I99*H99,2) -> 0 | BL99: 4 | BM99: 799379218
F100: Odečteno v Autocadu
C101: 8 | D101: K | E101: 732102 | F101: Odkouření C53 X dn 80/125, včetně montáže | G101: soubor | H101: 2 | J101: =ROUND(I101*H101,2) -> 0 | N101: snížená | P101: =O101*H101 -> 0 | Q101: 0 | R101: =Q101*H101 -> 0 | S101: 0 | T101: =S101*H101 -> 0 | AR101: 4 | AT101: K | AU101: 1 | AY101: ROZPOCET | BE101: =IF(N101="základní",J101,0) -> 0 | BF101: =IF(N101="snížená",J101,0) -> 0 | BG101: =IF(N101="zákl. přenesená",J101,0) -> 0 | BH101: =IF(N101="sníž. přenesená",J101,0) -> 0 | BI101: =IF(N101="nulová",J101,0) -> 0 | BJ101: 2 | BK101: =ROUND(I101*H101,2) -> 0 | BL101: 4 | BM101: 1760484682
F102: Odečteno v Autocadu
C103: 9 | D103: K | E103: 732103 | F103: Kombinovaný rozdělovač modul 100 včetně montáže | G103: soubor | H103: 1 | J103: =ROUND(I103*H103,2) -> 0 | N103: snížená | P103: =O103*H103 -> 0 | Q103: 0 | R103: =Q103*H103 -> 0 | S103: 0 | T103: =S103*H103 -> 0 | AR103: 4 | AT103: K | AU103: 1 | AY103: ROZPOCET | BE103: =IF(N103="základní",J103,0) -> 0 | BF103: =IF(N103="snížená",J103,0) -> 0 | BG103: =IF(N103="zákl. přenesená",J103,0) -> 0 | BH103: =IF(N103="sníž. přenesená",J103,0) -> 0 | BI103: =IF(N103="nulová",J103,0) -> 0 | BJ103: 2 | BK103: =ROUND(I103*H103,2) -> 0 | BL103: 4 | BM103: -1656578899
F104: Odečteno v Autocadu
C105: 10 | D105: K | E105: 732107 | F105: Elektrické topné těleso do ohříváku TV 9kW | G105: soubor | H105: 1 | J105: =ROUND(I105*H105,2) -> 0 | N105: snížená | P105: =O105*H105 -> 0 | Q105: 0 | R105: =Q105*H105 -> 0 | S105: 0 | T105: =S105*H105 -> 0 | AR105: 4 | AT105: K | AU105: 1 | AY105: ROZPOCET | BE105: =IF(N105="základní",J105,0) -> 0 | BF105: =IF(N105="snížená",J105,0) -> 0 | BG105: =IF(N105="zákl. přenesená",J105,0) -> 0 | BH105: =IF(N105="sníž. přenesená",J105,0) -> 0 | BI105: =IF(N105="nulová",J105,0) -> 0 | BJ105: 2 | BK105: =ROUND(I105*H105,2) -> 0 | BL105: 4 | BM105: -188258217
F106: Odečteno v Autocadu
C107: 11 | D107: K | E107: 732109 | F107: Expanzomat 50l, 6bar,120 C | G107: soubor | H107: 1 | J107: =ROUND(I107*H107,2) -> 0 | N107: snížená | P107: =O107*H107 -> 0 | Q107: 0 | R107: =Q107*H107 -> 0 | S107: 0 | T107: =S107*H107 -> 0 | AR107: 4 | AT107: K | AU107: 1 | AY107: ROZPOCET | BE107: =IF(N107="základní",J107,0) -> 0 | BF107: =IF(N107="snížená",J107,0) -> 0 | BG107: =IF(N107="zákl. přenesená",J107,0) -> 0 | BH107: =IF(N107="sníž. přenesená",J107,0) -> 0 | BI107: =IF(N107="nulová",J107,0) -> 0 | BJ107: 2 | BK107: =ROUND(I107*H107,2) -> 0 | BL107: 4 | BM107: -1435546514
F108: Odečteno v Autocadu
C109: 12 | D109: K | E109: 732110 | F109: plnoautomatické doplňovací zařízení | G109: soubor | H109: 1 | J109: =ROUND(I109*H109,2) -> 0 | N109: snížená | P109: =O109*H109 -> 0 | Q109: 0 | R109: =Q109*H109 -> 0 | S109: 0 | T109: =S109*H109 -> 0 | AR109: 4 | AT109: K | AU109: 1 | AY109: ROZPOCET | BE109: =IF(N109="základní",J109,0) -> 0 | BF109: =IF(N109="snížená",J109,0) -> 0 | BG109: =IF(N109="zákl. přenesená",J109,0) -> 0 | BH109: =IF(N109="sníž. přenesená",J109,0) -> 0 | BI109: =IF(N109="nulová",J109,0) -> 0 | BJ109: 2 | BK109: =ROUND(I109*H109,2) -> 0 | BL109: 4 | BM109: -1993189077
F110: Odečteno v Autocadu
C111: 13 | D111: K | E111: 732111 | F111: Změkčovací filtr pro plnění a doplňování soustavy vodou | G111: soubor | H111: 1 | J111: =ROUND(I111*H111,2) -> 0 | N111: snížená | P111: =O111*H111 -> 0 | Q111: 0 | R111: =Q111*H111 -> 0 | S111: 0 | T111: =S111*H111 -> 0 | AR111: 4 | AT111: K | AU111: 1 | AY111: ROZPOCET | BE111: =IF(N111="základní",J111,0) -> 0 | BF111: =IF(N111="snížená",J111,0) -> 0 | BG111: =IF(N111="zákl. přenesená",J111,0) -> 0 | BH111: =IF(N111="sníž. přenesená",J111,0) -> 0 | BI111: =IF(N111="nulová",J111,0) -> 0 | BJ111: 2 | BK111: =ROUND(I111*H111,2) -> 0 | BL111: 4 | BM111: 211996253
F112: Odečteno v Autocadu
C113: 14 | D113: K | E113: 732112 | F113: Elektronický vodoměr s kontrolou kapacity | G113: soubor | H113: 1 | J113: =ROUND(I113*H113,2) -> 0 | N113: snížená | P113: =O113*H113 -> 0 | Q113: 0 | R113: =Q113*H113 -> 0 | S113: 0 | T113: =S113*H113 -> 0 | AR113: 4 | AT113: K | AU113: 1 | AY113: ROZPOCET | BE113: =IF(N113="základní",J113,0) -> 0 | BF113: =IF(N113="snížená",J113,0) -> 0 | BG113: =IF(N113="zákl. přenesená",J113,0) -> 0 | BH113: =IF(N113="sníž. přenesená",J113,0) -> 0 | BI113: =IF(N113="nulová",J113,0) -> 0 | BJ113: 2 | BK113: =ROUND(I113*H113,2) -> 0 | BL113: 4 | BM113: -1550008146
F114: Odečteno v Autocadu
C115: 15 | D115: K | E115: 732211123 | F115: Ohřívač TV, objem 500l | G115: soubor | H115: 1 | J115: =ROUND(I115*H115,2) -> 0 | N115: snížená | P115: =O115*H115 -> 0 | Q115: 0 | R115: =Q115*H115 -> 0 | S115: 0 | T115: =S115*H115 -> 0 | AR115: 4 | AT115: K | AU115: 1 | AY115: ROZPOCET | BE115: =IF(N115="základní",J115,0) -> 0 | BF115: =IF(N115="snížená",J115,0) -> 0 | BG115: =IF(N115="zákl. přenesená",J115,0) -> 0 | BH115: =IF(N115="sníž. přenesená",J115,0) -> 0 | BI115: =IF(N115="nulová",J115,0) -> 0 | BJ115: 2 | BK115: =ROUND(I115*H115,2) -> 0 | BL115: 4 | BM115: -1110037252
F116: Odečteno v Autocadu
C117: 16 | D117: K | E117: 732331614 | F117: Expanzní nádoba pro ohřívák 25l, 10bar | G117: soubor | H117: 1 | J117: =ROUND(I117*H117,2) -> 0 | N117: snížená | P117: =O117*H117 -> 0 | Q117: 0 | R117: =Q117*H117 -> 0 | S117: 0 | T117: =S117*H117 -> 0 | AR117: 4 | AT117: K | AU117: 1 | AY117: ROZPOCET | BE117: =IF(N117="základní",J117,0) -> 0 | BF117: =IF(N117="snížená",J117,0) -> 0 | BG117: =IF(N117="zákl. přenesená",J117,0) -> 0 | BH117: =IF(N117="sníž. přenesená",J117,0) -> 0 | BI117: =IF(N117="nulová",J117,0) -> 0 | BJ117: 2 | BK117: =ROUND(I117*H117,2) -> 0 | BL117: 4 | BM117: 1490504984
F118: Odečteno v Autocadu
C119: 17 | D119: K | E119: 732421401 | F119: Teplovodní oběhové čerpadlo Q=1,5m3/h, H=4m, DN25 | G119: kpl | H119: 5 | J119: =ROUND(I119*H119,2) -> 0 | N119: snížená | P119: =O119*H119 -> 0 | Q119: 0 | R119: =Q119*H119 -> 0 | S119: 0 | T119: =S119*H119 -> 0 | AR119: 4 | AT119: K | AU119: 1 | AY119: ROZPOCET | BE119: =IF(N119="základní",J119,0) -> 0 | BF119: =IF(N119="snížená",J119,0) -> 0 | BG119: =IF(N119="zákl. přenesená",J119,0) -> 0 | BH119: =IF(N119="sníž. přenesená",J119,0) -> 0 | BI119: =IF(N119="nulová",J119,0) -> 0 | BJ119: 2 | BK119: =ROUND(I119*H119,2) -> 0 | BL119: 4 | BM119: 656490317
F120: Odečteno v Autocadu
C121: 18 | D121: K | E121: 732421404 | F121: Teplovodní oběhové čerpadlo Q=2,5m3/h, H=4m, DN25 | G121: kpl | H121: 1 | J121: =ROUND(I121*H121,2) -> 0 | N121: snížená | P121: =O121*H121 -> 0 | Q121: 0 | R121: =Q121*H121 -> 0 | S121: 0 | T121: =S121*H121 -> 0 | AR121: 4 | AT121: K | AU121: 1 | AY121: ROZPOCET | BE121: =IF(N121="základní",J121,0) -> 0 | BF121: =IF(N121="snížená",J121,0) -> 0 | BG121: =IF(N121="zákl. přenesená",J121,0) -> 0 | BH121: =IF(N121="sníž. přenesená",J121,0) -> 0 | BI121: =IF(N121="nulová",J121,0) -> 0 | BJ121: 2 | BK121: =ROUND(I121*H121,2) -> 0 | BL121: 4 | BM121: 238439785
F122: Odečteno v Autocadu
C123: 19 | D123: K | E123: 732429122 | F123: Montáž oběhových čerpadel | G123: kpl | H123: 6 | J123: =ROUND(I123*H123,2) -> 0 | N123: snížená | P123: =O123*H123 -> 0 | Q123: 0 | R123: =Q123*H123 -> 0 | S123: 0 | T123: =S123*H123 -> 0 | AR123: 4 | AT123: K | AU123: 1 | AY123: ROZPOCET | BE123: =IF(N123="základní",J123,0) -> 0 | BF123: =IF(N123="snížená",J123,0) -> 0 | BG123: =IF(N123="zákl. přenesená",J123,0) -> 0 | BH123: =IF(N123="sníž. přenesená",J123,0) -> 0 | BI123: =IF(N123="nulová",J123,0) -> 0 | BJ123: 2 | BK123: =ROUND(I123*H123,2) -> 0 | BL123: 4 | BM123: -694359731
F124: Odečteno v Autocadu
D125: D | E125: D2 | F125: ROZVODY POTRUBÍ V KOTELNĚ B | J125: =BK125 -> 0 | P125: =SUM(P126:P144) -> 0 | R125: =SUM(R126:R144) -> 0 | T125: =SUM(T126:T144) -> 0 | AR125: 1 | AT125: D | AU125: 0 | AY125: ROZPOCET | BK125: =SUM(BK126:BK144) -> 0
C126: 20 | D126: K | E126: 733111102 | F126: Potrubí závitové bezešvé běžné nízkotlaké DN 10 | G126: m | H126: 3 | J126: =ROUND(I126*H126,2) -> 0 | N126: snížená | P126: =O126*H126 -> 0 | Q126: 0 | R126: =Q126*H126 -> 0 | S126: 0 | T126: =S126*H126 -> 0 | AR126: 4 | AT126: K | AU126: 1 | AY126: ROZPOCET | BE126: =IF(N126="základní",J126,0) -> 0 | BF126: =IF(N126="snížená",J126,0) -> 0 | BG126: =IF(N126="zákl. přenesená",J126,0) -> 0 | BH126: =IF(N126="sníž. přenesená",J126,0) -> 0 | BI126: =IF(N126="nulová",J126,0) -> 0 | BJ126: 2 | BK126: =ROUND(I126*H126,2) -> 0 | BL126: 4 | BM126: -1276249157
F127: 1m + 2m
C128: 21 | D128: K | E128: 733111103 | F128: Potrubí závitové bezešvé běžné nízkotlaké DN 15 | G128: m | H128: 5 | J128: =ROUND(I128*H128,2) -> 0 | N128: snížená | P128: =O128*H128 -> 0 | Q128: 0 | R128: =Q128*H128 -> 0 | S128: 0 | T128: =S128*H128 -> 0 | AR128: 4 | AT128: K | AU128: 1 | AY128: ROZPOCET | BE128: =IF(N128="základní",J128,0) -> 0 | BF128: =IF(N128="snížená",J128,0) -> 0 | BG128: =IF(N128="zákl. přenesená",J128,0) -> 0 | BH128: =IF(N128="sníž. přenesená",J128,0) -> 0 | BI128: =IF(N128="nulová",J128,0) -> 0 | BJ128: 2 | BK128: =ROUND(I128*H128,2) -> 0 | BL128: 4 | BM128: 1518333671
F129: 1m + 2m + 2m
C130: 22 | D130: K | E130: 733111104 | F130: Potrubí závitové bezešvé běžné nízkotlaké DN 20 | G130: m | H130: 4 | J130: =ROUND(I130*H130,2) -> 0 | N130: snížená | P130: =O130*H130 -> 0 | Q130: 0 | R130: =Q130*H130 -> 0 | S130: 0 | T130: =S130*H130 -> 0 | AR130: 4 | AT130: K | AU130: 1 | AY130: ROZPOCET | BE130: =IF(N130="základní",J130,0) -> 0 | BF130: =IF(N130="snížená",J130,0) -> 0 | BG130: =IF(N130="zákl. přenesená",J130,0) -> 0 | BH130: =IF(N130="sníž. přenesená",J130,0) -> 0 | BI130: =IF(N130="nulová",J130,0) -> 0 | BJ130: 2 | BK130: =ROUND(I130*H130,2) -> 0 | BL130: 4 | BM130: -752677629
F131: 1m + 3m
C132: 23 | D132: K | E132: 733111105 | F132: Potrubí závitové bezešvé běžné nízkotlaké DN 25 | G132: m | H132: 17 | J132: =ROUND(I132*H132,2) -> 0 | N132: snížená | P132: =O132*H132 -> 0 | Q132: 0 | R132: =Q132*H132 -> 0 | S132: 0 | T132: =S132*H132 -> 0 | AR132: 4 | AT132: K | AU132: 1 | AY132: ROZPOCET | BE132: =IF(N132="základní",J132,0) -> 0 | BF132: =IF(N132="snížená",J132,0) -> 0 | BG132: =IF(N132="zákl. přenesená",J132,0) -> 0 | BH132: =IF(N132="sníž. přenesená",J132,0) -> 0 | BI132: =IF(N132="nulová",J132,0) -> 0 | BJ132: 2 | BK132: =ROUND(I132*H132,2) -> 0 | BL132: 4 | BM132: -1775420113
F133: 2m + 3m + 5m + 5m + 2m
...

Sheet D.1.5 - MaR
L2: >> skryté sloupce << | AT2: {78649991-a1dc-4ba5-891a-4b478ebd384e}
AT3: 1
D4: KRYCÍ LIST SOUPISU PRACÍ | M4: v --- níže se nacházejí doplnkové a pomocné údaje k sestavám --- v | AT4: False
D6: Stavba:
E7: ='Rekapitulace stavby'!K6 -> Přestavba a rozšíření domova pro seniory Jiráskova č.p.193 Broumov - CHRÁNĚNÉ BYTY
D8: Objekt:
E9: D.1.5 - MaR
D11: KSO: | I11: CC-CZ:
D12: Místo: | I12: Datum: | J12: ='Rekapitulace stavby'!AN8 -> 4. 3. 2022
D14: Zadavatel: | I14: IČ: | J14: =IF('Rekapitulace stavby'!AN10="","",'Rekapitulace stavby'!AN10)
E15: =IF('Rekapitulace stavby'!E11="","",'Rekapitulace stavby'!E11) -> Město Broumov, třída Masarykova 239 | I15: DIČ: | J15: =IF('Rekapitulace stavby'!AN11="","",'Rekapitulace stavby'!AN11)
D17: Uchazeč: | I17: IČ: | J17: ='Rekapitulace stavby'!AN13 -> Vyplň údaj
E18: ='Rekapitulace stavby'!E14 -> Vyplň údaj | I18: DIČ: | J18: ='Rekapitulace stavby'!AN14 -> Vyplň údaj
D20: Projektant: | I20: IČ: | J20: =IF('Rekapitulace stavby'!AN16="","",'Rekapitulace stavby'!AN16)
E21: =IF('Rekapitulace stavby'!E17="","",'Rekapitulace stavby'!E17) | I21: DIČ: | J21: =IF('Rekapitulace stavby'!AN17="","",'Rekapitulace stavby'!AN17)
D23: Zpracovatel: | I23: IČ: | J23: =IF('Rekapitulace stavby'!AN19="","",'Rekapitulace stavby'!AN19)
E24: =IF('Rekapitulace stavby'!E20="","",'Rekapitulace stavby'!E20) | I24: DIČ: | J24: =IF('Rekapitulace stavby'!AN20="","",'Rekapitulace stavby'!AN20)
D26: Poznámka:
D30: Cena bez DPH | J30: =ROUND(J86, 2) -> 0
F32: Základ daně | I32: Sazba daně | J32: Výše daně
D33: DPH | E33: základní | F33: =ROUND((SUM(BE86:BE131)), 2) -> 0 | I33: 0.21 | J33: =ROUND(((SUM(BE86:BE131))*I33), 2) -> 0
E34: snížená | F34: =ROUND((SUM(BF86:BF131)), 2) -> 0 | I34: 0.15 | J34: =ROUND(((SUM(BF86:BF131))*I34), 2) -> 0
E35: zákl. přenesená | F35: =ROUND((SUM(BG86:BG131)), 2) -> 0 | I35: 0.21 | J35: =0 -> 0
E36: sníž. přenesená | F36: =ROUND((SUM(BH86:BH131)), 2) -> 0 | I36: 0.15 | J36: =0 -> 0
E37: nulová | F37: =ROUND((SUM(BI86:BI131)), 2) -> 0 | I37: 0 | J37: =0 -> 0
D39: Cena s DPH | G39: v | H39: CZK | J39: =SUM(J30:J37) -> 0
C45: REKAPITULACE ČLENĚNÍ SOUPISU PRACÍ
C47: Stavba:
E48: =E7 -> Přestavba a rozšíření domova pro seniory Jiráskova č.p.193 Broumov - CHRÁNĚNÉ BYTY
C49: Objekt:
E50: =E9 -> D.1.5 - MaR
C52: Místo: | F52: =F12 | I52: Datum: | J52: =IF(J12="","",J12) -> 4. 3. 2022
C54: Zadavatel: | F54: =E15 -> Město Broumov, třída Masarykova 239 | I54: Projektant: | J54: =E21
C55: Uchazeč: | F55: =IF(E18="","",E18) -> Vyplň údaj | I55: Zpracovatel: | J55: =E24
C57: Kód dílu - Popis | J57: Cena celkem [CZK]
C59: Náklady stavby celkem | J59: =J86 -> 0 | AU59: -1
D60: 1 - ROZVADĚČE | J60: =J87 -> 0
D61: 2 - KABELY | J61: =J90 -> 0
D62: 3 - KABELOVÉ TRASY | J62: =J95 -> 0
D63: 5 - Polní instrumentace | J63: =J100 -> 0
D64: 6 - Nehmotné dodávky - systémový (licenční) a uživatelský SW | J64: =J119 -> 0
D65: 7 - OSTATNÍ MATERIÁL A MONTÁŽNÍ PRÁCE | J65: =J124 -> 0
D66: 8 - INŽENÝRSKÁ ČINNOST | J66: =J130 -> 0
C73: SOUPIS PRACÍ
C75: Stavba:
E76: =E7 -> Přestavba a rozšíření domova pro seniory Jiráskova č.p.193 Broumov - CHRÁNĚNÉ BYTY
C77: Objekt:
E78: =E9 -> D.1.5 - MaR
C80: Místo: | F80: =F12 | I80: Datum: | J80: =IF(J12="","",J12) -> 4. 3. 2022
C82: Zadavatel: | F82: =E15 -> Město Broumov, třída Masarykova 239 | I82: Projektant: | J82: =E21
C83: Uchazeč: | F83: =IF(E18="","",E18) -> Vyplň údaj | I83: Zpracovatel: | J83: =E24
C85: PČ | D85: Typ | E85: Kód | F85: Popis | G85: MJ | H85: Množství | I85: J.cena [CZK] | J85: Cena celkem [CZK] | K85: Cenová soustava | N85: DPH | O85: J. Nh [h] | P85: Nh celkem [h] | Q85: J. hmotnost [t] | R85: Hmotnost celkem [t] | S85: J. suť [t] | T85: Suť Celkem [t]
C86: Náklady soupisu celkem | J86: =BK86 -> 0 | P86: =P87+P90+P95+P100+P119+P124+P130 -> 0 | R86: =R87+R90+R95+R100+R119+R124+R130 -> 0 | T86: =T87+T90+T95+T100+T119+T124+T130 -> 0 | AT86: D | AU86: -1 | BK86: =BK87+BK90+BK95+BK100+BK119+BK124+BK130 -> 0
D87: D | E87: 1 | F87: ROZVADĚČE | J87: =BK87 -> 0 | P87: =SUM(P88:P89) -> 0 | R87: =SUM(R88:R89) -> 0 | T87: =SUM(T88:T89) -> 0 | AR87: 1 | AT87: D | AU87: 0 | AY87: ROZPOCET | BK87: =SUM(BK88:BK89) -> 0
C88: 1 | D88: K | E88: 1.1 | F88: Nový rozvaděč DT1 | G88: ks | H88: 1 | J88: =ROUND(I88*H88,2) -> 0 | N88: snížená | P88: =O88*H88 -> 0 | Q88: 0 | R88: =Q88*H88 -> 0 | S88: 0 | T88: =S88*H88 -> 0 | AR88: 4 | AT88: K | AU88: 1 | AY88: ROZPOCET | BE88: =IF(N88="základní",J88,0) -> 0 | BF88: =IF(N88="snížená",J88,0) -> 0 | BG88: =IF(N88="zákl. přenesená",J88,0) -> 0 | BH88: =IF(N88="sníž. přenesená",J88,0) -> 0 | BI88: =IF(N88="nulová",J88,0) -> 0 | BJ88: 2 | BK88: =ROUND(I88*H88,2) -> 0 | BL88: 4 | BM88: 4
C89: 2 | D89: K | E89: 1.2 | F89: Dodavatelská dokumentace (vnitřní zapojení rozvaděče DT1) | G89: ks | H89: 1 | J89: =ROUND(I89*H89,2) -> 0 | N89: snížená | P89: =O89*H89 -> 0 | Q89: 0 | R89: =Q89*H89 -> 0 | S89: 0 | T89: =S89*H89 -> 0 | AR89: 4 | AT89: K | AU89: 1 | AY89: ROZPOCET | BE89: =IF(N89="základní",J89,0) -> 0 | BF89: =IF(N89="snížená",J89,0) -> 0 | BG89: =IF(N89="zákl. přenesená",J89,0) -> 0 | BH89: =IF(N89="sníž. přenesená",J89,0) -> 0 | BI89: =IF(N89="nulová",J89,0) -> 0 | BJ89: 2 | BK89: =ROUND(I89*H89,2) -> 0 | BL89: 4 | BM89: 6
D90: D | E90: 2 | F90: KABELY | J90: =BK90 -> 0 | P90: =SUM(P91:P94) -> 0 | R90: =SUM(R91:R94) -> 0 | T90: =SUM(T91:T94) -> 0 | AR90: 1 | AT90: D | AU90: 0 | AY90: ROZPOCET | BK90: =SUM(BK91:BK94) -> 0
C91: 3 | D91: K | E91: 2.1 | F91: Kabel CYKY do 3x2,5 Metalický kabel Cu(O) | G91: m | H91: 15 | J91: =ROUND(I91*H91,2) -> 0 | N91: snížená | P91: =O91*H91 -> 0 | Q91: 0 | R91: =Q91*H91 -> 0 | S91: 0 | T91: =S91*H91 -> 0 | AR91: 4 | AT91: K | AU91: 1 | AY91: ROZPOCET | BE91: =IF(N91="základní",J91,0) -> 0 | BF91: =IF(N91="snížená",J91,0) -> 0 | BG91: =IF(N91="zákl. přenesená",J91,0) -> 0 | BH91: =IF(N91="sníž. přenesená",J91,0) -> 0 | BI91: =IF(N91="nulová",J91,0) -> 0 | BJ91: 2 | BK91: =ROUND(I91*H91,2) -> 0 | BL91: 4 | BM91: 8
C92: 4 | D92: K | E92: 2.2 | F92: Metalický kabel stíněný Cu(O) do 30x1 | G92: m | H92: 480 | J92: =ROUND(I92*H92,2) -> 0 | N92: snížená | P92: =O92*H92 -> 0 | Q92: 0 | R92: =Q92*H92 -> 0 | S92: 0 | T92: =S92*H92 -> 0 | AR92: 4 | AT92: K | AU92: 1 | AY92: ROZPOCET | BE92: =IF(N92="základní",J92,0) -> 0 | BF92: =IF(N92="snížená",J92,0) -> 0 | BG92: =IF(N92="zákl. přenesená",J92,0) -> 0 | BH92: =IF(N92="sníž. přenesená",J92,0) -> 0 | BI92: =IF(N92="nulová",J92,0) -> 0 | BJ92: 2 | BK92: =ROUND(I92*H92,2) -> 0 | BL92: 4 | BM92: 10
C93: 5 | D93: K | E93: 2.3 | F93: Metalický kabel stíněný Cu(O) do 30x1 provedení "R" | G93: m | H93: 60 | J93: =ROUND(I93*H93,2) -> 0 | N93: snížená | P93: =O93*H93 -> 0 | Q93: 0 | R93: =Q93*H93 -> 0 | S93: 0 | T93: =S93*H93 -> 0 | AR93: 4 | AT93: K | AU93: 1 | AY93: ROZPOCET | BE93: =IF(N93="základní",J93,0) -> 0 | BF93: =IF(N93="snížená",J93,0) -> 0 | BG93: =IF(N93="zákl. přenesená",J93,0) -> 0 | BH93: =IF(N93="sníž. přenesená",J93,0) -> 0 | BI93: =IF(N93="nulová",J93,0) -> 0 | BJ93: 2 | BK93: =ROUND(I93*H93,2) -> 0 | BL93: 4 | BM93: 12
C94: 6 | D94: K | E94: 2.4 | F94: Vodič CYA 10 zž | G94: m | H94: 8 | J94: =ROUND(I94*H94,2) -> 0 | N94: snížená | P94: =O94*H94 -> 0 | Q94: 0 | R94: =Q94*H94 -> 0 | S94: 0 | T94: =S94*H94 -> 0 | AR94: 4 | AT94: K | AU94: 1 | AY94: ROZPOCET | BE94: =IF(N94="základní",J94,0) -> 0 | BF94: =IF(N94="snížená",J94,0) -> 0 | BG94: =IF(N94="zákl. přenesená",J94,0) -> 0 | BH94: =IF(N94="sníž. přenesená",J94,0) -> 0 | BI94: =IF(N94="nulová",J94,0) -> 0 | BJ94: 2 | BK94: =ROUND(I94*H94,2) -> 0 | BL94: 4 | BM94: 14
D95: D | E95: 3 | F95: KABELOVÉ TRASY | J95: =BK95 -> 0 | P95: =SUM(P96:P99) -> 0 | R95: =SUM(R96:R99) -> 0 | T95: =SUM(T96:T99) -> 0 | AR95: 1 | AT95: D | AU95: 0 | AY95: ROZPOCET | BK95: =SUM(BK96:BK99) -> 0
C96: 7 | D96: K | E96: 3.1 | F96: Mřížový kabelový žlab do 200/50, vč. příslušenství, kabelových příchytek a nosného materiálu, stavebních přípomocí a drobného nespecifikovaného materiálu (hmoždiny, šrouby, sádra, …), kompletní dodávka | G96: m | H96: 12 | J96: =ROUND(I96*H96,2) -> 0 | N96: snížená | P96: =O96*H96 -> 0 | Q96: 0 | R96: =Q96*H96 -> 0 | S96: 0 | T96: =S96*H96 -> 0 | AR96: 4 | AT96: K | AU96: 1 | AY96: ROZPOCET | BE96: =IF(N96="základní",J96,0) -> 0 | BF96: =IF(N96="snížená",J96,0) -> 0 | BG96: =IF(N96="zákl. přenesená",J96,0) -> 0 | BH96: =IF(N96="sníž. přenesená",J96,0) -> 0 | BI96: =IF(N96="nulová",J96,0) -> 0 | BJ96: 2 | BK96: =ROUND(I96*H96,2) -> 0 | BL96: 4 | BM96: 16
C97: 8 | D97: K | E97: 3.2 | F97: Mřížový kabelový žlab do 50/50, vč. příslušenství, kabelových příchytek a nosného materiálu, stavebních přípomocí a drobného nespecifikovaného materiálu (hmoždiny, šrouby, sádra, …), kompletní dodávka | G97: m | H97: 13 | J97: =ROUND(I97*H97,2) -> 0 | N97: snížená | P97: =O97*H97 -> 0 | Q97: 0 | R97: =Q97*H97 -> 0 | S97: 0 | T97: =S97*H97 -> 0 | AR97: 4 | AT97: K | AU97: 1 | AY97: ROZPOCET | BE97: =IF(N97="základní",J97,0) -> 0 | BF97: =IF(N97="snížená",J97,0) -> 0 | BG97: =IF(N97="zákl. přenesená",J97,0) -> 0 | BH97: =IF(N97="sníž. přenesená",J97,0) -> 0 | BI97: =IF(N97="nulová",J97,0) -> 0 | BJ97: 2 | BK97: =ROUND(I97*H97,2) -> 0 | BL97: 4 | BM97: 18
C98: 9 | D98: K | E98: 3.3 | F98: Kabelová příchytka pro svazek Ć 8÷30 mm, vč. příslušenství, stavebních přípomocí a drobného nespecifikovaného materiálu (hmoždiny, šrouby, sádra, …), kompletní dodávka | G98: m | H98: 6 | J98: =ROUND(I98*H98,2) -> 0 | N98: snížená | P98: =O98*H98 -> 0 | Q98: 0 | R98: =Q98*H98 -> 0 | S98: 0 | T98: =S98*H98 -> 0 | AR98: 4 | AT98: K | AU98: 1 | AY98: ROZPOCET | BE98: =IF(N98="základní",J98,0) -> 0 | BF98: =IF(N98="snížená",J98,0) -> 0 | BG98: =IF(N98="zákl. přenesená",J98,0) -> 0 | BH98: =IF(N98="sníž. přenesená",J98,0) -> 0 | BI98: =IF(N98="nulová",J98,0) -> 0 | BJ98: 2 | BK98: =ROUND(I98*H98,2) -> 0 | BL98: 4 | BM98: 20
C99: 10 | D99: K | E99: 3.4 | F99: Požární ucpávky kabelových tras, kompletní dodávka | G99: kpl | H99: 1 | J99: =ROUND(I99*H99,2) -> 0 | N99: snížená | P99: =O99*H99 -> 0 | Q99: 0 | R99: =Q99*H99 -> 0 | S99: 0 | T99: =S99*H99 -> 0 | AR99: 4 | AT99: K | AU99: 1 | AY99: ROZPOCET | BE99: =IF(N99="základní",J99,0) -> 0 | BF99: =IF(N99="snížená",J99,0) -> 0 | BG99: =IF(N99="zákl. přenesená",J99,0) -> 0 | BH99: =IF(N99="sníž. přenesená",J99,0) -> 0 | BI99: =IF(N99="nulová",J99,0) -> 0 | BJ99: 2 | BK99: =ROUND(I99*H99,2) -> 0 | BL99: 4 | BM99: 22
D100: D | E100: 5 | F100: Polní instrumentace | J100: =BK100 -> 0 | P100: =SUM(P101:P118) -> 0 | R100: =SUM(R101:R118) -> 0 | T100: =SUM(T101:T118) -> 0 | AR100: 1 | AT100: D | AU100: 0 | AY100: ROZPOCET | BK100: =SUM(BK101:BK118) -> 0
C101: 11 | D101: K | E101: 5.1 | F101: Snímač teploty venkovní, 4-20mA, -30-70°C | G101: ks | H101: 1 | J101: =ROUND(I101*H101,2) -> 0 | N101: snížená | P101: =O101*H101 -> 0 | Q101: 0 | R101: =Q101*H101 -> 0 | S101: 0 | T101: =S101*H101 -> 0 | AR101: 4 | AT101: K | AU101: 1 | AY101: ROZPOCET | BE101: =IF(N101="základní",J101,0) -> 0 | BF101: =IF(N101="snížená",J101,0) -> 0 | BG101: =IF(N101="zákl. přenesená",J101,0) -> 0 | BH101: =IF(N101="sníž. přenesená",J101,0) -> 0 | BI101: =IF(N101="nulová",J101,0) -> 0 | BJ101: 2 | BK101: =ROUND(I101*H101,2) -> 0 | BL101: 4 | BM101: 24
C102: 12 | D102: K | E102: 5.2 | F102: Detektor úniku plynu | G102: ks | H102: 2 | J102: =ROUND(I102*H102,2) -> 0 | N102: snížená | P102: =O102*H102 -> 0 | Q102: 0 | R102: =Q102*H102 -> 0 | S102: 0 | T102: =S102*H102 -> 0 | AR102: 4 | AT102: K | AU102: 1 | AY102: ROZPOCET | BE102: =IF(N102="základní",J102,0) -> 0 | BF102: =IF(N102="snížená",J102,0) -> 0 | BG102: =IF(N102="zákl. přenesená",J102,0) -> 0 | BH102: =IF(N102="sníž. přenesená",J102,0) -> 0 | BI102: =IF(N102="nulová",J102,0) -> 0 | BJ102: 2 | BK102: =ROUND(I102*H102,2) -> 0 | BL102: 4 | BM102: 26
C103: 13 | D103: K | E103: 5.3 | F103: Siréna s optickou signalizací | G103: ks | H103: 1 | J103: =ROUND(I103*H103,2) -> 0 | N103: snížená | P103: =O103*H103 -> 0 | Q103: 0 | R103: =Q103*H103 -> 0 | S103: 0 | T103: =S103*H103 -> 0 | AR103: 4 | AT103: K | AU103: 1 | AY103: ROZPOCET | BE103: =IF(N103="základní",J103,0) -> 0 | BF103: =IF(N103="snížená",J103,0) -> 0 | BG103: =IF(N103="zákl. přenesená",J103,0) -> 0 | BH103: =IF(N103="sníž. přenesená",J103,0) -> 0 | BI103: =IF(N103="nulová",J103,0) -> 0 | BJ103: 2 | BK103: =ROUND(I103*H103,2) -> 0 | BL103: 4 | BM103: 28
C104: 14 | D104: K | E104: 5.4 | F104: Snímač tlaku do vodního potrubí (návarky součástí dodávky tehcnologie),rozsah dle projektu vytápění | G104: ks | H104: 3 | J104: =ROUND(I104*H104,2) -> 0 | N104: snížená | P104: =O104*H104 -> 0 | Q104: 0 | R104: =Q104*H104 -> 0 | S104: 0 | T104: =S104*H104 -> 0 | AR104: 4 | AT104: K | AU104: 1 | AY104: ROZPOCET | BE104: =IF(N104="základní",J104,0) -> 0 | BF104: =IF(N104="snížená",J104,0) -> 0 | BG104: =IF(N104="zákl. přenesená",J104,0) -> 0 | BH104: =IF(N104="sníž. přenesená",J104,0) -> 0 | BI104: =IF(N104="nulová",J104,0) -> 0 | BJ104: 2 | BK104: =ROUND(I104*H104,2) -> 0 | BL104: 4 | BM104: 30
C105: 15 | D105: K | E105: 5.5 | F105: Prostorový termostat, havarijní teplota 35°C | G105: ks | H105: 1 | J105: =ROUND(I105*H105,2) -> 0 | N105: snížená | P105: =O105*H105 -> 0 | Q105: 0 | R105: =Q105*H105 -> 0 | S105: 0 | T105: =S105*H105 -> 0 | AR105: 4 | AT105: K | AU105: 1 | AY105: ROZPOCET | BE105: =IF(N105="základní",J105,0) -> 0 | BF105: =IF(N105="snížená",J105,0) -> 0 | BG105: =IF(N105="zákl. přenesená",J105,0) -> 0 | BH105: =IF(N105="sníž. přenesená",J105,0) -> 0 | BI105: =IF(N105="nulová",J105,0) -> 0 | BJ105: 2 | BK105: =ROUND(I105*H105,2) -> 0 | BL105: 4 | BM105: 32
C106: 16 | D106: K | E106: 5.6 | F106: Termostat boileru bezpečnostní | G106: ks | H106: 1 | J106: =ROUND(I106*H106,2) -> 0 | N106: snížená | P106: =O106*H106 -> 0 | Q106: 0 | R106: =Q106*H106 -> 0 | S106: 0 | T106: =S106*H106 -> 0 | AR106: 4 | AT106: K | AU106: 1 | AY106: ROZPOCET | BE106: =IF(N106="základní",J106,0) -> 0 | BF106: =IF(N106="snížená",J106,0) -> 0 | BG106: =IF(N106="zákl. přenesená",J106,0) -> 0 | BH106: =IF(N106="sníž. přenesená",J106,0) -> 0 | BI106: =IF(N106="nulová",J106,0) -> 0 | BJ106: 2 | BK106: =ROUND(I106*H106,2) -> 0 | BL106: 4 | BM106: 34
C107: 17 | D107: K | E107: 5.7 | F107: Prostorové teplotní čidlo 4-20mA, 0-70°C | G107: ks | H107: 1 | J107: =ROUND(I107*H107,2) -> 0 | N107: snížená | P107: =O107*H107 -> 0 | Q107: 0 | R107: =Q107*H107 -> 0 | S107: 0 | T107: =S107*H107 -> 0 | AR107: 4 | AT107: K | AU107: 1 | AY107: ROZPOCET | BE107: =IF(N107="základní",J107,0) -> 0 | BF107: =IF(N107="snížená",J107,0) -> 0 | BG107: =IF(N107="zákl. přenesená",J107,0) -> 0 | BH107: =IF(N107="sníž. přenesená",J107,0) -> 0 | BI107: =IF(N107="nulová",J107,0) -> 0 | BJ107: 2 | BK107: =ROUND(I107*H107,2) -> 0 | BL107: 4 | BM107: 36
C108: 18 | D108: K | E108: 5.8 | F108: Snímač zaplavení prostoru - kapacitní | G108: ks | H108: 1 | J108: =ROUND(I108*H108,2) -> 0 | N108: snížená | P108: =O108*H108 -> 0 | Q108: 0 | R108: =Q108*H108 -> 0 | S108: 0 | T108: =S108*H108 -> 0 | AR108: 4 | AT108: K | AU108: 1 | AY108: ROZPOCET | BE108: =IF(N108="základní",J108,0) -> 0 | BF108: =IF(N108="snížená",J108,0) -> 0 | BG108: =IF(N108="zákl. přenesená",J108,0) -> 0 | BH108: =IF(N108="sníž. přenesená",J108,0) -> 0 | BI108: =IF(N108="nulová",J108,0) -> 0 | BJ108: 2 | BK108: =ROUND(I108*H108,2) -> 0 | BL108: 4 | BM108: 38
C109: 19 | D109: K | E109: 5.9 | F109: Teplotní snímač horké vody v boileru (včetně stonku) | G109: ks | H109: 1 | J109: =ROUND(I109*H109,2) -> 0 | N109: snížená | P109: =O109*H109 -> 0 | Q109: 0 | R109: =Q109*H109 -> 0 | S109: 0 | T109: =S109*H109 -> 0 | AR109: 4 | AT109: K | AU109: 1 | AY109: ROZPOCET | BE109: =IF(N109="základní",J109,0) -> 0 | BF109: =IF(N109="snížená",J109,0) -> 0 | BG109: =IF(N109="zákl. přenesená",J109,0) -> 0 | BH109: =IF(N109="sníž. přenesená",J109,0) -> 0 | BI109: =IF(N109="nulová",J109,0) -> 0 | BJ109: 2 | BK109: =ROUND(I109*H109,2) -> 0 | BL109: 4 | BM109: 40
C110: 20 | D110: K | E110: 5.10 | F110: Teplotní snímač topné vody - rozdělovač/sběrač, 0-100 °C, 4-20mA-déka stonku 100mm, včetně jímky (návarky součástí dodávky tehcnologie) | G110: ks | H110: 2 | J110: =ROUND(I110*H110,2) -> 0 | N110: snížená | P110: =O110*H110 -> 0 | Q110: 0 | R110: =Q110*H110 -> 0 | S110: 0 | T110: =S110*H110 -> 0 | AR110: 4 | AT110: K | AU110: 1 | AY110: ROZPOCET | BE110: =IF(N110="základní",J110,0) -> 0 | BF110: =IF(N110="snížená",J110,0) -> 0 | BG110: =IF(N110="zákl. přenesená",J110,0) -> 0 | BH110: =IF(N110="sníž. přenesená",J110,0) -> 0 | BI110: =IF(N110="nulová",J110,0) -> 0 | BJ110: 2 | BK110: =ROUND(I110*H110,2) -> 0 | BL110: 4 | BM110: 42
C111: 21 | D111: K | E111: 5.11 | F111: Teplotní snímač topné vody - topné větve, 0-100 °C, 4-20mA-déka stonku 50mm, včetně jímky (návarky součástí dodávky tehcnologie) | G111: ks | H111: 4 | J111: =ROUND(I111*H111,2) -> 0 | N111: snížená | P111: =O111*H111 -> 0 | Q111: 0 | R111: =Q111*H111 -> 0 | S111: 0 | T111: =S111*H111 -> 0 | AR111: 4 | AT111: K | AU111: 1 | AY111: ROZPOCET | BE111: =IF(N111="základní",J111,0) -> 0 | BF111: =IF(N111="snížená",J111,0) -> 0 | BG111: =IF(N111="zákl. přenesená",J111,0) -> 0 | BH111: =IF(N111="sníž. přenesená",J111,0) -> 0 | BI111: =IF(N111="nulová",J111,0) -> 0 | BJ111: 2 | BK111: =ROUND(I111*H111,2) -> 0 | BL111: 4 | BM111: 44
C112: 22 | D112: K | E112: 5.12 | F112: Teplotní snímač topné vody - výstup z kotlů, 0-100 °C, 4-20mA-déka stonku 50mm, včetně jímky (návarky součástí dodávky tehcnologie) | G112: ks | H112: 1 | J112: =ROUND(I112*H112,2) -> 0 | N112: snížená | P112: =O112*H112 -> 0 | Q112: 0 | R112: =Q112*H112 -> 0 | S112: 0 | T112: =S112*H112 -> 0 | AR112: 4 | AT112: K | AU112: 1 | AY112: ROZPOCET | BE112: =IF(N112="základní",J112,0) -> 0 | BF112: =IF(N112="snížená",J112,0) -> 0 | BG112: =IF(N112="zákl. přenesená",J112,0) -> 0 | BH112: =IF(N112="sníž. přenesená",J112,0) -> 0 | BI112: =IF(N112="nulová",J112,0) -> 0 | BJ112: 2 | BK112: =ROUND(I112*H112,2) -> 0 | BL112: 4 | BM112: 46
... C118: 28 | D118: K | E118: 5.18 | F118: Bezpečnostní tlačítko CENTRAL STOP | G118: ks | H118: 1 | J118: =ROUND(I118*H118,2) -> 0 | N118: snížená | P118: =O118*H118 -> 0 | Q118: 0 | R118: =Q118*H118 -> 0 | S118: 0 | T118: =S118*H118 -> 0 | AR118: 4 | AT118: K | AU118: 1 | AY118: ROZPOCET | BE118: =IF(N118="základní",J118,0) -> 0 | BF118: =IF(N118="snížená",J118,0) -> 0 | BG118: =IF(N118="zákl. přenesená",J118,0) -> 0 | BH118: =IF(N118="sníž. přenesená",J118,0) -> 0 | BI118: =IF(N118="nulová",J118,0) -> 0 | BJ118: 2 | BK118: =ROUND(I118*H118,2) -> 0 | BL118: 4 | BM118: 58
D119: D | E119: 6 | F119: Nehmotné dodávky - systémový (licenční) a uživatelský SW | J119: =BK119 -> 0 | P119: =SUM(P120:P123) -> 0 | R119: =SUM(R120:R123) -> 0 | T119: =SUM(T120:T123) -> 0 | AR119: 1 | AT119: D | AU119: 0 | AY119: ROZPOCET | BK119: =SUM(BK120:BK123) -> 0
C120: 29 | D120: K | E120: 6.1 | F120: Vývojové prostředí, uživatelský SW v PLC (DT2) | G120: ks | H120: 1 | J120: =ROUND(I120*H120,2) -> 0 | N120: snížená | P120: =O120*H120 -> 0 | Q120: 0 | R120: =Q120*H120 -> 0 | S120: 0 | T120: =S120*H120 -> 0 | AR120: 4 | AT120: K | AU120: 1 | AY120: ROZPOCET | BE120: =IF(N120="základní",J120,0) -> 0 | BF120: =IF(N120="snížená",J120,0) -> 0 | BG120: =IF(N120="zákl. přenesená",J120,0) -> 0 | BH120: =IF(N120="sníž. přenesená",J120,0) -> 0 | BI120: =IF(N120="nulová",J120,0) -> 0 | BJ120: 2 | BK120: =ROUND(I120*H120,2) -> 0 | BL120: 4 | BM120: 60
C121: 30 | D121: K | E121: 6.2 | F121: Systémový SW pro panelové PC ve skříni DT2 | G121: ks | H121: 1 | J121: =ROUND(I121*H121,2) -> 0 | N121: snížená | P121: =O121*H121 -> 0 | Q121: 0 | R121: =Q121*H121 -> 0 | S121: 0 | T121: =S121*H121 -> 0 | AR121: 4 | AT121: K | AU121: 1 | AY121: ROZPOCET | BE121: =IF(N121="základní",J121,0) -> 0 | BF121: =IF(N121="snížená",J121,0) -> 0 | BG121: =IF(N121="zákl. přenesená",J121,0) -> 0 | BH121: =IF(N121="sníž. přenesená",J121,0) -> 0 | BI121: =IF(N121="nulová",J121,0) -> 0 | BJ121: 2 | BK121: =ROUND(I121*H121,2) -> 0 | BL121: 4 | BM121: 62
C122: 31 | D122: K | E122: 6.3 | F122: Prametrizace systému | G122: ks | H122: 1 | J122: =ROUND(I122*H122,2) -> 0 | N122: snížená | P122: =O122*H122 -> 0 | Q122: 0 | R122: =Q122*H122 -> 0 | S122: 0 | T122: =S122*H122 -> 0 | AR122: 4 | AT122: K | AU122: 1 | AY122: ROZPOCET | BE122: =IF(N122="základní",J122,0) -> 0 | BF122: =IF(N122="snížená",J122,0) -> 0 | BG122: =IF(N122="zákl. přenesená",J122,0) -> 0 | BH122: =IF(N122="sníž. přenesená",J122,0) -> 0 | BI122: =IF(N122="nulová",J122,0) -> 0 | BJ122: 2 | BK122: =ROUND(I122*H122,2) -> 0 | BL122: 4 | BM122: 64
C123: 32 | D123: K | E123: 6.3.1 | F123: Kalibrace, odzkoušení detekčního systému plynu | G123: ks | H123: 2 | J123: =ROUND(I123*H123,2) -> 0 | N123: snížená | P123: =O123*H123 -> 0 | Q123: 0 | R123: =Q123*H123 -> 0 | S123: 0 | T123: =S123*H123 -> 0 | AR123: 4 | AT123: K | AU123: 1 | AY123: ROZPOCET | BE123: =IF(N123="základní",J123,0) -> 0 | BF123: =IF(N123="snížená",J123,0) -> 0 | BG123: =IF(N123="zákl. přenesená",J123,0) -> 0 | BH123: =IF(N123="sníž. přenesená",J123,0) -> 0 | BI123: =IF(N123="nulová",J123,0) -> 0 | BJ123: 2 | BK123: =ROUND(I123*H123,2) -> 0 | BL123: 4 | BM123: 66
D124: D | E124: 7 | F124: OSTATNÍ MATERIÁL A MONTÁŽNÍ PRÁCE | J124: =BK124 -> 0 | P124: =SUM(P125:P129) -> 0 | R124: =SUM(R125:R129) -> 0 | T124: =SUM(T125:T129) -> 0 | AR124: 1 | AT124: D | AU124: 0 | AY124: ROZPOCET | BK124: =SUM(BK125:BK129) -> 0
C125: 33 | D125: K | E125: 7.1 | F125: Kovové konstrukce všeobecně, vč. nátěrů | G125: kg | H125: 10 | J125: =ROUND(I125*H125,2) -> 0 | N125: snížená | P125: =O125*H125 -> 0 | Q125: 0 | R125: =Q125*H125 -> 0 | S125: 0 | T125: =S125*H125 -> 0 | AR125: 4 | AT125: K | AU125: 1 | AY125: ROZPOCET | BE125: =IF(N125="základní",J125,0) -> 0 | BF125: =IF(N125="snížená",J125,0) -> 0 | BG125: =IF(N125="zákl. přenesená",J125,0) -> 0 | BH125: =IF(N125="sníž. přenesená",J125,0) -> 0 | BI125: =IF(N125="nulová",J125,0) -> 0 | BJ125: 2 | BK125: =ROUND(I125*H125,2) -> 0 | BL125: 4 | BM125: 68
C126: 34 | D126: K | E126: 7.2 | F126: Individuální a komplexní zkoušky | G126: ks | H126: 1 | J126: =ROUND(I126*H126,2) -> 0 | N126: snížená | P126: =O126*H126 -> 0 | Q126: 0 | R126: =Q126*H126 -> 0 | S126: 0 | T126: =S126*H126 -> 0 | AR126: 4 | AT126: K | AU126: 1 | AY126: ROZPOCET | BE126: =IF(N126="základní",J126,0) -> 0 | BF126: =IF(N126="snížená",J126,0) -> 0 | BG126: =IF(N126="zákl. přenesená",J126,0) -> 0 | BH126: =IF(N126="sníž. přenesená",J126,0) -> 0 | BI126: =IF(N126="nulová",J126,0) -> 0 | BJ126: 2 | BK126: =ROUND(I126*H126,2) -> 0 | BL126: 4 | BM126: 70
C127: 35 | D127: K | E127: 7.3 | F127: Oživení | G127: ks | H127: 1 | J127: =ROUND(I127*H127,2) -> 0 | N127: snížená | P127: =O127*H127 -> 0 | Q127: 0 | R127: =Q127*H127 -> 0 | S127: 0 | T127: =S127*H127 -> 0 | AR127: 4 | AT127: K | AU127: 1 | AY127: ROZPOCET | BE127: =IF(N127="základní",J127,0) -> 0 | BF127: =IF(N127="snížená",J127,0) -> 0 | BG127: =IF(N127="zákl. přenesená",J127,0) -> 0 | BH127: =IF(N127="sníž. přenesená",J127,0) -> 0 | BI127: =IF(N127="nulová",J127,0) -> 0 | BJ127: 2 | BK127: =ROUND(I127*H127,2) -> 0 | BL127: 4 | BM127: 72
C128: 36 | D128: K | E128: 7.4 | F128: Zaškolení obsluhy | G128: ks | H128: 1 | J128: =ROUND(I128*H128,2) -> 0 | N128: snížená | P128: =O128*H128 -> 0 | Q128: 0 | R128: =Q128*H128 -> 0 | S128: 0 | T128: =S128*H128 -> 0 | AR128: 4 | AT128: K | AU128: 1 | AY128: ROZPOCET | BE128: =IF(N128="základní",J128,0) -> 0 | BF128: =IF(N128="snížená",J128,0) -> 0 | BG128: =IF(N128="zákl. přenesená",J128,0) -> 0 | BH128: =IF(N128="sníž. přenesená",J128,0) -> 0 | BI128: =IF(N128="nulová",J128,0) -> 0 | BJ128: 2 | BK128: =ROUND(I128*H128,2) -> 0 | BL128: 4 | BM128: 74
C129: 37 | D129: K | E129: 7.5 | F129: Výchozí revize | G129: ks | H129: 1 | J129: =ROUND(I129*H129,2) -> 0 | N129: snížená | P129: =O129*H129 -> 0 | Q129: 0 | R129: =Q129*H129 -> 0 | S129: 0 | T129: =S129*H129 -> 0 | AR129: 4 | AT129: K | AU129: 1 | AY129: ROZPOCET | BE129: =IF(N129="základní",J129,0) -> 0 | BF129: =IF(N129="snížená",J129,0) -> 0 | BG129: =IF(N129="zákl. přenesená",J129,0) -> 0 | BH129: =IF(N129="sníž. přenesená",J129,0) -> 0 | BI129: =IF(N129="nulová",J129,0) -> 0 | BJ129: 2 | BK129: =ROUND(I129*H129,2) -> 0 | BL129: 4 | BM129: 76
D130: D | E130: 8 | F130: INŽENÝRSKÁ ČINNOST | J130: =BK130 -> 0 | P130: =P131 -> 0 | R130: =R131 -> 0 | T130: =T131 -> 0 | AR130: 1 | AT130: D | AU130: 0 | AY130: ROZPOCET | BK130: =BK131 -> 0
C131: 38 | D131: K | E131: 8.3 | F131: Provozní zkoušky (komplexní stress-test) | G131: ks | H131: 1 | J131: =ROUND(I131*H131,2) -> 0 | N131: snížená | P131: =O131*H131 -> 0 | Q131: 0 | R131: =Q131*H131 -> 0 | S131: 0 | T131: =S131*H131 -> 0 | AR131: 4 | AT131: K | AU131: 1 | AY131: ROZPOCET | BE131: =IF(N131="základní",J131,0) -> 0 | BF131: =IF(N131="snížená",J131,0) -> 0 | BG131: =IF(N131="zákl. přenesená",J131,0) -> 0 | BH131: =IF(N131="sníž. přenesená",J131,0) -> 0 | BI131: =IF(N131="nulová",J131,0) -> 0 | BJ131: 2 | BK131: =ROUND(I131*H131,2) -> 0 | BL131: 4 | BM131: 82

Sheet D.1.6 - Zdravotně-technic...
L2: >> skryté sloupce << | AT2: {ae75550c-3a22-46d5-a405-2d0385834a2e}
AT3: 1
D4: KRYCÍ LIST SOUPISU PRACÍ | M4: v --- níže se nacházejí doplnkové a pomocné údaje k sestavám --- v | AT4: False
D6: Stavba:
E7: ='Rekapitulace stavby'!K6 -> Přestavba a rozšíření domova pro seniory Jiráskova č.p.193 Broumov - CHRÁNĚNÉ BYTY
D8: Objekt:
E9: D.1.6 - Zdravotně-technic...
D11: KSO: | I11: CC-CZ:
D12: Místo: | I12: Datum: | J12: ='Rekapitulace stavby'!AN8 -> 4. 3. 2022
D14: Zadavatel: | I14: IČ: | J14: =IF('Rekapitulace stavby'!AN10="","",'Rekapitulace stavby'!AN10)
E15: =IF('Rekapitulace stavby'!E11="","",'Rekapitulace stavby'!E11) -> Město Broumov, třída Masarykova 239 | I15: DIČ: | J15: =IF('Rekapitulace stavby'!AN11="","",'Rekapitulace stavby'!AN11)
D17: Uchazeč: | I17: IČ: | J17: ='Rekapitulace stavby'!AN13 -> Vyplň údaj
E18: ='Rekapitulace stavby'!E14 -> Vyplň údaj | I18: DIČ: | J18: ='Rekapitulace stavby'!AN14 -> Vyplň údaj
D20: Projektant: | I20: IČ: | J20: =IF('Rekapitulace stavby'!AN16="","",'Rekapitulace stavby'!AN16)
E21: =IF('Rekapitulace stavby'!E17="","",'Rekapitulace stavby'!E17) | I21: DIČ: | J21: =IF('Rekapitulace stavby'!AN17="","",'Rekapitulace stavby'!AN17)
D23: Zpracovatel: | I23: IČ: | J23: =IF('Rekapitulace stavby'!AN19="","",'Rekapitulace stavby'!AN19)
E24: =IF('Rekapitulace stavby'!E20="","",'Rekapitulace stavby'!E20) | I24: DIČ: | J24: =IF('Rekapitulace stavby'!AN20="","",'Rekapitulace stavby'!AN20)
D26: Poznámka:
D30: Cena bez DPH | J30: =ROUND(J86, 2) -> 0
F32: Základ daně | I32: Sazba daně | J32: Výše daně
D33: DPH | E33: základní | F33: =ROUND((SUM(BE86:BE214)), 2) -> 0 | I33: 0.21 | J33: =ROUND(((SUM(BE86:BE214))*I33), 2) -> 0
E34: snížená | F34: =ROUND((SUM(BF86:BF131)), 2) -> 0 | I34: 0.15 | J34: =ROUND(((SUM(BF86:BF131))*I34), 2) -> 0
E35: zákl. přenesená | F35: =ROUND((SUM(BG86:BG214)), 2) -> 0 | I35: 0.21 | J35: =0 -> 0
E36: sníž. přenesená | F36: =ROUND((SUM(BH86:BH214)), 2) -> 0 | I36: 0.15 | J36: =0 -> 0
E37: nulová | F37: =ROUND((SUM(BI86:BI214)), 2) -> 0 | I37: 0 | J37: =0 -> 0
D39: Cena s DPH | G39: v | H39: CZK | J39: =SUM(J30:J37) -> 0
C45: REKAPITULACE ČLENĚNÍ SOUPISU PRACÍ
C47: Stavba:
E48: =E7 -> Přestavba a rozšíření domova pro seniory Jiráskova č.p.193 Broumov - CHRÁNĚNÉ BYTY
C49: Objekt:
E50: =E9 -> D.1.6 - Zdravotně-technic...
C52: Místo: | F52: =F12 | I52: Datum: | J52: =IF(J12="","",J12) -> 4. 3. 2022
C54: Zadavatel: | F54: =E15 -> Město Broumov, třída Masarykova 239 | I54: Projektant: | J54: =E21
C55: Uchazeč: | F55: =IF(E18="","",E18) -> Vyplň údaj | I55: Zpracovatel: | J55: =E24
C57: Kód dílu - Popis | J57: Cena celkem [CZK]
C59: Náklady stavby celkem | J59: =J86 -> 0 | AU59: -1
D60: 1 - KANALIZACE PŮVODNÍ OBJEKTY | J60: =J87 -> 0
D61: 2 - KANALIZACE PŘÍSTAVBA | J61: =J116 -> 0
D62: 3 - DEŠŤOVÁ KANALIZACE | J62: =J129 -> 0
D63: 4 - VODOMĚRNÁ SESTAVA | J63: =J132 -> 0
D64: 5 - VODOVODNÍ ARMATURY | J64: =J135 -> 0
D65: 6 - POTRUBÍ VODOVODNÍ | J65: =J176 -> 0
D66: 7 - ZAŘIZOVACÍ PŘEDMĚTY - dodávka + montáž | J66: =J203 -> 0
C73: SOUPIS PRACÍ
C75: Stavba:
E76: =E7 -> Přestavba a rozšíření domova pro seniory Jiráskova č.p.193 Broumov - CHRÁNĚNÉ BYTY
C77: Objekt:
E78: =E9 -> D.1.6 - Zdravotně-technic...
C80: Místo: | F80: =F12 | I80: Datum: | J80: 44651
C82: Zadavatel: | F82: =E15 -> Město Broumov, třída Masarykova 239 | I82: Projektant: | J82: =E21
C83: Uchazeč: | F83: =IF(E18="","",E18) -> Vyplň údaj | I83: Zpracovatel: | J83: =E24
C85: PČ | D85: Typ | E85: Kód | F85: Popis | G85: MJ | H85: Množství | I85: J.cena [CZK] | J85: Cena celkem [CZK] | K85: Cenová soustava | N85: DPH | O85: J. Nh [h] | P85: Nh celkem [h] | Q85: J. hmotnost [t] | R85: Hmotnost celkem [t] | S85: J. suť [t] | T85: Suť Celkem [t]
C86: Náklady soupisu celkem | J86: =BK86 -> 0 | P86: =P87+P116+P129+P132+P135+P176+P203 -> 0 | R86: =R87+R116+R129+R132+R135+R176+R203 -> 0 | T86: =T87+T116+T129+T132+T135+T176+T203 -> 0 | AT86: D | AU86: -1 | BK86: =BK87+BK116+BK129+BK132+BK135+BK176+BK203 -> 0
D87: D | E87: 1 | F87: KANALIZACE PŮVODNÍ OBJEKTY | J87: =BK87 -> 0 | AR87: 1 | AT87: D | AU87: 0 | AY87: ROZPOCET | BK87: =SUM(BK88:BK114) -> 0
C88: 1 | D88: K | E88: 721175001 | F88: Potrubí kanalizační plastové připojovací odhlučněné dvouvrstvé DN 50 | G88: m | H88: 85 | J88: =ROUND(I88*H88,2) -> 0 | N88: snížená | P88: =O88*H88 -> 0 | Q88: 0 | R88: =Q88*H88 -> 0 | S88: 0 | T88: =S88*H88 -> 0 | AR88: 4 | AT88: K | AU88: 1 | AY88: ROZPOCET | BE88: =IF(N88="základní",J88,0) -> 0 | BF88: =IF(N88="snížená",J88,0) -> 0 | BG88: =IF(N88="zákl. přenesená",J88,0) -> 0 | BH88: =IF(N88="sníž. přenesená",J88,0) -> 0 | BI88: =IF(N88="nulová",J88,0) -> 0 | BJ88: 2 | BK88: =ROUND(I88*H88,2) -> 0 | BL88: 4 | BM88: 2
D89: VV | F89: 10m + 12m + 12m + 15m + 15m + 12m + 9m | AT89: VV | AU89: 2 | AV89: 2 | AW89: True | AX89: 1 | AY89: ROZPOCET
C90: 2 | D90: K | E90: 721175002 | F90: Potrubí kanalizační plastové připojovací odhlučněné dvouvrstvé DN 70 | G90: m | H90: 250 | J90: =ROUND(I90*H90,2) -> 0 | N90: snížená | P90: =O90*H90 -> 0 | Q90: 0 | R90: =Q90*H90 -> 0 | S90: 0 | T90: =S90*H90 -> 0 | AR90: 4 | AT90: K | AU90: 1 | AY90: ROZPOCET | BE90: =IF(N90="základní",J90,0) -> 0 | BF90: =IF(N90="snížená",J90,0) -> 0 | BG90: =IF(N90="zákl. přenesená",J90,0) -> 0 | BH90: =IF(N90="sníž. přenesená",J90,0) -> 0 | BI90: =IF(N90="nulová",J90,0) -> 0 | BJ90: 2 | BK90: =ROUND(I90*H90,2) -> 0 | BL90: 4 | BM90: 4
D91: VV | F91: 25m + 150m + 23m + 52m
C92: 3 | D92: K | E92: 721175021 | F92: Potrubí kanalizační plastové svodné odhlučněné dvouvrstvé DN 100 | G92: m | H92: 12 | J92: =ROUND(I92*H92,2) -> 0 | N92: snížená | P92: =O92*H92 -> 0 | Q92: 0 | R92: =Q92*H92 -> 0 | S92: 0 | T92: =S92*H92 -> 0 | AR92: 4 | AT92: K | AU92: 1 | AY92: ROZPOCET | BE92: =IF(N92="základní",J92,0) -> 0 | BF92: =IF(N92="snížená",J92,0) -> 0 | BG92: =IF(N92="zákl. přenesená",J92,0) -> 0 | BH92: =IF(N92="sníž. přenesená",J92,0) -> 0 | BI92: =IF(N92="nulová",J92,0) -> 0 | BJ92: 2 | BK92: =ROUND(I92*H92,2) -> 0 | BL92: 4 | BM92: 6
D93: VV | F93: 2m x 6 | BF93: =IF(N93="snížená",J93,0) -> 0
C94: 4 | D94: K | E94: 721175022 | F94: Potrubí kanalizační plastové svodné odhlučněné dvouvrstvé DN 125 | G94: m | H94: 85 | J94: =ROUND(I94*H94,2) -> 0 | N94: snížená | P94: =O94*H94 -> 0 | Q94: 0 | R94: =Q94*H94 -> 0 | S94: 0 | T94: =S94*H94 -> 0 | AR94: 4 | AT94: K | AU94: 1 | AY94: ROZPOCET | BE94: =IF(N94="základní",J94,0) -> 0 | BF94: =IF(N94="snížená",J94,0) -> 0 | BG94: =IF(N94="zákl. přenesená",J94,0) -> 0 | BH94: =IF(N94="sníž. přenesená",J94,0) -> 0 | BI94: =IF(N94="nulová",J94,0) -> 0 | BJ94: 2 | BK94: =ROUND(I94*H94,2) -> 0 | BL94: 4 | BM94: 8
D95: VV | F95: 15m + 12m + 13m + 20m + 25m
C96: 5 | D96: K | E96: 721175023 | F96: Potrubí kanalizační plastové svodné odhlučněné dvouvrstvé DN 150 | G96: m | H96: 65 | J96: =ROUND(I96*H96,2) -> 0 | N96: snížená | P96: =O96*H96 -> 0 | Q96: 0 | R96: =Q96*H96 -> 0 | S96: 0 | T96: =S96*H96 -> 0 | AR96: 4 | AT96: K | AU96: 1 | AY96: ROZPOCET | BE96: =IF(N96="základní",J96,0) -> 0 | BF96: =IF(N96="snížená",J96,0) -> 0 | BG96: =IF(N96="zákl. přenesená",J96,0) -> 0 | BH96: =IF(N96="sníž. přenesená",J96,0) -> 0 | BI96: =IF(N96="nulová",J96,0) -> 0 | BJ96: 2 | BK96: =ROUND(I96*H96,2) -> 0 | BL96: 4 | BM96: 10
D97: VV | F97: 25m + 20m + 15m + 5m
C98: 6 | D98: K | E98: 721175024 | F98: Potrubí kanalizační plastové svodné odhlučněné dvouvrstvé DN 200 | G98: m | H98: 8 | J98: =ROUND(I98*H98,2) -> 0 | N98: snížená | P98: =O98*H98 -> 0 | Q98: 0 | R98: =Q98*H98 -> 0 | S98: 0 | T98: =S98*H98 -> 0 | AR98: 4 | AT98: K | AU98: 1 | AY98: ROZPOCET | BE98: =IF(N98="základní",J98,0) -> 0 | BF98: =IF(N98="snížená",J98,0) -> 0 | BG98: =IF(N98="zákl. přenesená",J98,0) -> 0 | BH98: =IF(N98="sníž. přenesená",J98,0) -> 0 | BI98: =IF(N98="nulová",J98,0) -> 0 | BJ98: 2 | BK98: =ROUND(I98*H98,2) -> 0 | BL98: 4 | BM98: 12
D99: VV | F99: 2m + 2m + 2m + 2m
C100: 7 | D100: K | E100: 721211403 | F100: podlahové vpusti DN 50/75 | G100: ks | H100: 2 | J100: =ROUND(I100*H100,2) -> 0 | N100: snížená | P100: =O100*H100 -> 0 | Q100: 0 | R100: =Q100*H100 -> 0 | S100: 0 | T100: =S100*H100 -> 0 | AR100: 4 | AT100: K | AU100: 1 | AY100: ROZPOCET | BE100: =IF(N100="základní",J100,0) -> 0 | BF100: =IF(N100="snížená",J100,0) -> 0 | BG100: =IF(N100="zákl. přenesená",J100,0) -> 0 | BH100: =IF(N100="sníž. přenesená",J100,0) -> 0 | BI100: =IF(N100="nulová",J100,0) -> 0 | BJ100: 2 | BK100: =ROUND(I100*H100,2) -> 0 | BL100: 4 | BM100: 14
D101: VV | F101: Odečteno v Autocadu
C102: 8 | D102: K | E102: 721211912 | F102: montáž podlahových vpustí DN 50/75 | G102: ks | H102: 1 | J102: =ROUND(I102*H102,2) -> 0 | N102: snížená | P102: =O102*H102 -> 0 | Q102: 0 | R102: =Q102*H102 -> 0 | S102: 0 | T102: =S102*H102 -> 0 | AR102: 4 | AT102: K | AU102: 1 | AY102: ROZPOCET | BE102: =IF(N102="základní",J102,0) -> 0 | BF102: =IF(N102="snížená",J102,0) -> 0 | BG102: =IF(N102="zákl. přenesená",J102,0) -> 0 | BH102: =IF(N102="sníž. přenesená",J102,0) -> 0 | BI102: =IF(N102="nulová",J102,0) -> 0 | BJ102: 2 | BK102: =ROUND(I102*H102,2) -> 0 | BL102: 4 | BM102: 16
D103: VV | F103: Odečteno v Autocadu
C104: 9 | D104: K | E104: 721212113 | F104: odtokové střešní žlaby l=1000mm | G104: ks | H104: 2 | J104: =ROUND(I104*H104,2) -> 0 | N104: snížená | P104: =O104*H104 -> 0 | Q104: 0 | R104: =Q104*H104 -> 0 | S104: 0 | T104: =S104*H104 -> 0 | AR104: 4 | AT104: K | AU104: 1 | AY104: ROZPOCET | BE104: =IF(N104="základní",J104,0) -> 0 | BF104: =IF(N104="snížená",J104,0) -> 0 | BG104: =IF(N104="zákl. přenesená",J104,0) -> 0 | BH104: =IF(N104="sníž. přenesená",J104,0) -> 0 | BI104: =IF(N104="nulová",J104,0) -> 0 | BJ104: 2 | BK104: =ROUND(I104*H104,2) -> 0 | BL104: 4 | BM104: 18
D105: VV | F105: Odečteno v Autocadu
C106: 10 | D106: K | E106: 721219114 | F106: montáž odtokových žlabů l=1000mm | G106: ks | H106: 3 | J106: =ROUND(I106*H106,2) -> 0 | N106: snížená | P106: =O106*H106 -> 0 | Q106: 0 | R106: =Q106*H106 -> 0 | S106: 0 | T106: =S106*H106 -> 0 | AR106: 4 | AT106: K | AU106: 1 | AY106: ROZPOCET | BE106: =IF(N106="základní",J106,0) -> 0 | BF106: =IF(N106="snížená",J106,0) -> 0 | BG106: =IF(N106="zákl. přenesená",J106,0) -> 0 | BH106: =IF(N106="sníž. přenesená",J106,0) -> 0 | BI106: =IF(N106="nulová",J106,0) -> 0 | BJ106: 2 | BK106: =ROUND(I106*H106,2) -> 0 | BL106: 4 | BM106: 20
D107: VV | F107: Odečteno v Autocadu
C108: 11 | D108: K | E108: 721273133 | F108: ventilační hlavice DN110 | G108: ks | H108: 5 | J108: =ROUND(I108*H108,2) -> 0 | N108: snížená | P108: =O108*H108 -> 0 | Q108: 0 | R108: =Q108*H108 -> 0 | S108: 0 | T108: =S108*H108 -> 0 | AR108: 4 | AT108: K | AU108: 1 | AY108: ROZPOCET | BE108: =IF(N108="základní",J108,0) -> 0 | BF108: =IF(N108="snížená",J108,0) -> 0 | BG108: =IF(N108="zákl. přenesená",J108,0) -> 0 | BH108: =IF(N108="sníž. přenesená",J108,0) -> 0 | BI108: =IF(N108="nulová",J108,0) -> 0 | BJ108: 2 | BK108: =ROUND(I108*H108,2) -> 0 | BL108: 4 | BM108: 22
D109: VV | F109: Odečteno v Autocadu
C110: 12 | D110: K | E110: 721171809 | F110: demontáž potrubí z vodovodních trub | G110: m | H110: 285 | J110: =ROUND(I110*H110,2) -> 0 | N110: snížená | P110: =O110*H110 -> 0 | Q110: 0 | R110: =Q110*H110 -> 0 | S110: 0 | T110: =S110*H110 -> 0 | AR110: 4 | AT110: K | AU110: 1 | AY110: ROZPOCET | BE110: =IF(N110="základní",J110,0) -> 0 | BF110: =IF(N110="snížená",J110,0) -> 0 | BG110: =IF(N110="zákl. přenesená",J110,0) -> 0 | BH110: =IF(N110="sníž. přenesená",J110,0) -> 0 | BI110: =IF(N110="nulová",J110,0) -> 0 | BJ110: 2 | BK110: =ROUND(I110*H110,2) -> 0 | BL110: 4 | BM110: 24
D111: VV | F111: 120m + 55m + 60m + 50m
C112: 13 | D112: K | E112: 998721 | F112: přesun hmot do výšky 12m | G112: tun | H112: 1.2 | J112: =ROUND(I112*H112,2) -> 0 | N112: snížená | P112: =O112*H112 -> 0 | Q112: 0 | R112: =Q112*H112 -> 0 | S112: 0 | T112: =S112*H112 -> 0 | AR112: 4 | AT112: K | AU112: 1 | AY112: ROZPOCET | BE112: =IF(N112="základní",J112,0) -> 0 | BF112: =IF(N112="snížená",J112,0) -> 0 | BG112: =IF(N112="zákl. přenesená",J112,0) -> 0 | BH112: =IF(N112="sníž. přenesená",J112,0) -> 0 | BI112: =IF(N112="nulová",J112,0) -> 0 | BJ112: 2 | BK112: =ROUND(I112*H112,2) -> 0 | BL112: 4 | BM112: 26
D113: VV | F113: 0
C114: 14 | D114: K | E114: 721290112 | F114: zkouška těsnosti kanalizace do DN 200 | G114: m | H114: 658 | J114: =ROUND(I114*H114,2) -> 0 | N114: snížená | P114: =O114*H114 -> 0 | Q114: 0 | R114: =Q114*H114 -> 0 | S114: 0 | T114: =S114*H114 -> 0 | AR114: 4 | AT114: K | AU114: 1 | AY114: ROZPOCET | BE114: =IF(N114="základní",J114,0) -> 0 | BF114: =IF(N114="snížená",J114,0) -> 0 | BG114: =IF(N114="zákl. přenesená",J114,0) -> 0 | BH114: =IF(N114="sníž. přenesená",J114,0) -> 0 | BI114: =IF(N114="nulová",J114,0) -> 0 | BJ114: 2 | BK114: =ROUND(I114*H114,2) -> 0 | BL114: 4 | BM114: 28
D115: VV | F115: 20m + 30m + 30m + 20m + 30m + 40m + 15m + 25m + 35m + 120m + 60m + 45m + 120m + 38m + 20m + 10m
D116: D | E116: 2 | F116: KANALIZACE PŘÍSTAVBA | J116: =BK116 -> 0 | AR116: 1 | AT116: D | AU116: 0 | AY116: ROZPOCET | BK116: =SUM(BK117:BK127) -> 0
C117: 15 | D117: K | E117: 721175001.1 | F117: Potrubí z plastových trub polypropylenové tlumící zvuk dvouvrstvé připojovací DN 50 | G117: m | H117: 120 | J117: =ROUND(I117*H117,2) -> 0 | N117: snížená | P117: =O117*H117 -> 0 | Q117: 0 | R117: =Q117*H117 -> 0 | S117: 0 | T117: =S117*H117 -> 0 | AR117: 4 | AT117: K | AU117: 1 | AY117: ROZPOCET | BE117: =IF(N117="základní",J117,0) -> 0 | BF117: =IF(N117="snížená",J117,0) -> 0 | BG117: =IF(N117="zákl. přenesená",J117,0) -> 0 | BH117: =IF(N117="sníž. přenesená",J117,0) -> 0 | BI117: =IF(N117="nulová",J117,0) -> 0 | BJ117: 2 | BK117: =ROUND(I117*H117,2) -> 0 | BL117: 4 | BM117: 30
D118: VV | F118: 25m + 25m + 40m + 30m
C119: 16 | D119: K | E119: 721175002.1 | F119: Potrubí z plastových trub polypropylenové tlumící zvuk dvouvrstvé připojovací DN 70 | G119: m | H119: 110 | J119: =ROUND(I119*H119,2) -> 0 | N119: snížená | P119: =O119*H119 -> 0 | Q119: 0 | R119: =Q119*H119 -> 0 | S119: 0 | T119: =S119*H119 -> 0 | AR119: 4 | AT119: K | AU119: 1 | AY119: ROZPOCET | BE119: =IF(N119="základní",J119,0) -> 0 | BF119: =IF(N119="snížená",J119,0) -> 0 | BG119: =IF(N119="zákl. přenesená",J119,0) -> 0 | BH119: =IF(N119="sníž. přenesená",J119,0) -> 0 | BI119: =IF(N119="nulová",J119,0) -> 0 | BJ119: 2 | BK119: =ROUND(I119*H119,2) -> 0 | BL119: 4 | BM119: 32
D120: VV | F120: 25m + 35m + 25m + 25m
C121: 17 | D121: K | E121: 721175003 | F121: Potrubí z plastových trub polypropylenové tlumící zvuk dvouvrstvé připojovací DN 100 | G121: m | H121: 76 | J121: =ROUND(I121*H121,2) -> 0 | N121: snížená | P121: =O121*H121 -> 0 | Q121: 0 | R121: =Q121*H121 -> 0 | S121: 0 | T121: =S121*H121 -> 0 | AR121: 4 | AT121: K | AU121: 1 | AY121: ROZPOCET | BE121: =IF(N121="základní",J121,0) -> 0 | BF121: =IF(N121="snížená",J121,0) -> 0 | BG121: =IF(N121="zákl. přenesená",J121,0) -> 0 | BH121: =IF(N121="sníž. přenesená",J121,0) -> 0 | BI121: =IF(N121="nulová",J121,0) -> 0 | BJ121: 2 | BK121: =ROUND(I121*H121,2) -> 0 | BL121: 4 | BM121: 34
D122: VV | F122: 20m + 14m + 20m + 22m
C123: 18 | D123: K | E123: 721173402 | F123: Potrubí kanalizační KG-Systém SN 4 svodné DN 125 | G123: m | H123: 110 | J123: =ROUND(I123*H123,2) -> 0 | N123: snížená | P123: =O123*H123 -> 0 | Q123: 0 | R123: =Q123*H123 -> 0 | S123: 0 | T123: =S123*H123 -> 0 | AR123: 4 | AT123: K | AU123: 1 | AY123: ROZPOCET | BE123: =IF(N123="základní",J123,0) -> 0 | BF123: =IF(N123="snížená",J123,0) -> 0 | BG123: =IF(N123="zákl. přenesená",J123,0) -> 0 | BH123: =IF(N123="sníž. přenesená",J123,0) -> 0 | BI123: =IF(N123="nulová",J123,0) -> 0 | BJ123: 2 | BK123: =ROUND(I123*H123,2) -> 0 | BL123: 4 | BM123: 36
D124: VV | F124: 50m + 25m + 35m
C125: 19 | D125: K | E125: 721173403 | F125: Potrubí kanalizační KG-Systém SN 4 svodné DN 160 | G125: m | H125: 42 | J125: =ROUND(I125*H125,2) -> 0 | N125: snížená | P125: =O125*H125 -> 0 | Q125: 0 | R125: =Q125*H125 -> 0 | S125: 0 | T125: =S125*H125 -> 0 | AR125: 4 | AT125: K | AU125: 1 | AY125: ROZPOCET | BE125: =IF(N125="základní",J125,0) -> 0 | BF125: =IF(N125="snížená",J125,0) -> 0 | BG125: =IF(N125="zákl. přenesená",J125,0) -> 0 | BH125: =IF(N125="sníž. přenesená",J125,0) -> 0 | BI125: =IF(N125="nulová",J125,0) -> 0 | BJ125: 2 | BK125: =ROUND(I125*H125,2) -> 0 | BL125: 4 | BM125: 38
D126: VV | F126: 12m + 12m + 10m + 8m
C127: 20 | D127: K | E127: 721173404 | F127: Potrubí kanalizační KG-Systém SN 4 svodné DN 200 | G127: m | H127: 45 | J127: =ROUND(I127*H127,2) -> 0 | N127: snížená | P127: =O127*H127 -> 0 | Q127: 0 | R127: =Q127*H127 -> 0 | S127: 0 | T127: =S127*H127 -> 0 | AR127: 4 | AT127: K | AU127: 1 | AY127: ROZPOCET | BE127: =IF(N127="základní",J127,0) -> 0 | BF127: =IF(N127="snížená",J127,0) -> 0 | BG127: =IF(N127="zákl. přenesená",J127,0) -> 0 | BH127: =IF(N127="sníž. přenesená",J127,0) -> 0 | BI127: =IF(N127="nulová",J127,0) -> 0 | BJ127: 2 | BK127: =ROUND(I127*H127,2) -> 0 | BL127: 4 | BM127: 40
D128: VV | F128: 12m + 12m + 10m + 8m
D129: D | E129: 3 | F129: DEŠŤOVÁ KANALIZACE | J129: =BK129 -> 0 | AR129: 1 | AT129: D | AU129: 0 | AY129: ROZPOCET | BK129: =BK130 -> 0
C130: 21 | D130: K | E130: 721173404 | F130: Potrubí kanalizační KG-Systém SN 4 svodné DN 200 | G130: m | H130: 205 | J130: =ROUND(I130*H130,2) -> 0 | N130: snížená | P130: =O130*H130 -> 0 | Q130: 0 | R130: =Q130*H130 -> 0 | S130: 0 | T130: =S130*H130 -> 0 | AR130: 4 | AT130: K | AU130: 1 | AY130: ROZPOCET | BE130: =IF(N130="základní",J130,0) -> 0 | BF130: =IF(N130="snížená",J130,0) -> 0 | BG130: =IF(N130="zákl. přenesená",J130,0) -> 0 | BH130: =IF(N130="sníž. přenesená",J130,0) -> 0 | BI130: =IF(N130="nulová",J130,0) -> 0 | BJ130: 2 | BK130: =ROUND(I130*H130,2) -> 0 | BL130: 4 | BM130: 42
D131: VV | F131: 35m + 25m + 46m + 67m + 47m + 27m + 25m
D132: D | E132: 4 | F132: VODOMĚRNÁ SESTAVA | J132: =BK132 -> 0 | AR132: 1 | AT132: D | AU132: 0 | AY132: ROZPOCET | BK132: =BK133 -> 0
C133: 22 | D133: K | E133: 7220001 | F133: vodoměrná sestava - dodávka a montáž | G133: soubor | H133: 1 | J133: =ROUND(I133*H133,2) -> 0 | N133: snížená | P133: =O133*H133 -> 0 | Q133: 0 | R133: =Q133*H133 -> 0 | S133: 0 | T133: =S133*H133 -> 0 | AR133: 4 | AT133: K | AU133: 1 | AY133: ROZPOCET | BE133: =IF(N133="základní",J133,0) -> 0 | BF133: =IF(N133="snížená",J133,0) -> 0 | BG133: =IF(N133="zákl. přenesená",J133,0) -> 0 | BH133: =IF(N133="sníž. přenesená",J133,0) -> 0 | BI133: =IF(N133="nulová",J133,0) -> 0 | BJ133: 2 | BK133: =ROUND(I133*H133,2) -> 0 | BL133: 4 | BM133: 44
...

Sheet D.1.7 - VZT
L2: >> skryté sloupce << | AT2: {514232ea-e3fc-4c91-acca-12676b05ea3c}
AT3: 2
D4: KRYCÍ LIST SOUPISU PRACÍ | M4: v --- níže se nacházejí doplnkové a pomocné údaje k sestavám --- v | AT4: False
D6: Stavba:
E7: ='Rekapitulace stavby'!K6 -> Přestavba a rozšíření domova pro seniory Jiráskova č.p.193 Broumov - CHRÁNĚNÉ BYTY
D8: Objekt:
E9: D.1.7 - VZT
D11: KSO: | I11: CC-CZ:
D12: Místo: | I12: Datum: | J12: ='Rekapitulace stavby'!AN8 -> 4. 3. 2022
D14: Zadavatel: | I14: IČ: | J14: =IF('Rekapitulace stavby'!AN10="","",'Rekapitulace stavby'!AN10)
E15: =IF('Rekapitulace stavby'!E11="","",'Rekapitulace stavby'!E11) -> Město Broumov, třída Masarykova 239 | I15: DIČ: | J15: =IF('Rekapitulace stavby'!AN11="","",'Rekapitulace stavby'!AN11)
D17: Uchazeč: | I17: IČ: | J17: ='Rekapitulace stavby'!AN13 -> Vyplň údaj
E18: ='Rekapitulace stavby'!E14 -> Vyplň údaj | I18: DIČ: | J18: ='Rekapitulace stavby'!AN14 -> Vyplň údaj
D20: Projektant: | I20: IČ: | J20: =IF('Rekapitulace stavby'!AN16="","",'Rekapitulace stavby'!AN16)
E21: =IF('Rekapitulace stavby'!E17="","",'Rekapitulace stavby'!E17) | I21: DIČ: | J21: =IF('Rekapitulace stavby'!AN17="","",'Rekapitulace stavby'!AN17)
D23: Zpracovatel: | I23: IČ: | J23: =IF('Rekapitulace stavby'!AN19="","",'Rekapitulace stavby'!AN19)
E24: =IF('Rekapitulace stavby'!E20="","",'Rekapitulace stavby'!E20) | I24: DIČ: | J24: =IF('Rekapitulace stavby'!AN20="","",'Rekapitulace stavby'!AN20)
D26: Poznámka:
D30: Cena bez DPH | J30: =ROUND(J84, 2) -> 0
F32: Základ daně | I32: Sazba daně | J32: Výše daně
D33: DPH | E33: základní | F33: =ROUND((SUM(BE84:BE243)), 2) -> 0 | I33: 0.21 | J33: =ROUND(((SUM(BE84:BE243))*I33), 2) -> 0
E34: snížená | F34: =ROUND((SUM(BF84:BF243)), 2) -> 0 | I34: 0.15 | J34: =ROUND(((SUM(BF84:BF243))*I34), 2) -> 0
E35: zákl. přenesená | F35: =ROUND((SUM(BG84:BG243)), 2) -> 0 | I35: 0.21 | J35: =0 -> 0
E36: sníž. přenesená | F36: =ROUND((SUM(BH84:BH243)), 2) -> 0 | I36: 0.15 | J36: =0 -> 0
E37: nulová | F37: =ROUND((SUM(BI84:BI243)), 2) -> 0 | I37: 0 | J37: =0 -> 0
D39: Cena s DPH | G39: v | H39: CZK | J39: =SUM(J30:J37) -> 0
C45: REKAPITULACE ČLENĚNÍ SOUPISU PRACÍ
C47: Stavba:
E48: =E7 -> Přestavba a rozšíření domova pro seniory Jiráskova č.p.193 Broumov - CHRÁNĚNÉ BYTY
C49: Objekt:
E50: =E9 -> D.1.7 - VZT
C52: Místo: | F52: =F12 | I52: Datum: | J52: =IF(J12="","",J12) -> 4. 3. 2022
C54: Zadavatel: | F54: =E15 -> Město Broumov, třída Masarykova 239 | I54: Projektant: | J54: =E21
C55: Uchazeč: | F55: =IF(E18="","",E18) -> Vyplň údaj | I55: Zpracovatel: | J55: =E24
C57: Kód dílu - Popis | J57: Cena celkem [CZK]
C59: Náklady stavby celkem | J59: =J84 -> 0 | AU59: -1
D60: Zař. č. 1 - Zař. č. - Zař. č. 1 - Zař. č. | J60: =J85 -> 0
D61: Zař. č. 1A - Zař. č. - Zař. č. 1A - Zař. č. | J61: =J97 -> 0
D62: Zař. č. 3A - Zař. č. - Zař. č. 3A - Zař. č. | J62: =J107 -> 0
D63: Zař. č. 5 - Zař. č. - Zař. č. 5 - Zař. č. | J63: =J223 -> 0
D64: Zař. č. 55 - Doplňko - Zař. č. 55 - Doplňko | J64: =J234 -> 0
C71: SOUPIS PRACÍ
C73: Stavba:
E74: =E7 -> Přestavba a rozšíření domova pro seniory Jiráskova č.p.193 Broumov - CHRÁNĚNÉ BYTY
C75: Objekt:
E76: =E9 -> D.1.7 - VZT
C78: Místo: | F78: =F12 | I78: Datum: | J78: =IF(J12="","",J12) -> 4. 3. 2022
C80: Zadavatel: | F80: =E15 -> Město Broumov, třída Masarykova 239 | I80: Projektant: | J80: =E21
C81: Uchazeč: | F81: =IF(E18="","",E18) -> Vyplň údaj | I81: Zpracovatel: | J81: =E24
C83: PČ | D83: Typ | E83: Kód | F83: Popis | G83: MJ | H83: Množství | I83: J.cena [CZK] | J83: Cena celkem [CZK] | K83: Cenová soustava | N83: DPH | O83: J. Nh [h] | P83: Nh celkem [h] | Q83: J. hmotnost [t] | R83: Hmotnost celkem [t] | S83: J. suť [t] | T83: Suť Celkem [t]
C84: Náklady soupisu celkem | J84: =BK84 -> 0 | P84: =P85+P97+P107+P223+P234 -> 0 | R84: =R85+R97+R107+R223+R234 -> 0 | T84: =T85+T97+T107+T223+T234 -> 0 | AT84: D | AU84: -1 | BK84: =BK85+BK97+BK107+BK223+BK234 -> 0
D85: D | E85: Zař. č. 1 - Zař. č. | F85: Zař. č. 1 - Zař. č. | J85: =BK85 -> 0 | P85: =SUM(P86:P96) -> 0 | R85: =SUM(R86:R96) -> 0 | T85: =SUM(T86:T96) -> 0 | AR85: 1 | AT85: D | AU85: 0 | AY85: ROZPOCET | BK85: =SUM(BK86:BK96) -> 0
C86: 1 | D86: K | E86: 1.200 | F86: Regulační klapka, 1250x315 | G86: ks | H86: 1 | J86: =ROUND(I86*H86,2) -> 0 | N86: základní | P86: =O86*H86 -> 0 | Q86: 0 | R86: =Q86*H86 -> 0 | S86: 0 | T86: =S86*H86 -> 0 | AR86: 4 | AT86: K | AU86: 1 | AY86: ROZPOCET | BE86: =IF(N86="základní",J86,0) -> 0 | BF86: =IF(N86="snížená",J86,0) -> 0 | BG86: =IF(N86="zákl. přenesená",J86,0) -> 0 | BH86: =IF(N86="sníž. přenesená",J86,0) -> 0 | BI86: =IF(N86="nulová",J86,0) -> 0 | BJ86: 1 | BK86: =ROUND(I86*H86,2) -> 0 | BL86: 4 | BM86: 2
C87: 2 | D87: K | E87: 1.302 | F87: Požární klapka, se servopohonem 230V, signalizace poloh, zpětná pružina, odolnost 90 minut, 1000x355 - nebo rovnocenný výrobek | G87: KS | H87: 1 | J87: =ROUND(I87*H87,2) -> 0 | N87: základní | P87: =O87*H87 -> 0 | Q87: 0 | R87: =Q87*H87 -> 0 | S87: 0 | T87: =S87*H87 -> 0 | AR87: 4 | AT87: K | AU87: 1 | AY87: ROZPOCET | BE87: =IF(N87="základní",J87,0) -> 0 | BF87: =IF(N87="snížená",J87,0) -> 0 | BG87: =IF(N87="zákl. přenesená",J87,0) -> 0 | BH87: =IF(N87="sníž. přenesená",J87,0) -> 0 | BI87: =IF(N87="nulová",J87,0) -> 0 | BJ87: 1 | BK87: =ROUND(I87*H87,2) -> 0 | BL87: 4 | BM87: 4
C88: 3 | D88: K | E88: 1.304 | F88: Požární klapka, se servopohonem 230V, signalizace poloh, zpětná pružina, odolnost 90 minut, 1000x355 - nebo rovnocenný výrobek | G88: KS | H88: 1 | J88: =ROUND(I88*H88,2) -> 0 | N88: základní | P88: =O88*H88 -> 0 | Q88: 0 | R88: =Q88*H88 -> 0 | S88: 0 | T88: =S88*H88 -> 0 | AR88: 4 | AT88: K | AU88: 1 | AY88: ROZPOCET | BE88: =IF(N88="základní",J88,0) -> 0 | BF88: =IF(N88="snížená",J88,0) -> 0 | BG88: =IF(N88="zákl. přenesená",J88,0) -> 0 | BH88: =IF(N88="sníž. přenesená",J88,0) -> 0 | BI88: =IF(N88="nulová",J88,0) -> 0 | BJ88: 1 | BK88: =ROUND(I88*H88,2) -> 0 | BL88: 4 | BM88: 6
C89: 4 | D89: K | E89: 1.305 | F89: Požární klapka, se servopohonem 230V, signalizace poloh, zpětná pružina, odolnost 90 minut, 1250x315 - nebo rovnocenný výrobek | G89: ks | H89: 1 | J89: =ROUND(I89*H89,2) -> 0 | N89: základní | P89: =O89*H89 -> 0 | Q89: 0 | R89: =Q89*H89 -> 0 | S89: 0 | T89: =S89*H89 -> 0 | AR89: 4 | AT89: K | AU89: 1 | AY89: ROZPOCET | BE89: =IF(N89="základní",J89,0) -> 0 | BF89: =IF(N89="snížená",J89,0) -> 0 | BG89: =IF(N89="zákl. přenesená",J89,0) -> 0 | BH89: =IF(N89="sníž. přenesená",J89,0) -> 0 | BI89: =IF(N89="nulová",J89,0) -> 0 | BJ89: 1 | BK89: =ROUND(I89*H89,2) -> 0 | BL89: 4 | BM89: 8
C90: 5 | D90: K | E90: 1.400 | F90: Vyústka přívodní, dvouřadá, s upevňovacím rámem, včetně regulace výkonu, 425x75 - nebo rovnocenný výrobek | G90: ks | H90: 2 | J90: =ROUND(I90*H90,2) -> 0 | N90: základní | P90: =O90*H90 -> 0 | Q90: 0 | R90: =Q90*H90 -> 0 | S90: 0 | T90: =S90*H90 -> 0 | AR90: 4 | AT90: K | AU90: 1 | AY90: ROZPOCET | BE90: =IF(N90="základní",J90,0) -> 0 | BF90: =IF(N90="snížená",J90,0) -> 0 | BG90: =IF(N90="zákl. přenesená",J90,0) -> 0 | BH90: =IF(N90="sníž. přenesená",J90,0) -> 0 | BI90: =IF(N90="nulová",J90,0) -> 0 | BJ90: 1 | BK90: =ROUND(I90*H90,2) -> 0 | BL90: 4 | BM90: 10
C91: 6 | D91: K | E91: 1.800 | F91: Požární izolace 90 min, odolnost 90 min | G91: m2 | H91: 8.71 | J91: =ROUND(I91*H91,2) -> 0 | N91: základní | P91: =O91*H91 -> 0 | Q91: 0 | R91: =Q91*H91 -> 0 | S91: 0 | T91: =S91*H91 -> 0 | AR91: 4 | AT91: K | AU91: 1 | AY91: ROZPOCET | BE91: =IF(N91="základní",J91,0) -> 0 | BF91: =IF(N91="snížená",J91,0) -> 0 | BG91: =IF(N91="zákl. přenesená",J91,0) -> 0 | BH91: =IF(N91="sníž. přenesená",J91,0) -> 0 | BI91: =IF(N91="nulová",J91,0) -> 0 | BJ91: 1 | BK91: =ROUND(I91*H91,2) -> 0 | BL91: 4 | BM91: 12
C92: 7 | D92: K | E92: 1.950 | F92: Trouby rovné, materiál pozinkovaný plech, Čtyřhranné potrubí skupiny I., se stranami do 250 mm | G92: m2 | H92: 5.92 | J92: =ROUND(I92*H92,2) -> 0 | N92: základní | P92: =O92*H92 -> 0 | Q92: 0 | R92: =Q92*H92 -> 0 | S92: 0 | T92: =S92*H92 -> 0 | AR92: 4 | AT92: K | AU92: 1 | AY92: ROZPOCET | BE92: =IF(N92="základní",J92,0) -> 0 | BF92: =IF(N92="snížená",J92,0) -> 0 | BG92: =IF(N92="zákl. přenesená",J92,0) -> 0 | BH92: =IF(N92="sníž. přenesená",J92,0) -> 0 | BI92: =IF(N92="nulová",J92,0) -> 0 | BJ92: 1 | BK92: =ROUND(I92*H92,2) -> 0 | BL92: 4 | BM92: 14
C93: 8 | D93: K | E93: 1.950.1 | F93: Trouby rovné, materiál pozinkovaný plech, Čtyřhranné potrubí skupiny I., se stranami nad 250 mm | G93: m2 | H93: 35.68 | J93: =ROUND(I93*H93,2) -> 0 | N93: základní | P93: =O93*H93 -> 0 | Q93: 0 | R93: =Q93*H93 -> 0 | S93: 0 | T93: =S93*H93 -> 0 | AR93: 4 | AT93: K | AU93: 1 | AY93: ROZPOCET | BE93: =IF(N93="základní",J93,0) -> 0 | BF93: =IF(N93="snížená",J93,0) -> 0 | BG93: =IF(N93="zákl. přenesená",J93,0) -> 0 | BH93: =IF(N93="sníž. přenesená",J93,0) -> 0 | BI93: =IF(N93="nulová",J93,0) -> 0 | BJ93: 1 | BK93: =ROUND(I93*H93,2) -> 0 | BL93: 4 | BM93: 16
C94: 9 | D94: K | E94: 1.951 | F94: Tvarovky potrubí, materiál pozinkovaný plech, Čtyřhranné potrubí skupiny I., se stranami do 250 mm, tvarovky | G94: m2 | H94: 1.32 | J94: =ROUND(I94*H94,2) -> 0 | N94: základní | P94: =O94*H94 -> 0 | Q94: 0 | R94: =Q94*H94 -> 0 | S94: 0 | T94: =S94*H94 -> 0 | AR94: 4 | AT94: K | AU94: 1 | AY94: ROZPOCET | BE94: =IF(N94="základní",J94,0) -> 0 | BF94: =IF(N94="snížená",J94,0) -> 0 | BG94: =IF(N94="zákl. přenesená",J94,0) -> 0 | BH94: =IF(N94="sníž. přenesená",J94,0) -> 0 | BI94: =IF(N94="nulová",J94,0) -> 0 | BJ94: 1 | BK94: =ROUND(I94*H94,2) -> 0 | BL94: 4 | BM94: 18
C95: 10 | D95: K | E95: 1.951.1 | F95: Tvarovky potrubí, materiál pozinkovaný plech, Čtyřhranné potrubí skupiny I., se stranami nad 250 mm, tvarovky | G95: m2 | H95: 11.52 | J95: =ROUND(I95*H95,2) -> 0 | N95: základní | P95: =O95*H95 -> 0 | Q95: 0 | R95: =Q95*H95 -> 0 | S95: 0 | T95: =S95*H95 -> 0 | AR95: 4 | AT95: K | AU95: 1 | AY95: ROZPOCET | BE95: =IF(N95="základní",J95,0) -> 0 | BF95: =IF(N95="snížená",J95,0) -> 0 | BG95: =IF(N95="zákl. přenesená",J95,0) -> 0 | BH95: =IF(N95="sníž. přenesená",J95,0) -> 0 | BI95: =IF(N95="nulová",J95,0) -> 0 | BJ95: 1 | BK95: =ROUND(I95*H95,2) -> 0 | BL95: 4 | BM95: 20
C96: 11 | D96: K | E96: Pol1 | F96: Větrací strop TPV - přívodní vzduchovod, odtahový vzduchovod, včetně osvětlení, čidel - příloha č. 012, automatický hasící systém, LED osvětlení, UV-C technologie pro eleminaci zápachu | G96: kpl | H96: 1 | J96: =ROUND(I96*H96,2) -> 0 | N96: základní | P96: =O96*H96 -> 0 | Q96: 0 | R96: =Q96*H96 -> 0 | S96: 0 | T96: =S96*H96 -> 0 | AR96: 4 | AT96: K | AU96: 1 | AY96: ROZPOCET | BE96: =IF(N96="základní",J96,0) -> 0 | BF96: =IF(N96="snížená",J96,0) -> 0 | BG96: =IF(N96="zákl. přenesená",J96,0) -> 0 | BH96: =IF(N96="sníž. přenesená",J96,0) -> 0 | BI96: =IF(N96="nulová",J96,0) -> 0 | BJ96: 1 | BK96: =ROUND(I96*H96,2) -> 0 | BL96: 4 | BM96: 22
D97: D | E97: Zař. č. 1A - Zař. č. | F97: Zař. č. 1A - Zař. č. | J97: =BK97 -> 0 | P97: =SUM(P98:P106) -> 0 | R97: =SUM(R98:R106) -> 0 | T97: =SUM(T98:T106) -> 0 | AR97: 1 | AT97: D | AU97: 0 | AY97: ROZPOCET | BK97: =SUM(BK98:BK106) -> 0
C98: 12 | D98: K | E98: 1A.304 | F98: Požární klapka, se servopohonem 230V, signalizace poloh, zpětná pružina, odolnost 90 minut, 160x200 - nebo rovnocenný výrobek | G98: ks | H98: 1 | J98: =ROUND(I98*H98,2) -> 0 | N98: základní | P98: =O98*H98 -> 0 | Q98: 0 | R98: =Q98*H98 -> 0 | S98: 0 | T98: =S98*H98 -> 0 | AR98: 4 | AT98: K | AU98: 1 | AY98: ROZPOCET | BE98: =IF(N98="základní",J98,0) -> 0 | BF98: =IF(N98="snížená",J98,0) -> 0 | BG98: =IF(N98="zákl. přenesená",J98,0) -> 0 | BH98: =IF(N98="sníž. přenesená",J98,0) -> 0 | BI98: =IF(N98="nulová",J98,0) -> 0 | BJ98: 1 | BK98: =ROUND(I98*H98,2) -> 0 | BL98: 4 | BM98: 24
C99: 13 | D99: K | E99: 1A.305 | F99: Požární klapka, se servopohonem 230V, signalizace poloh, zpětná pružina, odolnost 90 minut, 200x200 - nebo rovnocenný výrobek | G99: ks | H99: 1 | J99: =ROUND(I99*H99,2) -> 0 | N99: základní | P99: =O99*H99 -> 0 | Q99: 0 | R99: =Q99*H99 -> 0 | S99: 0 | T99: =S99*H99 -> 0 | AR99: 4 | AT99: K | AU99: 1 | AY99: ROZPOCET | BE99: =IF(N99="základní",J99,0) -> 0 | BF99: =IF(N99="snížená",J99,0) -> 0 | BG99: =IF(N99="zákl. přenesená",J99,0) -> 0 | BH99: =IF(N99="sníž. přenesená",J99,0) -> 0 | BI99: =IF(N99="nulová",J99,0) -> 0 | BJ99: 1 | BK99: =ROUND(I99*H99,2) -> 0 | BL99: 4 | BM99: 26
C100: 14 | D100: K | E100: 1A.306 | F100: Požární klapka, se servopohonem 230V, signalizace poloh, zpětná pružina, odolnost 90 minut, 160x200 - nebo rovnocenný výrobek | G100: ks | H100: 1 | J100: =ROUND(I100*H100,2) -> 0 | N100: základní | P100: =O100*H100 -> 0 | Q100: 0 | R100: =Q100*H100 -> 0 | S100: 0 | T100: =S100*H100 -> 0 | AR100: 4 | AT100: K | AU100: 1 | AY100: ROZPOCET | BE100: =IF(N100="základní",J100,0) -> 0 | BF100: =IF(N100="snížená",J100,0) -> 0 | BG100: =IF(N100="zákl. přenesená",J100,0) -> 0 | BH100: =IF(N100="sníž. přenesená",J100,0) -> 0 | BI100: =IF(N100="nulová",J100,0) -> 0 | BJ100: 1 | BK100: =ROUND(I100*H100,2) -> 0 | BL100: 4 | BM100: 28
C101: 15 | D101: K | E101: 1A.400 | F101: Vyústka odvodní, dvouřadá, s upevňovacím rámem, včetně regulace výkonu, 225x75 - nebo rovnocenný výrobek | G101: ks | H101: 3 | J101: =ROUND(I101*H101,2) -> 0 | N101: základní | P101: =O101*H101 -> 0 | Q101: 0 | R101: =Q101*H101 -> 0 | S101: 0 | T101: =S101*H101 -> 0 | AR101: 4 | AT101: K | AU101: 1 | AY101: ROZPOCET | BE101: =IF(N101="základní",J101,0) -> 0 | BF101: =IF(N101="snížená",J101,0) -> 0 | BG101: =IF(N101="zákl. přenesená",J101,0) -> 0 | BH101: =IF(N101="sníž. přenesená",J101,0) -> 0 | BI101: =IF(N101="nulová",J101,0) -> 0 | BJ101: 1 | BK101: =ROUND(I101*H101,2) -> 0 | BL101: 4 | BM101: 30
C102: 16 | D102: K | E102: 1A.401 | F102: Vyústka odvodní, dvouřadá, s upevňovacím rámem, včetně regulace výkonu, 425x75 - nebo rovnocenný výrobek | G102: ks | H102: 2 | J102: =ROUND(I102*H102,2) -> 0 | N102: základní | P102: =O102*H102 -> 0 | Q102: 0 | R102: =Q102*H102 -> 0 | S102: 0 | T102: =S102*H102 -> 0 | AR102: 4 | AT102: K | AU102: 1 | AY102: ROZPOCET | BE102: =IF(N102="základní",J102,0) -> 0 | BF102: =IF(N102="snížená",J102,0) -> 0 | BG102: =IF(N102="zákl. přenesená",J102,0) -> 0 | BH102: =IF(N102="sníž. přenesená",J102,0) -> 0 | BI102: =IF(N102="nulová",J102,0) -> 0 | BJ102: 1 | BK102: =ROUND(I102*H102,2) -> 0 | BL102: 4 | BM102: 32
C103: 17 | D103: K | E103: 1A.402 | F103: Vyústka odvodní, dvouřadá, s upevňovacím rámem, včetně regulace výkonu, 625x75 - nebo rovnocenný výrobek | G103: ks | H103: 1 | J103: =ROUND(I103*H103,2) -> 0 | N103: základní | P103: =O103*H103 -> 0 | Q103: 0 | R103: =Q103*H103 -> 0 | S103: 0 | T103: =S103*H103 -> 0 | AR103: 4 | AT103: K | AU103: 1 | AY103: ROZPOCET | BE103: =IF(N103="základní",J103,0) -> 0 | BF103: =IF(N103="snížená",J103,0) -> 0 | BG103: =IF(N103="zákl. přenesená",J103,0) -> 0 | BH103: =IF(N103="sníž. přenesená",J103,0) -> 0 | BI103: =IF(N103="nulová",J103,0) -> 0 | BJ103: 1 | BK103: =ROUND(I103*H103,2) -> 0 | BL103: 4 | BM103: 34
C104: 18 | D104: K | E104: 1A.800 | F104: Požární izolace 90 min, odolnost 90 min | G104: m2 | H104: 1.51 | J104: =ROUND(I104*H104,2) -> 0 | N104: základní | P104: =O104*H104 -> 0 | Q104: 0 | R104: =Q104*H104 -> 0 | S104: 0 | T104: =S104*H104 -> 0 | AR104: 4 | AT104: K | AU104: 1 | AY104: ROZPOCET | BE104: =IF(N104="základní",J104,0) -> 0 | BF104: =IF(N104="snížená",J104,0) -> 0 | BG104: =IF(N104="zákl. přenesená",J104,0) -> 0 | BH104: =IF(N104="sníž. přenesená",J104,0) -> 0 | BI104: =IF(N104="nulová",J104,0) -> 0 | BJ104: 1 | BK104: =ROUND(I104*H104,2) -> 0 | BL104: 4 | BM104: 36
C105: 19 | D105: K | E105: 1A.950 | F105: Trouby rovné, materiál pozinkovaný plech, Čtyřhranné potrubí skupiny I., se stranami do 250 mm | G105: m2 | H105: 26.51 | J105: =ROUND(I105*H105,2) -> 0 | N105: základní | P105: =O105*H105 -> 0 | Q105: 0 | R105: =Q105*H105 -> 0 | S105: 0 | T105: =S105*H105 -> 0 | AR105: 4 | AT105: K | AU105: 1 | AY105: ROZPOCET | BE105: =IF(N105="základní",J105,0) -> 0 | BF105: =IF(N105="snížená",J105,0) -> 0 | BG105: =IF(N105="zákl. přenesená",J105,0) -> 0 | BH105: =IF(N105="sníž. přenesená",J105,0) -> 0 | BI105: =IF(N105="nulová",J105,0) -> 0 | BJ105: 1 | BK105: =ROUND(I105*H105,2) -> 0 | BL105: 4 | BM105: 38
C106: 20 | D106: K | E106: 1A.951 | F106: Tvarovky potrubí, materiál pozinkovaný plech, Čtyřhranné potrubí skupiny I., se stranami do 250 mm, tvarovky | G106: m2 | H106: 2.97 | J106: =ROUND(I106*H106,2) -> 0 | N106: základní | P106: =O106*H106 -> 0 | Q106: 0 | R106: =Q106*H106 -> 0 | S106: 0 | T106: =S106*H106 -> 0 | AR106: 4 | AT106: K | AU106: 1 | AY106: ROZPOCET | BE106: =IF(N106="základní",J106,0) -> 0 | BF106: =IF(N106="snížená",J106,0) -> 0 | BG106: =IF(N106="zákl. přenesená",J106,0) -> 0 | BH106: =IF(N106="sníž. přenesená",J106,0) -> 0 | BI106: =IF(N106="nulová",J106,0) -> 0 | BJ106: 1 | BK106: =ROUND(I106*H106,2) -> 0 | BL106: 4 | BM106: 40
D107: D | E107: Zař. č. 3A - Zař. č. | F107: Zař. č. 3A - Zař. č. | J107: =BK107 -> 0 | P107: =SUM(P108:P222) -> 0 | R107: =SUM(R108:R222) -> 0 | T107: =SUM(T108:T222) -> 0 | AR107: 1 | AT107: D | AU107: 0 | AY107: ROZPOCET | BK107: =SUM(BK108:BK222) -> 0
C108: 21 | D108: K | E108: 3A.009 | F108: Ventilátor, diagonální, krytí motoru IP44, se stejnosměrným motorem, Odvodní ventilátor, Vo = 160 m3/h, Ne=0,053kW, 230V, 0,21A, doběh 5 min. - nebo rovnocenný výrobek | G108: ks | H108: 1 | J108: =ROUND(I108*H108,2) -> 0 | N108: základní | P108: =O108*H108 -> 0 | Q108: 0 | R108: =Q108*H108 -> 0 | S108: 0 | T108: =S108*H108 -> 0 | AR108: 4 | AT108: K | AU108: 1 | AY108: ROZPOCET | BE108: =IF(N108="základní",J108,0) -> 0 | BF108: =IF(N108="snížená",J108,0) -> 0 | BG108: =IF(N108="zákl. přenesená",J108,0) -> 0 | BH108: =IF(N108="sníž. přenesená",J108,0) -> 0 | BI108: =IF(N108="nulová",J108,0) -> 0 | BJ108: 1 | BK108: =ROUND(I108*H108,2) -> 0 | BL108: 4 | BM108: 42
C109: 22 | D109: K | E109: 3A.010 | F109: Radiální ventilátor, malý, IP44, Odvodní ventilátor, Vo = 150 m3/h, Ne= 0,068kW, 230V, doběh 5 min. - nebo rovnocenný výrobek | G109: ks | H109: 1 | J109: =ROUND(I109*H109,2) -> 0 | N109: základní | P109: =O109*H109 -> 0 | Q109: 0 | R109: =Q109*H109 -> 0 | S109: 0 | T109: =S109*H109 -> 0 | AR109: 4 | AT109: K | AU109: 1 | AY109: ROZPOCET | BE109: =IF(N109="základní",J109,0) -> 0 | BF109: =IF(N109="snížená",J109,0) -> 0 | BG109: =IF(N109="zákl. přenesená",J109,0) -> 0 | BH109: =IF(N109="sníž. přenesená",J109,0) -> 0 | BI109: =IF(N109="nulová",J109,0) -> 0 | BJ109: 1 | BK109: =ROUND(I109*H109,2) -> 0 | BL109: 4 | BM109: 44
C110: 23 | D110: K | E110: 3A.011 | F110: Radiální ventilátor, malý, IP44, Odvodní ventilátor, Vo = 150 m3/h, Ne= 0,068kW, 230V, doběh 5 min. - nebo rovnocenný výrobek | G110: ks | H110: 1 | J110: =ROUND(I110*H110,2) -> 0 | N110: základní | P110: =O110*H110 -> 0 | Q110: 0 | R110: =Q110*H110 -> 0 | S110: 0 | T110: =S110*H110 -> 0 | AR110: 4 | AT110: K | AU110: 1 | AY110: ROZPOCET | BE110: =IF(N110="základní",J110,0) -> 0 | BF110: =IF(N110="snížená",J110,0) -> 0 | BG110: =IF(N110="zákl. přenesená",J110,0) -> 0 | BH110: =IF(N110="sníž. přenesená",J110,0) -> 0 | BI110: =IF(N110="nulová",J110,0) -> 0 | BJ110: 1 | BK110: =ROUND(I110*H110,2) -> 0 | BL110: 4 | BM110: 46
C111: 24 | D111: K | E111: 3A.012 | F111: Radiální ventilátor, malý, IP44, Odvodní ventilátor, Vo = 150 m3/h, Ne= 0,068kW, 230V, doběh 5 min. - nebo rovnocenný výrobek | G111: ks | H111: 1 | J111: =ROUND(I111*H111,2) -> 0 | N111: základní | P111: =O111*H111 -> 0 | Q111: 0 | R111: =Q111*H111 -> 0 | S111: 0 | T111: =S111*H111 -> 0 | AR111: 4 | AT111: K | AU111: 1 | AY111: ROZPOCET | BE111: =IF(N111="základní",J111,0) -> 0 | BF111: =IF(N111="snížená",J111,0) -> 0 | BG111: =IF(N111="zákl. přenesená",J111,0) -> 0 | BH111: =IF(N111="sníž. přenesená",J111,0) -> 0 | BI111: =IF(N111="nulová",J111,0) -> 0 | BJ111: 1 | BK111: =ROUND(I111*H111,2) -> 0 | BL111: 4 | BM111: 48
C112: 25 | D112: K | E112: 3A.013 | F112: Radiální ventilátor, malý, IP44, Odvodní ventilátor, Vo = 150 m3/h, Ne= 0,068kW, 230V, doběh 5 min. - nebo rovnocenný výrobek | G112: ks | H112: 1 | J112: =ROUND(I112*H112,2) -> 0 | N112: základní | P112: =O112*H112 -> 0 | Q112: 0 | R112: =Q112*H112 -> 0 | S112: 0 | T112: =S112*H112 -> 0 | AR112: 4 | AT112: K | AU112: 1 | AY112: ROZPOCET | BE112: =IF(N112="základní",J112,0) -> 0 | BF112: =IF(N112="snížená",J112,0) -> 0 | BG112: =IF(N112="zákl. přenesená",J112,0) -> 0 | BH112: =IF(N112="sníž. přenesená",J112,0) -> 0 | BI112: =IF(N112="nulová",J112,0) -> 0 | BJ112: 1 | BK112: =ROUND(I112*H112,2) -> 0 | BL112: 4 | BM112: 50
C113: 26 | D113: K | E113: 3A.014 | F113: Radiální ventilátor, malý, IP44, Odvodní ventilátor, Vo = 150 m3/h, Ne= 0,068kW, 230V, doběh 5 min. - nebo rovnocenný výrobek | G113: ks | H113: 1 | J113: =ROUND(I113*H113,2) -> 0 | N113: základní | P113: =O113*H113 -> 0 | Q113: 0 | R113: =Q113*H113 -> 0 | S113: 0 | T113: =S113*H113 -> 0 | AR113: 4 | AT113: K | AU113: 1 | AY113: ROZPOCET | BE113: =IF(N113="základní",J113,0) -> 0 | BF113: =IF(N113="snížená",J113,0) -> 0 | BG113: =IF(N113="zákl. přenesená",J113,0) -> 0 | BH113: =IF(N113="sníž. přenesená",J113,0) -> 0 | BI113: =IF(N113="nulová",J113,0) -> 0 | BJ113: 1 | BK113: =ROUND(I113*H113,2) -> 0 | BL113: 4 | BM113: 52
C114: 27 | D114: K | E114: 3A.015 | F114: Radiální ventilátor, malý, IP44, Odvodní ventilátor, Vo = 150 m3/h, Ne= 0,068kW, 230V, doběh 5 min. - nebo rovnocenný výrobek | G114: ks | H114: 1 | J114: =ROUND(I114*H114,2) -> 0 | N114: základní | P114: =O114*H114 -> 0 | Q114: 0 | R114: =Q114*H114 -> 0 | S114: 0 | T114: =S114*H114 -> 0 | AR114: 4 | AT114: K | AU114: 1 | AY114: ROZPOCET | BE114: =IF(N114="základní",J114,0) -> 0 | BF114: =IF(N114="snížená",J114,0) -> 0 | BG114: =IF(N114="zákl. přenesená",J114,0) -> 0 | BH114: =IF(N114="sníž. přenesená",J114,0) -> 0 | BI114: =IF(N114="nulová",J114,0) -> 0 | BJ114: 1 | BK114: =ROUND(I114*H114,2) -> 0 | BL114: 4 | BM114: 54
C115: 28 | D115: K | E115: 3A.016 | F115: Radiální ventilátor, malý, IP44, Odvodní ventilátor, Vo = 150 m3/h, Ne= 0,068kW, 230V, doběh 5 min. - nebo rovnocenný výrobek | G115: ks | H115: 1 | J115: =ROUND(I115*H115,2) -> 0 | N115: základní | P115: =O115*H115 -> 0 | Q115: 0 | R115: =Q115*H115 -> 0 | S115: 0 | T115: =S115*H115 -> 0 | AR115: 4 | AT115: K | AU115: 1 | AY115: ROZPOCET | BE115: =IF(N115="základní",J115,0) -> 0 | BF115: =IF(N115="snížená",J115,0) -> 0 | BG115: =IF(N115="zákl. přenesená",J115,0) -> 0 | BH115: =IF(N115="sníž. přenesená",J115,0) -> 0 | BI115: =IF(N115="nulová",J115,0) -> 0 | BJ115: 1 | BK115: =ROUND(I115*H115,2) -> 0 | BL115: 4 | BM115: 56
C116: 29 | D116: K | E116: 3A.017 | F116: Radiální ventilátor, malý, IP44, Odvodní ventilátor, Vo = 150 m3/h, Ne= 0,068kW, 230V, doběh 5 min. - nebo rovnocenný výrobek | G116: ks | H116: 1 | J116: =ROUND(I116*H116,2) -> 0 | N116: základní | P116: =O116*H116 -> 0 | Q116: 0 | R116: =Q116*H116 -> 0 | S116: 0 | T116: =S116*H116 -> 0 | AR116: 4 | AT116: K | AU116: 1 | AY116: ROZPOCET | BE116: =IF(N116="základní",J116,0) -> 0 | BF116: =IF(N116="snížená",J116,0) -> 0 | BG116: =IF(N116="zákl. přenesená",J116,0) -> 0 | BH116: =IF(N116="sníž. přenesená",J116,0) -> 0 | BI116: =IF(N116="nulová",J116,0) -> 0 | BJ116: 1 | BK116: =ROUND(I116*H116,2) -> 0 | BL116: 4 | BM116: 58
C117: 30 | D117: K | E117: 3A.018 | F117: Radiální ventilátor, malý, IP44, Odvodní ventilátor, Vo = 150 m3/h, Ne= 0,068kW, 230V, doběh 5 min. - nebo rovnocenný výrobek | G117: ks | H117: 1 | J117: =ROUND(I117*H117,2) -> 0 | N117: základní | P117: =O117*H117 -> 0 | Q117: 0 | R117: =Q117*H117 -> 0 | S117: 0 | T117: =S117*H117 -> 0 | AR117: 4 | AT117: K | AU117: 1 | AY117: ROZPOCET | BE117: =IF(N117="základní",J117,0) -> 0 | BF117: =IF(N117="snížená",J117,0) -> 0 | BG117: =IF(N117="zákl. přenesená",J117,0) -> 0 | BH117: =IF(N117="sníž. přenesená",J117,0) -> 0 | BI117: =IF(N117="nulová",J117,0) -> 0 | BJ117: 1 | BK117: =ROUND(I117*H117,2) -> 0 | BL117: 4 | BM117: 60
C118: 31 | D118: K | E118: 3A.020 | F118: Radiální ventilátor, malý, IP44, Odvodní ventilátor, Vo = 150 m3/h, Ne= 0,068kW, 230V, doběh 5 min. - nebo rovnocenný výrobek | G118: ks | H118: 1 | J118: =ROUND(I118*H118,2) -> 0 | N118: základní | P118: =O118*H118 -> 0 | Q118: 0 | R118: =Q118*H118 -> 0 | S118: 0 | T118: =S118*H118 -> 0 | AR118: 4 | AT118: K | AU118: 1 | AY118: ROZPOCET | BE118: =IF(N118="základní",J118,0) -> 0 | BF118: =IF(N118="snížená",J118,0) -> 0 | BG118: =IF(N118="zákl. přenesená",J118,0) -> 0 | BH118: =IF(N118="sníž. přenesená",J118,0) -> 0 | BI118: =IF(N118="nulová",J118,0) -> 0 | BJ118: 1 | BK118: =ROUND(I118*H118,2) -> 0 | BL118: 4 | BM118: 62
C119: 32 | D119: K | E119: 3A.021 | F119: Radiální ventilátor, malý, IP44, Odvodní ventilátor, Vo = 150 m3/h, Ne= 0,068kW, 230V, doběh 5 min. - nebo rovnocenný výrobek | G119: ks | H119: 1 | J119: =ROUND(I119*H119,2) -> 0 | N119: základní | P119: =O119*H119 -> 0 | Q119: 0 | R119: =Q119*H119 -> 0 | S119: 0 | T119: =S119*H119 -> 0 | AR119: 4 | AT119: K | AU119: 1 | AY119: ROZPOCET | BE119: =IF(N119="základní",J119,0) -> 0 | BF119: =IF(N119="snížená",J119,0) -> 0 | BG119: =IF(N119="zákl. přenesená",J119,0) -> 0 | BH119: =IF(N119="sníž. přenesená",J119,0) -> 0 | BI119: =IF(N119="nulová",J119,0) -> 0 | BJ119: 1 | BK119: =ROUND(I119*H119,2) -> 0 | BL119: 4 | BM119: 64
... C222: 135 | D222: K | E222: 3A.956.3 | F222: Tvarovky potrubí, materiál pozinkovaný plech, Vinuté potrubí SPIRO, d=160 | G222: bm | H222: 13.61 | J222: =ROUND(I222*H222,2) -> 0 | N222: základní | P222: =O222*H222 -> 0 | Q222: 0 | R222: =Q222*H222 -> 0 | S222: 0 | T222: =S222*H222 -> 0 | AR222: 4 | AT222: K | AU222: 1 | AY222: ROZPOCET | BE222: =IF(N222="základní",J222,0) -> 0 | BF222: =IF(N222="snížená",J222,0) -> 0 | BG222: =IF(N222="zákl. přenesená",J222,0) -> 0 | BH222: =IF(N222="sníž. přenesená",J222,0) -> 0 | BI222: =IF(N222="nulová",J222,0) -> 0 | BJ222: 1 | BK222: =ROUND(I222*H222,2) -> 0 | BL222: 4 | BM222: 270
D223: D | E223: Zař. č. 5 - Zař. č. | F223: Zař. č. 5 - Zař. č. | J223: =BK223 -> 0 | P223: =SUM(P224:P233) -> 0 | R223: =SUM(R224:R233) -> 0 | T223: =SUM(T224:T233) -> 0 | AR223: 1 | AT223: D | AU223: 0 | AY223: ROZPOCET | BK223: =SUM(BK224:BK233) -> 0
C224: 136 | D224: K | E224: 5.006 | F224: Radiální ventilátor do čtyřhranného potrubí IP55, Přívodní ventilátor, Vp = 6650 m3/h, Ne=8,36kW, 400V, 14,6A - nebo rovnocenný výrobek | G224: ks | H224: 1 | J224: =ROUND(I224*H224,2) -> 0 | N224: základní | P224: =O224*H224 -> 0 | Q224: 0 | R224: =Q224*H224 -> 0 | S224: 0 | T224: =S224*H224 -> 0 | AR224: 4 | AT224: K | AU224: 1 | AY224: ROZPOCET | BE224: =IF(N224="základní",J224,0) -> 0 | BF224: =IF(N224="snížená",J224,0) -> 0 | BG224: =IF(N224="zákl. přenesená",J224,0) -> 0 | BH224: =IF(N224="sníž. přenesená",J224,0) -> 0 | BI224: =IF(N224="nulová",J224,0) -> 0 | BJ224: 1 | BK224: =ROUND(I224*H224,2) -> 0 | BL224: 4 | BM224: 272
C225: 137 | D225: K | E225: 5.007 | F225: Radiální ventilátor do čtyřhranného potrubí IP55, Přívodní ventilátor, Vp = 6650 m3/h, Ne=8,36kW, 400V, 14,6A - nebo rovnocenný výrobek | G225: ks | H225: 1 | J225: =ROUND(I225*H225,2) -> 0 | N225: základní | P225: =O225*H225 -> 0 | Q225: 0 | R225: =Q225*H225 -> 0 | S225: 0 | T225: =S225*H225 -> 0 | AR225: 4 | AT225: K | AU225: 1 | AY225: ROZPOCET | BE225: =IF(N225="základní",J225,0) -> 0 | BF225: =IF(N225="snížená",J225,0) -> 0 | BG225: =IF(N225="zákl. přenesená",J225,0) -> 0 | BH225: =IF(N225="sníž. přenesená",J225,0) -> 0 | BI225: =IF(N225="nulová",J225,0) -> 0 | BJ225: 1 | BK225: =ROUND(I225*H225,2) -> 0 | BL225: 4 | BM225: 274
C226: 138 | D226: K | E226: 5.012 | F226: Pružná vložka, 1000x500 | G226: ks | H226: 4 | J226: =ROUND(I226*H226,2) -> 0 | N226: základní | P226: =O226*H226 -> 0 | Q226: 0 | R226: =Q226*H226 -> 0 | S226: 0 | T226: =S226*H226 -> 0 | AR226: 4 | AT226: K | AU226: 1 | AY226: ROZPOCET | BE226: =IF(N226="základní",J226,0) -> 0 | BF226: =IF(N226="snížená",J226,0) -> 0 | BG226: =IF(N226="zákl. přenesená",J226,0) -> 0 | BH226: =IF(N226="sníž. přenesená",J226,0) -> 0 | BI226: =IF(N226="nulová",J226,0) -> 0 | BJ226: 1 | BK226: =ROUND(I226*H226,2) -> 0 | BL226: 4 | BM226: 276
C227: 139 | D227: K | E227: 5.201 | F227: Regulační klapka, 1000x500, ovládání pomocí servopohonu 230V | G227: ks | H227: 1 | J227: =ROUND(I227*H227,2) -> 0 | N227: základní | P227: =O227*H227 -> 0 | Q227: 0 | R227: =Q227*H227 -> 0 | S227: 0 | T227: =S227*H227 -> 0 | AR227: 4 | AT227: K | AU227: 1 | AY227: ROZPOCET | BE227: =IF(N227="základní",J227,0) -> 0 | BF227: =IF(N227="snížená",J227,0) -> 0 | BG227: =IF(N227="zákl. přenesená",J227,0) -> 0 | BH227: =IF(N227="sníž. přenesená",J227,0) -> 0 | BI227: =IF(N227="nulová",J227,0) -> 0 | BJ227: 1 | BK227: =ROUND(I227*H227,2) -> 0 | BL227: 4 | BM227: 278
C228: 140 | D228: K | E228: 5.203 | F228: Regulační klapka, 1000x500, ovládání pomocí servopohonu 230V | G228: ks | H228: 1 | J228: =ROUND(I228*H228,2) -> 0 | N228: základní | P228: =O228*H228 -> 0 | Q228: 0 | R228: =Q228*H228 -> 0 | S228: 0 | T228: =S228*H228 -> 0 | AR228: 4 | AT228: K | AU228: 1 | AY228: ROZPOCET | BE228: =IF(N228="základní",J228,0) -> 0 | BF228: =IF(N228="snížená",J228,0) -> 0 | BG228: =IF(N228="zákl. přenesená",J228,0) -> 0 | BH228: =IF(N228="sníž. přenesená",J228,0) -> 0 | BI228: =IF(N228="nulová",J228,0) -> 0 | BJ228: 1 | BK228: =ROUND(I228*H228,2) -> 0 | BL228: 4 | BM228: 280
C229: 141 | D229: K | E229: 5.400 | F229: Mřížka, 900x900 | G229: ks | H229: 2 | J229: =ROUND(I229*H229,2) -> 0 | N229: základní | P229: =O229*H229 -> 0 | Q229: 0 | R229: =Q229*H229 -> 0 | S229: 0 | T229: =S229*H229 -> 0 | AR229: 4 | AT229: K | AU229: 1 | AY229: ROZPOCET | BE229: =IF(N229="základní",J229,0) -> 0 | BF229: =IF(N229="snížená",J229,0) -> 0 | BG229: =IF(N229="zákl. přenesená",J229,0) -> 0 | BH229: =IF(N229="sníž. přenesená",J229,0) -> 0 | BI229: =IF(N229="nulová",J229,0) -> 0 | BJ229: 1 | BK229: =ROUND(I229*H229,2) -> 0 | BL229: 4 | BM229: 282
C230: 142 | D230: K | E230: 5.405 | F230: Protidešťová žaluzie, 1400x400 | G230: ks | H230: 1 | J230: =ROUND(I230*H230,2) -> 0 | N230: základní | P230: =O230*H230 -> 0 | Q230: 0 | R230: =Q230*H230 -> 0 | S230: 0 | T230: =S230*H230 -> 0 | AR230: 4 | AT230: K | AU230: 1 | AY230: ROZPOCET | BE230: =IF(N230="základní",J230,0) -> 0 | BF230: =IF(N230="snížená",J230,0) -> 0 | BG230: =IF(N230="zákl. přenesená",J230,0) -> 0 | BH230: =IF(N230="sníž. přenesená",J230,0) -> 0 | BI230: =IF(N230="nulová",J230,0) -> 0 | BJ230: 1 | BK230: =ROUND(I230*H230,2) -> 0 | BL230: 4 | BM230: 284
C231: 143 | D231: K | E231: 5.800 | F231: Požární izolace 90 min, odolnost 90 min | G231: m2 | H231: 183.21 | J231: =ROUND(I231*H231,2) -> 0 | N231: základní | P231: =O231*H231 -> 0 | Q231: 0 | R231: =Q231*H231 -> 0 | S231: 0 | T231: =S231*H231 -> 0 | AR231: 4 | AT231: K | AU231: 1 | AY231: ROZPOCET | BE231: =IF(N231="základní",J231,0) -> 0 | BF231: =IF(N231="snížená",J231,0) -> 0 | BG231: =IF(N231="zákl. přenesená",J231,0) -> 0 | BH231: =IF(N231="sníž. přenesená",J231,0) -> 0 | BI231: =IF(N231="nulová",J231,0) -> 0 | BJ231: 1 | BK231: =ROUND(I231*H231,2) -> 0 | BL231: 4 | BM231: 286
C232: 144 | D232: K | E232: 5.950 | F232: Trouby rovné, materiál pozinkovaný plech, Čtyřhranné potrubí skupiny I., se stranami nad 250 mm | G232: m2 | H232: 196.36 | J232: =ROUND(I232*H232,2) -> 0 | N232: základní | P232: =O232*H232 -> 0 | Q232: 0 | R232: =Q232*H232 -> 0 | S232: 0 | T232: =S232*H232 -> 0 | AR232: 4 | AT232: K | AU232: 1 | AY232: ROZPOCET | BE232: =IF(N232="základní",J232,0) -> 0 | BF232: =IF(N232="snížená",J232,0) -> 0 | BG232: =IF(N232="zákl. přenesená",J232,0) -> 0 | BH232: =IF(N232="sníž. přenesená",J232,0) -> 0 | BI232: =IF(N232="nulová",J232,0) -> 0 | BJ232: 1 | BK232: =ROUND(I232*H232,2) -> 0 | BL232: 4 | BM232: 288
C233: 145 | D233: K | E233: 5.951 | F233: Tvarovky potrubí, materiál pozinkovaný plech, Čtyřhranné potrubí skupiny I., se stranami nad 250 mm, tvarovky | G233: m2 | H233: 76.75 | J233: =ROUND(I233*H233,2) -> 0 | N233: základní | P233: =O233*H233 -> 0 | Q233: 0 | R233: =Q233*H233 -> 0 | S233: 0 | T233: =S233*H233 -> 0 | AR233: 4 | AT233: K | AU233: 1 | AY233: ROZPOCET | BE233: =IF(N233="základní",J233,0) -> 0 | BF233: =IF(N233="snížená",J233,0) -> 0 | BG233: =IF(N233="zákl. přenesená",J233,0) -> 0 | BH233: =IF(N233="sníž. přenesená",J233,0) -> 0 | BI233: =IF(N233="nulová",J233,0) -> 0 | BJ233: 1 | BK233: =ROUND(I233*H233,2) -> 0 | BL233: 4 | BM233: 290
D234: D | E234: Zař. č. 55 - Doplňko | F234: Zař. č. 55 - Doplňko | J234: =BK234 -> 0 | P234: =SUM(P235:P243) -> 0 | R234: =SUM(R235:R243) -> 0 | T234: =SUM(T235:T243) -> 0 | AR234: 1 | AT234: D | AU234: 0 | AY234: ROZPOCET | BK234: =SUM(BK235:BK243) -> 0
C235: 146 | D235: K | E235: 55.10 | F235: Zkoušky a protokoly | G235: kpl | H235: 1 | J235: =ROUND(I235*H235,2) -> 0 | N235: základní | P235: =O235*H235 -> 0 | Q235: 0 | R235: =Q235*H235 -> 0 | S235: 0 | T235: =S235*H235 -> 0 | AR235: 4 | AT235: K | AU235: 1 | AY235: ROZPOCET | BE235: =IF(N235="základní",J235,0) -> 0 | BF235: =IF(N235="snížená",J235,0) -> 0 | BG235: =IF(N235="zákl. přenesená",J235,0) -> 0 | BH235: =IF(N235="sníž. přenesená",J235,0) -> 0 | BI235: =IF(N235="nulová",J235,0) -> 0 | BJ235: 1 | BK235: =ROUND(I235*H235,2) -> 0 | BL235: 4 | BM235: 292
...

Sheet D.1.8 - Elektroinstalace-...
L2: >> skryté sloupce << | AT2: {4a7d20d7-0934-4896-ba63-89c39f4cf540}
AT3: 1
D4: KRYCÍ LIST SOUPISU PRACÍ | M4: v --- níže se nacházejí doplnkové a pomocné údaje k sestavám --- v | AT4: False
D6: Stavba:
E7: ='Rekapitulace stavby'!K6 -> Přestavba a rozšíření domova pro seniory Jiráskova č.p.193 Broumov - CHRÁNĚNÉ BYTY
D8: Objekt:
E9: D.1.8 - Elektroinstalace-silnoproud
D11: KSO: | I11: CC-CZ:
D12: Místo: | I12: Datum: | J12: ='Rekapitulace stavby'!AN8 -> 4. 3. 2022
D14: Zadavatel: | I14: IČ: | J14: =IF('Rekapitulace stavby'!AN10="","",'Rekapitulace stavby'!AN10)
E15: =IF('Rekapitulace stavby'!E11="","",'Rekapitulace stavby'!E11) -> Město Broumov, třída Masarykova 239 | I15: DIČ: | J15: =IF('Rekapitulace stavby'!AN11="","",'Rekapitulace stavby'!AN11)
D17: Uchazeč: | I17: IČ: | J17: ='Rekapitulace stavby'!AN13 -> Vyplň údaj
E18: ='Rekapitulace stavby'!E14 -> Vyplň údaj | I18: DIČ: | J18: ='Rekapitulace stavby'!AN14 -> Vyplň údaj
D20: Projektant: | I20: IČ: | J20: =IF('Rekapitulace stavby'!AN16="","",'Rekapitulace stavby'!AN16)
E21: =IF('Rekapitulace stavby'!E17="","",'Rekapitulace stavby'!E17) | I21: DIČ: | J21: =IF('Rekapitulace stavby'!AN17="","",'Rekapitulace stavby'!AN17)
D23: Zpracovatel: | I23: IČ: | J23: =IF('Rekapitulace stavby'!AN19="","",'Rekapitulace stavby'!AN19)
E24: =IF('Rekapitulace stavby'!E20="","",'Rekapitulace stavby'!E20) | I24: DIČ: | J24: =IF('Rekapitulace stavby'!AN20="","",'Rekapitulace stavby'!AN20)
D26: Poznámka:
D30: Cena bez DPH | J30: =ROUND(J87, 2) -> 0
F32: Základ daně | I32: Sazba daně | J32: Výše daně
D33: DPH | E33: základní | F33: 0 | I33: 0.21 | J33: =ROUND(((SUM(BE87:BE270))*I33), 2) -> 0
E34: snížená | F34: 0 | I34: 0.15 | J34: =ROUND(((SUM(BF87:BF270))*I34), 2) -> 0
E35: zákl. přenesená | F35: 0 | I35: 0.21 | J35: =0 -> 0
E36: sníž. přenesená | F36: 0 | I36: 0.15 | J36: =0 -> 0
E37: nulová | F37: 0 | I37: 0 | J37: =0 -> 0
D39: Cena s DPH | G39: v | H39: CZK | J39: =SUM(J30:J37) -> 0
C45: REKAPITULACE ČLENĚNÍ SOUPISU PRACÍ
C47: Stavba:
E48: =E7 -> Přestavba a rozšíření domova pro seniory Jiráskova č.p.193 Broumov - CHRÁNĚNÉ BYTY
C49: Objekt:
E50: =E9 -> D.1.8 - Elektroinstalace-silnoproud
C52: Místo: | I52: Datum: | J52: =IF(J12="","",J12) -> 4. 3. 2022
C54: Zadavatel: | F54: Město Broumov, třída Masarykova 239 | I54: Projektant: | J54: =E21
C55: Uchazeč: | F55: Vyplň údaj | I55: Zpracovatel: | J55: =E24
C57: Kód dílu - Popis | J57: Cena celkem [CZK]
C59: Náklady stavby celkem | J59: =J87 -> 0 | AU59: -1
D60: Rozváděče - Rozváděče | J60: =J88 -> 0
D61: D1 - Kabely včetně prořezu CYKY(Lo), uložení pod omítkou, v dutinách stavebních konstrukcí, v ochranných | J61: =J103 -> 0
D62: D2 - Kabely dle vyhlášky 23/2008 Sb. vč. její novelizace 268/2011 Sb. kabely a kabelové kosntrukce s funk | J62: =J146 -> 0
D63: D3 - Kabelové konstrukce | J63: =J153 -> 0
D64: D4 - Zásuvky, spínače - koncové prvky elektro v design dle architekta - vybrané vývody soustředěny ve | J64: =J164 -> 0
D65: D5 - Centrální nouzový bateriový systém | J65: =J205 -> 0
D66: D6 - Svítidla dle požadavku architekta, přesný typ, barevné provedení bude upřesněn architektem viz. vizu | J66: =J222 -> 0
D67: Ostatní - Ostatní | J67: =J255 -> 0
C74: SOUPIS PRACÍ
C76: Stavba:
E77: =E7 -> Přestavba a rozšíření domova pro seniory Jiráskova č.p.193 Broumov - CHRÁNĚNÉ BYTY
C78: Objekt:
E79: =E9 -> D.1.8 - Elektroinstalace-silnoproud
C81: Místo: | I81: Datum: | J81: 44651
C83: Zadavatel: | F83: Město Broumov, třída Masarykova 239 | I83: Projektant: | J83: =E21
C84: Uchazeč: | F84: Vyplň údaj | I84: Zpracovatel: | J84: =E24
C86: PČ | D86: Typ | E86: Kód | F86: Popis | G86: MJ | H86: Množství | I86: J.cena [CZK] | J86: Cena celkem [CZK] | K86: Cenová soustava | N86: DPH | O86: J. Nh [h] | P86: Nh celkem [h] | Q86: J. hmotnost [t] | R86: Hmotnost celkem [t] | S86: J. suť [t] | T86: Suť Celkem [t]
C87: Náklady soupisu celkem | J87: =BK87 -> 0 | P87: =P88+P103+P146+P153+P164+P205+P222+P255 -> 0 | R87: =R88+R103+R146+R153+R164+R205+R222+R255 -> 0 | T87: =T88+T103+T146+T153+T164+T205+T222+T255 -> 0 | AT87: D | AU87: -1 | BK87: =BK88+BK103+BK146+BK153+BK164+BK205+BK222+BK255 -> 0
D88: D | E88: Rozváděče | F88: Rozváděče | J88: =BK88 -> 0 | P88: =SUM(P89:P101) -> 0 | R88: =SUM(R89:R101) -> 0 | T88: =SUM(T89:T101) -> 0 | AR88: 1 | AT88: D | AU88: 0 | AY88: ROZPOCET | BK88: =SUM(BK89:BK101) -> 0
C89: 1 | D89: K | E89: SIL-1 | F89: Hlavní skříňový rozváděče objektu RH-B, náplň rozváděče viz.výkres 22 | G89: ks | H89: 1 | J89: =ROUND(I89*H89,2) -> 0 | N89: snížená | P89: =O89*H89 -> 0 | Q89: 0 | R89: =Q89*H89 -> 0 | S89: 0 | T89: =S89*H89 -> 0 | AR89: 4 | AT89: K | AU89: 1 | AY89: ROZPOCET | BE89: =IF(N89="základní",J89,0) -> 0 | BF89: =IF(N89="snížená",J89,0) -> 0 | BG89: =IF(N89="zákl. přenesená",J89,0) -> 0 | BH89: =IF(N89="sníž. přenesená",J89,0) -> 0 | BI89: =IF(N89="nulová",J89,0) -> 0 | BJ89: 2 | BK89: =ROUND(I89*H89,2) -> 0 | BL89: 4 | BM89: 2
D90: VV | F90: Položka obsahuje dodávku rozvaděče, montáž, manipulaci, uskladnění, dopravu rozvaděče, připojení a zkoušky. Viz. příloha číslo 22
C91: 2 | D91: K | E91: SIL-2 | F91: Průmyslový nástěnný rozváděč dílny RD-B , náplň a provedení rozváděče viz. výkres 24 | G91: ks | H91: 1 | J91: =ROUND(I91*H91,2) -> 0 | N91: snížená | P91: =O91*H91 -> 0 | Q91: 0 | R91: =Q91*H91 -> 0 | S91: 0 | T91: =S91*H91 -> 0 | AR91: 4 | AT91: K | AU91: 1 | AY91: ROZPOCET | BE91: =IF(N91="základní",J91,0) -> 0 | BF91: =IF(N91="snížená",J91,0) -> 0 | BG91: =IF(N91="zákl. přenesená",J91,0) -> 0 | BH91: =IF(N91="sníž. přenesená",J91,0) -> 0 | BI91: =IF(N91="nulová",J91,0) -> 0 | BJ91: 2 | BK91: =ROUND(I91*H91,2) -> 0 | BL91: 4 | BM91: 4
D92: VV | F92: Položka obsahuje dodávku rozvaděče, montáž, manipulaci, uskladnění, dopravu rozvaděče, připojení a zkoušky. Viz. příloha číslo 24
C93: 3 | D93: K | E93: SIL-3 | F93: Průmyslový nástěnný rozváděč pro technologii vytápění RT-B-DA , náplň a provedení rozváděče viz. výkres 25 | G93: ks | H93: 1 | J93: =ROUND(I93*H93,2) -> 0 | N93: snížená | P93: =O93*H93 -> 0 | Q93: 0 | R93: =Q93*H93 -> 0 | S93: 0 | T93: =S93*H93 -> 0 | AR93: 4 | AT93: K | AU93: 1 | AY93: ROZPOCET | BE93: =IF(N93="základní",J93,0) -> 0 | BF93: =IF(N93="snížená",J93,0) -> 0 | BG93: =IF(N93="zákl. přenesená",J93,0) -> 0 | BH93: =IF(N93="sníž. přenesená",J93,0) -> 0 | BI93: =IF(N93="nulová",J93,0) -> 0 | BJ93: 2 | BK93: =ROUND(I93*H93,2) -> 0 | BL93: 4 | BM93: 6
D94: VV | F94: Položka obsahuje dodávku rozvaděče, montáž, manipulaci, uskladnění, dopravu rozvaděče, připojení a zkoušky. Viz. příloha číslo 25
C95: 4 | D95: K | E95: SIL-4 | F95: Průmyslový nástěnný rozváděč pro technologii prádelny RP-B náplň rozváděče viz. výkres 26 | G95: ks | H95: 1 | J95: =ROUND(I95*H95,2) -> 0 | N95: snížená | P95: =O95*H95 -> 0 | Q95: 0 | R95: =Q95*H95 -> 0 | S95: 0 | T95: =S95*H95 -> 0 | AR95: 4 | AT95: K | AU95: 1 | AY95: ROZPOCET | BE95: =IF(N95="základní",J95,0) -> 0 | BF95: =IF(N95="snížená",J95,0) -> 0 | BG95: =IF(N95="zákl. přenesená",J95,0) -> 0 | BH95: =IF(N95="sníž. přenesená",J95,0) -> 0 | BI95: =IF(N95="nulová",J95,0) -> 0 | BJ95: 2 | BK95: =ROUND(I95*H95,2) -> 0 | BL95: 4 | BM95: 8
D96: VV | F96: Položka obsahuje dodávku rozvaděče, montáž, manipulaci, uskladnění, dopravu rozvaděče, připojení a zkoušky. Viz. příloha číslo 26
C97: 5 | D97: K | E97: SIL-5 | F97: Podružný patrový rozváděč průmyslový, skříňový R1-B-DA náplň rozváděče viz. výkres 27 | G97: ks | H97: 1 | J97: =ROUND(I97*H97,2) -> 0 | N97: snížená | P97: =O97*H97 -> 0 | Q97: 0 | R97: =Q97*H97 -> 0 | S97: 0 | T97: =S97*H97 -> 0 | AR97: 4 | AT97: K | AU97: 1 | AY97: ROZPOCET | BE97: =IF(N97="základní",J97,0) -> 0 | BF97: =IF(N97="snížená",J97,0) -> 0 | BG97: =IF(N97="zákl. přenesená",J97,0) -> 0 | BH97: =IF(N97="sníž. přenesená",J97,0) -> 0 | BI97: =IF(N97="nulová",J97,0) -> 0 | BJ97: 2 | BK97: =ROUND(I97*H97,2) -> 0 | BL97: 4 | BM97: 10
D98: VV | F98: Položka obsahuje dodávku rozvaděče, montáž, manipulaci, uskladnění, dopravu rozvaděče, připojení a zkoušky. Viz. příloha číslo 27
C99: 6 | D99: K | E99: SIL-6 | F99: Podružný patrový rozváděč průmyslový, skříňový R2-B-DA náplň rozváděče viz. výkres 28 | G99: ks | H99: 1 | J99: =ROUND(I99*H99,2) -> 0 | N99: snížená | P99: =O99*H99 -> 0 | Q99: 0 | R99: =Q99*H99 -> 0 | S99: 0 | T99: =S99*H99 -> 0 | AR99: 4 | AT99: K | AU99: 1 | AY99: ROZPOCET | BE99: =IF(N99="základní",J99,0) -> 0 | BF99: =IF(N99="snížená",J99,0) -> 0 | BG99: =IF(N99="zákl. přenesená",J99,0) -> 0 | BH99: =IF(N99="sníž. přenesená",J99,0) -> 0 | BI99: =IF(N99="nulová",J99,0) -> 0 | BJ99: 2 | BK99: =ROUND(I99*H99,2) -> 0 | BL99: 4 | BM99: 12
D100: VV | F100: Položka obsahuje dodávku rozvaděče, montáž, manipulaci, uskladnění, dopravu rozvaděče, připojení a zkoušky. Viz. příloha číslo 28
C101: 7 | D101: K | E101: SIL-7 | F101: Hlavní ochranná přípojnice HOP | G101: ks | H101: 10 | J101: =ROUND(I101*H101,2) -> 0 | N101: snížená | P101: =O101*H101 -> 0 | Q101: 0 | R101: =Q101*H101 -> 0 | S101: 0 | T101: =S101*H101 -> 0 | AR101: 4 | AT101: K | AU101: 1 | AY101: ROZPOCET | BE101: =IF(N101="základní",J101,0) -> 0 | BF101: =IF(N101="snížená",J101,0) -> 0 | BG101: =IF(N101="zákl. přenesená",J101,0) -> 0 | BH101: =IF(N101="sníž. přenesená",J101,0) -> 0 | BI101: =IF(N101="nulová",J101,0) -> 0 | BJ101: 2 | BK101: =ROUND(I101*H101,2) -> 0 | BL101: 4 | BM101: 14
D102: VV | F102: Položka obsahuje dodávku, uskladnění, manipulaci a montáž HOP včetně příslušenství. Viz. příloha číslo 03 - 10
D103: D | E103: D1 | F103: Kabely včetně prořezu CYKY(Lo), uložení pod omítkou, v dutinách stavebních konstrukcí, v ochranných | J103: =BK103 -> 0 | P103: =SUM(P104:P144) -> 0 | R103: =SUM(R104:R144) -> 0 | T103: =SUM(T104:T144) -> 0 | AR103: 1 | AT103: D | AU103: 0 | AY103: ROZPOCET | BK103: =SUM(BK104:BK144) -> 0
C104: 8 | D104: K | E104: SIL-8 | F104: Kabel 1-CYKY 3Jx1,5mm2 | G104: m | H104: 2100 | J104: =ROUND(I104*H104,2) -> 0 | N104: snížená | P104: =O104*H104 -> 0 | Q104: 0 | R104: =Q104*H104 -> 0 | S104: 0 | T104: =S104*H104 -> 0 | AR104: 4 | AT104: K | AU104: 1 | AY104: ROZPOCET | BE104: =IF(N104="základní",J104,0) -> 0 | BF104: =IF(N104="snížená",J104,0) -> 0 | BG104: =IF(N104="zákl. přenesená",J104,0) -> 0 | BH104: =IF(N104="sníž. přenesená",J104,0) -> 0 | BI104: =IF(N104="nulová",J104,0) -> 0 | BJ104: 2 | BK104: =ROUND(I104*H104,2) -> 0 | BL104: 4 | BM104: 16
D105: VV | F105: Dodávka, manipulace a montáž kabelu, včetně dodávky drobného instalačního materiálu, včetně ukončení, kabelových štítků, apod. Dle jednotlivých vývodů v rozvaděčích a výkresové části, včetně prořezů, atd.
C106: 9 | D106: K | E106: SIL-9 | F106: Kabel 1-CYKY 3Ox1,5mm2 | G106: m | H106: 650 | J106: =ROUND(I106*H106,2) -> 0 | N106: snížená | P106: =O106*H106 -> 0 | Q106: 0 | R106: =Q106*H106 -> 0 | S106: 0 | T106: =S106*H106 -> 0 | AR106: 4 | AT106: K | AU106: 1 | AY106: ROZPOCET | BE106: =IF(N106="základní",J106,0) -> 0 | BF106: =IF(N106="snížená",J106,0) -> 0 | BG106: =IF(N106="zákl. přenesená",J106,0) -> 0 | BH106: =IF(N106="sníž. přenesená",J106,0) -> 0 | BI106: =IF(N106="nulová",J106,0) -> 0 | BJ106: 2 | BK106: =ROUND(I106*H106,2) -> 0 | BL106: 4 | BM106: 18
D107: VV | F107: Dodávka, manipulace a montáž kabelu, včetně dodávky drobného instalačního materiálu, včetně ukončení, kabelových štítků, apod. Dle jednotlivých vývodů v rozvaděčích a výkresové části, včetně prořezů, atd.
C108: 10 | D108: K | E108: SIL-10 | F108: Kabel 1-CYKY 3Jx2,5mm2 | G108: m | H108: 3600 | J108: =ROUND(I108*H108,2) -> 0 | N108: snížená | P108: =O108*H108 -> 0 | Q108: 0 | R108: =Q108*H108 -> 0 | S108: 0 | T108: =S108*H108 -> 0 | AR108: 4 | AT108: K | AU108: 1 | AY108: ROZPOCET | BE108: =IF(N108="základní",J108,0) -> 0 | BF108: =IF(N108="snížená",J108,0) -> 0 | BG108: =IF(N108="zákl. přenesená",J108,0) -> 0 | BH108: =IF(N108="sníž. přenesená",J108,0) -> 0 | BI108: =IF(N108="nulová",J108,0) -> 0 | BJ108: 2 | BK108: =ROUND(I108*H108,2) -> 0 | BL108: 4 | BM108: 20
D109: VV | F109: Dodávka, manipulace a montáž kabelu, včetně dodávky drobného instalačního materiálu, včetně ukončení, kabelových štítků, apod. Dle jednotlivých vývodů v rozvaděčích a výkresové části, včetně prořezů, atd.
C110: 11 | D110: K | E110: SIL-11 | F110: Kabel 1-CYKY 5Jx1,5mm2 | G110: m | H110: 1100 | J110: =ROUND(I110*H110,2) -> 0 | N110: snížená | P110: =O110*H110 -> 0 | Q110: 0 | R110: =Q110*H110 -> 0 | S110: 0 | T110: =S110*H110 -> 0 | AR110: 4 | AT110: K | AU110: 1 | AY110: ROZPOCET | BE110: =IF(N110="základní",J110,0) -> 0 | BF110: =IF(N110="snížená",J110,0) -> 0 | BG110: =IF(N110="zákl. přenesená",J110,0) -> 0 | BH110: =IF(N110="sníž. přenesená",J110,0) -> 0 | BI110: =IF(N110="nulová",J110,0) -> 0 | BJ110: 2 | BK110: =ROUND(I110*H110,2) -> 0 | BL110: 4 | BM110: 22
D111: VV | F111: Dodávka, manipulace a montáž kabelu, včetně dodávky drobného instalačního materiálu, včetně ukončení, kabelových štítků, apod. Dle jednotlivých vývodů v rozvaděčích a výkresové části, včetně prořezů, atd.
C112: 12 | D112: K | E112: SIL-12 | F112: Kabel 1-CYKY 5Ox1,5mm2 | G112: m | H112: 200 | J112: =ROUND(I112*H112,2) -> 0 | N112: snížená | P112: =O112*H112 -> 0 | Q112: 0 | R112: =Q112*H112 -> 0 | S112: 0 | T112: =S112*H112 -> 0 | AR112: 4 | AT112: K | AU112: 1 | AY112: ROZPOCET | BE112: =IF(N112="základní",J112,0) -> 0 | BF112: =IF(N112="snížená",J112,0) -> 0 | BG112: =IF(N112="zákl. přenesená",J112,0) -> 0 | BH112: =IF(N112="sníž. přenesená",J112,0) -> 0 | BI112: =IF(N112="nulová",J112,0) -> 0 | BJ112: 2 | BK112: =ROUND(I112*H112,2) -> 0 | BL112: 4 | BM112: 24
D113: VV | F113: Dodávka, manipulace a montáž kabelu, včetně dodávky drobného instalačního materiálu, včetně ukončení, kabelových štítků, apod. Dle jednotlivých vývodů v rozvaděčích a výkresové části, včetně prořezů, atd.
C114: 13 | D114: K | E114: SIL-13 | F114: Kabel 1-CYKY 7Jx1,5mm2 | G114: m | H114: 480 | J114: =ROUND(I114*H114,2) -> 0 | N114: snížená | P114: =O114*H114 -> 0 | Q114: 0 | R114: =Q114*H114 -> 0 | S114: 0 | T114: =S114*H114 -> 0 | AR114: 4 | AT114: K | AU114: 1 | AY114: ROZPOCET | BE114: =IF(N114="základní",J114,0) -> 0 | BF114: =IF(N114="snížená",J114,0) -> 0 | BG114: =IF(N114="zákl. přenesená",J114,0) -> 0 | BH114: =IF(N114="sníž. přenesená",J114,0) -> 0 | BI114: =IF(N114="nulová",J114,0) -> 0 | BJ114: 2 | BK114: =ROUND(I114*H114,2) -> 0 | BL114: 4 | BM114: 26
D115: VV | F115: Dodávka, manipulace a montáž kabelu, včetně dodávky drobného instalačního materiálu, včetně ukončení, kabelových štítků, apod. Dle jednotlivých vývodů v rozvaděčích a výkresové části, včetně prořezů, atd.
C116: 14 | D116: K | E116: SIL-14 | F116: Kabel 1-CYKY 5Jx2,5mm2 | G116: m | H116: 240 | J116: =ROUND(I116*H116,2) -> 0 | N116: snížená | P116: =O116*H116 -> 0 | Q116: 0 | R116: =Q116*H116 -> 0 | S116: 0 | T116: =S116*H116 -> 0 | AR116: 4 | AT116: K | AU116: 1 | AY116: ROZPOCET | BE116: =IF(N116="základní",J116,0) -> 0 | BF116: =IF(N116="snížená",J116,0) -> 0 | BG116: =IF(N116="zákl. přenesená",J116,0) -> 0 | BH116: =IF(N116="sníž. přenesená",J116,0) -> 0 | BI116: =IF(N116="nulová",J116,0) -> 0 | BJ116: 2 | BK116: =ROUND(I116*H116,2) -> 0 | BL116: 4 | BM116: 28
D117: VV | F117: Dodávka, manipulace a montáž kabelu, včetně dodávky drobného instalačního materiálu, včetně ukončení, kabelových štítků, apod. Dle jednotlivých vývodů v rozvaděčích a výkresové části, včetně prořezů, atd.
C118: 15 | D118: K | E118: SIL-15 | F118: Kabel 1-CYKY 5Jx6mm2 | G118: m | H118: 140 | J118: =ROUND(I118*H118,2) -> 0 | N118: snížená | P118: =O118*H118 -> 0 | Q118: 0 | R118: =Q118*H118 -> 0 | S118: 0 | T118: =S118*H118 -> 0 | AR118: 4 | AT118: K | AU118: 1 | AY118: ROZPOCET | BE118: =IF(N118="základní",J118,0) -> 0 | BF118: =IF(N118="snížená",J118,0) -> 0 | BG118: =IF(N118="zákl. přenesená",J118,0) -> 0 | BH118: =IF(N118="sníž. přenesená",J118,0) -> 0 | BI118: =IF(N118="nulová",J118,0) -> 0 | BJ118: 2 | BK118: =ROUND(I118*H118,2) -> 0 | BL118: 4 | BM118: 30
D119: VV | F119: Dodávka, manipulace a montáž kabelu, včetně dodávky drobného instalačního materiálu, včetně ukončení, kabelových štítků, apod. Dle jednotlivých vývodů v rozvaděčích a výkresové části, včetně prořezů, atd.
C120: 16 | D120: K | E120: SIL-16 | F120: Kabel 1-CYKY 5Jx4mm2 | G120: m | H120: 80 | J120: =ROUND(I120*H120,2) -> 0 | N120: snížená | P120: =O120*H120 -> 0 | Q120: 0 | R120: =Q120*H120 -> 0 | S120: 0 | T120: =S120*H120 -> 0 | AR120: 4 | AT120: K | AU120: 1 | AY120: ROZPOCET | BE120: =IF(N120="základní",J120,0) -> 0 | BF120: =IF(N120="snížená",J120,0) -> 0 | BG120: =IF(N120="zákl. přenesená",J120,0) -> 0 | BH120: =IF(N120="sníž. přenesená",J120,0) -> 0 | BI120: =IF(N120="nulová",J120,0) -> 0 | BJ120: 2 | BK120: =ROUND(I120*H120,2) -> 0 | BL120: 4 | BM120: 32
D121: VV | F121: Dodávka, manipulace a montáž kabelu, včetně dodávky drobného instalačního materiálu, včetně ukončení, kabelových štítků, apod. Dle jednotlivých vývodů v rozvaděčích a výkresové části, včetně prořezů, atd.
C122: 17 | D122: K | E122: SIL-17 | F122: Kabel 1-CYKY 5Jx10mm2 | G122: m | H122: 180 | J122: =ROUND(I122*H122,2) -> 0 | N122: snížená | P122: =O122*H122 -> 0 | Q122: 0 | R122: =Q122*H122 -> 0 | S122: 0 | T122: =S122*H122 -> 0 | AR122: 4 | AT122: K | AU122: 1 | AY122: ROZPOCET | BE122: =IF(N122="základní",J122,0) -> 0 | BF122: =IF(N122="snížená",J122,0) -> 0 | BG122: =IF(N122="zákl. přenesená",J122,0) -> 0 | BH122: =IF(N122="sníž. přenesená",J122,0) -> 0 | BI122: =IF(N122="nulová",J122,0) -> 0 | BJ122: 2 | BK122: =ROUND(I122*H122,2) -> 0 | BL122: 4 | BM122: 34
D123: VV | F123: Dodávka, manipulace a montáž kabelu, včetně dodávky drobného instalačního materiálu, včetně ukončení, kabelových štítků, apod. Dle jednotlivých vývodů v rozvaděčích a výkresové části, včetně prořezů, atd.
C124: 18 | D124: K | E124: SIL-18 | F124: Kabel 1-CYKY 5Jx35mm2 | G124: m | H124: 30 | J124: =ROUND(I124*H124,2) -> 0 | N124: snížená | P124: =O124*H124 -> 0 | Q124: 0 | R124: =Q124*H124 -> 0 | S124: 0 | T124: =S124*H124 -> 0 | AR124: 4 | AT124: K | AU124: 1 | AY124: ROZPOCET | BE124: =IF(N124="základní",J124,0) -> 0 | BF124: =IF(N124="snížená",J124,0) -> 0 | BG124: =IF(N124="zákl. přenesená",J124,0) -> 0 | BH124: =IF(N124="sníž. přenesená",J124,0) -> 0 | BI124: =IF(N124="nulová",J124,0) -> 0 | BJ124: 2 | BK124: =ROUND(I124*H124,2) -> 0 | BL124: 4 | BM124: 36
D125: VV | F125: Dodávka, manipulace a montáž kabelu, včetně dodávky drobného instalačního materiálu, včetně ukončení, kabelových štítků, apod. Dle jednotlivých vývodů v rozvaděčích a výkresové části, včetně prořezů, atd.
C126: 19 | D126: K | E126: SIL-19 | F126: Kabel 1-CYKY 5Jx70mm2 | G126: m | H126: 80 | J126: =ROUND(I126*H126,2) -> 0 | N126: snížená | P126: =O126*H126 -> 0 | Q126: 0 | R126: =Q126*H126 -> 0 | S126: 0 | T126: =S126*H126 -> 0 | AR126: 4 | AT126: K | AU126: 1 | AY126: ROZPOCET | BE126: =IF(N126="základní",J126,0) -> 0 | BF126: =IF(N126="snížená",J126,0) -> 0 | BG126: =IF(N126="zákl. přenesená",J126,0) -> 0 | BH126: =IF(N126="sníž. přenesená",J126,0) -> 0 | BI126: =IF(N126="nulová",J126,0) -> 0 | BJ126: 2 | BK126: =ROUND(I126*H126,2) -> 0 | BL126: 4 | BM126: 38
D127: VV | F127: Dodávka, manipulace a montáž kabelu, včetně dodávky drobného instalačního materiálu, včetně ukončení, kabelových štítků, apod. Dle jednotlivých vývodů v rozvaděčích a výkresové části, včetně prořezů, atd.
C128: 20 | D128: K | E128: SIL-20 | F128: Kabel 1-CYKY 3Jx4mm2 | G128: m | H128: 160 | J128: =ROUND(I128*H128,2) -> 0 | N128: snížená | P128: =O128*H128 -> 0 | Q128: 0 | R128: =Q128*H128 -> 0 | S128: 0 | T128: =S128*H128 -> 0 | AR128: 4 | AT128: K | AU128: 1 | AY128: ROZPOCET | BE128: =IF(N128="základní",J128,0) -> 0 | BF128: =IF(N128="snížená",J128,0) -> 0 | BG128: =IF(N128="zákl. přenesená",J128,0) -> 0 | BH128: =IF(N128="sníž. přenesená",J128,0) -> 0 | BI128: =IF(N128="nulová",J128,0) -> 0 | BJ128: 2 | BK128: =ROUND(I128*H128,2) -> 0 | BL128: 4 | BM128: 40
D129: VV | F129: Dodávka, manipulace a montáž kabelu, včetně dodávky drobného instalačního materiálu, včetně ukončení, kabelových štítků, apod. Dle jednotlivých vývodů v rozvaděčích a výkresové části, včetně prořezů, atd.
C130: 21 | D130: K | E130: SIL-21 | F130: Kabel JYTY 5x1,5 | G130: m | H130: 250 | J130: =ROUND(I130*H130,2) -> 0 | N130: snížená | P130: =O130*H130 -> 0 | Q130: 0 | R130: =Q130*H130 -> 0 | S130: 0 | T130: =S130*H130 -> 0 | AR130: 4 | AT130: K | AU130: 1 | AY130: ROZPOCET | BE130: =IF(N130="základní",J130,0) -> 0 | BF130: =IF(N130="snížená",J130,0) -> 0 | BG130: =IF(N130="zákl. přenesená",J130,0) -> 0 | BH130: =IF(N130="sníž. přenesená",J130,0) -> 0 | BI130: =IF(N130="nulová",J130,0) -> 0 | BJ130: 2 | BK130: =ROUND(I130*H130,2) -> 0 | BL130: 4 | BM130: 42
D131: VV | F131: Dodávka, manipulace a montáž kabelu, včetně dodávky drobného instalačního materiálu, včetně ukončení, kabelových štítků, apod. Dle jednotlivých vývodů v rozvaděčích a výkresové části, včetně prořezů, atd.
C132: 22 | D132: K | E132: SIL-22 | F132: Kabel 1-CGTG 5x2,5 | G132: m | H132: 10 | J132: =ROUND(I132*H132,2) -> 0 | N132: snížená | P132: =O132*H132 -> 0 | Q132: 0 | R132: =Q132*H132 -> 0 | S132: 0 | T132: =S132*H132 -> 0 | AR132: 4 | AT132: K | AU132: 1 | AY132: ROZPOCET | BE132: =IF(N132="základní",J132,0) -> 0 | BF132: =IF(N132="snížená",J132,0) -> 0 | BG132: =IF(N132="zákl. přenesená",J132,0) -> 0 | BH132: =IF(N132="sníž. přenesená",J132,0) -> 0 | BI132: =IF(N132="nulová",J132,0) -> 0 | BJ132: 2 | BK132: =ROUND(I132*H132,2) -> 0 | BL132: 4 | BM132: 44
D133: VV | F133: Dodávka, manipulace a montáž kabelu, včetně dodávky drobného instalačního materiálu, včetně ukončení, kabelových štítků, apod. Dle jednotlivých vývodů v rozvaděčích a výkresové části, včetně prořezů, atd.
...

Sheet D.1.9 - Elektroinstalace-...
L2: >> skryté sloupce << | AT2: {4b315629-10cd-4484-affa-f4f815fd400f}
AT3: 1
D4: KRYCÍ LIST SOUPISU PRACÍ | M4: v --- níže se nacházejí doplnkové a pomocné údaje k sestavám --- v | AT4: False
D6: Stavba:
E7: ='Rekapitulace stavby'!K6 -> Přestavba a rozšíření domova pro seniory Jiráskova č.p.193 Broumov - CHRÁNĚNÉ BYTY
D8: Objekt:
E9: D.1.9 - Elektroinstalace-slaboproud
D11: KSO: | I11: CC-CZ:
D12: Místo: | I12: Datum: | J12: ='Rekapitulace stavby'!AN8 -> 4. 3. 2022
D14: Zadavatel: | I14: IČ: | J14: =IF('Rekapitulace stavby'!AN10="","",'Rekapitulace stavby'!AN10)
E15: =IF('Rekapitulace stavby'!E11="","",'Rekapitulace stavby'!E11) -> Město Broumov, třída Masarykova 239 | I15: DIČ: | J15: =IF('Rekapitulace stavby'!AN11="","",'Rekapitulace stavby'!AN11)
D17: Uchazeč: | I17: IČ: | J17: ='Rekapitulace stavby'!AN13 -> Vyplň údaj
E18: ='Rekapitulace stavby'!E14 -> Vyplň údaj | I18: DIČ: | J18: ='Rekapitulace stavby'!AN14 -> Vyplň údaj
D20: Projektant: | I20: IČ: | J20: =IF('Rekapitulace stavby'!AN16="","",'Rekapitulace stavby'!AN16)
E21: =IF('Rekapitulace stavby'!E17="","",'Rekapitulace stavby'!E17) | I21: DIČ: | J21: =IF('Rekapitulace stavby'!AN17="","",'Rekapitulace stavby'!AN17)
D23: Zpracovatel: | I23: IČ: | J23: =IF('Rekapitulace stavby'!AN19="","",'Rekapitulace stavby'!AN19)
E24: =IF('Rekapitulace stavby'!E20="","",'Rekapitulace stavby'!E20) | I24: DIČ: | J24: =IF('Rekapitulace stavby'!AN20="","",'Rekapitulace stavby'!AN20)
D26: Poznámka:
D30: Cena bez DPH | J30: =ROUND(J104, 2) -> 0
F32: Základ daně | I32: Sazba daně | J32: Výše daně
D33: DPH | E33: základní | F33: =ROUND((SUM(BE104:BE274)), 2) -> 0 | I33: 0.21 | J33: =ROUND(((SUM(BE104:BE274))*I33), 2) -> 0
E34: snížená | F34: =ROUND((SUM(BF104:BF274)), 2) -> 0 | I34: 0.15 | J34: =ROUND(((SUM(BF104:BF274))*I34), 2) -> 0
E35: zákl. přenesená | F35: =ROUND((SUM(BG104:BG274)), 2) -> 0 | I35: 0.21 | J35: =0 -> 0
E36: sníž. přenesená | F36: =ROUND((SUM(BH104:BH274)), 2) -> 0 | I36: 0.15 | J36: =0 -> 0
E37: nulová | F37: =ROUND((SUM(BI104:BI274)), 2) -> 0 | I37: 0 | J37: =0 -> 0
D39: Cena s DPH | G39: v | H39: CZK | J39: =SUM(J30:J37) -> 0
C45: REKAPITULACE ČLENĚNÍ SOUPISU PRACÍ
C47: Stavba:
E48: =E7 -> Přestavba a rozšíření domova pro seniory Jiráskova č.p.193 Broumov - CHRÁNĚNÉ BYTY
C49: Objekt:
E50: =E9 -> D.1.9 - Elektroinstalace-slaboproud
C52: Místo: | F52: =F12 | I52: Datum: | J52: =IF(J12="","",J12) -> 4. 3. 2022
C54: Zadavatel: | F54: =E15 -> Město Broumov, třída Masarykova 239 | I54: Projektant: | J54: =E21
C55: Uchazeč: | F55: =IF(E18="","",E18) -> Vyplň údaj | I55: Zpracovatel: | J55: =E24
C57: Kód dílu - Popis | J57: Cena celkem [CZK]
C59: Náklady stavby celkem | J59: =J104 -> 0 | AU59: -1
D60: D1 - Strukturovaná kabeláž + telefonní rozvody | J60: =J105 -> 0
D61: D2 - Rack | J61: =J106 -> 0
D62: D3 - Podružné rozvaděče R-SLB-x | J62: =J111 -> 0
D63: D4 - Aktivní prvky /nutné upřesnit před dodávkou s IT uživatele/ | J63: =J115 -> 0
D64: D5 - Telefonní ústředna, telefony, interkomy | J64: =J120 -> 0
D65: D6 - Datové zásuvky | J65: =J124 -> 0
D66: D7 - Kabely, chráničky | J66: =J127 -> 0
D67: D8 - Ostatní /datové rozvody/ | J67: =J140 -> 0
D68: D9 - EKV, docházkový systém | J68: =J146 -> 0
D69: D7 - Kabely, chráničky | J69: =J153 -> 0
D70: D10 - Ostatní EKV | J70: =J156 -> 0
D71: D11 - AV technika - projektor, plátno, audio | J71: =J159 -> 0
D72: D12 - Nouzový zvukový systém - evakuační rozhlas | J72: =J163 -> 0
D73: D13 - Aktivní prvky | J73: =J164 -> 0
D74: D14 - Reproduktory | J74: =J167 -> 0
D75: D7 - Kabely, chráničky | J75: =J171 -> 0
D76: D15 - Ostatní | J76: =J176 -> 0
D77: D16 - STA - společná televizní anténa | J77: =J185 -> 0
D78: D7 - Kabely, chráničky | J78: =J202 -> 0
D79: D15 - Ostatní | J79: =J208 -> 0
D80: D17 - Nouzový komunikační systém | J80: =J213 -> 0
D81: D18 - Kamerový dohled - CCTV /kabeláž a akt. prvky v rámci dat. rozvodů/ | J81: =J249 -> 0
D82: D19 - Ostatní /kamerový dohled - CCTV/ | J82: =J256 -> 0
D83: D20 - Hlavní kabelové trasy | J83: =J258 -> 0
D84: D21 - Ostatní | J84: =J263 -> 0
C91: SOUPIS PRACÍ
C93: Stavba:
E94: =E7 -> Přestavba a rozšíření domova pro seniory Jiráskova č.p.193 Broumov - CHRÁNĚNÉ BYTY
C95: Objekt:
E96: =E9 -> D.1.9 - Elektroinstalace-slaboproud
C98: Místo: | F98: =F12 | I98: Datum: | J98: =IF(J12="","",J12) -> 4. 3. 2022
C100: Zadavatel: | F100: =E15 -> Město Broumov, třída Masarykova 239 | I100: Projektant: | J100: =E21
C101: Uchazeč: | F101: =IF(E18="","",E18) -> Vyplň údaj | I101: Zpracovatel: | J101: =E24
C103: PČ | D103: Typ | E103: Kód | F103: Popis | G103: MJ | H103: Množství | I103: J.cena [CZK] | J103: Cena celkem [CZK] | K103: Cenová soustava | N103: DPH | O103: J. Nh [h] | P103: Nh celkem [h] | Q103: J. hmotnost [t] | R103: Hmotnost celkem [t] | S103: J. suť [t] | T103: Suť Celkem [t]
C104: Náklady soupisu celkem | J104: =BK104 -> 0 | P104: =P105+P146+P159+P163+P185+P213+P249+P258+P263 -> 0 | R104: =R105+R146+R159+R163+R185+R213+R249+R258+R263 -> 0 | T104: =T105+T146+T159+T163+T185+T213+T249+T258+T263 -> 0 | AT104: D | AU104: -1 | BK104: =BK105+BK146+BK159+BK163+BK185+BK213+BK249+BK258+BK263 -> 0
D105: D | E105: D1 | F105: Strukturovaná kabeláž + telefonní rozvody | J105: =BK105 -> 0 | P105: =P106+P111+P115+P120+P124+P127+P140 -> 0 | R105: =R106+R111+R115+R120+R124+R127+R140 -> 0 | T105: =T106+T111+T115+T120+T124+T127+T140 -> 0 | AR105: 1 | AT105: D | AU105: 0 | AY105: ROZPOCET | BK105: =BK106+BK111+BK115+BK120+BK124+BK127+BK140 -> 0
D106: D | E106: D2 | F106: Rack | J106: =BK106 -> 0 | P106: =SUM(P107:P110) -> 0 | R106: =SUM(R107:R110) -> 0 | T106: =SUM(T107:T110) -> 0 | AR106: 1 | AT106: D | AU106: 1 | AY106: ROZPOCET | BK106: =SUM(BK107:BK110) -> 0
C107: 1 | D107: K | E107: SLA-1 | F107: rack 19",45U 800x800mm, vč podstavce ventil jednotky | G107: ks | H107: 1 | J107: =ROUND(I107*H107,2) -> 0 | N107: snížená | P107: =O107*H107 -> 0 | Q107: 0 | R107: =Q107*H107 -> 0 | S107: 0 | T107: =S107*H107 -> 0 | AR107: 4 | AT107: K | AU107: 2 | AY107: ROZPOCET | BE107: =IF(N107="základní",J107,0) -> 0 | BF107: =IF(N107="snížená",J107,0) -> 0 | BG107: =IF(N107="zákl. přenesená",J107,0) -> 0 | BH107: =IF(N107="sníž. přenesená",J107,0) -> 0 | BI107: =IF(N107="nulová",J107,0) -> 0 | BJ107: 2 | BK107: =ROUND(I107*H107,2) -> 0 | BL107: 4 | BM107: 2
C108: 2 | D108: K | E108: SLA-2 | F108: patch panel 19" 24xRJ45 cat.6 FTP - komplet vč. keystone | G108: ks | H108: 7 | J108: =ROUND(I108*H108,2) -> 0 | N108: snížená | P108: =O108*H108 -> 0 | Q108: 0 | R108: =Q108*H108 -> 0 | S108: 0 | T108: =S108*H108 -> 0 | AR108: 4 | AT108: K | AU108: 2 | AY108: ROZPOCET | BE108: =IF(N108="základní",J108,0) -> 0 | BF108: =IF(N108="snížená",J108,0) -> 0 | BG108: =IF(N108="zákl. přenesená",J108,0) -> 0 | BH108: =IF(N108="sníž. přenesená",J108,0) -> 0 | BI108: =IF(N108="nulová",J108,0) -> 0 | BJ108: 2 | BK108: =ROUND(I108*H108,2) -> 0 | BL108: 4 | BM108: 4
C109: 3 | D109: K | E109: SLA-3 | F109: patch panel telefonní 25xRJ45 cat.3 - komplet vč. keystone | G109: ks | H109: 1 | J109: =ROUND(I109*H109,2) -> 0 | N109: snížená | P109: =O109*H109 -> 0 | Q109: 0 | R109: =Q109*H109 -> 0 | S109: 0 | T109: =S109*H109 -> 0 | AR109: 4 | AT109: K | AU109: 2 | AY109: ROZPOCET | BE109: =IF(N109="základní",J109,0) -> 0 | BF109: =IF(N109="snížená",J109,0) -> 0 | BG109: =IF(N109="zákl. přenesená",J109,0) -> 0 | BH109: =IF(N109="sníž. přenesená",J109,0) -> 0 | BI109: =IF(N109="nulová",J109,0) -> 0 | BJ109: 2 | BK109: =ROUND(I109*H109,2) -> 0 | BL109: 4 | BM109: 6
C110: 4 | D110: K | E110: SLA-4 | F110: 19" napájecí lišta s přepěť ochranou "D" 230V do dat. rozvaděče | G110: ks | H110: 1 | J110: =ROUND(I110*H110,2) -> 0 | N110: snížená | P110: =O110*H110 -> 0 | Q110: 0 | R110: =Q110*H110 -> 0 | S110: 0 | T110: =S110*H110 -> 0 | AR110: 4 | AT110: K | AU110: 2 | AY110: ROZPOCET | BE110: =IF(N110="základní",J110,0) -> 0 | BF110: =IF(N110="snížená",J110,0) -> 0 | BG110: =IF(N110="zákl. přenesená",J110,0) -> 0 | BH110: =IF(N110="sníž. přenesená",J110,0) -> 0 | BI110: =IF(N110="nulová",J110,0) -> 0 | BJ110: 2 | BK110: =ROUND(I110*H110,2) -> 0 | BL110: 4 | BM110: 8
D111: D | E111: D3 | F111: Podružné rozvaděče R-SLB-x | J111: =BK111 -> 0 | P111: =SUM(P112:P114) -> 0 | R111: =SUM(R112:R114) -> 0 | T111: =SUM(T112:T114) -> 0 | AR111: 1 | AT111: D | AU111: 1 | AY111: ROZPOCET | BK111: =SUM(BK112:BK114) -> 0
C112: 5 | D112: K | E112: SLA-5 | F112: rozvaděč š.600x700mm hl.150mm (R-SLB-x páteřní rozvody) | G112: ks | H112: 3 | J112: =ROUND(I112*H112,2) -> 0 | N112: snížená | P112: =O112*H112 -> 0 | Q112: 0 | R112: =Q112*H112 -> 0 | S112: 0 | T112: =S112*H112 -> 0 | AR112: 4 | AT112: K | AU112: 2 | AY112: ROZPOCET | BE112: =IF(N112="základní",J112,0) -> 0 | BF112: =IF(N112="snížená",J112,0) -> 0 | BG112: =IF(N112="zákl. přenesená",J112,0) -> 0 | BH112: =IF(N112="sníž. přenesená",J112,0) -> 0 | BI112: =IF(N112="nulová",J112,0) -> 0 | BJ112: 2 | BK112: =ROUND(I112*H112,2) -> 0 | BL112: 4 | BM112: 10
C113: 6 | D113: K | E113: SLA-6 | F113: montážní deska do rozvaděče | G113: ks | H113: 3 | J113: =ROUND(I113*H113,2) -> 0 | N113: snížená | P113: =O113*H113 -> 0 | Q113: 0 | R113: =Q113*H113 -> 0 | S113: 0 | T113: =S113*H113 -> 0 | AR113: 4 | AT113: K | AU113: 2 | AY113: ROZPOCET | BE113: =IF(N113="základní",J113,0) -> 0 | BF113: =IF(N113="snížená",J113,0) -> 0 | BG113: =IF(N113="zákl. přenesená",J113,0) -> 0 | BH113: =IF(N113="sníž. přenesená",J113,0) -> 0 | BI113: =IF(N113="nulová",J113,0) -> 0 | BJ113: 2 | BK113: =ROUND(I113*H113,2) -> 0 | BL113: 4 | BM113: 12
C114: 7 | D114: K | E114: SLA-7 | F114: zásuvka 230V do rozvaděče s přepěťovou ochranou "D" | G114: ks | H114: 3 | J114: =ROUND(I114*H114,2) -> 0 | N114: snížená | P114: =O114*H114 -> 0 | Q114: 0 | R114: =Q114*H114 -> 0 | S114: 0 | T114: =S114*H114 -> 0 | AR114: 4 | AT114: K | AU114: 2 | AY114: ROZPOCET | BE114: =IF(N114="základní",J114,0) -> 0 | BF114: =IF(N114="snížená",J114,0) -> 0 | BG114: =IF(N114="zákl. přenesená",J114,0) -> 0 | BH114: =IF(N114="sníž. přenesená",J114,0) -> 0 | BI114: =IF(N114="nulová",J114,0) -> 0 | BJ114: 2 | BK114: =ROUND(I114*H114,2) -> 0 | BL114: 4 | BM114: 14
D115: D | E115: D4 | F115: Aktivní prvky /nutné upřesnit před dodávkou s IT uživatele/ | J115: =BK115 -> 0 | P115: =SUM(P116:P119) -> 0 | R115: =SUM(R116:R119) -> 0 | T115: =SUM(T116:T119) -> 0 | AR115: 1 | AT115: D | AU115: 1 | AY115: ROZPOCET | BK115: =SUM(BK116:BK119) -> 0
C116: 8 | D116: K | E116: SLA-8 | F116: Switch Gigabit, 48port 10/100/1000, 4x SFP, 802.3at PoE+ na 24 portech, PoE výkon15,5W/port, Smart Managed (web, SNMP, DNA utility) | G116: ks | H116: 2 | J116: =ROUND(I116*H116,2) -> 0 | N116: snížená | P116: =O116*H116 -> 0 | Q116: 0 | R116: =Q116*H116 -> 0 | S116: 0 | T116: =S116*H116 -> 0 | AR116: 4 | AT116: K | AU116: 2 | AY116: ROZPOCET | BE116: =IF(N116="základní",J116,0) -> 0 | BF116: =IF(N116="snížená",J116,0) -> 0 | BG116: =IF(N116="zákl. přenesená",J116,0) -> 0 | BH116: =IF(N116="sníž. přenesená",J116,0) -> 0 | BI116: =IF(N116="nulová",J116,0) -> 0 | BJ116: 2 | BK116: =ROUND(I116*H116,2) -> 0 | BL116: 4 | BM116: 16
C117: 9 | D117: K | E117: SLA-9 | F117: SFP modul 10GB | G117: ks | H117: 4 | J117: =ROUND(I117*H117,2) -> 0 | N117: snížená | P117: =O117*H117 -> 0 | Q117: 0 | R117: =Q117*H117 -> 0 | S117: 0 | T117: =S117*H117 -> 0 | AR117: 4 | AT117: K | AU117: 2 | AY117: ROZPOCET | BE117: =IF(N117="základní",J117,0) -> 0 | BF117: =IF(N117="snížená",J117,0) -> 0 | BG117: =IF(N117="zákl. přenesená",J117,0) -> 0 | BH117: =IF(N117="sníž. přenesená",J117,0) -> 0 | BI117: =IF(N117="nulová",J117,0) -> 0 | BJ117: 2 | BK117: =ROUND(I117*H117,2) -> 0 | BL117: 4 | BM117: 18
C118: 10 | D118: K | E118: SLA-10 | F118: WiFi Access Controller | G118: ks | H118: 1 | J118: =ROUND(I118*H118,2) -> 0 | N118: snížená | P118: =O118*H118 -> 0 | Q118: 0 | R118: =Q118*H118 -> 0 | S118: 0 | T118: =S118*H118 -> 0 | AR118: 4 | AT118: K | AU118: 2 | AY118: ROZPOCET | BE118: =IF(N118="základní",J118,0) -> 0 | BF118: =IF(N118="snížená",J118,0) -> 0 | BG118: =IF(N118="zákl. přenesená",J118,0) -> 0 | BH118: =IF(N118="sníž. přenesená",J118,0) -> 0 | BI118: =IF(N118="nulová",J118,0) -> 0 | BJ118: 2 | BK118: =ROUND(I118*H118,2) -> 0 | BL118: 4 | BM118: 20
C119: 11 | D119: K | E119: SLA-11 | F119: WiFi Access Point 2,4+5GHz 802.11a/b/g/n/ac až 867Mbps, Dualband, PoE, 2x GLAN, WPS, centrální správa AP, vč. licencí | G119: ks | H119: 6 | J119: =ROUND(I119*H119,2) -> 0 | N119: snížená | P119: =O119*H119 -> 0 | Q119: 0 | R119: =Q119*H119 -> 0 | S119: 0 | T119: =S119*H119 -> 0 | AR119: 4 | AT119: K | AU119: 2 | AY119: ROZPOCET | BE119: =IF(N119="základní",J119,0) -> 0 | BF119: =IF(N119="snížená",J119,0) -> 0 | BG119: =IF(N119="zákl. přenesená",J119,0) -> 0 | BH119: =IF(N119="sníž. přenesená",J119,0) -> 0 | BI119: =IF(N119="nulová",J119,0) -> 0 | BJ119: 2 | BK119: =ROUND(I119*H119,2) -> 0 | BL119: 4 | BM119: 22
D120: D | E120: D5 | F120: Telefonní ústředna, telefony, interkomy | J120: =BK120 -> 0 | P120: =SUM(P121:P123) -> 0 | R120: =SUM(R121:R123) -> 0 | T120: =SUM(T121:T123) -> 0 | AR120: 1 | AT120: D | AU120: 1 | AY120: ROZPOCET | BK120: =SUM(BK121:BK123) -> 0
C121: 12 | D121: K | E121: SLA-12 | F121: základní IP telefon, grafický nepodsvícený LCD, 1 SIP účet, HD Voice, PoE napájení | G121: ks | H121: 8 | J121: =ROUND(I121*H121,2) -> 0 | N121: snížená | P121: =O121*H121 -> 0 | Q121: 0 | R121: =Q121*H121 -> 0 | S121: 0 | T121: =S121*H121 -> 0 | AR121: 4 | AT121: K | AU121: 2 | AY121: ROZPOCET | BE121: =IF(N121="základní",J121,0) -> 0 | BF121: =IF(N121="snížená",J121,0) -> 0 | BG121: =IF(N121="zákl. přenesená",J121,0) -> 0 | BH121: =IF(N121="sníž. přenesená",J121,0) -> 0 | BI121: =IF(N121="nulová",J121,0) -> 0 | BJ121: 2 | BK121: =ROUND(I121*H121,2) -> 0 | BL121: 4 | BM121: 24
C122: 13 | D122: K | E122: SLA-13 | F122: manažerský IP, PoE, 4,3" bar. LCD, 27 prog.tl., GigE | G122: ks | H122: 3 | J122: =ROUND(I122*H122,2) -> 0 | N122: snížená | P122: =O122*H122 -> 0 | Q122: 0 | R122: =Q122*H122 -> 0 | S122: 0 | T122: =S122*H122 -> 0 | AR122: 4 | AT122: K | AU122: 2 | AY122: ROZPOCET | BE122: =IF(N122="základní",J122,0) -> 0 | BF122: =IF(N122="snížená",J122,0) -> 0 | BG122: =IF(N122="zákl. přenesená",J122,0) -> 0 | BH122: =IF(N122="sníž. přenesená",J122,0) -> 0 | BI122: =IF(N122="nulová",J122,0) -> 0 | BJ122: 2 | BK122: =ROUND(I122*H122,2) -> 0 | BL122: 4 | BM122: 26
C123: 14 | D123: K | E123: SLA-14 | F123: vstupní zvonkové videotablo 4x tlačítko, IP65 vč. mont krabice a příslušenství | G123: ks | H123: 3 | J123: =ROUND(I123*H123,2) -> 0 | N123: snížená | P123: =O123*H123 -> 0 | Q123: 0 | R123: =Q123*H123 -> 0 | S123: 0 | T123: =S123*H123 -> 0 | AR123: 4 | AT123: K | AU123: 2 | AY123: ROZPOCET | BE123: =IF(N123="základní",J123,0) -> 0 | BF123: =IF(N123="snížená",J123,0) -> 0 | BG123: =IF(N123="zákl. přenesená",J123,0) -> 0 | BH123: =IF(N123="sníž. přenesená",J123,0) -> 0 | BI123: =IF(N123="nulová",J123,0) -> 0 | BJ123: 2 | BK123: =ROUND(I123*H123,2) -> 0 | BL123: 4 | BM123: 28
D124: D | E124: D6 | F124: Datové zásuvky | J124: =BK124 -> 0 | P124: =SUM(P125:P126) -> 0 | R124: =SUM(R125:R126) -> 0 | T124: =SUM(T125:T126) -> 0 | AR124: 1 | AT124: D | AU124: 1 | AY124: ROZPOCET | BK124: =SUM(BK125:BK126) -> 0
C125: 15 | D125: K | E125: SLA-15 | F125: datová dvouzásuvka design cat.6 UTP - komplet design dle NN | G125: ks | H125: 38 | J125: =ROUND(I125*H125,2) -> 0 | N125: snížená | P125: =O125*H125 -> 0 | Q125: 0 | R125: =Q125*H125 -> 0 | S125: 0 | T125: =S125*H125 -> 0 | AR125: 4 | AT125: K | AU125: 2 | AY125: ROZPOCET | BE125: =IF(N125="základní",J125,0) -> 0 | BF125: =IF(N125="snížená",J125,0) -> 0 | BG125: =IF(N125="zákl. přenesená",J125,0) -> 0 | BH125: =IF(N125="sníž. přenesená",J125,0) -> 0 | BI125: =IF(N125="nulová",J125,0) -> 0 | BJ125: 2 | BK125: =ROUND(I125*H125,2) -> 0 | BL125: 4 | BM125: 30
C126: 16 | D126: K | E126: SLA-16 | F126: datová zásuvka design cat.6 UTP - komplet design dle NN | G126: ks | H126: 28 | J126: =ROUND(I126*H126,2) -> 0 | N126: snížená | P126: =O126*H126 -> 0 | Q126: 0 | R126: =Q126*H126 -> 0 | S126: 0 | T126: =S126*H126 -> 0 | AR126: 4 | AT126: K | AU126: 2 | AY126: ROZPOCET | BE126: =IF(N126="základní",J126,0) -> 0 | BF126: =IF(N126="snížená",J126,0) -> 0 | BG126: =IF(N126="zákl. přenesená",J126,0) -> 0 | BH126: =IF(N126="sníž. přenesená",J126,0) -> 0 | BI126: =IF(N126="nulová",J126,0) -> 0 | BJ126: 2 | BK126: =ROUND(I126*H126,2) -> 0 | BL126: 4 | BM126: 32
D127: D | E127: D7 | F127: Kabely, chráničky | J127: =BK127 -> 0 | P127: =SUM(P128:P139) -> 0 | R127: =SUM(R128:R139) -> 0 | T127: =SUM(T128:T139) -> 0 | AR127: 1 | AT127: D | AU127: 1 | AY127: ROZPOCET | BK127: =SUM(BK128:BK139) -> 0
C128: 17 | D128: K | E128: SLA-17 | F128: kabel UTP cat.6 - interiér | G128: m | H128: 9880 | J128: =ROUND(I128*H128,2) -> 0 | N128: snížená | P128: =O128*H128 -> 0 | Q128: 0 | R128: =Q128*H128 -> 0 | S128: 0 | T128: =S128*H128 -> 0 | AR128: 4 | AT128: K | AU128: 2 | AY128: ROZPOCET | BE128: =IF(N128="základní",J128,0) -> 0 | BF128: =IF(N128="snížená",J128,0) -> 0 | BG128: =IF(N128="zákl. přenesená",J128,0) -> 0 | BH128: =IF(N128="sníž. přenesená",J128,0) -> 0 | BI128: =IF(N128="nulová",J128,0) -> 0 | BJ128: 2 | BK128: =ROUND(I128*H128,2) -> 0 | BL128: 4 | BM128: 34
C129: 18 | D129: K | E129: SLA-18 | F129: kabel UTP cat.6 - venkovní | G129: m | H129: 380 | J129: =ROUND(I129*H129,2) -> 0 | N129: snížená | P129: =O129*H129 -> 0 | Q129: 0 | R129: =Q129*H129 -> 0 | S129: 0 | T129: =S129*H129 -> 0 | AR129: 4 | AT129: K | AU129: 2 | AY129: ROZPOCET | BE129: =IF(N129="základní",J129,0) -> 0 | BF129: =IF(N129="snížená",J129,0) -> 0 | BG129: =IF(N129="zákl. přenesená",J129,0) -> 0 | BH129: =IF(N129="sníž. přenesená",J129,0) -> 0 | BI129: =IF(N129="nulová",J129,0) -> 0 | BJ129: 2 | BK129: =ROUND(I129*H129,2) -> 0 | BL129: 4 | BM129: 36
C130: 19 | D130: K | E130: SLA-19 | F130: kabely CYKY 3Cx2,5 | G130: m | H130: 250 | J130: =ROUND(I130*H130,2) -> 0 | N130: snížená | P130: =O130*H130 -> 0 | Q130: 0 | R130: =Q130*H130 -> 0 | S130: 0 | T130: =S130*H130 -> 0 | AR130: 4 | AT130: K | AU130: 2 | AY130: ROZPOCET | BE130: =IF(N130="základní",J130,0) -> 0 | BF130: =IF(N130="snížená",J130,0) -> 0 | BG130: =IF(N130="zákl. přenesená",J130,0) -> 0 | BH130: =IF(N130="sníž. přenesená",J130,0) -> 0 | BI130: =IF(N130="nulová",J130,0) -> 0 | BJ130: 2 | BK130: =ROUND(I130*H130,2) -> 0 | BL130: 4 | BM130: 38
C131: 20 | D131: K | E131: SLA-20 | F131: patch kabel do 1m cat.6 | G131: ks | H131: 70 | J131: =ROUND(I131*H131,2) -> 0 | N131: snížená | P131: =O131*H131 -> 0 | Q131: 0 | R131: =Q131*H131 -> 0 | S131: 0 | T131: =S131*H131 -> 0 | AR131: 4 | AT131: K | AU131: 2 | AY131: ROZPOCET | BE131: =IF(N131="základní",J131,0) -> 0 | BF131: =IF(N131="snížená",J131,0) -> 0 | BG131: =IF(N131="zákl. přenesená",J131,0) -> 0 | BH131: =IF(N131="sníž. přenesená",J131,0) -> 0 | BI131: =IF(N131="nulová",J131,0) -> 0 | BJ131: 2 | BK131: =ROUND(I131*H131,2) -> 0 | BL131: 4 | BM131: 40
C132: 21 | D132: K | E132: SLA-21 | F132: patch kabel do 2m cat.6 | G132: ks | H132: 85 | J132: =ROUND(I132*H132,2) -> 0 | N132: snížená | P132: =O132*H132 -> 0 | Q132: 0 | R132: =Q132*H132 -> 0 | S132: 0 | T132: =S132*H132 -> 0 | AR132: 4 | AT132: K | AU132: 2 | AY132: ROZPOCET | BE132: =IF(N132="základní",J132,0) -> 0 | BF132: =IF(N132="snížená",J132,0) -> 0 | BG132: =IF(N132="zákl. přenesená",J132,0) -> 0 | BH132: =IF(N132="sníž. přenesená",J132,0) -> 0 | BI132: =IF(N132="nulová",J132,0) -> 0 | BJ132: 2 | BK132: =ROUND(I132*H132,2) -> 0 | BL132: 4 | BM132: 42
C133: 22 | D133: K | E133: SLA-22 | F133: ptický patchcord do 2m SM duplex | G133: ks | H133: 2 | J133: =ROUND(I133*H133,2) -> 0 | N133: snížená | P133: =O133*H133 -> 0 | Q133: 0 | R133: =Q133*H133 -> 0 | S133: 0 | T133: =S133*H133 -> 0 | AR133: 4 | AT133: K | AU133: 2 | AY133: ROZPOCET | BE133: =IF(N133="základní",J133,0) -> 0 | BF133: =IF(N133="snížená",J133,0) -> 0 | BG133: =IF(N133="zákl. přenesená",J133,0) -> 0 | BH133: =IF(N133="sníž. přenesená",J133,0) -> 0 | BI133: =IF(N133="nulová",J133,0) -> 0 | BJ133: 2 | BK133: =ROUND(I133*H133,2) -> 0 | BL133: 4 | BM133: 44
...

Sheet D.1.10 - EPS
L2: >> skryté sloupce << | AT2: {c7a6dc11-9d34-48e6-9886-f69d2130f30d}
AT3: 1
D4: KRYCÍ LIST SOUPISU PRACÍ | M4: v --- níže se nacházejí doplnkové a pomocné údaje k sestavám --- v | AT4: False
D6: Stavba:
E7: ='Rekapitulace stavby'!K6 -> Přestavba a rozšíření domova pro seniory Jiráskova č.p.193 Broumov - CHRÁNĚNÉ BYTY
D8: Objekt:
E9: D.1.10 - EPS
D11: KSO: | I11: CC-CZ:
D12: Místo: | I12: Datum: | J12: ='Rekapitulace stavby'!AN8 -> 4. 3. 2022
D14: Zadavatel: | I14: IČ: | J14: =IF('Rekapitulace stavby'!AN10="","",'Rekapitulace stavby'!AN10)
E15: =IF('Rekapitulace stavby'!E11="","",'Rekapitulace stavby'!E11) -> Město Broumov, třída Masarykova 239 | I15: DIČ: | J15: =IF('Rekapitulace stavby'!AN11="","",'Rekapitulace stavby'!AN11)
D17: Uchazeč: | I17: IČ: | J17: ='Rekapitulace stavby'!AN13 -> Vyplň údaj
E18: ='Rekapitulace stavby'!E14 -> Vyplň údaj | I18: DIČ: | J18: ='Rekapitulace stavby'!AN14 -> Vyplň údaj
D20: Projektant: | I20: IČ: | J20: =IF('Rekapitulace stavby'!AN16="","",'Rekapitulace stavby'!AN16)
E21: =IF('Rekapitulace stavby'!E17="","",'Rekapitulace stavby'!E17) | I21: DIČ: | J21: =IF('Rekapitulace stavby'!AN17="","",'Rekapitulace stavby'!AN17)
D23: Zpracovatel: | I23: IČ: | J23: =IF('Rekapitulace stavby'!AN19="","",'Rekapitulace stavby'!AN19)
E24: =IF('Rekapitulace stavby'!E20="","",'Rekapitulace stavby'!E20) | I24: DIČ: | J24: =IF('Rekapitulace stavby'!AN20="","",'Rekapitulace stavby'!AN20)
D26: Poznámka:
D30: Cena bez DPH | J30: =ROUND(J83, 2) -> 0
F32: Základ daně | I32: Sazba daně | J32: Výše daně
D33: DPH | E33: základní | F33: =ROUND((SUM(BE83:BE116)), 2) -> 0 | I33: 0.21 | J33: =ROUND(((SUM(BE83:BE116))*I33), 2) -> 0
E34: snížená | F34: =ROUND((SUM(BF83:BF116)), 2) -> 0 | I34: 0.15 | J34: =ROUND(((SUM(BF83:BF116))*I34), 2) -> 0
E35: zákl. přenesená | F35: =ROUND((SUM(BG83:BG116)), 2) -> 0 | I35: 0.21 | J35: =0 -> 0
E36: sníž. přenesená | F36: =ROUND((SUM(BH83:BH116)), 2) -> 0 | I36: 0.15 | J36: =0 -> 0
E37: nulová | F37: =ROUND((SUM(BI83:BI116)), 2) -> 0 | I37: 0 | J37: =0 -> 0
D39: Cena s DPH | G39: v | H39: CZK | J39: =SUM(J30:J37) -> 0
C45: REKAPITULACE ČLENĚNÍ SOUPISU PRACÍ
C47: Stavba:
E48: =E7 -> Přestavba a rozšíření domova pro seniory Jiráskova č.p.193 Broumov - CHRÁNĚNÉ BYTY
C49: Objekt:
E50: =E9 -> D.1.10 - EPS
C52: Místo: | F52: =F12 | I52: Datum: | J52: =IF(J12="","",J12) -> 4. 3. 2022
C54: Zadavatel: | F54: =E15 -> Město Broumov, třída Masarykova 239 | I54: Projektant: | J54: =E21
C55: Uchazeč: | F55: =IF(E18="","",E18) -> Vyplň údaj | I55: Zpracovatel: | J55: =E24
C57: Kód dílu - Popis | J57: Cena celkem [CZK]
C59: Náklady stavby celkem | J59: =J83 -> 0 | AU59: -1
D60: D1 - dodávka zařízení EPS | J60: =J84 -> 0
D61: D2 - Montážní materiál | J61: =J94 -> 0
D62: D3 - Montáž EPS | J62: =J99 -> 0
D63: D4 - Kabely | J63: =J112 -> 0
C70: SOUPIS PRACÍ
C72: Stavba:
E73: =E7 -> Přestavba a rozšíření domova pro seniory Jiráskova č.p.193 Broumov - CHRÁNĚNÉ BYTY
C74: Objekt:
E75: =E9 -> D.1.10 - EPS
C77: Místo: | F77: =F12 | I77: Datum: | J77: =IF(J12="","",J12) -> 4. 3. 2022
C79: Zadavatel: | F79: =E15 -> Město Broumov, třída Masarykova 239 | I79: Projektant: | J79: =E21
C80: Uchazeč: | F80: =IF(E18="","",E18) -> Vyplň údaj | I80: Zpracovatel: | J80: =E24
C82: PČ | D82: Typ | E82: Kód | F82: Popis | G82: MJ | H82: Množství | I82: J.cena [CZK] | J82: Cena celkem [CZK] | K82: Cenová soustava | N82: DPH | O82: J. Nh [h] | P82: Nh celkem [h] | Q82: J. hmotnost [t] | R82: Hmotnost celkem [t] | S82: J. suť [t] | T82: Suť Celkem [t]
C83: Náklady soupisu celkem | J83: =BK83 -> 0 | P83: =P84+P94+P99+P112 -> 0 | R83: =R84+R94+R99+R112 -> 0 | T83: =T84+T94+T99+T112 -> 0 | AT83: D | AU83: -1 | BK83: =BK84+BK94+BK99+BK112 -> 0
D84: D | E84: D1 | F84: dodávka zařízení EPS | J84: =BK84 -> 0 | P84: =SUM(P85:P93) -> 0 | R84: =SUM(R85:R93) -> 0 | T84: =SUM(T85:T93) -> 0 | AR84: 1 | AT84: D | AU84: 0 | AY84: ROZPOCET | BK84: =SUM(BK85:BK93) -> 0
C85: 1 | D85: K | E85: EPS-1 | F85: LCD ovl panel | G85: ks | H85: 2 | J85: =ROUND(I85*H85,2) -> 0 | N85: snížená | P85: =O85*H85 -> 0 | Q85: 0 | R85: =Q85*H85 -> 0 | S85: 0 | T85: =S85*H85 -> 0 | AR85: 4 | AT85: K | AU85: 1 | AY85: ROZPOCET | BE85: =IF(N85="základní",J85,0) -> 0 | BF85: =IF(N85="snížená",J85,0) -> 0 | BG85: =IF(N85="zákl. přenesená",J85,0) -> 0 | BH85: =IF(N85="sníž. přenesená",J85,0) -> 0 | BI85: =IF(N85="nulová",J85,0) -> 0 | BJ85: 2 | BK85: =ROUND(I85*H85,2) -> 0 | BL85: 4 | BM85: 2
C86: 2 | D86: K | E86: EPS-2 | F86: Pragramovatelná ústředna EPS 3.okružní smyčky, 250 adres vč.příslušenství | G86: ks | H86: 1 | J86: =ROUND(I86*H86,2) -> 0 | N86: snížená | P86: =O86*H86 -> 0 | Q86: 0 | R86: =Q86*H86 -> 0 | S86: 0 | T86: =S86*H86 -> 0 | AR86: 4 | AT86: K | AU86: 1 | AY86: ROZPOCET | BE86: =IF(N86="základní",J86,0) -> 0 | BF86: =IF(N86="snížená",J86,0) -> 0 | BG86: =IF(N86="zákl. přenesená",J86,0) -> 0 | BH86: =IF(N86="sníž. přenesená",J86,0) -> 0 | BI86: =IF(N86="nulová",J86,0) -> 0 | BJ86: 2 | BK86: =ROUND(I86*H86,2) -> 0 | BL86: 4 | BM86: 4
C87: 3 | D87: K | E87: EPS-3 | F87: optickokouřový hlásič požáru vč příslušenství | G87: ks | H87: 117 | J87: =ROUND(I87*H87,2) -> 0 | N87: snížená | P87: =O87*H87 -> 0 | Q87: 0 | R87: =Q87*H87 -> 0 | S87: 0 | T87: =S87*H87 -> 0 | AR87: 4 | AT87: K | AU87: 1 | AY87: ROZPOCET | BE87: =IF(N87="základní",J87,0) -> 0 | BF87: =IF(N87="snížená",J87,0) -> 0 | BG87: =IF(N87="zákl. přenesená",J87,0) -> 0 | BH87: =IF(N87="sníž. přenesená",J87,0) -> 0 | BI87: =IF(N87="nulová",J87,0) -> 0 | BJ87: 2 | BK87: =ROUND(I87*H87,2) -> 0 | BL87: 4 | BM87: 6
C88: 4 | D88: K | E88: EPS-4 | F88: tlačítko adresné červené vnitřní | G88: ks | H88: 5 | J88: =ROUND(I88*H88,2) -> 0 | N88: snížená | P88: =O88*H88 -> 0 | Q88: 0 | R88: =Q88*H88 -> 0 | S88: 0 | T88: =S88*H88 -> 0 | AR88: 4 | AT88: K | AU88: 1 | AY88: ROZPOCET | BE88: =IF(N88="základní",J88,0) -> 0 | BF88: =IF(N88="snížená",J88,0) -> 0 | BG88: =IF(N88="zákl. přenesená",J88,0) -> 0 | BH88: =IF(N88="sníž. přenesená",J88,0) -> 0 | BI88: =IF(N88="nulová",J88,0) -> 0 | BJ88: 2 | BK88: =ROUND(I88*H88,2) -> 0 | BL88: 4 | BM88: 8
C89: 5 | D89: K | E89: EPS-5 | F89: Houkačka adresná | G89: ks | H89: 5 | J89: =ROUND(I89*H89,2) -> 0 | N89: snížená | P89: =O89*H89 -> 0 | Q89: 0 | R89: =Q89*H89 -> 0 | S89: 0 | T89: =S89*H89 -> 0 | AR89: 4 | AT89: K | AU89: 1 | AY89: ROZPOCET | BE89: =IF(N89="základní",J89,0) -> 0 | BF89: =IF(N89="snížená",J89,0) -> 0 | BG89: =IF(N89="zákl. přenesená",J89,0) -> 0 | BH89: =IF(N89="sníž. přenesená",J89,0) -> 0 | BI89: =IF(N89="nulová",J89,0) -> 0 | BJ89: 2 | BK89: =ROUND(I89*H89,2) -> 0 | BL89: 4 | BM89: 10
C90: 6 | D90: K | E90: EPS-6 | F90: adresný spínací člen -4x kontakt 230V/1A | G90: ks | H90: 2 | J90: =ROUND(I90*H90,2) -> 0 | N90: snížená | P90: =O90*H90 -> 0 | Q90: 0 | R90: =Q90*H90 -> 0 | S90: 0 | T90: =S90*H90 -> 0 | AR90: 4 | AT90: K | AU90: 1 | AY90: ROZPOCET | BE90: =IF(N90="základní",J90,0) -> 0 | BF90: =IF(N90="snížená",J90,0) -> 0 | BG90: =IF(N90="zákl. přenesená",J90,0) -> 0 | BH90: =IF(N90="sníž. přenesená",J90,0) -> 0 | BI90: =IF(N90="nulová",J90,0) -> 0 | BJ90: 2 | BK90: =ROUND(I90*H90,2) -> 0 | BL90: 4 | BM90: 12
C91: 7 | D91: K | E91: EPS-7 | F91: přídržný magnet dveří 24V | G91: ks | H91: 7 | J91: =ROUND(I91*H91,2) -> 0 | N91: snížená | P91: =O91*H91 -> 0 | Q91: 0 | R91: =Q91*H91 -> 0 | S91: 0 | T91: =S91*H91 -> 0 | AR91: 4 | AT91: K | AU91: 1 | AY91: ROZPOCET | BE91: =IF(N91="základní",J91,0) -> 0 | BF91: =IF(N91="snížená",J91,0) -> 0 | BG91: =IF(N91="zákl. přenesená",J91,0) -> 0 | BH91: =IF(N91="sníž. přenesená",J91,0) -> 0 | BI91: =IF(N91="nulová",J91,0) -> 0 | BJ91: 2 | BK91: =ROUND(I91*H91,2) -> 0 | BL91: 4 | BM91: 14
C92: 8 | D92: K | E92: EPS-8 | F92: základní uživatelský SW | G92: ks | H92: 1 | J92: =ROUND(I92*H92,2) -> 0 | N92: snížená | P92: =O92*H92 -> 0 | Q92: 0 | R92: =Q92*H92 -> 0 | S92: 0 | T92: =S92*H92 -> 0 | AR92: 4 | AT92: K | AU92: 1 | AY92: ROZPOCET | BE92: =IF(N92="základní",J92,0) -> 0 | BF92: =IF(N92="snížená",J92,0) -> 0 | BG92: =IF(N92="zákl. přenesená",J92,0) -> 0 | BH92: =IF(N92="sníž. přenesená",J92,0) -> 0 | BI92: =IF(N92="nulová",J92,0) -> 0 | BJ92: 2 | BK92: =ROUND(I92*H92,2) -> 0 | BL92: 4 | BM92: 16
C93: 9 | D93: K | E93: EPS-9 | F93: Štítek s číslem hlásiče | G93: ks | H93: 129 | J93: =ROUND(I93*H93,2) -> 0 | N93: snížená | P93: =O93*H93 -> 0 | Q93: 0 | R93: =Q93*H93 -> 0 | S93: 0 | T93: =S93*H93 -> 0 | AR93: 4 | AT93: K | AU93: 1 | AY93: ROZPOCET | BE93: =IF(N93="základní",J93,0) -> 0 | BF93: =IF(N93="snížená",J93,0) -> 0 | BG93: =IF(N93="zákl. přenesená",J93,0) -> 0 | BH93: =IF(N93="sníž. přenesená",J93,0) -> 0 | BI93: =IF(N93="nulová",J93,0) -> 0 | BJ93: 2 | BK93: =ROUND(I93*H93,2) -> 0 | BL93: 4 | BM93: 18
D94: D | E94: D2 | F94: Montážní materiál | J94: =BK94 -> 0 | P94: =SUM(P95:P98) -> 0 | R94: =SUM(R95:R98) -> 0 | T94: =SUM(T95:T98) -> 0 | AR94: 1 | AT94: D | AU94: 0 | AY94: ROZPOCET | BK94: =SUM(BK95:BK98) -> 0
C95: 10 | D95: K | E95: EPS-10 | F95: nosná kabelová lišta | G95: m | H95: 150 | J95: =ROUND(I95*H95,2) -> 0 | N95: snížená | P95: =O95*H95 -> 0 | Q95: 0 | R95: =Q95*H95 -> 0 | S95: 0 | T95: =S95*H95 -> 0 | AR95: 4 | AT95: K | AU95: 1 | AY95: ROZPOCET | BE95: =IF(N95="základní",J95,0) -> 0 | BF95: =IF(N95="snížená",J95,0) -> 0 | BG95: =IF(N95="zákl. přenesená",J95,0) -> 0 | BH95: =IF(N95="sníž. přenesená",J95,0) -> 0 | BI95: =IF(N95="nulová",J95,0) -> 0 | BJ95: 2 | BK95: =ROUND(I95*H95,2) -> 0 | BL95: 4 | BM95: 20
C96: 11 | D96: K | E96: EPS-11 | F96: trubka t 21 pod om | G96: m | H96: 1500 | J96: =ROUND(I96*H96,2) -> 0 | N96: snížená | P96: =O96*H96 -> 0 | Q96: 0 | R96: =Q96*H96 -> 0 | S96: 0 | T96: =S96*H96 -> 0 | AR96: 4 | AT96: K | AU96: 1 | AY96: ROZPOCET | BE96: =IF(N96="základní",J96,0) -> 0 | BF96: =IF(N96="snížená",J96,0) -> 0 | BG96: =IF(N96="zákl. přenesená",J96,0) -> 0 | BH96: =IF(N96="sníž. přenesená",J96,0) -> 0 | BI96: =IF(N96="nulová",J96,0) -> 0 | BJ96: 2 | BK96: =ROUND(I96*H96,2) -> 0 | BL96: 4 | BM96: 22
C97: 12 | D97: K | E97: EPS-12 | F97: krabice instalační | G97: ks | H97: 40 | J97: =ROUND(I97*H97,2) -> 0 | N97: snížená | P97: =O97*H97 -> 0 | Q97: 0 | R97: =Q97*H97 -> 0 | S97: 0 | T97: =S97*H97 -> 0 | AR97: 4 | AT97: K | AU97: 1 | AY97: ROZPOCET | BE97: =IF(N97="základní",J97,0) -> 0 | BF97: =IF(N97="snížená",J97,0) -> 0 | BG97: =IF(N97="zákl. přenesená",J97,0) -> 0 | BH97: =IF(N97="sníž. přenesená",J97,0) -> 0 | BI97: =IF(N97="nulová",J97,0) -> 0 | BJ97: 2 | BK97: =ROUND(I97*H97,2) -> 0 | BL97: 4 | BM97: 24
C98: 13 | D98: K | E98: EPS-13 | F98: Drobný instalační materiál | G98: sada | H98: 1 | J98: =ROUND(I98*H98,2) -> 0 | N98: snížená | P98: =O98*H98 -> 0 | Q98: 0 | R98: =Q98*H98 -> 0 | S98: 0 | T98: =S98*H98 -> 0 | AR98: 4 | AT98: K | AU98: 1 | AY98: ROZPOCET | BE98: =IF(N98="základní",J98,0) -> 0 | BF98: =IF(N98="snížená",J98,0) -> 0 | BG98: =IF(N98="zákl. přenesená",J98,0) -> 0 | BH98: =IF(N98="sníž. přenesená",J98,0) -> 0 | BI98: =IF(N98="nulová",J98,0) -> 0 | BJ98: 2 | BK98: =ROUND(I98*H98,2) -> 0 | BL98: 4 | BM98: 26
D99: D | E99: D3 | F99: Montáž EPS | J99: =BK99 -> 0 | P99: =SUM(P100:P111) -> 0 | R99: =SUM(R100:R111) -> 0 | T99: =SUM(T100:T111) -> 0 | AR99: 1 | AT99: D | AU99: 0 | AY99: ROZPOCET | BK99: =SUM(BK100:BK111) -> 0
C100: 14 | D100: K | E100: EPS-14 | F100: montáž hlásičů vč soklu a příslušenství | G100: ks | H100: 117 | J100: =ROUND(I100*H100,2) -> 0 | N100: snížená | P100: =O100*H100 -> 0 | Q100: 0 | R100: =Q100*H100 -> 0 | S100: 0 | T100: =S100*H100 -> 0 | AR100: 4 | AT100: K | AU100: 1 | AY100: ROZPOCET | BE100: =IF(N100="základní",J100,0) -> 0 | BF100: =IF(N100="snížená",J100,0) -> 0 | BG100: =IF(N100="zákl. přenesená",J100,0) -> 0 | BH100: =IF(N100="sníž. přenesená",J100,0) -> 0 | BI100: =IF(N100="nulová",J100,0) -> 0 | BJ100: 2 | BK100: =ROUND(I100*H100,2) -> 0 | BL100: 4 | BM100: 28
C101: 15 | D101: K | E101: EPS-15 | F101: montáž houkačky | G101: ks | H101: 5 | J101: =ROUND(I101*H101,2) -> 0 | N101: snížená | P101: =O101*H101 -> 0 | Q101: 0 | R101: =Q101*H101 -> 0 | S101: 0 | T101: =S101*H101 -> 0 | AR101: 4 | AT101: K | AU101: 1 | AY101: ROZPOCET | BE101: =IF(N101="základní",J101,0) -> 0 | BF101: =IF(N101="snížená",J101,0) -> 0 | BG101: =IF(N101="zákl. přenesená",J101,0) -> 0 | BH101: =IF(N101="sníž. přenesená",J101,0) -> 0 | BI101: =IF(N101="nulová",J101,0) -> 0 | BJ101: 2 | BK101: =ROUND(I101*H101,2) -> 0 | BL101: 4 | BM101: 30
C102: 16 | D102: K | E102: EPS-16 | F102: montáž tlačítk. hlásiče | G102: ks | H102: 5 | J102: =ROUND(I102*H102,2) -> 0 | N102: snížená | P102: =O102*H102 -> 0 | Q102: 0 | R102: =Q102*H102 -> 0 | S102: 0 | T102: =S102*H102 -> 0 | AR102: 4 | AT102: K | AU102: 1 | AY102: ROZPOCET | BE102: =IF(N102="základní",J102,0) -> 0 | BF102: =IF(N102="snížená",J102,0) -> 0 | BG102: =IF(N102="zákl. přenesená",J102,0) -> 0 | BH102: =IF(N102="sníž. přenesená",J102,0) -> 0 | BI102: =IF(N102="nulová",J102,0) -> 0 | BJ102: 2 | BK102: =ROUND(I102*H102,2) -> 0 | BL102: 4 | BM102: 32
C103: 17 | D103: K | E103: EPS-17 | F103: montáž ústředny | G103: ks | H103: 1 | J103: =ROUND(I103*H103,2) -> 0 | N103: snížená | P103: =O103*H103 -> 0 | Q103: 0 | R103: =Q103*H103 -> 0 | S103: 0 | T103: =S103*H103 -> 0 | AR103: 4 | AT103: K | AU103: 1 | AY103: ROZPOCET | BE103: =IF(N103="základní",J103,0) -> 0 | BF103: =IF(N103="snížená",J103,0) -> 0 | BG103: =IF(N103="zákl. přenesená",J103,0) -> 0 | BH103: =IF(N103="sníž. přenesená",J103,0) -> 0 | BI103: =IF(N103="nulová",J103,0) -> 0 | BJ103: 2 | BK103: =ROUND(I103*H103,2) -> 0 | BL103: 4 | BM103: 34
C104: 18 | D104: K | E104: EPS-18 | F104: montáž kabelu | G104: m | H104: 2800 | J104: =ROUND(I104*H104,2) -> 0 | N104: snížená | P104: =O104*H104 -> 0 | Q104: 0 | R104: =Q104*H104 -> 0 | S104: 0 | T104: =S104*H104 -> 0 | AR104: 4 | AT104: K | AU104: 1 | AY104: ROZPOCET | BE104: =IF(N104="základní",J104,0) -> 0 | BF104: =IF(N104="snížená",J104,0) -> 0 | BG104: =IF(N104="zákl. přenesená",J104,0) -> 0 | BH104: =IF(N104="sníž. přenesená",J104,0) -> 0 | BI104: =IF(N104="nulová",J104,0) -> 0 | BJ104: 2 | BK104: =ROUND(I104*H104,2) -> 0 | BL104: 4 | BM104: 36
C105: 19 | D105: K | E105: EPS-19 | F105: programování ústředny | G105: ks | H105: 2 | J105: =ROUND(I105*H105,2) -> 0 | N105: snížená | P105: =O105*H105 -> 0 | Q105: 0 | R105: =Q105*H105 -> 0 | S105: 0 | T105: =S105*H105 -> 0 | AR105: 4 | AT105: K | AU105: 1 | AY105: ROZPOCET | BE105: =IF(N105="základní",J105,0) -> 0 | BF105: =IF(N105="snížená",J105,0) -> 0 | BG105: =IF(N105="zákl. přenesená",J105,0) -> 0 | BH105: =IF(N105="sníž. přenesená",J105,0) -> 0 | BI105: =IF(N105="nulová",J105,0) -> 0 | BJ105: 2 | BK105: =ROUND(I105*H105,2) -> 0 | BL105: 4 | BM105: 38
C106: 20 | D106: K | E106: EPS-20 | F106: montáž vstupu a výstupu | G106: ks | H106: 2 | J106: =ROUND(I106*H106,2) -> 0 | N106: snížená | P106: =O106*H106 -> 0 | Q106: 0 | R106: =Q106*H106 -> 0 | S106: 0 | T106: =S106*H106 -> 0 | AR106: 4 | AT106: K | AU106: 1 | AY106: ROZPOCET | BE106: =IF(N106="základní",J106,0) -> 0 | BF106: =IF(N106="snížená",J106,0) -> 0 | BG106: =IF(N106="zákl. přenesená",J106,0) -> 0 | BH106: =IF(N106="sníž. přenesená",J106,0) -> 0 | BI106: =IF(N106="nulová",J106,0) -> 0 | BJ106: 2 | BK106: =ROUND(I106*H106,2) -> 0 | BL106: 4 | BM106: 40
C107: 21 | D107: K | E107: EPS-21 | F107: zasekání trubky pod om. | G107: m | H107: 1500 | J107: =ROUND(I107*H107,2) -> 0 | N107: snížená | P107: =O107*H107 -> 0 | Q107: 0 | R107: =Q107*H107 -> 0 | S107: 0 | T107: =S107*H107 -> 0 | AR107: 4 | AT107: K | AU107: 1 | AY107: ROZPOCET | BE107: =IF(N107="základní",J107,0) -> 0 | BF107: =IF(N107="snížená",J107,0) -> 0 | BG107: =IF(N107="zákl. přenesená",J107,0) -> 0 | BH107: =IF(N107="sníž. přenesená",J107,0) -> 0 | BI107: =IF(N107="nulová",J107,0) -> 0 | BJ107: 2 | BK107: =ROUND(I107*H107,2) -> 0 | BL107: 4 | BM107: 42
C108: 22 | D108: K | E108: EPS-22 | F108: vyfrézování drážky | G108: m | H108: 1400 | J108: =ROUND(I108*H108,2) -> 0 | N108: snížená | P108: =O108*H108 -> 0 | Q108: 0 | R108: =Q108*H108 -> 0 | S108: 0 | T108: =S108*H108 -> 0 | AR108: 4 | AT108: K | AU108: 1 | AY108: ROZPOCET | BE108: =IF(N108="základní",J108,0) -> 0 | BF108: =IF(N108="snížená",J108,0) -> 0 | BG108: =IF(N108="zákl. přenesená",J108,0) -> 0 | BH108: =IF(N108="sníž. přenesená",J108,0) -> 0 | BI108: =IF(N108="nulová",J108,0) -> 0 | BJ108: 2 | BK108: =ROUND(I108*H108,2) -> 0 | BL108: 4 | BM108: 44
C109: 23 | D109: K | E109: EPS-23 | F109: vrtání otvoru do 60mm | G109: ks | H109: 40 | J109: =ROUND(I109*H109,2) -> 0 | N109: snížená | P109: =O109*H109 -> 0 | Q109: 0 | R109: =Q109*H109 -> 0 | S109: 0 | T109: =S109*H109 -> 0 | AR109: 4 | AT109: K | AU109: 1 | AY109: ROZPOCET | BE109: =IF(N109="základní",J109,0) -> 0 | BF109: =IF(N109="snížená",J109,0) -> 0 | BG109: =IF(N109="zákl. přenesená",J109,0) -> 0 | BH109: =IF(N109="sníž. přenesená",J109,0) -> 0 | BI109: =IF(N109="nulová",J109,0) -> 0 | BJ109: 2 | BK109: =ROUND(I109*H109,2) -> 0 | BL109: 4 | BM109: 46
C110: 24 | D110: K | E110: EPS-24 | F110: montáž krabice | G110: ks | H110: 45 | J110: =ROUND(I110*H110,2) -> 0 | N110: snížená | P110: =O110*H110 -> 0 | Q110: 0 | R110: =Q110*H110 -> 0 | S110: 0 | T110: =S110*H110 -> 0 | AR110: 4 | AT110: K | AU110: 1 | AY110: ROZPOCET | BE110: =IF(N110="základní",J110,0) -> 0 | BF110: =IF(N110="snížená",J110,0) -> 0 | BG110: =IF(N110="zákl. přenesená",J110,0) -> 0 | BH110: =IF(N110="sníž. přenesená",J110,0) -> 0 | BI110: =IF(N110="nulová",J110,0) -> 0 | BJ110: 2 | BK110: =ROUND(I110*H110,2) -> 0 | BL110: 4 | BM110: 48
C111: 25 | D111: K | E111: EPS-25 | F111: Zaškolení obsluhy | G111: hod | H111: 2 | J111: =ROUND(I111*H111,2) -> 0 | N111: snížená | P111: =O111*H111 -> 0 | Q111: 0 | R111: =Q111*H111 -> 0 | S111: 0 | T111: =S111*H111 -> 0 | AR111: 4 | AT111: K | AU111: 1 | AY111: ROZPOCET | BE111: =IF(N111="základní",J111,0) -> 0 | BF111: =IF(N111="snížená",J111,0) -> 0 | BG111: =IF(N111="zákl. přenesená",J111,0) -> 0 | BH111: =IF(N111="sníž. přenesená",J111,0) -> 0 | BI111: =IF(N111="nulová",J111,0) -> 0 | BJ111: 2 | BK111: =ROUND(I111*H111,2) -> 0 | BL111: 4 | BM111: 50
D112: D | E112: D4 | F112: Kabely | J112: =BK112 -> 0 | P112: =SUM(P113:P116) -> 0 | R112: =SUM(R113:R116) -> 0 | T112: =SUM(T113:T116) -> 0 | AR112: 1 | AT112: D | AU112: 0 | AY112: ROZPOCET | BK112: =SUM(BK113:BK116) -> 0
C113: 26 | D113: K | E113: EPS-26 | F113: kabel 2x0,8 ( J-Y(St)Y | G113: m | H113: 2900 | J113: =ROUND(I113*H113,2) -> 0 | N113: snížená | P113: =O113*H113 -> 0 | Q113: 0 | R113: =Q113*H113 -> 0 | S113: 0 | T113: =S113*H113 -> 0 | AR113: 4 | AT113: K | AU113: 1 | AY113: ROZPOCET | BE113: =IF(N113="základní",J113,0) -> 0 | BF113: =IF(N113="snížená",J113,0) -> 0 | BG113: =IF(N113="zákl. přenesená",J113,0) -> 0 | BH113: =IF(N113="sníž. přenesená",J113,0) -> 0 | BI113: =IF(N113="nulová",J113,0) -> 0 | BJ113: 2 | BK113: =ROUND(I113*H113,2) -> 0 | BL113: 4 | BM113: 52
C114: 27 | D114: K | E114: EPS-27 | F114: kabel 3x1,5 (CYKY) | G114: m | H114: 45 | J114: =ROUND(I114*H114,2) -> 0 | N114: snížená | P114: =O114*H114 -> 0 | Q114: 0 | R114: =Q114*H114 -> 0 | S114: 0 | T114: =S114*H114 -> 0 | AR114: 4 | AT114: K | AU114: 1 | AY114: ROZPOCET | BE114: =IF(N114="základní",J114,0) -> 0 | BF114: =IF(N114="snížená",J114,0) -> 0 | BG114: =IF(N114="zákl. přenesená",J114,0) -> 0 | BH114: =IF(N114="sníž. přenesená",J114,0) -> 0 | BI114: =IF(N114="nulová",J114,0) -> 0 | BJ114: 2 | BK114: =ROUND(I114*H114,2) -> 0 | BL114: 4 | BM114: 54
C115: 28 | D115: K | E115: EPS-28 | F115: kabel 2x1,5 (CYKY) | G115: m | H115: 400 | J115: =ROUND(I115*H115,2) -> 0 | N115: snížená | P115: =O115*H115 -> 0 | Q115: 0 | R115: =Q115*H115 -> 0 | S115: 0 | T115: =S115*H115 -> 0 | AR115: 4 | AT115: K | AU115: 1 | AY115: ROZPOCET | BE115: =IF(N115="základní",J115,0) -> 0 | BF115: =IF(N115="snížená",J115,0) -> 0 | BG115: =IF(N115="zákl. přenesená",J115,0) -> 0 | BH115: =IF(N115="sníž. přenesená",J115,0) -> 0 | BI115: =IF(N115="nulová",J115,0) -> 0 | BJ115: 2 | BK115: =ROUND(I115*H115,2) -> 0 | BL115: 4 | BM115: 56
C116: 29 | D116: K | E116: EPS-29 | F116: Revize zařízení | G116: kompl | H116: 1 | J116: =ROUND(I116*H116,2) -> 0 | N116: snížená | P116: =O116*H116 -> 0 | Q116: 0 | R116: =Q116*H116 -> 0 | S116: 0 | T116: =S116*H116 -> 0 | AR116: 4 | AT116: K | AU116: 1 | AY116: ROZPOCET | BE116: =IF(N116="základní",J116,0) -> 0 | BF116: =IF(N116="snížená",J116,0) -> 0 | BG116: =IF(N116="zákl. přenesená",J116,0) -> 0 | BH116: =IF(N116="sníž. přenesená",J116,0) -> 0 | BI116: =IF(N116="nulová",J116,0) -> 0 | BJ116: 2 | BK116: =ROUND(I116*H116,2) -> 0 | BL116: 4 | BM116: 58

Sheet D.1.12 - Pokojový zvedací...
L2: >> skryté sloupce << | AT2: {6a15f03c-d33a-4f02-91df-3b1ca62a375d}
AT3: 1
D4: KRYCÍ LIST SOUPISU PRACÍ | M4: v --- níže se nacházejí doplnkové a pomocné údaje k sestavám --- v | AT4: False
D6: Stavba:
E7: ='Rekapitulace stavby'!K6 -> Přestavba a rozšíření domova pro seniory Jiráskova č.p.193 Broumov - CHRÁNĚNÉ BYTY
D8: Objekt:
E9: D.1.12 - Pokojový zvedací systém
D11: KSO: | I11: CC-CZ:
D12: Místo: | I12: Datum: | J12: ='Rekapitulace stavby'!AN8 -> 4. 3. 2022
D14: Zadavatel: | I14: IČ: | J14: =IF('Rekapitulace stavby'!AN10="","",'Rekapitulace stavby'!AN10)
E15: =IF('Rekapitulace stavby'!E11="","",'Rekapitulace stavby'!E11) -> Město Broumov, třída Masarykova 239 | I15: DIČ: | J15: =IF('Rekapitulace stavby'!AN11="","",'Rekapitulace stavby'!AN11)
D17: Uchazeč: | I17: IČ: | J17: ='Rekapitulace stavby'!AN13 -> Vyplň údaj
E18: ='Rekapitulace stavby'!E14 -> Vyplň údaj | I18: DIČ: | J18: ='Rekapitulace stavby'!AN14 -> Vyplň údaj
D20: Projektant: | I20: IČ: | J20: =IF('Rekapitulace stavby'!AN16="","",'Rekapitulace stavby'!AN16)
E21: =IF('Rekapitulace stavby'!E17="","",'Rekapitulace stavby'!E17) | I21: DIČ: | J21: =IF('Rekapitulace stavby'!AN17="","",'Rekapitulace stavby'!AN17)
D23: Zpracovatel: | I23: IČ: | J23: =IF('Rekapitulace stavby'!AN19="","",'Rekapitulace stavby'!AN19)
E24: =IF('Rekapitulace stavby'!E20="","",'Rekapitulace stavby'!E20) | I24: DIČ: | J24: =IF('Rekapitulace stavby'!AN20="","",'Rekapitulace stavby'!AN20)
D26: Poznámka:
D30: Cena bez DPH | J30: =ROUND(J81, 2) -> 0
F32: Základ daně | I32: Sazba daně | J32: Výše daně
D33: DPH | E33: základní | F33: =ROUND((SUM(BE81:BE124)), 2) -> 0 | I33: 0.21 | J33: =ROUND(((SUM(BE81:BE124))*I33), 2) -> 0
E34: snížená | F34: =ROUND((SUM(BF81:BF124)), 2) -> 0 | I34: 0.15 | J34: =ROUND(((SUM(BF81:BF124))*I34), 2) -> 0
E35: zákl. přenesená | F35: =ROUND((SUM(BG81:BG124)), 2) -> 0 | I35: 0.21 | J35: =0 -> 0
E36: sníž. přenesená | F36: =ROUND((SUM(BH81:BH124)), 2) -> 0 | I36: 0.15 | J36: =0 -> 0
E37: nulová | F37: =ROUND((SUM(BI81:BI124)), 2) -> 0 | I37: 0 | J37: =0 -> 0
D39: Cena s DPH | G39: v | H39: CZK | J39: =SUM(J30:J37) -> 0
C45: REKAPITULACE ČLENĚNÍ SOUPISU PRACÍ
C47: Stavba:
E48: =E7 -> Přestavba a rozšíření domova pro seniory Jiráskova č.p.193 Broumov - CHRÁNĚNÉ BYTY
C49: Objekt:
E50: =E9 -> D.1.12 - Pokojový zvedací systém
C52: Místo: | F52: =F12 | I52: Datum: | J52: =IF(J12="","",J12) -> 4. 3. 2022
C54: Zadavatel: | F54: =E15 -> Město Broumov, třída Masarykova 239 | I54: Projektant: | J54: =E21
C55: Uchazeč: | F55: =IF(E18="","",E18) -> Vyplň údaj | I55: Zpracovatel: | J55: =E24
C57: Kód dílu - Popis | J57: Cena celkem [CZK]
C59: Náklady stavby celkem | J59: =J81 -> 0 | AU59: -1
D60: Ostatní - Ostatní | J60: =J82 -> 0
D61: KZS - Kolejnicový zvedací systém | J61: =J83 -> 0
C68: SOUPIS PRACÍ
C70: Stavba:
E71: =E7 -> Přestavba a rozšíření domova pro seniory Jiráskova č.p.193 Broumov - CHRÁNĚNÉ BYTY
C72: Objekt:
E73: =E9 -> D.1.12 - Pokojový zvedací systém
C75: Místo: | F75: =F12 | I75: Datum: | J75: =IF(J12="","",J12) -> 4. 3. 2022
C77: Zadavatel: | F77: =E15 -> Město Broumov, třída Masarykova 239 | I77: Projektant: | J77: =E21
C78: Uchazeč: | F78: =IF(E18="","",E18) -> Vyplň údaj | I78: Zpracovatel: | J78: =E24
C80: PČ | D80: Typ | E80: Kód | F80: Popis | G80: MJ | H80: Množství | I80: J.cena [CZK] | J80: Cena celkem [CZK] | K80: Cenová soustava | N80: DPH | O80: J. Nh [h] | P80: Nh celkem [h] | Q80: J. hmotnost [t] | R80: Hmotnost celkem [t] | S80: J. suť [t] | T80: Suť Celkem [t]
C81: Náklady soupisu celkem | J81: =BK81 -> 0 | P81: =P82 -> 0 | R81: =R82 -> 0 | T81: =T82 -> 0 | AT81: D | AU81: -1 | BK81: =BK82 -> 0
D82: D | E82: Ostatní | F82: Ostatní | J82: =BK82 -> 0 | P82: =P83 -> 0 | R82: =R83 -> 0 | T82: =T83 -> 0 | AR82: 4 | AT82: D | AU82: 0 | AY82: ROZPOCET | BK82: =BK83 -> 0
D83: D | E83: KZS | F83: Kolejnicový zvedací systém | J83: =BK83 -> 0 | P83: =SUM(P84:P124) -> 0 | R83: =SUM(R84:R124) -> 0 | T83: =SUM(T84:T124) -> 0 | AR83: 4 | AT83: D | AU83: 1 | AY83: ROZPOCET | BK83: =SUM(BK84:BK124) -> 0
C84: 1 | D84: K | E84: KZS-0001 | F84: Kolejnicový systém portálový na ploše cca 4,1 x 4,9 m pro pokrytí hlavní části plochy místnosti, včetně dopravy, montáže a inicializační revize. Montáž do stěn. Všechny kolejnice profilu 120 x 73 mm. Nosnost 150 kg. Pokoj č.1 | G84: kus | H84: 1 | J84: =ROUND(I84*H84,2) -> 0 | N84: snížená | P84: =O84*H84 -> 0 | Q84: 0 | R84: =Q84*H84 -> 0 | S84: 0 | T84: =S84*H84 -> 0 | AR84: 4 | AT84: K | AU84: 2 | AY84: ROZPOCET | BE84: =IF(N84="základní",J84,0) -> 0 | BF84: =IF(N84="snížená",J84,0) -> 0 | BG84: =IF(N84="zákl. přenesená",J84,0) -> 0 | BH84: =IF(N84="sníž. přenesená",J84,0) -> 0 | BI84: =IF(N84="nulová",J84,0) -> 0 | BJ84: 2 | BK84: =ROUND(I84*H84,2) -> 0 | BL84: 4 | BM84: -735146376
C85: 2 | D85: K | E85: KZS-0002 | F85: Kolejnicový systém portálový na ploše cca 4,1 x 4,9 m pro pokrytí hlavní části plochy místnosti, včetně dopravy, montáže a inicializační revize. Montáž do stěn. Všechny kolejnice profilu 120 x 73 mm. Nosnost 150 kg. Pokoj č.2 | G85: kus | H85: 1 | J85: =ROUND(I85*H85,2) -> 0 | N85: snížená | P85: =O85*H85 -> 0 | Q85: 0 | R85: =Q85*H85 -> 0 | S85: 0 | T85: =S85*H85 -> 0 | AR85: 4 | AT85: K | AU85: 2 | AY85: ROZPOCET | BE85: =IF(N85="základní",J85,0) -> 0 | BF85: =IF(N85="snížená",J85,0) -> 0 | BG85: =IF(N85="zákl. přenesená",J85,0) -> 0 | BH85: =IF(N85="sníž. přenesená",J85,0) -> 0 | BI85: =IF(N85="nulová",J85,0) -> 0 | BJ85: 2 | BK85: =ROUND(I85*H85,2) -> 0 | BL85: 4 | BM85: 236925715
C86: 3 | D86: K | E86: KZS-0003 | F86: Kolejnicový systém portálový na ploše cca 3,4 x 4,9 m pro pokrytí hlavní části plochy místnosti, včetně dopravy, montáže a inicializační revize. Montáž do stěn. Všechny kolejnice profilu 120 x 73 mm. Nosnost 150 kg. Pokoj č.3 | G86: kus | H86: 1 | J86: =ROUND(I86*H86,2) -> 0 | N86: snížená | P86: =O86*H86 -> 0 | Q86: 0 | R86: =Q86*H86 -> 0 | S86: 0 | T86: =S86*H86 -> 0 | AR86: 4 | AT86: K | AU86: 2 | AY86: ROZPOCET | BE86: =IF(N86="základní",J86,0) -> 0 | BF86: =IF(N86="snížená",J86,0) -> 0 | BG86: =IF(N86="zákl. přenesená",J86,0) -> 0 | BH86: =IF(N86="sníž. přenesená",J86,0) -> 0 | BI86: =IF(N86="nulová",J86,0) -> 0 | BJ86: 2 | BK86: =ROUND(I86*H86,2) -> 0 | BL86: 4 | BM86: -279944426
C87: 4 | D87: K | E87: KZS-0004 | F87: Kolejnicový systém portálový na ploše cca 5,0 x 5,0 m pro pokrytí hlavní části plochy místnosti, včetně dopravy, montáže a inicializační revize. Montáž do stěn. Pevné kolejnice profilu 87 x 70 mm, pohyblivá kolejnice profilu 120 x 73 mm. Nosnost 150 kg. P | G87: kus | H87: 1 | J87: =ROUND(I87*H87,2) -> 0 | N87: snížená | P87: =O87*H87 -> 0 | Q87: 0 | R87: =Q87*H87 -> 0 | S87: 0 | T87: =S87*H87 -> 0 | AR87: 4 | AT87: K | AU87: 2 | AY87: ROZPOCET | BE87: =IF(N87="základní",J87,0) -> 0 | BF87: =IF(N87="snížená",J87,0) -> 0 | BG87: =IF(N87="zákl. přenesená",J87,0) -> 0 | BH87: =IF(N87="sníž. přenesená",J87,0) -> 0 | BI87: =IF(N87="nulová",J87,0) -> 0 | BJ87: 2 | BK87: =ROUND(I87*H87,2) -> 0 | BL87: 4 | BM87: 2139153593
C88: 5 | D88: K | E88: KZS-0005 | F88: Kolejnicový systém portálový na ploše cca 5,0 x 4,0 m pro pokrytí hlavní části plochy místnosti, včetně dopravy, montáže a inicializační revize. Montáž do stěn. Pevné kolejnice profilu 87 x 70 mm, pohyblivá kolejnice profilu 120 x 73 mm. Nosnost 150 kg. P | G88: kus | H88: 1 | J88: =ROUND(I88*H88,2) -> 0 | N88: snížená | P88: =O88*H88 -> 0 | Q88: 0 | R88: =Q88*H88 -> 0 | S88: 0 | T88: =S88*H88 -> 0 | AR88: 4 | AT88: K | AU88: 2 | AY88: ROZPOCET | BE88: =IF(N88="základní",J88,0) -> 0 | BF88: =IF(N88="snížená",J88,0) -> 0 | BG88: =IF(N88="zákl. přenesená",J88,0) -> 0 | BH88: =IF(N88="sníž. přenesená",J88,0) -> 0 | BI88: =IF(N88="nulová",J88,0) -> 0 | BJ88: 2 | BK88: =ROUND(I88*H88,2) -> 0 | BL88: 4 | BM88: -1762690003
C89: 6 | D89: K | E89: KZS-0006 | F89: Kolejnicový systém portálový na ploše cca 5,0 x 4,0 m pro pokrytí hlavní části plochy místnosti, včetně dopravy, montáže a inicializační revize. Montáž do stěn. Pevné kolejnice profilu 87 x 70 mm, pohyblivá kolejnice profilu 120 x 73 mm. Nosnost 150 kg. P | G89: kus | H89: 1 | J89: =ROUND(I89*H89,2) -> 0 | N89: snížená | P89: =O89*H89 -> 0 | Q89: 0 | R89: =Q89*H89 -> 0 | S89: 0 | T89: =S89*H89 -> 0 | AR89: 4 | AT89: K | AU89: 2 | AY89: ROZPOCET | BE89: =IF(N89="základní",J89,0) -> 0 | BF89: =IF(N89="snížená",J89,0) -> 0 | BG89: =IF(N89="zákl. přenesená",J89,0) -> 0 | BH89: =IF(N89="sníž. přenesená",J89,0) -> 0 | BI89: =IF(N89="nulová",J89,0) -> 0 | BJ89: 2 | BK89: =ROUND(I89*H89,2) -> 0 | BL89: 4 | BM89: 10079695
C90: 7 | D90: K | E90: KZS-0007 | F90: Kolejnicový systém portálový na ploše cca 5,0 x 4,0 m pro pokrytí hlavní části plochy místnosti, včetně dopravy, montáže a inicializační revize. Montáž do stěn. Pevné kolejnice profilu 87 x 70 mm, pohyblivá kolejnice profilu 120 x 73 mm. Nosnost 150 kg. P | G90: kus | H90: 1 | J90: =ROUND(I90*H90,2) -> 0 | N90: snížená | P90: =O90*H90 -> 0 | Q90: 0 | R90: =Q90*H90 -> 0 | S90: 0 | T90: =S90*H90 -> 0 | AR90: 4 | AT90: K | AU90: 2 | AY90: ROZPOCET | BE90: =IF(N90="základní",J90,0) -> 0 | BF90: =IF(N90="snížená",J90,0) -> 0 | BG90: =IF(N90="zákl. přenesená",J90,0) -> 0 | BH90: =IF(N90="sníž. přenesená",J90,0) -> 0 | BI90: =IF(N90="nulová",J90,0) -> 0 | BJ90: 2 | BK90: =ROUND(I90*H90,2) -> 0 | BL90: 4 | BM90: -181990403
C91: 8 | D91: K | E91: KZS-0008 | F91: Kolejnicový systém portálový na ploše cca 5,0 x 4,0 m pro pokrytí hlavní části plochy místnosti, včetně dopravy, montáže a inicializační revize. Montáž do stěn. Pevné kolejnice profilu 87 x 70 mm, pohyblivá kolejnice profilu 120 x 73 mm. Nosnost 150 kg. P | G91: kus | H91: 1 | J91: =ROUND(I91*H91,2) -> 0 | N91: snížená | P91: =O91*H91 -> 0 | Q91: 0 | R91: =Q91*H91 -> 0 | S91: 0 | T91: =S91*H91 -> 0 | AR91: 4 | AT91: K | AU91: 2 | AY91: ROZPOCET | BE91: =IF(N91="základní",J91,0) -> 0 | BF91: =IF(N91="snížená",J91,0) -> 0 | BG91: =IF(N91="zákl. přenesená",J91,0) -> 0 | BH91: =IF(N91="sníž. přenesená",J91,0) -> 0 | BI91: =IF(N91="nulová",J91,0) -> 0 | BJ91: 2 | BK91: =ROUND(I91*H91,2) -> 0 | BL91: 4 | BM91: 2089392044
C92: 9 | D92: K | E92: KZS-0009 | F92: Kolejnicový systém portálový na ploše cca 5,0 x 4,0 m pro pokrytí hlavní části plochy místnosti, včetně dopravy, montáže a inicializační revize. Montáž do stěn. Pevné kolejnice profilu 87 x 70 mm, pohyblivá kolejnice profilu 120 x 73 mm. Nosnost 150 kg. P | G92: kus | H92: 1 | J92: =ROUND(I92*H92,2) -> 0 | N92: snížená | P92: =O92*H92 -> 0 | Q92: 0 | R92: =Q92*H92 -> 0 | S92: 0 | T92: =S92*H92 -> 0 | AR92: 4 | AT92: K | AU92: 2 | AY92: ROZPOCET | BE92: =IF(N92="základní",J92,0) -> 0 | BF92: =IF(N92="snížená",J92,0) -> 0 | BG92: =IF(N92="zákl. přenesená",J92,0) -> 0 | BH92: =IF(N92="sníž. přenesená",J92,0) -> 0 | BI92: =IF(N92="nulová",J92,0) -> 0 | BJ92: 2 | BK92: =ROUND(I92*H92,2) -> 0 | BL92: 4 | BM92: -540107923
C93: 10 | D93: K | E93: KZS-0010 | F93: Kolejnicový systém portálový na ploše cca 5,0 x 4,0 m pro pokrytí hlavní části plochy místnosti, včetně dopravy, montáže a inicializační revize. Montáž do stěn. Pevné kolejnice profilu 87 x 70 mm, pohyblivá kolejnice profilu 120 x 73 mm. Nosnost 150 kg. P | G93: kus | H93: 1 | J93: =ROUND(I93*H93,2) -> 0 | N93: snížená | P93: =O93*H93 -> 0 | Q93: 0 | R93: =Q93*H93 -> 0 | S93: 0 | T93: =S93*H93 -> 0 | AR93: 4 | AT93: K | AU93: 2 | AY93: ROZPOCET | BE93: =IF(N93="základní",J93,0) -> 0 | BF93: =IF(N93="snížená",J93,0) -> 0 | BG93: =IF(N93="zákl. přenesená",J93,0) -> 0 | BH93: =IF(N93="sníž. přenesená",J93,0) -> 0 | BI93: =IF(N93="nulová",J93,0) -> 0 | BJ93: 2 | BK93: =ROUND(I93*H93,2) -> 0 | BL93: 4 | BM93: -1603325961
C94: 11 | D94: K | E94: KZS-0011 | F94: Kolejnicový systém portálový na ploše cca 4,0 x 5,8 m pro pokrytí celé plochy místnosti, včetně dopravy, montáže a inicializační revize. Montáž do stěn. Pevné kolejnice profilu 87 x 70 mm, pohyblivá kolejnice profilu 120 x 73 mm. Nosnost 150 kg. Pokoj č.1 | G94: kus | H94: 1 | J94: =ROUND(I94*H94,2) -> 0 | N94: snížená | P94: =O94*H94 -> 0 | Q94: 0 | R94: =Q94*H94 -> 0 | S94: 0 | T94: =S94*H94 -> 0 | AR94: 4 | AT94: K | AU94: 2 | AY94: ROZPOCET | BE94: =IF(N94="základní",J94,0) -> 0 | BF94: =IF(N94="snížená",J94,0) -> 0 | BG94: =IF(N94="zákl. přenesená",J94,0) -> 0 | BH94: =IF(N94="sníž. přenesená",J94,0) -> 0 | BI94: =IF(N94="nulová",J94,0) -> 0 | BJ94: 2 | BK94: =ROUND(I94*H94,2) -> 0 | BL94: 4 | BM94: 1655450389
C95: 12 | D95: K | E95: KZS-0012 | F95: Kolejnicový systém portálový na ploše cca 2,4 x 2,1 m pro pokrytí hlavní části plochy místnosti, včetně dopravy, montáže a inicializační revize. Montáž do stěn. Všechny kolejnice profilu 87 x 70 mm. Nosnost 150 kg. Sociální zařízení č.11 | G95: kus | H95: 1 | J95: =ROUND(I95*H95,2) -> 0 | N95: snížená | P95: =O95*H95 -> 0 | Q95: 0 | R95: =Q95*H95 -> 0 | S95: 0 | T95: =S95*H95 -> 0 | AR95: 4 | AT95: K | AU95: 2 | AY95: ROZPOCET | BE95: =IF(N95="základní",J95,0) -> 0 | BF95: =IF(N95="snížená",J95,0) -> 0 | BG95: =IF(N95="zákl. přenesená",J95,0) -> 0 | BH95: =IF(N95="sníž. přenesená",J95,0) -> 0 | BI95: =IF(N95="nulová",J95,0) -> 0 | BJ95: 2 | BK95: =ROUND(I95*H95,2) -> 0 | BL95: 4 | BM95: 1168485234
... C124: 41 | D124: K | E124: KZS-0041 | F124: Závěs pro použití toalety, různé velikosti | G124: kus | H124: 10 | J124: =ROUND(I124*H124,2) -> 0 | N124: snížená | P124: =O124*H124 -> 0 | Q124: 0 | R124: =Q124*H124 -> 0 | S124: 0 | T124: =S124*H124 -> 0 | AR124: 4 | AT124: K | AU124: 2 | AY124: ROZPOCET | BE124: =IF(N124="základní",J124,0) -> 0 | BF124: =IF(N124="snížená",J124,0) -> 0 | BG124: =IF(N124="zákl. přenesená",J124,0) -> 0 | BH124: =IF(N124="sníž. přenesená",J124,0) -> 0 | BI124: =IF(N124="nulová",J124,0) -> 0 | BJ124: 2 | BK124: =ROUND(I124*H124,2) -> 0 | BL124: 4 | BM124: -1838610920

Sheet VON - Vedlejší a ostatní ...
L2: >> skryté sloupce << | AT2: {bc4fe42b-4677-4368-80dd-5dd9ecd2bbef}
AT3: 1
D4: KRYCÍ LIST SOUPISU PRACÍ | M4: v --- níže se nacházejí doplnkové a pomocné údaje k sestavám --- v | AT4: False
D6: Stavba:
E7: ='Rekapitulace stavby'!K6 -> Přestavba a rozšíření domova pro seniory Jiráskova č.p.193 Broumov - CHRÁNĚNÉ BYTY
D8: Objekt:
E9: VON - Vedlejší a ostatní ...
D11: KSO: | I11: CC-CZ:
D12: Místo: | I12: Datum: | J12: ='Rekapitulace stavby'!AN8 -> 4. 3. 2022
D14: Zadavatel: | I14: IČ: | J14: =IF('Rekapitulace stavby'!AN10="","",'Rekapitulace stavby'!AN10)
E15: =IF('Rekapitulace stavby'!E11="","",'Rekapitulace stavby'!E11) -> Město Broumov, třída Masarykova 239 | I15: DIČ: | J15: =IF('Rekapitulace stavby'!AN11="","",'Rekapitulace stavby'!AN11)
D17: Uchazeč: | I17: IČ: | J17: ='Rekapitulace stavby'!AN13 -> Vyplň údaj
E18: ='Rekapitulace stavby'!E14 -> Vyplň údaj | I18: DIČ: | J18: ='Rekapitulace stavby'!AN14 -> Vyplň údaj
D20: Projektant: | I20: IČ: | J20: =IF('Rekapitulace stavby'!AN16="","",'Rekapitulace stavby'!AN16)
E21: =IF('Rekapitulace stavby'!E17="","",'Rekapitulace stavby'!E17) | I21: DIČ: | J21: =IF('Rekapitulace stavby'!AN17="","",'Rekapitulace stavby'!AN17)
D23: Zpracovatel: | I23: IČ: | J23: =IF('Rekapitulace stavby'!AN19="","",'Rekapitulace stavby'!AN19)
E24: =IF('Rekapitulace stavby'!E20="","",'Rekapitulace stavby'!E20) | I24: DIČ: | J24: =IF('Rekapitulace stavby'!AN20="","",'Rekapitulace stavby'!AN20)
D26: Poznámka:
D30: Cena bez DPH | J30: =ROUND(J83, 2) -> 0
F32: Základ daně | I32: Sazba daně | J32: Výše daně
D33: DPH | E33: základní | F33: =ROUND((SUM(BE83:BE91)), 2) -> 0 | I33: 0.21 | J33: =ROUND(((SUM(BE83:BE91))*I33), 2) -> 0
E34: snížená | F34: =ROUND((SUM(BF83:BF91)), 2) -> 0 | I34: 0.15 | J34: =ROUND(((SUM(BF83:BF91))*I34), 2) -> 0
E35: zákl. přenesená | F35: =ROUND((SUM(BG83:BG91)), 2) -> 0 | I35: 0.21 | J35: =0 -> 0
E36: sníž. přenesená | F36: =ROUND((SUM(BH83:BH91)), 2) -> 0 | I36: 0.15 | J36: =0 -> 0
E37: nulová | F37: =ROUND((SUM(BI83:BI91)), 2) -> 0 | I37: 0 | J37: =0 -> 0
D39: Cena s DPH | G39: v | H39: CZK | J39: =SUM(J30:J37) -> 0
C45: REKAPITULACE ČLENĚNÍ SOUPISU PRACÍ
C47: Stavba:
E48: =E7 -> Přestavba a rozšíření domova pro seniory Jiráskova č.p.193 Broumov - CHRÁNĚNÉ BYTY
C49: Objekt:
E50: =E9 -> VON - Vedlejší a ostatní ...
C52: Místo: | F52: =F12 | I52: Datum: | J52: =IF(J12="","",J12) -> 4. 3. 2022
C54: Zadavatel: | F54: =E15 -> Město Broumov, třída Masarykova 239 | I54: Projektant: | J54: =E21
C55: Uchazeč: | F55: =IF(E18="","",E18) -> Vyplň údaj | I55: Zpracovatel: | J55: =E24
C57: Kód dílu - Popis | J57: Cena celkem [CZK]
C59: Náklady stavby celkem | J59: =J83 -> 0 | AU59: -1
D60: VRN - VRN | J60: =J84 -> 0
D61: 1 - ZS - Zařízení staveniště | J61: =J85 -> 0
D62: 2 - PP - Projektové práce | J62: =J87 -> 0
D63: 3 - GP - Geodetické práce | J63: =J89 -> 0
C70: SOUPIS PRACÍ
C72: Stavba:
E73: =E7 -> Přestavba a rozšíření domova pro seniory Jiráskova č.p.193 Broumov - CHRÁNĚNÉ BYTY
C74: Objekt:
E75: =E9 -> VON - Vedlejší a ostatní ...
C77: Místo: | F77: =F12 | I77: Datum: | J77: =IF(J12="","",J12) -> 4. 3. 2022
C79: Zadavatel: | F79: =E15 -> Město Broumov, třída Masarykova 239 | I79: Projektant: | J79: =E21
C80: Uchazeč: | F80: =IF(E18="","",E18) -> Vyplň údaj | I80: Zpracovatel: | J80: =E24
C82: PČ | D82: Typ | E82: Kód | F82: Popis | G82: MJ | H82: Množství | I82: J.cena [CZK] | J82: Cena celkem [CZK] | K82: Cenová soustava | N82: DPH | O82: J. Nh [h] | P82: Nh celkem [h] | Q82: J. hmotnost [t] | R82: Hmotnost celkem [t] | S82: J. suť [t] | T82: Suť Celkem [t]
C83: Náklady soupisu celkem | J83: =BK83 -> 0 | P83: =P84 -> 0 | R83: =R84 -> 0 | T83: =T84 -> 0 | AT83: D | AU83: -1 | BK83: =BK84 -> 0
D84: D | E84: VRN | F84: VRN | J84: =BK84 -> 0 | P84: =P85+P87+P89 -> 0 | R84: =R85+R87+R89 -> 0 | T84: =T85+T87+T89 -> 0 | AR84: 5 | AT84: D | AU84: 0 | AY84: ROZPOCET | BK84: =BK85+BK87+BK89 -> 0
D85: D | E85: 1 - ZS | F85: Zařízení staveniště | J85: =BK85 -> 0 | P85: =P86 -> 0 | R85: =R86 -> 0 | T85: =T86 -> 0 | AR85: 1 | AT85: D | AU85: 1 | AY85: ROZPOCET | BK85: =BK86 -> 0
