Workbook

Sheet Rekapitulace stavby
A1: Export Komplet | BA1: 2.0 | BB1: ZAMOK | BT1: False | BU1: False | BV1: {80fd9013-fd80-4c33-8429-e21916f08636}
BS2: 0,01 | BT2: 21
BS3: 0,01 | BT3: 15
D4: REKAPITULACE STAVBY | AS4: v --- níže se nacházejí doplnkové a pomocné údaje k sestavám --- v | BE4: Návod na vyplnění | BS4: 0,001
D5: Kód: | K5: 4203-111-41 | BE5: Měnit lze pouze buňky se žlutým podbarvením!_x000D_ _x000D_ 1) na prvním listu Rekapitulace stavby vyplňte v sestavě_x000D_ _x000D_ a) Souhrnný list_x000D_ - údaje o Uchazeči_x000D_ (přenesou se do ostatních sestav i v jiných listech)_x000D_ _x000D_ b) Rekapitulace objektů_x000D_ - potřebné Ostatní náklady_x000D_ _x000D_ 2) na vybraných listech vyplňte v sestavě_x000D_ _x000D_ a) Krycí list_x000D_ - údaje o Uchazeči, pokud se liší od údajů o Uchazeči na Souhrnném listu_x000D_ (údaje se přenesou do ostatních sestav v daném listu)_x000D_ _x000D_ b) Rekapitulace rozpočtu_x000D_ - potřebné Ostatní náklady_x000D_ _x000D_ c) Celkové náklady za stavbu_x000D_ - ceny u položek_x000D_ - množství, pokud má žluté podbarvení_x000D_ - a v případě potřeby poznámku (ta je ve skrytém sloupci) | BS5: 0,01
D6: Stavba: | K6: Cyklostezky 2020 - trasa I (Požární nádrž Běchovice – ČOV Újezd nad Lesy) | BS6: 0,01
D7: KSO: | AK7: CC-CZ: | BS7: 0,01
D8: Místo: | K8: Praha - Běchovice | AK8: Datum: | AN8: 26. 4. 2022 | BS8: 0,01
BS9: 0,01
D10: Zadavatel: | AK10: IČ: | BS10: 0,01
E11: Městská část Praha – Běchovice | AK11: DIČ: | BS11: 0,01
BS12: 0,01
D13: Uchazeč: | AK13: IČ: | AN13: Vyplň údaj | BS13: 0,01
E14: Vyplň údaj | AK14: DIČ: | AN14: Vyplň údaj | BS14: 0,01
BS15: False
D16: Projektant: | AK16: IČ: | BS16: False
E17: KONTIGA s.r.o. | AK17: DIČ: | BS17: True
BS18: 0,01
D19: Zpracovatel: | AK19: IČ: | BS19: 0,01
E20: Ing. Jan Duben | AK20: DIČ: | BS20: True
D22: Poznámka:
D26: Cena bez DPH | AK26: =ROUND(AG94,2) -> 0
L28: Sazba daně | W28: Základ daně | AK28: Výše daně
D29: DPH | F29: základní | L29: 0.21 | W29: =ROUND(AZ94, 2) -> 0 | AK29: =ROUND(AV94, 2) -> 0
F30: snížená | L30: 0.15 | W30: =ROUND(BA94, 2) -> 0 | AK30: =ROUND(AW94, 2) -> 0
F31: zákl. přenesená | L31: 0.21 | W31: =ROUND(BB94, 2) -> 0 | AK31: 0
F32: sníž. přenesená | L32: 0.15 | W32: =ROUND(BC94, 2) -> 0 | AK32: 0
F33: nulová | L33: 0 | W33: =ROUND(BD94, 2) -> 0 | AK33: 0
D35: Cena s DPH | T35: v | X35: CZK | AK35: =SUM(AK26:AK33) -> 0
D49: Projektant | AH49: Zpracovatel
D60: Datum a podpis: | V60: Razítko | AH60: Datum a podpis: | AM60: Razítko
D64: Objednavatel | AH64: Uchazeč
D75: Datum a podpis: | V75: Razítko | AH75: Datum a podpis: | AM75: Razítko
C82: REKAPITULACE OBJEKTŮ STAVBY A SOUPISŮ PRACÍ
C84: Kód: | L84: =K5 -> 4203-111-41
C85: Stavba: | L85: =K6 -> Cyklostezky 2020 - trasa I (Požární nádrž Běchovice – ČOV Újezd nad Lesy)
C87: Místo: | L87: =IF(K8="","",K8) -> Praha - Běchovice | AI87: Datum: | AM87: =IF(AN8= "","",AN8) -> 26. 4. 2022
C89: Zadavatel: | L89: =IF(E11= "","",E11) -> Městská část Praha – Běchovice | AI89: Projektant: | AM89: =IF(E17="","",E17) -> KONTIGA s.r.o. | AS89: Informatívní údaje z listů zakázek
C90: Uchazeč: | L90: =IF(E14= "Vyplň údaj","",E14) | AI90: Zpracovatel: | AM90: =IF(E20="","",E20) -> Ing. Jan Duben
C92: Kód | I92: Popis | AG92: Cena bez DPH [CZK] | AN92: Cena s DPH [CZK] | AQ92: Typ | AS92: z toho Ostat._x000D_ náklady [CZK] | AT92: DPH [CZK] | AU92: Normohodiny [h] | AV92: DPH základní [CZK] | AW92: DPH snížená [CZK] | AX92: DPH základní přenesená_x000D_ [CZK] | AY92: DPH snížená přenesená_x000D_ [CZK] | AZ92: Základna_x000D_ DPH základní | BA92: Základna_x000D_ DPH snížená | BB92: Základna_x000D_ DPH zákl. přenesená | BC92: Základna_x000D_ DPH sníž. přenesená | BD92: Základna_x000D_ DPH nulová
C94: Náklady z rozpočtů | AG94: =ROUND(SUM(AG95:AG97),2) -> 0 | AN94: =SUM(AG94,AT94) -> 0 | AS94: =ROUND(SUM(AS95:AS97),2) -> 0 | AT94: =ROUND(SUM(AV94:AW94),2) -> 0 | AU94: =ROUND(SUM(AU95:AU97),5) -> 0 | AV94: =ROUND(AZ94*L29,2) -> 0 | AW94: =ROUND(BA94*L30,2) -> 0 | AX94: =ROUND(BB94*L29,2) -> 0 | AY94: =ROUND(BC94*L30,2) -> 0 | AZ94: =ROUND(SUM(AZ95:AZ97),2) -> 0 | BA94: =ROUND(SUM(BA95:BA97),2) -> 0 | BB94: =ROUND(SUM(BB95:BB97),2) -> 0 | BC94: =ROUND(SUM(BC95:BC97),2) -> 0 | BD94: =ROUND(SUM(BD95:BD97),2) -> 0 | BS94: D | BT94: 0 | BU94: ###NOIMPORT### | BV94: IMPORT | BW94: {80fd9013-fd80-4c33-8429-e21916f08636} | BX94: {00000000-0000-0000-0000-000000000000}
A95: / | D95: SO 101 | J95: Stezka pro chodce a cyklisty | AG95: ='SO 101 - Stezka pro chodc...'!J30 -> 0 | AN95: =SUM(AG95,AT95) -> 0 | AQ95: STA | AS95: 0 | AT95: =ROUND(SUM(AV95:AW95),2) -> 0 | AU95: ='SO 101 - Stezka pro chodc...'!P128 -> 0 | AV95: ='SO 101 - Stezka pro chodc...'!J33 -> 0 | AW95: ='SO 101 - Stezka pro chodc...'!J34 -> 0 | AX95: ='SO 101 - Stezka pro chodc...'!J35 -> 0 | AY95: ='SO 101 - Stezka pro chodc...'!J36 -> 0 | AZ95: ='SO 101 - Stezka pro chodc...'!F33 -> 0 | BA95: ='SO 101 - Stezka pro chodc...'!F34 -> 0 | BB95: ='SO 101 - Stezka pro chodc...'!F35 -> 0 | BC95: ='SO 101 - Stezka pro chodc...'!F36 -> 0 | BD95: ='SO 101 - Stezka pro chodc...'!F37 -> 0 | BT95: 1 | BV95: IMPORT | BW95: {82d38d41-b811-4341-9e54-6f6f9725e965} | BX95: {80fd9013-fd80-4c33-8429-e21916f08636} | CM95: 2
A96: / | D96: SO 201 | J96: Armovaný svah | AG96: ='SO 201 - Armovaný svah'!J30 -> 0 | AN96: =SUM(AG96,AT96) -> 0 | AQ96: STA | AS96: 0 | AT96: =ROUND(SUM(AV96:AW96),2) -> 0 | AU96: ='SO 201 - Armovaný svah'!P122 -> 0 | AV96: ='SO 201 - Armovaný svah'!J33 -> 0 | AW96: ='SO 201 - Armovaný svah'!J34 -> 0 | AX96: ='SO 201 - Armovaný svah'!J35 -> 0 | AY96: ='SO 201 - Armovaný svah'!J36 -> 0 | AZ96: ='SO 201 - Armovaný svah'!F33 -> 0 | BA96: ='SO 201 - Armovaný svah'!F34 -> 0 | BB96: ='SO 201 - Armovaný svah'!F35 -> 0 | BC96: ='SO 201 - Armovaný svah'!F36 -> 0 | BD96: ='SO 201 - Armovaný svah'!F37 -> 0 | BT96: 1 | BV96: IMPORT | BW96: {aa36dd99-82e9-4b89-be5e-ba25787f7e82} | BX96: {80fd9013-fd80-4c33-8429-e21916f08636} | CM96: 2
A97: / | D97: VON | J97: Vedlejší a ostatní náklady | AG97: ='VON - Vedlejší a ostatní ...'!J30 -> 0 | AN97: =SUM(AG97,AT97) -> 0 | AQ97: STA | AS97: 0 | AT97: =ROUND(SUM(AV97:AW97),2) -> 0 | AU97: ='VON - Vedlejší a ostatní ...'!P121 -> 0 | AV97: ='VON - Vedlejší a ostatní ...'!J33 -> 0 | AW97: ='VON - Vedlejší a ostatní ...'!J34 -> 0 | AX97: ='VON - Vedlejší a ostatní ...'!J35 -> 0 | AY97: ='VON - Vedlejší a ostatní ...'!J36 -> 0 | AZ97: ='VON - Vedlejší a ostatní ...'!F33 -> 0 | BA97: ='VON - Vedlejší a ostatní ...'!F34 -> 0 | BB97: ='VON - Vedlejší a ostatní ...'!F35 -> 0 | BC97: ='VON - Vedlejší a ostatní ...'!F36 -> 0 | BD97: ='VON - Vedlejší a ostatní ...'!F37 -> 0 | BT97: 1 | BV97: IMPORT | BW97: {ba597b9e-92c3-4a5e-b0e2-87ecb92ff0ea} | BX97: {80fd9013-fd80-4c33-8429-e21916f08636} | CM97: 2

Sheet SO 101 - Stezka pro chodc...
AT2: {82d38d41-b811-4341-9e54-6f6f9725e965} | AZ2: CISTKOR | BC2: 10,26 | BD2: 2
AT3: 2 | AZ3: chodník | BC3: 9 | BD3: 2
D4: KRYCÍ LIST SOUPISU PRACÍ | M4: v --- níže se nacházejí doplnkové a pomocné údaje k sestavám --- v | AT4: False | AZ4: koryto | BC4: 224,5 | BD4: 2
AZ5: násyp | BC5: 131 | BD5: 2
D6: Stavba: | AZ6: odkop | BC6: 3809,264 | BD6: 2
E7: ='Rekapitulace stavby'!K6 -> Cyklostezky 2020 - trasa I (Požární nádrž Běchovice – ČOV Újezd nad Lesy) | AZ7: odvoz | BC7: 3921,891 | BD7: 2
D8: Objekt: | AZ8: odvozZB | BC8: 4,347 | BD8: 2
E9: SO 101 - Stezka pro chodce a cyklisty | AZ9: ohumus | BC9: 4372 | BD9: 2
AZ10: rýhy | BC10: 14,174 | BD10: 2
D11: KSO: | I11: CC-CZ: | AZ11: rýhy1 | BC11: 18,335 | BD11: 2
D12: Místo: | F12: Praha - Běchovice | I12: Datum: | J12: ='Rekapitulace stavby'!AN8 -> 26. 4. 2022 | AZ12: stezka | BC12: 4935 | BD12: 2
AZ13: varpas | BC13: 2,88 | BD13: 2
D14: Zadavatel: | I14: IČ: | AZ14: zásyp | BC14: 23,642 | BD14: 2
E15: Městská část Praha – Běchovice | I15: DIČ:
D17: Uchazeč: | I17: IČ: | J17: ='Rekapitulace stavby'!AN13 -> Vyplň údaj
E18: ='Rekapitulace stavby'!E14 -> Vyplň údaj | I18: DIČ: | J18: ='Rekapitulace stavby'!AN14 -> Vyplň údaj
D20: Projektant: | I20: IČ:
E21: KONTIGA s.r.o. | I21: DIČ:
D23: Zpracovatel: | I23: IČ:
E24: Ing. Jan Duben | I24: DIČ:
D26: Poznámka:
D30: Cena bez DPH | J30: =ROUND(J128, 2) -> 0
F32: Základ daně | I32: Sazba daně | J32: Výše daně
D33: DPH | E33: základní | F33: =ROUND((SUM(BE128:BE390)), 2) -> 0 | I33: 0.21 | J33: =ROUND(((SUM(BE128:BE390))*I33), 2) -> 0
E34: snížená | F34: =ROUND((SUM(BF128:BF390)), 2) -> 0 | I34: 0.15 | J34: =ROUND(((SUM(BF128:BF390))*I34), 2) -> 0
E35: zákl. přenesená | F35: =ROUND((SUM(BG128:BG390)), 2) -> 0 | I35: 0.21 | J35: =0 -> 0
E36: sníž. přenesená | F36: =ROUND((SUM(BH128:BH390)), 2) -> 0 | I36: 0.15 | J36: =0 -> 0
E37: nulová | F37: =ROUND((SUM(BI128:BI390)), 2) -> 0 | I37: 0 | J37: =0 -> 0
D39: Cena s DPH | G39: v | H39: CZK | J39: =SUM(J30:J37) -> 0
D50: Projektant | G50: Zpracovatel
D61: Datum a podpis: | F61: Razítko | G61: Datum a podpis: | J61: Razítko
D65: Objednavatel | G65: Uchazeč
D76: Datum a podpis: | F76: Razítko | G76: Datum a podpis: | J76: Razítko
C82: REKAPITULACE ČLENĚNÍ SOUPISU PRACÍ
C84: Stavba:
E85: =E7 -> Cyklostezky 2020 - trasa I (Požární nádrž Běchovice – ČOV Újezd nad Lesy)
C86: Objekt:
E87: =E9 -> SO 101 - Stezka pro chodce a cyklisty
C89: Místo: | F89: =F12 -> Praha - Běchovice | I89: Datum: | J89: =IF(J12="","",J12) -> 26. 4. 2022
C91: Zadavatel: | F91: =E15 -> Městská část Praha – Běchovice | I91: Projektant: | J91: =E21 -> KONTIGA s.r.o.
C92: Uchazeč: | F92: =IF(E18="","",E18) -> Vyplň údaj | I92: Zpracovatel: | J92: =E24 -> Ing. Jan Duben
C94: Kód dílu - Popis | J94: Cena celkem [CZK]
C96: Náklady ze soupisu prací | J96: =J128 -> 0 | AU96: -1
D97: HSV - Práce a dodávky HSV | J97: =J129 -> 0
D98: 1 - Zemní práce | J98: =J130 -> 0
D99: 2 - Zakládání | J99: =J228 -> 0
D100: 3 - Svislé a kompletní konstrukce | J100: =J248 -> 0
D101: 4 - Vodorovné konstrukce | J101: =J258 -> 0
D102: 5 - Komunikace pozemní | J102: =J289 -> 0
D103: 8 - Trubní vedení | J103: =J321 -> 0
D104: 9 - Ostatní konstrukce a práce, bourání | J104: =J327 -> 0
D105: 997 - Přesun sutě | J105: =J364 -> 0
D106: 998 - Přesun hmot | J106: =J376 -> 0
D107: 99M - Mobiliář | J107: =J378 -> 0
D108: 99O - Nová odpočívadla | J108: =J385 -> 0
C115: SOUPIS PRACÍ
C117: Stavba:
E118: =E7 -> Cyklostezky 2020 - trasa I (Požární nádrž Běchovice – ČOV Újezd nad Lesy)
C119: Objekt:
E120: =E9 -> SO 101 - Stezka pro chodce a cyklisty
C122: Místo: | F122: =F12 -> Praha - Běchovice | I122: Datum: | J122: =IF(J12="","",J12) -> 26. 4. 2022
C124: Zadavatel: | F124: =E15 -> Městská část Praha – Běchovice | I124: Projektant: | J124: =E21 -> KONTIGA s.r.o.
C125: Uchazeč: | F125: =IF(E18="","",E18) -> Vyplň údaj | I125: Zpracovatel: | J125: =E24 -> Ing. Jan Duben
C127: PČ | D127: Typ | E127: Kód | F127: Popis | G127: MJ | H127: Množství | I127: J.cena [CZK] | J127: Cena celkem [CZK] | K127: Cenová soustava | N127: DPH | O127: J. Nh [h] | P127: Nh celkem [h] | Q127: J. hmotnost [t] | R127: Hmotnost celkem [t] | S127: J. suť [t] | T127: Suť Celkem [t]
C128: Náklady soupisu celkem | J128: =BK128 -> 0 | P128: =P129 -> 0 | R128: =R129 -> 1772.5065 | T128: =T129 -> 949.82025 | AT128: D | AU128: -1 | BK128: =BK129 -> 0
D129: D | E129: HSV | F129: Práce a dodávky HSV | J129: =BK129 -> 0 | P129: =P130+P228+P248+P258+P289+P321+P327+P364+P376+P378+P385 -> 0 | R129: =R130+R228+R248+R258+R289+R321+R327+R364+R376+R378+R385 -> 1772.5065 | T129: =T130+T228+T248+T258+T289+T321+T327+T364+T376+T378+T385 -> 949.82025 | AR129: 1 | AT129: D | AU129: 0 | AY129: ROZPOCET | BK129: =BK130+BK228+BK248+BK258+BK289+BK321+BK327+BK364+BK376+BK378+BK385 -> 0
D130: D | E130: 1 | F130: Zemní práce | J130: =BK130 -> 0 | P130: =SUM(P131:P227) -> 0 | R130: =SUM(R131:R227) -> 812.71757 | T130: =SUM(T131:T227) -> 949.82025 | AR130: 1 | AT130: D | AU130: 1 | AY130: ROZPOCET | BK130: =SUM(BK131:BK227) -> 0
C131: 1 | D131: K | E131: 112101102 | F131: Odstranění stromů listnatých průměru kmene přes 300 do 500 mm | G131: kus | H131: 1 | J131: =ROUND(I131*H131,2) -> 0 | N131: základní | P131: =O131*H131 -> 0 | Q131: 0 | R131: =Q131*H131 -> 0 | S131: 0 | T131: =S131*H131 -> 0 | AR131: 4 | AT131: K | AU131: 2 | AY131: ROZPOCET | BE131: =IF(N131="základní",J131,0) -> 0 | BF131: =IF(N131="snížená",J131,0) -> 0 | BG131: =IF(N131="zákl. přenesená",J131,0) -> 0 | BH131: =IF(N131="sníž. přenesená",J131,0) -> 0 | BI131: =IF(N131="nulová",J131,0) -> 0 | BJ131: 1 | BK131: =ROUND(I131*H131,2) -> 0 | BL131: 4 | BM131: -1674777292
C132: 2 | D132: K | E132: 112155221 | F132: Štěpkování solitérních stromků a větví průměru kmene přes 300 do 500 mm s naložením | G132: kus | H132: 1 | J132: =ROUND(I132*H132,2) -> 0 | N132: základní | P132: =O132*H132 -> 0 | Q132: 0 | R132: =Q132*H132 -> 0 | S132: 0 | T132: =S132*H132 -> 0 | AR132: 4 | AT132: K | AU132: 2 | AY132: ROZPOCET | BE132: =IF(N132="základní",J132,0) -> 0 | BF132: =IF(N132="snížená",J132,0) -> 0 | BG132: =IF(N132="zákl. přenesená",J132,0) -> 0 | BH132: =IF(N132="sníž. přenesená",J132,0) -> 0 | BI132: =IF(N132="nulová",J132,0) -> 0 | BJ132: 1 | BK132: =ROUND(I132*H132,2) -> 0 | BL132: 4 | BM132: -1566875656
C133: 3 | D133: K | E133: 112251102 | F133: Odstranění pařezů D přes 300 do 500 mm | G133: kus | H133: 1 | J133: =ROUND(I133*H133,2) -> 0 | N133: základní | P133: =O133*H133 -> 0 | Q133: 0 | R133: =Q133*H133 -> 0 | S133: 0 | T133: =S133*H133 -> 0 | AR133: 4 | AT133: K | AU133: 2 | AY133: ROZPOCET | BE133: =IF(N133="základní",J133,0) -> 0 | BF133: =IF(N133="snížená",J133,0) -> 0 | BG133: =IF(N133="zákl. přenesená",J133,0) -> 0 | BH133: =IF(N133="sníž. přenesená",J133,0) -> 0 | BI133: =IF(N133="nulová",J133,0) -> 0 | BJ133: 1 | BK133: =ROUND(I133*H133,2) -> 0 | BL133: 4 | BM133: 1044505552
C134: 4 | D134: K | E134: 113107222 | F134: Odstranění podkladu z kameniva drceného tl přes 100 do 200 mm strojně pl přes 200 m2 | G134: m2 | H134: 2960 | J134: =ROUND(I134*H134,2) -> 0 | N134: základní | P134: =O134*H134 -> 0 | Q134: 0 | R134: =Q134*H134 -> 0 | S134: 0.29 | T134: =S134*H134 -> 858.4 | AR134: 4 | AT134: K | AU134: 2 | AY134: ROZPOCET | BE134: =IF(N134="základní",J134,0) -> 0 | BF134: =IF(N134="snížená",J134,0) -> 0 | BG134: =IF(N134="zákl. přenesená",J134,0) -> 0 | BH134: =IF(N134="sníž. přenesená",J134,0) -> 0 | BI134: =IF(N134="nulová",J134,0) -> 0 | BJ134: 1 | BK134: =ROUND(I134*H134,2) -> 0 | BL134: 4 | BM134: 1763797363
D135: VV | F135: "odstranění stávající komunikace - dle situace C.3.1-3" 2960 | H135: 2960 | AT135: VV | AU135: 2 | AV135: 2 | AW135: True | AX135: 1 | AY135: ROZPOCET
C136: 5 | D136: K | E136: 113154112 | F136: Frézování živičného krytu tl 40 mm pruh š 0,5 m pl do 500 m2 bez překážek v trase | G136: m2 | H136: 9.5 | J136: =ROUND(I136*H136,2) -> 0 | N136: základní | P136: =O136*H136 -> 0 | Q136: 3e-05 | R136: =Q136*H136 -> 0.000285 | S136: 0.092 | T136: =S136*H136 -> 0.874 | AR136: 4 | AT136: K | AU136: 2 | AY136: ROZPOCET | BE136: =IF(N136="základní",J136,0) -> 0 | BF136: =IF(N136="snížená",J136,0) -> 0 | BG136: =IF(N136="zákl. přenesená",J136,0) -> 0 | BH136: =IF(N136="sníž. přenesená",J136,0) -> 0 | BI136: =IF(N136="nulová",J136,0) -> 0 | BJ136: 1 | BK136: =ROUND(I136*H136,2) -> 0 | BL136: 4 | BM136: 876398967
D137: VV | F137: "napojení na stávající komunikaci - dle situace C.3.1-3" (9+2,5+7,5)*0,5 | H137: 9.5 | AT137: VV | AU137: 2 | AV137: 2 | AW137: True | AX137: 1 | AY137: ROZPOCET
C138: 6 | D138: K | E138: 113154113 | F138: Frézování živičného krytu tl 50 mm pruh š 0,5 m pl do 500 m2 bez překážek v trase | G138: m2 | H138: 4.75 | J138: =ROUND(I138*H138,2) -> 0 | N138: základní | P138: =O138*H138 -> 0 | Q138: 4e-05 | R138: =Q138*H138 -> 0.00019 | S138: 0.115 | T138: =S138*H138 -> 0.54625 | AR138: 4 | AT138: K | AU138: 2 | AY138: ROZPOCET | BE138: =IF(N138="základní",J138,0) -> 0 | BF138: =IF(N138="snížená",J138,0) -> 0 | BG138: =IF(N138="zákl. přenesená",J138,0) -> 0 | BH138: =IF(N138="sníž. přenesená",J138,0) -> 0 | BI138: =IF(N138="nulová",J138,0) -> 0 | BJ138: 1 | BK138: =ROUND(I138*H138,2) -> 0 | BL138: 4 | BM138: -2096303637
D139: VV | F139: "napojení na stávající komunikaci - dle situace C.3.1-3" (9+2,5+7,5)*0,25 | H139: 4.75 | AT139: VV | AU139: 2 | AV139: 2 | AW139: True | AX139: 1 | AY139: ROZPOCET
C140: 7 | D140: K | E140: 114203102 | F140: Rozebrání dlažeb z lomového kamene nebo betonových tvárnic na sucho se zalitými spárami | G140: m3 | H140: 50 | J140: =ROUND(I140*H140,2) -> 0 | N140: základní | P140: =O140*H140 -> 0 | Q140: 0 | R140: =Q140*H140 -> 0 | S140: 1.8 | T140: =S140*H140 -> 90 | AR140: 4 | AT140: K | AU140: 2 | AY140: ROZPOCET | BE140: =IF(N140="základní",J140,0) -> 0 | BF140: =IF(N140="snížená",J140,0) -> 0 | BG140: =IF(N140="zákl. přenesená",J140,0) -> 0 | BH140: =IF(N140="sníž. přenesená",J140,0) -> 0 | BI140: =IF(N140="nulová",J140,0) -> 0 | BJ140: 1 | BK140: =ROUND(I140*H140,2) -> 0 | BL140: 4 | BM140: -1738446249
D141: VV | F141: "oprava opevnění břehu potoka PP" 50 | H141: 50 | AT141: VV | AU141: 2 | AV141: 2 | AW141: True | AX141: 1 | AY141: ROZPOCET
C142: 8 | D142: K | E142: 115001104 | F142: Převedení vody potrubím DN přes 250 do 300 | G142: m | H142: 30 | J142: =ROUND(I142*H142,2) -> 0 | N142: základní | P142: =O142*H142 -> 0 | Q142: 0.0175 | R142: =Q142*H142 -> 0.525 | S142: 0 | T142: =S142*H142 -> 0 | AR142: 4 | AT142: K | AU142: 2 | AY142: ROZPOCET | BE142: =IF(N142="základní",J142,0) -> 0 | BF142: =IF(N142="snížená",J142,0) -> 0 | BG142: =IF(N142="zákl. přenesená",J142,0) -> 0 | BH142: =IF(N142="sníž. přenesená",J142,0) -> 0 | BI142: =IF(N142="nulová",J142,0) -> 0 | BJ142: 1 | BK142: =ROUND(I142*H142,2) -> 0 | BL142: 4 | BM142: -1389771514
D143: VV | F143: "oprava opevnění břehu potoka PP" 30 | H143: 30 | AT143: VV | AU143: 2 | AV143: 2 | AW143: True | AX143: 1 | AY143: ROZPOCET
C144: 9 | D144: K | E144: 115101201 | F144: Čerpání vody na dopravní výšku do 10 m průměrný přítok do 500 l/min | G144: hod | H144: 50 | J144: =ROUND(I144*H144,2) -> 0 | N144: základní | P144: =O144*H144 -> 0 | Q144: 3e-05 | R144: =Q144*H144 -> 0.0015 | S144: 0 | T144: =S144*H144 -> 0 | AR144: 4 | AT144: K | AU144: 2 | AY144: ROZPOCET | BE144: =IF(N144="základní",J144,0) -> 0 | BF144: =IF(N144="snížená",J144,0) -> 0 | BG144: =IF(N144="zákl. přenesená",J144,0) -> 0 | BH144: =IF(N144="sníž. přenesená",J144,0) -> 0 | BI144: =IF(N144="nulová",J144,0) -> 0 | BJ144: 1 | BK144: =ROUND(I144*H144,2) -> 0 | BL144: 4 | BM144: -800216035
D145: VV | F145: "oprava opevnění břehu potoka PP" 50 | H145: 50 | AT145: VV | AU145: 2 | AV145: 2 | AW145: True | AX145: 1 | AY145: ROZPOCET
C146: 10 | D146: K | E146: 119001412 | F146: Dočasné zajištění potrubí betonového, ŽB nebo kameninového DN přes 200 do 500 mm | G146: m | H146: 2 | J146: =ROUND(I146*H146,2) -> 0 | N146: základní | P146: =O146*H146 -> 0 | Q146: 0.01269 | R146: =Q146*H146 -> 0.02538 | S146: 0 | T146: =S146*H146 -> 0 | AR146: 4 | AT146: K | AU146: 2 | AY146: ROZPOCET | BE146: =IF(N146="základní",J146,0) -> 0 | BF146: =IF(N146="snížená",J146,0) -> 0 | BG146: =IF(N146="zákl. přenesená",J146,0) -> 0 | BH146: =IF(N146="sníž. přenesená",J146,0) -> 0 | BI146: =IF(N146="nulová",J146,0) -> 0 | BJ146: 1 | BK146: =ROUND(I146*H146,2) -> 0 | BL146: 4 | BM146: -1821250584
D147: VV | F147: "oprava opevnění břehu potoka PP - zajištění a úprava výustí DN 100-500 mm" 2 | H147: 2 | AT147: VV | AU147: 2 | AV147: 2 | AW147: True | AX147: 1 | AY147: ROZPOCET
C148: 11 | D148: K | E148: 122151106 | F148: Odkopávky a prokopávky nezapažené v hornině třídy těžitelnosti I skupiny 1 a 2 objem do 5000 m3 strojně | G148: m3 | H148: 3809.264 | J148: =ROUND(I148*H148,2) -> 0 | N148: základní | P148: =O148*H148 -> 0 | Q148: 0 | R148: =Q148*H148 -> 0 | S148: 0 | T148: =S148*H148 -> 0 | AR148: 4 | AT148: K | AU148: 2 | AY148: ROZPOCET | BE148: =IF(N148="základní",J148,0) -> 0 | BF148: =IF(N148="snížená",J148,0) -> 0 | BG148: =IF(N148="zákl. přenesená",J148,0) -> 0 | BH148: =IF(N148="sníž. přenesená",J148,0) -> 0 | BI148: =IF(N148="nulová",J148,0) -> 0 | BJ148: 1 | BK148: =ROUND(I148*H148,2) -> 0 | BL148: 4 | BM148: -454079122
D149: VV | F149: "odkopávka dle tabulky kubatur" 2858 | H149: 2858 | AT149: VV | AU149: 2 | AV149: 2 | AW149: True | AX149: 0 | AY149: ROZPOCET
D150: VV | F150: "odpočet odstranění stávající komunikace - dle situace C.3.1-3" -2960*0,18 | H150: -532.8 | AT150: VV | AU150: 2 | AV150: 2 | AW150: True | AX150: 0 | AY150: ROZPOCET
D151: VV | F151: "sanace zemní pláně" (stezka+chodník+varpas)*0,3 | H151: 1484.064 | AT151: VV | AU151: 2 | AV151: 2 | AW151: True | AX151: 0 | AY151: ROZPOCET
D152: VV | E152: odkop | F152: Součet | H152: 3809.264 | AT152: VV | AU152: 2 | AV152: 4 | AW152: True | AX152: 1 | AY152: ROZPOCET
C153: 12 | D153: K | E153: 124253101 | F153: Vykopávky pro koryta vodotečí v hornině třídy těžitelnosti I skupiny 3 objem do 1000 m3 strojně | G153: m3 | H153: 224.5 | J153: =ROUND(I153*H153,2) -> 0 | N153: základní | P153: =O153*H153 -> 0 | Q153: 0 | R153: =Q153*H153 -> 0 | S153: 0 | T153: =S153*H153 -> 0 | AR153: 4 | AT153: K | AU153: 2 | AY153: ROZPOCET | BE153: =IF(N153="základní",J153,0) -> 0 | BF153: =IF(N153="snížená",J153,0) -> 0 | BG153: =IF(N153="zákl. přenesená",J153,0) -> 0 | BH153: =IF(N153="sníž. přenesená",J153,0) -> 0 | BI153: =IF(N153="nulová",J153,0) -> 0 | BJ153: 1 | BK153: =ROUND(I153*H153,2) -> 0 | BL153: 4 | BM153: 1671191305
D154: VV | E154: koryto | F154: "zpevnění břehu a úprava protilehlého svahu" 224,5 | H154: 224.5 | AT154: VV | AU154: 2 | AV154: 2 | AW154: True | AX154: 1 | AY154: ROZPOCET
C155: 13 | D155: K | E155: 129153101 | F155: Čištění otevřených koryt vodotečí šíře dna do 5 m hl do 2,5 m v hornině třídy těžitelnosti I skupiny 1 a 2 strojně | G155: m3 | H155: 10.26 | J155: =ROUND(I155*H155,2) -> 0 | N155: základní | P155: =O155*H155 -> 0 | Q155: 0 | R155: =Q155*H155 -> 0 | S155: 0 | T155: =S155*H155 -> 0 | AR155: 4 | AT155: K | AU155: 2 | AY155: ROZPOCET | BE155: =IF(N155="základní",J155,0) -> 0 | BF155: =IF(N155="snížená",J155,0) -> 0 | BG155: =IF(N155="zákl. přenesená",J155,0) -> 0 | BH155: =IF(N155="sníž. přenesená",J155,0) -> 0 | BI155: =IF(N155="nulová",J155,0) -> 0 | BJ155: 1 | BK155: =ROUND(I155*H155,2) -> 0 | BL155: 4 | BM155: 603989233
D156: VV | E156: CISTKOR | F156: "úprava profilu koryta v KM 1,332 00" 24*2,85*0,15 | H156: 10.26 | AT156: VV | AU156: 2 | AV156: 2 | AW156: True | AX156: 1 | AY156: ROZPOCET
C157: 14 | D157: K | E157: 132151101 | F157: Hloubení rýh nezapažených š do 800 mm v hornině třídy těžitelnosti I skupiny 1 a 2 objem do 20 m3 strojně | G157: m3 | H157: 14.174 | J157: =ROUND(I157*H157,2) -> 0 | N157: základní | P157: =O157*H157 -> 0 | Q157: 0 | R157: =Q157*H157 -> 0 | S157: 0 | T157: =S157*H157 -> 0 | AR157: 4 | AT157: K | AU157: 2 | AY157: ROZPOCET | BE157: =IF(N157="základní",J157,0) -> 0 | BF157: =IF(N157="snížená",J157,0) -> 0 | BG157: =IF(N157="zákl. přenesená",J157,0) -> 0 | BH157: =IF(N157="sníž. přenesená",J157,0) -> 0 | BI157: =IF(N157="nulová",J157,0) -> 0 | BJ157: 1 | BK157: =ROUND(I157*H157,2) -> 0 | BL157: 4 | BM157: 2039363673
D158: VV | F158: "základové pasy pro P1" 2*3*0,5*(0,9+0,1) | H158: 3 | AT158: VV | AU158: 2 | AV158: 2 | AW158: True | AX158: 0 | AY158: ROZPOCET
D159: VV | F159: "základové pasy pro P2" 2*3*0,5*(0,9+0,1) | H159: 3 | AT159: VV | AU159: 2 | AV159: 2 | AW159: True | AX159: 0 | AY159: ROZPOCET
D160: VV | F160: "základové pasy pro P3" (4+3)*0,5*(0,9+0,1) | H160: 3.5 | AT160: VV | AU160: 2 | AV160: 2 | AW160: True | AX160: 0 | AY160: ROZPOCET
D161: VV | F161: "vybourání stávajícího propustku u propustku P1" 12,3*0,4*0,95 | H161: 4.674 | AT161: VV | AU161: 2 | AV161: 2 | AW161: True | AX161: 0 | AY161: ROZPOCET
D162: VV | E162: rýhy | F162: Součet | H162: 14.174 | AT162: VV | AU162: 2 | AV162: 4 | AW162: True | AX162: 1 | AY162: ROZPOCET
C163: 15 | D163: K | E163: 132151253 | F163: Hloubení rýh nezapažených š do 2000 mm v hornině třídy těžitelnosti I skupiny 1 a 2 objem do 100 m3 strojně | G163: m3 | H163: 18.335 | J163: =ROUND(I163*H163,2) -> 0 | N163: základní | P163: =O163*H163 -> 0 | Q163: 0 | R163: =Q163*H163 -> 0 | S163: 0 | T163: =S163*H163 -> 0 | AR163: 4 | AT163: K | AU163: 2 | AY163: ROZPOCET | BE163: =IF(N163="základní",J163,0) -> 0 | BF163: =IF(N163="snížená",J163,0) -> 0 | BG163: =IF(N163="zákl. přenesená",J163,0) -> 0 | BH163: =IF(N163="sníž. přenesená",J163,0) -> 0 | BI163: =IF(N163="nulová",J163,0) -> 0 | BJ163: 1 | BK163: =ROUND(I163*H163,2) -> 0 | BL163: 4 | BM163: -1595658279
...

Sheet SO 201 - Armovaný svah
AT2: {aa36dd99-82e9-4b89-be5e-ba25787f7e82} | AZ2: odkop | BC2: 1454 | BD2: 2
AT3: 2 | AZ3: odvoz | BC3: 1462,28 | BD3: 2
D4: KRYCÍ LIST SOUPISU PRACÍ | M4: v --- níže se nacházejí doplnkové a pomocné údaje k sestavám --- v | AT4: False | AZ4: rýhy | BC4: 8,28 | BD4: 2
D6: Stavba:
E7: ='Rekapitulace stavby'!K6 -> Cyklostezky 2020 - trasa I (Požární nádrž Běchovice – ČOV Újezd nad Lesy)
D8: Objekt:
E9: SO 201 - Armovaný svah
D11: KSO: | I11: CC-CZ:
D12: Místo: | F12: Praha - Běchovice | I12: Datum: | J12: ='Rekapitulace stavby'!AN8 -> 26. 4. 2022
D14: Zadavatel: | I14: IČ:
E15: Městská část Praha – Běchovice | I15: DIČ:
D17: Uchazeč: | I17: IČ: | J17: ='Rekapitulace stavby'!AN13 -> Vyplň údaj
E18: ='Rekapitulace stavby'!E14 -> Vyplň údaj | I18: DIČ: | J18: ='Rekapitulace stavby'!AN14 -> Vyplň údaj
D20: Projektant: | I20: IČ:
E21: KONTIGA s.r.o. | I21: DIČ:
D23: Zpracovatel: | I23: IČ:
E24: Ing. Jan Duben | I24: DIČ:
D26: Poznámka:
D30: Cena bez DPH | J30: =ROUND(J122, 2) -> 0
F32: Základ daně | I32: Sazba daně | J32: Výše daně
D33: DPH | E33: základní | F33: =ROUND((SUM(BE122:BE160)), 2) -> 0 | I33: 0.21 | J33: =ROUND(((SUM(BE122:BE160))*I33), 2) -> 0
E34: snížená | F34: =ROUND((SUM(BF122:BF160)), 2) -> 0 | I34: 0.15 | J34: =ROUND(((SUM(BF122:BF160))*I34), 2) -> 0
E35: zákl. přenesená | F35: =ROUND((SUM(BG122:BG160)), 2) -> 0 | I35: 0.21 | J35: =0 -> 0
E36: sníž. přenesená | F36: =ROUND((SUM(BH122:BH160)), 2) -> 0 | I36: 0.15 | J36: =0 -> 0
E37: nulová | F37: =ROUND((SUM(BI122:BI160)), 2) -> 0 | I37: 0 | J37: =0 -> 0
D39: Cena s DPH | G39: v | H39: CZK | J39: =SUM(J30:J37) -> 0
D50: Projektant | G50: Zpracovatel
D61: Datum a podpis: | F61: Razítko | G61: Datum a podpis: | J61: Razítko
D65: Objednavatel | G65: Uchazeč
D76: Datum a podpis: | F76: Razítko | G76: Datum a podpis: | J76: Razítko
C82: REKAPITULACE ČLENĚNÍ SOUPISU PRACÍ
C84: Stavba:
E85: =E7 -> Cyklostezky 2020 - trasa I (Požární nádrž Běchovice – ČOV Újezd nad Lesy)
C86: Objekt:
E87: =E9 -> SO 201 - Armovaný svah
C89: Místo: | F89: =F12 -> Praha - Běchovice | I89: Datum: | J89: =IF(J12="","",J12) -> 26. 4. 2022
C91: Zadavatel: | F91: =E15 -> Městská část Praha – Běchovice | I91: Projektant: | J91: =E21 -> KONTIGA s.r.o.
C92: Uchazeč: | F92: =IF(E18="","",E18) -> Vyplň údaj | I92: Zpracovatel: | J92: =E24 -> Ing. Jan Duben
C94: Kód dílu - Popis | J94: Cena celkem [CZK]
C96: Náklady ze soupisu prací | J96: =J122 -> 0 | AU96: -1
D97: HSV - Práce a dodávky HSV | J97: =J123 -> 0
D98: 1 - Zemní práce | J98: =J124 -> 0
D99: 2 - Zakládání | J99: =J143 -> 0
D100: 4 - Vodorovné konstrukce | J100: =J153 -> 0
D101: 9 - Ostatní konstrukce a práce, bourání | J101: =J156 -> 0
D102: 998 - Přesun hmot | J102: =J159 -> 0
C109: SOUPIS PRACÍ
C111: Stavba:
E112: =E7 -> Cyklostezky 2020 - trasa I (Požární nádrž Běchovice – ČOV Újezd nad Lesy)
C113: Objekt:
E114: =E9 -> SO 201 - Armovaný svah
C116: Místo: | F116: =F12 -> Praha - Běchovice | I116: Datum: | J116: =IF(J12="","",J12) -> 26. 4. 2022
C118: Zadavatel: | F118: =E15 -> Městská část Praha – Běchovice | I118: Projektant: | J118: =E21 -> KONTIGA s.r.o.
C119: Uchazeč: | F119: =IF(E18="","",E18) -> Vyplň údaj | I119: Zpracovatel: | J119: =E24 -> Ing. Jan Duben
C121: PČ | D121: Typ | E121: Kód | F121: Popis | G121: MJ | H121: Množství | I121: J.cena [CZK] | J121: Cena celkem [CZK] | K121: Cenová soustava | N121: DPH | O121: J. Nh [h] | P121: Nh celkem [h] | Q121: J. hmotnost [t] | R121: Hmotnost celkem [t] | S121: J. suť [t] | T121: Suť Celkem [t]
C122: Náklady soupisu celkem | J122: =BK122 -> 0 | P122: =P123 -> 0 | R122: =R123 -> 2801.4284 | T122: =T123 -> 0 | AT122: D | AU122: -1 | BK122: =BK123 -> 0
D123: D | E123: HSV | F123: Práce a dodávky HSV | J123: =BK123 -> 0 | P123: =P124+P143+P153+P156+P159 -> 0 | R123: =R124+R143+R153+R156+R159 -> 2801.4284 | T123: =T124+T143+T153+T156+T159 -> 0 | AR123: 1 | AT123: D | AU123: 0 | AY123: ROZPOCET | BK123: =BK124+BK143+BK153+BK156+BK159 -> 0
D124: D | E124: 1 | F124: Zemní práce | J124: =BK124 -> 0 | P124: =SUM(P125:P142) -> 0 | R124: =SUM(R125:R142) -> 2747.521 | T124: =SUM(T125:T142) -> 0 | AR124: 1 | AT124: D | AU124: 1 | AY124: ROZPOCET | BK124: =SUM(BK125:BK142) -> 0
C125: 1 | D125: K | E125: 122151106 | F125: Odkopávky a prokopávky nezapažené v hornině třídy těžitelnosti I skupiny 1 a 2 objem do 5000 m3 strojně | G125: m3 | H125: 1454 | J125: =ROUND(I125*H125,2) -> 0 | N125: základní | P125: =O125*H125 -> 0 | Q125: 0 | R125: =Q125*H125 -> 0 | S125: 0 | T125: =S125*H125 -> 0 | AR125: 4 | AT125: K | AU125: 2 | AY125: ROZPOCET | BE125: =IF(N125="základní",J125,0) -> 0 | BF125: =IF(N125="snížená",J125,0) -> 0 | BG125: =IF(N125="zákl. přenesená",J125,0) -> 0 | BH125: =IF(N125="sníž. přenesená",J125,0) -> 0 | BI125: =IF(N125="nulová",J125,0) -> 0 | BJ125: 1 | BK125: =ROUND(I125*H125,2) -> 0 | BL125: 4 | BM125: -1252434312
D126: VV | F126: "odkopávka dle tabulky kubatur" 1454 | H126: 1454 | AT126: VV | AU126: 2 | AV126: 2 | AW126: True | AX126: 0 | AY126: ROZPOCET
D127: VV | E127: odkop | F127: Součet | H127: 1454 | AT127: VV | AU127: 2 | AV127: 4 | AW127: True | AX127: 1 | AY127: ROZPOCET
C128: 2 | D128: K | E128: 132151101 | F128: Hloubení rýh nezapažených š do 800 mm v hornině třídy těžitelnosti I skupiny 1 a 2 objem do 20 m3 strojně | G128: m3 | H128: 8.28 | J128: =ROUND(I128*H128,2) -> 0 | N128: základní | P128: =O128*H128 -> 0 | Q128: 0 | R128: =Q128*H128 -> 0 | S128: 0 | T128: =S128*H128 -> 0 | AR128: 4 | AT128: K | AU128: 2 | AY128: ROZPOCET | BE128: =IF(N128="základní",J128,0) -> 0 | BF128: =IF(N128="snížená",J128,0) -> 0 | BG128: =IF(N128="zákl. přenesená",J128,0) -> 0 | BH128: =IF(N128="sníž. přenesená",J128,0) -> 0 | BI128: =IF(N128="nulová",J128,0) -> 0 | BJ128: 1 | BK128: =ROUND(I128*H128,2) -> 0 | BL128: 4 | BM128: -1710864832
D129: VV | F129: "základový pas" 23*0,6*0,6 | H129: 8.28 | AT129: VV | AU129: 2 | AV129: 2 | AW129: True | AX129: 0 | AY129: ROZPOCET
D130: VV | E130: rýhy | F130: Součet | H130: 8.28 | AT130: VV | AU130: 2 | AV130: 4 | AW130: True | AX130: 1 | AY130: ROZPOCET
C131: 3 | D131: K | E131: 162751117 | F131: Vodorovné přemístění přes 9 000 do 10000 m výkopku/sypaniny z horniny třídy těžitelnosti I skupiny 1 až 3 | G131: m3 | H131: 1462.28 | J131: =ROUND(I131*H131,2) -> 0 | N131: základní | P131: =O131*H131 -> 0 | Q131: 0 | R131: =Q131*H131 -> 0 | S131: 0 | T131: =S131*H131 -> 0 | AR131: 4 | AT131: K | AU131: 2 | AY131: ROZPOCET | BE131: =IF(N131="základní",J131,0) -> 0 | BF131: =IF(N131="snížená",J131,0) -> 0 | BG131: =IF(N131="zákl. přenesená",J131,0) -> 0 | BH131: =IF(N131="sníž. přenesená",J131,0) -> 0 | BI131: =IF(N131="nulová",J131,0) -> 0 | BJ131: 1 | BK131: =ROUND(I131*H131,2) -> 0 | BL131: 4 | BM131: 591262398
D132: VV | E132: odvoz | F132: odkop+rýhy | H132: 1462.28 | AT132: VV | AU132: 2 | AV132: 2 | AW132: True | AX132: 1 | AY132: ROZPOCET
C133: 4 | D133: K | E133: 171151222 | F133: Strmý svah ze zemin vyztužených tuhou geomříží pohledová plocha ocelová síť s kamenivem v přes 2 do 4 m | G133: m2 | H133: 65.55 | J133: =ROUND(I133*H133,2) -> 0 | N133: základní | P133: =O133*H133 -> 0 | Q133: 2.22 | R133: =Q133*H133 -> 145.521 | S133: 0 | T133: =S133*H133 -> 0 | AR133: 4 | AT133: K | AU133: 2 | AY133: ROZPOCET | BE133: =IF(N133="základní",J133,0) -> 0 | BF133: =IF(N133="snížená",J133,0) -> 0 | BG133: =IF(N133="zákl. přenesená",J133,0) -> 0 | BH133: =IF(N133="sníž. přenesená",J133,0) -> 0 | BI133: =IF(N133="nulová",J133,0) -> 0 | BJ133: 1 | BK133: =ROUND(I133*H133,2) -> 0 | BL133: 4 | BM133: -642098623
D134: VV | F134: 23*2,85 | H134: 65.55 | AT134: VV | AU134: 2 | AV134: 2 | AW134: True | AX134: 1 | AY134: ROZPOCET
C135: 5 | D135: K | E135: 171152121 | F135: Uložení sypaniny z hornin nesoudržných kamenitých do násypů zhutněných silnic a dálnic | G135: m3 | H135: 1301 | J135: =ROUND(I135*H135,2) -> 0 | N135: základní | P135: =O135*H135 -> 0 | Q135: 0 | R135: =Q135*H135 -> 0 | S135: 0 | T135: =S135*H135 -> 0 | AR135: 4 | AT135: K | AU135: 2 | AY135: ROZPOCET | BE135: =IF(N135="základní",J135,0) -> 0 | BF135: =IF(N135="snížená",J135,0) -> 0 | BG135: =IF(N135="zákl. přenesená",J135,0) -> 0 | BH135: =IF(N135="sníž. přenesená",J135,0) -> 0 | BI135: =IF(N135="nulová",J135,0) -> 0 | BJ135: 1 | BK135: =ROUND(I135*H135,2) -> 0 | BL135: 4 | BM135: 1118278438
D136: VV | F136: "dle tabulky kubatur" 1301 | H136: 1301 | AT136: VV | AU136: 2 | AV136: 2 | AW136: True | AX136: 1 | AY136: ROZPOCET
C137: 6 | D137: M | E137: 58344197 | F137: štěrkodrť frakce 0/63 | G137: t | H137: 2602 | J137: =ROUND(I137*H137,2) -> 0 | N137: základní | P137: =O137*H137 -> 0 | Q137: 1 | R137: =Q137*H137 -> 2602 | S137: 0 | T137: =S137*H137 -> 0 | AR137: 8 | AT137: M | AU137: 2 | AY137: ROZPOCET | BE137: =IF(N137="základní",J137,0) -> 0 | BF137: =IF(N137="snížená",J137,0) -> 0 | BG137: =IF(N137="zákl. přenesená",J137,0) -> 0 | BH137: =IF(N137="sníž. přenesená",J137,0) -> 0 | BI137: =IF(N137="nulová",J137,0) -> 0 | BJ137: 1 | BK137: =ROUND(I137*H137,2) -> 0 | BL137: 4 | BM137: -1584770669
D138: VV | F138: 1301*2 'Přepočtené koeficientem množství | H138: 2602 | AT138: VV | AU138: 2 | AV138: 2 | AW138: False | AX138: 1 | AY138: ROZPOCET
C139: 7 | D139: K | E139: 171201221 | F139: Poplatek za uložení na skládce (skládkovné) zeminy a kamení kód odpadu 17 05 04 | G139: t | H139: 2705.218 | J139: =ROUND(I139*H139,2) -> 0 | N139: základní | P139: =O139*H139 -> 0 | Q139: 0 | R139: =Q139*H139 -> 0 | S139: 0 | T139: =S139*H139 -> 0 | AR139: 4 | AT139: K | AU139: 2 | AY139: ROZPOCET | BE139: =IF(N139="základní",J139,0) -> 0 | BF139: =IF(N139="snížená",J139,0) -> 0 | BG139: =IF(N139="zákl. přenesená",J139,0) -> 0 | BH139: =IF(N139="sníž. přenesená",J139,0) -> 0 | BI139: =IF(N139="nulová",J139,0) -> 0 | BJ139: 1 | BK139: =ROUND(I139*H139,2) -> 0 | BL139: 4 | BM139: -1629436264
D140: VV | F140: odvoz*1,85 | H140: 2705.218 | AT140: VV | AU140: 2 | AV140: 2 | AW140: True | AX140: 1 | AY140: ROZPOCET
C141: 8 | D141: K | E141: 171251201 | F141: Uložení sypaniny na skládky nebo meziskládky | G141: m3 | H141: 1462.28 | J141: =ROUND(I141*H141,2) -> 0 | N141: základní | P141: =O141*H141 -> 0 | Q141: 0 | R141: =Q141*H141 -> 0 | S141: 0 | T141: =S141*H141 -> 0 | AR141: 4 | AT141: K | AU141: 2 | AY141: ROZPOCET | BE141: =IF(N141="základní",J141,0) -> 0 | BF141: =IF(N141="snížená",J141,0) -> 0 | BG141: =IF(N141="zákl. přenesená",J141,0) -> 0 | BH141: =IF(N141="sníž. přenesená",J141,0) -> 0 | BI141: =IF(N141="nulová",J141,0) -> 0 | BJ141: 1 | BK141: =ROUND(I141*H141,2) -> 0 | BL141: 4 | BM141: 1943907774
D142: VV | F142: odvoz | H142: 1462.28 | AT142: VV | AU142: 2 | AV142: 2 | AW142: True | AX142: 1 | AY142: ROZPOCET
D143: D | E143: 2 | F143: Zakládání | J143: =BK143 -> 0 | P143: =SUM(P144:P152) -> 0 | R143: =SUM(R144:R152) -> 30.278966 | T143: =SUM(T144:T152) -> 0 | AR143: 1 | AT143: D | AU143: 1 | AY143: ROZPOCET | BK143: =SUM(BK144:BK152) -> 0
C144: 9 | D144: K | E144: 213311141 | F144: Polštáře zhutněné pod základy ze štěrkopísku tříděného | G144: m3 | H144: 7.59 | J144: =ROUND(I144*H144,2) -> 0 | N144: základní | P144: =O144*H144 -> 0 | Q144: 2.16 | R144: =Q144*H144 -> 16.3944 | S144: 0 | T144: =S144*H144 -> 0 | AR144: 4 | AT144: K | AU144: 2 | AY144: ROZPOCET | BE144: =IF(N144="základní",J144,0) -> 0 | BF144: =IF(N144="snížená",J144,0) -> 0 | BG144: =IF(N144="zákl. přenesená",J144,0) -> 0 | BH144: =IF(N144="sníž. přenesená",J144,0) -> 0 | BI144: =IF(N144="nulová",J144,0) -> 0 | BJ144: 1 | BK144: =ROUND(I144*H144,2) -> 0 | BL144: 4 | BM144: -841520480
D145: VV | F145: "základový pas" 23*0,6*0,1 | H145: 1.38 | AT145: VV | AU145: 2 | AV145: 2 | AW145: True | AX145: 0 | AY145: ROZPOCET
D146: VV | F146: "podklad pod dlažbu z lom kamene" 23*(1,7+1)*0,1 | H146: 6.21 | AT146: VV | AU146: 2 | AV146: 2 | AW146: True | AX146: 0 | AY146: ROZPOCET
D147: VV | F147: Součet | H147: 7.59 | AT147: VV | AU147: 2 | AV147: 4 | AW147: True | AX147: 1 | AY147: ROZPOCET
C148: 10 | D148: K | E148: 274313811 | F148: Základové pásy z betonu tř. C 25/30 | G148: m3 | H148: 5.52 | J148: =ROUND(I148*H148,2) -> 0 | N148: základní | P148: =O148*H148 -> 0 | Q148: 2.50187 | R148: =Q148*H148 -> 13.810322 | S148: 0 | T148: =S148*H148 -> 0 | AR148: 4 | AT148: K | AU148: 2 | AY148: ROZPOCET | BE148: =IF(N148="základní",J148,0) -> 0 | BF148: =IF(N148="snížená",J148,0) -> 0 | BG148: =IF(N148="zákl. přenesená",J148,0) -> 0 | BH148: =IF(N148="sníž. přenesená",J148,0) -> 0 | BI148: =IF(N148="nulová",J148,0) -> 0 | BJ148: 1 | BK148: =ROUND(I148*H148,2) -> 0 | BL148: 4 | BM148: -1437881141
D149: VV | F149: "základový pas" 23*0,4*0,6 | H149: 5.52 | AT149: VV | AU149: 2 | AV149: 2 | AW149: True | AX149: 1 | AY149: ROZPOCET
C150: 11 | D150: K | E150: 274351121 | F150: Zřízení bednění základových pasů rovného | G150: m2 | H150: 27.6 | J150: =ROUND(I150*H150,2) -> 0 | N150: základní | P150: =O150*H150 -> 0 | Q150: 0.00269 | R150: =Q150*H150 -> 0.074244 | S150: 0 | T150: =S150*H150 -> 0 | AR150: 4 | AT150: K | AU150: 2 | AY150: ROZPOCET | BE150: =IF(N150="základní",J150,0) -> 0 | BF150: =IF(N150="snížená",J150,0) -> 0 | BG150: =IF(N150="zákl. přenesená",J150,0) -> 0 | BH150: =IF(N150="sníž. přenesená",J150,0) -> 0 | BI150: =IF(N150="nulová",J150,0) -> 0 | BJ150: 1 | BK150: =ROUND(I150*H150,2) -> 0 | BL150: 4 | BM150: -1969280353
D151: VV | F151: "základový pas" 23*0,6*2 | H151: 27.6 | AT151: VV | AU151: 2 | AV151: 2 | AW151: True | AX151: 1 | AY151: ROZPOCET
C152: 12 | D152: K | E152: 274351122 | F152: Odstranění bednění základových pasů rovného | G152: m2 | H152: 27.6 | J152: =ROUND(I152*H152,2) -> 0 | N152: základní | P152: =O152*H152 -> 0 | Q152: 0 | R152: =Q152*H152 -> 0 | S152: 0 | T152: =S152*H152 -> 0 | AR152: 4 | AT152: K | AU152: 2 | AY152: ROZPOCET | BE152: =IF(N152="základní",J152,0) -> 0 | BF152: =IF(N152="snížená",J152,0) -> 0 | BG152: =IF(N152="zákl. přenesená",J152,0) -> 0 | BH152: =IF(N152="sníž. přenesená",J152,0) -> 0 | BI152: =IF(N152="nulová",J152,0) -> 0 | BJ152: 1 | BK152: =ROUND(I152*H152,2) -> 0 | BL152: 4 | BM152: 1173121455
D153: D | E153: 4 | F153: Vodorovné konstrukce | J153: =BK153 -> 0 | P153: =SUM(P154:P155) -> 0 | R153: =SUM(R154:R155) -> 23.535072 | T153: =SUM(T154:T155) -> 0 | AR153: 1 | AT153: D | AU153: 1 | AY153: ROZPOCET | BK153: =SUM(BK154:BK155) -> 0
C154: 13 | D154: K | E154: 465513328 | F154: Dlažba z lomového kamene na cementovou maltu s vyspárováním tl 300 mm pro hydromeliorace | G154: m2 | H154: 50.6 | J154: =ROUND(I154*H154,2) -> 0 | N154: základní | P154: =O154*H154 -> 0 | Q154: 0.46512 | R154: =Q154*H154 -> 23.535072 | S154: 0 | T154: =S154*H154 -> 0 | AR154: 4 | AT154: K | AU154: 2 | AY154: ROZPOCET | BE154: =IF(N154="základní",J154,0) -> 0 | BF154: =IF(N154="snížená",J154,0) -> 0 | BG154: =IF(N154="zákl. přenesená",J154,0) -> 0 | BH154: =IF(N154="sníž. přenesená",J154,0) -> 0 | BI154: =IF(N154="nulová",J154,0) -> 0 | BJ154: 1 | BK154: =ROUND(I154*H154,2) -> 0 | BL154: 4 | BM154: 533500617
D155: VV | F155: 23*(1,7+0,5) | H155: 50.6 | AT155: VV | AU155: 2 | AV155: 2 | AW155: True | AX155: 1 | AY155: ROZPOCET
D156: D | E156: 9 | F156: Ostatní konstrukce a práce, bourání | J156: =BK156 -> 0 | P156: =SUM(P157:P158) -> 0 | R156: =SUM(R157:R158) -> 0.09338 | T156: =SUM(T157:T158) -> 0 | AR156: 1 | AT156: D | AU156: 1 | AY156: ROZPOCET | BK156: =SUM(BK157:BK158) -> 0
C157: 14 | D157: K | E157: 919721101 | F157: Geomříž pro stabilizaci podkladu tkaná z polyesteru podélná pevnost v tahu přes 15 do 50 kN/m | G157: m2 | H157: 322 | J157: =ROUND(I157*H157,2) -> 0 | N157: základní | P157: =O157*H157 -> 0 | Q157: 0.00029 | R157: =Q157*H157 -> 0.09338 | S157: 0 | T157: =S157*H157 -> 0 | AR157: 4 | AT157: K | AU157: 2 | AY157: ROZPOCET | BE157: =IF(N157="základní",J157,0) -> 0 | BF157: =IF(N157="snížená",J157,0) -> 0 | BG157: =IF(N157="zákl. přenesená",J157,0) -> 0 | BH157: =IF(N157="sníž. přenesená",J157,0) -> 0 | BI157: =IF(N157="nulová",J157,0) -> 0 | BJ157: 1 | BK157: =ROUND(I157*H157,2) -> 0 | BL157: 4 | BM157: 1383389141
D158: VV | F158: 23*3,5*4 | H158: 322 | AT158: VV | AU158: 2 | AV158: 2 | AW158: True | AX158: 1 | AY158: ROZPOCET
D159: D | E159: 998 | F159: Přesun hmot | J159: =BK159 -> 0 | P159: =P160 -> 0 | R159: =R160 -> 0 | T159: =T160 -> 0 | AR159: 1 | AT159: D | AU159: 1 | AY159: ROZPOCET | BK159: =BK160 -> 0
C160: 15 | D160: K | E160: 998225111 | F160: Přesun hmot pro pozemní komunikace s krytem z kamene, monolitickým betonovým nebo živičným | G160: t | H160: 2801.428 | J160: =ROUND(I160*H160,2) -> 0 | N160: základní | P160: =O160*H160 -> 0 | Q160: 0 | R160: =Q160*H160 -> 0 | S160: 0 | T160: =S160*H160 -> 0 | AR160: 4 | AT160: K | AU160: 2 | AY160: ROZPOCET | BE160: =IF(N160="základní",J160,0) -> 0 | BF160: =IF(N160="snížená",J160,0) -> 0 | BG160: =IF(N160="zákl. přenesená",J160,0) -> 0 | BH160: =IF(N160="sníž. přenesená",J160,0) -> 0 | BI160: =IF(N160="nulová",J160,0) -> 0 | BJ160: 1 | BK160: =ROUND(I160*H160,2) -> 0 | BL160: 4 | BM160: 282784342

Sheet VON - Vedlejší a ostatní ...
AT2: {ba597b9e-92c3-4a5e-b0e2-87ecb92ff0ea}
AT3: 2
D4: KRYCÍ LIST SOUPISU PRACÍ | M4: v --- níže se nacházejí doplnkové a pomocné údaje k sestavám --- v | AT4: False
D6: Stavba:
E7: ='Rekapitulace stavby'!K6 -> Cyklostezky 2020 - trasa I (Požární nádrž Běchovice – ČOV Újezd nad Lesy)
D8: Objekt:
E9: VON - Vedlejší a ostatní náklady
D11: KSO: | I11: CC-CZ:
D12: Místo: | F12: Praha - Běchovice | I12: Datum: | J12: ='Rekapitulace stavby'!AN8 -> 26. 4. 2022
D14: Zadavatel: | I14: IČ:
E15: Městská část Praha – Běchovice | I15: DIČ:
D17: Uchazeč: | I17: IČ: | J17: ='Rekapitulace stavby'!AN13 -> Vyplň údaj
E18: ='Rekapitulace stavby'!E14 -> Vyplň údaj | I18: DIČ: | J18: ='Rekapitulace stavby'!AN14 -> Vyplň údaj
D20: Projektant: | I20: IČ:
E21: KONTIGA s.r.o. | I21: DIČ:
D23: Zpracovatel: | I23: IČ:
E24: Ing. Jan Duben | I24: DIČ:
D26: Poznámka:
D30: Cena bez DPH | J30: =ROUND(J121, 2) -> 0
F32: Základ daně | I32: Sazba daně | J32: Výše daně
D33: DPH | E33: základní | F33: =ROUND((SUM(BE121:BE150)), 2) -> 0 | I33: 0.21 | J33: =ROUND(((SUM(BE121:BE150))*I33), 2) -> 0
E34: snížená | F34: =ROUND((SUM(BF121:BF150)), 2) -> 0 | I34: 0.15 | J34: =ROUND(((SUM(BF121:BF150))*I34), 2) -> 0
E35: zákl. přenesená | F35: =ROUND((SUM(BG121:BG150)), 2) -> 0 | I35: 0.21 | J35: =0 -> 0
E36: sníž. přenesená | F36: =ROUND((SUM(BH121:BH150)), 2) -> 0 | I36: 0.15 | J36: =0 -> 0
E37: nulová | F37: =ROUND((SUM(BI121:BI150)), 2) -> 0 | I37: 0 | J37: =0 -> 0
D39: Cena s DPH | G39: v | H39: CZK | J39: =SUM(J30:J37) -> 0
D50: Projektant | G50: Zpracovatel
D61: Datum a podpis: | F61: Razítko | G61: Datum a podpis: | J61: Razítko
D65: Objednavatel | G65: Uchazeč
D76: Datum a podpis: | F76: Razítko | G76: Datum a podpis: | J76: Razítko
C82: REKAPITULACE ČLENĚNÍ SOUPISU PRACÍ
C84: Stavba:
E85: =E7 -> Cyklostezky 2020 - trasa I (Požární nádrž Běchovice – ČOV Újezd nad Lesy)
C86: Objekt:
E87: =E9 -> VON - Vedlejší a ostatní náklady
C89: Místo: | F89: =F12 -> Praha - Běchovice | I89: Datum: | J89: =IF(J12="","",J12) -> 26. 4. 2022
C91: Zadavatel: | F91: =E15 -> Městská část Praha – Běchovice | I91: Projektant: | J91: =E21 -> KONTIGA s.r.o.
C92: Uchazeč: | F92: =IF(E18="","",E18) -> Vyplň údaj | I92: Zpracovatel: | J92: =E24 -> Ing. Jan Duben
C94: Kód dílu - Popis | J94: Cena celkem [CZK]
C96: Náklady ze soupisu prací | J96: =J121 -> 0 | AU96: -1
D97: VRN - Vedlejší rozpočtové náklady | J97: =J122 -> 0
D98: VRN1 - Průzkumné, geodetické a projektové práce | J98: =J123 -> 0
D99: VRN3 - Zařízení staveniště | J99: =J129 -> 0
D100: VRN4 - Inženýrská činnost | J100: =J136 -> 0
D101: VRN7 - Provozní vlivy | J101: =J139 -> 0
C108: SOUPIS PRACÍ
C110: Stavba:
E111: =E7 -> Cyklostezky 2020 - trasa I (Požární nádrž Běchovice – ČOV Újezd nad Lesy)
C112: Objekt:
E113: =E9 -> VON - Vedlejší a ostatní náklady
C115: Místo: | F115: =F12 -> Praha - Běchovice | I115: Datum: | J115: =IF(J12="","",J12) -> 26. 4. 2022
C117: Zadavatel: | F117: =E15 -> Městská část Praha – Běchovice | I117: Projektant: | J117: =E21 -> KONTIGA s.r.o.
C118: Uchazeč: | F118: =IF(E18="","",E18) -> Vyplň údaj | I118: Zpracovatel: | J118: =E24 -> Ing. Jan Duben
C120: PČ | D120: Typ | E120: Kód | F120: Popis | G120: MJ | H120: Množství | I120: J.cena [CZK] | J120: Cena celkem [CZK] | K120: Cenová soustava | N120: DPH | O120: J. Nh [h] | P120: Nh celkem [h] | Q120: J. hmotnost [t] | R120: Hmotnost celkem [t] | S120: J. suť [t] | T120: Suť Celkem [t]
C121: Náklady soupisu celkem | J121: =BK121 -> 0 | P121: =P122 -> 0 | R121: =R122 -> 0 | T121: =T122 -> 0 | AT121: D | AU121: -1 | BK121: =BK122 -> 0
D122: D | E122: VRN | F122: Vedlejší rozpočtové náklady | J122: =BK122 -> 0 | P122: =P123+P129+P136+P139 -> 0 | R122: =R123+R129+R136+R139 -> 0 | T122: =T123+T129+T136+T139 -> 0 | AR122: 5 | AT122: D | AU122: 0 | AY122: ROZPOCET | BK122: =BK123+BK129+BK136+BK139 -> 0
D123: D | E123: VRN1 | F123: Průzkumné, geodetické a projektové práce | J123: =BK123 -> 0 | P123: =SUM(P124:P128) -> 0 | R123: =SUM(R124:R128) -> 0 | T123: =SUM(T124:T128) -> 0 | AR123: 5 | AT123: D | AU123: 1 | AY123: ROZPOCET | BK123: =SUM(BK124:BK128) -> 0
C124: 1 | D124: K | E124: 012103001 | F124: Geodetické práce před výstavbou - vytýčení stavby | G124: Kč | H124: 1 | J124: =ROUND(I124*H124,2) -> 0 | N124: základní | P124: =O124*H124 -> 0 | Q124: 0 | R124: =Q124*H124 -> 0 | S124: 0 | T124: =S124*H124 -> 0 | AR124: 1024 | AT124: K | AU124: 2 | AY124: ROZPOCET | BE124: =IF(N124="základní",J124,0) -> 0 | BF124: =IF(N124="snížená",J124,0) -> 0 | BG124: =IF(N124="zákl. přenesená",J124,0) -> 0 | BH124: =IF(N124="sníž. přenesená",J124,0) -> 0 | BI124: =IF(N124="nulová",J124,0) -> 0 | BJ124: 1 | BK124: =ROUND(I124*H124,2) -> 0 | BL124: 1024 | BM124: 333156997
C125: 2 | D125: K | E125: 012103002 | F125: Geodetické práce před výstavbou - vytýčení sítí | G125: Kč | H125: 1 | J125: =ROUND(I125*H125,2) -> 0 | N125: základní | P125: =O125*H125 -> 0 | Q125: 0 | R125: =Q125*H125 -> 0 | S125: 0 | T125: =S125*H125 -> 0 | AR125: 1024 | AT125: K | AU125: 2 | AY125: ROZPOCET | BE125: =IF(N125="základní",J125,0) -> 0 | BF125: =IF(N125="snížená",J125,0) -> 0 | BG125: =IF(N125="zákl. přenesená",J125,0) -> 0 | BH125: =IF(N125="sníž. přenesená",J125,0) -> 0 | BI125: =IF(N125="nulová",J125,0) -> 0 | BJ125: 1 | BK125: =ROUND(I125*H125,2) -> 0 | BL125: 1024 | BM125: 1879482614
C126: 3 | D126: K | E126: 012203000 | F126: Geodetické vytýčení stavby v průběhu výstavby a zaměření skutečného stavu | G126: Kč | H126: 1 | J126: =ROUND(I126*H126,2) -> 0 | N126: základní | P126: =O126*H126 -> 0 | Q126: 0 | R126: =Q126*H126 -> 0 | S126: 0 | T126: =S126*H126 -> 0 | AR126: 1024 | AT126: K | AU126: 2 | AY126: ROZPOCET | BE126: =IF(N126="základní",J126,0) -> 0 | BF126: =IF(N126="snížená",J126,0) -> 0 | BG126: =IF(N126="zákl. přenesená",J126,0) -> 0 | BH126: =IF(N126="sníž. přenesená",J126,0) -> 0 | BI126: =IF(N126="nulová",J126,0) -> 0 | BJ126: 1 | BK126: =ROUND(I126*H126,2) -> 0 | BL126: 1024 | BM126: 474446863
C127: 4 | D127: K | E127: 013244000 | F127: Dokumentace pro provádění stavby | G127: Kč | H127: 1 | J127: =ROUND(I127*H127,2) -> 0 | N127: základní | P127: =O127*H127 -> 0 | Q127: 0 | R127: =Q127*H127 -> 0 | S127: 0 | T127: =S127*H127 -> 0 | AR127: 1024 | AT127: K | AU127: 2 | AY127: ROZPOCET | BE127: =IF(N127="základní",J127,0) -> 0 | BF127: =IF(N127="snížená",J127,0) -> 0 | BG127: =IF(N127="zákl. přenesená",J127,0) -> 0 | BH127: =IF(N127="sníž. přenesená",J127,0) -> 0 | BI127: =IF(N127="nulová",J127,0) -> 0 | BJ127: 1 | BK127: =ROUND(I127*H127,2) -> 0 | BL127: 1024 | BM127: -1629779915
C128: 5 | D128: K | E128: 013254000 | F128: Dokumentace skutečného provedení stavby - 4x tištěná, 1x na CD | G128: Kč | H128: 1 | J128: =ROUND(I128*H128,2) -> 0 | N128: základní | P128: =O128*H128 -> 0 | Q128: 0 | R128: =Q128*H128 -> 0 | S128: 0 | T128: =S128*H128 -> 0 | AR128: 1024 | AT128: K | AU128: 2 | AY128: ROZPOCET | BE128: =IF(N128="základní",J128,0) -> 0 | BF128: =IF(N128="snížená",J128,0) -> 0 | BG128: =IF(N128="zákl. přenesená",J128,0) -> 0 | BH128: =IF(N128="sníž. přenesená",J128,0) -> 0 | BI128: =IF(N128="nulová",J128,0) -> 0 | BJ128: 1 | BK128: =ROUND(I128*H128,2) -> 0 | BL128: 1024 | BM128: 380122023
D129: D | E129: VRN3 | F129: Zařízení staveniště | J129: =BK129 -> 0 | P129: =SUM(P130:P135) -> 0 | R129: =SUM(R130:R135) -> 0 | T129: =SUM(T130:T135) -> 0 | AR129: 5 | AT129: D | AU129: 1 | AY129: ROZPOCET | BK129: =SUM(BK130:BK135) -> 0
C130: 6 | D130: K | E130: 030001000 | F130: Zařízení staveniště | G130: Kč | H130: 1 | J130: =ROUND(I130*H130,2) -> 0 | N130: základní | P130: =O130*H130 -> 0 | Q130: 0 | R130: =Q130*H130 -> 0 | S130: 0 | T130: =S130*H130 -> 0 | AR130: 1024 | AT130: K | AU130: 2 | AY130: ROZPOCET | BE130: =IF(N130="základní",J130,0) -> 0 | BF130: =IF(N130="snížená",J130,0) -> 0 | BG130: =IF(N130="zákl. přenesená",J130,0) -> 0 | BH130: =IF(N130="sníž. přenesená",J130,0) -> 0 | BI130: =IF(N130="nulová",J130,0) -> 0 | BJ130: 1 | BK130: =ROUND(I130*H130,2) -> 0 | BL130: 1024 | BM130: 889373520
C131: 7 | D131: K | E131: 032903000 | F131: Náklady na provoz a údržbu vybavení staveniště | G131: Kč | H131: 1 | J131: =ROUND(I131*H131,2) -> 0 | N131: základní | P131: =O131*H131 -> 0 | Q131: 0 | R131: =Q131*H131 -> 0 | S131: 0 | T131: =S131*H131 -> 0 | AR131: 1024 | AT131: K | AU131: 2 | AY131: ROZPOCET | BE131: =IF(N131="základní",J131,0) -> 0 | BF131: =IF(N131="snížená",J131,0) -> 0 | BG131: =IF(N131="zákl. přenesená",J131,0) -> 0 | BH131: =IF(N131="sníž. přenesená",J131,0) -> 0 | BI131: =IF(N131="nulová",J131,0) -> 0 | BJ131: 1 | BK131: =ROUND(I131*H131,2) -> 0 | BL131: 1024 | BM131: 457628991
C132: 8 | D132: K | E132: 034303000 | F132: Dopravní značení na staveništi - Dopravně inženýrské opatření v průběhu výstavby dle TP66 - osazení dočasného dopr.značení vč.opatření pro zajištění dopravy-zřízení a odstranění, manipulace, pronájmu vč.projektu a zajištění dopr. inženýrského rozhodnutí | G132: Kč | H132: 1 | J132: =ROUND(I132*H132,2) -> 0 | N132: základní | P132: =O132*H132 -> 0 | Q132: 0 | R132: =Q132*H132 -> 0 | S132: 0 | T132: =S132*H132 -> 0 | AR132: 1024 | AT132: K | AU132: 2 | AY132: ROZPOCET | BE132: =IF(N132="základní",J132,0) -> 0 | BF132: =IF(N132="snížená",J132,0) -> 0 | BG132: =IF(N132="zákl. přenesená",J132,0) -> 0 | BH132: =IF(N132="sníž. přenesená",J132,0) -> 0 | BI132: =IF(N132="nulová",J132,0) -> 0 | BJ132: 1 | BK132: =ROUND(I132*H132,2) -> 0 | BL132: 1024 | BM132: -1442255694
C133: 9 | D133: K | E133: 034403001 | F133: Pomocné práce zajištění nebo řízení regulaci a ochranu dopravy - úhrnná částka musí obsahovat veškeré nákl. na dočasné úpravy a regulaci dopr.(i pěší) na staveništi a oplocení a ochranu výkopů | G133: Kč | H133: 1 | J133: =ROUND(I133*H133,2) -> 0 | N133: základní | P133: =O133*H133 -> 0 | Q133: 0 | R133: =Q133*H133 -> 0 | S133: 0 | T133: =S133*H133 -> 0 | AR133: 1024 | AT133: K | AU133: 2 | AY133: ROZPOCET | BE133: =IF(N133="základní",J133,0) -> 0 | BF133: =IF(N133="snížená",J133,0) -> 0 | BG133: =IF(N133="zákl. přenesená",J133,0) -> 0 | BH133: =IF(N133="sníž. přenesená",J133,0) -> 0 | BI133: =IF(N133="nulová",J133,0) -> 0 | BJ133: 1 | BK133: =ROUND(I133*H133,2) -> 0 | BL133: 1024 | BM133: -949369690
C134: 10 | D134: K | E134: 034503000 | F134: Informační tabule na staveništi - označení stavby dle vzoru dodavatele | G134: kus | H134: 1 | J134: =ROUND(I134*H134,2) -> 0 | N134: základní | P134: =O134*H134 -> 0 | Q134: 0 | R134: =Q134*H134 -> 0 | S134: 0 | T134: =S134*H134 -> 0 | AR134: 1024 | AT134: K | AU134: 2 | AY134: ROZPOCET | BE134: =IF(N134="základní",J134,0) -> 0 | BF134: =IF(N134="snížená",J134,0) -> 0 | BG134: =IF(N134="zákl. přenesená",J134,0) -> 0 | BH134: =IF(N134="sníž. přenesená",J134,0) -> 0 | BI134: =IF(N134="nulová",J134,0) -> 0 | BJ134: 1 | BK134: =ROUND(I134*H134,2) -> 0 | BL134: 1024 | BM134: -57925172
C135: 11 | D135: K | E135: 039103000 | F135: Rozebrání, bourání a odvoz zařízení staveniště | G135: Kč | H135: 1 | J135: =ROUND(I135*H135,2) -> 0 | N135: základní | P135: =O135*H135 -> 0 | Q135: 0 | R135: =Q135*H135 -> 0 | S135: 0 | T135: =S135*H135 -> 0 | AR135: 1024 | AT135: K | AU135: 2 | AY135: ROZPOCET | BE135: =IF(N135="základní",J135,0) -> 0 | BF135: =IF(N135="snížená",J135,0) -> 0 | BG135: =IF(N135="zákl. přenesená",J135,0) -> 0 | BH135: =IF(N135="sníž. přenesená",J135,0) -> 0 | BI135: =IF(N135="nulová",J135,0) -> 0 | BJ135: 1 | BK135: =ROUND(I135*H135,2) -> 0 | BL135: 1024 | BM135: 2123309605
D136: D | E136: VRN4 | F136: Inženýrská činnost | J136: =BK136 -> 0 | P136: =SUM(P137:P138) -> 0 | R136: =SUM(R137:R138) -> 0 | T136: =SUM(T137:T138) -> 0 | AR136: 5 | AT136: D | AU136: 1 | AY136: ROZPOCET | BK136: =SUM(BK137:BK138) -> 0
C137: 12 | D137: K | E137: 041903000 | F137: Dozor jiné osoby - geotechnické posouzení (3 návštěva stavby) | G137: kus | H137: 3 | J137: =ROUND(I137*H137,2) -> 0 | N137: základní | P137: =O137*H137 -> 0 | Q137: 0 | R137: =Q137*H137 -> 0 | S137: 0 | T137: =S137*H137 -> 0 | AR137: 1024 | AT137: K | AU137: 2 | AY137: ROZPOCET | BE137: =IF(N137="základní",J137,0) -> 0 | BF137: =IF(N137="snížená",J137,0) -> 0 | BG137: =IF(N137="zákl. přenesená",J137,0) -> 0 | BH137: =IF(N137="sníž. přenesená",J137,0) -> 0 | BI137: =IF(N137="nulová",J137,0) -> 0 | BJ137: 1 | BK137: =ROUND(I137*H137,2) -> 0 | BL137: 1024 | BM137: 937509192
C138: 13 | D138: K | E138: 043134000 | F138: Zkoušky zatěžovací - provedení zatěžovacích statických zkoušek pro ověření únosnosti pláně | G138: kus | H138: 14 | J138: =ROUND(I138*H138,2) -> 0 | N138: základní | P138: =O138*H138 -> 0 | Q138: 0 | R138: =Q138*H138 -> 0 | S138: 0 | T138: =S138*H138 -> 0 | AR138: 1024 | AT138: K | AU138: 2 | AY138: ROZPOCET | BE138: =IF(N138="základní",J138,0) -> 0 | BF138: =IF(N138="snížená",J138,0) -> 0 | BG138: =IF(N138="zákl. přenesená",J138,0) -> 0 | BH138: =IF(N138="sníž. přenesená",J138,0) -> 0 | BI138: =IF(N138="nulová",J138,0) -> 0 | BJ138: 1 | BK138: =ROUND(I138*H138,2) -> 0 | BL138: 1024 | BM138: -1046019230
D139: D | E139: VRN7 | F139: Provozní vlivy | J139: =BK139 -> 0 | P139: =SUM(P140:P150) -> 0 | R139: =SUM(R140:R150) -> 0 | T139: =SUM(T140:T150) -> 0 | AR139: 5 | AT139: D | AU139: 1 | AY139: ROZPOCET | BK139: =SUM(BK140:BK150) -> 0
C140: 14 | D140: K | E140: 07560300R | F140: Přeložka metalického kabelu CETIN | G140: Kč | H140: 1 | J140: =ROUND(I140*H140,2) -> 0 | N140: základní | P140: =O140*H140 -> 0 | Q140: 0 | R140: =Q140*H140 -> 0 | S140: 0 | T140: =S140*H140 -> 0 | AR140: 1024 | AT140: K | AU140: 2 | AY140: ROZPOCET | BE140: =IF(N140="základní",J140,0) -> 0 | BF140: =IF(N140="snížená",J140,0) -> 0 | BG140: =IF(N140="zákl. přenesená",J140,0) -> 0 | BH140: =IF(N140="sníž. přenesená",J140,0) -> 0 | BI140: =IF(N140="nulová",J140,0) -> 0 | BJ140: 1 | BK140: =ROUND(I140*H140,2) -> 0 | BL140: 1024 | BM140: 870007559
D141: VV | F141: včetně pískového lože v tl. 200 mm, dodávky kabelu, uložení kabelu do výkopu, ochranné krycí folie, pospojování a zapojení | AT141: VV | AU141: 2 | AV141: 1 | AW141: True | AX141: 0 | AY141: ROZPOCET
D142: VV | F142: včetně osazení chráničky v místě křížení cyklostezky (chránička Kopoflex DN 90) | AT142: VV | AU142: 2 | AV142: 1 | AW142: True | AX142: 0 | AY142: ROZPOCET
D143: VV | F143: zemní práce jsou v položce přeložky železničního kabelu - společný výkop | AT143: VV | AU143: 2 | AV143: 1 | AW143: True | AX143: 0 | AY143: ROZPOCET
D144: VV | F144: "dle nabídky CETIN - 731 445 Kč" 1 | H144: 1 | AT144: VV | AU144: 2 | AV144: 2 | AW144: True | AX144: 1 | AY144: ROZPOCET
C145: 15 | D145: K | E145: 07560301R | F145: Přeložka železničního kabelu ŽDK1 | G145: m | H145: 366 | J145: =ROUND(I145*H145,2) -> 0 | N145: základní | P145: =O145*H145 -> 0 | Q145: 0 | R145: =Q145*H145 -> 0 | S145: 0 | T145: =S145*H145 -> 0 | AR145: 1024 | AT145: K | AU145: 2 | AY145: ROZPOCET | BE145: =IF(N145="základní",J145,0) -> 0 | BF145: =IF(N145="snížená",J145,0) -> 0 | BG145: =IF(N145="zákl. přenesená",J145,0) -> 0 | BH145: =IF(N145="sníž. přenesená",J145,0) -> 0 | BI145: =IF(N145="nulová",J145,0) -> 0 | BJ145: 1 | BK145: =ROUND(I145*H145,2) -> 0 | BL145: 1024 | BM145: 763580978
D146: VV | F146: včetně provedení výkopu (společný s druhou přeložkou) - š. 0,5, min. hl.0,8 a následného zásypu | AT146: VV | AU146: 2 | AV146: 1 | AW146: True | AX146: 0 | AY146: ROZPOCET
D147: VV | F147: včetně pískového lože v tl. 200 mm, dodávky kabelu, uložení kabelu do výkopu, ochranné krycí folie, pospojování a zapojení | AT147: VV | AU147: 2 | AV147: 1 | AW147: True | AX147: 0 | AY147: ROZPOCET
D148: VV | F148: včetně osazení chráničky v místě křížení cyklostezky (chránička Kopoflex DN 90) | AT148: VV | AU148: 2 | AV148: 1 | AW148: True | AX148: 0 | AY148: ROZPOCET
D149: VV | F149: zemní práce jsou v položce přeložky železničního kabelu - společný výkop | AT149: VV | AU149: 2 | AV149: 1 | AW149: True | AX149: 0 | AY149: ROZPOCET
D150: VV | F150: 366 | H150: 366 | AT150: VV | AU150: 2 | AV150: 2 | AW150: True | AX150: 1 | AY150: ROZPOCET

Sheet Seznam figur
C4: SEZNAM FIGUR
C5: Kód: | D5: 4203-111-41
C6: Stavba: | D6: Cyklostezky 2020 - trasa I (Požární nádrž Běchovice – ČOV Újezd nad Lesy)
C7: Datum: | D7: ='Rekapitulace stavby'!AN8 -> 26. 4. 2022
C9: Kód | D9: Popis | E9: MJ | F9: Výměra
C10: SO 101 | D10: Stezka pro chodce a cyklisty
C11: CISTKOR | F11: 10.26
C12: CISTKOR | D12: "úprava profilu koryta v KM 1,332 00" 24*2,85*0,15 | F12: 10.26
C13: Použití figury:
C14: 129153101 | D14: Čištění otevřených koryt vodotečí šíře dna do 5 m hl do 2,5 m v hornině třídy těžitelnosti I skupiny 1 a 2 strojně | E14: m3 | F14: 10.26
C15: 162751117 | D15: Vodorovné přemístění přes 9 000 do 10000 m výkopku/sypaniny z horniny třídy těžitelnosti I skupiny 1 až 3 | E15: m3 | F15: 3921.891
C16: chodník | F16: 9
C17: chodník | D17: "chodník - dle situace C.3.1-3" 9 | F17: 9
C18: Použití figury:
C19: 564851111 | D19: Podklad ze štěrkodrtě ŠD plochy přes 100 m2 tl 150 mm | E19: m2 | F19: 9881.88
C20: 122151106 | D20: Odkopávky a prokopávky nezapažené v hornině třídy těžitelnosti I skupiny 1 a 2 objem do 5000 m3 strojně | E20: m3 | F20: 3809.264
C21: 181951112 | D21: Úprava pláně v hornině třídy těžitelnosti I, skupiny 1 až 3 se zhutněním strojně | E21: m2 | F21: 5096.88
C22: 564871116 | D22: Podklad ze štěrkodrtě ŠD plochy přes 100 m2 tl. 300 mm | E22: m2 | F22: 4946.88
C23: 596211110 | D23: Kladení zámkové dlažby komunikací pro pěší ručně tl 60 mm skupiny A pl do 50 m2 | E23: m2 | F23: 11.88
C24: 59245018 | D24: dlažba tvar obdélník betonová 200x100x60mm přírodní | E24: m2 | F24: 9.27
C25: koryto | F25: 224.5
C26: koryto | D26: "zpevnění břehu a úprava protilehlého svahu" 224,5 | F26: 224.5
C27: Použití figury:
C28: 124253101 | D28: Vykopávky pro koryta vodotečí v hornině třídy těžitelnosti I skupiny 3 objem do 1000 m3 strojně | E28: m3 | F28: 224.5
C29: 162751117 | D29: Vodorovné přemístění přes 9 000 do 10000 m výkopku/sypaniny z horniny třídy těžitelnosti I skupiny 1 až 3 | E29: m3 | F29: 3921.891
C30: násyp | F30: 131
D31: "dosypávky pro novou komunikaci - dle tabulky kubatur" 31 | F31: 31
D32: "oprava opevnění břehu potoka PP - sanace nátrží, násypy, sjezdy (násyp hutněný)" 100 | F32: 100
C33: násyp | D33: Součet | F33: 131
C34: Použití figury:
C35: 171151103 | D35: Uložení sypaniny z hornin soudržných do násypů zhutněných strojně | E35: m3 | F35: 131
C36: 162751117 | D36: Vodorovné přemístění přes 9 000 do 10000 m výkopku/sypaniny z horniny třídy těžitelnosti I skupiny 1 až 3 | E36: m3 | F36: 3921.891
C37: odkop | F37: 3809.264
D38: "odkopávka dle tabulky kubatur" 2858 | F38: 2858
D39: "odpočet odstranění stávající komunikace - dle situace C.3.1-3" -2960*0,18 | F39: -532.8
D40: "sanace zemní pláně" (stezka+chodník+varpas)*0,3 | F40: 1484.064
C41: odkop | D41: Součet | F41: 3809.264
C42: Použití figury:
C43: 122151106 | D43: Odkopávky a prokopávky nezapažené v hornině třídy těžitelnosti I skupiny 1 a 2 objem do 5000 m3 strojně | E43: m3 | F43: 3809.264
C44: 162751117 | D44: Vodorovné přemístění přes 9 000 do 10000 m výkopku/sypaniny z horniny třídy těžitelnosti I skupiny 1 až 3 | E44: m3 | F44: 3921.891
C45: odvoz | F45: 3921.891
C46: odvoz | D46: odkop+rýhy+rýhy1+cistkor+koryto-násyp-zásyp | F46: 3921.891
C47: Použití figury:
C48: 162751117 | D48: Vodorovné přemístění přes 9 000 do 10000 m výkopku/sypaniny z horniny třídy těžitelnosti I skupiny 1 až 3 | E48: m3 | F48: 3921.891
C49: 171201221 | D49: Poplatek za uložení na skládce (skládkovné) zeminy a kamení kód odpadu 17 05 04 | E49: t | F49: 7255.498
C50: 171251201 | D50: Uložení sypaniny na skládky nebo meziskládky | E50: m3 | F50: 3926.238
C51: odvozZB | F51: 4.347
D52: "odvoz vybouraného stávajícího propustku u propustku P1" 13,1*3,14*0,4*0,12+1,25*0,6*0,1 | F52: 2.049
D53: "odvoz vybouraného stávajícího propustku u propustku P2" 10,3*3,14*0,4*0,12 | F53: 1.552
D54: "odvoz vybouraného stávajícího propustku u propustku P3" 6,6*3,14*0,3*0,12 | F54: 0.746
C55: odvozZB | D55: Součet | F55: 4.347
C56: Použití figury:
C57: 162751157 | D57: Vodorovné přemístění přes 9 000 do 10000 m výkopku/sypaniny z horniny třídy těžitelnosti III skupiny 6 a 7 | E57: m3 | F57: 4.347
C58: 171251201 | D58: Uložení sypaniny na skládky nebo meziskládky | E58: m3 | F58: 3926.238
C59: 997013602 | D59: Poplatek za uložení na skládce (skládkovné) stavebního odpadu železobetonového kód odpadu 17 01 01 | E59: t | F59: 10.868
C60: ohumus | F60: 4372
C61: ohumus | D61: "ohumusování - dle situace C.3.1-3" 4372 | F61: 4372
C62: Použití figury:
C63: 181311103 | D63: Rozprostření ornice tl vrstvy do 200 mm v rovině nebo ve svahu do 1:5 ručně | E63: m2 | F63: 4372
C64: 181451131 | D64: Založení parkového trávníku výsevem plochy přes 1000 m2 v rovině a ve svahu do 1:5 | E64: m2 | F64: 4372
C65: 184802111 | D65: Chemické odplevelení před založením kultury nad 20 m2 postřikem na široko v rovině a svahu do 1:5 | E65: m2 | F65: 4372
C66: 185804312 | D66: Zalití rostlin vodou plocha přes 20 m2 | E66: m3 | F66: 21.86
C67: 185851121 | D67: Dovoz vody pro zálivku rostlin za vzdálenost do 1000 m | E67: m3 | F67: 21.86
C68: 185851129 | D68: Příplatek k dovozu vody pro zálivku rostlin do 1000 m ZKD 1000 m | E68: m3 | F68: 109.3
C69: 00572410 | D69: osivo směs travní parková | E69: kg | F69: 131.16
C70: 10364101 | D70: zemina pro terénní úpravy - ornice | E70: t | F70: 808.82
C71: rýhy | F71: 14.174
D72: "základové pasy pro P1" 2*3*0,5*(0,9+0,1) | F72: 3
D73: "základové pasy pro P2" 2*3*0,5*(0,9+0,1) | F73: 3
D74: "základové pasy pro P3" (4+3)*0,5*(0,9+0,1) | F74: 3.5
D75: "vybourání stávajícího propustku u propustku P1" 12,3*0,4*0,95 | F75: 4.674
C76: rýhy | D76: Součet | F76: 14.174
C77: Použití figury:
C78: 132151101 | D78: Hloubení rýh nezapažených š do 800 mm v hornině třídy těžitelnosti I skupiny 1 a 2 objem do 20 m3 strojně | E78: m3 | F78: 14.174
C79: 162751117 | D79: Vodorovné přemístění přes 9 000 do 10000 m výkopku/sypaniny z horniny třídy těžitelnosti I skupiny 1 až 3 | E79: m3 | F79: 3921.891
C80: rýhy1 | F80: 18.335
D81: "výkop pro propustek P1" 6,3*0,95 | F81: 5.985
D82: "výkop pro propustek P2" 5*0,95 | F82: 4.75
D83: "výkop pro propustek P3" 8*0,95 | F83: 7.6
C84: rýhy1 | D84: Součet | F84: 18.335
C85: Použití figury:
C86: 132151253 | D86: Hloubení rýh nezapažených š do 2000 mm v hornině třídy těžitelnosti I skupiny 1 a 2 objem do 100 m3 strojně | E86: m3 | F86: 18.335
C87: 162751117 | D87: Vodorovné přemístění přes 9 000 do 10000 m výkopku/sypaniny z horniny třídy těžitelnosti I skupiny 1 až 3 | E87: m3 | F87: 3921.891
C88: stezka | F88: 4935
C89: stezka | D89: "společná stezka prop chodce a cyklisty - dle situace C.3.1-3" 4935 | F89: 4935
C90: Použití figury:
C91: 564851111 | D91: Podklad ze štěrkodrtě ŠD plochy přes 100 m2 tl 150 mm | E91: m2 | F91: 9881.88
C92: 122151106 | D92: Odkopávky a prokopávky nezapažené v hornině třídy těžitelnosti I skupiny 1 a 2 objem do 5000 m3 strojně | E92: m3 | F92: 3809.264
C93: 181951112 | D93: Úprava pláně v hornině třídy těžitelnosti I, skupiny 1 až 3 se zhutněním strojně | E93: m2 | F93: 5096.88
C94: 564871116 | D94: Podklad ze štěrkodrtě ŠD plochy přes 100 m2 tl. 300 mm | E94: m2 | F94: 4946.88
C95: 565135121 | D95: Asfaltový beton vrstva podkladní ACP 16 (obalované kamenivo OKS) tl 50 mm š přes 3 m | E95: m2 | F95: 4939.75
C96: 573231106 | D96: Postřik živičný spojovací ze silniční emulze v množství 0,30 kg/m2 | E96: m2 | F96: 4944.5
C97: 577134121 | D97: Asfaltový beton vrstva obrusná ACO 11 (ABS) tř. I tl 40 mm š přes 3 m z nemodifikovaného asfaltu | E97: m2 | F97: 4944.5
C98: varpas | F98: 2.88
C99: varpas | D99: "varovný pás - dle situace C.3.1-3" 2,88 | F99: 2.88
C100: Použití figury:
C101: 564851111 | D101: Podklad ze štěrkodrtě ŠD plochy přes 100 m2 tl 150 mm | E101: m2 | F101: 9881.88
C102: 122151106 | D102: Odkopávky a prokopávky nezapažené v hornině třídy těžitelnosti I skupiny 1 a 2 objem do 5000 m3 strojně | E102: m3 | F102: 3809.264
C103: 181951112 | D103: Úprava pláně v hornině třídy těžitelnosti I, skupiny 1 až 3 se zhutněním strojně | E103: m2 | F103: 5096.88
C104: 564871116 | D104: Podklad ze štěrkodrtě ŠD plochy přes 100 m2 tl. 300 mm | E104: m2 | F104: 4946.88
...
