Workbook

Sheet Rekapitulace stavby
A1: Export Komplet | BA1: 2.0 | BB1: ZAMOK | BT1: False | BU1: False | BV1: {80fd9013-fd80-4c33-8429-e21916f08636}
BS2: 0,01 | BT2: 21
BS3: 0,01 | BT3: 15
D4: REKAPITULACE STAVBY | AS4: v --- níže se nacházejí doplnkové a pomocné údaje k sestavám --- v | BE4: Návod na vyplnění | BS4: 0,001
D5: Kód: | K5: 4203-111-41 | BE5: Měnit lze pouze buňky se žlutým podbarvením!_x000D_ _x000D_ 1) na prvním listu Rekapitulace stavby vyplňte v sestavě_x000D_ _x000D_ a) Souhrnný list_x000D_ - údaje o Uchazeči_x000D_ (přenesou se do ostatních sestav i v jiných listech)_x000D_ _x000D_ b) Rekapitulace objektů_x000D_ - potřebné Ostatní náklady_x000D_ _x000D_ 2) na vybraných listech vyplňte v sestavě_x000D_ _x000D_ a) Krycí list_x000D_ - údaje o Uchazeči, pokud se liší od údajů o Uchazeči na Souhrnném listu_x000D_ (údaje se přenesou do ostatních sestav v daném listu)_x000D_ _x000D_ b) Rekapitulace rozpočtu_x000D_ - potřebné Ostatní náklady_x000D_ _x000D_ c) Celkové náklady za stavbu_x000D_ - ceny u položek_x000D_ - množství, pokud má žluté podbarvení_x000D_ - a v případě potřeby poznámku (ta je ve skrytém sloupci) | BS5: 0,01
D6: Stavba: | K6: Cyklostezky 2020 - trasa I (Požární nádrž Běchovice – ČOV Újezd nad Lesy) | BS6: 0,01
D7: KSO: | AK7: CC-CZ: | BS7: 0,01
D8: Místo: | K8: Praha - Běchovice | AK8: Datum: | AN8: 26. 4. 2022 | BS8: 0,01
BS9: 0,01
D10: Zadavatel: | AK10: IČ: | BS10: 0,01
E11: Městská část Praha – Běchovice | AK11: DIČ: | BS11: 0,01
BS12: 0,01
D13: Uchazeč: | AK13: IČ: | AN13: Vyplň údaj | BS13: 0,01
E14: Vyplň údaj | AK14: DIČ: | AN14: Vyplň údaj | BS14: 0,01
BS15: False
D16: Projektant: | AK16: IČ: | BS16: False
E17: KONTIGA s.r.o. | AK17: DIČ: | BS17: True
BS18: 0,01
D19: Zpracovatel: | AK19: IČ: | BS19: 0,01
E20: Ing. Jan Duben | AK20: DIČ: | BS20: True
D22: Poznámka:
D26: Cena bez DPH | AK26: =ROUND(AG94,2) -> 0
L28: Sazba daně | W28: Základ daně | AK28: Výše daně
D29: DPH | F29: základní | L29: 0.21 | W29: =ROUND(AZ94, 2) -> 0 | AK29: =ROUND(AV94, 2) -> 0
F30: snížená | L30: 0.15 | W30: =ROUND(BA94, 2) -> 0 | AK30: =ROUND(AW94, 2) -> 0
F31: zákl. přenesená | L31: 0.21 | W31: =ROUND(BB94, 2) -> 0 | AK31: 0
F32: sníž. přenesená | L32: 0.15 | W32: =ROUND(BC94, 2) -> 0 | AK32: 0
F33: nulová | L33: 0 | W33: =ROUND(BD94, 2) -> 0 | AK33: 0
D35: Cena s DPH | T35: v | X35: CZK | AK35: =SUM(AK26:AK33) -> 0
D49: Projektant | AH49: Zpracovatel
D60: Datum a podpis: | V60: Razítko | AH60: Datum a podpis: | AM60: Razítko
D64: Objednavatel | AH64: Uchazeč
D75: Datum a podpis: | V75: Razítko | AH75: Datum a podpis: | AM75: Razítko
C82: REKAPITULACE OBJEKTŮ STAVBY A SOUPISŮ PRACÍ
C84: Kód: | L84: =K5 -> 4203-111-41
C85: Stavba: | L85: =K6 -> Cyklostezky 2020 - trasa I (Požární nádrž Běchovice – ČOV Újezd nad Lesy)
C87: Místo: | L87: =IF(K8="","",K8) -> Praha - Běchovice | AI87: Datum: | AM87: =IF(AN8= "","",AN8) -> 26. 4. 2022
C89: Zadavatel: | L89: =IF(E11= "","",E11) -> Městská část Praha – Běchovice | AI89: Projektant: | AM89: =IF(E17="","",E17) -> KONTIGA s.r.o. | AS89: Informatívní údaje z listů zakázek
C90: Uchazeč: | L90: =IF(E14= "Vyplň údaj","",E14) | AI90: Zpracovatel: | AM90: =IF(E20="","",E20) -> Ing. Jan Duben
C92: Kód | I92: Popis | AG92: Cena bez DPH [CZK] | AN92: Cena s DPH [CZK] | AQ92: Typ | AS92: z toho Ostat._x000D_ náklady [CZK] | AT92: DPH [CZK] | AU92: Normohodiny [h] | AV92: DPH základní [CZK] | AW92: DPH snížená [CZK] | AX92: DPH základní přenesená_x000D_ [CZK] | AY92: DPH snížená přenesená_x000D_ [CZK] | AZ92: Základna_x000D_ DPH základní | BA92: Základna_x000D_ DPH snížená | BB92: Základna_x000D_ DPH zákl. přenesená | BC92: Základna_x000D_ DPH sníž. přenesená | BD92: Základna_x000D_ DPH nulová
...

Sheet SO 101 - Stezka pro chodc...
AT2: {82d38d41-b811-4341-9e54-6f6f9725e965} | AZ2: CISTKOR | BC2: 10,26 | BD2: 2
AT3: 2 | AZ3: chodník | BC3: 9 | BD3: 2
D4: KRYCÍ LIST SOUPISU PRACÍ | M4: v --- níže se nacházejí doplnkové a pomocné údaje k sestavám --- v | AT4: False | AZ4: koryto | BC4: 224,5 | BD4: 2
AZ5: násyp | BC5: 131 | BD5: 2
D6: Stavba: | AZ6: odkop | BC6: 3809,264 | BD6: 2
E7: ='Rekapitulace stavby'!K6 -> Cyklostezky 2020 - trasa I (Požární nádrž Běchovice – ČOV Újezd nad Lesy) | AZ7: odvoz | BC7: 3921,891 | BD7: 2
D8: Objekt: | AZ8: odvozZB | BC8: 4,347 | BD8: 2
E9: SO 101 - Stezka pro chodce a cyklisty | AZ9: ohumus | BC9: 4372 | BD9: 2
AZ10: rýhy | BC10: 14,174 | BD10: 2
D11: KSO: | I11: CC-CZ: | AZ11: rýhy1 | BC11: 18,335 | BD11: 2
D12: Místo: | F12: Praha - Běchovice | I12: Datum: | J12: ='Rekapitulace stavby'!AN8 -> 26. 4. 2022 | AZ12: stezka | BC12: 4935 | BD12: 2
AZ13: varpas | BC13: 2,88 | BD13: 2
D14: Zadavatel: | I14: IČ: | AZ14: zásyp | BC14: 23,642 | BD14: 2
E15: Městská část Praha – Běchovice | I15: DIČ:
D17: Uchazeč: | I17: IČ: | J17: ='Rekapitulace stavby'!AN13 -> Vyplň údaj
E18: ='Rekapitulace stavby'!E14 -> Vyplň údaj | I18: DIČ: | J18: ='Rekapitulace stavby'!AN14 -> Vyplň údaj
D20: Projektant: | I20: IČ:
E21: KONTIGA s.r.o. | I21: DIČ:
D23: Zpracovatel: | I23: IČ:
E24: Ing. Jan Duben | I24: DIČ:
D26: Poznámka:
D30: Cena bez DPH | J30: =ROUND(J128, 2) -> 0
F32: Základ daně | I32: Sazba daně | J32: Výše daně
D33: DPH | E33: základní | F33: =ROUND((SUM(BE128:BE390)), 2) -> 0 | I33: 0.21 | J33: =ROUND(((SUM(BE128:BE390))*I33), 2) -> 0
E34: snížená | F34: =ROUND((SUM(BF128:BF390)), 2) -> 0 | I34: 0.15 | J34: =ROUND(((SUM(BF128:BF390))*I34), 2) -> 0
E35: zákl. přenesená | F35: =ROUND((SUM(BG128:BG390)), 2) -> 0 | I35: 0.21 | J35: =0 -> 0
E36: sníž. přenesená | F36: =ROUND((SUM(BH128:BH390)), 2) -> 0 | I36: 0.15 | J36: =0 -> 0
E37: nulová | F37: =ROUND((SUM(BI128:BI390)), 2) -> 0 | I37: 0 | J37: =0 -> 0
D39: Cena s DPH | G39: v | H39: CZK | J39: =SUM(J30:J37) -> 0
D50: Projektant | G50: Zpracovatel
D61: Datum a podpis: | F61: Razítko | G61: Datum a podpis: | J61: Razítko
D65: Objednavatel | G65: Uchazeč
D76: Datum a podpis: | F76: Razítko | G76: Datum a podpis: | J76: Razítko
C82: REKAPITULACE ČLENĚNÍ SOUPISU PRACÍ
C84: Stavba:
E85: =E7 -> Cyklostezky 2020 - trasa I (Požární nádrž Běchovice – ČOV Újezd nad Lesy)
C86: Objekt:
E87: =E9 -> SO 101 - Stezka pro chodce a cyklisty
C89: Místo: | F89: =F12 -> Praha - Běchovice | I89: Datum: | J89: =IF(J12="","",J12) -> 26. 4. 2022
C91: Zadavatel: | F91: =E15 -> Městská část Praha – Běchovice | I91: Projektant: | J91: =E21 -> KONTIGA s.r.o.
...

Sheet SO 201 - Armovaný svah
AT2: {aa36dd99-82e9-4b89-be5e-ba25787f7e82} | AZ2: odkop | BC2: 1454 | BD2: 2
AT3: 2 | AZ3: odvoz | BC3: 1462,28 | BD3: 2
D4: KRYCÍ LIST SOUPISU PRACÍ | M4: v --- níže se nacházejí doplnkové a pomocné údaje k sestavám --- v | AT4: False | AZ4: rýhy | BC4: 8,28 | BD4: 2
D6: Stavba:
E7: ='Rekapitulace stavby'!K6 -> Cyklostezky 2020 - trasa I (Požární nádrž Běchovice – ČOV Újezd nad Lesy)
D8: Objekt:
E9: SO 201 - Armovaný svah
D11: KSO: | I11: CC-CZ:
D12: Místo: | F12: Praha - Běchovice | I12: Datum: | J12: ='Rekapitulace stavby'!AN8 -> 26. 4. 2022
D14: Zadavatel: | I14: IČ:
E15: Městská část Praha – Běchovice | I15: DIČ:
D17: Uchazeč: | I17: IČ: | J17: ='Rekapitulace stavby'!AN13 -> Vyplň údaj
E18: ='Rekapitulace stavby'!E14 -> Vyplň údaj | I18: DIČ: | J18: ='Rekapitulace stavby'!AN14 -> Vyplň údaj
D20: Projektant: | I20: IČ:
E21: KONTIGA s.r.o. | I21: DIČ:
D23: Zpracovatel: | I23: IČ:
E24: Ing. Jan Duben | I24: DIČ:
D26: Poznámka:
D30: Cena bez DPH | J30: =ROUND(J122, 2) -> 0
F32: Základ daně | I32: Sazba daně | J32: Výše daně
D33: DPH | E33: základní | F33: =ROUND((SUM(BE122:BE160)), 2) -> 0 | I33: 0.21 | J33: =ROUND(((SUM(BE122:BE160))*I33), 2) -> 0
E34: snížená | F34: =ROUND((SUM(BF122:BF160)), 2) -> 0 | I34: 0.15 | J34: =ROUND(((SUM(BF122:BF160))*I34), 2) -> 0
E35: zákl. přenesená | F35: =ROUND((SUM(BG122:BG160)), 2) -> 0 | I35: 0.21 | J35: =0 -> 0
E36: sníž. přenesená | F36: =ROUND((SUM(BH122:BH160)), 2) -> 0 | I36: 0.15 | J36: =0 -> 0
E37: nulová | F37: =ROUND((SUM(BI122:BI160)), 2) -> 0 | I37: 0 | J37: =0 -> 0
D39: Cena s DPH | G39: v | H39: CZK | J39: =SUM(J30:J37) -> 0
D50: Projektant | G50: Zpracovatel
D61: Datum a podpis: | F61: Razítko | G61: Datum a podpis: | J61: Razítko
D65: Objednavatel | G65: Uchazeč
D76: Datum a podpis: | F76: Razítko | G76: Datum a podpis: | J76: Razítko
C82: REKAPITULACE ČLENĚNÍ SOUPISU PRACÍ
C84: Stavba:
E85: =E7 -> Cyklostezky 2020 - trasa I (Požární nádrž Běchovice – ČOV Újezd nad Lesy)
C86: Objekt:
E87: =E9 -> SO 201 - Armovaný svah
C89: Místo: | F89: =F12 -> Praha - Běchovice | I89: Datum: | J89: =IF(J12="","",J12) -> 26. 4. 2022
C91: Zadavatel: | F91: =E15 -> Městská část Praha – Běchovice | I91: Projektant: | J91: =E21 -> KONTIGA s.r.o.
C92: Uchazeč: | F92: =IF(E18="","",E18) -> Vyplň údaj | I92: Zpracovatel: | J92: =E24 -> Ing. Jan Duben
C94: Kód dílu - Popis | J94: Cena celkem [CZK]
C96: Náklady ze soupisu prací | J96: =J122 -> 0 | AU96: -1
...

Sheet VON - Vedlejší a ostatní ...
AT2: {ba597b9e-92c3-4a5e-b0e2-87ecb92ff0ea}
AT3: 2
D4: KRYCÍ LIST SOUPISU PRACÍ | M4: v --- níže se nacházejí doplnkové a pomocné údaje k sestavám --- v | AT4: False
D6: Stavba:
E7: ='Rekapitulace stavby'!K6 -> Cyklostezky 2020 - trasa I (Požární nádrž Běchovice – ČOV Újezd nad Lesy)
D8: Objekt:
E9: VON - Vedlejší a ostatní náklady
D11: KSO: | I11: CC-CZ:
D12: Místo: | F12: Praha - Běchovice | I12: Datum: | J12: ='Rekapitulace stavby'!AN8 -> 26. 4. 2022
D14: Zadavatel: | I14: IČ:
E15: Městská část Praha – Běchovice | I15: DIČ:
D17: Uchazeč: | I17: IČ: | J17: ='Rekapitulace stavby'!AN13 -> Vyplň údaj
E18: ='Rekapitulace stavby'!E14 -> Vyplň údaj | I18: DIČ: | J18: ='Rekapitulace stavby'!AN14 -> Vyplň údaj
D20: Projektant: | I20: IČ:
E21: KONTIGA s.r.o. | I21: DIČ:
D23: Zpracovatel: | I23: IČ:
E24: Ing. Jan Duben | I24: DIČ:
D26: Poznámka:
D30: Cena bez DPH | J30: =ROUND(J121, 2) -> 0
F32: Základ daně | I32: Sazba daně | J32: Výše daně
D33: DPH | E33: základní | F33: =ROUND((SUM(BE121:BE150)), 2) -> 0 | I33: 0.21 | J33: =ROUND(((SUM(BE121:BE150))*I33), 2) -> 0
E34: snížená | F34: =ROUND((SUM(BF121:BF150)), 2) -> 0 | I34: 0.15 | J34: =ROUND(((SUM(BF121:BF150))*I34), 2) -> 0
E35: zákl. přenesená | F35: =ROUND((SUM(BG121:BG150)), 2) -> 0 | I35: 0.21 | J35: =0 -> 0
E36: sníž. přenesená | F36: =ROUND((SUM(BH121:BH150)), 2) -> 0 | I36: 0.15 | J36: =0 -> 0
E37: nulová | F37: =ROUND((SUM(BI121:BI150)), 2) -> 0 | I37: 0 | J37: =0 -> 0
D39: Cena s DPH | G39: v | H39: CZK | J39: =SUM(J30:J37) -> 0
D50: Projektant | G50: Zpracovatel
D61: Datum a podpis: | F61: Razítko | G61: Datum a podpis: | J61: Razítko
D65: Objednavatel | G65: Uchazeč
D76: Datum a podpis: | F76: Razítko | G76: Datum a podpis: | J76: Razítko
C82: REKAPITULACE ČLENĚNÍ SOUPISU PRACÍ
C84: Stavba:
E85: =E7 -> Cyklostezky 2020 - trasa I (Požární nádrž Běchovice – ČOV Újezd nad Lesy)
C86: Objekt:
E87: =E9 -> VON - Vedlejší a ostatní náklady
C89: Místo: | F89: =F12 -> Praha - Běchovice | I89: Datum: | J89: =IF(J12="","",J12) -> 26. 4. 2022
C91: Zadavatel: | F91: =E15 -> Městská část Praha – Běchovice | I91: Projektant: | J91: =E21 -> KONTIGA s.r.o.
C92: Uchazeč: | F92: =IF(E18="","",E18) -> Vyplň údaj | I92: Zpracovatel: | J92: =E24 -> Ing. Jan Duben
C94: Kód dílu - Popis | J94: Cena celkem [CZK]
C96: Náklady ze soupisu prací | J96: =J121 -> 0 | AU96: -1
...

Sheet Seznam figur
C4: SEZNAM FIGUR
C5: Kód: | D5: 4203-111-41
C6: Stavba: | D6: Cyklostezky 2020 - trasa I (Požární nádrž Běchovice – ČOV Újezd nad Lesy)
C7: Datum: | D7: ='Rekapitulace stavby'!AN8 -> 26. 4. 2022
C9: Kód | D9: Popis | E9: MJ | F9: Výměra
C10: SO 101 | D10: Stezka pro chodce a cyklisty
C11: CISTKOR | F11: 10.26
C12: CISTKOR | D12: "úprava profilu koryta v KM 1,332 00" 24*2,85*0,15 | F12: 10.26
C13: Použití figury:
C14: 129153101 | D14: Čištění otevřených koryt vodotečí šíře dna do 5 m hl do 2,5 m v hornině třídy těžitelnosti I skupiny 1 a 2 strojně | E14: m3 | F14: 10.26
C15: 162751117 | D15: Vodorovné přemístění přes 9 000 do 10000 m výkopku/sypaniny z horniny třídy těžitelnosti I skupiny 1 až 3 | E15: m3 | F15: 3921.891
C16: chodník | F16: 9
C17: chodník | D17: "chodník - dle situace C.3.1-3" 9 | F17: 9
C18: Použití figury:
C19: 564851111 | D19: Podklad ze štěrkodrtě ŠD plochy přes 100 m2 tl 150 mm | E19: m2 | F19: 9881.88
C20: 122151106 | D20: Odkopávky a prokopávky nezapažené v hornině třídy těžitelnosti I skupiny 1 a 2 objem do 5000 m3 strojně | E20: m3 | F20: 3809.264
C21: 181951112 | D21: Úprava pláně v hornině třídy těžitelnosti I, skupiny 1 až 3 se zhutněním strojně | E21: m2 | F21: 5096.88
C22: 564871116 | D22: Podklad ze štěrkodrtě ŠD plochy přes 100 m2 tl. 300 mm | E22: m2 | F22: 4946.88
C23: 596211110 | D23: Kladení zámkové dlažby komunikací pro pěší ručně tl 60 mm skupiny A pl do 50 m2 | E23: m2 | F23: 11.88
C24: 59245018 | D24: dlažba tvar obdélník betonová 200x100x60mm přírodní | E24: m2 | F24: 9.27
C25: koryto | F25: 224.5
C26: koryto | D26: "zpevnění břehu a úprava protilehlého svahu" 224,5 | F26: 224.5
C27: Použití figury:
C28: 124253101 | D28: Vykopávky pro koryta vodotečí v hornině třídy těžitelnosti I skupiny 3 objem do 1000 m3 strojně | E28: m3 | F28: 224.5
C29: 162751117 | D29: Vodorovné přemístění přes 9 000 do 10000 m výkopku/sypaniny z horniny třídy těžitelnosti I skupiny 1 až 3 | E29: m3 | F29: 3921.891
C30: násyp | F30: 131
D31: "dosypávky pro novou komunikaci - dle tabulky kubatur" 31 | F31: 31
D32: "oprava opevnění břehu potoka PP - sanace nátrží, násypy, sjezdy (násyp hutněný)" 100 | F32: 100
C33: násyp | D33: Součet | F33: 131
C34: Použití figury:
C35: 171151103 | D35: Uložení sypaniny z hornin soudržných do násypů zhutněných strojně | E35: m3 | F35: 131
C36: 162751117 | D36: Vodorovné přemístění přes 9 000 do 10000 m výkopku/sypaniny z horniny třídy těžitelnosti I skupiny 1 až 3 | E36: m3 | F36: 3921.891
C37: odkop | F37: 3809.264
D38: "odkopávka dle tabulky kubatur" 2858 | F38: 2858
D39: "odpočet odstranění stávající komunikace - dle situace C.3.1-3" -2960*0,18 | F39: -532.8
D40: "sanace zemní pláně" (stezka+chodník+varpas)*0,3 | F40: 1484.064
C41: odkop | D41: Součet | F41: 3809.264
C42: Použití figury:
C43: 122151106 | D43: Odkopávky a prokopávky nezapažené v hornině třídy těžitelnosti I skupiny 1 a 2 objem do 5000 m3 strojně | E43: m3 | F43: 3809.264
C44: 162751117 | D44: Vodorovné přemístění přes 9 000 do 10000 m výkopku/sypaniny z horniny třídy těžitelnosti I skupiny 1 až 3 | E44: m3 | F44: 3921.891
...
