Workbook
Name CelkemDPHVypocet: Stavba!$H$51
Name CenaCelkem: Stavba!$G$29
Name CenaCelkemBezDPH: Stavba!$G$28
Name CenaCelkemVypocet: Stavba!$I$51
Name cisloobjektu: Stavba!$D$3
Name CisloRozpoctu: '[1]Krycí list'!$C$2
Name CisloStavby: Stavba!$D$2
Name cislostavby: '[1]Krycí list'!$A$7
Name CisloStavebnihoRozpoctu: Stavba!$D$4
Name dadresa: Stavba!$D$12:$G$12
Name DIČ: Stavba!$I$12
Name dmisto: Stavba!$E$13:$G$13
Name DPHSni: Stavba!$G$24
Name DPHZakl: Stavba!$G$26
Name dpsc: Stavba!$D$13
Name IČO: Stavba!$I$11
Name Mena: Stavba!$J$29
Name MistoStavby: Stavba!$D$4
Name nazevobjektu: Stavba!$E$3
Name NazevRozpoctu: '[1]Krycí list'!$D$2
Name NazevStavby: Stavba!$E$2
Name nazevstavby: '[1]Krycí list'!$C$7
Name NazevStavebnihoRozpoctu: Stavba!$E$4
Name oadresa: Stavba!$D$6
Name Objednatel: Stavba!$D$5
Name Objekt: Stavba!$B$38
Name odic: Stavba!$I$6
Name oico: Stavba!$I$5
Name omisto: Stavba!$E$7
Name onazev: Stavba!$D$6
Name opsc: Stavba!$D$7
Name padresa: Stavba!$D$9
Name pdic: Stavba!$I$9
Name pico: Stavba!$I$8
Name pmisto: Stavba!$E$10
Name PocetMJ: #REF!
Name PoptavkaID: Stavba!$A$1
Name pPSC: Stavba!$D$10
Name Projektant: Stavba!$D$8
Name SazbaDPH1: Stavba!$E$23
Name SazbaDPH1: '[1]Krycí list'!$C$30
Name SazbaDPH2: Stavba!$E$25
Name SazbaDPH2: '[1]Krycí list'!$C$32
Name SloupecCC: #REF!
Name SloupecCisloPol: #REF!
Name SloupecJC: #REF!
Name SloupecMJ: #REF!
Name SloupecMnozstvi: #REF!
Name SloupecNazPol: #REF!
Name SloupecPC: #REF!
Name Vypracoval: Stavba!$D$14
Name ZakladDPHSni: Stavba!$G$23
Name ZakladDPHSniVypocet: Stavba!$F$51
Name ZakladDPHZakl: Stavba!$G$25
Name ZakladDPHZaklVypocet: Stavba!$G$51
Name ZaObjednatele: Stavba!$G$34
Name Zaokrouhleni: Stavba!$G$27
Name ZaZhotovitele: Stavba!$D$34
Name Zhotovitel: Stavba!$D$11:$G$11

Sheet Pokyny pro vyplnění
A1: Pokyny pro vyplnění
A2: Ve všech listech tohoto souboru můžete měnit pouze buňky s modrým pozadím. Jedná se o tyto údaje : - údaje o firmě - jednotkové ceny položek zadané na maximálně dvě desetinná místa

Sheet Stavba
A1: #RTSROZP# | B1: Soupis stavebních prací, dodávek a služeb
B2: Stavba: | D2: 2017-08-01-1 | E2: Multifunkční sportovní areál, Nádražní ulice, Tovačov
B5: Zadavatel | D5: Olomoucký kraj | H5: IČO: | I5: 60609460
D6: Jeremenkova 1191/40a | H6: DIČ: | I6: CZ60609460
D7: 77900 | E7: Olomouc-Hodolany
B8: Projektant: | D8: PRINTES - ATELIER s.r.o. | H8: IČO: | I8: 25391089
D9: Mostní 1876/11a | H9: DIČ: | I9: CZ25391089
D10: 75002 | E10: Přerov-Přerov I-Město
B11: Zhotovitel: | H11: IČO:
H12: DIČ:
B14: Vypracoval:
B15: Rozpis ceny | I15: Celkem
A16: HSV | B16: HSV | I16: =SUMIF(F58:F73,A16,I58:I73)+SUMIF(F58:F73,"PSU",I58:I73) -> 0
A17: PSV | B17: PSV | I17: =SUMIF(F58:F73,A17,I58:I73) -> 0
A18: MON | B18: MON | I18: =SUMIF(F58:F73,A18,I58:I73) -> 0
A19: VN | B19: Vedlejší náklady | I19: =SUMIF(F58:F73,A19,I58:I73) -> 0
A20: ON | B20: Ostatní náklady | I20: =SUMIF(F58:F73,A20,I58:I73) -> 0
B21: Celkem | I21: =SUM(I16:J20) -> 0
B22: Rekapitulace daní
A23: =ZakladDPHSni*SazbaDPH1/100 -> 0 | B23: Základ pro sníženou DPH | E23: 15 | F23: % | G23: =ZakladDPHSniVypocet -> 0 | J23: =Mena -> CZK
A24: =(A23-INT(A23))*100 -> 0 | B24: Snížená DPH | E24: =SazbaDPH1 -> 15 | F24: % | G24: =A23 -> 0 | J24: =Mena -> CZK
A25: =ZakladDPHZakl*SazbaDPH2/100 -> 0 | B25: Základ pro základní DPH | E25: 21 | F25: % | G25: =ZakladDPHZaklVypocet -> 0 | J25: =Mena -> CZK
A26: =(A25-INT(A25))*100 -> 0 | B26: Základní DPH | E26: =SazbaDPH2 -> 21 | F26: % | G26: =A25 -> 0 | J26: =Mena -> CZK
A27: =ZakladDPHSni+DPHSni+ZakladDPHZakl+DPHZakl -> 0 | B27: Zaokrouhlení | G27: =CenaCelkem-(ZakladDPHSni+DPHSni+ZakladDPHZakl+DPHZakl) -> 0 | J27: =Mena -> CZK
B28: Cena celkem bez DPH | G28: =ZakladDPHSniVypocet+ZakladDPHZaklVypocet -> 0 | J28: =Mena -> CZK
A29: =(A27-INT(A27))*100 -> 0 | B29: Cena celkem s DPH | G29: =A27 -> 0 | J29: CZK
C32: v | F32: dne
D35: Za zhotovitele | H35: Za objednatele
B37: Rekapitulace dílčích částí
A38: #CASTI>> | B38: Číslo | C38: Název | F38: =B23 -> Základ pro sníženou DPH | G38: =B25 -> Základ pro základní DPH | H38: DPH celkem | I38: Cena celkem | J38: %
A39: 1 | B39: Stavba | F39: ='001 2017-08-01-1 Naklady'!AE50+'01 2017-08-01-1 Pol'!AE108+'02 2017-08-01-1 Pol'!AE265+'07 2017-08-01-1 Pol'!AE153+'08 2017-08-01-1 Pol'!AE143 -> 0 | G39: ='001 2017-08-01-1 Naklady'!AF50+'01 2017-08-01-1 Pol'!AF108+'02 2017-08-01-1 Pol'!AF265+'07 2017-08-01-1 Pol'!AF153+'08 2017-08-01-1 Pol'!AF143 -> 0 | H39: =(F39*SazbaDPH1/100)+(G39*SazbaDPH2/100) -> 0 | I39: =F39+G39+H39 -> 0 | J39: =IF(CenaCelkemVypocet=0,"",I39/CenaCelkemVypocet*100)
A40: 2 | C40: Ostatní a vedlejší náklady | F40: ='001 2017-08-01-1 Naklady'!AE50 -> 0 | G40: ='001 2017-08-01-1 Naklady'!AF50 -> 0 | H40: =(F40*SazbaDPH1/100)+(G40*SazbaDPH2/100) -> 0 | I40: =F40+G40+H40 -> 0 | J40: =IF(CenaCelkemVypocet=0,"",I40/CenaCelkemVypocet*100)
A41: 3 | B41: 2017-08-01-1 | C41: Multifunkční sportovní areál, Tovačov - Vedlejší rozpočtové náklady | F41: ='001 2017-08-01-1 Naklady'!AE50 -> 0 | G41: ='001 2017-08-01-1 Naklady'!AF50 -> 0 | H41: =(F41*SazbaDPH1/100)+(G41*SazbaDPH2/100) -> 0 | I41: =F41+G41+H41 -> 0 | J41: =IF(CenaCelkemVypocet=0,"",I41/CenaCelkemVypocet*100)
A42: 2 | C42: Stavební objekt | H42: =(F42*SazbaDPH1/100)+(G42*SazbaDPH2/100) -> 0 | I42: =F42+G42+H42 -> 0 | J42: =IF(CenaCelkemVypocet=0,"",I42/CenaCelkemVypocet*100)
A43: 2 | B43: 01 | C43: Příprava území | F43: ='01 2017-08-01-1 Pol'!AE108 -> 0 | G43: ='01 2017-08-01-1 Pol'!AF108 -> 0 | H43: =(F43*SazbaDPH1/100)+(G43*SazbaDPH2/100) -> 0 | I43: =F43+G43+H43 -> 0 | J43: =IF(CenaCelkemVypocet=0,"",I43/CenaCelkemVypocet*100)
A44: 3 | B44: 2017-08-01-1 | C44: Multifunkční sportovní areá - Příprava území | F44: ='01 2017-08-01-1 Pol'!AE108 -> 0 | G44: ='01 2017-08-01-1 Pol'!AF108 -> 0 | H44: =(F44*SazbaDPH1/100)+(G44*SazbaDPH2/100) -> 0 | I44: =F44+G44+H44 -> 0 | J44: =IF(CenaCelkemVypocet=0,"",I44/CenaCelkemVypocet*100)
A45: 2 | B45: 02 | C45: Multifunkční hřiště | F45: ='02 2017-08-01-1 Pol'!AE265 -> 0 | G45: ='02 2017-08-01-1 Pol'!AF265 -> 0 | H45: =(F45*SazbaDPH1/100)+(G45*SazbaDPH2/100) -> 0 | I45: =F45+G45+H45 -> 0 | J45: =IF(CenaCelkemVypocet=0,"",I45/CenaCelkemVypocet*100)
A46: 3 | B46: 2017-08-01-1 | C46: Multifunkční sportovní areál, Nádražní ulice, Tovačov - Multifunkční hřiště | F46: ='02 2017-08-01-1 Pol'!AE265 -> 0 | G46: ='02 2017-08-01-1 Pol'!AF265 -> 0 | H46: =(F46*SazbaDPH1/100)+(G46*SazbaDPH2/100) -> 0 | I46: =F46+G46+H46 -> 0 | J46: =IF(CenaCelkemVypocet=0,"",I46/CenaCelkemVypocet*100)
A47: 2 | B47: 07 | C47: Chodníky, zpevněné plochy, venkovní schodiště a opěrné zídky | F47: ='07 2017-08-01-1 Pol'!AE153 -> 0 | G47: ='07 2017-08-01-1 Pol'!AF153 -> 0 | H47: =(F47*SazbaDPH1/100)+(G47*SazbaDPH2/100) -> 0 | I47: =F47+G47+H47 -> 0 | J47: =IF(CenaCelkemVypocet=0,"",I47/CenaCelkemVypocet*100)
A48: 3 | B48: 2017-08-01-1 | C48: Multifunkční sportovní areál, Tovačov - Chodníky, zpevněné plochy, venkovní schodiště a opěrné zídky | F48: ='07 2017-08-01-1 Pol'!AE153 -> 0 | G48: ='07 2017-08-01-1 Pol'!AF153 -> 0 | H48: =(F48*SazbaDPH1/100)+(G48*SazbaDPH2/100) -> 0 | I48: =F48+G48+H48 -> 0 | J48: =IF(CenaCelkemVypocet=0,"",I48/CenaCelkemVypocet*100)
...

Sheet VzorPolozky
A1: Položkový rozpočet
A2: S:
A3: O:
A4: R:

Sheet 001 2017-08-01-1 Naklady
A1: Soupis vedlejších a ostatních nákladů | AG1: #TypZaznamu#
A2: S: | B2: 2017-08-01-1 | C2: Multifunkční sportovní areál, Nádražní ulice, Tovačov | AG2: STA
A3: O: | B3: 001 | C3: Vedlejší rozpočtové náklady | AC3: NAK | AG3: OBJ
A4: R: | B4: 2017-08-01-1 | C4: Multifunkční sportovní areál, Tovačov - Vedlejší rozpočtové náklady | AG4: ROZ
A6: P.č. | B6: Číslo položky | C6: Název položky | D6: MJ | E6: Množství | F6: Cena / MJ | G6: Celkem | H6: Dodávka | I6: Dodávka celk. | J6: Montáž | K6: Montáž celk. | L6: DPH | M6: Cena s DPH | N6: Hmotnost / MJ | O6: Hmotnost celk.(t) | P6: Dem. hmotnost / MJ | Q6: Dem. hmotnost celk.(t) | R6: Ceník | S6: Cen. soustava / platnost | T6: Cenová úroveň | U6: Nhod / MJ | V6: Nhod celk. | W6: Dodavatel | X6: Typ položky
A8: Díl: | B8: VN | C8: Vedlejší náklady | G8: =SUMIF(AG9:AG40,"<>NOR",G9:G40) -> 0 | I8: =SUM(I9:I40) -> 0 | K8: =SUM(K9:K40) -> 0 | M8: =SUM(M9:M40) -> 0 | O8: =SUM(O9:O40) -> 0 | Q8: =SUM(Q9:Q40) -> 0 | V8: =SUM(V9:V40) -> 0 | AG8: DIL
A9: 1 | B9: 005111020R | C9: Vytyčení stavby | D9: Soubor | E9: 1 | G9: =ROUND(E9*F9,2) -> 0 | I9: =ROUND(E9*H9,2) -> 0 | K9: =ROUND(E9*J9,2) -> 0 | L9: 21 | M9: =G9*(1+L9/100) -> 0 | N9: 0 | O9: =ROUND(E9*N9,2) -> 0 | P9: 0 | Q9: =ROUND(E9*P9,2) -> 0 | S9: RTS 20/ I | T9: Indiv | U9: 0 | V9: =ROUND(E9*U9,2) -> 0 | X9: VRN | AG9: POL99_2
C10: Geodetické zaměření rohů stavby, stabilizace bodů a sestavení laviček. | AG10: POP
C11: Vyhotovení protokolu o vytyčení stavby se seznamem souřadnic vytyčených bodů a jejich polohopisnými (S-JTSK) a výškopisnými (Bpv) hodnotami. | AG11: POP | BA11: =C11 -> Vyhotovení protokolu o vytyčení stavby se seznamem souřadnic vytyčených bodů a jejich polohopisnými (S-JTSK) a výškopisnými (Bpv) hodnotami.
A12: 2 | B12: 005111021R | C12: Vytyčení inženýrských sítí | D12: Soubor | E12: 1 | G12: =ROUND(E12*F12,2) -> 0 | I12: =ROUND(E12*H12,2) -> 0 | K12: =ROUND(E12*J12,2) -> 0 | L12: 21 | M12: =G12*(1+L12/100) -> 0 | N12: 0 | O12: =ROUND(E12*N12,2) -> 0 | P12: 0 | Q12: =ROUND(E12*P12,2) -> 0 | S12: RTS 20/ I | T12: Indiv | U12: 0 | V12: =ROUND(E12*U12,2) -> 0 | X12: VRN | AG12: POL99_2
C13: Zaměření a vytýčení stávajících inženýrských sítí v místě stavby z hlediska jejich ochrany při provádění stavby. | AG13: POP | BA13: =C13 -> Zaměření a vytýčení stávajících inženýrských sítí v místě stavby z hlediska jejich ochrany při provádění stavby.
A14: 3 | B14: 005121010R | C14: Vybudování zařízení staveniště | D14: Soubor | E14: 1 | G14: =ROUND(E14*F14,2) -> 0 | I14: =ROUND(E14*H14,2) -> 0 | K14: =ROUND(E14*J14,2) -> 0 | L14: 21 | M14: =G14*(1+L14/100) -> 0 | N14: 0 | O14: =ROUND(E14*N14,2) -> 0 | P14: 0 | Q14: =ROUND(E14*P14,2) -> 0 | S14: RTS 20/ I | T14: Indiv | U14: 0 | V14: =ROUND(E14*U14,2) -> 0 | X14: VRN | AG14: POL99_2
C15: Vybudování zpevněných ploch pro skladování materiálu, doprava a osazení kontejnerů pro skladování. | AG15: POP
C16: Sejmutí ornice, hrubá úprava terénu a zpevnění ploch pro osazení objektů sociálního zařízení staveniště a kanceláří stavby. | AG16: POP | BA16: =C16 -> Sejmutí ornice, hrubá úprava terénu a zpevnění ploch pro osazení objektů sociálního zařízení staveniště a kanceláří stavby.
C17: Doprava a osazení mobilních buněk sociálního zařízení – umývárny, toalety, šatny. | AG17: POP
C18: Doprava a osazení kanceláří stavby a technického dozoru. | AG18: POP
C19: Zřízení osvětlení staveniště (včetně stožárů a osvětlovacích těles). | AG19: POP
C20: Zřízení dočasných ochranných zařízení (plachty, stěny, stany), jestliže jsou vyžadovány technologií montáže. | AG20: POP | BA20: =C20 -> Zřízení dočasných ochranných zařízení (plachty, stěny, stany), jestliže jsou vyžadovány technologií montáže.
C21: Náhradní zdroj elektrické energie. | AG21: POP
C22: Doprava a osazení dočasného oplocení staveniště v celkové délce 34 m | AG22: POP
C23: Plocha zařízení staveniště cca 290 m2 | AG23: POP
C24: Mezi zařízení jsou zahrnuty 2 mobilní plechové stavební buňky. Jedna jako kancelář stavbyvedoucího, | AG24: POP
C25: a druhá jako šatna pro zaměstnance. | AG25: POP
C26: Dva plechové mobilní stavební kontejnéry pro uskladnění stavebního materiálu a pracovního vybavení.¨ | AG26: POP
C27: Mobilní WC | AG27: POP
A28: 4 | B28: 005121021R | C28: Provoz zařízení staveniště pro JKSO 801 až 803 | D28: Soubor | E28: 1 | G28: =ROUND(E28*F28,2) -> 0 | I28: =ROUND(E28*H28,2) -> 0 | K28: =ROUND(E28*J28,2) -> 0 | L28: 21 | M28: =G28*(1+L28/100) -> 0 | N28: 0 | O28: =ROUND(E28*N28,2) -> 0 | P28: 0 | Q28: =ROUND(E28*P28,2) -> 0 | S28: RTS 20/ I | T28: Indiv | U28: 0 | V28: =ROUND(E28*U28,2) -> 0 | X28: VRN | AG28: POL99_2
A29: 5 | B29: 005121030R | C29: Odstranění zařízení staveniště | D29: Soubor | E29: 1 | G29: =ROUND(E29*F29,2) -> 0 | I29: =ROUND(E29*H29,2) -> 0 | K29: =ROUND(E29*J29,2) -> 0 | L29: 21 | M29: =G29*(1+L29/100) -> 0 | N29: 0 | O29: =ROUND(E29*N29,2) -> 0 | P29: 0 | Q29: =ROUND(E29*P29,2) -> 0 | S29: RTS 20/ I | T29: Indiv | U29: 0 | V29: =ROUND(E29*U29,2) -> 0 | X29: VRN | AG29: POL99_2
C30: Odstranění objektů zařízení staveniště včetně přípojek energií a jejich odvoz. Položka zahrnuje i náklady na úpravu povrchů po odstranění zařízení staveniště a úklid ploch, na kterých bylo zařízení staveniště provozováno. | AG30: POP | BA30: =C30 -> Odstranění objektů zařízení staveniště včetně přípojek energií a jejich odvoz. Položka zahrnuje i náklady na úpravu povrchů po odstranění zařízení staveniště a úklid ploch, na kterých bylo zařízení staveniště provozováno.
C31: Odvoz kontejnerů pro skladování a uvedení zpevněných ploch pro skladování do původního stavu. | AG31: POP
C32: Uvedení zpevněných ploch pro objekty sociálního zařízení staveniště a kanceláří stavby do původního stavu. Případné ohumusování. | AG32: POP | BA32: =C32 -> Uvedení zpevněných ploch pro objekty sociálního zařízení staveniště a kanceláří stavby do původního stavu. Případné ohumusování.
C33: Odvoz mobilních buněk sociálního zařízení, nebo uvedení do původního stavu prostor pronajatých. | AG33: POP
C34: Odvoz dočasného oplocení staveniště. | AG34: POP
C35: Odvoz mobilních kanceláří stavby a technického dozoru, nebo uvedení do původního stavu prostor pronajatých. | AG35: POP | BA35: =C35 -> Odvoz mobilních kanceláří stavby a technického dozoru, nebo uvedení do původního stavu prostor pronajatých.
C36: Zrušení vnitrostaveništního rozvodu energie včetně rozvaděčů a osvětlení staveniště (včetně stožárů a osvětlovacích těles). | AG36: POP | BA36: =C36 -> Zrušení vnitrostaveništního rozvodu energie včetně rozvaděčů a osvětlení staveniště (včetně stožárů a osvětlovacích těles).
C37: Odstranění základů a opěrných konstrukcí pro stavební stroje. | AG37: POP
C38: Zrušení přípojky elektrické energie a vody. | AG38: POP
A39: 6 | B39: 005124010R | C39: Koordinační činnost | D39: Soubor | E39: 1 | G39: =ROUND(E39*F39,2) -> 0 | I39: =ROUND(E39*H39,2) -> 0 | K39: =ROUND(E39*J39,2) -> 0 | L39: 21 | M39: =G39*(1+L39/100) -> 0 | N39: 0 | O39: =ROUND(E39*N39,2) -> 0 | P39: 0 | Q39: =ROUND(E39*P39,2) -> 0 | S39: RTS 20/ I | T39: Indiv | U39: 0 | V39: =ROUND(E39*U39,2) -> 0 | X39: VRN | AG39: POL99_2
C40: Koordinace stavebních a technologických dodávek stavby. | AG40: POP
A41: Díl: | B41: ON | C41: Ostatní náklady | G41: =SUMIF(AG42:AG48,"<>NOR",G42:G48) -> 0 | I41: =SUM(I42:I48) -> 0 | K41: =SUM(K42:K48) -> 0 | M41: =SUM(M42:M48) -> 0 | O41: =SUM(O42:O48) -> 0 | Q41: =SUM(Q42:Q48) -> 0 | V41: =SUM(V42:V48) -> 0 | AG41: DIL
A42: 7 | B42: 0051122T | C42: Záchranný archeologický výzkum | D42: Soubor | E42: 1 | G42: =ROUND(E42*F42,2) -> 0 | I42: =ROUND(E42*H42,2) -> 0 | K42: =ROUND(E42*J42,2) -> 0 | L42: 21 | M42: =G42*(1+L42/100) -> 0 | N42: 0 | O42: =ROUND(E42*N42,2) -> 0 | P42: 0 | Q42: =ROUND(E42*P42,2) -> 0 | S42: Vlastní | T42: Indiv | U42: 0 | V42: =ROUND(E42*U42,2) -> 0 | X42: VRN | AG42: POL99_0
...

Sheet 01 2017-08-01-1 Pol
A1: Položkový soupis prací a dodávek | AG1: #TypZaznamu#
A2: S: | B2: 2017-08-01-1 | C2: Multifunkční sportovní areál, Nádražní ulice, Tovačov | AG2: STA
A3: O: | B3: 01 | C3: Příprava území | AC3: STA | AG3: OBJ
A4: R: | B4: 2017-08-01-1 | C4: Multifunkční sportovní areá - Příprava území | AG4: ROZ
A6: P.č. | B6: Číslo položky | C6: Název položky | D6: MJ | E6: Množství | F6: Cena / MJ | G6: Celkem | H6: Dodávka | I6: Dodávka celk. | J6: Montáž | K6: Montáž celk. | L6: DPH | M6: Cena s DPH | N6: Hmotnost / MJ | O6: Hmotnost celk.(t) | P6: Dem. hmotnost / MJ | Q6: Dem. hmotnost celk.(t) | R6: Ceník | S6: Cen. soustava / platnost | T6: Cenová úroveň | U6: Nhod / MJ | V6: Nhod celk. | W6: Dodavatel | X6: Typ položky
A8: Díl: | B8: 1 | C8: Zemní práce | G8: =SUMIF(AG9:AG71,"<>NOR",G9:G71) -> 0 | I8: =SUM(I9:I71) -> 0 | K8: =SUM(K9:K71) -> 0 | M8: =SUM(M9:M71) -> 0 | O8: =SUM(O9:O71) -> 56.19 | Q8: =SUM(Q9:Q71) -> 8.95 | V8: =SUM(V9:V71) -> 248.45 | AG8: DIL
A9: 1 | B9: 111201501R00 | C9: Spálení větví pro všechny druhy stromů | D9: kus | E9: 65 | G9: =ROUND(E9*F9,2) -> 0 | I9: =ROUND(E9*H9,2) -> 0 | K9: =ROUND(E9*J9,2) -> 0 | L9: 21 | M9: =G9*(1+L9/100) -> 0 | N9: 0.00299 | O9: =ROUND(E9*N9,2) -> 0.19 | P9: 0 | Q9: =ROUND(E9*P9,2) -> 0 | R9: 800-1 | S9: RTS 20/ I | T9: RTS 20/ I | U9: 1.7 | V9: =ROUND(E9*U9,2) -> 110.5 | X9: Práce | AG9: POL1_
C10: stromů o průměru kmene přes 100 mm, na hromadách, pro všechny druhy stromů, | AG10: SPI
C11: odhad : 3*10 | E11: 30 | AG11: VV | AH11: 0
C12: 2*10 | E12: 20 | AG12: VV | AH12: 0
C13: 15 | E13: 15 | AG13: VV | AH13: 0
A14: 2 | B14: 112101101R00 | C14: Kácení stromů listnatých_x000D_ o průměru kmene přes 100 do 300 mm | D14: kus | E14: 3 | G14: =ROUND(E14*F14,2) -> 0 | I14: =ROUND(E14*H14,2) -> 0 | K14: =ROUND(E14*J14,2) -> 0 | L14: 21 | M14: =G14*(1+L14/100) -> 0 | N14: 0 | O14: =ROUND(E14*N14,2) -> 0 | P14: 0 | Q14: =ROUND(E14*P14,2) -> 0 | R14: 800-1 | S14: RTS 20/ I | T14: RTS 20/ I | U14: 0.49 | V14: =ROUND(E14*U14,2) -> 1.47 | X14: Práce | AG14: POL1_
C15: s odřezáním kmene a odvětvením, včetně případného odklizení kmene a větví na oddělené hromady na vzdálenost do 50 m nebo s naložením na dopravní prostředek, | AG15: SPI | BA15: =C15 -> s odřezáním kmene a odvětvením, včetně případného odklizení kmene a větví na oddělené hromady na vzdálenost do 50 m nebo s naložením na dopravní prostředek,
C16: Technická zpráva str. 4 odst. D.3.5 : | AG16: VV | AH16: 0
C17: javor babyka obvod 30 cm : 2 | E17: 2 | AG17: VV | AH17: 0
C18: blašský ořech obvod 28 cm : 1 | E18: 1 | AG18: VV | AH18: 0
A19: 3 | B19: 112101102R00 | C19: Kácení stromů listnatých_x000D_ o průměru kmene přes 300 do 500 mm | D19: kus | E19: 2 | G19: =ROUND(E19*F19,2) -> 0 | I19: =ROUND(E19*H19,2) -> 0 | K19: =ROUND(E19*J19,2) -> 0 | L19: 21 | M19: =G19*(1+L19/100) -> 0 | N19: 0 | O19: =ROUND(E19*N19,2) -> 0 | P19: 0 | Q19: =ROUND(E19*P19,2) -> 0 | R19: 800-1 | S19: RTS 20/ I | T19: RTS 20/ I | U19: 0.88 | V19: =ROUND(E19*U19,2) -> 1.76 | X19: Práce | AG19: POL1_
C20: s odřezáním kmene a odvětvením, včetně případného odklizení kmene a větví na oddělené hromady na vzdálenost do 50 m nebo s naložením na dopravní prostředek, | AG20: SPI | BA20: =C20 -> s odřezáním kmene a odvětvením, včetně případného odklizení kmene a větví na oddělené hromady na vzdálenost do 50 m nebo s naložením na dopravní prostředek,
C21: Technická zpráva str. 4 odst. D.3.5 : | AG21: VV | AH21: 0
C22: třešeň obecná obvod 120 a 105 cm : 2 | E22: 2 | AG22: VV | AH22: 0
A23: 4 | B23: 112101104R00 | C23: Kácení stromů listnatých_x000D_ o průměru kmene přes 700 do 900 mm | D23: kus | E23: 1 | G23: =ROUND(E23*F23,2) -> 0 | I23: =ROUND(E23*H23,2) -> 0 | K23: =ROUND(E23*J23,2) -> 0 | L23: 21 | M23: =G23*(1+L23/100) -> 0 | N23: 0 | O23: =ROUND(E23*N23,2) -> 0 | P23: 0 | Q23: =ROUND(E23*P23,2) -> 0 | R23: 800-1 | S23: RTS 20/ I | T23: RTS 20/ I | U23: 2.02 | V23: =ROUND(E23*U23,2) -> 2.02 | X23: Práce | AG23: POL1_
C24: s odřezáním kmene a odvětvením, včetně případného odklizení kmene a větví na oddělené hromady na vzdálenost do 50 m nebo s naložením na dopravní prostředek, | AG24: SPI | BA24: =C24 -> s odřezáním kmene a odvětvením, včetně případného odklizení kmene a větví na oddělené hromady na vzdálenost do 50 m nebo s naložením na dopravní prostředek,
C25: Technická zpráva str. 4 odst. D.3.5 : | AG25: VV | AH25: 0
C26: Topol osika - obvod 195 cm : 1 | E26: 1 | AG26: VV | AH26: 0
A27: 5 | B27: 112201101R00 | C27: Odstranění pařezů pod úrovní terénu vykopáním_x000D_ o průměru přes 100 do 300 mm | D27: kus | E27: 3 | G27: =ROUND(E27*F27,2) -> 0 | I27: =ROUND(E27*H27,2) -> 0 | K27: =ROUND(E27*J27,2) -> 0 | L27: 21 | M27: =G27*(1+L27/100) -> 0 | N27: 5e-05 | O27: =ROUND(E27*N27,2) -> 0 | P27: 0 | Q27: =ROUND(E27*P27,2) -> 0 | R27: 800-1 | S27: RTS 20/ I | T27: RTS 20/ I | U27: 0.659 | V27: =ROUND(E27*U27,2) -> 1.98 | X27: Práce | AG27: POL1_
C28: s jejich vykopáním nebo vytrháním, s přesekáním kořenů a s případným nutným přemístěním pařezů na hromady do vzdálenosti do 50 m nebo s naložením na dopravní prostředek, | AG28: SPI | BA28: =C28 -> s jejich vykopáním nebo vytrháním, s přesekáním kořenů a s případným nutným přemístěním pařezů na hromady do vzdálenosti do 50 m nebo s naložením na dopravní prostředek,
C29: Technická zpráva str. 4 odst. D.3.5 : | AG29: VV | AH29: 0
C30: javor babyka obvod 30 cm : 2 | E30: 2 | AG30: VV | AH30: 0
C31: blašský ořech obvod 28 cm : 1 | E31: 1 | AG31: VV | AH31: 0
A32: 6 | B32: 112201102R00 | C32: Odstranění pařezů pod úrovní terénu vykopáním_x000D_ o průměru přes 300 do 500 mm | D32: kus | E32: 2 | G32: =ROUND(E32*F32,2) -> 0 | I32: =ROUND(E32*H32,2) -> 0 | K32: =ROUND(E32*J32,2) -> 0 | L32: 21 | M32: =G32*(1+L32/100) -> 0 | N32: 5e-05 | O32: =ROUND(E32*N32,2) -> 0 | P32: 0 | Q32: =ROUND(E32*P32,2) -> 0 | R32: 800-1 | S32: RTS 20/ I | T32: RTS 20/ I | U32: 1.655 | V32: =ROUND(E32*U32,2) -> 3.31 | X32: Práce | AG32: POL1_
C33: s jejich vykopáním nebo vytrháním, s přesekáním kořenů a s případným nutným přemístěním pařezů na hromady do vzdálenosti do 50 m nebo s naložením na dopravní prostředek, | AG33: SPI | BA33: =C33 -> s jejich vykopáním nebo vytrháním, s přesekáním kořenů a s případným nutným přemístěním pařezů na hromady do vzdálenosti do 50 m nebo s naložením na dopravní prostředek,
C34: Technická zpráva str. 4 odst. D.3.5 : | AG34: VV | AH34: 0
C35: třešeň obecná obvod 120 a 105 cm : 2 | E35: 2 | AG35: VV | AH35: 0
A36: 7 | B36: 112201104R00 | C36: Odstranění pařezů pod úrovní terénu vykopáním_x000D_ o průměru přes 700 do 900 mm | D36: kus | E36: 1 | G36: =ROUND(E36*F36,2) -> 0 | I36: =ROUND(E36*H36,2) -> 0 | K36: =ROUND(E36*J36,2) -> 0 | L36: 21 | M36: =G36*(1+L36/100) -> 0 | N36: 0.0001 | O36: =ROUND(E36*N36,2) -> 0 | P36: 0 | Q36: =ROUND(E36*P36,2) -> 0 | R36: 800-1 | S36: RTS 20/ I | T36: RTS 20/ I | U36: 4.553 | V36: =ROUND(E36*U36,2) -> 4.55 | X36: Práce | AG36: POL1_
C37: s jejich vykopáním nebo vytrháním, s přesekáním kořenů a s případným nutným přemístěním pařezů na hromady do vzdálenosti do 50 m nebo s naložením na dopravní prostředek, | AG37: SPI | BA37: =C37 -> s jejich vykopáním nebo vytrháním, s přesekáním kořenů a s případným nutným přemístěním pařezů na hromady do vzdálenosti do 50 m nebo s naložením na dopravní prostředek,
C38: Technická zpráva str. 4 odst. D.3.5 : | AG38: VV | AH38: 0
C39: Topol osika - obvod 195 cm : 1 | E39: 1 | AG39: VV | AH39: 0
A40: 8 | B40: 113106121R00 | C40: Rozebrání dlažeb, panelů komunikací pro pěší s jakýmkoliv ložem a výplní spár_x000D_ z betonových nebo kameninových dlaždic nebo tvarovek | D40: m2 | E40: 25 | G40: =ROUND(E40*F40,2) -> 0 | I40: =ROUND(E40*H40,2) -> 0 | K40: =ROUND(E40*J40,2) -> 0 | L40: 21 | M40: =G40*(1+L40/100) -> 0 | N40: 0 | O40: =ROUND(E40*N40,2) -> 0 | P40: 0.138 | Q40: =ROUND(E40*P40,2) -> 3.45 | R40: 822-1 | S40: RTS 20/ I | T40: RTS 20/ I | U40: 0.16 | V40: =ROUND(E40*U40,2) -> 4 | X40: Práce | AG40: POL1_
C41: s přemístěním hmot na skládku na vzdálenost do 3 m nebo s naložením na dopravní prostředek | AG41: SPI
C42: Výkr. č. D.01-02-001 : | AG42: VV | AH42: 0
...

Sheet 02 2017-08-01-1 Pol
A1: Položkový soupis prací a dodávek | AG1: #TypZaznamu#
A2: S: | B2: 2017-08-01-1 | C2: Multifunkční sportovní areál, Nádražní ulice, Tovačov | AG2: STA
A3: O: | B3: 02 | C3: Multifunkční hřiště | AC3: STA | AG3: OBJ
A4: R: | B4: 2017-08-01-1 | C4: Multifunkční sportovní areál, Nádražní ulice, Tovačov - Multifunkční hřiště | AG4: ROZ
A6: P.č. | B6: Číslo položky | C6: Název položky | D6: MJ | E6: Množství | F6: Cena / MJ | G6: Celkem | H6: Dodávka | I6: Dodávka celk. | J6: Montáž | K6: Montáž celk. | L6: DPH | M6: Cena s DPH | N6: Hmotnost / MJ | O6: Hmotnost celk.(t) | P6: Dem. hmotnost / MJ | Q6: Dem. hmotnost celk.(t) | R6: Ceník | S6: Cen. soustava / platnost | T6: Cenová úroveň | U6: Nhod / MJ | V6: Nhod celk. | W6: Dodavatel | X6: Typ položky
A8: Díl: | B8: 1 | C8: Zemní práce | G8: =SUMIF(AG9:AG67,"<>NOR",G9:G67) -> 0 | I8: =SUM(I9:I67) -> 0 | K8: =SUM(K9:K67) -> 0 | M8: =SUM(M9:M67) -> 0 | O8: =SUM(O9:O67) -> 0.05 | Q8: =SUM(Q9:Q67) -> 0 | V8: =SUM(V9:V67) -> 71.91 | AG8: DIL
A9: 1 | B9: 131201110R00 | C9: Hloubení nezapažených jam a zářezů do 50 m3, v hornině 3, hloubení strojně | D9: m3 | E9: 15.626 | G9: =ROUND(E9*F9,2) -> 0 | I9: =ROUND(E9*H9,2) -> 0 | K9: =ROUND(E9*J9,2) -> 0 | L9: 21 | M9: =G9*(1+L9/100) -> 0 | N9: 0 | O9: =ROUND(E9*N9,2) -> 0 | P9: 0 | Q9: =ROUND(E9*P9,2) -> 0 | R9: 800-1 | S9: RTS 20/ I | T9: RTS 20/ I | U9: 0.26666 | V9: =ROUND(E9*U9,2) -> 4.17 | X9: Práce | AG9: POL1_
C10: kromě zářezů se šikmými stěnami pro podzemní vedení, s urovnáním dna do předepsaného profilu a spádu, s případným nutným přemístěním ve výkopišti a dále buď s přemístěním výkopku na přilehlém terénu na vzdálenost do 3 m od okraje jámy nebo s naložením na dopravní prostředek, | AG10: SPI | BA10: =C10 -> kromě zářezů se šikmými stěnami pro podzemní vedení, s urovnáním dna do předepsaného profilu a spádu, s případným nutným přemístěním ve výkopišti a dále buď s přemístěním výkopku na přilehlém terénu na vzdálenost do 3 m od okraje jámy nebo s naložením na dopravní prostředek,
C11: výkr. č. D.02-02-004, výkop patek pro síťové oplocení : 0,4*0,4*1,0*56 | E11: 8.96 | AG11: VV | AH11: 0
C12: výkr. č. D.02-02-006 - výkop patek pro streetbal : 0,8*0,8*1,1*4 | E12: 2.816 | AG12: VV | AH12: 0
C13: výkr. č. D.02-02-007 - výkop patek pro tréninkové branky malá kopaná a florbal : 0,5*0,5*0,95*6 | E13: 1.425 | AG13: VV | AH13: 0
C14: výkr. č. D.02-02-005 - výkop patek pro sloupek volejbalu.pro tenis, : 0,5*0,5*0,95*6 | E14: 1.425 | AG14: VV | AH14: 0
C15: výkop jam pro kontrolní PVC šachty : 0,5*0,5*1,0*4 | E15: 1 | AG15: VV | AH15: 0
A16: 2 | B16: 132201111R00 | C16: Hloubení rýh šířky do 60 cm do 100 m3, v hornině 3, hloubení strojně | D16: m3 | E16: 102.2 | G16: =ROUND(E16*F16,2) -> 0 | I16: =ROUND(E16*H16,2) -> 0 | K16: =ROUND(E16*J16,2) -> 0 | L16: 21 | M16: =G16*(1+L16/100) -> 0 | N16: 0 | O16: =ROUND(E16*N16,2) -> 0 | P16: 0 | Q16: =ROUND(E16*P16,2) -> 0 | R16: 800-1 | S16: RTS 20/ I | T16: RTS 20/ I | U16: 0.23 | V16: =ROUND(E16*U16,2) -> 23.51 | X16: Práce | AG16: POL1_
C17: zapažených i nezapažených s urovnáním dna do předepsaného profilu a spádu, s přehozením výkopku na přilehlém terénu na vzdálenost do 3 m od podélné osy rýhy nebo s naložením výkopku na dopravní prostředek. | AG17: SPI | BA17: =C17 -> zapažených i nezapažených s urovnáním dna do předepsaného profilu a spádu, s přehozením výkopku na přilehlém terénu na vzdálenost do 3 m od podélné osy rýhy nebo s naložením výkopku na dopravní prostředek.
C18: Položka obsahuje hloubení rýh traktorbagrem, naložení výkopku na dopravní prostředek pro svislé, nebo vodorovné přemístění, popř. přemístění výkopku do 3 m (po povrchu území), případné zajištění rypadel polštáři, udržování pracoviště a ochranu výkopiště proti stékání srážkové vody z okolního terénu i s jejím odvodněním, nebo odvedením, přesekání a odstranění kořenů ve výkopišti, odstranění napadávek, urovnání dna výkopu. | AG18: POP | BA18: =C18 -> Položka obsahuje hloubení rýh traktorbagrem, naložení výkopku na dopravní prostředek pro svislé, nebo vodorovné přemístění, popř. přemístění výkopku do 3 m (po povrchu území), případné zajištění rypadel polštáři, udržování pracoviště a ochranu výkopiště proti stékání srážkové vody z okolního terénu i s jejím odvodněním, nebo odvedením, přesekání a odstranění kořenů ve výkopišti, odstranění napadávek, urovnání dna výkopu.
C19: výkr. č. D.02-02-009 pro DN 100 ve sportovní ploše : 310*0,3*0,4 | E19: 37.2 | AG19: VV | AH19: 0
C20: výkr. č. D.02-02-010 pro DN 150 mimo sportovní plochu : 65*1,0*1,0 | E20: 65 | AG20: VV | AH20: 0
A21: 3 | B21: 132201210R00 | C21: Hloubení rýh šířky přes 60 do 200 cm do 50 m3, v hornině 3, hloubení strojně | D21: m3 | E21: 21.6 | G21: =ROUND(E21*F21,2) -> 0 | I21: =ROUND(E21*H21,2) -> 0 | K21: =ROUND(E21*J21,2) -> 0 | L21: 21 | M21: =G21*(1+L21/100) -> 0 | N21: 0 | O21: =ROUND(E21*N21,2) -> 0 | P21: 0 | Q21: =ROUND(E21*P21,2) -> 0 | R21: 800-1 | S21: RTS 20/ I | T21: RTS 20/ I | U21: 0.365 | V21: =ROUND(E21*U21,2) -> 7.88 | X21: Práce | AG21: POL1_
C22: zapažených i nezapažených, s urovnáním dna do předepsaného profilu a spádu, s případně nutným přehozením výkopku na vzdálenost do 3 m ve výkopišti, s přehozením výkopku na přilehlém terénu na vzdálenost do 5 m od podélné osy rýhy nebo s naložením výkopku na dopravní prostředek. | AG22: SPI | BA22: =C22 -> zapažených i nezapažených, s urovnáním dna do předepsaného profilu a spádu, s případně nutným přehozením výkopku na vzdálenost do 3 m ve výkopišti, s přehozením výkopku na přilehlém terénu na vzdálenost do 5 m od podélné osy rýhy nebo s naložením výkopku na dopravní prostředek.
C23: Položka obsahuje hloubení rýh traktorbagrem, naložení výkopku na dopravní prostředek pro svislé, nebo vodorovné přemístění, popř. přemístění výkopku do 3 m (po povrchu území), případné zajištění rypadel polštáři, udržování pracoviště a ochranu výkopiště proti stékání srážkové vody z okolního terénu i s jejím odvodněním, nebo odvedením, přesekání a odstranění kořenů ve výkopišti, odstranění napadávek, urovnání dna výkopu. | AG23: POP | BA23: =C23 -> Položka obsahuje hloubení rýh traktorbagrem, naložení výkopku na dopravní prostředek pro svislé, nebo vodorovné přemístění, popř. přemístění výkopku do 3 m (po povrchu území), případné zajištění rypadel polštáři, udržování pracoviště a ochranu výkopiště proti stékání srážkové vody z okolního terénu i s jejím odvodněním, nebo odvedením, přesekání a odstranění kořenů ve výkopišti, odstranění napadávek, urovnání dna výkopu.
AG24: POP
C25: výkop pro zasakovací jám u nebo rýhy, z důvodu velké hloubky je nutné rýhu zapažir. | AG25: POP
C26: výkr. č. D.02-02-011 : | AG26: VV | AH26: 0
C27: výkop pro zasakovací rýhu : 1,0*12,0*1,8 | E27: 21.6 | AG27: VV | AH27: 0
A28: 4 | B28: 151101101R00 | C28: Zřízení pažení a rozepření stěn rýh příložné pro jakoukoliv mezerovitost, hloubky do 2 m | D28: m2 | E28: 46.8 | G28: =ROUND(E28*F28,2) -> 0 | I28: =ROUND(E28*H28,2) -> 0 | K28: =ROUND(E28*J28,2) -> 0 | L28: 21 | M28: =G28*(1+L28/100) -> 0 | N28: 0.00099 | O28: =ROUND(E28*N28,2) -> 0.05 | P28: 0 | Q28: =ROUND(E28*P28,2) -> 0 | R28: 800-1 | S28: RTS 20/ I | T28: RTS 20/ I | U28: 0.236 | V28: =ROUND(E28*U28,2) -> 11.04 | X28: Práce | AG28: POL1_
C29: pro podzemní vedení pro všechny šířky rýhy, | AG29: SPI
C30: Výkr. č.D.02-02-011 : (1,0+1,0+12,0+12,0)*1,8 | E30: 46.8 | AG30: VV | AH30: 0
A31: 5 | B31: 151101111R00 | C31: Odstranění pažení a rozepření rýh příložné , hloubky do 2 m | D31: m2 | E31: 46.8 | G31: =ROUND(E31*F31,2) -> 0 | I31: =ROUND(E31*H31,2) -> 0 | K31: =ROUND(E31*J31,2) -> 0 | L31: 21 | M31: =G31*(1+L31/100) -> 0 | N31: 0 | O31: =ROUND(E31*N31,2) -> 0 | P31: 0 | Q31: =ROUND(E31*P31,2) -> 0 | R31: 800-1 | S31: RTS 20/ I | T31: RTS 20/ I | U31: 0.07 | V31: =ROUND(E31*U31,2) -> 3.28 | X31: Práce | AG31: POL1_
C32: pro podzemní vedení s uložením materiálu na vzdálenost do 3 m od kraje výkopu, | AG32: SPI
C33: Výkr. č.D.02-02-011 : (1,0+1,0+12,0+12,0)*1,8 | E33: 46.8 | AG33: VV | AH33: 0
A34: 6 | B34: 162701101R00 | C34: Vodorovné přemístění výkopku z horniny 1 až 4, na vzdálenost přes 5 000 do 6 000 m | D34: m3 | E34: 139.426 | G34: =ROUND(E34*F34,2) -> 0 | I34: =ROUND(E34*H34,2) -> 0 | K34: =ROUND(E34*J34,2) -> 0 | L34: 21 | M34: =G34*(1+L34/100) -> 0 | N34: 0 | O34: =ROUND(E34*N34,2) -> 0 | P34: 0 | Q34: =ROUND(E34*P34,2) -> 0 | R34: 800-1 | S34: RTS 20/ I | T34: RTS 20/ I | U34: 0.011 | V34: =ROUND(E34*U34,2) -> 1.53 | X34: Práce | AG34: POL1_
C35: po suchu, bez ohledu na druh dopravního prostředku, bez naložení výkopku, avšak se složením bez rozhrnutí, | AG35: SPI | BA35: =C35 -> po suchu, bez ohledu na druh dopravního prostředku, bez naložení výkopku, avšak se složením bez rozhrnutí,
C36: výkr. č. D.02-02-004, výkop patek pro síťové oplocení : 0,4*0,4*1,0*56 | E36: 8.96 | AG36: VV | AH36: 0
C37: výkr. č. D.02-02-006 - výkop patek pro streetbal : 0,8*0,8*1,1*4 | E37: 2.816 | AG37: VV | AH37: 0
C38: výkr. č. D.02-02-007 - výkop patek pro tréninkové branky malá kopaná a florbal : 0,5*0,5*0,95*6 | E38: 1.425 | AG38: VV | AH38: 0
C39: výkr. č. D.02-02-005 - výkop patek pro sloupek volejbalu.pro tenis, : 0,5*0,5*0,95*6 | E39: 1.425 | AG39: VV | AH39: 0
C40: výkop jam pro kontrolní PVC šachty : 0,5*0,5*1,0*4 | E40: 1 | AG40: VV | AH40: 0
C41: výkr. č. D.02-02-009 pro DN 100 ve sportovní ploše : 310*0,3*0,4 | E41: 37.2 | AG41: VV | AH41: 0
C42: výkr. č. D.02-02-010 pro DN 150 mimo sportovní plochu : 65*1,0*1,0 | E42: 65 | AG42: VV | AH42: 0
...

Sheet 07 2017-08-01-1 Pol
A1: Položkový soupis prací a dodávek | AG1: #TypZaznamu#
A2: S: | B2: 2017-08-01-1 | C2: Multifunkční sportovní areál, Nádražní ulice, Tovačov | AG2: STA
A3: O: | B3: 07 | C3: Chodníky, zpevněné plochy, venkovní schodiště a opěrné zídky | AC3: STA | AG3: OBJ
A4: R: | B4: 2017-08-01-1 | C4: Multifunkční sportovní areál, Tovačov - Chodníky, zpevněné plochy, venkovní schodiště a opěrné zídky | AG4: ROZ
A6: P.č. | B6: Číslo položky | C6: Název položky | D6: MJ | E6: Množství | F6: Cena / MJ | G6: Celkem | H6: Dodávka | I6: Dodávka celk. | J6: Montáž | K6: Montáž celk. | L6: DPH | M6: Cena s DPH | N6: Hmotnost / MJ | O6: Hmotnost celk.(t) | P6: Dem. hmotnost / MJ | Q6: Dem. hmotnost celk.(t) | R6: Ceník | S6: Cen. soustava / platnost | T6: Cenová úroveň | U6: Nhod / MJ | V6: Nhod celk. | W6: Dodavatel | X6: Typ položky
A8: Díl: | B8: 1 | C8: Zemní práce | G8: =SUMIF(AG9:AG39,"<>NOR",G9:G39) -> 0 | I8: =SUM(I9:I39) -> 0 | K8: =SUM(K9:K39) -> 0 | M8: =SUM(M9:M39) -> 0 | O8: =SUM(O9:O39) -> 3.19 | Q8: =SUM(Q9:Q39) -> 0 | V8: =SUM(V9:V39) -> 2.72 | AG8: DIL
A9: 1 | B9: 122201101R00 | C9: Odkopávky a prokopávky nezapažené v hornině 3_x000D_ do 100 m3 | D9: m3 | E9: 0.936 | G9: =ROUND(E9*F9,2) -> 0 | I9: =ROUND(E9*H9,2) -> 0 | K9: =ROUND(E9*J9,2) -> 0 | L9: 21 | M9: =G9*(1+L9/100) -> 0 | N9: 0 | O9: =ROUND(E9*N9,2) -> 0 | P9: 0 | Q9: =ROUND(E9*P9,2) -> 0 | R9: 800-1 | S9: RTS 20/ I | T9: RTS 20/ I | U9: 0.368 | V9: =ROUND(E9*U9,2) -> 0.34 | X9: Práce | AG9: POL1_
C10: s přehozením výkopku na vzdálenost do 3 m nebo s naložením na dopravní prostředek, | AG10: SPI
C11: 1,3*1,2*0,6 | E11: 0.936 | AG11: VV | AH11: 0
A12: 2 | B12: 132201110R00 | C12: Hloubení rýh šířky do 60 cm do 50 m3, v hornině 3, hloubení strojně | D12: m3 | E12: 0.528 | G12: =ROUND(E12*F12,2) -> 0 | I12: =ROUND(E12*H12,2) -> 0 | K12: =ROUND(E12*J12,2) -> 0 | L12: 21 | M12: =G12*(1+L12/100) -> 0 | N12: 0 | O12: =ROUND(E12*N12,2) -> 0 | P12: 0 | Q12: =ROUND(E12*P12,2) -> 0 | R12: 800-1 | S12: RTS 20/ I | T12: RTS 20/ I | U12: 0.365 | V12: =ROUND(E12*U12,2) -> 0.19 | X12: Práce | AG12: POL1_
C13: zapažených i nezapažených s urovnáním dna do předepsaného profilu a spádu, s přehozením výkopku na přilehlém terénu na vzdálenost do 3 m od podélné osy rýhy nebo s naložením výkopku na dopravní prostředek. | AG13: SPI | BA13: =C13 -> zapažených i nezapažených s urovnáním dna do předepsaného profilu a spádu, s přehozením výkopku na přilehlém terénu na vzdálenost do 3 m od podélné osy rýhy nebo s naložením výkopku na dopravní prostředek.
C14: Položka obsahuje hloubení rýh traktorbagrem, naložení výkopku na dopravní prostředek pro svislé, nebo vodorovné přemístění, popř. přemístění výkopku do 3 m (po povrchu území), případné zajištění rypadel polštáři, udržování pracoviště a ochranu výkopiště proti stékání srážkové vody z okolního terénu i s jejím odvodněním, nebo odvedením, přesekání a odstranění kořenů ve výkopišti, odstranění napadávek, urovnání dna výkopu. | AG14: POP | BA14: =C14 -> Položka obsahuje hloubení rýh traktorbagrem, naložení výkopku na dopravní prostředek pro svislé, nebo vodorovné přemístění, popř. přemístění výkopku do 3 m (po povrchu území), případné zajištění rypadel polštáři, udržování pracoviště a ochranu výkopiště proti stékání srážkové vody z okolního terénu i s jejím odvodněním, nebo odvedením, přesekání a odstranění kořenů ve výkopišti, odstranění napadávek, urovnání dna výkopu.
C15: výkr. č. D.07-02-003 : (1,2*0,4*1,1) | E15: 0.528 | AG15: VV | AH15: 0
A16: 3 | B16: 161101101R00 | C16: Svislé přemístění výkopku z horniny 1 až 4, při hloubce výkopu přes 1 do 2,5 m | D16: m3 | E16: 1.464 | G16: =ROUND(E16*F16,2) -> 0 | I16: =ROUND(E16*H16,2) -> 0 | K16: =ROUND(E16*J16,2) -> 0 | L16: 21 | M16: =G16*(1+L16/100) -> 0 | N16: 0 | O16: =ROUND(E16*N16,2) -> 0 | P16: 0 | Q16: =ROUND(E16*P16,2) -> 0 | R16: 800-1 | S16: RTS 20/ I | T16: RTS 20/ I | U16: 0.345 | V16: =ROUND(E16*U16,2) -> 0.51 | X16: Práce | AG16: POL1_
C17: bez naložení do dopravní nádoby, ale s vyprázdněním dopravní nádoby na hromadu nebo na dopravní prostředek, | AG17: SPI | BA17: =C17 -> bez naložení do dopravní nádoby, ale s vyprázdněním dopravní nádoby na hromadu nebo na dopravní prostředek,
C18: výkr. č. D.07-02-003 : (1,2*0,4*1,1) | E18: 0.528 | AG18: VV | AH18: 0
C19: 1,3*1,2*0,6 | E19: 0.936 | AG19: VV | AH19: 0
A20: 4 | B20: 162701105R00 | C20: Vodorovné přemístění výkopku z horniny 1 až 4, na vzdálenost přes 9 000 do 10 000 m | D20: m3 | E20: 3.3755 | G20: =ROUND(E20*F20,2) -> 0 | I20: =ROUND(E20*H20,2) -> 0 | K20: =ROUND(E20*J20,2) -> 0 | L20: 21 | M20: =G20*(1+L20/100) -> 0 | N20: 0 | O20: =ROUND(E20*N20,2) -> 0 | P20: 0 | Q20: =ROUND(E20*P20,2) -> 0 | R20: 800-1 | S20: RTS 20/ I | T20: RTS 20/ I | U20: 0.011 | V20: =ROUND(E20*U20,2) -> 0.04 | X20: Práce | AG20: POL1_
C21: po suchu, bez ohledu na druh dopravního prostředku, bez naložení výkopku, avšak se složením bez rozhrnutí, | AG21: SPI | BA21: =C21 -> po suchu, bez ohledu na druh dopravního prostředku, bez naložení výkopku, avšak se složením bez rozhrnutí,
C22: výkr. č. D.07-02-003 : (1,2*0,4*1,1) | E22: 0.528 | AG22: VV | AH22: 0
C23: 1,3*1,2*0,6 | E23: 0.936 | AG23: VV | AH23: 0
C24: (1,3*1,3*0,7)/2 | E24: 0.5915 | AG24: VV | AH24: 0
C25: 1,2*1,0*1,1 | E25: 1.32 | AG25: VV | AH25: 0
A26: 5 | B26: 167101101R00 | C26: Nakládání, skládání, překládání neulehlého výkopku nakládání výkopku_x000D_ do 100 m3, z horniny 1 až 4 | D26: m3 | E26: 1.9115 | G26: =ROUND(E26*F26,2) -> 0 | I26: =ROUND(E26*H26,2) -> 0 | K26: =ROUND(E26*J26,2) -> 0 | L26: 21 | M26: =G26*(1+L26/100) -> 0 | N26: 0 | O26: =ROUND(E26*N26,2) -> 0 | P26: 0 | Q26: =ROUND(E26*P26,2) -> 0 | R26: 800-1 | S26: RTS 20/ I | T26: RTS 20/ I | U26: 0.652 | V26: =ROUND(E26*U26,2) -> 1.25 | X26: Práce | AG26: POL1_
C27: (1,3*1,3*0,7)/2 | E27: 0.5915 | AG27: VV | AH27: 0
C28: 1,2*1,0*1,1 | E28: 1.32 | AG28: VV | AH28: 0
A29: 6 | B29: 174101101R00 | C29: Zásyp sypaninou se zhutněním jam, šachet, rýh nebo kolem objektů v těchto vykopávkách | D29: m3 | E29: 1.9115 | G29: =ROUND(E29*F29,2) -> 0 | I29: =ROUND(E29*H29,2) -> 0 | K29: =ROUND(E29*J29,2) -> 0 | L29: 21 | M29: =G29*(1+L29/100) -> 0 | N29: 0 | O29: =ROUND(E29*N29,2) -> 0 | P29: 0 | Q29: =ROUND(E29*P29,2) -> 0 | R29: 800-1 | S29: RTS 20/ I | T29: RTS 20/ I | U29: 0.202 | V29: =ROUND(E29*U29,2) -> 0.39 | X29: Práce | AG29: POL1_
C30: z jakékoliv horniny s uložením výkopku po vrstvách, | AG30: SPI
C31: Hutněný štěrkopískový zásyp po vrstvách 200 mm dle sklonu rostlého terénu | AG31: POP
C32: (1,3*1,3*0,7)/2 | E32: 0.5915 | AG32: VV | AH32: 0
C33: 1,2*1,0*1,1 | E33: 1.32 | AG33: VV | AH33: 0
A34: 7 | B34: 199000002R00 | C34: Poplatky za skládku horniny 1- 4 | D34: m3 | E34: 1.464 | G34: =ROUND(E34*F34,2) -> 0 | I34: =ROUND(E34*H34,2) -> 0 | K34: =ROUND(E34*J34,2) -> 0 | L34: 21 | M34: =G34*(1+L34/100) -> 0 | N34: 0 | O34: =ROUND(E34*N34,2) -> 0 | P34: 0 | Q34: =ROUND(E34*P34,2) -> 0 | R34: 800-1 | S34: RTS 20/ I | T34: RTS 20/ I | U34: 0 | V34: =ROUND(E34*U34,2) -> 0 | X34: Práce | AG34: POL1_
C35: výkr. č. D.07-02-003 : (1,2*0,4*1,1) | E35: 0.528 | AG35: VV | AH35: 0
C36: 1,3*1,2*0,6 | E36: 0.936 | AG36: VV | AH36: 0
A37: 8 | B37: 58337213R | C37: štěrkopísek frakce 0,0 až 32,0 mm; třída MN | D37: m3 | E37: 1.9115 | G37: =ROUND(E37*F37,2) -> 0 | I37: =ROUND(E37*H37,2) -> 0 | K37: =ROUND(E37*J37,2) -> 0 | L37: 21 | M37: =G37*(1+L37/100) -> 0 | N37: 1.67 | O37: =ROUND(E37*N37,2) -> 3.19 | P37: 0 | Q37: =ROUND(E37*P37,2) -> 0 | R37: SPCM | S37: RTS 20/ I | T37: RTS 20/ I | U37: 0 | V37: =ROUND(E37*U37,2) -> 0 | X37: Specifikace | AG37: POL3_
C38: (1,3*1,3*0,7)/2 | E38: 0.5915 | AG38: VV | AH38: 0
C39: 1,2*1,0*1,1 | E39: 1.32 | AG39: VV | AH39: 0
A40: Díl: | B40: 2 | C40: Základy a zvláštní zakládání | G40: =SUMIF(AG41:AG47,"<>NOR",G41:G47) -> 0 | I40: =SUM(I41:I47) -> 0 | K40: =SUM(K41:K47) -> 0 | M40: =SUM(M41:M47) -> 0 | O40: =SUM(O41:O47) -> 6.16 | Q40: =SUM(Q41:Q47) -> 0 | V40: =SUM(V41:V47) -> 3.87 | AG40: DIL
A41: 9 | B41: 215901101RT5 | C41: Zhutnění podloží z rostlé horniny 1 až 4 pod násypy z hornin soudržných do 92% PS a nesoudržných sypkých relativní ulehlosti l(d) do 0,8 vibrační deskou | D41: m2 | E41: 5.4 | G41: =ROUND(E41*F41,2) -> 0 | I41: =ROUND(E41*H41,2) -> 0 | K41: =ROUND(E41*J41,2) -> 0 | L41: 21 | M41: =G41*(1+L41/100) -> 0 | N41: 0 | O41: =ROUND(E41*N41,2) -> 0 | P41: 0 | Q41: =ROUND(E41*P41,2) -> 0 | R41: 800-1 | S41: RTS 20/ I | T41: RTS 20/ I | U41: 0.15 | V41: =ROUND(E41*U41,2) -> 0.81 | X41: Práce | AG41: POL1_
C42: z rostlé horniny tř.1 - 4 pod násypy z hornin soudržných do 92% PS a hornin nesoudržných sypkých relativní ulehlosti I(d) do 0,8 | AG42: SPI | BA42: =C42 -> z rostlé horniny tř.1 - 4 pod násypy z hornin soudržných do 92% PS a hornin nesoudržných sypkých relativní ulehlosti I(d) do 0,8
...

Sheet 08 2017-08-01-1 Pol
A1: Položkový soupis prací a dodávek | AG1: #TypZaznamu#
A2: S: | B2: 2017-08-01-1 | C2: Multifunkční sportovní areál, Nádražní ulice, Tovačov | AG2: STA
A3: O: | B3: 08 | C3: Oplocení areálu | AC3: STA | AG3: OBJ
A4: R: | B4: 2017-08-01-1 | C4: Multifunkční sportovní areál, Tovačov - Oplocení areálu | AG4: ROZ
A6: P.č. | B6: Číslo položky | C6: Název položky | D6: MJ | E6: Množství | F6: Cena / MJ | G6: Celkem | H6: Dodávka | I6: Dodávka celk. | J6: Montáž | K6: Montáž celk. | L6: DPH | M6: Cena s DPH | N6: Hmotnost / MJ | O6: Hmotnost celk.(t) | P6: Dem. hmotnost / MJ | Q6: Dem. hmotnost celk.(t) | R6: Ceník | S6: Cen. soustava / platnost | T6: Cenová úroveň | U6: Nhod / MJ | V6: Nhod celk. | W6: Dodavatel | X6: Typ položky
A8: Díl: | B8: 1 | C8: Zemní práce | G8: =SUMIF(AG9:AG52,"<>NOR",G9:G52) -> 0 | I8: =SUM(I9:I52) -> 0 | K8: =SUM(K9:K52) -> 0 | M8: =SUM(M9:M52) -> 0 | O8: =SUM(O9:O52) -> 0 | Q8: =SUM(Q9:Q52) -> 0 | V8: =SUM(V9:V52) -> 32.76 | AG8: DIL
A9: 1 | B9: 139601102R00 | C9: Ruční výkop jam, rýh a šachet v hornině 3 | D9: m3 | E9: 2.025 | G9: =ROUND(E9*F9,2) -> 0 | I9: =ROUND(E9*H9,2) -> 0 | K9: =ROUND(E9*J9,2) -> 0 | L9: 21 | M9: =G9*(1+L9/100) -> 0 | N9: 0 | O9: =ROUND(E9*N9,2) -> 0 | P9: 0 | Q9: =ROUND(E9*P9,2) -> 0 | R9: 800-1 | S9: RTS 20/ I | T9: RTS 20/ I | U9: 3.533 | V9: =ROUND(E9*U9,2) -> 7.15 | X9: Práce | AG9: POL1_
C10: s přehozením na vzdálenost do 5 m nebo s naložením na ruční dopravní prostředek | AG10: SPI
C11: výkr. č. D.08-02-001 : | AG11: VV | AH11: 0
C12: pro sloupky dvoukřídlé brány : 0,5*0,5*0,9*2 | E12: 0.45 | AG12: VV | AH12: 0
C13: pro posuvnou bránu : 0,5*0,5*1,1 | E13: 0.275 | AG13: VV | AH13: 0
C14: 0,5*2,0*1,3 | E14: 1.3 | AG14: VV | AH14: 0
A15: 2 | B15: 162701105R00 | C15: Vodorovné přemístění výkopku z horniny 1 až 4, na vzdálenost přes 9 000 do 10 000 m | D15: m3 | E15: 5.4162 | G15: =ROUND(E15*F15,2) -> 0 | I15: =ROUND(E15*H15,2) -> 0 | K15: =ROUND(E15*J15,2) -> 0 | L15: 21 | M15: =G15*(1+L15/100) -> 0 | N15: 0 | O15: =ROUND(E15*N15,2) -> 0 | P15: 0 | Q15: =ROUND(E15*P15,2) -> 0 | R15: 800-1 | S15: RTS 20/ I | T15: RTS 20/ I | U15: 0.011 | V15: =ROUND(E15*U15,2) -> 0.06 | X15: Práce | AG15: POL1_
C16: po suchu, bez ohledu na druh dopravního prostředku, bez naložení výkopku, avšak se složením bez rozhrnutí, | AG16: SPI | BA16: =C16 -> po suchu, bez ohledu na druh dopravního prostředku, bez naložení výkopku, avšak se složením bez rozhrnutí,
C17: výkr. č. D.08-02-001 : | AG17: VV | AH17: 0
C18: pro sloupky dvoukřídlé brány : 0,5*0,5*0,9*2 | E18: 0.45 | AG18: VV | AH18: 0
C19: pro posuvnou bránu : 0,5*0,5*1,1 | E19: 0.275 | AG19: VV | AH19: 0
C20: 0,5*2,0*1,3 | E20: 1.3 | AG20: VV | AH20: 0
C21: výkr. č. D.08-02-001 : | AG21: VV | AH21: 0
C22: pro sloupky : (3,14*0,15*0,15*0,8)*40 | E22: 2.2608 | AG22: VV | AH22: 0
C23: pro vzpěry : (3,14*0,15*0,15*0,8)*20 | E23: 1.1304 | AG23: VV | AH23: 0
A24: 3 | B24: 167101201R00 | C24: Nakládání, skládání, překládání neulehlého výkopku nakládání, skládání, překládání neulehléno výkopku nebo zeminy - ručně_x000D_ z horniny 1 až 4 | D24: m3 | E24: 5.4162 | G24: =ROUND(E24*F24,2) -> 0 | I24: =ROUND(E24*H24,2) -> 0 | K24: =ROUND(E24*J24,2) -> 0 | L24: 21 | M24: =G24*(1+L24/100) -> 0 | N24: 0 | O24: =ROUND(E24*N24,2) -> 0 | P24: 0 | Q24: =ROUND(E24*P24,2) -> 0 | R24: 800-1 | S24: RTS 20/ I | T24: RTS 20/ I | U24: 1.938 | V24: =ROUND(E24*U24,2) -> 10.5 | X24: Práce | AG24: POL1_
C25: výkr. č. D.08-02-001 : | AG25: VV | AH25: 0
C26: pro sloupky dvoukřídlé brány : 0,5*0,5*0,9*2 | E26: 0.45 | AG26: VV | AH26: 0
C27: pro posuvnou bránu : 0,5*0,5*1,1 | E27: 0.275 | AG27: VV | AH27: 0
C28: 0,5*2,0*1,3 | E28: 1.3 | AG28: VV | AH28: 0
C29: výkr. č. D.08-02-001 : | AG29: VV | AH29: 0
C30: pro sloupky : (3,14*0,15*0,15*0,8)*40 | E30: 2.2608 | AG30: VV | AH30: 0
C31: pro vzpěry : (3,14*0,15*0,15*0,8)*20 | E31: 1.1304 | AG31: VV | AH31: 0
A32: 4 | B32: 171201201R00 | C32: Uložení sypaniny na dočasnou skládku tak, že na 1 m2 plochy připadá přes 2 m3 výkopku nebo ornice | D32: m3 | E32: 5.4162 | G32: =ROUND(E32*F32,2) -> 0 | I32: =ROUND(E32*H32,2) -> 0 | K32: =ROUND(E32*J32,2) -> 0 | L32: 21 | M32: =G32*(1+L32/100) -> 0 | N32: 0 | O32: =ROUND(E32*N32,2) -> 0 | P32: 0 | Q32: =ROUND(E32*P32,2) -> 0 | R32: 800-1 | S32: RTS 20/ I | T32: RTS 20/ I | U32: 0.009 | V32: =ROUND(E32*U32,2) -> 0.05 | X32: Práce | AG32: POL1_
C33: výkr. č. D.08-02-001 : | AG33: VV | AH33: 0
C34: pro sloupky dvoukřídlé brány : 0,5*0,5*0,9*2 | E34: 0.45 | AG34: VV | AH34: 0
C35: pro posuvnou bránu : 0,5*0,5*1,1 | E35: 0.275 | AG35: VV | AH35: 0
C36: 0,5*2,0*1,3 | E36: 1.3 | AG36: VV | AH36: 0
C37: výkr. č. D.08-02-001 : | AG37: VV | AH37: 0
C38: pro sloupky : (3,14*0,15*0,15*0,8)*40 | E38: 2.2608 | AG38: VV | AH38: 0
C39: pro vzpěry : (3,14*0,15*0,15*0,8)*20 | E39: 1.1304 | AG39: VV | AH39: 0
A40: 5 | B40: 199000002R00 | C40: Poplatky za skládku horniny 1- 4 | D40: m3 | E40: 5.4162 | G40: =ROUND(E40*F40,2) -> 0 | I40: =ROUND(E40*H40,2) -> 0 | K40: =ROUND(E40*J40,2) -> 0 | L40: 21 | M40: =G40*(1+L40/100) -> 0 | N40: 0 | O40: =ROUND(E40*N40,2) -> 0 | P40: 0 | Q40: =ROUND(E40*P40,2) -> 0 | R40: 800-1 | S40: RTS 20/ I | T40: RTS 20/ I | U40: 0 | V40: =ROUND(E40*U40,2) -> 0 | X40: Práce | AG40: POL1_
C41: výkr. č. D.08-02-001 : | AG41: VV | AH41: 0
C42: pro sloupky dvoukřídlé brány : 0,5*0,5*0,9*2 | E42: 0.45 | AG42: VV | AH42: 0
...
