Workbook
Name CelkemDPHVypocet: Stavba!$H$51
Name CenaCelkem: Stavba!$G$29
Name CenaCelkemBezDPH: Stavba!$G$28
Name CenaCelkemVypocet: Stavba!$I$51
Name cisloobjektu: Stavba!$D$3
Name CisloRozpoctu: '[1]Krycí list'!$C$2
Name CisloStavby: Stavba!$D$2
Name cislostavby: '[1]Krycí list'!$A$7
Name CisloStavebnihoRozpoctu: Stavba!$D$4
Name dadresa: Stavba!$D$12:$G$12
Name DIČ: Stavba!$I$12
Name dmisto: Stavba!$E$13:$G$13
Name DPHSni: Stavba!$G$24
Name DPHZakl: Stavba!$G$26
Name dpsc: Stavba!$D$13
Name IČO: Stavba!$I$11
Name Mena: Stavba!$J$29
Name MistoStavby: Stavba!$D$4
Name nazevobjektu: Stavba!$E$3
Name NazevRozpoctu: '[1]Krycí list'!$D$2
Name NazevStavby: Stavba!$E$2
Name nazevstavby: '[1]Krycí list'!$C$7
Name NazevStavebnihoRozpoctu: Stavba!$E$4
Name oadresa: Stavba!$D$6
Name Objednatel: Stavba!$D$5
Name Objekt: Stavba!$B$38
Name odic: Stavba!$I$6
Name oico: Stavba!$I$5
Name omisto: Stavba!$E$7
Name onazev: Stavba!$D$6
Name opsc: Stavba!$D$7
Name padresa: Stavba!$D$9
Name pdic: Stavba!$I$9
Name pico: Stavba!$I$8
Name pmisto: Stavba!$E$10
Name PocetMJ: #REF!
Name PoptavkaID: Stavba!$A$1
Name pPSC: Stavba!$D$10
Name Projektant: Stavba!$D$8
Name SazbaDPH1: Stavba!$E$23
Name SazbaDPH1: '[1]Krycí list'!$C$30
Name SazbaDPH2: Stavba!$E$25
Name SazbaDPH2: '[1]Krycí list'!$C$32
Name SloupecCC: #REF!
Name SloupecCisloPol: #REF!
Name SloupecJC: #REF!
Name SloupecMJ: #REF!
Name SloupecMnozstvi: #REF!
Name SloupecNazPol: #REF!
Name SloupecPC: #REF!
Name Vypracoval: Stavba!$D$14
Name ZakladDPHSni: Stavba!$G$23
Name ZakladDPHSniVypocet: Stavba!$F$51
Name ZakladDPHZakl: Stavba!$G$25
Name ZakladDPHZaklVypocet: Stavba!$G$51
Name ZaObjednatele: Stavba!$G$34
Name Zaokrouhleni: Stavba!$G$27
Name ZaZhotovitele: Stavba!$D$34
Name Zhotovitel: Stavba!$D$11:$G$11

Sheet Pokyny pro vyplnění
A1: Pokyny pro vyplnění
A2: Ve všech listech tohoto souboru můžete měnit pouze buňky s modrým pozadím. Jedná se o tyto údaje : - údaje o firmě - jednotkové ceny položek zadané na maximálně dvě desetinná místa

Sheet Stavba
A1: #RTSROZP# | B1: Soupis stavebních prací, dodávek a služeb
B2: Stavba: | D2: 2017-08-01-1 | E2: Multifunkční sportovní areál, Nádražní ulice, Tovačov
B5: Zadavatel | D5: Olomoucký kraj | H5: IČO: | I5: 60609460
D6: Jeremenkova 1191/40a | H6: DIČ: | I6: CZ60609460
D7: 77900 | E7: Olomouc-Hodolany
B8: Projektant: | D8: PRINTES - ATELIER s.r.o. | H8: IČO: | I8: 25391089
D9: Mostní 1876/11a | H9: DIČ: | I9: CZ25391089
D10: 75002 | E10: Přerov-Přerov I-Město
B11: Zhotovitel: | H11: IČO:
H12: DIČ:
B14: Vypracoval:
B15: Rozpis ceny | I15: Celkem
A16: HSV | B16: HSV | I16: =SUMIF(F58:F73,A16,I58:I73)+SUMIF(F58:F73,"PSU",I58:I73) -> 0
A17: PSV | B17: PSV | I17: =SUMIF(F58:F73,A17,I58:I73) -> 0
A18: MON | B18: MON | I18: =SUMIF(F58:F73,A18,I58:I73) -> 0
A19: VN | B19: Vedlejší náklady | I19: =SUMIF(F58:F73,A19,I58:I73) -> 0
A20: ON | B20: Ostatní náklady | I20: =SUMIF(F58:F73,A20,I58:I73) -> 0
B21: Celkem | I21: =SUM(I16:J20) -> 0
B22: Rekapitulace daní
A23: =ZakladDPHSni*SazbaDPH1/100 -> 0 | B23: Základ pro sníženou DPH | E23: 15 | F23: % | G23: =ZakladDPHSniVypocet -> 0 | J23: =Mena -> CZK
A24: =(A23-INT(A23))*100 -> 0 | B24: Snížená DPH | E24: =SazbaDPH1 -> 15 | F24: % | G24: =A23 -> 0 | J24: =Mena -> CZK
A25: =ZakladDPHZakl*SazbaDPH2/100 -> 0 | B25: Základ pro základní DPH | E25: 21 | F25: % | G25: =ZakladDPHZaklVypocet -> 0 | J25: =Mena -> CZK
A26: =(A25-INT(A25))*100 -> 0 | B26: Základní DPH | E26: =SazbaDPH2 -> 21 | F26: % | G26: =A25 -> 0 | J26: =Mena -> CZK
A27: =ZakladDPHSni+DPHSni+ZakladDPHZakl+DPHZakl -> 0 | B27: Zaokrouhlení | G27: =CenaCelkem-(ZakladDPHSni+DPHSni+ZakladDPHZakl+DPHZakl) -> 0 | J27: =Mena -> CZK
B28: Cena celkem bez DPH | G28: =ZakladDPHSniVypocet+ZakladDPHZaklVypocet -> 0 | J28: =Mena -> CZK
A29: =(A27-INT(A27))*100 -> 0 | B29: Cena celkem s DPH | G29: =A27 -> 0 | J29: CZK
C32: v | F32: dne
D35: Za zhotovitele | H35: Za objednatele
B37: Rekapitulace dílčích částí
A38: #CASTI>> | B38: Číslo | C38: Název | F38: =B23 -> Základ pro sníženou DPH | G38: =B25 -> Základ pro základní DPH | H38: DPH celkem | I38: Cena celkem | J38: %
A39: 1 | B39: Stavba | F39: ='001 2017-08-01-1 Naklady'!AE50+'01 2017-08-01-1 Pol'!AE108+'02 2017-08-01-1 Pol'!AE265+'07 2017-08-01-1 Pol'!AE153+'08 2017-08-01-1 Pol'!AE143 -> 0 | G39: ='001 2017-08-01-1 Naklady'!AF50+'01 2017-08-01-1 Pol'!AF108+'02 2017-08-01-1 Pol'!AF265+'07 2017-08-01-1 Pol'!AF153+'08 2017-08-01-1 Pol'!AF143 -> 0 | H39: =(F39*SazbaDPH1/100)+(G39*SazbaDPH2/100) -> 0 | I39: =F39+G39+H39 -> 0 | J39: =IF(CenaCelkemVypocet=0,"",I39/CenaCelkemVypocet*100)
A40: 2 | C40: Ostatní a vedlejší náklady | F40: ='001 2017-08-01-1 Naklady'!AE50 -> 0 | G40: ='001 2017-08-01-1 Naklady'!AF50 -> 0 | H40: =(F40*SazbaDPH1/100)+(G40*SazbaDPH2/100) -> 0 | I40: =F40+G40+H40 -> 0 | J40: =IF(CenaCelkemVypocet=0,"",I40/CenaCelkemVypocet*100)
A41: 3 | B41: 2017-08-01-1 | C41: Multifunkční sportovní areál, Tovačov - Vedlejší rozpočtové náklady | F41: ='001 2017-08-01-1 Naklady'!AE50 -> 0 | G41: ='001 2017-08-01-1 Naklady'!AF50 -> 0 | H41: =(F41*SazbaDPH1/100)+(G41*SazbaDPH2/100) -> 0 | I41: =F41+G41+H41 -> 0 | J41: =IF(CenaCelkemVypocet=0,"",I41/CenaCelkemVypocet*100)
A42: 2 | C42: Stavební objekt | H42: =(F42*SazbaDPH1/100)+(G42*SazbaDPH2/100) -> 0 | I42: =F42+G42+H42 -> 0 | J42: =IF(CenaCelkemVypocet=0,"",I42/CenaCelkemVypocet*100)
A43: 2 | B43: 01 | C43: Příprava území | F43: ='01 2017-08-01-1 Pol'!AE108 -> 0 | G43: ='01 2017-08-01-1 Pol'!AF108 -> 0 | H43: =(F43*SazbaDPH1/100)+(G43*SazbaDPH2/100) -> 0 | I43: =F43+G43+H43 -> 0 | J43: =IF(CenaCelkemVypocet=0,"",I43/CenaCelkemVypocet*100)
A44: 3 | B44: 2017-08-01-1 | C44: Multifunkční sportovní areá - Příprava území | F44: ='01 2017-08-01-1 Pol'!AE108 -> 0 | G44: ='01 2017-08-01-1 Pol'!AF108 -> 0 | H44: =(F44*SazbaDPH1/100)+(G44*SazbaDPH2/100) -> 0 | I44: =F44+G44+H44 -> 0 | J44: =IF(CenaCelkemVypocet=0,"",I44/CenaCelkemVypocet*100)
A45: 2 | B45: 02 | C45: Multifunkční hřiště | F45: ='02 2017-08-01-1 Pol'!AE265 -> 0 | G45: ='02 2017-08-01-1 Pol'!AF265 -> 0 | H45: =(F45*SazbaDPH1/100)+(G45*SazbaDPH2/100) -> 0 | I45: =F45+G45+H45 -> 0 | J45: =IF(CenaCelkemVypocet=0,"",I45/CenaCelkemVypocet*100)
A46: 3 | B46: 2017-08-01-1 | C46: Multifunkční sportovní areál, Nádražní ulice, Tovačov - Multifunkční hřiště | F46: ='02 2017-08-01-1 Pol'!AE265 -> 0 | G46: ='02 2017-08-01-1 Pol'!AF265 -> 0 | H46: =(F46*SazbaDPH1/100)+(G46*SazbaDPH2/100) -> 0 | I46: =F46+G46+H46 -> 0 | J46: =IF(CenaCelkemVypocet=0,"",I46/CenaCelkemVypocet*100)
A47: 2 | B47: 07 | C47: Chodníky, zpevněné plochy, venkovní schodiště a opěrné zídky | F47: ='07 2017-08-01-1 Pol'!AE153 -> 0 | G47: ='07 2017-08-01-1 Pol'!AF153 -> 0 | H47: =(F47*SazbaDPH1/100)+(G47*SazbaDPH2/100) -> 0 | I47: =F47+G47+H47 -> 0 | J47: =IF(CenaCelkemVypocet=0,"",I47/CenaCelkemVypocet*100)
A48: 3 | B48: 2017-08-01-1 | C48: Multifunkční sportovní areál, Tovačov - Chodníky, zpevněné plochy, venkovní schodiště a opěrné zídky | F48: ='07 2017-08-01-1 Pol'!AE153 -> 0 | G48: ='07 2017-08-01-1 Pol'!AF153 -> 0 | H48: =(F48*SazbaDPH1/100)+(G48*SazbaDPH2/100) -> 0 | I48: =F48+G48+H48 -> 0 | J48: =IF(CenaCelkemVypocet=0,"",I48/CenaCelkemVypocet*100)
A49: 2 | B49: 08 | C49: Oplocení areálu | F49: ='08 2017-08-01-1 Pol'!AE143 -> 0 | G49: ='08 2017-08-01-1 Pol'!AF143 -> 0 | H49: =(F49*SazbaDPH1/100)+(G49*SazbaDPH2/100) -> 0 | I49: =F49+G49+H49 -> 0 | J49: =IF(CenaCelkemVypocet=0,"",I49/CenaCelkemVypocet*100)
A50: 3 | B50: 2017-08-01-1 | C50: Multifunkční sportovní areál, Tovačov - Oplocení areálu | F50: ='08 2017-08-01-1 Pol'!AE143 -> 0 | G50: ='08 2017-08-01-1 Pol'!AF143 -> 0 | H50: =(F50*SazbaDPH1/100)+(G50*SazbaDPH2/100) -> 0 | I50: =F50+G50+H50 -> 0 | J50: =IF(CenaCelkemVypocet=0,"",I50/CenaCelkemVypocet*100)
B51: Celkem za stavbu | F51: =SUMIF(A39:A50,"=1",F39:F50) -> 0 | G51: =SUMIF(A39:A50,"=1",G39:G50) -> 0 | H51: =SUMIF(A39:A50,"=1",H39:H50) -> 0 | I51: =SUMIF(A39:A50,"=1",I39:I50) -> 0 | J51: =SUMIF(A39:A50,"=1",J39:J50) -> 0
B55: Rekapitulace dílů
B57: Číslo | C57: Název | F57: Typ dílu | I57: Celkem | J57: %
B58: 1 | C58: Zemní práce | F58: HSV | I58: ='01 2017-08-01-1 Pol'!G8+'02 2017-08-01-1 Pol'!G8+'07 2017-08-01-1 Pol'!G8+'08 2017-08-01-1 Pol'!G8 -> 0 | J58: =IF(I74=0,"",I58/I74*100)
B59: 18 | C59: Povrchové úpravy terénu | F59: HSV | I59: ='02 2017-08-01-1 Pol'!G68 -> 0 | J59: =IF(I74=0,"",I59/I74*100)
B60: 2 | C60: Základy a zvláštní zakládání | F60: HSV | I60: ='02 2017-08-01-1 Pol'!G88+'07 2017-08-01-1 Pol'!G40+'08 2017-08-01-1 Pol'!G53 -> 0 | J60: =IF(I74=0,"",I60/I74*100)
B61: 212 | C61: Drenáže a trativody | F61: HSV | I61: ='02 2017-08-01-1 Pol'!G123 -> 0 | J61: =IF(I74=0,"",I61/I74*100)
B62: 3 | C62: Svislé a kompletní konstrukce | F62: HSV | I62: ='07 2017-08-01-1 Pol'!G48+'08 2017-08-01-1 Pol'!G78 -> 0 | J62: =IF(I74=0,"",I62/I74*100)
B63: 43 | C63: Schodiště | F63: HSV | I63: ='07 2017-08-01-1 Pol'!G57 -> 0 | J63: =IF(I74=0,"",I63/I74*100)
B64: 5 | C64: Komunikace | F64: HSV | I64: ='02 2017-08-01-1 Pol'!G188+'07 2017-08-01-1 Pol'!G87 -> 0 | J64: =IF(I74=0,"",I64/I74*100)
B65: 581 | C65: Sportovní vybavení a mobiliář | F65: HSV | I65: ='02 2017-08-01-1 Pol'!G218 -> 0 | J65: =IF(I74=0,"",I65/I74*100)
B66: 900 | C66: Oplocení | F66: HSV | I66: ='02 2017-08-01-1 Pol'!G224 -> 0 | J66: =IF(I74=0,"",I66/I74*100)
B67: 91 | C67: Doplňující práce na komunikaci | F67: HSV | I67: ='02 2017-08-01-1 Pol'!G251+'07 2017-08-01-1 Pol'!G136+'08 2017-08-01-1 Pol'!G85 -> 0 | J67: =IF(I74=0,"",I67/I74*100)
B68: 96 | C68: Bourání konstrukcí | F68: HSV | I68: ='01 2017-08-01-1 Pol'!G72 -> 0 | J68: =IF(I74=0,"",I68/I74*100)
B69: 99 | C69: Staveništní přesun hmot | F69: HSV | I69: ='01 2017-08-01-1 Pol'!G89+'02 2017-08-01-1 Pol'!G262+'07 2017-08-01-1 Pol'!G141+'08 2017-08-01-1 Pol'!G97 -> 0 | J69: =IF(I74=0,"",I69/I74*100)
B70: 767 | C70: Konstrukce zámečnické | F70: PSV | I70: ='01 2017-08-01-1 Pol'!G91+'07 2017-08-01-1 Pol'!G144+'08 2017-08-01-1 Pol'!G101 -> 0 | J70: =IF(I74=0,"",I70/I74*100)
B71: D96 | C71: Přesuny suti a vybouraných hmot | F71: PSU | I71: ='01 2017-08-01-1 Pol'!G100 -> 0 | J71: =IF(I74=0,"",I71/I74*100)
B72: VN | C72: Vedlejší náklady | F72: VN | I72: ='001 2017-08-01-1 Naklady'!G8 -> 0 | J72: =IF(I74=0,"",I72/I74*100)
B73: ON | C73: Ostatní náklady | F73: ON | I73: ='001 2017-08-01-1 Naklady'!G41 -> 0 | J73: =IF(I74=0,"",I73/I74*100)
B74: Cena celkem | I74: =SUM(I58:I73) -> 0 | J74: =SUM(J58:J73) -> 0

Sheet VzorPolozky
A1: Položkový rozpočet
A2: S:
A3: O:
A4: R:

Sheet 001 2017-08-01-1 Naklady
A1: Soupis vedlejších a ostatních nákladů | AG1: #TypZaznamu#
A2: S: | B2: 2017-08-01-1 | C2: Multifunkční sportovní areál, Nádražní ulice, Tovačov | AG2: STA
A3: O: | B3: 001 | C3: Vedlejší rozpočtové náklady | AC3: NAK | AG3: OBJ
A4: R: | B4: 2017-08-01-1 | C4: Multifunkční sportovní areál, Tovačov - Vedlejší rozpočtové náklady | AG4: ROZ
A6: P.č. | B6: Číslo položky | C6: Název položky | D6: MJ | E6: Množství | F6: Cena / MJ | G6: Celkem | H6: Dodávka | I6: Dodávka celk. | J6: Montáž | K6: Montáž celk. | L6: DPH | M6: Cena s DPH | N6: Hmotnost / MJ | O6: Hmotnost celk.(t) | P6: Dem. hmotnost / MJ | Q6: Dem. hmotnost celk.(t) | R6: Ceník | S6: Cen. soustava / platnost | T6: Cenová úroveň | U6: Nhod / MJ | V6: Nhod celk. | W6: Dodavatel | X6: Typ položky
A8: Díl: | B8: VN | C8: Vedlejší náklady | G8: =SUMIF(AG9:AG40,"<>NOR",G9:G40) -> 0 | I8: =SUM(I9:I40) -> 0 | K8: =SUM(K9:K40) -> 0 | M8: =SUM(M9:M40) -> 0 | O8: =SUM(O9:O40) -> 0 | Q8: =SUM(Q9:Q40) -> 0 | V8: =SUM(V9:V40) -> 0 | AG8: DIL
A9: 1 | B9: 005111020R | C9: Vytyčení stavby | D9: Soubor | E9: 1 | G9: =ROUND(E9*F9,2) -> 0 | I9: =ROUND(E9*H9,2) -> 0 | K9: =ROUND(E9*J9,2) -> 0 | L9: 21 | M9: =G9*(1+L9/100) -> 0 | N9: 0 | O9: =ROUND(E9*N9,2) -> 0 | P9: 0 | Q9: =ROUND(E9*P9,2) -> 0 | S9: RTS 20/ I | T9: Indiv | U9: 0 | V9: =ROUND(E9*U9,2) -> 0 | X9: VRN | AG9: POL99_2
C10: Geodetické zaměření rohů stavby, stabilizace bodů a sestavení laviček. | AG10: POP
C11: Vyhotovení protokolu o vytyčení stavby se seznamem souřadnic vytyčených bodů a jejich polohopisnými (S-JTSK) a výškopisnými (Bpv) hodnotami. | AG11: POP | BA11: =C11 -> Vyhotovení protokolu o vytyčení stavby se seznamem souřadnic vytyčených bodů a jejich polohopisnými (S-JTSK) a výškopisnými (Bpv) hodnotami.
A12: 2 | B12: 005111021R | C12: Vytyčení inženýrských sítí | D12: Soubor | E12: 1 | G12: =ROUND(E12*F12,2) -> 0 | I12: =ROUND(E12*H12,2) -> 0 | K12: =ROUND(E12*J12,2) -> 0 | L12: 21 | M12: =G12*(1+L12/100) -> 0 | N12: 0 | O12: =ROUND(E12*N12,2) -> 0 | P12: 0 | Q12: =ROUND(E12*P12,2) -> 0 | S12: RTS 20/ I | T12: Indiv | U12: 0 | V12: =ROUND(E12*U12,2) -> 0 | X12: VRN | AG12: POL99_2
C13: Zaměření a vytýčení stávajících inženýrských sítí v místě stavby z hlediska jejich ochrany při provádění stavby. | AG13: POP | BA13: =C13 -> Zaměření a vytýčení stávajících inženýrských sítí v místě stavby z hlediska jejich ochrany při provádění stavby.
A14: 3 | B14: 005121010R | C14: Vybudování zařízení staveniště | D14: Soubor | E14: 1 | G14: =ROUND(E14*F14,2) -> 0 | I14: =ROUND(E14*H14,2) -> 0 | K14: =ROUND(E14*J14,2) -> 0 | L14: 21 | M14: =G14*(1+L14/100) -> 0 | N14: 0 | O14: =ROUND(E14*N14,2) -> 0 | P14: 0 | Q14: =ROUND(E14*P14,2) -> 0 | S14: RTS 20/ I | T14: Indiv | U14: 0 | V14: =ROUND(E14*U14,2) -> 0 | X14: VRN | AG14: POL99_2
C15: Vybudování zpevněných ploch pro skladování materiálu, doprava a osazení kontejnerů pro skladování. | AG15: POP
C16: Sejmutí ornice, hrubá úprava terénu a zpevnění ploch pro osazení objektů sociálního zařízení staveniště a kanceláří stavby. | AG16: POP | BA16: =C16 -> Sejmutí ornice, hrubá úprava terénu a zpevnění ploch pro osazení objektů sociálního zařízení staveniště a kanceláří stavby.
C17: Doprava a osazení mobilních buněk sociálního zařízení – umývárny, toalety, šatny. | AG17: POP
C18: Doprava a osazení kanceláří stavby a technického dozoru. | AG18: POP
C19: Zřízení osvětlení staveniště (včetně stožárů a osvětlovacích těles). | AG19: POP
C20: Zřízení dočasných ochranných zařízení (plachty, stěny, stany), jestliže jsou vyžadovány technologií montáže. | AG20: POP | BA20: =C20 -> Zřízení dočasných ochranných zařízení (plachty, stěny, stany), jestliže jsou vyžadovány technologií montáže.
C21: Náhradní zdroj elektrické energie. | AG21: POP
C22: Doprava a osazení dočasného oplocení staveniště v celkové délce 34 m | AG22: POP
C23: Plocha zařízení staveniště cca 290 m2 | AG23: POP
C24: Mezi zařízení jsou zahrnuty 2 mobilní plechové stavební buňky. Jedna jako kancelář stavbyvedoucího, | AG24: POP
C25: a druhá jako šatna pro zaměstnance. | AG25: POP
C26: Dva plechové mobilní stavební kontejnéry pro uskladnění stavebního materiálu a pracovního vybavení.¨ | AG26: POP
C27: Mobilní WC | AG27: POP
A28: 4 | B28: 005121021R | C28: Provoz zařízení staveniště pro JKSO 801 až 803 | D28: Soubor | E28: 1 | G28: =ROUND(E28*F28,2) -> 0 | I28: =ROUND(E28*H28,2) -> 0 | K28: =ROUND(E28*J28,2) -> 0 | L28: 21 | M28: =G28*(1+L28/100) -> 0 | N28: 0 | O28: =ROUND(E28*N28,2) -> 0 | P28: 0 | Q28: =ROUND(E28*P28,2) -> 0 | S28: RTS 20/ I | T28: Indiv | U28: 0 | V28: =ROUND(E28*U28,2) -> 0 | X28: VRN | AG28: POL99_2
A29: 5 | B29: 005121030R | C29: Odstranění zařízení staveniště | D29: Soubor | E29: 1 | G29: =ROUND(E29*F29,2) -> 0 | I29: =ROUND(E29*H29,2) -> 0 | K29: =ROUND(E29*J29,2) -> 0 | L29: 21 | M29: =G29*(1+L29/100) -> 0 | N29: 0 | O29: =ROUND(E29*N29,2) -> 0 | P29: 0 | Q29: =ROUND(E29*P29,2) -> 0 | S29: RTS 20/ I | T29: Indiv | U29: 0 | V29: =ROUND(E29*U29,2) -> 0 | X29: VRN | AG29: POL99_2
C30: Odstranění objektů zařízení staveniště včetně přípojek energií a jejich odvoz. Položka zahrnuje i náklady na úpravu povrchů po odstranění zařízení staveniště a úklid ploch, na kterých bylo zařízení staveniště provozováno. | AG30: POP | BA30: =C30 -> Odstranění objektů zařízení staveniště včetně přípojek energií a jejich odvoz. Položka zahrnuje i náklady na úpravu povrchů po odstranění zařízení staveniště a úklid ploch, na kterých bylo zařízení staveniště provozováno.
C31: Odvoz kontejnerů pro skladování a uvedení zpevněných ploch pro skladování do původního stavu. | AG31: POP
C32: Uvedení zpevněných ploch pro objekty sociálního zařízení staveniště a kanceláří stavby do původního stavu. Případné ohumusování. | AG32: POP | BA32: =C32 -> Uvedení zpevněných ploch pro objekty sociálního zařízení staveniště a kanceláří stavby do původního stavu. Případné ohumusování.
C33: Odvoz mobilních buněk sociálního zařízení, nebo uvedení do původního stavu prostor pronajatých. | AG33: POP
C34: Odvoz dočasného oplocení staveniště. | AG34: POP
C35: Odvoz mobilních kanceláří stavby a technického dozoru, nebo uvedení do původního stavu prostor pronajatých. | AG35: POP | BA35: =C35 -> Odvoz mobilních kanceláří stavby a technického dozoru, nebo uvedení do původního stavu prostor pronajatých.
C36: Zrušení vnitrostaveništního rozvodu energie včetně rozvaděčů a osvětlení staveniště (včetně stožárů a osvětlovacích těles). | AG36: POP | BA36: =C36 -> Zrušení vnitrostaveništního rozvodu energie včetně rozvaděčů a osvětlení staveniště (včetně stožárů a osvětlovacích těles).
C37: Odstranění základů a opěrných konstrukcí pro stavební stroje. | AG37: POP
C38: Zrušení přípojky elektrické energie a vody. | AG38: POP
A39: 6 | B39: 005124010R | C39: Koordinační činnost | D39: Soubor | E39: 1 | G39: =ROUND(E39*F39,2) -> 0 | I39: =ROUND(E39*H39,2) -> 0 | K39: =ROUND(E39*J39,2) -> 0 | L39: 21 | M39: =G39*(1+L39/100) -> 0 | N39: 0 | O39: =ROUND(E39*N39,2) -> 0 | P39: 0 | Q39: =ROUND(E39*P39,2) -> 0 | S39: RTS 20/ I | T39: Indiv | U39: 0 | V39: =ROUND(E39*U39,2) -> 0 | X39: VRN | AG39: POL99_2
C40: Koordinace stavebních a technologických dodávek stavby. | AG40: POP
A41: Díl: | B41: ON | C41: Ostatní náklady | G41: =SUMIF(AG42:AG48,"<>NOR",G42:G48) -> 0 | I41: =SUM(I42:I48) -> 0 | K41: =SUM(K42:K48) -> 0 | M41: =SUM(M42:M48) -> 0 | O41: =SUM(O42:O48) -> 0 | Q41: =SUM(Q42:Q48) -> 0 | V41: =SUM(V42:V48) -> 0 | AG41: DIL
A42: 7 | B42: 0051122T | C42: Záchranný archeologický výzkum | D42: Soubor | E42: 1 | G42: =ROUND(E42*F42,2) -> 0 | I42: =ROUND(E42*H42,2) -> 0 | K42: =ROUND(E42*J42,2) -> 0 | L42: 21 | M42: =G42*(1+L42/100) -> 0 | N42: 0 | O42: =ROUND(E42*N42,2) -> 0 | P42: 0 | Q42: =ROUND(E42*P42,2) -> 0 | S42: Vlastní | T42: Indiv | U42: 0 | V42: =ROUND(E42*U42,2) -> 0 | X42: VRN | AG42: POL99_0
A43: 8 | B43: 005211080R | C43: Bezpečnostní a hygienická opatření na staveništi | D43: Soubor | E43: 1 | G43: =ROUND(E43*F43,2) -> 0 | I43: =ROUND(E43*H43,2) -> 0 | K43: =ROUND(E43*J43,2) -> 0 | L43: 21 | M43: =G43*(1+L43/100) -> 0 | N43: 0 | O43: =ROUND(E43*N43,2) -> 0 | P43: 0 | Q43: =ROUND(E43*P43,2) -> 0 | S43: RTS 20/ I | T43: Indiv | U43: 0 | V43: =ROUND(E43*U43,2) -> 0 | X43: VRN | AG43: POL99_2
C44: Náklady na ochranu staveniště před vstupem nepovolaných osob, včetně příslušného značení, náklady na osvětlení staveniště, náklady na vypracování potřebné dokumentace pro provoz staveniště z hlediska požární ochrany (požární řád a poplachová směrnice) a z hlediska provozu staveniště (provozně dopravní řád). | AG44: POP | BA44: =C44 -> Náklady na ochranu staveniště před vstupem nepovolaných osob, včetně příslušného značení, náklady na osvětlení staveniště, náklady na vypracování potřebné dokumentace pro provoz staveniště z hlediska požární ochrany (požární řád a poplachová směrnice) a z hlediska provozu staveniště (provozně dopravní řád).
A45: 9 | B45: 005241010R | C45: Dokumentace skutečného provedení | D45: Soubor | E45: 1 | G45: =ROUND(E45*F45,2) -> 0 | I45: =ROUND(E45*H45,2) -> 0 | K45: =ROUND(E45*J45,2) -> 0 | L45: 21 | M45: =G45*(1+L45/100) -> 0 | N45: 0 | O45: =ROUND(E45*N45,2) -> 0 | P45: 0 | Q45: =ROUND(E45*P45,2) -> 0 | S45: RTS 20/ I | T45: Indiv | U45: 0 | V45: =ROUND(E45*U45,2) -> 0 | X45: VRN | AG45: POL99_2
C46: Náklady na vyhotovení dokumentace skutečného provedení stavby a její předání objednateli v požadované formě a požadovaném počtu. | AG46: POP | BA46: =C46 -> Náklady na vyhotovení dokumentace skutečného provedení stavby a její předání objednateli v požadované formě a požadovaném počtu.
A47: 10 | B47: 005241020R | C47: Geodetické zaměření skutečného provedení | D47: Soubor | E47: 1 | G47: =ROUND(E47*F47,2) -> 0 | I47: =ROUND(E47*H47,2) -> 0 | K47: =ROUND(E47*J47,2) -> 0 | L47: 21 | M47: =G47*(1+L47/100) -> 0 | N47: 0 | O47: =ROUND(E47*N47,2) -> 0 | P47: 0 | Q47: =ROUND(E47*P47,2) -> 0 | S47: RTS 20/ I | T47: Indiv | U47: 0 | V47: =ROUND(E47*U47,2) -> 0 | X47: VRN | AG47: POL99_2
C48: Náklady na provedení skutečného zaměření stavby v rozsahu nezbytném pro zápis změny do katastru nemovitostí. | AG48: POP | BA48: =C48 -> Náklady na provedení skutečného zaměření stavby v rozsahu nezbytném pro zápis změny do katastru nemovitostí.
AE49: 15 | AF49: 21 | AG49: DPH
B50: Celkem | G50: =G8+G41 -> 0 | AE50: =SUMIF(L7:L48,AE49,G7:G48) -> 0 | AF50: =SUMIF(L7:L48,AF49,G7:G48) -> 0 | AG50: SUM
AG51: END

Sheet 01 2017-08-01-1 Pol
A1: Položkový soupis prací a dodávek | AG1: #TypZaznamu#
A2: S: | B2: 2017-08-01-1 | C2: Multifunkční sportovní areál, Nádražní ulice, Tovačov | AG2: STA
A3: O: | B3: 01 | C3: Příprava území | AC3: STA | AG3: OBJ
A4: R: | B4: 2017-08-01-1 | C4: Multifunkční sportovní areá - Příprava území | AG4: ROZ
A6: P.č. | B6: Číslo položky | C6: Název položky | D6: MJ | E6: Množství | F6: Cena / MJ | G6: Celkem | H6: Dodávka | I6: Dodávka celk. | J6: Montáž | K6: Montáž celk. | L6: DPH | M6: Cena s DPH | N6: Hmotnost / MJ | O6: Hmotnost celk.(t) | P6: Dem. hmotnost / MJ | Q6: Dem. hmotnost celk.(t) | R6: Ceník | S6: Cen. soustava / platnost | T6: Cenová úroveň | U6: Nhod / MJ | V6: Nhod celk. | W6: Dodavatel | X6: Typ položky
A8: Díl: | B8: 1 | C8: Zemní práce | G8: =SUMIF(AG9:AG71,"<>NOR",G9:G71) -> 0 | I8: =SUM(I9:I71) -> 0 | K8: =SUM(K9:K71) -> 0 | M8: =SUM(M9:M71) -> 0 | O8: =SUM(O9:O71) -> 56.19 | Q8: =SUM(Q9:Q71) -> 8.95 | V8: =SUM(V9:V71) -> 248.45 | AG8: DIL
A9: 1 | B9: 111201501R00 | C9: Spálení větví pro všechny druhy stromů | D9: kus | E9: 65 | G9: =ROUND(E9*F9,2) -> 0 | I9: =ROUND(E9*H9,2) -> 0 | K9: =ROUND(E9*J9,2) -> 0 | L9: 21 | M9: =G9*(1+L9/100) -> 0 | N9: 0.00299 | O9: =ROUND(E9*N9,2) -> 0.19 | P9: 0 | Q9: =ROUND(E9*P9,2) -> 0 | R9: 800-1 | S9: RTS 20/ I | T9: RTS 20/ I | U9: 1.7 | V9: =ROUND(E9*U9,2) -> 110.5 | X9: Práce | AG9: POL1_
C10: stromů o průměru kmene přes 100 mm, na hromadách, pro všechny druhy stromů, | AG10: SPI
C11: odhad : 3*10 | E11: 30 | AG11: VV | AH11: 0
C12: 2*10 | E12: 20 | AG12: VV | AH12: 0
C13: 15 | E13: 15 | AG13: VV | AH13: 0
A14: 2 | B14: 112101101R00 | C14: Kácení stromů listnatých_x000D_ o průměru kmene přes 100 do 300 mm | D14: kus | E14: 3 | G14: =ROUND(E14*F14,2) -> 0 | I14: =ROUND(E14*H14,2) -> 0 | K14: =ROUND(E14*J14,2) -> 0 | L14: 21 | M14: =G14*(1+L14/100) -> 0 | N14: 0 | O14: =ROUND(E14*N14,2) -> 0 | P14: 0 | Q14: =ROUND(E14*P14,2) -> 0 | R14: 800-1 | S14: RTS 20/ I | T14: RTS 20/ I | U14: 0.49 | V14: =ROUND(E14*U14,2) -> 1.47 | X14: Práce | AG14: POL1_
C15: s odřezáním kmene a odvětvením, včetně případného odklizení kmene a větví na oddělené hromady na vzdálenost do 50 m nebo s naložením na dopravní prostředek, | AG15: SPI | BA15: =C15 -> s odřezáním kmene a odvětvením, včetně případného odklizení kmene a větví na oddělené hromady na vzdálenost do 50 m nebo s naložením na dopravní prostředek,
C16: Technická zpráva str. 4 odst. D.3.5 : | AG16: VV | AH16: 0
C17: javor babyka obvod 30 cm : 2 | E17: 2 | AG17: VV | AH17: 0
C18: blašský ořech obvod 28 cm : 1 | E18: 1 | AG18: VV | AH18: 0
A19: 3 | B19: 112101102R00 | C19: Kácení stromů listnatých_x000D_ o průměru kmene přes 300 do 500 mm | D19: kus | E19: 2 | G19: =ROUND(E19*F19,2) -> 0 | I19: =ROUND(E19*H19,2) -> 0 | K19: =ROUND(E19*J19,2) -> 0 | L19: 21 | M19: =G19*(1+L19/100) -> 0 | N19: 0 | O19: =ROUND(E19*N19,2) -> 0 | P19: 0 | Q19: =ROUND(E19*P19,2) -> 0 | R19: 800-1 | S19: RTS 20/ I | T19: RTS 20/ I | U19: 0.88 | V19: =ROUND(E19*U19,2) -> 1.76 | X19: Práce | AG19: POL1_
C20: s odřezáním kmene a odvětvením, včetně případného odklizení kmene a větví na oddělené hromady na vzdálenost do 50 m nebo s naložením na dopravní prostředek, | AG20: SPI | BA20: =C20 -> s odřezáním kmene a odvětvením, včetně případného odklizení kmene a větví na oddělené hromady na vzdálenost do 50 m nebo s naložením na dopravní prostředek,
C21: Technická zpráva str. 4 odst. D.3.5 : | AG21: VV | AH21: 0
C22: třešeň obecná obvod 120 a 105 cm : 2 | E22: 2 | AG22: VV | AH22: 0
A23: 4 | B23: 112101104R00 | C23: Kácení stromů listnatých_x000D_ o průměru kmene přes 700 do 900 mm | D23: kus | E23: 1 | G23: =ROUND(E23*F23,2) -> 0 | I23: =ROUND(E23*H23,2) -> 0 | K23: =ROUND(E23*J23,2) -> 0 | L23: 21 | M23: =G23*(1+L23/100) -> 0 | N23: 0 | O23: =ROUND(E23*N23,2) -> 0 | P23: 0 | Q23: =ROUND(E23*P23,2) -> 0 | R23: 800-1 | S23: RTS 20/ I | T23: RTS 20/ I | U23: 2.02 | V23: =ROUND(E23*U23,2) -> 2.02 | X23: Práce | AG23: POL1_
C24: s odřezáním kmene a odvětvením, včetně případného odklizení kmene a větví na oddělené hromady na vzdálenost do 50 m nebo s naložením na dopravní prostředek, | AG24: SPI | BA24: =C24 -> s odřezáním kmene a odvětvením, včetně případného odklizení kmene a větví na oddělené hromady na vzdálenost do 50 m nebo s naložením na dopravní prostředek,
C25: Technická zpráva str. 4 odst. D.3.5 : | AG25: VV | AH25: 0
C26: Topol osika - obvod 195 cm : 1 | E26: 1 | AG26: VV | AH26: 0
A27: 5 | B27: 112201101R00 | C27: Odstranění pařezů pod úrovní terénu vykopáním_x000D_ o průměru přes 100 do 300 mm | D27: kus | E27: 3 | G27: =ROUND(E27*F27,2) -> 0 | I27: =ROUND(E27*H27,2) -> 0 | K27: =ROUND(E27*J27,2) -> 0 | L27: 21 | M27: =G27*(1+L27/100) -> 0 | N27: 5e-05 | O27: =ROUND(E27*N27,2) -> 0 | P27: 0 | Q27: =ROUND(E27*P27,2) -> 0 | R27: 800-1 | S27: RTS 20/ I | T27: RTS 20/ I | U27: 0.659 | V27: =ROUND(E27*U27,2) -> 1.98 | X27: Práce | AG27: POL1_
C28: s jejich vykopáním nebo vytrháním, s přesekáním kořenů a s případným nutným přemístěním pařezů na hromady do vzdálenosti do 50 m nebo s naložením na dopravní prostředek, | AG28: SPI | BA28: =C28 -> s jejich vykopáním nebo vytrháním, s přesekáním kořenů a s případným nutným přemístěním pařezů na hromady do vzdálenosti do 50 m nebo s naložením na dopravní prostředek,
C29: Technická zpráva str. 4 odst. D.3.5 : | AG29: VV | AH29: 0
C30: javor babyka obvod 30 cm : 2 | E30: 2 | AG30: VV | AH30: 0
C31: blašský ořech obvod 28 cm : 1 | E31: 1 | AG31: VV | AH31: 0
A32: 6 | B32: 112201102R00 | C32: Odstranění pařezů pod úrovní terénu vykopáním_x000D_ o průměru přes 300 do 500 mm | D32: kus | E32: 2 | G32: =ROUND(E32*F32,2) -> 0 | I32: =ROUND(E32*H32,2) -> 0 | K32: =ROUND(E32*J32,2) -> 0 | L32: 21 | M32: =G32*(1+L32/100) -> 0 | N32: 5e-05 | O32: =ROUND(E32*N32,2) -> 0 | P32: 0 | Q32: =ROUND(E32*P32,2) -> 0 | R32: 800-1 | S32: RTS 20/ I | T32: RTS 20/ I | U32: 1.655 | V32: =ROUND(E32*U32,2) -> 3.31 | X32: Práce | AG32: POL1_
C33: s jejich vykopáním nebo vytrháním, s přesekáním kořenů a s případným nutným přemístěním pařezů na hromady do vzdálenosti do 50 m nebo s naložením na dopravní prostředek, | AG33: SPI | BA33: =C33 -> s jejich vykopáním nebo vytrháním, s přesekáním kořenů a s případným nutným přemístěním pařezů na hromady do vzdálenosti do 50 m nebo s naložením na dopravní prostředek,
C34: Technická zpráva str. 4 odst. D.3.5 : | AG34: VV | AH34: 0
C35: třešeň obecná obvod 120 a 105 cm : 2 | E35: 2 | AG35: VV | AH35: 0
A36: 7 | B36: 112201104R00 | C36: Odstranění pařezů pod úrovní terénu vykopáním_x000D_ o průměru přes 700 do 900 mm | D36: kus | E36: 1 | G36: =ROUND(E36*F36,2) -> 0 | I36: =ROUND(E36*H36,2) -> 0 | K36: =ROUND(E36*J36,2) -> 0 | L36: 21 | M36: =G36*(1+L36/100) -> 0 | N36: 0.0001 | O36: =ROUND(E36*N36,2) -> 0 | P36: 0 | Q36: =ROUND(E36*P36,2) -> 0 | R36: 800-1 | S36: RTS 20/ I | T36: RTS 20/ I | U36: 4.553 | V36: =ROUND(E36*U36,2) -> 4.55 | X36: Práce | AG36: POL1_
C37: s jejich vykopáním nebo vytrháním, s přesekáním kořenů a s případným nutným přemístěním pařezů na hromady do vzdálenosti do 50 m nebo s naložením na dopravní prostředek, | AG37: SPI | BA37: =C37 -> s jejich vykopáním nebo vytrháním, s přesekáním kořenů a s případným nutným přemístěním pařezů na hromady do vzdálenosti do 50 m nebo s naložením na dopravní prostředek,
C38: Technická zpráva str. 4 odst. D.3.5 : | AG38: VV | AH38: 0
C39: Topol osika - obvod 195 cm : 1 | E39: 1 | AG39: VV | AH39: 0
A40: 8 | B40: 113106121R00 | C40: Rozebrání dlažeb, panelů komunikací pro pěší s jakýmkoliv ložem a výplní spár_x000D_ z betonových nebo kameninových dlaždic nebo tvarovek | D40: m2 | E40: 25 | G40: =ROUND(E40*F40,2) -> 0 | I40: =ROUND(E40*H40,2) -> 0 | K40: =ROUND(E40*J40,2) -> 0 | L40: 21 | M40: =G40*(1+L40/100) -> 0 | N40: 0 | O40: =ROUND(E40*N40,2) -> 0 | P40: 0.138 | Q40: =ROUND(E40*P40,2) -> 3.45 | R40: 822-1 | S40: RTS 20/ I | T40: RTS 20/ I | U40: 0.16 | V40: =ROUND(E40*U40,2) -> 4 | X40: Práce | AG40: POL1_
C41: s přemístěním hmot na skládku na vzdálenost do 3 m nebo s naložením na dopravní prostředek | AG41: SPI
C42: Výkr. č. D.01-02-001 : | AG42: VV | AH42: 0
C43: Technická zpráva str. 4 odst.D.3.4 : 25 | E43: 25 | AG43: VV | AH43: 0
A44: 9 | B44: 113107310R00 | C44: Odstranění podkladů nebo krytů z kameniva těženého, v ploše jednotlivě do 50 m2, tloušťka vrstvy 100 mm | D44: m2 | E44: 25 | G44: =ROUND(E44*F44,2) -> 0 | I44: =ROUND(E44*H44,2) -> 0 | K44: =ROUND(E44*J44,2) -> 0 | L44: 21 | M44: =G44*(1+L44/100) -> 0 | N44: 0 | O44: =ROUND(E44*N44,2) -> 0 | P44: 0.22 | Q44: =ROUND(E44*P44,2) -> 5.5 | R44: 822-1 | S44: RTS 20/ I | T44: RTS 20/ I | U44: 0.251 | V44: =ROUND(E44*U44,2) -> 6.28 | X44: Práce | AG44: POL1_
C45: Výkr. č. D.01-02-001 : | AG45: VV | AH45: 0
C46: Technická zpráva str. 4 odst.D.3.4 : 25 | E46: 25 | AG46: VV | AH46: 0
A47: 10 | B47: 121101103R00 | C47: Sejmutí ornice s přemístěním na vzdálenost přes 100 do 250 m | D47: m3 | E47: 596.25 | G47: =ROUND(E47*F47,2) -> 0 | I47: =ROUND(E47*H47,2) -> 0 | K47: =ROUND(E47*J47,2) -> 0 | L47: 21 | M47: =G47*(1+L47/100) -> 0 | N47: 0 | O47: =ROUND(E47*N47,2) -> 0 | P47: 0 | Q47: =ROUND(E47*P47,2) -> 0 | R47: 800-1 | S47: RTS 20/ I | T47: RTS 20/ I | U47: 0.0134 | V47: =ROUND(E47*U47,2) -> 7.99 | X47: Práce | AG47: POL1_
C48: nebo lesní půdy, s vodorovným přemístěním na hromady v místě upotřebení nebo na dočasné či trvalé skládky se složením | AG48: SPI | BA48: =C48 -> nebo lesní půdy, s vodorovným přemístěním na hromady v místě upotřebení nebo na dočasné či trvalé skládky se složením
C49: Výkr. č. D.01-02-001 : | AG49: VV | AH49: 0
C50: Technická zpráva str. 3 odst.D.3.2 : 2385*0,25 | E50: 596.25 | AG50: VV | AH50: 0
A51: 11 | B51: 122201102R00 | C51: Odkopávky a prokopávky nezapažené v hornině 3_x000D_ přes 100 do 1 000 m3 | D51: m3 | E51: 270 | G51: =ROUND(E51*F51,2) -> 0 | I51: =ROUND(E51*H51,2) -> 0 | K51: =ROUND(E51*J51,2) -> 0 | L51: 21 | M51: =G51*(1+L51/100) -> 0 | N51: 0 | O51: =ROUND(E51*N51,2) -> 0 | P51: 0 | Q51: =ROUND(E51*P51,2) -> 0 | R51: 800-1 | S51: RTS 20/ I | T51: RTS 20/ I | U51: 0.187 | V51: =ROUND(E51*U51,2) -> 50.49 | X51: Práce | AG51: POL1_
C52: s přehozením výkopku na vzdálenost do 3 m nebo s naložením na dopravní prostředek, | AG52: SPI
C53: Odstranění humózní zeminy v tl. 150 mm | AG53: POP
C54: Výkr. č. D.01-02-001 : | AG54: VV | AH54: 0
C55: Technická zpráva str. 3 odst.D.3.1 - humózní zemina : 1800*0,15 | E55: 270 | AG55: VV | AH55: 0
A56: 12 | B56: 162301101R00 | C56: Vodorovné přemístění výkopku z horniny 1 až 4, na vzdálenost přes 50 do 500 m | D56: m3 | E56: 270 | G56: =ROUND(E56*F56,2) -> 0 | I56: =ROUND(E56*H56,2) -> 0 | K56: =ROUND(E56*J56,2) -> 0 | L56: 21 | M56: =G56*(1+L56/100) -> 0 | N56: 0 | O56: =ROUND(E56*N56,2) -> 0 | P56: 0 | Q56: =ROUND(E56*P56,2) -> 0 | R56: 800-1 | S56: RTS 20/ I | T56: RTS 20/ I | U56: 0.011 | V56: =ROUND(E56*U56,2) -> 2.97 | X56: Práce | AG56: POL1_
C57: po suchu, bez ohledu na druh dopravního prostředku, bez naložení výkopku, avšak se složením bez rozhrnutí, | AG57: SPI | BA57: =C57 -> po suchu, bez ohledu na druh dopravního prostředku, bez naložení výkopku, avšak se složením bez rozhrnutí,
C58: Výkr. č. D.01-02-001 : | AG58: VV | AH58: 0
C59: Technická zpráva str. 3 odst.D.3.1 - humózní zemina : 1800*0,15 | E59: 270 | AG59: VV | AH59: 0
A60: 13 | B60: 162701105R00 | C60: Vodorovné přemístění výkopku z horniny 1 až 4, na vzdálenost přes 9 000 do 10 000 m | D60: m3 | E60: 56 | G60: =ROUND(E60*F60,2) -> 0 | I60: =ROUND(E60*H60,2) -> 0 | K60: =ROUND(E60*J60,2) -> 0 | L60: 21 | M60: =G60*(1+L60/100) -> 0 | N60: 0 | O60: =ROUND(E60*N60,2) -> 0 | P60: 0 | Q60: =ROUND(E60*P60,2) -> 0 | R60: 800-1 | S60: RTS 20/ I | T60: RTS 20/ I | U60: 0.011 | V60: =ROUND(E60*U60,2) -> 0.62 | X60: Práce | AG60: POL1_
C61: po suchu, bez ohledu na druh dopravního prostředku, bez naložení výkopku, avšak se složením bez rozhrnutí, | AG61: SPI | BA61: =C61 -> po suchu, bez ohledu na druh dopravního prostředku, bez naložení výkopku, avšak se složením bez rozhrnutí,
C62: Technická zpráva str.3, výkr. č. D.01-02-001 : 560*0,1 | E62: 56 | AG62: VV | AH62: 0
A63: 14 | B63: 167101101R00 | C63: Nakládání, skládání, překládání neulehlého výkopku nakládání výkopku_x000D_ do 100 m3, z horniny 1 až 4 | D63: m3 | E63: 56 | G63: =ROUND(E63*F63,2) -> 0 | I63: =ROUND(E63*H63,2) -> 0 | K63: =ROUND(E63*J63,2) -> 0 | L63: 21 | M63: =G63*(1+L63/100) -> 0 | N63: 0 | O63: =ROUND(E63*N63,2) -> 0 | P63: 0 | Q63: =ROUND(E63*P63,2) -> 0 | R63: 800-1 | S63: RTS 20/ I | T63: RTS 20/ I | U63: 0.652 | V63: =ROUND(E63*U63,2) -> 36.51 | X63: Práce | AG63: POL1_
C64: Technická zpráva str.3, výkr. č. D.01-02-001 : 560*0,1 | E64: 56 | AG64: VV | AH64: 0
A65: 15 | B65: 181006111R00 | C65: Rozprostření zemin v rov./sklonu 1:5, tl. do 10 cm | D65: m2 | E65: 560 | G65: =ROUND(E65*F65,2) -> 0 | I65: =ROUND(E65*H65,2) -> 0 | K65: =ROUND(E65*J65,2) -> 0 | L65: 21 | M65: =G65*(1+L65/100) -> 0 | N65: 0 | O65: =ROUND(E65*N65,2) -> 0 | P65: 0 | Q65: =ROUND(E65*P65,2) -> 0 | S65: RTS 20/ I | T65: RTS 20/ I | U65: 0.007 | V65: =ROUND(E65*U65,2) -> 3.92 | X65: Práce | AG65: POL1_
C66: Technická zpráva str.3, výkr. č. D.01-02-001 : 560 | E66: 560 | AG66: VV | AH66: 0
A67: 16 | B67: 181201102R00 | C67: Úprava pláně v násypech v hornině 1 až 4, se zhutněním | D67: m2 | E67: 560 | G67: =ROUND(E67*F67,2) -> 0 | I67: =ROUND(E67*H67,2) -> 0 | K67: =ROUND(E67*J67,2) -> 0 | L67: 21 | M67: =G67*(1+L67/100) -> 0 | N67: 0 | O67: =ROUND(E67*N67,2) -> 0 | P67: 0 | Q67: =ROUND(E67*P67,2) -> 0 | R67: 800-1 | S67: RTS 20/ I | T67: RTS 20/ I | U67: 0.018 | V67: =ROUND(E67*U67,2) -> 10.08 | X67: Práce | AG67: POL1_
C68: vyrovnání výškových rozdílů, plochy vodorovné a plochy do sklonu 1 : 5, | AG68: SPI
C69: Technická zpráva str.3, výkr. č. D.01-02-001 : 560 | E69: 560 | AG69: VV | AH69: 0
A70: 17 | B70: 58330002.ART | C70: Zemina stabilizační pro dosypámí nekulturní vrstvy půdy | D70: t | E70: 56 | G70: =ROUND(E70*F70,2) -> 0 | I70: =ROUND(E70*H70,2) -> 0 | K70: =ROUND(E70*J70,2) -> 0 | L70: 21 | M70: =G70*(1+L70/100) -> 0 | N70: 1 | O70: =ROUND(E70*N70,2) -> 56 | P70: 0 | Q70: =ROUND(E70*P70,2) -> 0 | S70: Vlastní | T70: Indiv | U70: 0 | V70: =ROUND(E70*U70,2) -> 0 | X70: Specifikace | AG70: POL3_
C71: Technická zpráva str.3, výkr. č. D.01-02-001 : (560*0,1)*1 | E71: 56 | AG71: VV | AH71: 0
A72: Díl: | B72: 96 | C72: Bourání konstrukcí | G72: =SUMIF(AG73:AG88,"<>NOR",G73:G88) -> 0 | I72: =SUM(I73:I88) -> 0 | K72: =SUM(K73:K88) -> 0 | M72: =SUM(M73:M88) -> 0 | O72: =SUM(O73:O88) -> 0 | Q72: =SUM(Q73:Q88) -> 7.49 | V72: =SUM(V73:V88) -> 33.67 | AG72: DIL
A73: 18 | B73: 961044111R00 | C73: Bourání základů z betonu prostého | D73: m3 | E73: 3.744 | G73: =ROUND(E73*F73,2) -> 0 | I73: =ROUND(E73*H73,2) -> 0 | K73: =ROUND(E73*J73,2) -> 0 | L73: 21 | M73: =G73*(1+L73/100) -> 0 | N73: 0 | O73: =ROUND(E73*N73,2) -> 0 | P73: 2 | Q73: =ROUND(E73*P73,2) -> 7.49 | R73: 801-3 | S73: RTS 20/ I | T73: RTS 20/ I | U73: 6.436 | V73: =ROUND(E73*U73,2) -> 24.1 | X73: Práce | AG73: POL1_
C74: nebo vybourání otvorů průřezové plochy přes 4 m2 v základech, | AG74: SPI
C75: vybourání základových patek a vzpěr oplocení, slopků branek oplocení a sloupků ocelových rámů | AG75: POP
C76: Výkr. č. D.01-02-001 : | AG76: VV | AH76: 0
C77: Tech.zpráva str. 4, odd.D.3.3 : | AG77: VV | AH77: 0
C78: sloupky : 0,3*0,3*0,9*14 | E78: 1.134 | AG78: VV | AH78: 0
C79: vzpěry : 0,3*0,3*0,9*10 | E79: 0.81 | AG79: VV | AH79: 0
C80: branky : 0,5*0,5*0,9*4 | E80: 0.9 | AG80: VV | AH80: 0
C81: ocelové rámy : 0,5*0,5*0,9*4 | E81: 0.9 | AG81: VV | AH81: 0
A82: 19 | B82: 966079881T00 | C82: Přerušení ocelových profilů průřezu nad 7 cm2 | D82: kus | E82: 32 | G82: =ROUND(E82*F82,2) -> 0 | I82: =ROUND(E82*H82,2) -> 0 | K82: =ROUND(E82*J82,2) -> 0 | L82: 21 | M82: =G82*(1+L82/100) -> 0 | N82: 0 | O82: =ROUND(E82*N82,2) -> 0 | P82: 0 | Q82: =ROUND(E82*P82,2) -> 0 | S82: Vlastní | T82: Indiv | U82: 0.299 | V82: =ROUND(E82*U82,2) -> 9.57 | X82: Práce | AG82: POL1_
C83: Výkr. č. D.01-02-001 : | AG83: VV | AH83: 0
C84: Tech.zpráva str. 4, odd.D.3.3 : | AG84: VV | AH84: 0
C85: sloupky : 14 | E85: 14 | AG85: VV | AH85: 0
C86: vzpěry : 10 | E86: 10 | AG86: VV | AH86: 0
C87: branky : 4 | E87: 4 | AG87: VV | AH87: 0
C88: ocelové rámy : 4 | E88: 4 | AG88: VV | AH88: 0
A89: Díl: | B89: 99 | C89: Staveništní přesun hmot | G89: =SUMIF(AG90:AG90,"<>NOR",G90:G90) -> 0 | I89: =SUM(I90:I90) -> 0 | K89: =SUM(K90:K90) -> 0 | M89: =SUM(M90:M90) -> 0 | O89: =SUM(O90:O90) -> 0 | Q89: =SUM(Q90:Q90) -> 0 | V89: =SUM(V90:V90) -> 4.21 | AG89: DIL
A90: 20 | B90: 998222012R00 | C90: Přesun hmot, plochy pro tělovýchovu zpevněná plocha z kameniva, | D90: t | E90: 56.1947 | G90: =ROUND(E90*F90,2) -> 0 | I90: =ROUND(E90*H90,2) -> 0 | K90: =ROUND(E90*J90,2) -> 0 | L90: 21 | M90: =G90*(1+L90/100) -> 0 | N90: 0 | O90: =ROUND(E90*N90,2) -> 0 | P90: 0 | Q90: =ROUND(E90*P90,2) -> 0 | R90: 823-1 | S90: RTS 20/ I | T90: RTS 20/ I | U90: 0.075 | V90: =ROUND(E90*U90,2) -> 4.21 | X90: Přesun hmot | AG90: POL7_
A91: Díl: | B91: 767 | C91: Konstrukce zámečnické | G91: =SUMIF(AG92:AG99,"<>NOR",G92:G99) -> 0 | I91: =SUM(I92:I99) -> 0 | K91: =SUM(K92:K99) -> 0 | M91: =SUM(M92:M99) -> 0 | O91: =SUM(O92:O99) -> 0 | Q91: =SUM(Q92:Q99) -> 0.54 | V91: =SUM(V92:V99) -> 11.73 | AG91: DIL
A92: 21 | B92: 767911822R00 | C92: Demontáž oplocení demontáž pletiva, výšky do 2,0 m | D92: m | E92: 50 | G92: =ROUND(E92*F92,2) -> 0 | I92: =ROUND(E92*H92,2) -> 0 | K92: =ROUND(E92*J92,2) -> 0 | L92: 21 | M92: =G92*(1+L92/100) -> 0 | N92: 0 | O92: =ROUND(E92*N92,2) -> 0 | P92: 0.00248 | Q92: =ROUND(E92*P92,2) -> 0.12 | R92: 800-767 | S92: RTS 20/ I | T92: RTS 20/ I | U92: 0.206 | V92: =ROUND(E92*U92,2) -> 10.3 | X92: Práce | AG92: POL1_
C93: Výkr. č. D.01-02-001 : | AG93: VV | AH93: 0
C94: Tech.zpráva str. 4, odd.D.3.3 : 50 | E94: 50 | AG94: VV | AH94: 0
A95: 22 | B95: 767920820R00 | C95: Demontáž vrat a vrátek k oplocení o ploše jednotlivě přes 2 do 6 m2 | D95: kus | E95: 2 | G95: =ROUND(E95*F95,2) -> 0 | I95: =ROUND(E95*H95,2) -> 0 | K95: =ROUND(E95*J95,2) -> 0 | L95: 21 | M95: =G95*(1+L95/100) -> 0 | N95: 0 | O95: =ROUND(E95*N95,2) -> 0 | P95: 0.21 | Q95: =ROUND(E95*P95,2) -> 0.42 | R95: 800-767 | S95: RTS 20/ I | T95: RTS 20/ I | U95: 0.714 | V95: =ROUND(E95*U95,2) -> 1.43 | X95: Práce | AG95: POL1_
C96: Výkr. č. D.01-02-001 : | AG96: VV | AH96: 0
C97: Tech.zpráva str. 4, odd.D.3.3 : | AG97: VV | AH97: 0
C98: rozm 1,2x1,8 : 1 | E98: 1 | AG98: VV | AH98: 0
C99: rozm. 1,0x2,4 : 1 | E99: 1 | AG99: VV | AH99: 0
A100: Díl: | B100: D96 | C100: Přesuny suti a vybouraných hmot | G100: =SUMIF(AG101:AG106,"<>NOR",G101:G106) -> 0 | I100: =SUM(I101:I106) -> 0 | K100: =SUM(K101:K106) -> 0 | M100: =SUM(M101:M106) -> 0 | O100: =SUM(O101:O106) -> 0 | Q100: =SUM(Q101:Q106) -> 0 | V100: =SUM(V101:V106) -> 44.94 | AG100: DIL
A101: 23 | B101: 979087112R00 | C101: Nakládání suti na dopravní prostředky | D101: t | E101: 16.982 | G101: =ROUND(E101*F101,2) -> 0 | I101: =ROUND(E101*H101,2) -> 0 | K101: =ROUND(E101*J101,2) -> 0 | L101: 21 | M101: =G101*(1+L101/100) -> 0 | N101: 0 | O101: =ROUND(E101*N101,2) -> 0 | P101: 0 | Q101: =ROUND(E101*P101,2) -> 0 | S101: RTS 20/ I | T101: RTS 20/ I | U101: 0.164 | V101: =ROUND(E101*U101,2) -> 2.79 | X101: Přesun suti | AG101: POL8_
A102: 24 | B102: 979081111R00 | C102: Odvoz suti a vybouraných hmot na skládku do 1 km | D102: t | E102: 16.982 | G102: =ROUND(E102*F102,2) -> 0 | I102: =ROUND(E102*H102,2) -> 0 | K102: =ROUND(E102*J102,2) -> 0 | L102: 21 | M102: =G102*(1+L102/100) -> 0 | N102: 0 | O102: =ROUND(E102*N102,2) -> 0 | P102: 0 | Q102: =ROUND(E102*P102,2) -> 0 | R102: 801-3 | S102: RTS 20/ I | T102: RTS 20/ I | U102: 0.49 | V102: =ROUND(E102*U102,2) -> 8.32 | X102: Přesun suti | AG102: POL8_
...

Sheet 02 2017-08-01-1 Pol
A1: Položkový soupis prací a dodávek | AG1: #TypZaznamu#
A2: S: | B2: 2017-08-01-1 | C2: Multifunkční sportovní areál, Nádražní ulice, Tovačov | AG2: STA
A3: O: | B3: 02 | C3: Multifunkční hřiště | AC3: STA | AG3: OBJ
A4: R: | B4: 2017-08-01-1 | C4: Multifunkční sportovní areál, Nádražní ulice, Tovačov - Multifunkční hřiště | AG4: ROZ
A6: P.č. | B6: Číslo položky | C6: Název položky | D6: MJ | E6: Množství | F6: Cena / MJ | G6: Celkem | H6: Dodávka | I6: Dodávka celk. | J6: Montáž | K6: Montáž celk. | L6: DPH | M6: Cena s DPH | N6: Hmotnost / MJ | O6: Hmotnost celk.(t) | P6: Dem. hmotnost / MJ | Q6: Dem. hmotnost celk.(t) | R6: Ceník | S6: Cen. soustava / platnost | T6: Cenová úroveň | U6: Nhod / MJ | V6: Nhod celk. | W6: Dodavatel | X6: Typ položky
A8: Díl: | B8: 1 | C8: Zemní práce | G8: =SUMIF(AG9:AG67,"<>NOR",G9:G67) -> 0 | I8: =SUM(I9:I67) -> 0 | K8: =SUM(K9:K67) -> 0 | M8: =SUM(M9:M67) -> 0 | O8: =SUM(O9:O67) -> 0.05 | Q8: =SUM(Q9:Q67) -> 0 | V8: =SUM(V9:V67) -> 71.91 | AG8: DIL
A9: 1 | B9: 131201110R00 | C9: Hloubení nezapažených jam a zářezů do 50 m3, v hornině 3, hloubení strojně | D9: m3 | E9: 15.626 | G9: =ROUND(E9*F9,2) -> 0 | I9: =ROUND(E9*H9,2) -> 0 | K9: =ROUND(E9*J9,2) -> 0 | L9: 21 | M9: =G9*(1+L9/100) -> 0 | N9: 0 | O9: =ROUND(E9*N9,2) -> 0 | P9: 0 | Q9: =ROUND(E9*P9,2) -> 0 | R9: 800-1 | S9: RTS 20/ I | T9: RTS 20/ I | U9: 0.26666 | V9: =ROUND(E9*U9,2) -> 4.17 | X9: Práce | AG9: POL1_
C10: kromě zářezů se šikmými stěnami pro podzemní vedení, s urovnáním dna do předepsaného profilu a spádu, s případným nutným přemístěním ve výkopišti a dále buď s přemístěním výkopku na přilehlém terénu na vzdálenost do 3 m od okraje jámy nebo s naložením na dopravní prostředek, | AG10: SPI | BA10: =C10 -> kromě zářezů se šikmými stěnami pro podzemní vedení, s urovnáním dna do předepsaného profilu a spádu, s případným nutným přemístěním ve výkopišti a dále buď s přemístěním výkopku na přilehlém terénu na vzdálenost do 3 m od okraje jámy nebo s naložením na dopravní prostředek,
C11: výkr. č. D.02-02-004, výkop patek pro síťové oplocení : 0,4*0,4*1,0*56 | E11: 8.96 | AG11: VV | AH11: 0
C12: výkr. č. D.02-02-006 - výkop patek pro streetbal : 0,8*0,8*1,1*4 | E12: 2.816 | AG12: VV | AH12: 0
C13: výkr. č. D.02-02-007 - výkop patek pro tréninkové branky malá kopaná a florbal : 0,5*0,5*0,95*6 | E13: 1.425 | AG13: VV | AH13: 0
C14: výkr. č. D.02-02-005 - výkop patek pro sloupek volejbalu.pro tenis, : 0,5*0,5*0,95*6 | E14: 1.425 | AG14: VV | AH14: 0
C15: výkop jam pro kontrolní PVC šachty : 0,5*0,5*1,0*4 | E15: 1 | AG15: VV | AH15: 0
A16: 2 | B16: 132201111R00 | C16: Hloubení rýh šířky do 60 cm do 100 m3, v hornině 3, hloubení strojně | D16: m3 | E16: 102.2 | G16: =ROUND(E16*F16,2) -> 0 | I16: =ROUND(E16*H16,2) -> 0 | K16: =ROUND(E16*J16,2) -> 0 | L16: 21 | M16: =G16*(1+L16/100) -> 0 | N16: 0 | O16: =ROUND(E16*N16,2) -> 0 | P16: 0 | Q16: =ROUND(E16*P16,2) -> 0 | R16: 800-1 | S16: RTS 20/ I | T16: RTS 20/ I | U16: 0.23 | V16: =ROUND(E16*U16,2) -> 23.51 | X16: Práce | AG16: POL1_
C17: zapažených i nezapažených s urovnáním dna do předepsaného profilu a spádu, s přehozením výkopku na přilehlém terénu na vzdálenost do 3 m od podélné osy rýhy nebo s naložením výkopku na dopravní prostředek. | AG17: SPI | BA17: =C17 -> zapažených i nezapažených s urovnáním dna do předepsaného profilu a spádu, s přehozením výkopku na přilehlém terénu na vzdálenost do 3 m od podélné osy rýhy nebo s naložením výkopku na dopravní prostředek.
C18: Položka obsahuje hloubení rýh traktorbagrem, naložení výkopku na dopravní prostředek pro svislé, nebo vodorovné přemístění, popř. přemístění výkopku do 3 m (po povrchu území), případné zajištění rypadel polštáři, udržování pracoviště a ochranu výkopiště proti stékání srážkové vody z okolního terénu i s jejím odvodněním, nebo odvedením, přesekání a odstranění kořenů ve výkopišti, odstranění napadávek, urovnání dna výkopu. | AG18: POP | BA18: =C18 -> Položka obsahuje hloubení rýh traktorbagrem, naložení výkopku na dopravní prostředek pro svislé, nebo vodorovné přemístění, popř. přemístění výkopku do 3 m (po povrchu území), případné zajištění rypadel polštáři, udržování pracoviště a ochranu výkopiště proti stékání srážkové vody z okolního terénu i s jejím odvodněním, nebo odvedením, přesekání a odstranění kořenů ve výkopišti, odstranění napadávek, urovnání dna výkopu.
C19: výkr. č. D.02-02-009 pro DN 100 ve sportovní ploše : 310*0,3*0,4 | E19: 37.2 | AG19: VV | AH19: 0
C20: výkr. č. D.02-02-010 pro DN 150 mimo sportovní plochu : 65*1,0*1,0 | E20: 65 | AG20: VV | AH20: 0
A21: 3 | B21: 132201210R00 | C21: Hloubení rýh šířky přes 60 do 200 cm do 50 m3, v hornině 3, hloubení strojně | D21: m3 | E21: 21.6 | G21: =ROUND(E21*F21,2) -> 0 | I21: =ROUND(E21*H21,2) -> 0 | K21: =ROUND(E21*J21,2) -> 0 | L21: 21 | M21: =G21*(1+L21/100) -> 0 | N21: 0 | O21: =ROUND(E21*N21,2) -> 0 | P21: 0 | Q21: =ROUND(E21*P21,2) -> 0 | R21: 800-1 | S21: RTS 20/ I | T21: RTS 20/ I | U21: 0.365 | V21: =ROUND(E21*U21,2) -> 7.88 | X21: Práce | AG21: POL1_
C22: zapažených i nezapažených, s urovnáním dna do předepsaného profilu a spádu, s případně nutným přehozením výkopku na vzdálenost do 3 m ve výkopišti, s přehozením výkopku na přilehlém terénu na vzdálenost do 5 m od podélné osy rýhy nebo s naložením výkopku na dopravní prostředek. | AG22: SPI | BA22: =C22 -> zapažených i nezapažených, s urovnáním dna do předepsaného profilu a spádu, s případně nutným přehozením výkopku na vzdálenost do 3 m ve výkopišti, s přehozením výkopku na přilehlém terénu na vzdálenost do 5 m od podélné osy rýhy nebo s naložením výkopku na dopravní prostředek.
C23: Položka obsahuje hloubení rýh traktorbagrem, naložení výkopku na dopravní prostředek pro svislé, nebo vodorovné přemístění, popř. přemístění výkopku do 3 m (po povrchu území), případné zajištění rypadel polštáři, udržování pracoviště a ochranu výkopiště proti stékání srážkové vody z okolního terénu i s jejím odvodněním, nebo odvedením, přesekání a odstranění kořenů ve výkopišti, odstranění napadávek, urovnání dna výkopu. | AG23: POP | BA23: =C23 -> Položka obsahuje hloubení rýh traktorbagrem, naložení výkopku na dopravní prostředek pro svislé, nebo vodorovné přemístění, popř. přemístění výkopku do 3 m (po povrchu území), případné zajištění rypadel polštáři, udržování pracoviště a ochranu výkopiště proti stékání srážkové vody z okolního terénu i s jejím odvodněním, nebo odvedením, přesekání a odstranění kořenů ve výkopišti, odstranění napadávek, urovnání dna výkopu.
AG24: POP
C25: výkop pro zasakovací jám u nebo rýhy, z důvodu velké hloubky je nutné rýhu zapažir. | AG25: POP
C26: výkr. č. D.02-02-011 : | AG26: VV | AH26: 0
C27: výkop pro zasakovací rýhu : 1,0*12,0*1,8 | E27: 21.6 | AG27: VV | AH27: 0
A28: 4 | B28: 151101101R00 | C28: Zřízení pažení a rozepření stěn rýh příložné pro jakoukoliv mezerovitost, hloubky do 2 m | D28: m2 | E28: 46.8 | G28: =ROUND(E28*F28,2) -> 0 | I28: =ROUND(E28*H28,2) -> 0 | K28: =ROUND(E28*J28,2) -> 0 | L28: 21 | M28: =G28*(1+L28/100) -> 0 | N28: 0.00099 | O28: =ROUND(E28*N28,2) -> 0.05 | P28: 0 | Q28: =ROUND(E28*P28,2) -> 0 | R28: 800-1 | S28: RTS 20/ I | T28: RTS 20/ I | U28: 0.236 | V28: =ROUND(E28*U28,2) -> 11.04 | X28: Práce | AG28: POL1_
C29: pro podzemní vedení pro všechny šířky rýhy, | AG29: SPI
C30: Výkr. č.D.02-02-011 : (1,0+1,0+12,0+12,0)*1,8 | E30: 46.8 | AG30: VV | AH30: 0
A31: 5 | B31: 151101111R00 | C31: Odstranění pažení a rozepření rýh příložné , hloubky do 2 m | D31: m2 | E31: 46.8 | G31: =ROUND(E31*F31,2) -> 0 | I31: =ROUND(E31*H31,2) -> 0 | K31: =ROUND(E31*J31,2) -> 0 | L31: 21 | M31: =G31*(1+L31/100) -> 0 | N31: 0 | O31: =ROUND(E31*N31,2) -> 0 | P31: 0 | Q31: =ROUND(E31*P31,2) -> 0 | R31: 800-1 | S31: RTS 20/ I | T31: RTS 20/ I | U31: 0.07 | V31: =ROUND(E31*U31,2) -> 3.28 | X31: Práce | AG31: POL1_
C32: pro podzemní vedení s uložením materiálu na vzdálenost do 3 m od kraje výkopu, | AG32: SPI
C33: Výkr. č.D.02-02-011 : (1,0+1,0+12,0+12,0)*1,8 | E33: 46.8 | AG33: VV | AH33: 0
A34: 6 | B34: 162701101R00 | C34: Vodorovné přemístění výkopku z horniny 1 až 4, na vzdálenost přes 5 000 do 6 000 m | D34: m3 | E34: 139.426 | G34: =ROUND(E34*F34,2) -> 0 | I34: =ROUND(E34*H34,2) -> 0 | K34: =ROUND(E34*J34,2) -> 0 | L34: 21 | M34: =G34*(1+L34/100) -> 0 | N34: 0 | O34: =ROUND(E34*N34,2) -> 0 | P34: 0 | Q34: =ROUND(E34*P34,2) -> 0 | R34: 800-1 | S34: RTS 20/ I | T34: RTS 20/ I | U34: 0.011 | V34: =ROUND(E34*U34,2) -> 1.53 | X34: Práce | AG34: POL1_
C35: po suchu, bez ohledu na druh dopravního prostředku, bez naložení výkopku, avšak se složením bez rozhrnutí, | AG35: SPI | BA35: =C35 -> po suchu, bez ohledu na druh dopravního prostředku, bez naložení výkopku, avšak se složením bez rozhrnutí,
C36: výkr. č. D.02-02-004, výkop patek pro síťové oplocení : 0,4*0,4*1,0*56 | E36: 8.96 | AG36: VV | AH36: 0
C37: výkr. č. D.02-02-006 - výkop patek pro streetbal : 0,8*0,8*1,1*4 | E37: 2.816 | AG37: VV | AH37: 0
C38: výkr. č. D.02-02-007 - výkop patek pro tréninkové branky malá kopaná a florbal : 0,5*0,5*0,95*6 | E38: 1.425 | AG38: VV | AH38: 0
C39: výkr. č. D.02-02-005 - výkop patek pro sloupek volejbalu.pro tenis, : 0,5*0,5*0,95*6 | E39: 1.425 | AG39: VV | AH39: 0
C40: výkop jam pro kontrolní PVC šachty : 0,5*0,5*1,0*4 | E40: 1 | AG40: VV | AH40: 0
C41: výkr. č. D.02-02-009 pro DN 100 ve sportovní ploše : 310*0,3*0,4 | E41: 37.2 | AG41: VV | AH41: 0
C42: výkr. č. D.02-02-010 pro DN 150 mimo sportovní plochu : 65*1,0*1,0 | E42: 65 | AG42: VV | AH42: 0
C43: výkr. č. D.02-02-011 : | AG43: VV | AH43: 0
C44: výkop pro zasakovací rýhu : 1,0*12,0*1,8 | E44: 21.6 | AG44: VV | AH44: 0
A45: 7 | B45: 171201201R00 | C45: Uložení sypaniny na dočasnou skládku tak, že na 1 m2 plochy připadá přes 2 m3 výkopku nebo ornice | D45: m3 | E45: 139.426 | G45: =ROUND(E45*F45,2) -> 0 | I45: =ROUND(E45*H45,2) -> 0 | K45: =ROUND(E45*J45,2) -> 0 | L45: 21 | M45: =G45*(1+L45/100) -> 0 | N45: 0 | O45: =ROUND(E45*N45,2) -> 0 | P45: 0 | Q45: =ROUND(E45*P45,2) -> 0 | R45: 800-1 | S45: RTS 20/ I | T45: RTS 20/ I | U45: 0.009 | V45: =ROUND(E45*U45,2) -> 1.25 | X45: Práce | AG45: POL1_
C46: výkr. č. D.02-02-004, výkop patek pro síťové oplocení : 0,4*0,4*1,0*56 | E46: 8.96 | AG46: VV | AH46: 0
C47: výkr. č. D.02-02-006 - výkop patek pro streetbal : 0,8*0,8*1,1*4 | E47: 2.816 | AG47: VV | AH47: 0
C48: výkr. č. D.02-02-007 - výkop patek pro tréninkové branky malá kopaná a florbal : 0,5*0,5*0,95*6 | E48: 1.425 | AG48: VV | AH48: 0
C49: výkr. č. D.02-02-005 - výkop patek pro sloupek volejbalu.pro tenis, : 0,5*0,5*0,95*6 | E49: 1.425 | AG49: VV | AH49: 0
C50: výkop jam pro kontrolní PVC šachty : 0,5*0,5*1,0*4 | E50: 1 | AG50: VV | AH50: 0
C51: výkr. č. D.02-02-009 pro DN 100 ve sportovní ploše : 310*0,3*0,4 | E51: 37.2 | AG51: VV | AH51: 0
C52: výkr. č. D.02-02-010 pro DN 150 mimo sportovní plochu : 65*1,0*1,0 | E52: 65 | AG52: VV | AH52: 0
C53: výkr. č. D.02-02-011 : | AG53: VV | AH53: 0
C54: výkop pro zasakovací rýhu : 1,0*12,0*1,8 | E54: 21.6 | AG54: VV | AH54: 0
A55: 8 | B55: 181101102R00 | C55: Úprava pláně v zářezech v hornině 1 až 4, se zhutněním | D55: m2 | E55: 1069.64 | G55: =ROUND(E55*F55,2) -> 0 | I55: =ROUND(E55*H55,2) -> 0 | K55: =ROUND(E55*J55,2) -> 0 | L55: 21 | M55: =G55*(1+L55/100) -> 0 | N55: 0 | O55: =ROUND(E55*N55,2) -> 0 | P55: 0 | Q55: =ROUND(E55*P55,2) -> 0 | R55: 800-1 | S55: RTS 20/ I | T55: RTS 20/ I | U55: 0.018 | V55: =ROUND(E55*U55,2) -> 19.25 | X55: Práce | AG55: POL1_
C56: vyrovnáním výškových rozdílů, ploch vodorovných a ploch do sklonu 1 : 5. | AG56: SPI
C57: výkr. č. D.02-02-001 - plocha sportovišť- multifunkční hřiště : 24,2*44,2 | E57: 1069.64 | AG57: VV | AH57: 0
A58: 9 | B58: 199000002R00 | C58: Poplatky za skládku horniny 1- 4 | D58: m3 | E58: 139.426 | G58: =ROUND(E58*F58,2) -> 0 | I58: =ROUND(E58*H58,2) -> 0 | K58: =ROUND(E58*J58,2) -> 0 | L58: 21 | M58: =G58*(1+L58/100) -> 0 | N58: 0 | O58: =ROUND(E58*N58,2) -> 0 | P58: 0 | Q58: =ROUND(E58*P58,2) -> 0 | R58: 800-1 | S58: RTS 20/ I | T58: RTS 20/ I | U58: 0 | V58: =ROUND(E58*U58,2) -> 0 | X58: Práce | AG58: POL1_
C59: výkr. č. D.02-02-004, výkop patek pro síťové oplocení : 0,4*0,4*1,0*56 | E59: 8.96 | AG59: VV | AH59: 0
C60: výkr. č. D.02-02-006 - výkop patek pro streetbal : 0,8*0,8*1,1*4 | E60: 2.816 | AG60: VV | AH60: 0
C61: výkr. č. D.02-02-007 - výkop patek pro tréninkové branky malá kopaná a florbal : 0,5*0,5*0,95*6 | E61: 1.425 | AG61: VV | AH61: 0
C62: výkr. č. D.02-02-005 - výkop patek pro sloupek volejbalu.pro tenis, : 0,5*0,5*0,95*6 | E62: 1.425 | AG62: VV | AH62: 0
C63: výkop jam pro kontrolní PVC šachty : 0,5*0,5*1,0*4 | E63: 1 | AG63: VV | AH63: 0
C64: výkr. č. D.02-02-009 pro DN 100 ve sportovní ploše : 310*0,3*0,4 | E64: 37.2 | AG64: VV | AH64: 0
C65: výkr. č. D.02-02-010 pro DN 150 mimo sportovní plochu : 65*1,0*1,0 | E65: 65 | AG65: VV | AH65: 0
C66: výkr. č. D.02-02-011 : | AG66: VV | AH66: 0
C67: výkop pro zasakovací rýhu : 1,0*12,0*1,8 | E67: 21.6 | AG67: VV | AH67: 0
A68: Díl: | B68: 18 | C68: Povrchové úpravy terénu | G68: =SUMIF(AG69:AG87,"<>NOR",G69:G87) -> 0 | I68: =SUM(I69:I87) -> 0 | K68: =SUM(K69:K87) -> 0 | M68: =SUM(M69:M87) -> 0 | O68: =SUM(O69:O87) -> 9.71 | Q68: =SUM(Q69:Q87) -> 0 | V68: =SUM(V69:V87) -> 10.46 | AG68: DIL
A69: 10 | B69: 162701105R00 | C69: Vodorovné přemístění výkopku z horniny 1 až 4, na vzdálenost přes 9 000 do 10 000 m | D69: m3 | E69: 5.8125 | G69: =ROUND(E69*F69,2) -> 0 | I69: =ROUND(E69*H69,2) -> 0 | K69: =ROUND(E69*J69,2) -> 0 | L69: 21 | M69: =G69*(1+L69/100) -> 0 | N69: 0 | O69: =ROUND(E69*N69,2) -> 0 | P69: 0 | Q69: =ROUND(E69*P69,2) -> 0 | R69: 800-1 | S69: RTS 20/ I | T69: RTS 20/ I | U69: 0.011 | V69: =ROUND(E69*U69,2) -> 0.06 | X69: Práce | AG69: POL1_
C70: po suchu, bez ohledu na druh dopravního prostředku, bez naložení výkopku, avšak se složením bez rozhrnutí, | AG70: SPI | BA70: =C70 -> po suchu, bez ohledu na druh dopravního prostředku, bez naložení výkopku, avšak se složením bez rozhrnutí,
C71: výkr. č. D.02-02-010 - drenáž mimo plochu : 65*0,35*0,15 | E71: 3.4125 | AG71: VV | AH71: 0
C72: výkr. č. D.02-02-011 - zasakovací rýha : 1,0*12,0*0,2 | E72: 2.4 | AG72: VV | AH72: 0
A73: 11 | B73: 167101101R00 | C73: Nakládání, skládání, překládání neulehlého výkopku nakládání výkopku_x000D_ do 100 m3, z horniny 1 až 4 | D73: m3 | E73: 5.8125 | G73: =ROUND(E73*F73,2) -> 0 | I73: =ROUND(E73*H73,2) -> 0 | K73: =ROUND(E73*J73,2) -> 0 | L73: 21 | M73: =G73*(1+L73/100) -> 0 | N73: 0 | O73: =ROUND(E73*N73,2) -> 0 | P73: 0 | Q73: =ROUND(E73*P73,2) -> 0 | R73: 800-1 | S73: RTS 20/ I | T73: RTS 20/ I | U73: 0.652 | V73: =ROUND(E73*U73,2) -> 3.79 | X73: Práce | AG73: POL1_
C74: výkr. č. D.02-02-010 - drenáž mimo plochu : 65*0,35*0,15 | E74: 3.4125 | AG74: VV | AH74: 0
C75: výkr. č. D.02-02-011 - zasakovací rýha : 1,0*12,0*0,2 | E75: 2.4 | AG75: VV | AH75: 0
A76: 12 | B76: 180402111R00 | C76: Založení trávníku parkového výsevem v rovině | D76: m2 | E76: 34.75 | G76: =ROUND(E76*F76,2) -> 0 | I76: =ROUND(E76*H76,2) -> 0 | K76: =ROUND(E76*J76,2) -> 0 | L76: 21 | M76: =G76*(1+L76/100) -> 0 | N76: 0 | O76: =ROUND(E76*N76,2) -> 0 | P76: 0 | Q76: =ROUND(E76*P76,2) -> 0 | S76: RTS 20/ I | T76: RTS 20/ I | U76: 0.06 | V76: =ROUND(E76*U76,2) -> 2.09 | X76: Práce | AG76: POL1_
C77: výkr. č. D.02-02-010 - drenáž mimo plochu : 65*0,35 | E77: 22.75 | AG77: VV | AH77: 0
C78: výkr. č. D.02-02-011 - zasakovací rýha : 1,0*12,0 | E78: 12 | AG78: VV | AH78: 0
A79: 13 | B79: 181301101R00 | C79: Rozprostření a urovnání ornice v rovině v souvislé ploše do 500 m2, tloušťka vrstvy do 100 mm | D79: m2 | E79: 34.75 | G79: =ROUND(E79*F79,2) -> 0 | I79: =ROUND(E79*H79,2) -> 0 | K79: =ROUND(E79*J79,2) -> 0 | L79: 21 | M79: =G79*(1+L79/100) -> 0 | N79: 0 | O79: =ROUND(E79*N79,2) -> 0 | P79: 0 | Q79: =ROUND(E79*P79,2) -> 0 | R79: 800-1 | S79: RTS 20/ I | T79: RTS 20/ I | U79: 0.13 | V79: =ROUND(E79*U79,2) -> 4.52 | X79: Práce | AG79: POL1_
C80: s případným nutným přemístěním hromad nebo dočasných skládek na místo potřeby ze vzdálenosti do 30 m, v rovině nebo ve svahu do 1 : 5, | AG80: SPI | BA80: =C80 -> s případným nutným přemístěním hromad nebo dočasných skládek na místo potřeby ze vzdálenosti do 30 m, v rovině nebo ve svahu do 1 : 5,
C81: výkr. č. D.02-02-010 - drenáž mimo plochu : 65*0,35 | E81: 22.75 | AG81: VV | AH81: 0
C82: výkr. č. D.02-02-011 - zasakovací rýha : 1,0*12,0 | E82: 12 | AG82: VV | AH82: 0
A83: 14 | B83: 00572410R | C83: směs travní parková, pro mírnou zátěž | D83: kg | E83: 1.0425 | G83: =ROUND(E83*F83,2) -> 0 | I83: =ROUND(E83*H83,2) -> 0 | K83: =ROUND(E83*J83,2) -> 0 | L83: 21 | M83: =G83*(1+L83/100) -> 0 | N83: 0.001 | O83: =ROUND(E83*N83,2) -> 0 | P83: 0 | Q83: =ROUND(E83*P83,2) -> 0 | R83: SPCM | S83: RTS 20/ I | T83: RTS 20/ I | U83: 0 | V83: =ROUND(E83*U83,2) -> 0 | X83: Specifikace | AG83: POL3_
C84: 34,75*0,03 | E84: 1.0425 | AG84: VV | AH84: 0
A85: 15 | B85: 10364200R | C85: ornice pro pozemkové úpravy | D85: m3 | E85: 5.8125 | G85: =ROUND(E85*F85,2) -> 0 | I85: =ROUND(E85*H85,2) -> 0 | K85: =ROUND(E85*J85,2) -> 0 | L85: 21 | M85: =G85*(1+L85/100) -> 0 | N85: 1.67 | O85: =ROUND(E85*N85,2) -> 9.71 | P85: 0 | Q85: =ROUND(E85*P85,2) -> 0 | R85: SPCM | S85: RTS 20/ I | T85: RTS 20/ I | U85: 0 | V85: =ROUND(E85*U85,2) -> 0 | X85: Specifikace | AG85: POL3_
C86: výkr. č. D.02-02-010 - drenáž mimo plochu : 65*0,35*0,15 | E86: 3.4125 | AG86: VV | AH86: 0
C87: výkr. č. D.02-02-011 - zasakovací rýha : 1,0*12,0*0,2 | E87: 2.4 | AG87: VV | AH87: 0
A88: Díl: | B88: 2 | C88: Základy a zvláštní zakládání | G88: =SUMIF(AG89:AG122,"<>NOR",G89:G122) -> 0 | I88: =SUM(I89:I122) -> 0 | K88: =SUM(K89:K122) -> 0 | M88: =SUM(M89:M122) -> 0 | O88: =SUM(O89:O122) -> 43 | Q88: =SUM(Q89:Q122) -> 0 | V88: =SUM(V89:V122) -> 49.62 | AG88: DIL
A89: 16 | B89: 271571111R00 | C89: Polštář základu ze štěrkopísku tříděného | D89: m3 | E89: 0.79785 | G89: =ROUND(E89*F89,2) -> 0 | I89: =ROUND(E89*H89,2) -> 0 | K89: =ROUND(E89*J89,2) -> 0 | L89: 21 | M89: =G89*(1+L89/100) -> 0 | N89: 1.9397 | O89: =ROUND(E89*N89,2) -> 1.55 | P89: 0 | Q89: =ROUND(E89*P89,2) -> 0 | S89: RTS 20/ I | T89: RTS 20/ I | U89: 0.965 | V89: =ROUND(E89*U89,2) -> 0.77 | X89: Práce | AG89: POL1_
C90: výkr. č. D.02-02-006 - výkop patek pro streetbal : 0,8*0,8*0,1*4 | E90: 0.256 | AG90: VV | AH90: 0
C91: výkr. č. D.02-02-007 - výkop patek pro tréninkové branky malá kopaná a florbal : 0,5*0,5*0,15*6 | E91: 0.225 | AG91: VV | AH91: 0
C92: (3,14*0,1*0,1*0,15)*6 | E92: 0.02826 | AG92: VV | AH92: 0
C93: výkr. č. D.02-02-005 - výkop patek pro sloupek volejbalu.pro tenis, : 0,5*0,5*0,15*6 | E93: 0.225 | AG93: VV | AH93: 0
C94: (3,14*0,15*0,15*0,15)*6 | E94: 0.06359 | AG94: VV | AH94: 0
A95: 17 | B95: 275313611R00 | C95: Beton základových patek prostý třídy C 16/20 | D95: m3 | E95: 15.84243 | G95: =ROUND(E95*F95,2) -> 0 | I95: =ROUND(E95*H95,2) -> 0 | K95: =ROUND(E95*J95,2) -> 0 | L95: 21 | M95: =G95*(1+L95/100) -> 0 | N95: 2.525 | O95: =ROUND(E95*N95,2) -> 40 | P95: 0 | Q95: =ROUND(E95*P95,2) -> 0 | R95: 801-1 | S95: RTS 20/ I | T95: RTS 20/ I | U95: 0.477 | V95: =ROUND(E95*U95,2) -> 7.56 | X95: Práce | AG95: POL1_
C96: výkr. č. D.02-02-004, patky pro síťové oplocení : 0,4*0,4*1,3*56 | E96: 11.648 | AG96: VV | AH96: 0
C97: výkr. č. D.02-02-006 - patky pro streetbal : 0,8*0,8*1,0*4 | E97: 2.56 | AG97: VV | AH97: 0
C98: výkr. č. D.02-02-007 - patky pro tréninkové branky malá kopaná a florbal : 0,5*0,5*0,65*6 | E98: 0.975 | AG98: VV | AH98: 0
C99: -3,14*0,15*0,15*0,15*6 | E99: -0.06359 | AG99: VV | AH99: 0
C100: -3,14*0,1*0,1*0,5*6 | E100: -0.0942 | AG100: VV | AH100: 0
C101: výkr. č. D.02-02-005 - výkop patek pro sloupek volejbalu.pro tenis, : 0,5*0,5*0,65*6 | E101: 0.975 | AG101: VV | AH101: 0
C102: -3,14*0,15*0,15*0,15*6 | E102: -0.06359 | AG102: VV | AH102: 0
...

Sheet 07 2017-08-01-1 Pol
A1: Položkový soupis prací a dodávek | AG1: #TypZaznamu#
A2: S: | B2: 2017-08-01-1 | C2: Multifunkční sportovní areál, Nádražní ulice, Tovačov | AG2: STA
A3: O: | B3: 07 | C3: Chodníky, zpevněné plochy, venkovní schodiště a opěrné zídky | AC3: STA | AG3: OBJ
A4: R: | B4: 2017-08-01-1 | C4: Multifunkční sportovní areál, Tovačov - Chodníky, zpevněné plochy, venkovní schodiště a opěrné zídky | AG4: ROZ
A6: P.č. | B6: Číslo položky | C6: Název položky | D6: MJ | E6: Množství | F6: Cena / MJ | G6: Celkem | H6: Dodávka | I6: Dodávka celk. | J6: Montáž | K6: Montáž celk. | L6: DPH | M6: Cena s DPH | N6: Hmotnost / MJ | O6: Hmotnost celk.(t) | P6: Dem. hmotnost / MJ | Q6: Dem. hmotnost celk.(t) | R6: Ceník | S6: Cen. soustava / platnost | T6: Cenová úroveň | U6: Nhod / MJ | V6: Nhod celk. | W6: Dodavatel | X6: Typ položky
A8: Díl: | B8: 1 | C8: Zemní práce | G8: =SUMIF(AG9:AG39,"<>NOR",G9:G39) -> 0 | I8: =SUM(I9:I39) -> 0 | K8: =SUM(K9:K39) -> 0 | M8: =SUM(M9:M39) -> 0 | O8: =SUM(O9:O39) -> 3.19 | Q8: =SUM(Q9:Q39) -> 0 | V8: =SUM(V9:V39) -> 2.72 | AG8: DIL
A9: 1 | B9: 122201101R00 | C9: Odkopávky a prokopávky nezapažené v hornině 3_x000D_ do 100 m3 | D9: m3 | E9: 0.936 | G9: =ROUND(E9*F9,2) -> 0 | I9: =ROUND(E9*H9,2) -> 0 | K9: =ROUND(E9*J9,2) -> 0 | L9: 21 | M9: =G9*(1+L9/100) -> 0 | N9: 0 | O9: =ROUND(E9*N9,2) -> 0 | P9: 0 | Q9: =ROUND(E9*P9,2) -> 0 | R9: 800-1 | S9: RTS 20/ I | T9: RTS 20/ I | U9: 0.368 | V9: =ROUND(E9*U9,2) -> 0.34 | X9: Práce | AG9: POL1_
C10: s přehozením výkopku na vzdálenost do 3 m nebo s naložením na dopravní prostředek, | AG10: SPI
C11: 1,3*1,2*0,6 | E11: 0.936 | AG11: VV | AH11: 0
A12: 2 | B12: 132201110R00 | C12: Hloubení rýh šířky do 60 cm do 50 m3, v hornině 3, hloubení strojně | D12: m3 | E12: 0.528 | G12: =ROUND(E12*F12,2) -> 0 | I12: =ROUND(E12*H12,2) -> 0 | K12: =ROUND(E12*J12,2) -> 0 | L12: 21 | M12: =G12*(1+L12/100) -> 0 | N12: 0 | O12: =ROUND(E12*N12,2) -> 0 | P12: 0 | Q12: =ROUND(E12*P12,2) -> 0 | R12: 800-1 | S12: RTS 20/ I | T12: RTS 20/ I | U12: 0.365 | V12: =ROUND(E12*U12,2) -> 0.19 | X12: Práce | AG12: POL1_
C13: zapažených i nezapažených s urovnáním dna do předepsaného profilu a spádu, s přehozením výkopku na přilehlém terénu na vzdálenost do 3 m od podélné osy rýhy nebo s naložením výkopku na dopravní prostředek. | AG13: SPI | BA13: =C13 -> zapažených i nezapažených s urovnáním dna do předepsaného profilu a spádu, s přehozením výkopku na přilehlém terénu na vzdálenost do 3 m od podélné osy rýhy nebo s naložením výkopku na dopravní prostředek.
C14: Položka obsahuje hloubení rýh traktorbagrem, naložení výkopku na dopravní prostředek pro svislé, nebo vodorovné přemístění, popř. přemístění výkopku do 3 m (po povrchu území), případné zajištění rypadel polštáři, udržování pracoviště a ochranu výkopiště proti stékání srážkové vody z okolního terénu i s jejím odvodněním, nebo odvedením, přesekání a odstranění kořenů ve výkopišti, odstranění napadávek, urovnání dna výkopu. | AG14: POP | BA14: =C14 -> Položka obsahuje hloubení rýh traktorbagrem, naložení výkopku na dopravní prostředek pro svislé, nebo vodorovné přemístění, popř. přemístění výkopku do 3 m (po povrchu území), případné zajištění rypadel polštáři, udržování pracoviště a ochranu výkopiště proti stékání srážkové vody z okolního terénu i s jejím odvodněním, nebo odvedením, přesekání a odstranění kořenů ve výkopišti, odstranění napadávek, urovnání dna výkopu.
C15: výkr. č. D.07-02-003 : (1,2*0,4*1,1) | E15: 0.528 | AG15: VV | AH15: 0
A16: 3 | B16: 161101101R00 | C16: Svislé přemístění výkopku z horniny 1 až 4, při hloubce výkopu přes 1 do 2,5 m | D16: m3 | E16: 1.464 | G16: =ROUND(E16*F16,2) -> 0 | I16: =ROUND(E16*H16,2) -> 0 | K16: =ROUND(E16*J16,2) -> 0 | L16: 21 | M16: =G16*(1+L16/100) -> 0 | N16: 0 | O16: =ROUND(E16*N16,2) -> 0 | P16: 0 | Q16: =ROUND(E16*P16,2) -> 0 | R16: 800-1 | S16: RTS 20/ I | T16: RTS 20/ I | U16: 0.345 | V16: =ROUND(E16*U16,2) -> 0.51 | X16: Práce | AG16: POL1_
C17: bez naložení do dopravní nádoby, ale s vyprázdněním dopravní nádoby na hromadu nebo na dopravní prostředek, | AG17: SPI | BA17: =C17 -> bez naložení do dopravní nádoby, ale s vyprázdněním dopravní nádoby na hromadu nebo na dopravní prostředek,
C18: výkr. č. D.07-02-003 : (1,2*0,4*1,1) | E18: 0.528 | AG18: VV | AH18: 0
C19: 1,3*1,2*0,6 | E19: 0.936 | AG19: VV | AH19: 0
A20: 4 | B20: 162701105R00 | C20: Vodorovné přemístění výkopku z horniny 1 až 4, na vzdálenost přes 9 000 do 10 000 m | D20: m3 | E20: 3.3755 | G20: =ROUND(E20*F20,2) -> 0 | I20: =ROUND(E20*H20,2) -> 0 | K20: =ROUND(E20*J20,2) -> 0 | L20: 21 | M20: =G20*(1+L20/100) -> 0 | N20: 0 | O20: =ROUND(E20*N20,2) -> 0 | P20: 0 | Q20: =ROUND(E20*P20,2) -> 0 | R20: 800-1 | S20: RTS 20/ I | T20: RTS 20/ I | U20: 0.011 | V20: =ROUND(E20*U20,2) -> 0.04 | X20: Práce | AG20: POL1_
C21: po suchu, bez ohledu na druh dopravního prostředku, bez naložení výkopku, avšak se složením bez rozhrnutí, | AG21: SPI | BA21: =C21 -> po suchu, bez ohledu na druh dopravního prostředku, bez naložení výkopku, avšak se složením bez rozhrnutí,
C22: výkr. č. D.07-02-003 : (1,2*0,4*1,1) | E22: 0.528 | AG22: VV | AH22: 0
C23: 1,3*1,2*0,6 | E23: 0.936 | AG23: VV | AH23: 0
C24: (1,3*1,3*0,7)/2 | E24: 0.5915 | AG24: VV | AH24: 0
C25: 1,2*1,0*1,1 | E25: 1.32 | AG25: VV | AH25: 0
A26: 5 | B26: 167101101R00 | C26: Nakládání, skládání, překládání neulehlého výkopku nakládání výkopku_x000D_ do 100 m3, z horniny 1 až 4 | D26: m3 | E26: 1.9115 | G26: =ROUND(E26*F26,2) -> 0 | I26: =ROUND(E26*H26,2) -> 0 | K26: =ROUND(E26*J26,2) -> 0 | L26: 21 | M26: =G26*(1+L26/100) -> 0 | N26: 0 | O26: =ROUND(E26*N26,2) -> 0 | P26: 0 | Q26: =ROUND(E26*P26,2) -> 0 | R26: 800-1 | S26: RTS 20/ I | T26: RTS 20/ I | U26: 0.652 | V26: =ROUND(E26*U26,2) -> 1.25 | X26: Práce | AG26: POL1_
C27: (1,3*1,3*0,7)/2 | E27: 0.5915 | AG27: VV | AH27: 0
C28: 1,2*1,0*1,1 | E28: 1.32 | AG28: VV | AH28: 0
A29: 6 | B29: 174101101R00 | C29: Zásyp sypaninou se zhutněním jam, šachet, rýh nebo kolem objektů v těchto vykopávkách | D29: m3 | E29: 1.9115 | G29: =ROUND(E29*F29,2) -> 0 | I29: =ROUND(E29*H29,2) -> 0 | K29: =ROUND(E29*J29,2) -> 0 | L29: 21 | M29: =G29*(1+L29/100) -> 0 | N29: 0 | O29: =ROUND(E29*N29,2) -> 0 | P29: 0 | Q29: =ROUND(E29*P29,2) -> 0 | R29: 800-1 | S29: RTS 20/ I | T29: RTS 20/ I | U29: 0.202 | V29: =ROUND(E29*U29,2) -> 0.39 | X29: Práce | AG29: POL1_
C30: z jakékoliv horniny s uložením výkopku po vrstvách, | AG30: SPI
C31: Hutněný štěrkopískový zásyp po vrstvách 200 mm dle sklonu rostlého terénu | AG31: POP
C32: (1,3*1,3*0,7)/2 | E32: 0.5915 | AG32: VV | AH32: 0
C33: 1,2*1,0*1,1 | E33: 1.32 | AG33: VV | AH33: 0
A34: 7 | B34: 199000002R00 | C34: Poplatky za skládku horniny 1- 4 | D34: m3 | E34: 1.464 | G34: =ROUND(E34*F34,2) -> 0 | I34: =ROUND(E34*H34,2) -> 0 | K34: =ROUND(E34*J34,2) -> 0 | L34: 21 | M34: =G34*(1+L34/100) -> 0 | N34: 0 | O34: =ROUND(E34*N34,2) -> 0 | P34: 0 | Q34: =ROUND(E34*P34,2) -> 0 | R34: 800-1 | S34: RTS 20/ I | T34: RTS 20/ I | U34: 0 | V34: =ROUND(E34*U34,2) -> 0 | X34: Práce | AG34: POL1_
C35: výkr. č. D.07-02-003 : (1,2*0,4*1,1) | E35: 0.528 | AG35: VV | AH35: 0
C36: 1,3*1,2*0,6 | E36: 0.936 | AG36: VV | AH36: 0
A37: 8 | B37: 58337213R | C37: štěrkopísek frakce 0,0 až 32,0 mm; třída MN | D37: m3 | E37: 1.9115 | G37: =ROUND(E37*F37,2) -> 0 | I37: =ROUND(E37*H37,2) -> 0 | K37: =ROUND(E37*J37,2) -> 0 | L37: 21 | M37: =G37*(1+L37/100) -> 0 | N37: 1.67 | O37: =ROUND(E37*N37,2) -> 3.19 | P37: 0 | Q37: =ROUND(E37*P37,2) -> 0 | R37: SPCM | S37: RTS 20/ I | T37: RTS 20/ I | U37: 0 | V37: =ROUND(E37*U37,2) -> 0 | X37: Specifikace | AG37: POL3_
C38: (1,3*1,3*0,7)/2 | E38: 0.5915 | AG38: VV | AH38: 0
C39: 1,2*1,0*1,1 | E39: 1.32 | AG39: VV | AH39: 0
A40: Díl: | B40: 2 | C40: Základy a zvláštní zakládání | G40: =SUMIF(AG41:AG47,"<>NOR",G41:G47) -> 0 | I40: =SUM(I41:I47) -> 0 | K40: =SUM(K41:K47) -> 0 | M40: =SUM(M41:M47) -> 0 | O40: =SUM(O41:O47) -> 6.16 | Q40: =SUM(Q41:Q47) -> 0 | V40: =SUM(V41:V47) -> 3.87 | AG40: DIL
A41: 9 | B41: 215901101RT5 | C41: Zhutnění podloží z rostlé horniny 1 až 4 pod násypy z hornin soudržných do 92% PS a nesoudržných sypkých relativní ulehlosti l(d) do 0,8 vibrační deskou | D41: m2 | E41: 5.4 | G41: =ROUND(E41*F41,2) -> 0 | I41: =ROUND(E41*H41,2) -> 0 | K41: =ROUND(E41*J41,2) -> 0 | L41: 21 | M41: =G41*(1+L41/100) -> 0 | N41: 0 | O41: =ROUND(E41*N41,2) -> 0 | P41: 0 | Q41: =ROUND(E41*P41,2) -> 0 | R41: 800-1 | S41: RTS 20/ I | T41: RTS 20/ I | U41: 0.15 | V41: =ROUND(E41*U41,2) -> 0.81 | X41: Práce | AG41: POL1_
C42: z rostlé horniny tř.1 - 4 pod násypy z hornin soudržných do 92% PS a hornin nesoudržných sypkých relativní ulehlosti I(d) do 0,8 | AG42: SPI | BA42: =C42 -> z rostlé horniny tř.1 - 4 pod násypy z hornin soudržných do 92% PS a hornin nesoudržných sypkých relativní ulehlosti I(d) do 0,8
C43: výkr. č. D.07-02-003 : 1,2*4,5 | E43: 5.4 | AG43: VV | AH43: 0
A44: 10 | B44: 271571111R00 | C44: Polštář základu ze štěrkopísku tříděného | D44: m3 | E44: 3.174 | G44: =ROUND(E44*F44,2) -> 0 | I44: =ROUND(E44*H44,2) -> 0 | K44: =ROUND(E44*J44,2) -> 0 | L44: 21 | M44: =G44*(1+L44/100) -> 0 | N44: 1.9397 | O44: =ROUND(E44*N44,2) -> 6.16 | P44: 0 | Q44: =ROUND(E44*P44,2) -> 0 | S44: RTS 20/ I | T44: RTS 20/ I | U44: 0.965 | V44: =ROUND(E44*U44,2) -> 3.06 | X44: Práce | AG44: POL1_
C45: výkr. č. D.07-02-003 základy schodiště : (1,2*0,4*0,2)*2 | E45: 0.192 | AG45: VV | AH45: 0
C46: deska schodiště : 1,2*3,35*0,1 | E46: 0.402 | AG46: VV | AH46: 0
C47: pod obrubníkem : 172*0,3*0,05 | E47: 2.58 | AG47: VV | AH47: 0
A48: Díl: | B48: 3 | C48: Svislé a kompletní konstrukce | G48: =SUMIF(AG49:AG56,"<>NOR",G49:G56) -> 0 | I48: =SUM(I49:I56) -> 0 | K48: =SUM(K49:K56) -> 0 | M48: =SUM(M49:M56) -> 0 | O48: =SUM(O49:O56) -> 4.06 | Q48: =SUM(Q49:Q56) -> 0 | V48: =SUM(V49:V56) -> 21.51 | AG48: DIL
A49: 11 | B49: 338920022R00 | C49: Osazení betonové palisády, š. do 20 cm, dl. 90 cm | D49: m | E49: 7 | G49: =ROUND(E49*F49,2) -> 0 | I49: =ROUND(E49*H49,2) -> 0 | K49: =ROUND(E49*J49,2) -> 0 | L49: 21 | M49: =G49*(1+L49/100) -> 0 | N49: 0.2625 | O49: =ROUND(E49*N49,2) -> 1.84 | P49: 0 | Q49: =ROUND(E49*P49,2) -> 0 | S49: RTS 20/ I | T49: RTS 20/ I | U49: 3.0726 | V49: =ROUND(E49*U49,2) -> 21.51 | X49: Práce | AG49: POL1_
C50: V položce jsou zakalkulovány náklady na vytýčení a rozměření trasy, dodávku a uložení betonu, osazení betonových prvků a zajištění v požadované poloze. Bez zemních prací. | AG50: POP | BA50: =C50 -> V položce jsou zakalkulovány náklady na vytýčení a rozměření trasy, dodávku a uložení betonu, osazení betonových prvků a zajištění v požadované poloze. Bez zemních prací.
C51: Dodávka prvků se ocení ve specifikaci, ztratné se doporučuje ve výši 1 %. | AG51: POP
C52: výkr.č. D.07-02-001, D.07-02-002 : | AG52: VV | AH52: 0
C53: Technická zpráva str.str. 5 odd. D.3.2 : 7 | E53: 7 | AG53: VV | AH53: 0
A54: 12 | B54: 59228413RT | C54: Betonová palisáda 12x16,5x80 cm, barva přírodní | D54: kus | E54: 44 | G54: =ROUND(E54*F54,2) -> 0 | I54: =ROUND(E54*H54,2) -> 0 | K54: =ROUND(E54*J54,2) -> 0 | L54: 21 | M54: =G54*(1+L54/100) -> 0 | N54: 0.0505 | O54: =ROUND(E54*N54,2) -> 2.22 | P54: 0 | Q54: =ROUND(E54*P54,2) -> 0 | S54: Vlastní | T54: Indiv | U54: 0 | V54: =ROUND(E54*U54,2) -> 0 | X54: Specifikace | AG54: POL3_
C55: výkr.č. D.07-02-001, D.07-02-002 : | AG55: VV | AH55: 0
C56: Technická zpráva str.str. 5 odd. D.3.2 : 44 | E56: 44 | AG56: VV | AH56: 0
A57: Díl: | B57: 43 | C57: Schodiště | G57: =SUMIF(AG58:AG86,"<>NOR",G58:G86) -> 0 | I57: =SUM(I58:I86) -> 0 | K57: =SUM(K58:K86) -> 0 | M57: =SUM(M58:M86) -> 0 | O57: =SUM(O58:O86) -> 6.62 | Q57: =SUM(Q58:Q86) -> 0 | V57: =SUM(V58:V86) -> 64.07 | AG57: DIL
A58: 13 | B58: 430321514R00 | C58: Beton schodišťových konstrukcí (stupňů, schodnic, ramen, podest s nosníky) železový třídy C 30/37 | D58: m3 | E58: 1.668 | G58: =ROUND(E58*F58,2) -> 0 | I58: =ROUND(E58*H58,2) -> 0 | K58: =ROUND(E58*J58,2) -> 0 | L58: 21 | M58: =G58*(1+L58/100) -> 0 | N58: 2.52508 | O58: =ROUND(E58*N58,2) -> 4.21 | P58: 0 | Q58: =ROUND(E58*P58,2) -> 0 | R58: 801-1 | S58: RTS 20/ I | T58: RTS 20/ I | U58: 3.7695 | V58: =ROUND(E58*U58,2) -> 6.29 | X58: Práce | AG58: POL1_
C59: výkr. č. D.07-02-003 : 1,2*0,4*0,9*2 | E59: 0.864 | AG59: VV | AH59: 0
C60: 1,2*3,35*0,2 | E60: 0.804 | AG60: VV | AH60: 0
A61: 14 | B61: 430361821R00 | C61: Výztuž schodišťových konstrukcí (stupňů, schodnic, ramen, podest s nosníky) z betonářské oceli 10505 | D61: t | E61: 0.0781 | G61: =ROUND(E61*F61,2) -> 0 | I61: =ROUND(E61*H61,2) -> 0 | K61: =ROUND(E61*J61,2) -> 0 | L61: 21 | M61: =G61*(1+L61/100) -> 0 | N61: 1.02092 | O61: =ROUND(E61*N61,2) -> 0.08 | P61: 0 | Q61: =ROUND(E61*P61,2) -> 0 | R61: 801-1 | S61: RTS 20/ I | T61: RTS 20/ I | U61: 54.168 | V61: =ROUND(E61*U61,2) -> 4.23 | X61: Práce | AG61: POL1_
C62: výkr. č. D.07-02-003 : 0,071*1,1 | E62: 0.0781 | AG62: VV | AH62: 0
A63: 15 | B63: 434121415R00 | C63: Osazení schodišťových stupňů železobetonových na schodnice broušených nebo leštěných | D63: m | E63: 14.4 | G63: =ROUND(E63*F63,2) -> 0 | I63: =ROUND(E63*H63,2) -> 0 | K63: =ROUND(E63*J63,2) -> 0 | L63: 21 | M63: =G63*(1+L63/100) -> 0 | N63: 0.03462 | O63: =ROUND(E63*N63,2) -> 0.5 | P63: 0 | Q63: =ROUND(E63*P63,2) -> 0 | R63: 801-1 | S63: RTS 20/ I | T63: RTS 20/ I | U63: 1.217 | V63: =ROUND(E63*U63,2) -> 17.52 | X63: Práce | AG63: POL1_
C64: s vyspárováním styčných spár, s provizorním dřevěným zábradlím a dočasným zakrytím stupnic prkny | AG64: SPI
C65: výkr. č. D.07-02-003 : 1,2*12 | E65: 14.4 | AG65: VV | AH65: 0
A66: 16 | B66: 434311116R00 | C66: Stupně dusané z betonu třídy C 25/30 | D66: m | E66: 0.324 | G66: =ROUND(E66*F66,2) -> 0 | I66: =ROUND(E66*H66,2) -> 0 | K66: =ROUND(E66*J66,2) -> 0 | L66: 21 | M66: =G66*(1+L66/100) -> 0 | N66: 0.11369 | O66: =ROUND(E66*N66,2) -> 0.04 | P66: 0 | Q66: =ROUND(E66*P66,2) -> 0 | R66: 801-1 | S66: RTS 20/ I | T66: RTS 20/ I | U66: 0.5685 | V66: =ROUND(E66*U66,2) -> 0.18 | X66: Práce | AG66: POL1_
C67: na terén nebo na desku z betonu prostého nebo prokládaného kamenem, bez potěru, se zahlazením povrchu, | AG67: SPI | BA67: =C67 -> na terén nebo na desku z betonu prostého nebo prokládaného kamenem, bez potěru, se zahlazením povrchu,
C68: Položka je určena pro stupně dusané z betonu prostého nebo prokládaného kamenem, bez potěru, se zahlazením povrchu. Bednění se rozpočtuje samostatně. | AG68: POP | BA68: =C68 -> Položka je určena pro stupně dusané z betonu prostého nebo prokládaného kamenem, bez potěru, se zahlazením povrchu. Bednění se rozpočtuje samostatně.
C69: výkr. č. D.07-02-003 : ((1,2*0,3*0,15)/2)*12 | E69: 0.324 | AG69: VV | AH69: 0
A70: 17 | B70: 434351141R00 | C70: Bednění stupňů betonovaných na podstupňové desce nebo na terénu přímočarých zřízení | D70: m2 | E70: 6.48 | G70: =ROUND(E70*F70,2) -> 0 | I70: =ROUND(E70*H70,2) -> 0 | K70: =ROUND(E70*J70,2) -> 0 | L70: 21 | M70: =G70*(1+L70/100) -> 0 | N70: 0.01693 | O70: =ROUND(E70*N70,2) -> 0.11 | P70: 0 | Q70: =ROUND(E70*P70,2) -> 0 | R70: 801-1 | S70: RTS 20/ I | T70: RTS 20/ I | U70: 1.5396 | V70: =ROUND(E70*U70,2) -> 9.98 | X70: Práce | AG70: POL1_
C71: výkr. č. D.07-02-003 : (1,2*(0,3+0,15))*12 | E71: 6.48 | AG71: VV | AH71: 0
A72: 18 | B72: 434351142R00 | C72: Bednění stupňů betonovaných na podstupňové desce nebo na terénu přímočarých odstranění | D72: m2 | E72: 6.48 | G72: =ROUND(E72*F72,2) -> 0 | I72: =ROUND(E72*H72,2) -> 0 | K72: =ROUND(E72*J72,2) -> 0 | L72: 21 | M72: =G72*(1+L72/100) -> 0 | N72: 0 | O72: =ROUND(E72*N72,2) -> 0 | P72: 0 | Q72: =ROUND(E72*P72,2) -> 0 | R72: 801-1 | S72: RTS 20/ I | T72: RTS 20/ I | U72: 0.26 | V72: =ROUND(E72*U72,2) -> 1.68 | X72: Práce | AG72: POL1_
C73: výkr. č. D.07-02-003 : (1,2*(0,3+0,15))*12 | E73: 6.48 | AG73: VV | AH73: 0
A74: 19 | B74: 431351121T00 | C74: Bednění schodišťových konstrukcí přímočarých - zřízení, Vč. bednění základových pasu pod schodištěm | D74: m2 | E74: 9.168 | G74: =ROUND(E74*F74,2) -> 0 | I74: =ROUND(E74*H74,2) -> 0 | K74: =ROUND(E74*J74,2) -> 0 | L74: 21 | M74: =G74*(1+L74/100) -> 0 | N74: 0.04597 | O74: =ROUND(E74*N74,2) -> 0.42 | P74: 0 | Q74: =ROUND(E74*P74,2) -> 0 | S74: Vlastní | T74: Indiv | U74: 2.3 | V74: =ROUND(E74*U74,2) -> 21.09 | X74: Práce | AG74: POL1_
C75: Položka je určena pro podesty a podstupňové desky. | AG75: POP
C76: Vč. bednění základových pasu pod schodištěm | AG76: POP
C77: V položce jsou zakalkulovány i náklady na pomocné lešení o výšce do 1900 mm a pro zatížení do 1,5 kPa. | AG77: POP | BA77: =C77 -> V položce jsou zakalkulovány i náklady na pomocné lešení o výšce do 1900 mm a pro zatížení do 1,5 kPa.
C78: výkr. č. D.07-02-003 : (1,2+1,2+0,45+0,45)*0,9 | E78: 2.97 | AG78: VV | AH78: 0
C79: (1,2+1,2+0,45+0,45)*0,3 | E79: 0.99 | AG79: VV | AH79: 0
C80: 4,2*0,62*2 | E80: 5.208 | AG80: VV | AH80: 0
A81: 20 | B81: 431351122T00 | C81: Bednění schodišťových konstrukcí přímočarých - odstranění | D81: m2 | E81: 9.168 | G81: =ROUND(E81*F81,2) -> 0 | I81: =ROUND(E81*H81,2) -> 0 | K81: =ROUND(E81*J81,2) -> 0 | L81: 21 | M81: =G81*(1+L81/100) -> 0 | N81: 0 | O81: =ROUND(E81*N81,2) -> 0 | P81: 0 | Q81: =ROUND(E81*P81,2) -> 0 | S81: Vlastní | T81: Indiv | U81: 0.338 | V81: =ROUND(E81*U81,2) -> 3.1 | X81: Práce | AG81: POL1_
C82: výkr. č. D.07-02-003 : (1,2+1,2+0,45+0,45)*0,9 | E82: 2.97 | AG82: VV | AH82: 0
C83: (1,2+1,2+0,45+0,45)*0,3 | E83: 0.99 | AG83: VV | AH83: 0
C84: 4,2*0,62*2 | E84: 5.208 | AG84: VV | AH84: 0
A85: 21 | B85: 593723050RT | C85: Deska schodišťová prefabrikovaná 150 x 350 x 1200 mm, povrch tryskaný protiskluzový | D85: kus | E85: 12 | G85: =ROUND(E85*F85,2) -> 0 | I85: =ROUND(E85*H85,2) -> 0 | K85: =ROUND(E85*J85,2) -> 0 | L85: 21 | M85: =G85*(1+L85/100) -> 0 | N85: 0.105 | O85: =ROUND(E85*N85,2) -> 1.26 | P85: 0 | Q85: =ROUND(E85*P85,2) -> 0 | S85: Vlastní | T85: Indiv | U85: 0 | V85: =ROUND(E85*U85,2) -> 0 | X85: Specifikace | AG85: POL3_
C86: výkr. č. D.07-02-003 : 12 | E86: 12 | AG86: VV | AH86: 0
A87: Díl: | B87: 5 | C87: Komunikace | G87: =SUMIF(AG88:AG135,"<>NOR",G88:G135) -> 0 | I87: =SUM(I88:I135) -> 0 | K87: =SUM(K88:K135) -> 0 | M87: =SUM(M88:M135) -> 0 | O87: =SUM(O88:O135) -> 173.58 | Q87: =SUM(Q88:Q135) -> 0 | V87: =SUM(V88:V135) -> 207.47 | AG87: DIL
A88: 22 | B88: 564851111R00 | C88: Podklad ze štěrkodrti s rozprostřením a zhutněním tloušťka po zhutnění 150 mm | D88: m2 | E88: 330 | G88: =ROUND(E88*F88,2) -> 0 | I88: =ROUND(E88*H88,2) -> 0 | K88: =ROUND(E88*J88,2) -> 0 | L88: 21 | M88: =G88*(1+L88/100) -> 0 | N88: 0.33075 | O88: =ROUND(E88*N88,2) -> 109.15 | P88: 0 | Q88: =ROUND(E88*P88,2) -> 0 | R88: 822-1 | S88: RTS 20/ I | T88: RTS 20/ I | U88: 0.026 | V88: =ROUND(E88*U88,2) -> 8.58 | X88: Práce | AG88: POL1_
C89: fr. 0 - 32 mm | AG89: POP
C90: výkr.č. D.07-02-001, D.07-02-002 : | AG90: VV | AH90: 0
C91: Technická zpráva str.str. 2 odd. D.3.1 : 320+6+4 | E91: 330 | AG91: VV | AH91: 0
A92: 23 | B92: 596215020R00 | C92: Kladení zámkové dlažby do drtě tloušťka dlažby 60 mm, tloušťka lože 30 mm | D92: m2 | E92: 326 | G92: =ROUND(E92*F92,2) -> 0 | I92: =ROUND(E92*H92,2) -> 0 | K92: =ROUND(E92*J92,2) -> 0 | L92: 21 | M92: =G92*(1+L92/100) -> 0 | N92: 0.05545 | O92: =ROUND(E92*N92,2) -> 18.08 | P92: 0 | Q92: =ROUND(E92*P92,2) -> 0 | R92: 822-1 | S92: RTS 20/ I | T92: RTS 20/ I | U92: 0.442 | V92: =ROUND(E92*U92,2) -> 144.09 | X92: Práce | AG92: POL1_
C93: s provedením lože z kameniva drceného, s vyplněním spár, s dvojitým hutněním a se smetením přebytečného materiálu na krajnici. S dodáním hmot pro lože a výplň spár. | AG93: SPI | BA93: =C93 -> s provedením lože z kameniva drceného, s vyplněním spár, s dvojitým hutněním a se smetením přebytečného materiálu na krajnici. S dodáním hmot pro lože a výplň spár.
C94: Od CÚ 2015/ II. není v jednotkové ceně započteno řezání dlaždic!!! Rozpočtuje se samostatnou položkou 596 29-1111.R00 Řezání zámkové dlažby tl. 60 mm. | AG94: POP | BA94: =C94 -> Od CÚ 2015/ II. není v jednotkové ceně započteno řezání dlaždic!!! Rozpočtuje se samostatnou položkou 596 29-1111.R00 Řezání zámkové dlažby tl. 60 mm.
C95: V položce jsou zakalkulovány i náklady na dodání hmot pro lože a na dodání materiálu na výplň spár. V položce nejsou zakalkulovány náklady na dodání zámkové dlažby, která se oceňuje ve specifikaci, ztratné se doporučuje ve výši 1 %. | AG95: POP | BA95: =C95 -> V položce jsou zakalkulovány i náklady na dodání hmot pro lože a na dodání materiálu na výplň spár. V položce nejsou zakalkulovány náklady na dodání zámkové dlažby, která se oceňuje ve specifikaci, ztratné se doporučuje ve výši 1 %.
C96: výkr.č. D.07-02-001, D.07-02-002 : | AG96: VV | AH96: 0
C97: Technická zpráva str.str. 2 odd. D.3.1 : 320+6 | E97: 326 | AG97: VV | AH97: 0
A98: 24 | B98: 596291111R00 | C98: Řezání zámkové dlažby tloušťky 60 mm | D98: m | E98: 114.6 | G98: =ROUND(E98*F98,2) -> 0 | I98: =ROUND(E98*H98,2) -> 0 | K98: =ROUND(E98*J98,2) -> 0 | L98: 21 | M98: =G98*(1+L98/100) -> 0 | N98: 0.00033 | O98: =ROUND(E98*N98,2) -> 0.04 | P98: 0 | Q98: =ROUND(E98*P98,2) -> 0 | R98: 822-1 | S98: RTS 20/ I | T98: RTS 20/ I | U98: 0.41 | V98: =ROUND(E98*U98,2) -> 46.99 | X98: Práce | AG98: POL1_
C99: 60+49,1+3,5+2,0 | E99: 114.6 | AG99: VV | AH99: 0
A100: 25 | B100: 596811111R00 | C100: Kladení dlažby z betonových nebo kameninových dlaždic do lože z kameniva těženého tloušťky do 30 mm | D100: m2 | E100: 4 | G100: =ROUND(E100*F100,2) -> 0 | I100: =ROUND(E100*H100,2) -> 0 | K100: =ROUND(E100*J100,2) -> 0 | L100: 21 | M100: =G100*(1+L100/100) -> 0 | N100: 0.072 | O100: =ROUND(E100*N100,2) -> 0.29 | P100: 0 | Q100: =ROUND(E100*P100,2) -> 0 | R100: 822-1 | S100: RTS 20/ I | T100: RTS 20/ I | U100: 0.375 | V100: =ROUND(E100*U100,2) -> 1.5 | X100: Práce | AG100: POL1_
C101: komunikací pro pěší do velikosti dlaždic 0,25 m2 s provedením lože do tl. 30 mm, s vyplněním spár a se smetením přebytečného materiálu na vzdálenost do 3 m | AG101: SPI | BA101: =C101 -> komunikací pro pěší do velikosti dlaždic 0,25 m2 s provedením lože do tl. 30 mm, s vyplněním spár a se smetením přebytečného materiálu na vzdálenost do 3 m
C102: V položce jsou zakalkulovány i náklady na dodání hmot pro lože a na dodání téhož materiálu pro výplň spár. V položce nejsou zakalkulovány náklady na dodání dlaždic, které se oceňují ve specifikaci, ztratné se doporučuje ve výši 1%. Část lože přesahující tloušťku 3 cm se oceňuje položkami souboru 451 ..-9 Příplatek za každých dalčích 10 mm tloušťky podkladu nebo lože. | AG102: POP | BA102: =C102 -> V položce jsou zakalkulovány i náklady na dodání hmot pro lože a na dodání téhož materiálu pro výplň spár. V položce nejsou zakalkulovány náklady na dodání dlaždic, které se oceňují ve specifikaci, ztratné se doporučuje ve výši 1%. Část lože přesahující tloušťku 3 cm se oceňuje položkami souboru 451 ..-9 Příplatek za každých dalčích 10 mm tloušťky podkladu nebo lože.
...

Sheet 08 2017-08-01-1 Pol
A1: Položkový soupis prací a dodávek | AG1: #TypZaznamu#
A2: S: | B2: 2017-08-01-1 | C2: Multifunkční sportovní areál, Nádražní ulice, Tovačov | AG2: STA
A3: O: | B3: 08 | C3: Oplocení areálu | AC3: STA | AG3: OBJ
A4: R: | B4: 2017-08-01-1 | C4: Multifunkční sportovní areál, Tovačov - Oplocení areálu | AG4: ROZ
A6: P.č. | B6: Číslo položky | C6: Název položky | D6: MJ | E6: Množství | F6: Cena / MJ | G6: Celkem | H6: Dodávka | I6: Dodávka celk. | J6: Montáž | K6: Montáž celk. | L6: DPH | M6: Cena s DPH | N6: Hmotnost / MJ | O6: Hmotnost celk.(t) | P6: Dem. hmotnost / MJ | Q6: Dem. hmotnost celk.(t) | R6: Ceník | S6: Cen. soustava / platnost | T6: Cenová úroveň | U6: Nhod / MJ | V6: Nhod celk. | W6: Dodavatel | X6: Typ položky
A8: Díl: | B8: 1 | C8: Zemní práce | G8: =SUMIF(AG9:AG52,"<>NOR",G9:G52) -> 0 | I8: =SUM(I9:I52) -> 0 | K8: =SUM(K9:K52) -> 0 | M8: =SUM(M9:M52) -> 0 | O8: =SUM(O9:O52) -> 0 | Q8: =SUM(Q9:Q52) -> 0 | V8: =SUM(V9:V52) -> 32.76 | AG8: DIL
A9: 1 | B9: 139601102R00 | C9: Ruční výkop jam, rýh a šachet v hornině 3 | D9: m3 | E9: 2.025 | G9: =ROUND(E9*F9,2) -> 0 | I9: =ROUND(E9*H9,2) -> 0 | K9: =ROUND(E9*J9,2) -> 0 | L9: 21 | M9: =G9*(1+L9/100) -> 0 | N9: 0 | O9: =ROUND(E9*N9,2) -> 0 | P9: 0 | Q9: =ROUND(E9*P9,2) -> 0 | R9: 800-1 | S9: RTS 20/ I | T9: RTS 20/ I | U9: 3.533 | V9: =ROUND(E9*U9,2) -> 7.15 | X9: Práce | AG9: POL1_
C10: s přehozením na vzdálenost do 5 m nebo s naložením na ruční dopravní prostředek | AG10: SPI
C11: výkr. č. D.08-02-001 : | AG11: VV | AH11: 0
C12: pro sloupky dvoukřídlé brány : 0,5*0,5*0,9*2 | E12: 0.45 | AG12: VV | AH12: 0
C13: pro posuvnou bránu : 0,5*0,5*1,1 | E13: 0.275 | AG13: VV | AH13: 0
C14: 0,5*2,0*1,3 | E14: 1.3 | AG14: VV | AH14: 0
A15: 2 | B15: 162701105R00 | C15: Vodorovné přemístění výkopku z horniny 1 až 4, na vzdálenost přes 9 000 do 10 000 m | D15: m3 | E15: 5.4162 | G15: =ROUND(E15*F15,2) -> 0 | I15: =ROUND(E15*H15,2) -> 0 | K15: =ROUND(E15*J15,2) -> 0 | L15: 21 | M15: =G15*(1+L15/100) -> 0 | N15: 0 | O15: =ROUND(E15*N15,2) -> 0 | P15: 0 | Q15: =ROUND(E15*P15,2) -> 0 | R15: 800-1 | S15: RTS 20/ I | T15: RTS 20/ I | U15: 0.011 | V15: =ROUND(E15*U15,2) -> 0.06 | X15: Práce | AG15: POL1_
C16: po suchu, bez ohledu na druh dopravního prostředku, bez naložení výkopku, avšak se složením bez rozhrnutí, | AG16: SPI | BA16: =C16 -> po suchu, bez ohledu na druh dopravního prostředku, bez naložení výkopku, avšak se složením bez rozhrnutí,
C17: výkr. č. D.08-02-001 : | AG17: VV | AH17: 0
C18: pro sloupky dvoukřídlé brány : 0,5*0,5*0,9*2 | E18: 0.45 | AG18: VV | AH18: 0
C19: pro posuvnou bránu : 0,5*0,5*1,1 | E19: 0.275 | AG19: VV | AH19: 0
C20: 0,5*2,0*1,3 | E20: 1.3 | AG20: VV | AH20: 0
C21: výkr. č. D.08-02-001 : | AG21: VV | AH21: 0
C22: pro sloupky : (3,14*0,15*0,15*0,8)*40 | E22: 2.2608 | AG22: VV | AH22: 0
C23: pro vzpěry : (3,14*0,15*0,15*0,8)*20 | E23: 1.1304 | AG23: VV | AH23: 0
A24: 3 | B24: 167101201R00 | C24: Nakládání, skládání, překládání neulehlého výkopku nakládání, skládání, překládání neulehléno výkopku nebo zeminy - ručně_x000D_ z horniny 1 až 4 | D24: m3 | E24: 5.4162 | G24: =ROUND(E24*F24,2) -> 0 | I24: =ROUND(E24*H24,2) -> 0 | K24: =ROUND(E24*J24,2) -> 0 | L24: 21 | M24: =G24*(1+L24/100) -> 0 | N24: 0 | O24: =ROUND(E24*N24,2) -> 0 | P24: 0 | Q24: =ROUND(E24*P24,2) -> 0 | R24: 800-1 | S24: RTS 20/ I | T24: RTS 20/ I | U24: 1.938 | V24: =ROUND(E24*U24,2) -> 10.5 | X24: Práce | AG24: POL1_
C25: výkr. č. D.08-02-001 : | AG25: VV | AH25: 0
C26: pro sloupky dvoukřídlé brány : 0,5*0,5*0,9*2 | E26: 0.45 | AG26: VV | AH26: 0
C27: pro posuvnou bránu : 0,5*0,5*1,1 | E27: 0.275 | AG27: VV | AH27: 0
C28: 0,5*2,0*1,3 | E28: 1.3 | AG28: VV | AH28: 0
C29: výkr. č. D.08-02-001 : | AG29: VV | AH29: 0
C30: pro sloupky : (3,14*0,15*0,15*0,8)*40 | E30: 2.2608 | AG30: VV | AH30: 0
C31: pro vzpěry : (3,14*0,15*0,15*0,8)*20 | E31: 1.1304 | AG31: VV | AH31: 0
A32: 4 | B32: 171201201R00 | C32: Uložení sypaniny na dočasnou skládku tak, že na 1 m2 plochy připadá přes 2 m3 výkopku nebo ornice | D32: m3 | E32: 5.4162 | G32: =ROUND(E32*F32,2) -> 0 | I32: =ROUND(E32*H32,2) -> 0 | K32: =ROUND(E32*J32,2) -> 0 | L32: 21 | M32: =G32*(1+L32/100) -> 0 | N32: 0 | O32: =ROUND(E32*N32,2) -> 0 | P32: 0 | Q32: =ROUND(E32*P32,2) -> 0 | R32: 800-1 | S32: RTS 20/ I | T32: RTS 20/ I | U32: 0.009 | V32: =ROUND(E32*U32,2) -> 0.05 | X32: Práce | AG32: POL1_
C33: výkr. č. D.08-02-001 : | AG33: VV | AH33: 0
C34: pro sloupky dvoukřídlé brány : 0,5*0,5*0,9*2 | E34: 0.45 | AG34: VV | AH34: 0
C35: pro posuvnou bránu : 0,5*0,5*1,1 | E35: 0.275 | AG35: VV | AH35: 0
C36: 0,5*2,0*1,3 | E36: 1.3 | AG36: VV | AH36: 0
C37: výkr. č. D.08-02-001 : | AG37: VV | AH37: 0
C38: pro sloupky : (3,14*0,15*0,15*0,8)*40 | E38: 2.2608 | AG38: VV | AH38: 0
C39: pro vzpěry : (3,14*0,15*0,15*0,8)*20 | E39: 1.1304 | AG39: VV | AH39: 0
A40: 5 | B40: 199000002R00 | C40: Poplatky za skládku horniny 1- 4 | D40: m3 | E40: 5.4162 | G40: =ROUND(E40*F40,2) -> 0 | I40: =ROUND(E40*H40,2) -> 0 | K40: =ROUND(E40*J40,2) -> 0 | L40: 21 | M40: =G40*(1+L40/100) -> 0 | N40: 0 | O40: =ROUND(E40*N40,2) -> 0 | P40: 0 | Q40: =ROUND(E40*P40,2) -> 0 | R40: 800-1 | S40: RTS 20/ I | T40: RTS 20/ I | U40: 0 | V40: =ROUND(E40*U40,2) -> 0 | X40: Práce | AG40: POL1_
C41: výkr. č. D.08-02-001 : | AG41: VV | AH41: 0
C42: pro sloupky dvoukřídlé brány : 0,5*0,5*0,9*2 | E42: 0.45 | AG42: VV | AH42: 0
C43: pro posuvnou bránu : 0,5*0,5*1,1 | E43: 0.275 | AG43: VV | AH43: 0
C44: 0,5*2,0*1,3 | E44: 1.3 | AG44: VV | AH44: 0
C45: výkr. č. D.08-02-001 : | AG45: VV | AH45: 0
C46: pro sloupky : (3,14*0,15*0,15*0,8)*40 | E46: 2.2608 | AG46: VV | AH46: 0
C47: pro vzpěry : (3,14*0,15*0,15*0,8)*20 | E47: 1.1304 | AG47: VV | AH47: 0
A48: 6 | B48: 275171001T00 | C48: Vrtání - ruční vrtání v hor. 3 , prům D=300 mm hl. 800 mm pro beton patky sloupků, oplocení | D48: kus | E48: 60 | G48: =ROUND(E48*F48,2) -> 0 | I48: =ROUND(E48*H48,2) -> 0 | K48: =ROUND(E48*J48,2) -> 0 | L48: 21 | M48: =G48*(1+L48/100) -> 0 | N48: 0 | O48: =ROUND(E48*N48,2) -> 0 | P48: 0 | Q48: =ROUND(E48*P48,2) -> 0 | S48: Vlastní | T48: Indiv | U48: 0.25 | V48: =ROUND(E48*U48,2) -> 15 | X48: Práce | AG48: POL1_
C49: Vyvrtání kruhového otvoru (jámy) používané při budování základů např. pro ploty, zábradlí, dětská hřiště, osvětlení, přístřešky, zahradní stavby, atd. | AG49: POP | BA49: =C49 -> Vyvrtání kruhového otvoru (jámy) používané při budování základů např. pro ploty, zábradlí, dětská hřiště, osvětlení, přístřešky, zahradní stavby, atd.
C50: výkr. č. D.08-02-001 : | AG50: VV | AH50: 0
C51: pro sloupky : 40 | E51: 40 | AG51: VV | AH51: 0
C52: pro vzpěry : 20 | E52: 20 | AG52: VV | AH52: 0
A53: Díl: | B53: 2 | C53: Základy a zvláštní zakládání | G53: =SUMIF(AG54:AG77,"<>NOR",G54:G77) -> 0 | I53: =SUM(I54:I77) -> 0 | K53: =SUM(K54:K77) -> 0 | M53: =SUM(M54:M77) -> 0 | O53: =SUM(O54:O77) -> 6.16 | Q53: =SUM(Q54:Q77) -> 0 | V53: =SUM(V54:V77) -> 3.44 | AG53: DIL
A54: 7 | B54: 271571111R00 | C54: Polštář základu ze štěrkopísku tříděného | D54: m3 | E54: 0.5989 | G54: =ROUND(E54*F54,2) -> 0 | I54: =ROUND(E54*H54,2) -> 0 | K54: =ROUND(E54*J54,2) -> 0 | L54: 21 | M54: =G54*(1+L54/100) -> 0 | N54: 1.9397 | O54: =ROUND(E54*N54,2) -> 1.16 | P54: 0 | Q54: =ROUND(E54*P54,2) -> 0 | S54: RTS 20/ I | T54: RTS 20/ I | U54: 0.965 | V54: =ROUND(E54*U54,2) -> 0.58 | X54: Práce | AG54: POL1_
C55: Tabulka zámeč. výrobků : | AG55: VV | AH55: 0
C56: Z1 : (3,14*0,15*0,15*0,1)*60 | E56: 0.4239 | AG56: VV | AH56: 0
C57: Z2 : 0,5*0,5*0,1*2 | E57: 0.05 | AG57: VV | AH57: 0
C58: Z3 : 0,5*0,5*0,1 | E58: 0.025 | AG58: VV | AH58: 0
C59: 0,5*2,0*0,1 | E59: 0.1 | AG59: VV | AH59: 0
A60: 8 | B60: 275313611R00 | C60: Beton základových patek prostý třídy C 16/20 | D60: m3 | E60: 1.95 | G60: =ROUND(E60*F60,2) -> 0 | I60: =ROUND(E60*H60,2) -> 0 | K60: =ROUND(E60*J60,2) -> 0 | L60: 21 | M60: =G60*(1+L60/100) -> 0 | N60: 2.525 | O60: =ROUND(E60*N60,2) -> 4.92 | P60: 0 | Q60: =ROUND(E60*P60,2) -> 0 | R60: 801-1 | S60: RTS 20/ I | T60: RTS 20/ I | U60: 0.477 | V60: =ROUND(E60*U60,2) -> 0.93 | X60: Práce | AG60: POL1_
C61: Položka obsahuje náklady na dodávku a uložení betonu do připravené konstrukce. Bednění se oceňuje samostatně. | AG61: POP | BA61: =C61 -> Položka obsahuje náklady na dodávku a uložení betonu do připravené konstrukce. Bednění se oceňuje samostatně.
C62: Tabulka zámeč. výrobků : | AG62: VV | AH62: 0
C63: Z2 : 0,5*0,5*1,0*2 | E63: 0.5 | AG63: VV | AH63: 0
C64: Z3 : 0,5*0,5*1,0 | E64: 0.25 | AG64: VV | AH64: 0
C65: 0,5*2,0*1,2 | E65: 1.2 | AG65: VV | AH65: 0
A66: 9 | B66: 275351215RT1 | C66: Bednění stěn základových patek zřízení | D66: m2 | E66: 2.28 | G66: =ROUND(E66*F66,2) -> 0 | I66: =ROUND(E66*H66,2) -> 0 | K66: =ROUND(E66*J66,2) -> 0 | L66: 21 | M66: =G66*(1+L66/100) -> 0 | N66: 0.0364 | O66: =ROUND(E66*N66,2) -> 0.08 | P66: 0 | Q66: =ROUND(E66*P66,2) -> 0 | R66: 801-1 | S66: RTS 20/ I | T66: RTS 20/ I | U66: 0.527 | V66: =ROUND(E66*U66,2) -> 1.2 | X66: Práce | AG66: POL1_
C67: bednění svislé nebo šikmé (odkloněné), půdorysně přímé nebo zalomené, stěn základových patek ve volných nebo zapažených jámách, rýhách, šachtách, včetně případných vzpěr, | AG67: SPI | BA67: =C67 -> bednění svislé nebo šikmé (odkloněné), půdorysně přímé nebo zalomené, stěn základových patek ve volných nebo zapažených jámách, rýhách, šachtách, včetně případných vzpěr,
C68: Tabulka zámeč. výrobků : | AG68: VV | AH68: 0
C69: Z2 : (0,5+0,5+0,55+0,55)*0,2*2 | E69: 0.84 | AG69: VV | AH69: 0
C70: Z3 : (0,5+0,5+0,55+0,55)*0,2 | E70: 0.42 | AG70: VV | AH70: 0
C71: (0,55+0,55+2,0+2,0)*0,2 | E71: 1.02 | AG71: VV | AH71: 0
A72: 10 | B72: 275351216R00 | C72: Bednění stěn základových patek odstranění | D72: m2 | E72: 2.28 | G72: =ROUND(E72*F72,2) -> 0 | I72: =ROUND(E72*H72,2) -> 0 | K72: =ROUND(E72*J72,2) -> 0 | L72: 21 | M72: =G72*(1+L72/100) -> 0 | N72: 0 | O72: =ROUND(E72*N72,2) -> 0 | P72: 0 | Q72: =ROUND(E72*P72,2) -> 0 | R72: 801-1 | S72: RTS 20/ I | T72: RTS 20/ I | U72: 0.32 | V72: =ROUND(E72*U72,2) -> 0.73 | X72: Práce | AG72: POL1_
C73: bednění svislé nebo šikmé (odkloněné), půdorysně přímé nebo zalomené, stěn základových patek ve volných nebo zapažených jámách, rýhách, šachtách, včetně případných vzpěr, | AG73: SPI | BA73: =C73 -> bednění svislé nebo šikmé (odkloněné), půdorysně přímé nebo zalomené, stěn základových patek ve volných nebo zapažených jámách, rýhách, šachtách, včetně případných vzpěr,
C74: Tabulka zámeč. výrobků : | AG74: VV | AH74: 0
C75: Z2 : (0,5+0,5+0,55+0,55)*0,2*2 | E75: 0.84 | AG75: VV | AH75: 0
C76: Z3 : (0,5+0,5+0,55+0,55)*0,2 | E76: 0.42 | AG76: VV | AH76: 0
C77: (0,55+0,55+2,0+2,0)*0,2 | E77: 1.02 | AG77: VV | AH77: 0
A78: Díl: | B78: 3 | C78: Svislé a kompletní konstrukce | G78: =SUMIF(AG79:AG84,"<>NOR",G79:G84) -> 0 | I78: =SUM(I79:I84) -> 0 | K78: =SUM(K79:K84) -> 0 | M78: =SUM(M79:M84) -> 0 | O78: =SUM(O79:O84) -> 7.5 | Q78: =SUM(Q79:Q84) -> 0 | V78: =SUM(V79:V84) -> 31.2 | AG78: DIL
A79: 11 | B79: 338171122R00 | C79: Osazování sloupků a vzpěr plotových ocelových výšky do 2,60 m, se zabetonováním do 0,5 m3 do předem připravených jamek betonem C 25/30 | D79: kus | E79: 60 | G79: =ROUND(E79*F79,2) -> 0 | I79: =ROUND(E79*H79,2) -> 0 | K79: =ROUND(E79*J79,2) -> 0 | L79: 21 | M79: =G79*(1+L79/100) -> 0 | N79: 0.125 | O79: =ROUND(E79*N79,2) -> 7.5 | P79: 0 | Q79: =ROUND(E79*P79,2) -> 0 | R79: 801-5 | S79: RTS 20/ I | T79: RTS 20/ I | U79: 0.52 | V79: =ROUND(E79*U79,2) -> 31.2 | X79: Práce | AG79: POL1_
C80: trubkových nebo profilovaných | AG80: SPI
C81: V položce nejsou zakalkulovány náklady na sloupky a vzpěry. Jejich dodání se oceňuje ve specifikaci. Ztratné se doporučuje ve výši 1 %. | AG81: POP | BA81: =C81 -> V položce nejsou zakalkulovány náklady na sloupky a vzpěry. Jejich dodání se oceňuje ve specifikaci. Ztratné se doporučuje ve výši 1 %.
C82: výkr. č. D.08-02-001 : | AG82: VV | AH82: 0
C83: pro sloupky : 40 | E83: 40 | AG83: VV | AH83: 0
C84: pro vzpěry : 20 | E84: 20 | AG84: VV | AH84: 0
A85: Díl: | B85: 91 | C85: Doplňující práce na komunikaci | G85: =SUMIF(AG86:AG96,"<>NOR",G86:G96) -> 0 | I85: =SUM(I86:I96) -> 0 | K85: =SUM(K86:K96) -> 0 | M85: =SUM(M86:M96) -> 0 | O85: =SUM(O86:O96) -> 19.42 | Q85: =SUM(Q86:Q96) -> 0 | V85: =SUM(V86:V96) -> 22.15 | AG85: DIL
A86: 12 | B86: 271571111R00 | C86: Polštář základu ze štěrkopísku tříděného | D86: m3 | E86: 0.4 | G86: =ROUND(E86*F86,2) -> 0 | I86: =ROUND(E86*H86,2) -> 0 | K86: =ROUND(E86*J86,2) -> 0 | L86: 21 | M86: =G86*(1+L86/100) -> 0 | N86: 1.9397 | O86: =ROUND(E86*N86,2) -> 0.78 | P86: 0 | Q86: =ROUND(E86*P86,2) -> 0 | S86: RTS 20/ I | T86: RTS 20/ I | U86: 0.965 | V86: =ROUND(E86*U86,2) -> 0.39 | X86: Práce | AG86: POL1_
C87: Štěrkopískový podsyp pod betonové lože obrubníkl | AG87: POP
C88: Výkr. č. D.08-02-001 : | AG88: VV | AH88: 0
C89: tech. zpráva str. 4 : 80*0,1*0,05 | E89: 0.4 | AG89: VV | AH89: 0
A90: 13 | B90: 917862111R00 | C90: Osazení silničního nebo chodníkového obrubníku stojatého, s boční opěrou z betonu prostého, do lože z betonu prostého C 12/15 | D90: m | E90: 80 | G90: =ROUND(E90*F90,2) -> 0 | I90: =ROUND(E90*H90,2) -> 0 | K90: =ROUND(E90*J90,2) -> 0 | L90: 21 | M90: =G90*(1+L90/100) -> 0 | N90: 0.188 | O90: =ROUND(E90*N90,2) -> 15.04 | P90: 0 | Q90: =ROUND(E90*P90,2) -> 0 | R90: 822-1 | S90: RTS 20/ I | T90: RTS 20/ I | U90: 0.272 | V90: =ROUND(E90*U90,2) -> 21.76 | X90: Práce | AG90: POL1_
C91: S dodáním hmot pro lože tl. 80-100 mm. | AG91: SPI
C92: Výkr. č. D.08-02-001 : | AG92: VV | AH92: 0
C93: tech. zpráva str. 4 : 80 | E93: 80 | AG93: VV | AH93: 0
A94: 14 | B94: 592174230R | C94: obrubník chodníkový materiál beton; l = 1000,0 mm; š = 80,0 mm; h = 250,0 mm; barva šedá | D94: kus | E94: 80 | G94: =ROUND(E94*F94,2) -> 0 | I94: =ROUND(E94*H94,2) -> 0 | K94: =ROUND(E94*J94,2) -> 0 | L94: 21 | M94: =G94*(1+L94/100) -> 0 | N94: 0.045 | O94: =ROUND(E94*N94,2) -> 3.6 | P94: 0 | Q94: =ROUND(E94*P94,2) -> 0 | R94: SPCM | S94: RTS 20/ I | T94: RTS 20/ I | U94: 0 | V94: =ROUND(E94*U94,2) -> 0 | X94: Specifikace | AG94: POL3_
C95: Výkr. č. D.08-02-001 : | AG95: VV | AH95: 0
C96: tech. zpráva str. 4 : 80 | E96: 80 | AG96: VV | AH96: 0
A97: Díl: | B97: 99 | C97: Staveništní přesun hmot | G97: =SUMIF(AG98:AG100,"<>NOR",G98:G100) -> 0 | I97: =SUM(I98:I100) -> 0 | K97: =SUM(K98:K100) -> 0 | M97: =SUM(M98:M100) -> 0 | O97: =SUM(O98:O100) -> 0 | Q97: =SUM(Q98:Q100) -> 0 | V97: =SUM(V98:V100) -> 20.15 | AG97: DIL
A98: 15 | B98: 998152121R00 | C98: Přesun hmot pro oplocení a objekty zvláštní,monol. vodorovně do 50 m výšky do 3 m | D98: t | E98: 33.08431 | G98: =ROUND(E98*F98,2) -> 0 | I98: =ROUND(E98*H98,2) -> 0 | K98: =ROUND(E98*J98,2) -> 0 | L98: 21 | M98: =G98*(1+L98/100) -> 0 | N98: 0 | O98: =ROUND(E98*N98,2) -> 0 | P98: 0 | Q98: =ROUND(E98*P98,2) -> 0 | R98: 801-5 | S98: RTS 20/ I | T98: RTS 20/ I | U98: 0.609 | V98: =ROUND(E98*U98,2) -> 20.15 | X98: Přesun hmot | AG98: POL7_
C99: na novostavbách a změnách objektů pro oplocení (815 2 JKSo), objekty zvláštní pro chov živočichů (815 3 JKSO), objekty pozemní různé (815 9 JKSO) | AG99: SPI | BA99: =C99 -> na novostavbách a změnách objektů pro oplocení (815 2 JKSo), objekty zvláštní pro chov živočichů (815 3 JKSO), objekty pozemní různé (815 9 JKSO)
C100: se svislou nosnou konstrukcí monolitickou betonovou tyčovou nebo plošnou ( KMCH 2 a 3 - JKSO šesté místo) | AG100: SPI | BA100: =C100 -> se svislou nosnou konstrukcí monolitickou betonovou tyčovou nebo plošnou ( KMCH 2 a 3 - JKSO šesté místo)
A101: Díl: | B101: 767 | C101: Konstrukce zámečnické | G101: =SUMIF(AG102:AG141,"<>NOR",G102:G141) -> 0 | I101: =SUM(I102:I141) -> 0 | K101: =SUM(K102:K141) -> 0 | M101: =SUM(M102:M141) -> 0 | O101: =SUM(O102:O141) -> 0.79 | Q101: =SUM(Q102:Q141) -> 0 | V101: =SUM(V102:V141) -> 32.88 | AG101: DIL
A102: 16 | B102: 767911130R00 | C102: Montáž oplocení z pletiva strojového, o výšce přes 1,6 do 2,0 m | D102: m | E102: 80 | G102: =ROUND(E102*F102,2) -> 0 | I102: =ROUND(E102*H102,2) -> 0 | K102: =ROUND(E102*J102,2) -> 0 | L102: 21 | M102: =G102*(1+L102/100) -> 0 | N102: 0 | O102: =ROUND(E102*N102,2) -> 0 | P102: 0 | Q102: =ROUND(E102*P102,2) -> 0 | R102: 800-767 | S102: RTS 20/ I | T102: RTS 20/ I | U102: 0.3 | V102: =ROUND(E102*U102,2) -> 24 | X102: Práce | AG102: POL1_
...
