Workbook
Name CelkemDPHVypocet: Stavba!$H$40
Name CenaCelkem: Stavba!$G$29
Name CenaCelkemBezDPH: Stavba!$G$28
Name CenaCelkemVypocet: Stavba!$I$40
Name cisloobjektu: Stavba!$C$3
Name CisloRozpoctu: '[1]Krycí list'!$C$2
Name CisloStavby: Stavba!$C$2
Name cislostavby: '[1]Krycí list'!$A$7
Name CisloStavebnihoRozpoctu: Stavba!$D$4
Name dadresa: Stavba!$D$12:$G$12
Name DIČ: Stavba!$I$12
Name dmisto: Stavba!$D$13:$G$13
Name Dodavka: [2]Rekapitulace!$G$9
Name Dodavka0: #REF!
Name DPHSni: Stavba!$G$24
Name DPHZakl: Stavba!$G$26
Name dpsc: Stavba!$C$13
Name HSV: [2]Rekapitulace!$E$9
Name HSV0: #REF!
Name HZS: [2]Rekapitulace!$I$9
Name HZS0: #REF!
Name IČO: Stavba!$I$11
Name Mena: Stavba!$J$29
Name MistoStavby: Stavba!$D$4
Name Mont: [2]Rekapitulace!$H$9
Name Montaz0: #REF!
Name nazevobjektu: Stavba!$D$3
Name NazevRozpoctu: '[1]Krycí list'!$D$2
Name NazevStavby: Stavba!$D$2
Name nazevstavby: '[1]Krycí list'!$C$7
Name NazevStavebnihoRozpoctu: Stavba!$E$4
Name oadresa: Stavba!$D$6
Name Objednatel: Stavba!$D$5
Name Objekt: Stavba!$B$38
Name odic: Stavba!$I$6
Name oico: Stavba!$I$5
Name omisto: Stavba!$D$7
Name onazev: Stavba!$D$6
Name opsc: Stavba!$C$7
Name padresa: Stavba!$D$9
Name pdic: Stavba!$I$9
Name pico: Stavba!$I$8
Name pmisto: Stavba!$D$10
Name PocetMJ: #REF!
Name PoptavkaID: Stavba!$A$1
Name pPSC: Stavba!$C$10
Name Projektant: Stavba!$D$8
Name PSV: [2]Rekapitulace!$F$9
Name PSV0: #REF!
Name SazbaDPH1: Stavba!$E$23
Name SazbaDPH1: '[1]Krycí list'!$C$30
Name SazbaDPH2: Stavba!$E$25
Name SazbaDPH2: '[1]Krycí list'!$C$32
Name SloupecCC: #REF!
Name SloupecCisloPol: #REF!
Name SloupecJC: #REF!
Name SloupecMJ: #REF!
Name SloupecMnozstvi: #REF!
Name SloupecNazPol: #REF!
Name SloupecPC: #REF!

Sheet Pokyny pro vyplnění
A1: Pokyny pro vyplnění
A2: Ve všech listech tohoto souboru můžete měnit pouze buňky s modrým pozadím. Jedná se o tyto údaje : - údaje o firmě - jednotkové ceny položek zadané na maximálně dvě desetinná místa

Sheet Stavba
A1: #RTSROZP# | B1: Položkový rozpočet
B2: Zakázka: | D2: ENERG. ÚSPORY NA STÁV. BUDOVÁCH SO 08 DÍLNA MASIV - 2.ETAPA
B3: Misto | D3: ul. Plumlovská 44 , 796 01 Prostějov
B4: Rozpočet:
B5: Objednatel: | D5: LACHMAN STYL s.r.o. | H5: IČ:
D6: ul. Plumlovská 44 | H6: DIČ:
C7: 996 01 | D7: Prostějov
B8: Projektant: | H8: IČ:
H9: DIČ:
B11: Zhotovitel: | H11: IČ:
H12: DIČ:
B14: Vypracoval:
B15: Rozpis ceny | I15: Celkem
A16: HSV | B16: HSV | I16: =SUMIF(F47:F56,A16,I47:I56)+SUMIF(F47:F56,"PSU",I47:I56) -> 0
A17: PSV | B17: PSV | I17: =SUMIF(F47:F56,A17,I47:I56) -> 0
A18: MON | B18: MON | I18: =SUMIF(F47:F56,A18,I47:I56) -> 0
A19: VN | B19: Vedlejší náklady | I19: =SUMIF(F47:F56,A19,I47:I56) -> 0
A20: ON | B20: Ostatní náklady | I20: =SUMIF(F47:F56,A20,I47:I56) -> 0
B21: Celkem | I21: =SUM(I16:J20) -> 0
B22: Rekapitulace daní
B23: Základ pro sníženou DPH | E23: 15 | F23: % | G23: =ZakladDPHSniVypocet -> 0 | J23: =Mena -> CZK
B24: Snížená DPH | E24: =SazbaDPH1 -> 15 | F24: % | G24: =ZakladDPHSni*SazbaDPH1/100 -> 0 | J24: =Mena -> CZK
B25: Základ pro základní DPH | E25: 21 | F25: % | G25: =ZakladDPHZaklVypocet -> 0 | J25: =Mena -> CZK
B26: Základní DPH | E26: =SazbaDPH2 -> 21 | F26: % | G26: =ZakladDPHZakl*SazbaDPH2/100 -> 0 | J26: =Mena -> CZK
B27: Zaokrouhlení | G27: =0 -> 0 | J27: =Mena -> CZK
B28: Cena celkem bez DPH | G28: =ZakladDPHSniVypocet+ZakladDPHZaklVypocet -> 0 | J28: =Mena -> CZK
B29: Cena celkem s DPH | G29: =ZakladDPHSni+DPHSni+ZakladDPHZakl+DPHZakl+Zaokrouhleni -> 0 | J29: CZK
C32: v | F32: dne | H32: =TODAY() -> 44859
D35: Za zhotovitele | H35: Za objednatele
B37: Rekapitulace dílčích částí
A38: #CASTI>> | B38: Číslo | C38: Název | F38: =B23 -> Základ pro sníženou DPH | G38: =B25 -> Základ pro základní DPH | H38: DPH celkem | I38: Cena celkem | J38: %
A39: 1 | B39: Rozpočet | C39: ENERGETICKÉ ÚSPORY NA STÁVAJÍCÍCH BUDOVÁCH SO 08 DÍLNA MASIV | F39: ='Rozpočet Pol'!AC60 -> 0 | G39: ='Rozpočet Pol'!AD60 -> 0 | H39: =(F39*SazbaDPH1/100)+(G39*SazbaDPH2/100) -> 0 | I39: =F39+G39+H39 -> 0 | J39: =IF(_xlfn.SINGLE(CenaCelkemVypocet)=0,"",I39/_xlfn.SINGLE(CenaCelkemVypocet)*100)
B40: Celkem za stavbu | F40: =SUMIF(A39:A39,"=1",F39:F39) -> 0 | G40: =SUMIF(A39:A39,"=1",G39:G39) -> 0 | H40: =SUMIF(A39:A39,"=1",H39:H39) -> 0 | I40: =SUMIF(A39:A39,"=1",I39:I39) -> 0 | J40: =SUMIF(A39:A39,"=1",J39:J39) -> 0
B44: Rekapitulace dílů
B46: Číslo | C46: Název | F46: Typ dílu | I46: Celkem
B47: 63 | C47: Podlahy a podlahové konstrukce | F47: HSV | I47: ='Rozpočet Pol'!G8 -> 0
B48: 96 | C48: Bourání konstrukcí | F48: HSV | I48: ='Rozpočet Pol'!G15 -> 0
B49: 97 | C49: Prorážení otvorů | F49: HSV | I49: ='Rozpočet Pol'!G23 -> 0
B50: 99 | C50: Staveništní přesun hmot | F50: HSV | I50: ='Rozpočet Pol'!G30 -> 0
B51: 711 | C51: Izolace proti vodě | F51: PSV | I51: ='Rozpočet Pol'!G32 -> 0
B52: 713 | C52: Izolace tepelné | F52: PSV | I52: ='Rozpočet Pol'!G38 -> 0
B53: 730 | C53: Ústřední vytápění | F53: PSV | I53: ='Rozpočet Pol'!G50 -> 0
B54: 766 | C54: Konstrukce truhlářské | F54: PSV | I54: ='Rozpočet Pol'!G52 -> 0
B55: M21 | C55: Elektromontáže | F55: MON | I55: ='Rozpočet Pol'!G54 -> 0
B56: VN | C56: Vedlejší náklady | F56: VN | I56: ='Rozpočet Pol'!G57 -> 0
B57: Cena celkem | I57: =SUM(I47:I56) -> 0

Sheet VzorPolozky
A1: Položkový rozpočet
A2: Z:
A3: O:
A4: R:

Sheet Rozpočet Pol
A1: Položkový rozpočet | AE1: #TypZaznamu#
A2: S: | C2: ENERGETICKÉ ÚSPORY NA STÁVAJÍCÍCH BUDOVÁCH SO 08 DÍLNA MASIV | AE2: STA
A3: O: | C3: ul. Plumlovská 44 , 796 01 Prostějov | AE3: OBJ
A4: R: | AE4: ROZ
A5: C: | AE5: CAS_STR
A7: P.č. | B7: Číslo položky | C7: Název položky | D7: MJ | E7: množství | F7: cena / MJ | G7: Celkem | H7: Dodávka | I7: Dodávka celk. | J7: Montáž | K7: Montáž celk. | L7: DPH | M7: cena s DPH | N7: hmotnost / MJ | O7: hmotnost celk.(t) | P7: dem. hmotnost / MJ | Q7: dem. hmotnost celk.(t) | R7: Ceník | S7: Cen. soustava | T7: Nhod / MJ | U7: Nhod celk.
A8: Díl: | B8: 63 | C8: Podlahy a podlahové konstrukce | G8: =SUMIF(AE9:AE14,"<>NOR",G9:G14) -> 0 | I8: =SUM(I9:I14) -> 0 | K8: =SUM(K9:K14) -> 0 | M8: =SUM(M9:M14) -> 0 | O8: =SUM(O9:O14) -> 188.30156 | Q8: =SUM(Q9:Q14) -> 0 | U8: =SUM(U9:U14) -> 68.97 | AE8: DIL
A9: 1 | B9: 631315711RT9 | C9: Mazanina betonová tl. 12 - 24 cm C 25/30, s rozptýlenou výztuží 25 kg/m3, leštěný povrch | D9: m3 | E9: 24.215 | G9: =ROUND(E9*F9,2) -> 0 | I9: =ROUND(E9*H9,2) -> 0 | K9: =ROUND(E9*J9,2) -> 0 | L9: 21 | M9: =G9*(1+L9/100) -> 0 | N9: 2.38865 | O9: =ROUND(E9*N9,5) -> 57.84116 | P9: 0 | Q9: =ROUND(E9*P9,5) -> 0 | T9: 2.317 | U9: =ROUND(E9*T9,2) -> 56.11 | AE9: POL1_0
C10: P1:167*0,145 | E10: 24.215 | AE10: VV | AF10: 0
A11: 2 | B11: 564841113RT4 | C11: Podklad ze štěrkodrti po zhutnění tloušťky 14 cm, štěrkodrť frakce 0-63 mm | D11: m2 | E11: 334 | G11: =ROUND(E11*F11,2) -> 0 | I11: =ROUND(E11*H11,2) -> 0 | K11: =ROUND(E11*J11,2) -> 0 | L11: 21 | M11: =G11*(1+L11/100) -> 0 | N11: 0.3528 | O11: =ROUND(E11*N11,5) -> 117.8352 | P11: 0 | Q11: =ROUND(E11*P11,5) -> 0 | T11: 0.026 | U11: =ROUND(E11*T11,2) -> 8.68 | AE11: POL1_0
C12: P1 celkem 280mm:2*167 | E12: 334 | AE12: VV | AF12: 0
A13: 3 | B13: 564801111RT8 | C13: Podklad ze štěrkodrti po zhutnění tloušťky 2 cm, štěrkodrť frakce 0-8 mm | D13: m2 | E13: 167 | G13: =ROUND(E13*F13,2) -> 0 | I13: =ROUND(E13*H13,2) -> 0 | K13: =ROUND(E13*J13,2) -> 0 | L13: 21 | M13: =G13*(1+L13/100) -> 0 | N13: 0.0756 | O13: =ROUND(E13*N13,5) -> 12.6252 | P13: 0 | Q13: =ROUND(E13*P13,5) -> 0 | T13: 0.025 | U13: =ROUND(E13*T13,2) -> 4.18 | AE13: POL1_0
C14: P1:167 | E14: 167 | AE14: VV | AF14: 0
A15: Díl: | B15: 96 | C15: Bourání konstrukcí | G15: =SUMIF(AE16:AE22,"<>NOR",G16:G22) -> 0 | I15: =SUM(I16:I22) -> 0 | K15: =SUM(K16:K22) -> 0 | M15: =SUM(M16:M22) -> 0 | O15: =SUM(O16:O22) -> 0 | Q15: =SUM(Q16:Q22) -> 134.25984 | U15: =SUM(U16:U22) -> 123.06 | AE15: DIL
A16: 4 | B16: 961044111R00 | C16: Bourání základů z betonu prostého | D16: m3 | E16: 0.3 | G16: =ROUND(E16*F16,2) -> 0 | I16: =ROUND(E16*H16,2) -> 0 | K16: =ROUND(E16*J16,2) -> 0 | L16: 21 | M16: =G16*(1+L16/100) -> 0 | N16: 0 | O16: =ROUND(E16*N16,5) -> 0 | P16: 2 | Q16: =ROUND(E16*P16,5) -> 0.6 | T16: 6.436 | U16: =ROUND(E16*T16,2) -> 1.93 | AE16: POL1_0
A17: 5 | B17: 965082941R00 | C17: Odstranění násypu tl. nad 20 cm jakékoliv plochy | D17: m3 | E17: 91.85 | G17: =ROUND(E17*F17,2) -> 0 | I17: =ROUND(E17*H17,2) -> 0 | K17: =ROUND(E17*J17,2) -> 0 | L17: 21 | M17: =G17*(1+L17/100) -> 0 | N17: 0 | O17: =ROUND(E17*N17,5) -> 0 | P17: 1.4 | Q17: =ROUND(E17*P17,5) -> 128.59 | T17: 0.875 | U17: =ROUND(E17*T17,2) -> 80.37 | AE17: POL1_0
C18: 167*0,55 | E18: 91.85 | AE18: VV | AF18: 0
A19: 6 | B19: 762522812R00 | C19: Demontáž podlah s polštáři z prken tl. do 50 mm | D19: m2 | E19: 167 | G19: =ROUND(E19*F19,2) -> 0 | I19: =ROUND(E19*H19,2) -> 0 | K19: =ROUND(E19*J19,2) -> 0 | L19: 21 | M19: =G19*(1+L19/100) -> 0 | N19: 0 | O19: =ROUND(E19*N19,5) -> 0 | P19: 0.03 | Q19: =ROUND(E19*P19,5) -> 5.01 | T19: 0.235 | U19: =ROUND(E19*T19,2) -> 39.25 | AE19: POL1_0
C20: P1:167 | E20: 167 | AE20: VV | AF20: 0
A21: 7 | B21: 762631802R00 | C21: Demontáž vrat včetně kování do 8 m2 | D21: m2 | E21: 3.52 | G21: =ROUND(E21*F21,2) -> 0 | I21: =ROUND(E21*H21,2) -> 0 | K21: =ROUND(E21*J21,2) -> 0 | L21: 21 | M21: =G21*(1+L21/100) -> 0 | N21: 0 | O21: =ROUND(E21*N21,5) -> 0 | P21: 0.017 | Q21: =ROUND(E21*P21,5) -> 0.05984 | T21: 0.43 | U21: =ROUND(E21*T21,2) -> 1.51 | AE21: POL1_0
C22: 1,6*2,2 | E22: 3.52 | AE22: VV | AF22: 0
A23: Díl: | B23: 97 | C23: Prorážení otvorů | G23: =SUMIF(AE24:AE29,"<>NOR",G24:G29) -> 0 | I23: =SUM(I24:I29) -> 0 | K23: =SUM(K24:K29) -> 0 | M23: =SUM(M24:M29) -> 0 | O23: =SUM(O24:O29) -> 0 | Q23: =SUM(Q24:Q29) -> 0 | U23: =SUM(U24:U29) -> 66.15 | AE23: DIL
A24: 8 | B24: 979081111R00 | C24: Odvoz suti a vybour. hmot na skládku do 1 km | D24: t | E24: 135 | G24: =ROUND(E24*F24,2) -> 0 | I24: =ROUND(E24*H24,2) -> 0 | K24: =ROUND(E24*J24,2) -> 0 | L24: 21 | M24: =G24*(1+L24/100) -> 0 | N24: 0 | O24: =ROUND(E24*N24,5) -> 0 | P24: 0 | Q24: =ROUND(E24*P24,5) -> 0 | T24: 0.49 | U24: =ROUND(E24*T24,2) -> 66.15 | AE24: POL1_0
A25: 9 | B25: 979081121R00 | C25: Příplatek k odvozu za každý další 1 km | D25: t | E25: 1215 | G25: =ROUND(E25*F25,2) -> 0 | I25: =ROUND(E25*H25,2) -> 0 | K25: =ROUND(E25*J25,2) -> 0 | L25: 21 | M25: =G25*(1+L25/100) -> 0 | N25: 0 | O25: =ROUND(E25*N25,5) -> 0 | P25: 0 | Q25: =ROUND(E25*P25,5) -> 0 | T25: 0 | U25: =ROUND(E25*T25,2) -> 0 | AE25: POL1_0
C26: 10km:9*135 | E26: 1215 | AE26: VV | AF26: 0
A27: 10 | B27: 979990103R00 | C27: Poplatek za skládku suti - beton do 30x30 cm | D27: t | E27: 0.6 | G27: =ROUND(E27*F27,2) -> 0 | I27: =ROUND(E27*H27,2) -> 0 | K27: =ROUND(E27*J27,2) -> 0 | L27: 21 | M27: =G27*(1+L27/100) -> 0 | N27: 0 | O27: =ROUND(E27*N27,5) -> 0 | P27: 0 | Q27: =ROUND(E27*P27,5) -> 0 | T27: 0 | U27: =ROUND(E27*T27,2) -> 0 | AE27: POL1_0
A28: 11 | B28: 979990161R00 | C28: Poplatek za skládku suti - dřevo | D28: t | E28: 5.9 | G28: =ROUND(E28*F28,2) -> 0 | I28: =ROUND(E28*H28,2) -> 0 | K28: =ROUND(E28*J28,2) -> 0 | L28: 21 | M28: =G28*(1+L28/100) -> 0 | N28: 0 | O28: =ROUND(E28*N28,5) -> 0 | P28: 0 | Q28: =ROUND(E28*P28,5) -> 0 | T28: 0 | U28: =ROUND(E28*T28,2) -> 0 | AE28: POL1_0
A29: 12 | B29: 979990105R00 | C29: Poplatek za skládku suti-násypy | D29: t | E29: 129 | G29: =ROUND(E29*F29,2) -> 0 | I29: =ROUND(E29*H29,2) -> 0 | K29: =ROUND(E29*J29,2) -> 0 | L29: 21 | M29: =G29*(1+L29/100) -> 0 | N29: 0 | O29: =ROUND(E29*N29,5) -> 0 | P29: 0 | Q29: =ROUND(E29*P29,5) -> 0 | T29: 0 | U29: =ROUND(E29*T29,2) -> 0 | AE29: POL1_0
A30: Díl: | B30: 99 | C30: Staveništní přesun hmot | G30: =SUMIF(AE31:AE31,"<>NOR",G31:G31) -> 0 | I30: =SUM(I31:I31) -> 0 | K30: =SUM(K31:K31) -> 0 | M30: =SUM(M31:M31) -> 0 | O30: =SUM(O31:O31) -> 0 | Q30: =SUM(Q31:Q31) -> 0 | U30: =SUM(U31:U31) -> 89.71 | AE30: DIL
A31: 13 | B31: 998021021R00 | C31: Přesun hmot pro haly zděné výšky do 20 m | D31: t | E31: 267 | G31: =ROUND(E31*F31,2) -> 0 | I31: =ROUND(E31*H31,2) -> 0 | K31: =ROUND(E31*J31,2) -> 0 | L31: 21 | M31: =G31*(1+L31/100) -> 0 | N31: 0 | O31: =ROUND(E31*N31,5) -> 0 | P31: 0 | Q31: =ROUND(E31*P31,5) -> 0 | T31: 0.336 | U31: =ROUND(E31*T31,2) -> 89.71 | AE31: POL1_0
A32: Díl: | B32: 711 | C32: Izolace proti vodě | G32: =SUMIF(AE33:AE37,"<>NOR",G33:G37) -> 0 | I32: =SUM(I33:I37) -> 0 | K32: =SUM(K33:K37) -> 0 | M32: =SUM(M33:M37) -> 0 | O32: =SUM(O33:O37) -> 0.59786 | Q32: =SUM(Q33:Q37) -> 0 | U32: =SUM(U33:U37) -> 76.11 | AE32: DIL
A33: 14 | B33: 711170010RAF | C33: Izolace proti zem.vlhkosti fólií,vodor., fólie tl. 2,0 mm | D33: m2 | E33: 167 | G33: =ROUND(E33*F33,2) -> 0 | I33: =ROUND(E33*H33,2) -> 0 | K33: =ROUND(E33*J33,2) -> 0 | L33: 21 | M33: =G33*(1+L33/100) -> 0 | N33: 0.00358 | O33: =ROUND(E33*N33,5) -> 0.59786 | P33: 0 | Q33: =ROUND(E33*P33,5) -> 0 | T33: 0.43761 | U33: =ROUND(E33*T33,2) -> 73.08 | AE33: POL2_0
C34: P1:167 | E34: 167 | AE34: VV | AF34: 0
A35: 15 | B35: 711999 | C35: Izolace HDPE fólie | D35: m2 | E35: 167 | G35: =ROUND(E35*F35,2) -> 0 | I35: =ROUND(E35*H35,2) -> 0 | K35: =ROUND(E35*J35,2) -> 0 | L35: 21 | M35: =G35*(1+L35/100) -> 0 | N35: 0 | O35: =ROUND(E35*N35,5) -> 0 | P35: 0 | Q35: =ROUND(E35*P35,5) -> 0 | T35: 0 | U35: =ROUND(E35*T35,2) -> 0 | AE35: POL1_0
A36: 16 | B36: 998711102R00 | C36: Přesun hmot pro izolace proti vodě, výšky do 12 m | D36: t | E36: 0.96 | G36: =ROUND(E36*F36,2) -> 0 | I36: =ROUND(E36*H36,2) -> 0 | K36: =ROUND(E36*J36,2) -> 0 | L36: 21 | M36: =G36*(1+L36/100) -> 0 | N36: 0 | O36: =ROUND(E36*N36,5) -> 0 | P36: 0 | Q36: =ROUND(E36*P36,5) -> 0 | T36: 1.598 | U36: =ROUND(E36*T36,2) -> 1.53 | AE36: POL1_0
A37: 17 | B37: 998711101R00 | C37: Přesun hmot pro izolace proti vodě, výšky do 6 m | D37: t | E37: 0.96 | G37: =ROUND(E37*F37,2) -> 0 | I37: =ROUND(E37*H37,2) -> 0 | K37: =ROUND(E37*J37,2) -> 0 | L37: 21 | M37: =G37*(1+L37/100) -> 0 | N37: 0 | O37: =ROUND(E37*N37,5) -> 0 | P37: 0 | Q37: =ROUND(E37*P37,5) -> 0 | T37: 1.567 | U37: =ROUND(E37*T37,2) -> 1.5 | AE37: POL1_0
A38: Díl: | B38: 713 | C38: Izolace tepelné | G38: =SUMIF(AE39:AE49,"<>NOR",G39:G49) -> 0 | I38: =SUM(I39:I49) -> 0 | K38: =SUM(K39:K49) -> 0 | M38: =SUM(M39:M49) -> 0 | O38: =SUM(O39:O49) -> 0.63489 | Q38: =SUM(Q39:Q49) -> 0 | U38: =SUM(U39:U49) -> 32.12 | AE38: DIL
A39: 18 | B39: 713121111RT1 | C39: Izolace tepelná podlah na sucho, jednovrstvá, materiál ve specifikaci | D39: m2 | E39: 334 | G39: =ROUND(E39*F39,2) -> 0 | I39: =ROUND(E39*H39,2) -> 0 | K39: =ROUND(E39*J39,2) -> 0 | L39: 21 | M39: =G39*(1+L39/100) -> 0 | N39: 0 | O39: =ROUND(E39*N39,5) -> 0 | P39: 0 | Q39: =ROUND(E39*P39,5) -> 0 | T39: 0.08 | U39: =ROUND(E39*T39,2) -> 26.72 | AE39: POL1_0
C40: P1 EPS:167 | E40: 167 | AE40: VV | AF40: 0
C41: P1 ochranná geotextilie:167 | E41: 167 | AE41: VV | AF41: 0
A42: 19 | B42: 713121118RT1 | C42: Montáž dilatačního pásku podél stěn, materiál ve specifikaci | D42: m | E42: 62 | G42: =ROUND(E42*F42,2) -> 0 | I42: =ROUND(E42*H42,2) -> 0 | K42: =ROUND(E42*J42,2) -> 0 | L42: 21 | M42: =G42*(1+L42/100) -> 0 | N42: 0 | O42: =ROUND(E42*N42,5) -> 0 | P42: 0 | Q42: =ROUND(E42*P42,5) -> 0 | T42: 0.05 | U42: =ROUND(E42*T42,2) -> 3.1 | AE42: POL1_0
A43: 20 | B43: 28375706R | C43: Deska izolační stabilizov. EPS 200 1000 x 500 mm | D43: m3 | E43: 17.962 | G43: =ROUND(E43*F43,2) -> 0 | I43: =ROUND(E43*H43,2) -> 0 | K43: =ROUND(E43*J43,2) -> 0 | L43: 21 | M43: =G43*(1+L43/100) -> 0 | N43: 0.03 | O43: =ROUND(E43*N43,5) -> 0.53886 | P43: 0 | Q43: =ROUND(E43*P43,5) -> 0 | T43: 0 | U43: =ROUND(E43*T43,2) -> 0 | AE43: POL3_0
C44: P1 tl. 100mm:167*0,1*1,07 | E44: 17.869 | AE44: VV | AF44: 0
C45: dilatace kolem stěn tl. 1cm:62*0,15*0,01 | E45: 0.093 | AE45: VV | AF45: 0
A46: 21 | B46: 67352006R | C46: Geotextilie PET 500 g/m2 | D46: m2 | E46: 192.05 | G46: =ROUND(E46*F46,2) -> 0 | I46: =ROUND(E46*H46,2) -> 0 | K46: =ROUND(E46*J46,2) -> 0 | L46: 21 | M46: =G46*(1+L46/100) -> 0 | N46: 0.0005 | O46: =ROUND(E46*N46,5) -> 0.09603 | P46: 0 | Q46: =ROUND(E46*P46,5) -> 0 | T46: 0 | U46: =ROUND(E46*T46,2) -> 0 | AE46: POL3_0
C47: P1 ochranná geotextilie:167*1,15 | E47: 192.05 | AE47: VV | AF47: 0
A48: 22 | B48: 998713102R00 | C48: Přesun hmot pro izolace tepelné, výšky do 12 m | D48: t | E48: 0.65 | G48: =ROUND(E48*F48,2) -> 0 | I48: =ROUND(E48*H48,2) -> 0 | K48: =ROUND(E48*J48,2) -> 0 | L48: 21 | M48: =G48*(1+L48/100) -> 0 | N48: 0 | O48: =ROUND(E48*N48,5) -> 0 | P48: 0 | Q48: =ROUND(E48*P48,5) -> 0 | T48: 1.831 | U48: =ROUND(E48*T48,2) -> 1.19 | AE48: POL1_0
A49: 23 | B49: 998713101R00 | C49: Přesun hmot pro izolace tepelné, výšky do 6 m | D49: t | E49: 0.64 | G49: =ROUND(E49*F49,2) -> 0 | I49: =ROUND(E49*H49,2) -> 0 | K49: =ROUND(E49*J49,2) -> 0 | L49: 21 | M49: =G49*(1+L49/100) -> 0 | N49: 0 | O49: =ROUND(E49*N49,5) -> 0 | P49: 0 | Q49: =ROUND(E49*P49,5) -> 0 | T49: 1.74 | U49: =ROUND(E49*T49,2) -> 1.11 | AE49: POL1_0
A50: Díl: | B50: 730 | C50: Ústřední vytápění | G50: =SUMIF(AE51:AE51,"<>NOR",G51:G51) -> 0 | I50: =SUM(I51:I51) -> 0 | K50: =SUM(K51:K51) -> 0 | M50: =SUM(M51:M51) -> 0 | O50: =SUM(O51:O51) -> 0 | Q50: =SUM(Q51:Q51) -> 0 | U50: =SUM(U51:U51) -> 0 | AE50: DIL
A51: 24 | B51: 1 | C51: Vyregulování stávajícího otopného systému, vyregulování ventilů k jednotlivým topných větvím | D51: ks | E51: 1 | G51: =ROUND(E51*F51,2) -> 0 | I51: =ROUND(E51*H51,2) -> 0 | K51: =ROUND(E51*J51,2) -> 0 | L51: 21 | M51: =G51*(1+L51/100) -> 0 | N51: 0 | O51: =ROUND(E51*N51,5) -> 0 | P51: 0 | Q51: =ROUND(E51*P51,5) -> 0 | T51: 0 | U51: =ROUND(E51*T51,2) -> 0 | AE51: POL1_0
A52: Díl: | B52: 766 | C52: Konstrukce truhlářské | G52: =SUMIF(AE53:AE53,"<>NOR",G53:G53) -> 0 | I52: =SUM(I53:I53) -> 0 | K52: =SUM(K53:K53) -> 0 | M52: =SUM(M53:M53) -> 0 | O52: =SUM(O53:O53) -> 0 | Q52: =SUM(Q53:Q53) -> 0 | U52: =SUM(U53:U53) -> 0 | AE52: DIL
A53: 25 | B53: D 8.1 | C53: Dřevěné dvoukřídlé prosklené dveře s nadsvětlíkem, specifikace viz. D.1.1b 09 Výpis prvků | D53: ks | E53: 1 | G53: =ROUND(E53*F53,2) -> 0 | I53: =ROUND(E53*H53,2) -> 0 | K53: =ROUND(E53*J53,2) -> 0 | L53: 21 | M53: =G53*(1+L53/100) -> 0 | N53: 0 | O53: =ROUND(E53*N53,5) -> 0 | P53: 0 | Q53: =ROUND(E53*P53,5) -> 0 | T53: 0 | U53: =ROUND(E53*T53,2) -> 0 | AE53: POL1_0
A54: Díl: | B54: M21 | C54: Elektromontáže | G54: 0 | I54: =SUM(I55:I56) -> 0 | K54: =SUM(K55:K56) -> 0 | M54: =SUM(M55:M56) -> 0 | O54: =SUM(O55:O56) -> 0 | Q54: =SUM(Q55:Q56) -> 0 | U54: =SUM(U55:U56) -> 0 | AE54: DIL
A55: 26 | B55: M21a | C55: Elektromontáže (svítidla a eletroinstalace), samostatný rozpočet | D55: kpl | E55: 1 | G55: 0 | I55: =ROUND(E55*H55,2) -> 0 | K55: =ROUND(E55*J55,2) -> 0 | L55: 21 | M55: =G55*(1+L55/100) -> 0 | N55: 0 | O55: =ROUND(E55*N55,5) -> 0 | P55: 0 | Q55: =ROUND(E55*P55,5) -> 0 | T55: 0 | U55: =ROUND(E55*T55,2) -> 0 | AE55: POL1_0
A56: 27 | B56: M21b | C56: Demontáž svítidel a elektroinstalace, likvidace | D56: kpl | E56: 1 | G56: =ROUND(E56*F56,2) -> 0 | I56: =ROUND(E56*H56,2) -> 0 | K56: =ROUND(E56*J56,2) -> 0 | L56: 21 | M56: =G56*(1+L56/100) -> 0 | N56: 0 | O56: =ROUND(E56*N56,5) -> 0 | P56: 0 | Q56: =ROUND(E56*P56,5) -> 0 | T56: 0 | U56: =ROUND(E56*T56,2) -> 0 | AE56: POL1_0
A57: Díl: | B57: VN | C57: Vedlejší náklady | G57: =SUMIF(AE58:AE58,"<>NOR",G58:G58) -> 0 | I57: =SUM(I58:I58) -> 0 | K57: =SUM(K58:K58) -> 0 | M57: =SUM(M58:M58) -> 0 | O57: =SUM(O58:O58) -> 0 | Q57: =SUM(Q58:Q58) -> 0 | U57: =SUM(U58:U58) -> 0 | AE57: DIL
A58: 28 | B58: 2 | C58: Vedlejší rozpočtové náklady | D58: ks | E58: 1 | G58: =ROUND(E58*F58,2) -> 0 | I58: =ROUND(E58*H58,2) -> 0 | K58: =ROUND(E58*J58,2) -> 0 | L58: 21 | M58: =G58*(1+L58/100) -> 0 | N58: 0 | O58: =ROUND(E58*N58,5) -> 0 | P58: 0 | Q58: =ROUND(E58*P58,5) -> 0 | T58: 0 | U58: =ROUND(E58*T58,2) -> 0 | AE58: POL1_0
AC59: 15 | AD59: 21
B60: 26 | G60: =G8+G15+G23+G30+G32+G38+G50+G52+G54+G57 -> 0 | AC60: =SUMIF(L7:L58,AC59,G7:G58) -> 0 | AD60: =SUMIF(L7:L58,AD59,G7:G58) -> 0 | AE60: SUM
A62: Položky ve žlutém poli nejsou součástí této nabídky.
A63: 33
AE64: POPUZIV
AE70: END
