Workbook
Name aa: 'Krycí list'!$E$25
Name CenaCelkem: #REF!
Name CenaCelkemBezDPH: #REF!
Name cisloobjektu: #REF!
Name CisloRozpoctu: '[1]Krycí list'!$C$2
Name cislostavby: #REF!
Name CisloStavebnihoRozpoctu: #REF!
Name dadresa: #REF!
Name Datum: #REF!
Name dmisto: #REF!
Name Dodavka: [2]Rekapitulace!$G$28
Name Dodavka0: [2]Položky!#REF!
Name DPHSni: #REF!
Name DPHZakl: #REF!
Name HSV: [2]Rekapitulace!$E$28
Name HSV0: [2]Položky!#REF!
Name HZS: [2]Rekapitulace!$I$28
Name HZS0: [2]Položky!#REF!
Name JKSO: #REF!
Name Mena: #REF!
Name MistoStavby: #REF!
Name MJ: #REF!
Name Mont: [2]Rekapitulace!$H$28
Name Montaz0: [2]Položky!#REF!
Name nazevobjektu: #REF!
Name NazevRozpoctu: '[1]Krycí list'!$D$2
Name nazevstavby: #REF!
Name NazevStavebnihoRozpoctu: #REF!
Name oadresa: #REF!
Name Objednatel: #REF!
Name padresa: #REF!
Name pdic: #REF!
Name pico: #REF!
Name pmisto: #REF!
Name PocetMJ: #REF!
Name PoptavkaID: #REF!
Name Poznamka: #REF!
Name pPSC: #REF!
Name Projektant: #REF!
Name PSV: [2]Rekapitulace!$F$28
Name PSV0: [2]Položky!#REF!
Name SazbaDPH1: '[3]Krycí list'!$C$18
Name SazbaDPH2: '[3]Krycí list'!$C$20
Name SloupecCC: #REF!
Name SloupecCisloPol: #REF!
Name SloupecJC: #REF!
Name SloupecMJ: #REF!
Name SloupecMnozstvi: #REF!
Name SloupecNazPol: #REF!
Name SloupecPC: #REF!
Name Typ: [2]Položky!#REF!
Name VRN: [2]Rekapitulace!$H$36
Name VRNKc: [2]Rekapitulace!#REF!
Name VRNnazev: [2]Rekapitulace!#REF!
Name VRNproc: [2]Rekapitulace!#REF!
Name VRNzakl: [2]Rekapitulace!#REF!
Name Vypracoval: #REF!
Name Zakazka: #REF!
Name Zaklad22: #REF!
Name Zaklad5: #REF!

Sheet pokyny k vyplnění
C4: Lze doplňovat pouze pole zvýrazněné modrou barvou

Sheet Krycí list
A1: Položkový rozpočet stavby
A2: Stavba: | C2: Město Luhačovice - Modernizace družin a učeben
A5: Objednatel: | C5: Město Luhačovice | G5: IČ: | H5: 00284165
C6: náměstí 28. října 543 | G6: DIČ:
C7: 763 26 | D7: Luhačovice
A8: Projektant: | C8: Bc. Jan Buberník | G8: IČO: | H8: 88774678
C9: Hrazanská 613, 763 26 Luhačovice | G9: DIČ:
A11: Zhotovitel: | G11: IČO:
G12: DIČ:
A14: Vypracoval:
A15: Rozpis ceny | H15: Celkem
A16: =Rekapitulace!A14 -> 1. Stavební úpravy objektu č.p. 811 - vybourání otvoru | H16: =Rekapitulace!C22 -> 0
A17: =Rekapitulace!A23 -> 2. Stavební úpravy objektu č.p. 811 - modernizace | H17: =Rekapitulace!C43 -> 0
A18: =Rekapitulace!A44 -> 3. Modernizace interiéru odborných učeben ZŠ Luhačovice | H18: =Rekapitulace!C59 -> 0
A21: Celkem | H21: =SUM(H16:I20) -> 0
A22: Rekapitulace daní
A23: Základ pro sníženou DPH | E23: % | F23: 0
A24: Snížená DPH | E24: % | F24: 0
A25: Základ pro základní DPH | D25: 21 | E25: % | F25: =H21 -> 0
A26: Základní DPH | D26: 21 | E26: % | F26: =0.21*F25 -> 0
A27: Zaokrouhlení | F27: =CEILING(F25+F26,1) -> 0
A28: Cena celkem bez DPH | F28: =F25 -> 0
A29: Cena celkem s DPH | F29: =F27 -> 0
B32: v | E32: dne | F32: 44760
C35: Za zhotovitele | G35: Za objednatele

Sheet Rekapitulace
A2: Akce: | B2: Stavební úpravy objektu č. p. 666, ul. Školní v Luhačovicích Stavební úpravy objektu č. p. 811, ul. Školní v Luhačovicích
A3: Investor: | B3: Město Luhačovice, nám. 28. října
A4: Projektant: | B4: Bc. Jan Buberník, Bc. Karel Repatý
A6: Důležité upozornění:
A7: Množství materiálu a rozsah prací se může lišit v návaznosti na skutečný stav provedených prací. Stavební firma musí počítat s rezervou
A8: pro případ nečekaných výdajů. Bližší specifikace činnosti a materiálů jsou uvedeny v projektové dokumentaci a ve statických posudcích objektu.
A9: Veškeré položky jsou včetně dodávky materiálu a práce - montáže.
A12: REKAPITULACE STAVEBNÍCH DÍLŮ
A13: CENA CELKEM BEZ DPH | C13: =SUM(C22,C43,C59) -> 0
A14: =Položky!B13 -> 1. Stavební úpravy objektu č.p. 811 - vybourání otvoru
A15: STAVEBNÍ DÍL | C15: Cena bez DPH [Kč]
A16: =Položky!B14 -> DÍL: 3 | B16: =Položky!C14 -> Svislé a kompletní konstrukce | C16: =Položky!G14 -> 0
A17: =Položky!B18 -> DÍL: 61 | B17: =Položky!C18 -> Úpravy povrchů vnitřní | C17: =Položky!G18 -> 0
A18: =Položky!B22 -> DÍL: 63 | B18: =Položky!C22 -> Podlahy a podlahové konstrukce | C18: =Položky!G22 -> 0
A19: =Položky!B26 -> DÍL: 94 | B19: =Položky!C26 -> Lešení a stavební výtahy | C19: =Položky!G26 -> 0 | G19: =SUM(C16:C21) -> 0
A20: =Položky!B30 -> DÍL: 96 | B20: =Položky!C30 -> Bourání konstrukcí | C20: =Položky!G30 -> 0
A21: =Položky!B40 -> DÍL: 99 | B21: =Položky!C40 -> Přesun hmot HSV | C21: =Položky!G40 -> 0
A22: CELKEM ZA OBJEKT | C22: =Položky!G13 -> 0
A23: =Položky!B42 -> 2. Stavební úpravy objektu č.p. 811 - modernizace
A24: STAVEBNÍ DÍL | C24: Cena bez DPH [Kč]
A25: =Položky!B43 -> DÍL: 3 | B25: =Položky!C43 -> Svislé a kompletní konstrukce | C25: =Položky!G43 -> 0
A26: =Položky!B54 -> DÍL: 61 | B26: =Položky!C54 -> Úpravy povrchů vnitřní | C26: =Položky!G54 -> 0
A27: =Položky!B213 -> DÍL: 63 | B27: =Položky!C213 -> Podlahy a podlahové konstrukce | C27: =Položky!G213 -> 0
A28: =Položky!B276 -> DÍL: 64 | B28: =Položky!C276 -> Výplně otvorů | C28: =Položky!G276 -> 0
A29: =Položky!B328 -> DÍL: 99 | B29: =Položky!C328 -> Přesun hmot HSV | C29: =Položky!G328 -> 0
A30: =Položky!B308 -> DÍL: 96 | B30: =Položky!C308 -> Bourání konstrukcí | C30: =Položky!G308 -> 0
A31: =Položky!B330 -> DÍL: 711 | B31: =Položky!C330 -> Izolace proti vodě | C31: =Položky!G330 -> 0
A32: =Položky!B337 -> DÍL: 721 | B32: =Položky!C337 -> Vnitřní kanalizace | C32: =Položky!G337 -> 0 | G32: =SUM(C25:C42) -> 0
A33: =Položky!B343 -> DÍL: 722 | B33: =Položky!C343 -> Vnitřní vodovod | C33: =Položky!G343 -> 0
A34: =Položky!B349 -> DÍL: 725 | B34: =Položky!C349 -> Zařizovací předměty | C34: =Položky!G349 -> 0
A35: =Položky!B373 -> DÍL: 728 | B35: =Položky!C373 -> Vzduchotechnika | C35: =Položky!G373 -> 0
A36: =Položky!B378 -> DÍL: 766 | B36: =Položky!C378 -> Konstrukce truhlářské | C36: =Položky!G378 -> 0
A37: =Položky!B427 -> DÍL: 767 | B37: =Položky!C427 -> Konstrukce zámečnické | C37: =Položky!G427 -> 0
A38: =Položky!B431 -> DÍL: 771 | B38: =Položky!C431 -> Podlahy z dlaždic | C38: =Položky!G431 -> 0
A39: =Položky!B449 -> DÍL: 776 | B39: =Položky!C449 -> Podlahy povlakové | C39: =Položky!G449 -> 0
A40: =Položky!B521 -> DÍL: 781 | B40: =Položky!C521 -> Obklady (keramické) | C40: =Položky!G521 -> 0
A41: =Položky!B538 -> DÍL: 784 | B41: =Položky!C538 -> Malby | C41: =Položky!G538 -> 0
A42: =Položky!B587 -> DÍL: M65 | B42: =Položky!C587 -> Elektroinstalace | C42: =Položky!G587 -> 0
A43: CELKEM ZA OBJEKT | C43: =Položky!G42 -> 0
A44: =Položky!B597 -> 3. Modernizace interiéru odborných učeben ZŠ Luhačovice
A45: STAVEBNÍ DÍL | C45: Cena bez DPH [Kč]
A46: =Položky!B598 -> DÍL: 61 | B46: =Položky!C598 -> Úpravy povrchů vnitřní | C46: =Položky!G598 -> 0
A47: =Položky!B671 -> DÍL: 63 | B47: =Položky!C671 -> Podlahy a podlahové konstrukce | C47: =Položky!G671 -> 0
A48: =Položky!B699 -> DÍL: 64 | B48: =Položky!C699 -> Výplně otvorů | C48: =Položky!G699 -> 0
A49: =Položky!B705 -> DÍL: 99 | B49: =Položky!C705 -> Přesun hmot HSV | C49: =Položky!G705 -> 0
A50: =Položky!B707 -> DÍL: 721 | B50: =Položky!C707 -> Vnitřní kanalizace | C50: =Položky!G707 -> 0
A51: =Položky!B713 -> DÍL: 722 | B51: =Položky!C713 -> Vnitřní vodovod | C51: =Položky!G713 -> 0
A52: =Položky!B719 -> DÍL: 725 | B52: =Položky!C719 -> Zařizovací předměty | C52: =Položky!G719 -> 0
A53: =Položky!B729 -> DÍL: 735 | B53: =Položky!C729 -> Otopná tělesa | C53: =Položky!G729 -> 0 | G53: =SUM(C46:C58) -> 0
A54: =Položky!B740 -> DÍL: 766 | B54: =Položky!C740 -> Konstrukce truhlářské | C54: =Položky!G740 -> 0
A55: =Položky!B758 -> DÍL: 776 | B55: =Položky!C758 -> Podlahy povlakové | C55: =Položky!G758 -> 0
A56: =Položky!B780 -> DÍL: 781 | B56: =Položky!C780 -> Obklady (keramické) | C56: =Položky!G780 -> 0
A57: =Položky!B797 -> DÍL: 784 | B57: =Položky!C797 -> Malby | C57: =Položky!G797 -> 0
A58: =Položky!B815 -> DÍL: M65 | B58: =Položky!C815 -> Elektroinstalace | C58: =Položky!G815 -> 0
A59: CELKEM ZA OBJEKT | C59: =Položky!G597 -> 0

Sheet Položky
C1: Položkový výkaz výměr
B2: Akce: | C2: Stavební úpravy objektu č. p. 666, ul. Školní v Luhačovicích Stavební úpravy objektu č. p. 811, ul. Školní v Luhačovicích
B3: Investor: | C3: Město Luhačovice, nám. 28. října
B4: Projektant: | C4: Bc. Jan Buberník, Bc. Karel Repatý
B6: Důležité upozornění:
B7: Množství materiálu a rozsah prací se může lišit v návaznosti na skutečný stav provedených prací. Stavební firma musí počítat s rezervou
B8: pro případ nečekaných výdajů. Bližší specifikace činnosti a materiálů jsou uvedeny v projektové dokumentaci a ve statických posudcích objektu.
B9: Veškeré položky jsou včetně dodávky materiálu a práce - montáže.
B11: Položka č. | C11: Název položky | D11: MJ | E11: množství | F11: cena / MJ | G11: Celkem (Kč) bez DPH | H11: Intervence 044 | I11: =SUM(H13:H826) -> 0
L12: VCP (6.0%) | M12: 1.06
B13: 1. Stavební úpravy objektu č.p. 811 - vybourání otvoru | G13: =SUM(G30,G26,G22,G18,G14,G40) -> 0
B14: DÍL: 3 | C14: Svislé a kompletní konstrukce | G14: =SUM(G15:G17) -> 0 | N14: 0.93
B15: 1 | C15: D+M ocelový průvlak IPE 220, délky 5.3 m | D15: ks | E15: =SUM(E17) -> 2 | G15: =E15*F15 -> 0 | K15: =(3000+18000)*3.5 -> 73500 | M15: =55000/N14 -> 59139.785
C16: Dodávka a montáž ocelového válcovaného nosníku IPE 220 délky 5.3m, uložení na ocelovou roznášecí plotnu, popřípadě na vybetonovanou roznášecí plochu,
C17: Výpočet: (2*1)=2 | E17: =2*1 -> 2
B18: DÍL: 61 | C18: Úpravy povrchů vnitřní | G18: =SUM(G19:G21) -> 0
B19: =B15+1 -> 2 | C19: Omítka jádrová, vápenná, ručně | D19: m2 | E19: =SUM(E21) -> 6.1 | G19: =E19*F19 -> 0 | M19: =620/N14 -> 666.66667
C20: Zapravení hrubou omítkou ostění nového otvoru a zaomítání nového průvlaku
C21: Výpočet: 0.3*(3.5+3.5+4.5)+0.25*5.3*2=6.1 | E21: =0.3*(3.5+3.5+4.5)+0.25*5.3*2 -> 6.1
B22: DÍL: 63 | C22: Podlahy a podlahové konstrukce | G22: =SUM(G23:G25) -> 0
B23: =B19+1 -> 3 | C23: Betonový potěr, ruční zpracování, tl. do 100 mm | D23: m2 | E23: =SUM(E25) -> 1.35 | G23: =E23*F23 -> 0 | M23: =1255/N14 -> 1349.4624
C24: Zapravení podlahové konstrukce po vybourání části nosné stěny.
C25: Výpočet: 0.3*4.5=1.35 | E25: =0.3*4.5 -> 1.35
B26: DÍL: 94 | C26: Lešení a stavební výtahy | G26: =SUM(G27:G29) -> 0
B27: =B23+1 -> 4 | C27: Lešení lehké pomocné, výška podlahy do 2.0 m | D27: m2 | E27: =SUM(E29) -> 15.75 | G27: =E27*F27 -> 0 | K27: =150+55 -> 205 | M27: =205/N14 -> 220.43011
C28: Pomocné lešení pro vybourání drážky, uložení průvlaku, bourání zdiva, zapravení omítek, doba 1 měsíc
C29: Výpočet:(3.5*4.5)=15.75 | E29: =3.5*4.5 -> 15.75
B30: DÍL: 96 | C30: Bourání konstrukcí | G30: =SUM(G31:G39) -> 0
B31: =B27+1 -> 5 | C31: Vysekání drážky pro uložení ocelového průvlaku, hloubka 15 cm, výška 25cm | D31: mb | E31: =E33 -> 10.6 | G31: =E31*F31 -> 0 | K31: =2*8*450 -> 7200 | M31: =720/N14 -> 774.19355
C32: Jedná se o vysekání drážky v nosné stěně z cihel plných pálených tloušťky 30 cm. Ve výšce 3.5 m nad čistou podlahou
C33: Výpočet: (5.3*2)=10.6 | E33: =5.3*2 -> 10.6
B34: =B31+1 -> 6 | C34: Vybourání otvoru v nosných stěnách tl. 30 cm, š. 4.5 m, v. 3.5 m | D34: m3 | E34: =E35 -> 4.725 | G34: =E34*F34 -> 0 | K34: =(3*8*450)/4.73 -> 2283.2981 | M34: =5250/N14 -> 5645.1613
C35: Výpočet: (4.5*3.5*0.3)=4.725 | E35: =4.5*3.5*0.3 -> 4.725
B36: =B34+1 -> 7 | C36: Vnitrostaveništní doprava suti do 50 m s nakládkou na dopravní prostředky | D36: m3 | E36: =E37 -> 5.1275 | G36: =E36*F36 -> 0 | K36: =6000/5.13 -> 1169.5906 | M36: =1170/N14 -> 1258.0645
C37: Výpočet: 4.73+5.3*0.15*0.25*2=5.1275 | E37: =4.73+5.3*0.15*0.25*2 -> 5.1275
B38: =B36+1 -> 8 | C38: Odvoz suti a vybouraných hmot na skládku do 40 km | D38: m3 | E38: =E36 -> 5.1275 | G38: =E38*F38 -> 0 | M38: =550/N14 -> 591.39785
B39: =B38+1 -> 9 | C39: Poplatek za uložení suti na skládku - beton, cihla plná pálená, malta, | D39: m3 | E39: =E36 -> 5.1275 | G39: =E39*F39 -> 0 | M39: =860/N14 -> 924.73118
B40: DÍL: 99 | C40: Přesun hmot HSV | G40: =SUM(G41) -> 0
B41: =B39+1 -> 10 | C41: Přesun hmot pro budovy zděné, výšky do 6 m | D41: soubor | E41: 1 | G41: =E41*F41 -> 0 | M41: =15000/N14 -> 16129.032
B42: 2. Stavební úpravy objektu č.p. 811 - modernizace | G42: =SUM(G43,G54,G213,G276,G308,G330,G337,G343,G349,G373,G378,G431,G449,G521,G587,G538,G328,G427) -> 0 | N42: 0.93
B43: DÍL: 3 | C43: Svislé a kompletní konstrukce | G43: =SUM(G44:G53) -> 0
B44: =B41+1 -> 11 | C44: Příčky z pórobetonových tvárnic Ytong, tl. 100 mm | D44: m2 | E44: =SUM(E46:E48) -> 29.4056 | G44: =E44*F44 -> 0 | M44: =1073*$N$42 -> 997.89
C45: Výpočet:
C46: m.č. 128 = (4.0+2.28+1.0+0.9) * 3.32 = 27.1576 m2 | E46: =(4+2.28+1+0.9)*3.32 -> 27.1576
C47: m.č. 138 = 2.9 * 3.32 = 9.628 m2 | E47: =2.9*3.32 -> 9.628
C48: otvory: (1.0+0.9+0.9+0.8)*2.05 | E48: =-(1+0.9+0.9+0.8)*2.05 -> -7.38
B49: =B44+1 -> 12 | C49: D+M nenosný překlad Ytong NEP 100 - 1250 | D49: ks | E49: 4 | G49: =E49*F49 -> 0 | K49: =(633*1.3)+1500 -> 2322.9 | M49: =2420/N42 -> 2602.1505
C50: Výpočet:
C51: m.č. 128, 129, 130, 138 = 4 ks | E51: 4
B52: =B49+1 -> 13 | C52: Obezdění splachovací nádržky, pórobetonové tvárnice Ytong | D52: soubor | E52: 10 | G52: =E52*F52 -> 0 | K52: =4*450+15*120 -> 3600 | M52: =3600/N42 -> 3870.9677
C53: Obezdění splachovací nádržky pórobetonovými tvárnicemi Ytong
B54: DÍL: 61 | C54: Úpravy povrchů vnitřní | G54: =SUM(G55:G212) -> 0
B55: =B52+1 -> 14 | C55: Odstranění štukové vrstvy vnitřních stropů | D55: m2 | E55: =SUM(E57:E71) -> 507.99 | G55: =E55*F55 -> 0 | K55: =45*1.3 -> 58.5 | M55: =60/N42 -> 64.516129
C56: Výpočet:
C57: m.č. 123 = 11.21 | E57: =11.21 -> 11.21
C58: m.č. 124 = 64.65 | E58: =64.65 -> 64.65
C59: m.č. 125 = 50.81 | E59: =50.81 -> 50.81
C60: m.č. 127 = 51.48 | E60: =51.48 -> 51.48
C61: m.č. 128 = 26.73 | E61: =26.73 -> 26.73
C62: m.č. 129 = 1.23 | E62: 1.23
C63: m.č. 137 = 16.04 | E63: =16.04 -> 16.04
C64: m.č. 223 = 15.5 | E64: =15.5 -> 15.5
C65: m.č. 225 = 53.4 | E65: =53.4 -> 53.4
C66: m.č. 226 = 52.8 | E66: =52.8 -> 52.8
C67: m.č. 228 = 12.325 | E67: =12.325 -> 12.325
C68: m.č. 229 = 3.72 | E68: =3.72 -> 3.72
C69: m.č. 241 = 25.70 | E69: =25.7 -> 25.7
C70: CHODBY, WC 1.NP = 4.425+46.07+2.68+0.947+0.948+2.68+0.948+0.947+11.65 | E70: =4.425+46.07+2.68+0.947+0.948+2.68+0.948+0.947+11.65 -> 71.295
C71: CHODBY, WC 2.NP = 3.582+26.9+2.7+3.75+2.22+1.305+1.233+4.35+2.96+1.08+1.02 | E71: =3.582+26.9+2.7+3.75+2.22+1.305+1.233+4.35+2.96+1.08+1.02 -> 51.1
B72: =B55+1 -> 15 | C72: Odstranění štukové vrstvy omítky z vnitřních stěn | D72: m2 | E72: =SUM(E74:E90) -> 1341.332 | G72: =E72*F72 -> 0 | M72: =53/N42 -> 56.989247
C73: Výpočet:
C74: m.č. 123 = 42.05 | E74: 42.05
C75: m.č. 124 = 136.503 | E75: 136.503
C76: m.č. 125 = 93.506 | E76: 93.506
C77: m.č. 127 = 93.131 | E77: 93.131
C78: m.č. 128 = 88.604 - 7.05 = 81.554 | E78: 81.554
C79: m.č. 129 = 12.474 - 5.25 = 8.457 | E79: 8.457
C80: m.č. 137 = 39.17 | E80: 39.17
C81: m.č. 223 = 55.025 | E81: 55.025
C82: m.č. 225 = 91.606 | E82: 91.606
C83: m.č. 226 = 82.132 | E83: 82.132
C84: m.č. 228 = 44.779 | E84: 44.779
C85: m.č. 229 = 21.625 | E85: 21.625
C86: m.č. 241 = 60.53 | E86: 60.53
C87: CHODBY, WC_1.NP = 23.353+154.834+17.336+11.744+11.744+17.546+11.744+11.744+64.67 | E87: =23.353+154.834+17.336+11.744+11.744+17.546+11.744+11.744+64.67 -> 324.715
C88: CHODBY, WC_1.NP (-obklady) =-(1.47+3.9+4.92+4.905+4.92+4.905) | E88: =-(1.47+3.9+4.92+4.905+4.92+4.905) -> -25.02
C89: CHODBY, WC _2.NP = 14.386+97.703+18+22.135+13.585+12.395+12.1+23.04+15.945+10.92+10.625 | E89: =14.386+97.703+18+22.135+13.585+12.395+12.1+23.04+15.945+10.92+10.625 -> 250.834
C90: CHODBY, WC_2.NP = (-obklady) =-(12.39+7.35+8.4+8.19+8.55+7.35+7.035) | E90: =-(12.39+7.35+8.4+8.19+8.55+7.35+7.035) -> -59.265
B91: =B72+1 -> 16 | C91: Zapravení sanace trhlin - interiér | D91: mb | E91: 35 | G91: =E91*F91 -> 0 | M91: =340/N42 -> 365.5914
C92: Zahrubování prasklin tenkovrstvou maltou.
B93: =B91+1 -> 17 | C93: Zpravení drážek jádrovou omítkou | D93: soubor | E93: 1 | G93: =E93*F93 -> 0 | K93: =5*8*1*550*1.25 -> 27500 | M93: =27500/N42 -> 29569.892
C94: Zahrubování drážek po nově zbudovaných rozvodů ZTI jádrovou (hrubou) omítkou.
B95: =B93+1 -> 18 | C95: Penetrační nátěr stěn a stropu | D95: m2 | E95: =SUM(E98:E115) -> 1958.127 | G95: =E95*F95 -> 0 | K95: =70*1.25 -> 87.5 | M95: =88/N42 -> 94.623656
C96: Hloubková penetrace podkladu po oškrábání štukové vrstvy omítky.
C97: Výpočet: (strop + stěny)
C98: m.č. 123 = 11.21+42.05 = 53.26 | E98: =11.21+42.05 -> 53.26
C99: m.č. 124 = 64.65+136.503 = 201.153 | E99: =64.65+136.503 -> 201.153
C100: m.č. 125 = 50.81+93.506 = 144.316 | E100: =50.81+93.506 -> 144.316
C101: m.č. 127 = 51.48+93.131 = 144.611 | E101: =51.48+93.131 -> 144.611
C102: m.č. 128 = 26.73+88.604 = 115.334 | E102: =26.73+88.604 -> 115.334
...
