Workbook
Name CelkemDPHVypocet: Stavba!$H$45
Name CenaCelkem: Stavba!$G$29
Name CenaCelkemBezDPH: Stavba!$G$28
Name CenaCelkemVypocet: Stavba!$I$45
Name cisloobjektu: Stavba!$D$3
Name CisloRozpoctu: '[1]Krycí list'!$C$2
Name CisloStavby: Stavba!$D$2
Name cislostavby: '[1]Krycí list'!$A$7
Name CisloStavebnihoRozpoctu: Stavba!$D$4
Name dadresa: Stavba!$D$12:$G$12
Name DIČ: Stavba!$I$12
Name dmisto: Stavba!$E$13:$G$13
Name DPHSni: Stavba!$G$24
Name DPHZakl: Stavba!$G$26
Name dpsc: Stavba!$D$13
Name IČO: Stavba!$I$11
Name Mena: Stavba!$J$29
Name MistoStavby: Stavba!$D$4
Name nazevobjektu: Stavba!$E$3
Name NazevRozpoctu: '[1]Krycí list'!$D$2
Name NazevStavby: Stavba!$E$2
Name nazevstavby: '[1]Krycí list'!$C$7
Name NazevStavebnihoRozpoctu: Stavba!$E$4
Name oadresa: Stavba!$D$6
Name Objednatel: Stavba!$D$5
Name Objekt: Stavba!$B$38
Name odic: Stavba!$I$6
Name oico: Stavba!$I$5
Name omisto: Stavba!$E$7
Name onazev: Stavba!$D$6
Name opsc: Stavba!$D$7
Name padresa: Stavba!$D$9
Name pdic: Stavba!$I$9
Name pico: Stavba!$I$8
Name pmisto: Stavba!$E$10
Name PocetMJ: #REF!
Name PoptavkaID: Stavba!$A$1
Name pPSC: Stavba!$D$10
Name Projektant: Stavba!$D$8
Name SazbaDPH1: Stavba!$E$23
Name SazbaDPH1: '[1]Krycí list'!$C$30
Name SazbaDPH2: Stavba!$E$25
Name SazbaDPH2: '[1]Krycí list'!$C$32
Name SloupecCC: #REF!
Name SloupecCisloPol: #REF!
Name SloupecJC: #REF!
Name SloupecMJ: #REF!
Name SloupecMnozstvi: #REF!
Name SloupecNazPol: #REF!
Name SloupecPC: #REF!
Name Vypracoval: Stavba!$D$14
Name ZakladDPHSni: Stavba!$G$23
Name ZakladDPHSniVypocet: Stavba!$F$45
Name ZakladDPHZakl: Stavba!$G$25
Name ZakladDPHZaklVypocet: Stavba!$G$45
Name ZaObjednatele: Stavba!$G$34
Name Zaokrouhleni: Stavba!$G$27
Name ZaZhotovitele: Stavba!$D$34
Name Zhotovitel: Stavba!$D$11:$G$11

Sheet Pokyny pro vyplnění
A1: Pokyny pro vyplnění
A2: Ve všech listech tohoto souboru můžete měnit pouze buňky s modrým pozadím. Jedná se o tyto údaje : - údaje o firmě - jednotkové ceny položek zadané na maximálně dvě desetinná místa

Sheet Stavba
A1: #RTSROZP# | B1: Soupis stavebních prací, dodávek a služeb
B2: Stavba: | D2: 1230802 | E2: ZŠ Francova Lhota-pavilon I.stupně výměna střešní konstrukce+FVE
B5: Zadavatel | H5: IČO:
H6: DIČ:
B8: Projektant: | H8: IČO:
H9: DIČ:
B11: Zhotovitel: | H11: IČO:
H12: DIČ:
B14: Vypracoval:
B15: Rozpis ceny | I15: Celkem
A16: HSV | B16: HSV | I16: =SUMIF(F57:F80,A16,I57:I80)+SUMIF(F57:F80,"PSU",I57:I80) -> 0
A17: PSV | B17: PSV | I17: =SUMIF(F57:F80,A17,I57:I80) -> 0
A18: MON | B18: MON | I18: =SUMIF(F57:F80,A18,I57:I80) -> 0
A19: VN | B19: Vedlejší náklady | I19: =SUMIF(F57:F80,A19,I57:I80) -> 0
A20: ON | B20: Ostatní náklady | I20: =SUMIF(F57:F80,A20,I57:I80) -> 0
B21: Celkem | I21: =SUM(I16:J20) -> 0
B22: Rekapitulace daní
A23: =ZakladDPHSni*SazbaDPH1/100 -> 0 | B23: Základ pro sníženou DPH | E23: 15 | F23: % | G23: =ZakladDPHSniVypocet -> 0 | J23: =Mena -> CZK
A24: =(A23-INT(A23))*100 -> 0 | B24: Snížená DPH | E24: =SazbaDPH1 -> 15 | F24: % | G24: =ROUNDUP(A23, 0) -> 0 | J24: =Mena -> CZK
A25: =ZakladDPHZakl*SazbaDPH2/100 -> 0 | B25: Základ pro základní DPH | E25: 21 | F25: % | G25: =ZakladDPHZaklVypocet -> 0 | J25: =Mena -> CZK
A26: =(A25-INT(A25))*100 -> 0 | B26: Základní DPH | E26: =SazbaDPH2 -> 21 | F26: % | G26: =ROUNDUP(A25, 0) -> 0 | J26: =Mena -> CZK
A27: =ZakladDPHSni+DPHSni+ZakladDPHZakl+DPHZakl -> 0 | B27: Zaokrouhlení | G27: =CenaCelkem-(ZakladDPHSni+DPHSni+ZakladDPHZakl+DPHZakl) -> 0 | J27: =Mena -> CZK
B28: Cena celkem bez DPH | G28: =ZakladDPHSniVypocet+ZakladDPHZaklVypocet -> 0 | J28: =Mena -> CZK
A29: =(A27-INT(A27))*100 -> 0 | B29: Cena celkem s DPH | G29: =ROUNDUP(A27, 0) -> 0 | J29: CZK
C32: v | F32: dne
D35: Za zhotovitele | H35: Za objednatele
B37: Rekapitulace dílčích částí
A38: #CASTI>> | B38: Číslo | C38: Název | F38: =B23 -> Základ pro sníženou DPH | G38: =B25 -> Základ pro základní DPH | H38: DPH celkem | I38: Cena celkem | J38: %
A39: 1 | B39: Stavba | F39: ='SO 01 1 Pol'!AE266+'SO 02 3 Pol'!AE127 -> 0 | G39: ='SO 01 1 Pol'!AF266+'SO 02 3 Pol'!AF127 -> 0 | H39: =(F39*SazbaDPH1/100)+(G39*SazbaDPH2/100) -> 0 | I39: =F39+G39+H39 -> 0 | J39: =IF(CenaCelkemVypocet=0,"",I39/CenaCelkemVypocet*100)
A40: 2 | C40: Stavební objekt | H40: =(F40*SazbaDPH1/100)+(G40*SazbaDPH2/100) -> 0
A41: 2 | B41: SO 01 | C41: Výměna stření konstrukce | F41: ='SO 01 1 Pol'!AE266 -> 0 | G41: ='SO 01 1 Pol'!AF266 -> 0 | H41: =(F41*SazbaDPH1/100)+(G41*SazbaDPH2/100) -> 0 | I41: =F41+G41+H41 -> 0 | J41: =IF(CenaCelkemVypocet=0,"",I41/CenaCelkemVypocet*100)
A42: 3 | B42: 1 | C42: Rozpočet výměna střešní konstrukce | F42: ='SO 01 1 Pol'!AE266 -> 0 | G42: ='SO 01 1 Pol'!AF266 -> 0 | H42: =(F42*SazbaDPH1/100)+(G42*SazbaDPH2/100) -> 0 | I42: =F42+G42+H42 -> 0 | J42: =IF(CenaCelkemVypocet=0,"",I42/CenaCelkemVypocet*100)
A43: 2 | B43: SO 02 | C43: FVE | F43: ='SO 02 3 Pol'!AE127 -> 0 | G43: ='SO 02 3 Pol'!AF127 -> 0 | H43: =(F43*SazbaDPH1/100)+(G43*SazbaDPH2/100) -> 0 | I43: =F43+G43+H43 -> 0 | J43: =IF(CenaCelkemVypocet=0,"",I43/CenaCelkemVypocet*100)
A44: 3 | B44: 3 | C44: Rozpočet FVE | F44: ='SO 02 3 Pol'!AE127 -> 0 | G44: ='SO 02 3 Pol'!AF127 -> 0 | H44: =(F44*SazbaDPH1/100)+(G44*SazbaDPH2/100) -> 0 | I44: =F44+G44+H44 -> 0 | J44: =IF(CenaCelkemVypocet=0,"",I44/CenaCelkemVypocet*100)
B45: Celkem za stavbu | F45: =SUMIF(A39:A44,"=1",F39:F44) -> 0 | G45: =SUMIF(A39:A44,"=1",G39:G44) -> 0 | H45: =SUMIF(A39:A44,"=1",H39:H44) -> 0 | I45: =SUMIF(A39:A44,"=1",I39:I44) -> 0 | J45: =SUMIF(A39:A44,"=1",J39:J44) -> 0
A47: #POPS | B47: Popis stavby: 1230802 - ZŠ Francova Lhota-pavilon I.stupně výměna střešní konstrukce+FVE
A48: #POPO | B48: Popis objektu: SO 01 - Výměna stření konstrukce
A49: #POPR | B49: Popis rozpočtu: 1 - Rozpočet výměna střešní konstrukce
A50: #POPO | B50: Popis objektu: SO 02 - FVE
A51: #POPR | B51: Popis rozpočtu: 3 - Rozpočet FVE
B54: Rekapitulace dílů
B56: Číslo | C56: Název | F56: Typ dílu | I56: Celkem | J56: %
B57: 3 | C57: Svislé a kompletní konstrukce | F57: HSV | I57: ='SO 01 1 Pol'!G8 -> 0 | J57: =IF(I81=0,"",I57/I81*100)
B58: 4 | C58: Vodorovné konstrukce | F58: HSV | I58: ='SO 01 1 Pol'!G20 -> 0 | J58: =IF(I81=0,"",I58/I81*100)
B59: 94 | C59: Lešení a stavební výtahy | F59: HSV | I59: ='SO 01 1 Pol'!G46 -> 0 | J59: =IF(I81=0,"",I59/I81*100)
B60: 95 | C60: Dokončovací konstrukce na pozemních stavbách | F60: HSV | I60: ='SO 01 1 Pol'!G71 -> 0 | J60: =IF(I81=0,"",I60/I81*100)
B61: 96 | C61: Bourání konstrukcí | F61: HSV | I61: ='SO 01 1 Pol'!G79 -> 0 | J61: =IF(I81=0,"",I61/I81*100)
B62: 99 | C62: Staveništní přesun hmot | F62: HSV | I62: ='SO 01 1 Pol'!G91 -> 0 | J62: =IF(I81=0,"",I62/I81*100)
B63: VRN | C63: REVIZE | F63: HSV | I63: ='SO 02 3 Pol'!G120 -> 0 | J63: =IF(I81=0,"",I63/I81*100)
B64: 762 | C64: Konstrukce tesařské | F64: PSV | I64: ='SO 01 1 Pol'!G94 -> 0 | J64: =IF(I81=0,"",I64/I81*100)
B65: 764 | C65: Konstrukce klempířské | F65: PSV | I65: ='SO 01 1 Pol'!G163 -> 0 | J65: =IF(I81=0,"",I65/I81*100)
B66: 765 | C66: Krytiny tvrdé | F66: PSV | I66: ='SO 01 1 Pol'!G208 -> 0 | J66: =IF(I81=0,"",I66/I81*100)
B67: 766 | C67: Konstrukce truhlářské | F67: PSV | I67: ='SO 01 1 Pol'!G222 -> 0 | J67: =IF(I81=0,"",I67/I81*100)
B68: 767 | C68: Konstrukce zámečnické | F68: PSV | I68: ='SO 01 1 Pol'!G232 -> 0 | J68: =IF(I81=0,"",I68/I81*100)
B69: 783 | C69: Nátěry | F69: PSV | I69: ='SO 01 1 Pol'!G244 -> 0 | J69: =IF(I81=0,"",I69/I81*100)
B70: M21 | C70: Elektromontáže | F70: MON | I70: ='SO 01 1 Pol'!G254 -> 0 | J70: =IF(I81=0,"",I70/I81*100)
B71: M21 | C71: NAPOJENÍ R-FVE-2,3 ROZVADĚČŮM RP-2,3 | F71: MON | I71: ='SO 02 3 Pol'!G8 -> 0 | J71: =IF(I81=0,"",I71/I81*100)
B72: M22 | C72: ROZVADĚČE R-DC1a, R-DC1b | F72: MON | I72: ='SO 02 3 Pol'!G17 -> 0 | J72: =IF(I81=0,"",I72/I81*100)
B73: M23 | C73: ROZVADĚČ R-FVE-2 | F73: MON | I73: ='SO 02 3 Pol'!G21 -> 0 | J73: =IF(I81=0,"",I73/I81*100)
B74: M24 | C74: ROZVADĚČ R-FVE-3 | F74: MON | I74: ='SO 02 3 Pol'!G46 -> 0 | J74: =IF(I81=0,"",I74/I81*100)
B75: M25 | C75: ELEKTRÁRNA FVE | F75: MON | I75: ='SO 02 3 Pol'!G71 -> 0 | J75: =IF(I81=0,"",I75/I81*100)
B76: M26 | C76: INSTALAČNÍ MATERIÁL | F76: MON | I76: ='SO 02 3 Pol'!G78 -> 0 | J76: =IF(I81=0,"",I76/I81*100)
B77: M27 | C77: KABELY | F77: MON | I77: ='SO 02 3 Pol'!G94 -> 0 | J77: =IF(I81=0,"",I77/I81*100)
B78: M28 | C78: BOURACÍ A ZEDNICKÉ PRÁCE | F78: MON | I78: ='SO 02 3 Pol'!G113 -> 0 | J78: =IF(I81=0,"",I78/I81*100)
B79: M29 | C79: STAVEBNÍ PRÁCE | F79: MON | I79: ='SO 02 3 Pol'!G118 -> 0 | J79: =IF(I81=0,"",I79/I81*100)
B80: D96 | C80: Přesuny suti a vybouraných hmot | F80: PSU | I80: ='SO 01 1 Pol'!G256 -> 0 | J80: =IF(I81=0,"",I80/I81*100)
B81: Cena celkem | I81: =SUM(I57:I80) -> 0 | J81: =SUM(J57:J80) -> 0

Sheet VzorPolozky
A1: Položkový rozpočet
A2: S:
A3: O:
A4: R:

Sheet SO 01 1 Pol
A1: Položkový soupis prací a dodávek | AG1: #TypZaznamu#
A2: S: | B2: 1230802 | C2: ZŠ Francova Lhota-pavilon I.stupně výměna střešní konstrukce+FVE | AG2: STA
A3: O: | B3: SO 01 | C3: Výměna stření konstrukce | AC3: STA | AG3: OBJ
A4: R: | B4: 1 | C4: Rozpočet výměna střešní konstrukce | AG4: ROZ
A6: P.č. | B6: Číslo položky | C6: Název položky | D6: MJ | E6: Množství | F6: Cena / MJ | G6: Celkem | H6: Dodávka | I6: Dodávka celk. | J6: Montáž | K6: Montáž celk. | L6: DPH | M6: Cena s DPH | N6: Hmotnost / MJ | O6: Hmotnost celk.(t) | P6: Dem. hmotnost / MJ | Q6: Dem. hmotnost celk.(t) | R6: Ceník | S6: Cen. soustava / platnost | T6: Cenová úroveň | U6: Nhod / MJ | V6: Nhod celk. | W6: Dodavatel | X6: Typ položky | Y6: Stav položky
A8: Díl: | B8: 3 | C8: Svislé a kompletní konstrukce | G8: =SUMIF(AG9:AG19,"<>NOR",G9:G19) -> 0 | I8: =SUM(I9:I19) -> 0 | K8: =SUM(K9:K19) -> 0 | M8: =SUM(M9:M19) -> 0 | O8: =SUM(O9:O19) -> 23.86 | Q8: =SUM(Q9:Q19) -> 0 | V8: =SUM(V9:V19) -> 290.43 | AG8: DIL
A9: 1 | B9: 311231116RT3 | C9: Zdivo nosné z cihel a tvarovek pálených pod omítku z cihel plných, 290x140x65 mm, P 15, na maltu MC 10 | D9: m3 | E9: 12.2391 | G9: =ROUND(E9*F9,2) -> 0 | I9: =ROUND(E9*H9,2) -> 0 | K9: =ROUND(E9*J9,2) -> 0 | L9: 21 | M9: =G9*(1+L9/100) -> 0 | N9: 1.71716 | O9: =ROUND(E9*N9,2) -> 21.02 | P9: 0 | Q9: =ROUND(E9*P9,2) -> 0 | R9: 801-1 | S9: RTS 23/ II | T9: RTS 23/ I | U9: 3.765 | V9: =ROUND(E9*U9,2) -> 46.08 | X9: Práce | Y9: Běžná | AG9: POL1_
C10: Včetně pomocného lešení o výšce podlahy do 1,90 m a pro zatížení do 1,5 kPa. | AG10: POP
C11: dozdění nadezdívky po věnec: : (25,68+25,68+19,65+19,65)*0,3*0,45 | E11: 12.2391 | AG11: VV | AH11: 0
A12: 2 | B12: 389381001RT3 | C12: Dobetonování prefabrikovaných konstrukcí betonem třídy C 25/30 | D12: m3 | E12: 1.107 | G12: =ROUND(E12*F12,2) -> 0 | I12: =ROUND(E12*H12,2) -> 0 | K12: =ROUND(E12*J12,2) -> 0 | L12: 21 | M12: =G12*(1+L12/100) -> 0 | N12: 2.56981 | O12: =ROUND(E12*N12,2) -> 2.84 | P12: 0 | Q12: =ROUND(E12*P12,2) -> 0 | R12: 801-2 | S12: RTS 23/ II | T12: RTS 23/ I | U12: 3.93 | V12: =ROUND(E12*U12,2) -> 4.35 | X12: Práce | Y12: Běžná | AG12: POL1_
C13: se zřízením a odstraněním bednění | AG13: SPI
C14: dobetonování patek: : 0,45*0,45*0,3*4 | E14: 0.243 | AG14: VV | AH14: 0
C15: 0,6*0,3*0,3*8 | E15: 0.432 | AG15: VV | AH15: 0
C16: 0,6*0,6*0,3*4 | E16: 0.432 | AG16: VV | AH16: 0
A17: 3 | B17: 900 RT1 | C17: HZS, Práce v tarifní třídě 4 (např. tesař) | D17: h | E17: 240 | G17: =ROUND(E17*F17,2) -> 0 | I17: =ROUND(E17*H17,2) -> 0 | K17: =ROUND(E17*J17,2) -> 0 | L17: 21 | M17: =G17*(1+L17/100) -> 0 | N17: 0 | O17: =ROUND(E17*N17,2) -> 0 | P17: 0 | Q17: =ROUND(E17*P17,2) -> 0 | R17: Prav.M | S17: RTS 23/ II | T17: RTS 23/ I | U17: 1 | V17: =ROUND(E17*U17,2) -> 240 | X17: HZS | Y17: Běžná | AG17: POL10_
C18: nezměřitelné práce při vyzdívání a betonování konstrukcí: : | AG18: VV | AH18: 0
C19: účtováno dle skutečnosti: : 3*8*10 | E19: 240 | AG19: VV | AH19: 0
A20: Díl: | B20: 4 | C20: Vodorovné konstrukce | G20: =SUMIF(AG21:AG45,"<>NOR",G21:G45) -> 0 | I20: =SUM(I21:I45) -> 0 | K20: =SUM(K21:K45) -> 0 | M20: =SUM(M21:M45) -> 0 | O20: =SUM(O21:O45) -> 31.28 | Q20: =SUM(Q21:Q45) -> 0 | V20: =SUM(V21:V45) -> 153.21 | AG20: DIL
A21: 4 | B21: 411351101RT1 | C21: Bednění stropů deskových, balkonových nebo plošných konzol plné, rovné, popř. s náběhy bednící materiál prkna, bez podepření, zřízení | D21: m2 | E21: 11.52 | G21: =ROUND(E21*F21,2) -> 0 | I21: =ROUND(E21*H21,2) -> 0 | K21: =ROUND(E21*J21,2) -> 0 | L21: 21 | M21: =G21*(1+L21/100) -> 0 | N21: 0.03637 | O21: =ROUND(E21*N21,2) -> 0.42 | P21: 0 | Q21: =ROUND(E21*P21,2) -> 0 | R21: 801-1 | S21: RTS 23/ II | T21: RTS 23/ I | U21: 0.734 | V21: =ROUND(E21*U21,2) -> 8.46 | X21: Práce | Y21: Běžná | AG21: POL1_
C22: s pomocným lešením | AG22: SPI
C23: bednění patek: : (0,6+0,6+0,6+0,6)*0,4*12 | E23: 11.52 | AG23: VV | AH23: 0
A24: 5 | B24: 411351102R00 | C24: Bednění stropů deskových, balkonových nebo plošných konzol plné, rovné, popř. s náběhy , odstranění | D24: m2 | E24: 11.52 | G24: =ROUND(E24*F24,2) -> 0 | I24: =ROUND(E24*H24,2) -> 0 | K24: =ROUND(E24*J24,2) -> 0 | L24: 21 | M24: =G24*(1+L24/100) -> 0 | N24: 0 | O24: =ROUND(E24*N24,2) -> 0 | P24: 0 | Q24: =ROUND(E24*P24,2) -> 0 | R24: 801-1 | S24: RTS 23/ II | T24: RTS 23/ I | U24: 0.17 | V24: =ROUND(E24*U24,2) -> 1.96 | X24: Práce | Y24: Běžná | AG24: POL1_
C25: s pomocným lešením | AG25: SPI
C26: viz.bednění: : 11,52 | E26: 11.52 | AG26: VV | AH26: 0
A27: 6 | B27: 417321315R00 | C27: Železobeton ztužujících pásů a věnců třídy C 20/25 | D27: m3 | E27: 10.19925 | G27: =ROUND(E27*F27,2) -> 0 | I27: =ROUND(E27*H27,2) -> 0 | K27: =ROUND(E27*J27,2) -> 0 | L27: 21 | M27: =G27*(1+L27/100) -> 0 | N27: 2.52511 | O27: =ROUND(E27*N27,2) -> 25.75 | P27: 0 | Q27: =ROUND(E27*P27,2) -> 0 | R27: 801-1 | S27: RTS 23/ II | T27: RTS 23/ I | U27: 1.45 | V27: =ROUND(E27*U27,2) -> 14.79 | X27: Práce | Y27: Běžná | AG27: POL1_
C28: věnec ve střeše : (25,68+25,68+19,65+19,65)*0,45*0,25 | E28: 10.19925 | AG28: VV | AH28: 0
A29: 7 | B29: 417351111R00 | C29: Bednění bočnic ztužujících pásů a věnců včetně vzpěr obě strany, zřízení | D29: m | E29: 90.66 | G29: =ROUND(E29*F29,2) -> 0 | I29: =ROUND(E29*H29,2) -> 0 | K29: =ROUND(E29*J29,2) -> 0 | L29: 21 | M29: =G29*(1+L29/100) -> 0 | N29: 0.04965 | O29: =ROUND(E29*N29,2) -> 4.5 | P29: 0 | Q29: =ROUND(E29*P29,2) -> 0 | R29: 801-1 | S29: RTS 23/ II | T29: RTS 23/ I | U29: 0.94 | V29: =ROUND(E29*U29,2) -> 85.22 | X29: Práce | Y29: Běžná | AG29: POL1_
C30: věnec ve střeše : 25,68+25,68+19,65+19,65 | E30: 90.66 | AG30: VV | AH30: 0
A31: 8 | B31: 417351113R00 | C31: Bednění bočnic ztužujících pásů a věnců včetně vzpěr obě strany, odstranění | D31: m | E31: 90.66 | G31: =ROUND(E31*F31,2) -> 0 | I31: =ROUND(E31*H31,2) -> 0 | K31: =ROUND(E31*J31,2) -> 0 | L31: 21 | M31: =G31*(1+L31/100) -> 0 | N31: 0 | O31: =ROUND(E31*N31,2) -> 0 | P31: 0 | Q31: =ROUND(E31*P31,2) -> 0 | R31: 801-1 | S31: RTS 23/ II | T31: RTS 23/ I | U31: 0.29 | V31: =ROUND(E31*U31,2) -> 26.29 | X31: Práce | Y31: Běžná | AG31: POL1_
C32: věnec ve střeše : 25,68+25,68+19,65+19,65 | E32: 90.66 | AG32: VV | AH32: 0
A33: 9 | B33: 417361821R00 | C33: Výztuž ztužujících pásů a věnců z betonářské oceli 10 505(R) | D33: t | E33: 0.59574 | G33: =ROUND(E33*F33,2) -> 0 | I33: =ROUND(E33*H33,2) -> 0 | K33: =ROUND(E33*J33,2) -> 0 | L33: 21 | M33: =G33*(1+L33/100) -> 0 | N33: 1.01665 | O33: =ROUND(E33*N33,2) -> 0.61 | P33: 0 | Q33: =ROUND(E33*P33,2) -> 0 | R33: 801-1 | S33: RTS 23/ II | T33: RTS 23/ I | U33: 27.673 | V33: =ROUND(E33*U33,2) -> 16.49 | X33: Práce | Y33: Běžná | AG33: POL1_
C34: Včetně distančních prvků. | AG34: SPI
C35: věnec ve stropě z vložek, pruty 12 mm, hmotnost 0,888 kg/mb, počet 6 ks po obvodu : | AG35: VV | AH35: 0
C36: třmínky pruty 6 mm, hmotnost 0,222 kg/mb, délka 1,32, počet 4 ks/mb : | AG36: VV | AH36: 0
C37: věnec pod střechou : (25,68+25,68+19,65+19,65)*6*0,888/1000 | E37: 0.48304 | AG37: VV | AH37: 0
C38: třmínky : ((25,68+25,68+19,65+19,65)/(0,25))*1,4*0,222/1000 | E38: 0.11271 | AG38: VV | AH38: 0
A39: 10 | B39: 080165191400R | C39: Čerpadlo betonářské kolové SCHWING | D39: Sh | E39: 8 | G39: =ROUND(E39*F39,2) -> 0 | I39: =ROUND(E39*H39,2) -> 0 | K39: =ROUND(E39*J39,2) -> 0 | L39: 21 | M39: =G39*(1+L39/100) -> 0 | N39: 0 | O39: =ROUND(E39*N39,2) -> 0 | P39: 0 | Q39: =ROUND(E39*P39,2) -> 0 | R39: STROJ | S39: RTS 23/ II | T39: RTS 23/ I | U39: 0 | V39: =ROUND(E39*U39,2) -> 0 | X39: Stroj | Y39: Běžná | AG39: POL6_
C40: výložník 27 m | AG40: POP
C41: Cenu tvoří: | AG41: POP
C42: - sazba za hodinu použití | AG42: POP
C43: - sazba za technologické mytí (na 1 m3) | AG43: POP
C44: - sazba za km jízdy. Započteno 2x25 km. Poděleno objemem nádrže (4 m3) | AG44: POP
C45: účtováno dle skutečnosti: : 8 | E45: 8 | AG45: VV | AH45: 0
A46: Díl: | B46: 94 | C46: Lešení a stavební výtahy | G46: =SUMIF(AG47:AG70,"<>NOR",G47:G70) -> 0 | I46: =SUM(I47:I70) -> 0 | K46: =SUM(K47:K70) -> 0 | M46: =SUM(M47:M70) -> 0 | O46: =SUM(O47:O70) -> 25.76 | Q46: =SUM(Q47:Q70) -> 0 | V46: =SUM(V47:V70) -> 571.73 | AG46: DIL
A47: 11 | B47: 941941032R00 | C47: Montáž lešení lehkého pracovního řadového s podlahami šířky od 0,80 do 1,00 m, výšky přes 10 do 30 m | D47: m2 | E47: 1087.92 | G47: =ROUND(E47*F47,2) -> 0 | I47: =ROUND(E47*H47,2) -> 0 | K47: =ROUND(E47*J47,2) -> 0 | L47: 21 | M47: =G47*(1+L47/100) -> 0 | N47: 0.01838 | O47: =ROUND(E47*N47,2) -> 20 | P47: 0 | Q47: =ROUND(E47*P47,2) -> 0 | R47: 800-3 | S47: RTS 23/ II | T47: RTS 23/ I | U47: 0.123 | V47: =ROUND(E47*U47,2) -> 133.81 | X47: Práce | Y47: Běžná | AG47: POL1_
C48: včetně kotvení | AG48: SPI
C49: Včetně kotvení lešení. | AG49: POP
C50: lešení kolem budovy: : (25,68+25,68+19,65+19,65)*12 | E50: 1087.92 | AG50: VV | AH50: 0
A51: 12 | B51: 941941191R00 | C51: Montáž lešení lehkého pracovního řadového s podlahami příplatek za každý další i započatý měsíc použití lešení šířky šířky od 0,80 do 1,00 m a výšky do 10 m | D51: m2 | E51: 3263.76 | G51: =ROUND(E51*F51,2) -> 0 | I51: =ROUND(E51*H51,2) -> 0 | K51: =ROUND(E51*J51,2) -> 0 | L51: 21 | M51: =G51*(1+L51/100) -> 0 | N51: 0.00085 | O51: =ROUND(E51*N51,2) -> 2.77 | P51: 0 | Q51: =ROUND(E51*P51,2) -> 0 | R51: 800-3 | S51: RTS 23/ II | T51: RTS 23/ I | U51: 0.006 | V51: =ROUND(E51*U51,2) -> 19.58 | X51: Práce | Y51: Běžná | AG51: POL1_
C52: včetně kotvení | AG52: SPI
C53: předpoklad realizace 3 měsíce: : 1087,92*3 | E53: 3263.76 | AG53: VV | AH53: 0
A54: 13 | B54: 941941832R00 | C54: Demontáž lešení lehkého řadového s podlahami šířky od 0,8 do 1 m, výšky přes 10 do 30 m | D54: m2 | E54: 1087.92 | G54: =ROUND(E54*F54,2) -> 0 | I54: =ROUND(E54*H54,2) -> 0 | K54: =ROUND(E54*J54,2) -> 0 | L54: 21 | M54: =G54*(1+L54/100) -> 0 | N54: 0 | O54: =ROUND(E54*N54,2) -> 0 | P54: 0 | Q54: =ROUND(E54*P54,2) -> 0 | R54: 800-3 | S54: RTS 23/ II | T54: RTS 23/ I | U54: 0.105 | V54: =ROUND(E54*U54,2) -> 114.23 | X54: Práce | Y54: Běžná | AG54: POL1_
C55: lešení kolem budovy-demontáž: : (25,68+25,68+19,65+19,65)*12 | E55: 1087.92 | AG55: VV | AH55: 0
A56: 14 | B56: 941955003R00 | C56: Lešení lehké pracovní pomocné pomocné, o výšce lešeňové podlahy přes 1,9 do 2,5 m | D56: m2 | E56: 504.612 | G56: =ROUND(E56*F56,2) -> 0 | I56: =ROUND(E56*H56,2) -> 0 | K56: =ROUND(E56*J56,2) -> 0 | L56: 21 | M56: =G56*(1+L56/100) -> 0 | N56: 0.00592 | O56: =ROUND(E56*N56,2) -> 2.99 | P56: 0 | Q56: =ROUND(E56*P56,2) -> 0 | R56: 800-3 | S56: RTS 23/ II | T56: RTS 23/ I | U56: 0.26 | V56: =ROUND(E56*U56,2) -> 131.2 | X56: Práce | Y56: Běžná | AG56: POL1_
C57: lešení pro výměnu a demontáž střešní konstrukce: : 25,68*19,65 | E57: 504.612 | AG57: VV | AH57: 0
A58: 15 | B58: 944944011R00 | C58: Montáž ochranné sítě z umělých vláken | D58: m2 | E58: 1087.92 | G58: =ROUND(E58*F58,2) -> 0 | I58: =ROUND(E58*H58,2) -> 0 | K58: =ROUND(E58*J58,2) -> 0 | L58: 21 | M58: =G58*(1+L58/100) -> 0 | N58: 0 | O58: =ROUND(E58*N58,2) -> 0 | P58: 0 | Q58: =ROUND(E58*P58,2) -> 0 | R58: 800-3 | S58: RTS 23/ II | T58: RTS 23/ I | U58: 0.0303 | V58: =ROUND(E58*U58,2) -> 32.96 | X58: Práce | Y58: Běžná | AG58: POL1_
C59: viz.lešení: : 1087,92 | E59: 1087.92 | AG59: VV | AH59: 0
A60: 16 | B60: 944944081R00 | C60: Demontáž ochranné sítě z umělých vláken | D60: m2 | E60: 1087.92 | G60: =ROUND(E60*F60,2) -> 0 | I60: =ROUND(E60*H60,2) -> 0 | K60: =ROUND(E60*J60,2) -> 0 | L60: 21 | M60: =G60*(1+L60/100) -> 0 | N60: 0 | O60: =ROUND(E60*N60,2) -> 0 | P60: 0 | Q60: =ROUND(E60*P60,2) -> 0 | R60: 800-3 | S60: RTS 23/ II | T60: RTS 23/ I | U60: 0.018 | V60: =ROUND(E60*U60,2) -> 19.58 | X60: Práce | Y60: Běžná | AG60: POL1_
C61: viz.lešení: : 1087,92 | E61: 1087.92 | AG61: VV | AH61: 0
A62: 17 | B62: 945943001R00 | C62: Montáž závěsného lešení konzolového na chemické kotvy, průchozí šířka do 1 m, výška zábradlí 1,5 m | D62: m | E62: 39.3 | G62: =ROUND(E62*F62,2) -> 0 | I62: =ROUND(E62*H62,2) -> 0 | K62: =ROUND(E62*J62,2) -> 0 | L62: 21 | M62: =G62*(1+L62/100) -> 0 | N62: 0 | O62: =ROUND(E62*N62,2) -> 0 | P62: 0 | Q62: =ROUND(E62*P62,2) -> 0 | R62: 800-3 | S62: RTS 23/ II | T62: RTS 23/ I | U62: 1.99 | V62: =ROUND(E62*U62,2) -> 78.21 | X62: Práce | Y62: Běžná | AG62: POL1_
C63: horolezeckým způsobem pro montážní a údržbové práce na střechách, věžích, pro budování nástaveb na panelové domy, při stavbách a opravách komínů a říms, montáží podbití, instalaci reklam | AG63: SPI | BA63: =C63 -> horolezeckým způsobem pro montážní a údržbové práce na střechách, věžích, pro budování nástaveb na panelové domy, při stavbách a opravách komínů a říms, montáží podbití, instalaci reklam
C64: lešení konzolevé kolem napojovacích krčků: : 19,65*2 | E64: 39.3 | AG64: VV | AH64: 0
A65: 18 | B65: 945943091R00 | C65: Montáž závěsného lešení konzolového Pronájem konzolového lešení za den | D65: m | E65: 3537 | G65: =ROUND(E65*F65,2) -> 0 | I65: =ROUND(E65*H65,2) -> 0 | K65: =ROUND(E65*J65,2) -> 0 | L65: 21 | M65: =G65*(1+L65/100) -> 0 | N65: 0 | O65: =ROUND(E65*N65,2) -> 0 | P65: 0 | Q65: =ROUND(E65*P65,2) -> 0 | R65: 800-3 | S65: RTS 23/ II | T65: RTS 23/ I | U65: 0 | V65: =ROUND(E65*U65,2) -> 0 | X65: Práce | Y65: Běžná | AG65: POL1_
C66: horolezeckým způsobem pro montážní a údržbové práce na střechách, věžích, pro budování nástaveb na panelové domy, při stavbách a opravách komínů a říms, montáží podbití, instalaci reklam | AG66: SPI | BA66: =C66 -> horolezeckým způsobem pro montážní a údržbové práce na střechách, věžích, pro budování nástaveb na panelové domy, při stavbách a opravách komínů a říms, montáží podbití, instalaci reklam
C67: předpoklad realizace 3 měsíce: : 39,30*90 | E67: 3537 | AG67: VV | AH67: 0
A68: 19 | B68: 945943801R00 | C68: Demontáž závěsného lešení konzolového šířka do 1 m, výška zábradlí 1,5 m | D68: m | E68: 39.3 | G68: =ROUND(E68*F68,2) -> 0 | I68: =ROUND(E68*H68,2) -> 0 | K68: =ROUND(E68*J68,2) -> 0 | L68: 21 | M68: =G68*(1+L68/100) -> 0 | N68: 0 | O68: =ROUND(E68*N68,2) -> 0 | P68: 0 | Q68: =ROUND(E68*P68,2) -> 0 | R68: 800-3 | S68: RTS 23/ II | T68: RTS 23/ I | U68: 1.0728 | V68: =ROUND(E68*U68,2) -> 42.16 | X68: Práce | Y68: Běžná | AG68: POL1_
C69: horolezeckým způsobem | AG69: SPI
C70: lešení konzolevé kolem napojovacích krčků-demontáž: : 19,65*2 | E70: 39.3 | AG70: VV | AH70: 0
A71: Díl: | B71: 95 | C71: Dokončovací konstrukce na pozemních stavbách | G71: =SUMIF(AG72:AG78,"<>NOR",G72:G78) -> 0 | I71: =SUM(I72:I78) -> 0 | K71: =SUM(K72:K78) -> 0 | M71: =SUM(M72:M78) -> 0 | O71: =SUM(O72:O78) -> 0 | Q71: =SUM(Q72:Q78) -> 0 | V71: =SUM(V72:V78) -> 150.36 | AG71: DIL
A72: 20 | B72: 952901411R00 | C72: Vyčištění budov a ostatních objektů ostatních objektů (např. kanálů, zásobníků, kůlen apod.) - vynesení zbytků stavebního rumu, kropení a 2 x zametení podlah, oprášení stěn a výplní otvorů jakékoliv výšky podlaží | D72: m2 | E72: 1009.224 | G72: =ROUND(E72*F72,2) -> 0 | I72: =ROUND(E72*H72,2) -> 0 | K72: =ROUND(E72*J72,2) -> 0 | L72: 21 | M72: =G72*(1+L72/100) -> 0 | N72: 0 | O72: =ROUND(E72*N72,2) -> 0 | P72: 0 | Q72: =ROUND(E72*P72,2) -> 0 | R72: 801-1 | S72: RTS 23/ II | T72: RTS 23/ I | U72: 0.139 | V72: =ROUND(E72*U72,2) -> 140.28 | X72: Práce | Y72: Běžná | AG72: POL1_
C73: vyčištění půdy po demontážích a vyčištění po dokončení prací: : 25,68*19,65*2 | E73: 1009.224 | AG73: VV | AH73: 0
A74: 21 | B74: 953981101R00 | C74: Chemické kotvy do betonu, do cihelného zdiva do betonu, hloubky 80 mm, M 8, ampule pro chemickou kotvu | D74: kus | E74: 48 | G74: =ROUND(E74*F74,2) -> 0 | I74: =ROUND(E74*H74,2) -> 0 | K74: =ROUND(E74*J74,2) -> 0 | L74: 21 | M74: =G74*(1+L74/100) -> 0 | N74: 0 | O74: =ROUND(E74*N74,2) -> 0 | P74: 0 | Q74: =ROUND(E74*P74,2) -> 0 | R74: 801-4 | S74: RTS 23/ II | T74: RTS 22/ I | U74: 0.13 | V74: =ROUND(E74*U74,2) -> 6.24 | X74: Práce | Y74: Běžná | AG74: POL1_
C75: kotvení ocelové konstrukce: : 8*6 | E75: 48 | AG75: VV | AH75: 0
A76: 22 | B76: 953992111R00 | C76: Dodání a osazení hmoždinek ve stropech v klenbách z cihel, vnější profil hmoždinky 6 až 8 mm | D76: kus | E76: 48 | G76: =ROUND(E76*F76,2) -> 0 | I76: =ROUND(E76*H76,2) -> 0 | K76: =ROUND(E76*J76,2) -> 0 | L76: 21 | M76: =G76*(1+L76/100) -> 0 | N76: 0 | O76: =ROUND(E76*N76,2) -> 0 | P76: 0 | Q76: =ROUND(E76*P76,2) -> 0 | R76: 801-4 | S76: RTS 23/ II | T76: RTS 22/ I | U76: 0.08 | V76: =ROUND(E76*U76,2) -> 3.84 | X76: Práce | Y76: Běžná | AG76: POL1_
C77: včetně vyvrtání otvorů, | AG77: SPI
C78: kotvení ocelové konstrukce: : 8*6 | E78: 48 | AG78: VV | AH78: 0
A79: Díl: | B79: 96 | C79: Bourání konstrukcí | G79: =SUMIF(AG80:AG90,"<>NOR",G80:G90) -> 0 | I79: =SUM(I80:I90) -> 0 | K79: =SUM(K80:K90) -> 0 | M79: =SUM(M80:M90) -> 0 | O79: =SUM(O80:O90) -> 0.03 | Q79: =SUM(Q80:Q90) -> 50 | V79: =SUM(V80:V90) -> 46.94 | AG79: DIL
A80: 23 | B80: 962032241R00 | C80: Bourání zdiva nadzákladového z cihel pálených nebo vápenopískových, na maltu cementovou | D80: m3 | E80: 24.9315 | G80: =ROUND(E80*F80,2) -> 0 | I80: =ROUND(E80*H80,2) -> 0 | K80: =ROUND(E80*J80,2) -> 0 | L80: 21 | M80: =G80*(1+L80/100) -> 0 | N80: 0.00128 | O80: =ROUND(E80*N80,2) -> 0.03 | P80: 1.95 | Q80: =ROUND(E80*P80,2) -> 48.62 | R80: 801-3 | S80: RTS 23/ II | T80: RTS 23/ I | U80: 1.701 | V80: =ROUND(E80*U80,2) -> 42.41 | X80: Práce | Y80: Běžná | AG80: POL1_
C81: nebo vybourání otvorů průřezové plochy přes 4 m2 ve zdivu nadzákladovém, včetně pomocného lešení o výšce podlahy do 1900 mm a pro zatížení do 1,5 kPa (150 kg/m2) | AG81: SPI | BA81: =C81 -> nebo vybourání otvorů průřezové plochy přes 4 m2 ve zdivu nadzákladovém, včetně pomocného lešení o výšce podlahy do 1900 mm a pro zatížení do 1,5 kPa (150 kg/m2)
C82: demontáž stávající nadezdívky: : (25,68+25,68+19,65+19,65)*0,55*0,5 | E82: 24.9315 | AG82: VV | AH82: 0
A83: 24 | B83: 963012520R00 | C83: Bourání stropů z desek železobetonových z panelů šířky přes 300 mm a tloušťky přes 140 mm | D83: m3 | E83: 0.864 | G83: =ROUND(E83*F83,2) -> 0 | I83: =ROUND(E83*H83,2) -> 0 | K83: =ROUND(E83*J83,2) -> 0 | L83: 21 | M83: =G83*(1+L83/100) -> 0 | N83: 0.0031 | O83: =ROUND(E83*N83,2) -> 0 | P83: 1.6 | Q83: =ROUND(E83*P83,2) -> 1.38 | R83: 801-3 | S83: RTS 23/ II | T83: RTS 23/ I | U83: 5.244 | V83: =ROUND(E83*U83,2) -> 4.53 | X83: Práce | Y83: Běžná | AG83: POL1_
C84: nebo panelů železobetonových prefabrikovaných s dutinami, včetně pomocného lešení o výšce podlahy do 1900 mm a pro zatížení do 1,5 kPa (150 kg/m2), | AG84: SPI | BA84: =C84 -> nebo panelů železobetonových prefabrikovaných s dutinami, včetně pomocného lešení o výšce podlahy do 1900 mm a pro zatížení do 1,5 kPa (150 kg/m2),
C85: vybourání betonových patek: : 0,6*0,3*0,3*8 | E85: 0.432 | AG85: VV | AH85: 0
C86: 0,6*0,6*0,3*4 | E86: 0.432 | AG86: VV | AH86: 0
A87: 25 | B87: 31171308.AR | C87: kotva pro chemické kotvení typ šroub s rovným čelem pro chem.maltu; ocelová, galvanicky pozinkováno, pevnost 5.8; rozměr kotvy 8x110 mm; max.užitná délka 14 mm; d otvoru 10 mm; závit M8; hloubka závrtu 80 mm; kotevní hloubka 80 mm | D87: kus | E87: 48 | G87: =ROUND(E87*F87,2) -> 0 | I87: =ROUND(E87*H87,2) -> 0 | K87: =ROUND(E87*J87,2) -> 0 | L87: 21 | M87: =G87*(1+L87/100) -> 0 | N87: 0 | O87: =ROUND(E87*N87,2) -> 0 | P87: 0 | Q87: =ROUND(E87*P87,2) -> 0 | R87: SPCM | S87: RTS 23/ II | T87: RTS 22/ I | U87: 0 | V87: =ROUND(E87*U87,2) -> 0 | X87: Specifikace | Y87: Běžná | AG87: POL3_
C88: kotvení ocelové konstrukce: : 48 | E88: 48 | AG88: VV | AH88: 0
A89: 26 | B89: 31171800.AR | C89: ampule pro chem. kotvu závrtná; pr.ampule 8 mm; p. otvoru pro ampuli 10 mm; průměr otvoru ve fix.materiálu 9-10 mm; průměr otvoru v betonu 10 mm; min.hloubka otvoru 80 mm; max.síla fixovaného materiálu 18 mm; min.síla zákl.materiálu 100 mm; použitelnost vhodné pro beton, použitelné pro kámen, plnou cihlu, plné betonové bloky | D89: kus | E89: 48 | G89: =ROUND(E89*F89,2) -> 0 | I89: =ROUND(E89*H89,2) -> 0 | K89: =ROUND(E89*J89,2) -> 0 | L89: 21 | M89: =G89*(1+L89/100) -> 0 | N89: 0 | O89: =ROUND(E89*N89,2) -> 0 | P89: 0 | Q89: =ROUND(E89*P89,2) -> 0 | R89: SPCM | S89: RTS 23/ II | T89: RTS 22/ I | U89: 0 | V89: =ROUND(E89*U89,2) -> 0 | X89: Specifikace | Y89: Běžná | AG89: POL3_
C90: kotvení ocelové konstrukce: : 48 | E90: 48 | AG90: VV | AH90: 0
A91: Díl: | B91: 99 | C91: Staveništní přesun hmot | G91: =SUMIF(AG92:AG93,"<>NOR",G92:G93) -> 0 | I91: =SUM(I92:I93) -> 0 | K91: =SUM(K92:K93) -> 0 | M91: =SUM(M92:M93) -> 0 | O91: =SUM(O92:O93) -> 0 | Q91: =SUM(Q92:Q93) -> 0 | V91: =SUM(V92:V93) -> 153.13 | AG91: DIL
A92: 27 | B92: 999281108R00 | C92: Přesun hmot pro opravy a údržbu objektů pro opravy a údržbu dosavadních objektů včetně vnějších plášťů výšky do 12 m, | D92: t | E92: 80.93347 | G92: =ROUND(E92*F92,2) -> 0 | I92: =ROUND(E92*H92,2) -> 0 | K92: =ROUND(E92*J92,2) -> 0 | L92: 21 | M92: =G92*(1+L92/100) -> 0 | N92: 0 | O92: =ROUND(E92*N92,2) -> 0 | P92: 0 | Q92: =ROUND(E92*P92,2) -> 0 | R92: 801-4 | S92: RTS 23/ II | T92: RTS 23/ I | U92: 1.892 | V92: =ROUND(E92*U92,2) -> 153.13 | X92: Přesun hmot | Y92: Běžná | AG92: POL7_
C93: oborů 801, 803, 811 a 812 | AG93: SPI
A94: Díl: | B94: 762 | C94: Konstrukce tesařské | G94: =SUMIF(AG95:AG162,"<>NOR",G95:G162) -> 0 | I94: =SUM(I95:I162) -> 0 | K94: =SUM(K95:K162) -> 0 | M94: =SUM(M95:M162) -> 0 | O94: =SUM(O95:O162) -> 30.26 | Q94: =SUM(Q95:Q162) -> 33.28 | V94: =SUM(V95:V162) -> 1181.69 | AG94: DIL
A95: 28 | B95: 762088116R00 | C95: Zvláštní výkony zakrývání rozpracovaných tesařských konstrukcí těžkou plachtou na ochranu před srážkovou vodou, včetně odstranění 15 x 20 m | D95: kus | E95: 4 | G95: =ROUND(E95*F95,2) -> 0 | I95: =ROUND(E95*H95,2) -> 0 | K95: =ROUND(E95*J95,2) -> 0 | L95: 21 | M95: =G95*(1+L95/100) -> 0 | N95: 0.14369 | O95: =ROUND(E95*N95,2) -> 0.57 | P95: 0 | Q95: =ROUND(E95*P95,2) -> 0 | R95: 800-762 | S95: RTS 23/ II | T95: RTS 23/ I | U95: 30 | V95: =ROUND(E95*U95,2) -> 120 | X95: Práce | Y95: Běžná | AG95: POL1_
C96: Zakrývání rozpracovaných tesařských konstrukcí těžkou plachtou na ochranu před srážkovou vodou. | AG96: POP
A97: 29 | B97: 762313113R00 | C97: Montáž ocelových spojovacích prostředků svorníků, šroubů délky přes 300 do 450 mm | D97: kus | E97: 92 | G97: =ROUND(E97*F97,2) -> 0 | I97: =ROUND(E97*H97,2) -> 0 | K97: =ROUND(E97*J97,2) -> 0 | L97: 21 | M97: =G97*(1+L97/100) -> 0 | N97: 0 | O97: =ROUND(E97*N97,2) -> 0 | P97: 0 | Q97: =ROUND(E97*P97,2) -> 0 | R97: 800-762 | S97: RTS 23/ II | T97: RTS 23/ I | U97: 0.146 | V97: =ROUND(E97*U97,2) -> 13.43 | X97: Práce | Y97: Běžná | AG97: POL1_
C98: kotvení kleštin: : 26+26+20+20 | E98: 92 | AG98: VV | AH98: 0
A99: 30 | B99: 762311812R00 | C99: Demontáž kotevních želez přes 5 do 10 kg | D99: kus | E99: 206 | G99: =ROUND(E99*F99,2) -> 0 | I99: =ROUND(E99*H99,2) -> 0 | K99: =ROUND(E99*J99,2) -> 0 | L99: 21 | M99: =G99*(1+L99/100) -> 0 | N99: 0 | O99: =ROUND(E99*N99,2) -> 0 | P99: 0.01 | Q99: =ROUND(E99*P99,2) -> 2.06 | R99: 800-762 | S99: RTS 23/ II | T99: RTS 23/ I | U99: 0.1 | V99: =ROUND(E99*U99,2) -> 20.6 | X99: Práce | Y99: Běžná | AG99: POL1_
C100: demontáž kotevních prvků krovu: : 82+12+18+10+44+20+20 | E100: 206 | AG100: VV | AH100: 0
A101: 31 | B101: 762332120R00 | C101: Vázané konstrukce krovů montáž střech pultových, sedlových, valbových, stanových čtvercového nebo obdélníkového půdorysu z řeziva, průřezové plochy přes 120 do 224 cm2 | D101: m | E101: 302.77 | G101: =ROUND(E101*F101,2) -> 0 | I101: =ROUND(E101*H101,2) -> 0 | K101: =ROUND(E101*J101,2) -> 0 | L101: 21 | M101: =G101*(1+L101/100) -> 0 | N101: 0.00099 | O101: =ROUND(E101*N101,2) -> 0.3 | P101: 0 | Q101: =ROUND(E101*P101,2) -> 0 | R101: 800-762 | S101: RTS 23/ II | T101: RTS 23/ I | U101: 0.361 | V101: =ROUND(E101*U101,2) -> 109.3 | X101: Práce | Y101: Běžná | AG101: POL1_
C102: výpis viz.statický posudek: : | AG102: VV | AH102: 0
...

Sheet SO 02 3 Pol
A1: Položkový soupis prací a dodávek | AG1: #TypZaznamu#
A2: S: | B2: 1230802 | C2: ZŠ Francova Lhota-pavilon I.stupně výměna střešní konstrukce+FVE | AG2: STA
A3: O: | B3: SO 02 | C3: FVE | AC3: STA | AG3: OBJ
A4: R: | B4: 3 | C4: Rozpočet FVE | AG4: ROZ
A6: P.č. | B6: Číslo položky | C6: Název položky | D6: MJ | E6: Množství | F6: Cena / MJ | G6: Celkem | H6: Dodávka | I6: Dodávka celk. | J6: Montáž | K6: Montáž celk. | L6: DPH | M6: Cena s DPH | N6: Hmotnost / MJ | O6: Hmotnost celk.(t) | P6: Dem. hmotnost / MJ | Q6: Dem. hmotnost celk.(t) | R6: Ceník | S6: Cen. soustava / platnost | T6: Cenová úroveň | U6: Nhod / MJ | V6: Nhod celk. | W6: Dodavatel | X6: Typ položky | Y6: Stav položky
A8: Díl: | B8: M21 | C8: NAPOJENÍ R-FVE-2,3 ROZVADĚČŮM RP-2,3 | G8: =SUMIF(AG9:AG16,"<>NOR",G9:G16) -> 0 | I8: =SUM(I9:I16) -> 0 | K8: =SUM(K9:K16) -> 0 | M8: =SUM(M9:M16) -> 0 | O8: =SUM(O9:O16) -> 0 | Q8: =SUM(Q9:Q16) -> 0 | V8: =SUM(V9:V16) -> 0 | AG8: DIL
A9: 1 | B9: 21001 | C9: Pojistkový odpojovač modulový 3f-do 125A | D9: ks | E9: 1 | G9: =ROUND(E9*F9,2) -> 0 | I9: =ROUND(E9*H9,2) -> 0 | K9: =ROUND(E9*J9,2) -> 0 | L9: 21 | M9: =G9*(1+L9/100) -> 0 | N9: 0 | O9: =ROUND(E9*N9,2) -> 0 | P9: 0 | Q9: =ROUND(E9*P9,2) -> 0 | S9: Vlastní | T9: Indiv | U9: 0 | V9: =ROUND(E9*U9,2) -> 0 | X9: Práce | Y9: Běžná | AG9: POL1_9
A10: 2 | B10: 21002 | C10: Pojistkový odpojovač modulový 3f-do 63A | D10: ks | E10: 1 | G10: =ROUND(E10*F10,2) -> 0 | I10: =ROUND(E10*H10,2) -> 0 | K10: =ROUND(E10*J10,2) -> 0 | L10: 21 | M10: =G10*(1+L10/100) -> 0 | N10: 0 | O10: =ROUND(E10*N10,2) -> 0 | P10: 0 | Q10: =ROUND(E10*P10,2) -> 0 | S10: Vlastní | T10: Indiv | U10: 0 | V10: =ROUND(E10*U10,2) -> 0 | X10: Práce | Y10: Běžná | AG10: POL1_9
A11: 3 | B11: 21003 | C11: Pojistka válcová 22x58 mm-100A/gG | D11: ks | E11: 3 | G11: =ROUND(E11*F11,2) -> 0 | I11: =ROUND(E11*H11,2) -> 0 | K11: =ROUND(E11*J11,2) -> 0 | L11: 21 | M11: =G11*(1+L11/100) -> 0 | N11: 0 | O11: =ROUND(E11*N11,2) -> 0 | P11: 0 | Q11: =ROUND(E11*P11,2) -> 0 | S11: Vlastní | T11: Indiv | U11: 0 | V11: =ROUND(E11*U11,2) -> 0 | X11: Práce | Y11: Běžná | AG11: POL1_9
A12: 4 | B12: 21004 | C12: Pojistka válcová 14x51 mm-50A/gG | D12: ks | E12: 3 | G12: =ROUND(E12*F12,2) -> 0 | I12: =ROUND(E12*H12,2) -> 0 | K12: =ROUND(E12*J12,2) -> 0 | L12: 21 | M12: =G12*(1+L12/100) -> 0 | N12: 0 | O12: =ROUND(E12*N12,2) -> 0 | P12: 0 | Q12: =ROUND(E12*P12,2) -> 0 | S12: Vlastní | T12: Indiv | U12: 0 | V12: =ROUND(E12*U12,2) -> 0 | X12: Práce | Y12: Běžná | AG12: POL1_9
A13: 5 | B13: 21005 | C13: Kabel CYKY-J 5x35 mm2 | D13: m | E13: 40 | G13: =ROUND(E13*F13,2) -> 0 | I13: =ROUND(E13*H13,2) -> 0 | K13: =ROUND(E13*J13,2) -> 0 | L13: 21 | M13: =G13*(1+L13/100) -> 0 | N13: 0 | O13: =ROUND(E13*N13,2) -> 0 | P13: 0 | Q13: =ROUND(E13*P13,2) -> 0 | S13: Vlastní | T13: Indiv | U13: 0 | V13: =ROUND(E13*U13,2) -> 0 | X13: Práce | Y13: Běžná | AG13: POL1_9
A14: 6 | B14: 21006 | C14: Kabel CYKY-J 5x16 mm2 | D14: m | E14: 120 | G14: =ROUND(E14*F14,2) -> 0 | I14: =ROUND(E14*H14,2) -> 0 | K14: =ROUND(E14*J14,2) -> 0 | L14: 21 | M14: =G14*(1+L14/100) -> 0 | N14: 0 | O14: =ROUND(E14*N14,2) -> 0 | P14: 0 | Q14: =ROUND(E14*P14,2) -> 0 | S14: Vlastní | T14: Indiv | U14: 0 | V14: =ROUND(E14*U14,2) -> 0 | X14: Práce | Y14: Běžná | AG14: POL1_9
A15: 7 | B15: 21007 | C15: Ukončení kabelu CYKY-J 5x35 mm2 | D15: ks | E15: 2 | G15: =ROUND(E15*F15,2) -> 0 | I15: =ROUND(E15*H15,2) -> 0 | K15: =ROUND(E15*J15,2) -> 0 | L15: 21 | M15: =G15*(1+L15/100) -> 0 | N15: 0 | O15: =ROUND(E15*N15,2) -> 0 | P15: 0 | Q15: =ROUND(E15*P15,2) -> 0 | S15: Vlastní | T15: Indiv | U15: 0 | V15: =ROUND(E15*U15,2) -> 0 | X15: Práce | Y15: Běžná | AG15: POL1_9
A16: 8 | B16: 21008 | C16: Ukončení kabelu CYKY-J 5x16 mm2 | D16: ks | E16: 2 | G16: =ROUND(E16*F16,2) -> 0 | I16: =ROUND(E16*H16,2) -> 0 | K16: =ROUND(E16*J16,2) -> 0 | L16: 21 | M16: =G16*(1+L16/100) -> 0 | N16: 0 | O16: =ROUND(E16*N16,2) -> 0 | P16: 0 | Q16: =ROUND(E16*P16,2) -> 0 | S16: Vlastní | T16: Indiv | U16: 0 | V16: =ROUND(E16*U16,2) -> 0 | X16: Práce | Y16: Běžná | AG16: POL1_9
A17: Díl: | B17: M22 | C17: ROZVADĚČE R-DC1a, R-DC1b | G17: =SUMIF(AG18:AG20,"<>NOR",G18:G20) -> 0 | I17: =SUM(I18:I20) -> 0 | K17: =SUM(K18:K20) -> 0 | M17: =SUM(M18:M20) -> 0 | O17: =SUM(O18:O20) -> 0 | Q17: =SUM(Q18:Q20) -> 0 | V17: =SUM(V18:V20) -> 0 | AG17: DIL
A18: 9 | B18: 22001 | C18: Plastový domovní rozvaděč, 36(2x18) modulů, plná dvířka, rozměry 420x400x115 mm, IP65, včetně Cu, sběrnic N/PE | D18: ks | E18: 4 | G18: =ROUND(E18*F18,2) -> 0 | I18: =ROUND(E18*H18,2) -> 0 | K18: =ROUND(E18*J18,2) -> 0 | L18: 21 | M18: =G18*(1+L18/100) -> 0 | N18: 0 | O18: =ROUND(E18*N18,2) -> 0 | P18: 0 | Q18: =ROUND(E18*P18,2) -> 0 | S18: Vlastní | T18: Indiv | U18: 0 | V18: =ROUND(E18*U18,2) -> 0 | X18: Práce | Y18: Běžná | AG18: POL1_9
A19: 10 | B19: 22002 | C19: Pojistkový odpojovač modulový pro FVE - 2f-do 32A(1000V) | D19: ks | E19: 24 | G19: =ROUND(E19*F19,2) -> 0 | I19: =ROUND(E19*H19,2) -> 0 | K19: =ROUND(E19*J19,2) -> 0 | L19: 21 | M19: =G19*(1+L19/100) -> 0 | N19: 0 | O19: =ROUND(E19*N19,2) -> 0 | P19: 0 | Q19: =ROUND(E19*P19,2) -> 0 | S19: Vlastní | T19: Indiv | U19: 0 | V19: =ROUND(E19*U19,2) -> 0 | X19: Práce | Y19: Běžná | AG19: POL1_9
A20: 11 | B20: 22003 | C20: Svodič přepětí stupně B+C-DC, 1100/6,25 Y | D20: ks | E20: 24 | G20: =ROUND(E20*F20,2) -> 0 | I20: =ROUND(E20*H20,2) -> 0 | K20: =ROUND(E20*J20,2) -> 0 | L20: 21 | M20: =G20*(1+L20/100) -> 0 | N20: 0 | O20: =ROUND(E20*N20,2) -> 0 | P20: 0 | Q20: =ROUND(E20*P20,2) -> 0 | S20: Vlastní | T20: Indiv | U20: 0 | V20: =ROUND(E20*U20,2) -> 0 | X20: Práce | Y20: Běžná | AG20: POL1_9
A21: Díl: | B21: M23 | C21: ROZVADĚČ R-FVE-2 | G21: =SUMIF(AG22:AG45,"<>NOR",G22:G45) -> 0 | I21: =SUM(I22:I45) -> 0 | K21: =SUM(K22:K45) -> 0 | M21: =SUM(M22:M45) -> 0 | O21: =SUM(O22:O45) -> 0 | Q21: =SUM(Q22:Q45) -> 0 | V21: =SUM(V22:V45) -> 0 | AG21: DIL
A22: 12 | B22: 23001 | C22: Oceloplechový velkoobsahový rozvaděč, typ 3/72-C, oceloplechové dveře, 72(3x24) modulů, na omítku,, rozměry 600x543x140 mm, IP30, bílý | D22: ks | E22: 1 | G22: =ROUND(E22*F22,2) -> 0 | I22: =ROUND(E22*H22,2) -> 0 | K22: =ROUND(E22*J22,2) -> 0 | L22: 21 | M22: =G22*(1+L22/100) -> 0 | N22: 0 | O22: =ROUND(E22*N22,2) -> 0 | P22: 0 | Q22: =ROUND(E22*P22,2) -> 0 | S22: Vlastní | T22: Indiv | U22: 0 | V22: =ROUND(E22*U22,2) -> 0 | X22: Práce | Y22: Běžná | AG22: POL1_9
A23: 13 | B23: 23002 | C23: Izolovaná sběrnice do 16A - 3f | D23: m | E23: 0.7 | G23: =ROUND(E23*F23,2) -> 0 | I23: =ROUND(E23*H23,2) -> 0 | K23: =ROUND(E23*J23,2) -> 0 | L23: 21 | M23: =G23*(1+L23/100) -> 0 | N23: 0 | O23: =ROUND(E23*N23,2) -> 0 | P23: 0 | Q23: =ROUND(E23*P23,2) -> 0 | S23: Vlastní | T23: Indiv | U23: 0 | V23: =ROUND(E23*U23,2) -> 0 | X23: Práce | Y23: Běžná | AG23: POL1_9
A24: 14 | B24: 23003 | C24: Svorkovnice N - modrá | D24: ks | E24: 1 | G24: =ROUND(E24*F24,2) -> 0 | I24: =ROUND(E24*H24,2) -> 0 | K24: =ROUND(E24*J24,2) -> 0 | L24: 21 | M24: =G24*(1+L24/100) -> 0 | N24: 0 | O24: =ROUND(E24*N24,2) -> 0 | P24: 0 | Q24: =ROUND(E24*P24,2) -> 0 | S24: Vlastní | T24: Indiv | U24: 0 | V24: =ROUND(E24*U24,2) -> 0 | X24: Práce | Y24: Běžná | AG24: POL1_9
A25: 15 | B25: 23004 | C25: Svorkovnice PE - zelenožlutá | D25: ks | E25: 1 | G25: =ROUND(E25*F25,2) -> 0 | I25: =ROUND(E25*H25,2) -> 0 | K25: =ROUND(E25*J25,2) -> 0 | L25: 21 | M25: =G25*(1+L25/100) -> 0 | N25: 0 | O25: =ROUND(E25*N25,2) -> 0 | P25: 0 | Q25: =ROUND(E25*P25,2) -> 0 | S25: Vlastní | T25: Indiv | U25: 0 | V25: =ROUND(E25*U25,2) -> 0 | X25: Práce | Y25: Běžná | AG25: POL1_9
A26: 16 | B26: 23005 | C26: Jistič třífázový 40B/3, 10kA | D26: ks | E26: 1 | G26: =ROUND(E26*F26,2) -> 0 | I26: =ROUND(E26*H26,2) -> 0 | K26: =ROUND(E26*J26,2) -> 0 | L26: 21 | M26: =G26*(1+L26/100) -> 0 | N26: 0 | O26: =ROUND(E26*N26,2) -> 0 | P26: 0 | Q26: =ROUND(E26*P26,2) -> 0 | S26: Vlastní | T26: Indiv | U26: 0 | V26: =ROUND(E26*U26,2) -> 0 | X26: Práce | Y26: Běžná | AG26: POL1_9
A27: 17 | B27: 23006 | C27: Napěťová spoušť 230V | D27: ks | E27: 1 | G27: =ROUND(E27*F27,2) -> 0 | I27: =ROUND(E27*H27,2) -> 0 | K27: =ROUND(E27*J27,2) -> 0 | L27: 21 | M27: =G27*(1+L27/100) -> 0 | N27: 0 | O27: =ROUND(E27*N27,2) -> 0 | P27: 0 | Q27: =ROUND(E27*P27,2) -> 0 | S27: Vlastní | T27: Indiv | U27: 0 | V27: =ROUND(E27*U27,2) -> 0 | X27: Práce | Y27: Běžná | AG27: POL1_9
A28: 18 | B28: 23007 | C28: Komb. svodič přepětí stupně B+C, 12,5-3N-MZ, TNS, 4-pólový | D28: kpl. | E28: 1 | G28: =ROUND(E28*F28,2) -> 0 | I28: =ROUND(E28*H28,2) -> 0 | K28: =ROUND(E28*J28,2) -> 0 | L28: 21 | M28: =G28*(1+L28/100) -> 0 | N28: 0 | O28: =ROUND(E28*N28,2) -> 0 | P28: 0 | Q28: =ROUND(E28*P28,2) -> 0 | S28: Vlastní | T28: Indiv | U28: 0 | V28: =ROUND(E28*U28,2) -> 0 | X28: Práce | Y28: Běžná | AG28: POL1_9
A29: 19 | B29: 23008 | C29: Napěťová ochrana | D29: ks | E29: 1 | G29: =ROUND(E29*F29,2) -> 0 | I29: =ROUND(E29*H29,2) -> 0 | K29: =ROUND(E29*J29,2) -> 0 | L29: 21 | M29: =G29*(1+L29/100) -> 0 | N29: 0 | O29: =ROUND(E29*N29,2) -> 0 | P29: 0 | Q29: =ROUND(E29*P29,2) -> 0 | S29: Vlastní | T29: Indiv | U29: 0 | V29: =ROUND(E29*U29,2) -> 0 | X29: Práce | Y29: Běžná | AG29: POL1_9
A30: 20 | B30: 23009 | C30: Frekvenční ochrana | D30: ks | E30: 1 | G30: =ROUND(E30*F30,2) -> 0 | I30: =ROUND(E30*H30,2) -> 0 | K30: =ROUND(E30*J30,2) -> 0 | L30: 21 | M30: =G30*(1+L30/100) -> 0 | N30: 0 | O30: =ROUND(E30*N30,2) -> 0 | P30: 0 | Q30: =ROUND(E30*P30,2) -> 0 | S30: Vlastní | T30: Indiv | U30: 0 | V30: =ROUND(E30*U30,2) -> 0 | X30: Práce | Y30: Běžná | AG30: POL1_9
A31: 21 | B31: 23010 | C31: Stykač instalační třífázový, 400V/63A/44kW, Uc=230V, 4P | D31: ks | E31: 1 | G31: =ROUND(E31*F31,2) -> 0 | I31: =ROUND(E31*H31,2) -> 0 | K31: =ROUND(E31*J31,2) -> 0 | L31: 21 | M31: =G31*(1+L31/100) -> 0 | N31: 0 | O31: =ROUND(E31*N31,2) -> 0 | P31: 0 | Q31: =ROUND(E31*P31,2) -> 0 | S31: Vlastní | T31: Indiv | U31: 0 | V31: =ROUND(E31*U31,2) -> 0 | X31: Práce | Y31: Běžná | AG31: POL1_9
A32: 22 | B32: 23011 | C32: Relé instalační , 16A, Uc=230V, 1x spínací kontakt | D32: ks | E32: 1 | G32: =ROUND(E32*F32,2) -> 0 | I32: =ROUND(E32*H32,2) -> 0 | K32: =ROUND(E32*J32,2) -> 0 | L32: 21 | M32: =G32*(1+L32/100) -> 0 | N32: 0 | O32: =ROUND(E32*N32,2) -> 0 | P32: 0 | Q32: =ROUND(E32*P32,2) -> 0 | S32: Vlastní | T32: Indiv | U32: 0 | V32: =ROUND(E32*U32,2) -> 0 | X32: Práce | Y32: Běžná | AG32: POL1_9
A33: 23 | B33: 23012 | C33: Pojistkový odpojovač modulový, 1f-do 32A | D33: ks | E33: 1 | G33: =ROUND(E33*F33,2) -> 0 | I33: =ROUND(E33*H33,2) -> 0 | K33: =ROUND(E33*J33,2) -> 0 | L33: 21 | M33: =G33*(1+L33/100) -> 0 | N33: 0 | O33: =ROUND(E33*N33,2) -> 0 | P33: 0 | Q33: =ROUND(E33*P33,2) -> 0 | S33: Vlastní | T33: Indiv | U33: 0 | V33: =ROUND(E33*U33,2) -> 0 | X33: Práce | Y33: Běžná | AG33: POL1_9
... A45: 35 | B45: 23024 | C45: Nalepovací štítek - "Nehasit vodou" | D45: ks | E45: 1 | G45: =ROUND(E45*F45,2) -> 0 | I45: =ROUND(E45*H45,2) -> 0 | K45: =ROUND(E45*J45,2) -> 0 | L45: 21 | M45: =G45*(1+L45/100) -> 0 | N45: 0 | O45: =ROUND(E45*N45,2) -> 0 | P45: 0 | Q45: =ROUND(E45*P45,2) -> 0 | S45: Vlastní | T45: Indiv | U45: 0 | V45: =ROUND(E45*U45,2) -> 0 | X45: Práce | Y45: Běžná | AG45: POL1_9
A46: Díl: | B46: M24 | C46: ROZVADĚČ R-FVE-3 | G46: =SUMIF(AG47:AG70,"<>NOR",G47:G70) -> 0 | I46: =SUM(I47:I70) -> 0 | K46: =SUM(K47:K70) -> 0 | M46: =SUM(M47:M70) -> 0 | O46: =SUM(O47:O70) -> 0 | Q46: =SUM(Q47:Q70) -> 0 | V46: =SUM(V47:V70) -> 0 | AG46: DIL
A47: 36 | B47: 24001 | C47: Oceloplechový velkoobsahový rozvaděč, typ 3/72-C, oceloplechové dveře, 72(3x24) modulů, na omítku,, rozměry 600x543x140 mm, IP30, bílý | D47: ks | E47: 1 | G47: =ROUND(E47*F47,2) -> 0 | I47: =ROUND(E47*H47,2) -> 0 | K47: =ROUND(E47*J47,2) -> 0 | L47: 21 | M47: =G47*(1+L47/100) -> 0 | N47: 0 | O47: =ROUND(E47*N47,2) -> 0 | P47: 0 | Q47: =ROUND(E47*P47,2) -> 0 | S47: Vlastní | T47: Indiv | U47: 0 | V47: =ROUND(E47*U47,2) -> 0 | X47: Práce | Y47: Běžná | AG47: POL1_9
A48: 37 | B48: 24002 | C48: Izolovaná sběrnice do 16A - 3f | D48: m | E48: 0.7 | G48: =ROUND(E48*F48,2) -> 0 | I48: =ROUND(E48*H48,2) -> 0 | K48: =ROUND(E48*J48,2) -> 0 | L48: 21 | M48: =G48*(1+L48/100) -> 0 | N48: 0 | O48: =ROUND(E48*N48,2) -> 0 | P48: 0 | Q48: =ROUND(E48*P48,2) -> 0 | S48: Vlastní | T48: Indiv | U48: 0 | V48: =ROUND(E48*U48,2) -> 0 | X48: Práce | Y48: Běžná | AG48: POL1_9
A49: 38 | B49: 24003 | C49: Svorkovnice N - modrá | D49: ks | E49: 1 | G49: =ROUND(E49*F49,2) -> 0 | I49: =ROUND(E49*H49,2) -> 0 | K49: =ROUND(E49*J49,2) -> 0 | L49: 21 | M49: =G49*(1+L49/100) -> 0 | N49: 0 | O49: =ROUND(E49*N49,2) -> 0 | P49: 0 | Q49: =ROUND(E49*P49,2) -> 0 | S49: Vlastní | T49: Indiv | U49: 0 | V49: =ROUND(E49*U49,2) -> 0 | X49: Práce | Y49: Běžná | AG49: POL1_9
A50: 39 | B50: 24004 | C50: Svorkovnice PE - zelenožlutá | D50: ks | E50: 1 | G50: =ROUND(E50*F50,2) -> 0 | I50: =ROUND(E50*H50,2) -> 0 | K50: =ROUND(E50*J50,2) -> 0 | L50: 21 | M50: =G50*(1+L50/100) -> 0 | N50: 0 | O50: =ROUND(E50*N50,2) -> 0 | P50: 0 | Q50: =ROUND(E50*P50,2) -> 0 | S50: Vlastní | T50: Indiv | U50: 0 | V50: =ROUND(E50*U50,2) -> 0 | X50: Práce | Y50: Běžná | AG50: POL1_9
A51: 40 | B51: 24005 | C51: Jistič třífázový 100B/3, 10kA | D51: ks | E51: 1 | G51: =ROUND(E51*F51,2) -> 0 | I51: =ROUND(E51*H51,2) -> 0 | K51: =ROUND(E51*J51,2) -> 0 | L51: 21 | M51: =G51*(1+L51/100) -> 0 | N51: 0 | O51: =ROUND(E51*N51,2) -> 0 | P51: 0 | Q51: =ROUND(E51*P51,2) -> 0 | S51: Vlastní | T51: Indiv | U51: 0 | V51: =ROUND(E51*U51,2) -> 0 | X51: Práce | Y51: Běžná | AG51: POL1_9
A52: 41 | B52: 24006 | C52: Napěťová spoušť 230V | D52: ks | E52: 1 | G52: =ROUND(E52*F52,2) -> 0 | I52: =ROUND(E52*H52,2) -> 0 | K52: =ROUND(E52*J52,2) -> 0 | L52: 21 | M52: =G52*(1+L52/100) -> 0 | N52: 0 | O52: =ROUND(E52*N52,2) -> 0 | P52: 0 | Q52: =ROUND(E52*P52,2) -> 0 | S52: Vlastní | T52: Indiv | U52: 0 | V52: =ROUND(E52*U52,2) -> 0 | X52: Práce | Y52: Běžná | AG52: POL1_9
A53: 42 | B53: 24007 | C53: Komb. svodič přepětí stupně B+C, 12,5-3N-MZ, TNS, 4-pólový | D53: kpl. | E53: 1 | G53: =ROUND(E53*F53,2) -> 0 | I53: =ROUND(E53*H53,2) -> 0 | K53: =ROUND(E53*J53,2) -> 0 | L53: 21 | M53: =G53*(1+L53/100) -> 0 | N53: 0 | O53: =ROUND(E53*N53,2) -> 0 | P53: 0 | Q53: =ROUND(E53*P53,2) -> 0 | S53: Vlastní | T53: Indiv | U53: 0 | V53: =ROUND(E53*U53,2) -> 0 | X53: Práce | Y53: Běžná | AG53: POL1_9
A54: 43 | B54: 24008 | C54: Napěťová ochrana | D54: ks | E54: 1 | G54: =ROUND(E54*F54,2) -> 0 | I54: =ROUND(E54*H54,2) -> 0 | K54: =ROUND(E54*J54,2) -> 0 | L54: 21 | M54: =G54*(1+L54/100) -> 0 | N54: 0 | O54: =ROUND(E54*N54,2) -> 0 | P54: 0 | Q54: =ROUND(E54*P54,2) -> 0 | S54: Vlastní | T54: Indiv | U54: 0 | V54: =ROUND(E54*U54,2) -> 0 | X54: Práce | Y54: Běžná | AG54: POL1_9
A55: 44 | B55: 24009 | C55: Frekvenční ochrana | D55: ks | E55: 1 | G55: =ROUND(E55*F55,2) -> 0 | I55: =ROUND(E55*H55,2) -> 0 | K55: =ROUND(E55*J55,2) -> 0 | L55: 21 | M55: =G55*(1+L55/100) -> 0 | N55: 0 | O55: =ROUND(E55*N55,2) -> 0 | P55: 0 | Q55: =ROUND(E55*P55,2) -> 0 | S55: Vlastní | T55: Indiv | U55: 0 | V55: =ROUND(E55*U55,2) -> 0 | X55: Práce | Y55: Běžná | AG55: POL1_9
A56: 45 | B56: 24010 | C56: Stykač instalační třífázový, 400V/100A/69kW, Uc=230V, 4P | D56: ks | E56: 1 | G56: =ROUND(E56*F56,2) -> 0 | I56: =ROUND(E56*H56,2) -> 0 | K56: =ROUND(E56*J56,2) -> 0 | L56: 21 | M56: =G56*(1+L56/100) -> 0 | N56: 0 | O56: =ROUND(E56*N56,2) -> 0 | P56: 0 | Q56: =ROUND(E56*P56,2) -> 0 | S56: Vlastní | T56: Indiv | U56: 0 | V56: =ROUND(E56*U56,2) -> 0 | X56: Práce | Y56: Běžná | AG56: POL1_9
A57: 46 | B57: 24011 | C57: Relé instalační , 16A, Uc=230V, 1x spínací kontakt | D57: ks | E57: 1 | G57: =ROUND(E57*F57,2) -> 0 | I57: =ROUND(E57*H57,2) -> 0 | K57: =ROUND(E57*J57,2) -> 0 | L57: 21 | M57: =G57*(1+L57/100) -> 0 | N57: 0 | O57: =ROUND(E57*N57,2) -> 0 | P57: 0 | Q57: =ROUND(E57*P57,2) -> 0 | S57: Vlastní | T57: Indiv | U57: 0 | V57: =ROUND(E57*U57,2) -> 0 | X57: Práce | Y57: Běžná | AG57: POL1_9
A58: 47 | B58: 24012 | C58: Pojistkový odpojovač modulový, 1f-do 32A | D58: ks | E58: 1 | G58: =ROUND(E58*F58,2) -> 0 | I58: =ROUND(E58*H58,2) -> 0 | K58: =ROUND(E58*J58,2) -> 0 | L58: 21 | M58: =G58*(1+L58/100) -> 0 | N58: 0 | O58: =ROUND(E58*N58,2) -> 0 | P58: 0 | Q58: =ROUND(E58*P58,2) -> 0 | S58: Vlastní | T58: Indiv | U58: 0 | V58: =ROUND(E58*U58,2) -> 0 | X58: Práce | Y58: Běžná | AG58: POL1_9
... A70: 59 | B70: 24024 | C70: Nalepovací štítek - "Nehasit vodou" | D70: ks | E70: 1 | G70: =ROUND(E70*F70,2) -> 0 | I70: =ROUND(E70*H70,2) -> 0 | K70: =ROUND(E70*J70,2) -> 0 | L70: 21 | M70: =G70*(1+L70/100) -> 0 | N70: 0 | O70: =ROUND(E70*N70,2) -> 0 | P70: 0 | Q70: =ROUND(E70*P70,2) -> 0 | S70: Vlastní | T70: Indiv | U70: 0 | V70: =ROUND(E70*U70,2) -> 0 | X70: Práce | Y70: Běžná | AG70: POL1_9
A71: Díl: | B71: M25 | C71: ELEKTRÁRNA FVE | G71: =SUMIF(AG72:AG77,"<>NOR",G72:G77) -> 0 | I71: =SUM(I72:I77) -> 0 | K71: =SUM(K72:K77) -> 0 | M71: =SUM(M72:M77) -> 0 | O71: =SUM(O72:O77) -> 0 | Q71: =SUM(Q72:Q77) -> 0 | V71: =SUM(V72:V77) -> 0 | AG71: DIL
A72: 60 | B72: 25001 | C72: Střídač bez-transformátorový, třífázový, hybridní , bez integrovaného jištění a ochrany DC strany,, 400V/29.9 kW | D72: ks | E72: 4 | G72: =ROUND(E72*F72,2) -> 0 | I72: =ROUND(E72*H72,2) -> 0 | K72: =ROUND(E72*J72,2) -> 0 | L72: 21 | M72: =G72*(1+L72/100) -> 0 | N72: 0 | O72: =ROUND(E72*N72,2) -> 0 | P72: 0 | Q72: =ROUND(E72*P72,2) -> 0 | S72: Vlastní | T72: Indiv | U72: 0 | V72: =ROUND(E72*U72,2) -> 0 | X72: Práce | Y72: Běžná | AG72: POL1_9
A73: 61 | B73: 25002 | C73: Konstrukce pod střídač | D73: ks | E73: 4 | G73: =ROUND(E73*F73,2) -> 0 | I73: =ROUND(E73*H73,2) -> 0 | K73: =ROUND(E73*J73,2) -> 0 | L73: 21 | M73: =G73*(1+L73/100) -> 0 | N73: 0 | O73: =ROUND(E73*N73,2) -> 0 | P73: 0 | Q73: =ROUND(E73*P73,2) -> 0 | S73: Vlastní | T73: Indiv | U73: 0 | V73: =ROUND(E73*U73,2) -> 0 | X73: Práce | Y73: Běžná | AG73: POL1_9
A74: 62 | B74: 25003 | C74: Solární bateriové úložiště o celkové kapacitě 18,63 kWh, v sestavě řídícího modulu a 5 ks, bateriového modulu 3.73 kWh/96V/LiFePo4 | D74: kpl. | E74: 4 | G74: =ROUND(E74*F74,2) -> 0 | I74: =ROUND(E74*H74,2) -> 0 | K74: =ROUND(E74*J74,2) -> 0 | L74: 21 | M74: =G74*(1+L74/100) -> 0 | N74: 0 | O74: =ROUND(E74*N74,2) -> 0 | P74: 0 | Q74: =ROUND(E74*P74,2) -> 0 | S74: Vlastní | T74: Indiv | U74: 0 | V74: =ROUND(E74*U74,2) -> 0 | X74: Práce | Y74: Běžná | AG74: POL1_9
A75: 63 | B75: 25004 | C75: Monokrystalický solární panel, 450 Wp, rozměry 1038x2094x30 mm, kompozitní film | D75: ks | E75: 169 | G75: =ROUND(E75*F75,2) -> 0 | I75: =ROUND(E75*H75,2) -> 0 | K75: =ROUND(E75*J75,2) -> 0 | L75: 21 | M75: =G75*(1+L75/100) -> 0 | N75: 0 | O75: =ROUND(E75*N75,2) -> 0 | P75: 0 | Q75: =ROUND(E75*P75,2) -> 0 | S75: Vlastní | T75: Indiv | U75: 0 | V75: =ROUND(E75*U75,2) -> 0 | X75: Práce | Y75: Běžná | AG75: POL1_9
A76: 64 | B76: 25005 | C76: Konstrukce pod panely, Al profily, podpěry, spojovací materiál | D76: kpl. | E76: 1 | G76: =ROUND(E76*F76,2) -> 0 | I76: =ROUND(E76*H76,2) -> 0 | K76: =ROUND(E76*J76,2) -> 0 | L76: 21 | M76: =G76*(1+L76/100) -> 0 | N76: 0 | O76: =ROUND(E76*N76,2) -> 0 | P76: 0 | Q76: =ROUND(E76*P76,2) -> 0 | S76: Vlastní | T76: Indiv | U76: 0 | V76: =ROUND(E76*U76,2) -> 0 | X76: Práce | Y76: Běžná | AG76: POL1_9
A77: 65 | B77: 25006 | C77: Tlačítko pod sklem, 10A, 250V | D77: ks | E77: 2 | G77: =ROUND(E77*F77,2) -> 0 | I77: =ROUND(E77*H77,2) -> 0 | K77: =ROUND(E77*J77,2) -> 0 | L77: 21 | M77: =G77*(1+L77/100) -> 0 | N77: 0 | O77: =ROUND(E77*N77,2) -> 0 | P77: 0 | Q77: =ROUND(E77*P77,2) -> 0 | S77: Vlastní | T77: Indiv | U77: 0 | V77: =ROUND(E77*U77,2) -> 0 | X77: Práce | Y77: Běžná | AG77: POL1_9
A78: Díl: | B78: M26 | C78: INSTALAČNÍ MATERIÁL | G78: =SUMIF(AG79:AG93,"<>NOR",G79:G93) -> 0 | I78: =SUM(I79:I93) -> 0 | K78: =SUM(K79:K93) -> 0 | M78: =SUM(M79:M93) -> 0 | O78: =SUM(O79:O93) -> 0 | Q78: =SUM(Q79:Q93) -> 0 | V78: =SUM(V79:V93) -> 0 | AG78: DIL
A79: 66 | B79: 26001 | C79: Drátěný žlab MERKUR 50x60 mm | D79: m | E79: 80 | G79: =ROUND(E79*F79,2) -> 0 | I79: =ROUND(E79*H79,2) -> 0 | K79: =ROUND(E79*J79,2) -> 0 | L79: 21 | M79: =G79*(1+L79/100) -> 0 | N79: 0 | O79: =ROUND(E79*N79,2) -> 0 | P79: 0 | Q79: =ROUND(E79*P79,2) -> 0 | S79: Vlastní | T79: Indiv | U79: 0 | V79: =ROUND(E79*U79,2) -> 0 | X79: Práce | Y79: Běžná | AG79: POL1_9
A80: 67 | B80: 26002 | C80: Spojka NS 50 | D80: ks | E80: 60 | G80: =ROUND(E80*F80,2) -> 0 | I80: =ROUND(E80*H80,2) -> 0 | K80: =ROUND(E80*J80,2) -> 0 | L80: 21 | M80: =G80*(1+L80/100) -> 0 | N80: 0 | O80: =ROUND(E80*N80,2) -> 0 | P80: 0 | Q80: =ROUND(E80*P80,2) -> 0 | S80: Vlastní | T80: Indiv | U80: 0 | V80: =ROUND(E80*U80,2) -> 0 | X80: Práce | Y80: Běžná | AG80: POL1_9
A81: 68 | B81: 26003 | C81: Držák střední DS 100 | D81: ks | E81: 60 | G81: =ROUND(E81*F81,2) -> 0 | I81: =ROUND(E81*H81,2) -> 0 | K81: =ROUND(E81*J81,2) -> 0 | L81: 21 | M81: =G81*(1+L81/100) -> 0 | N81: 0 | O81: =ROUND(E81*N81,2) -> 0 | P81: 0 | Q81: =ROUND(E81*P81,2) -> 0 | S81: Vlastní | T81: Indiv | U81: 0 | V81: =ROUND(E81*U81,2) -> 0 | X81: Práce | Y81: Běžná | AG81: POL1_9
A82: 69 | B82: 26004 | C82: Trubka instalační PVC-1516 KA - světle šedá | D82: m | E82: 50 | G82: =ROUND(E82*F82,2) -> 0 | I82: =ROUND(E82*H82,2) -> 0 | K82: =ROUND(E82*J82,2) -> 0 | L82: 21 | M82: =G82*(1+L82/100) -> 0 | N82: 0 | O82: =ROUND(E82*N82,2) -> 0 | P82: 0 | Q82: =ROUND(E82*P82,2) -> 0 | S82: Vlastní | T82: Indiv | U82: 0 | V82: =ROUND(E82*U82,2) -> 0 | X82: Práce | Y82: Běžná | AG82: POL1_9
A83: 70 | B83: 26005 | C83: Trubka instalační PVC-1520 KA - světle šedá | D83: m | E83: 30 | G83: =ROUND(E83*F83,2) -> 0 | I83: =ROUND(E83*H83,2) -> 0 | K83: =ROUND(E83*J83,2) -> 0 | L83: 21 | M83: =G83*(1+L83/100) -> 0 | N83: 0 | O83: =ROUND(E83*N83,2) -> 0 | P83: 0 | Q83: =ROUND(E83*P83,2) -> 0 | S83: Vlastní | T83: Indiv | U83: 0 | V83: =ROUND(E83*U83,2) -> 0 | X83: Práce | Y83: Běžná | AG83: POL1_9
A84: 71 | B84: 26006 | C84: Trubka instalační MONOFLEX PVC-1416 E - světle šedá | D84: m | E84: 15 | G84: =ROUND(E84*F84,2) -> 0 | I84: =ROUND(E84*H84,2) -> 0 | K84: =ROUND(E84*J84,2) -> 0 | L84: 21 | M84: =G84*(1+L84/100) -> 0 | N84: 0 | O84: =ROUND(E84*N84,2) -> 0 | P84: 0 | Q84: =ROUND(E84*P84,2) -> 0 | S84: Vlastní | T84: Indiv | U84: 0 | V84: =ROUND(E84*U84,2) -> 0 | X84: Práce | Y84: Běžná | AG84: POL1_9
A85: 72 | B85: 26007 | C85: Trubka instalační MONOFLEX PVC-1420 E - světle šedá | D85: m | E85: 10 | G85: =ROUND(E85*F85,2) -> 0 | I85: =ROUND(E85*H85,2) -> 0 | K85: =ROUND(E85*J85,2) -> 0 | L85: 21 | M85: =G85*(1+L85/100) -> 0 | N85: 0 | O85: =ROUND(E85*N85,2) -> 0 | P85: 0 | Q85: =ROUND(E85*P85,2) -> 0 | S85: Vlastní | T85: Indiv | U85: 0 | V85: =ROUND(E85*U85,2) -> 0 | X85: Práce | Y85: Běžná | AG85: POL1_9
A86: 73 | B86: 26008 | C86: Spojka trubky instalační PVC-0216 KB - světle šedá | D86: ks | E86: 20 | G86: =ROUND(E86*F86,2) -> 0 | I86: =ROUND(E86*H86,2) -> 0 | K86: =ROUND(E86*J86,2) -> 0 | L86: 21 | M86: =G86*(1+L86/100) -> 0 | N86: 0 | O86: =ROUND(E86*N86,2) -> 0 | P86: 0 | Q86: =ROUND(E86*P86,2) -> 0 | S86: Vlastní | T86: Indiv | U86: 0 | V86: =ROUND(E86*U86,2) -> 0 | X86: Práce | Y86: Běžná | AG86: POL1_9
A87: 74 | B87: 26009 | C87: Spojka trubky instalační PVC-0220 KB - světle šedá | D87: ks | E87: 15 | G87: =ROUND(E87*F87,2) -> 0 | I87: =ROUND(E87*H87,2) -> 0 | K87: =ROUND(E87*J87,2) -> 0 | L87: 21 | M87: =G87*(1+L87/100) -> 0 | N87: 0 | O87: =ROUND(E87*N87,2) -> 0 | P87: 0 | Q87: =ROUND(E87*P87,2) -> 0 | S87: Vlastní | T87: Indiv | U87: 0 | V87: =ROUND(E87*U87,2) -> 0 | X87: Práce | Y87: Běžná | AG87: POL1_9
A88: 75 | B88: 26010 | C88: Příchytka trubky instalační PVC-5316 KB - světle šedá | D88: ks | E88: 15 | G88: =ROUND(E88*F88,2) -> 0 | I88: =ROUND(E88*H88,2) -> 0 | K88: =ROUND(E88*J88,2) -> 0 | L88: 21 | M88: =G88*(1+L88/100) -> 0 | N88: 0 | O88: =ROUND(E88*N88,2) -> 0 | P88: 0 | Q88: =ROUND(E88*P88,2) -> 0 | S88: Vlastní | T88: Indiv | U88: 0 | V88: =ROUND(E88*U88,2) -> 0 | X88: Práce | Y88: Běžná | AG88: POL1_9
A89: 76 | B89: 26011 | C89: Příchytka trubky instalační PVC-5320 KB - světle šedá | D89: ks | E89: 10 | G89: =ROUND(E89*F89,2) -> 0 | I89: =ROUND(E89*H89,2) -> 0 | K89: =ROUND(E89*J89,2) -> 0 | L89: 21 | M89: =G89*(1+L89/100) -> 0 | N89: 0 | O89: =ROUND(E89*N89,2) -> 0 | P89: 0 | Q89: =ROUND(E89*P89,2) -> 0 | S89: Vlastní | T89: Indiv | U89: 0 | V89: =ROUND(E89*U89,2) -> 0 | X89: Práce | Y89: Běžná | AG89: POL1_9
A90: 77 | B90: 26012 | C90: Ekvipotenciální svorkovince EPS 3 s krytem | D90: ks | E90: 4 | G90: =ROUND(E90*F90,2) -> 0 | I90: =ROUND(E90*H90,2) -> 0 | K90: =ROUND(E90*J90,2) -> 0 | L90: 21 | M90: =G90*(1+L90/100) -> 0 | N90: 0 | O90: =ROUND(E90*N90,2) -> 0 | P90: 0 | Q90: =ROUND(E90*P90,2) -> 0 | S90: Vlastní | T90: Indiv | U90: 0 | V90: =ROUND(E90*U90,2) -> 0 | X90: Práce | Y90: Běžná | AG90: POL1_9
... A93: 80 | B93: 26015 | C93: Požární ucpávka - kabel, stěna, 1 hod. | D93: ks | E93: 3 | G93: =ROUND(E93*F93,2) -> 0 | I93: =ROUND(E93*H93,2) -> 0 | K93: =ROUND(E93*J93,2) -> 0 | L93: 21 | M93: =G93*(1+L93/100) -> 0 | N93: 0 | O93: =ROUND(E93*N93,2) -> 0 | P93: 0 | Q93: =ROUND(E93*P93,2) -> 0 | S93: Vlastní | T93: Indiv | U93: 0 | V93: =ROUND(E93*U93,2) -> 0 | X93: Práce | Y93: Běžná | AG93: POL1_9
A94: Díl: | B94: M27 | C94: KABELY | G94: =SUMIF(AG95:AG112,"<>NOR",G95:G112) -> 0 | I94: =SUM(I95:I112) -> 0 | K94: =SUM(K95:K112) -> 0 | M94: =SUM(M95:M112) -> 0 | O94: =SUM(O95:O112) -> 0 | Q94: =SUM(Q95:Q112) -> 0 | V94: =SUM(V95:V112) -> 0 | AG94: DIL
A95: 81 | B95: 27001 | C95: Kabel FLEX-SOL 6.0 SN | D95: m | E95: 2200 | G95: =ROUND(E95*F95,2) -> 0 | I95: =ROUND(E95*H95,2) -> 0 | K95: =ROUND(E95*J95,2) -> 0 | L95: 21 | M95: =G95*(1+L95/100) -> 0 | N95: 0 | O95: =ROUND(E95*N95,2) -> 0 | P95: 0 | Q95: =ROUND(E95*P95,2) -> 0 | S95: Vlastní | T95: Indiv | U95: 0 | V95: =ROUND(E95*U95,2) -> 0 | X95: Práce | Y95: Běžná | AG95: POL1_9
A96: 82 | B96: 27002 | C96: Datový kabel UTP 4x2x0,5 CAT6E - nestíněný | D96: m | E96: 120 | G96: =ROUND(E96*F96,2) -> 0 | I96: =ROUND(E96*H96,2) -> 0 | K96: =ROUND(E96*J96,2) -> 0 | L96: 21 | M96: =G96*(1+L96/100) -> 0 | N96: 0 | O96: =ROUND(E96*N96,2) -> 0 | P96: 0 | Q96: =ROUND(E96*P96,2) -> 0 | S96: Vlastní | T96: Indiv | U96: 0 | V96: =ROUND(E96*U96,2) -> 0 | X96: Práce | Y96: Běžná | AG96: POL1_9
A97: 83 | B97: 27003 | C97: Kabel 1-CXKH-V-O 3x1,5 mm2 - funkční B2 | D97: m | E97: 70 | G97: =ROUND(E97*F97,2) -> 0 | I97: =ROUND(E97*H97,2) -> 0 | K97: =ROUND(E97*J97,2) -> 0 | L97: 21 | M97: =G97*(1+L97/100) -> 0 | N97: 0 | O97: =ROUND(E97*N97,2) -> 0 | P97: 0 | Q97: =ROUND(E97*P97,2) -> 0 | S97: Vlastní | T97: Indiv | U97: 0 | V97: =ROUND(E97*U97,2) -> 0 | X97: Práce | Y97: Běžná | AG97: POL1_9
A98: 84 | B98: 27004 | C98: Kabel CYKY-J 5x10 mm2 | D98: m | E98: 20 | G98: =ROUND(E98*F98,2) -> 0 | I98: =ROUND(E98*H98,2) -> 0 | K98: =ROUND(E98*J98,2) -> 0 | L98: 21 | M98: =G98*(1+L98/100) -> 0 | N98: 0 | O98: =ROUND(E98*N98,2) -> 0 | P98: 0 | Q98: =ROUND(E98*P98,2) -> 0 | S98: Vlastní | T98: Indiv | U98: 0 | V98: =ROUND(E98*U98,2) -> 0 | X98: Práce | Y98: Běžná | AG98: POL1_9
A99: 85 | B99: 27005 | C99: Kabel CYKY-J 5x16 mm2 | D99: m | E99: 25 | G99: =ROUND(E99*F99,2) -> 0 | I99: =ROUND(E99*H99,2) -> 0 | K99: =ROUND(E99*J99,2) -> 0 | L99: 21 | M99: =G99*(1+L99/100) -> 0 | N99: 0 | O99: =ROUND(E99*N99,2) -> 0 | P99: 0 | Q99: =ROUND(E99*P99,2) -> 0 | S99: Vlastní | T99: Indiv | U99: 0 | V99: =ROUND(E99*U99,2) -> 0 | X99: Práce | Y99: Běžná | AG99: POL1_9
A100: 86 | B100: 27006 | C100: Vodič pospojování CY4 zž | D100: m | E100: 200 | G100: =ROUND(E100*F100,2) -> 0 | I100: =ROUND(E100*H100,2) -> 0 | K100: =ROUND(E100*J100,2) -> 0 | L100: 21 | M100: =G100*(1+L100/100) -> 0 | N100: 0 | O100: =ROUND(E100*N100,2) -> 0 | P100: 0 | Q100: =ROUND(E100*P100,2) -> 0 | S100: Vlastní | T100: Indiv | U100: 0 | V100: =ROUND(E100*U100,2) -> 0 | X100: Práce | Y100: Běžná | AG100: POL1_9
A101: 87 | B101: 27007 | C101: Vodič CA 6 mm2 z/ž | D101: m | E101: 100 | G101: =ROUND(E101*F101,2) -> 0 | I101: =ROUND(E101*H101,2) -> 0 | K101: =ROUND(E101*J101,2) -> 0 | L101: 21 | M101: =G101*(1+L101/100) -> 0 | N101: 0 | O101: =ROUND(E101*N101,2) -> 0 | P101: 0 | Q101: =ROUND(E101*P101,2) -> 0 | S101: Vlastní | T101: Indiv | U101: 0 | V101: =ROUND(E101*U101,2) -> 0 | X101: Práce | Y101: Běžná | AG101: POL1_9
A102: 88 | B102: 27008 | C102: Ukončení kabelu FLEX-SOL 6.0 SN | D102: ks | E102: 876 | G102: =ROUND(E102*F102,2) -> 0 | I102: =ROUND(E102*H102,2) -> 0 | K102: =ROUND(E102*J102,2) -> 0 | L102: 21 | M102: =G102*(1+L102/100) -> 0 | N102: 0 | O102: =ROUND(E102*N102,2) -> 0 | P102: 0 | Q102: =ROUND(E102*P102,2) -> 0 | S102: Vlastní | T102: Indiv | U102: 0 | V102: =ROUND(E102*U102,2) -> 0 | X102: Práce | Y102: Běžná | AG102: POL1_9
A103: 89 | B103: 27009 | C103: Ukončení datového kabelu UTP 4x2x0,5 CAT6E - nestíněný | D103: ks | E103: 8 | G103: =ROUND(E103*F103,2) -> 0 | I103: =ROUND(E103*H103,2) -> 0 | K103: =ROUND(E103*J103,2) -> 0 | L103: 21 | M103: =G103*(1+L103/100) -> 0 | N103: 0 | O103: =ROUND(E103*N103,2) -> 0 | P103: 0 | Q103: =ROUND(E103*P103,2) -> 0 | S103: Vlastní | T103: Indiv | U103: 0 | V103: =ROUND(E103*U103,2) -> 0 | X103: Práce | Y103: Běžná | AG103: POL1_9
A104: 90 | B104: 27010 | C104: Ukončení kabelu 1-CXKH-V-O 3x1,5 mm2 - funkční B2 | D104: ks | E104: 8 | G104: =ROUND(E104*F104,2) -> 0 | I104: =ROUND(E104*H104,2) -> 0 | K104: =ROUND(E104*J104,2) -> 0 | L104: 21 | M104: =G104*(1+L104/100) -> 0 | N104: 0 | O104: =ROUND(E104*N104,2) -> 0 | P104: 0 | Q104: =ROUND(E104*P104,2) -> 0 | S104: Vlastní | T104: Indiv | U104: 0 | V104: =ROUND(E104*U104,2) -> 0 | X104: Práce | Y104: Běžná | AG104: POL1_9
A105: 91 | B105: 27011 | C105: Ukončení kabelu CYKY-J 5x10 mm2 | D105: ks | E105: 4 | G105: =ROUND(E105*F105,2) -> 0 | I105: =ROUND(E105*H105,2) -> 0 | K105: =ROUND(E105*J105,2) -> 0 | L105: 21 | M105: =G105*(1+L105/100) -> 0 | N105: 0 | O105: =ROUND(E105*N105,2) -> 0 | P105: 0 | Q105: =ROUND(E105*P105,2) -> 0 | S105: Vlastní | T105: Indiv | U105: 0 | V105: =ROUND(E105*U105,2) -> 0 | X105: Práce | Y105: Běžná | AG105: POL1_9
A106: 92 | B106: 27012 | C106: Ukončení kabelu CYKY-J 5x16 mm2 | D106: ks | E106: 4 | G106: =ROUND(E106*F106,2) -> 0 | I106: =ROUND(E106*H106,2) -> 0 | K106: =ROUND(E106*J106,2) -> 0 | L106: 21 | M106: =G106*(1+L106/100) -> 0 | N106: 0 | O106: =ROUND(E106*N106,2) -> 0 | P106: 0 | Q106: =ROUND(E106*P106,2) -> 0 | S106: Vlastní | T106: Indiv | U106: 0 | V106: =ROUND(E106*U106,2) -> 0 | X106: Práce | Y106: Běžná | AG106: POL1_9
... A112: 98 | B112: 27018 | C112: Výstražná tabulka - Pozor zpětný proud | D112: ks | E112: 4 | G112: =ROUND(E112*F112,2) -> 0 | I112: =ROUND(E112*H112,2) -> 0 | K112: =ROUND(E112*J112,2) -> 0 | L112: 21 | M112: =G112*(1+L112/100) -> 0 | N112: 0 | O112: =ROUND(E112*N112,2) -> 0 | P112: 0 | Q112: =ROUND(E112*P112,2) -> 0 | S112: Vlastní | T112: Indiv | U112: 0 | V112: =ROUND(E112*U112,2) -> 0 | X112: Práce | Y112: Běžná | AG112: POL1_9
A113: Díl: | B113: M28 | C113: BOURACÍ A ZEDNICKÉ PRÁCE | G113: =SUMIF(AG114:AG117,"<>NOR",G114:G117) -> 0 | I113: =SUM(I114:I117) -> 0 | K113: =SUM(K114:K117) -> 0 | M113: =SUM(M114:M117) -> 0 | O113: =SUM(O114:O117) -> 0 | Q113: =SUM(Q114:Q117) -> 0 | V113: =SUM(V114:V117) -> 0 | AG113: DIL
A114: 99 | B114: 28001 | C114: Vybourání otvoru do 60 mm v cihelném zdivu - stěna do 150 cm | D114: ks | E114: 20 | G114: =ROUND(E114*F114,2) -> 0 | I114: =ROUND(E114*H114,2) -> 0 | K114: =ROUND(E114*J114,2) -> 0 | L114: 21 | M114: =G114*(1+L114/100) -> 0 | N114: 0 | O114: =ROUND(E114*N114,2) -> 0 | P114: 0 | Q114: =ROUND(E114*P114,2) -> 0 | S114: Vlastní | T114: Indiv | U114: 0 | V114: =ROUND(E114*U114,2) -> 0 | X114: Práce | Y114: Běžná | AG114: POL1_9
A115: 100 | B115: 28002 | C115: Vybourání otvoru do 60 mm v cihelném zdivu - stěna do 500 cm | D115: ks | E115: 8 | G115: =ROUND(E115*F115,2) -> 0 | I115: =ROUND(E115*H115,2) -> 0 | K115: =ROUND(E115*J115,2) -> 0 | L115: 21 | M115: =G115*(1+L115/100) -> 0 | N115: 0 | O115: =ROUND(E115*N115,2) -> 0 | P115: 0 | Q115: =ROUND(E115*P115,2) -> 0 | S115: Vlastní | T115: Indiv | U115: 0 | V115: =ROUND(E115*U115,2) -> 0 | X115: Práce | Y115: Běžná | AG115: POL1_9
A116: 101 | B116: 28003 | C116: Vysekání rýh v cihlovém zdivu, hloubka 50 mm, šířka 70 mm | D116: m | E116: 100 | G116: =ROUND(E116*F116,2) -> 0 | I116: =ROUND(E116*H116,2) -> 0 | K116: =ROUND(E116*J116,2) -> 0 | L116: 21 | M116: =G116*(1+L116/100) -> 0 | N116: 0 | O116: =ROUND(E116*N116,2) -> 0 | P116: 0 | Q116: =ROUND(E116*P116,2) -> 0 | S116: Vlastní | T116: Indiv | U116: 0 | V116: =ROUND(E116*U116,2) -> 0 | X116: Práce | Y116: Běžná | AG116: POL1_9
A117: 102 | B117: 28004 | C117: Omítka rýh ve stěnách maltou - šíře do 150 mm | D117: m2 | E117: 20 | G117: =ROUND(E117*F117,2) -> 0 | I117: =ROUND(E117*H117,2) -> 0 | K117: =ROUND(E117*J117,2) -> 0 | L117: 21 | M117: =G117*(1+L117/100) -> 0 | N117: 0 | O117: =ROUND(E117*N117,2) -> 0 | P117: 0 | Q117: =ROUND(E117*P117,2) -> 0 | S117: Vlastní | T117: Indiv | U117: 0 | V117: =ROUND(E117*U117,2) -> 0 | X117: Práce | Y117: Běžná | AG117: POL1_9
A118: Díl: | B118: M29 | C118: STAVEBNÍ PRÁCE | G118: =SUMIF(AG119:AG119,"<>NOR",G119:G119) -> 0 | I118: =SUM(I119:I119) -> 0 | K118: =SUM(K119:K119) -> 0 | M118: =SUM(M119:M119) -> 0 | O118: =SUM(O119:O119) -> 0 | Q118: =SUM(Q119:Q119) -> 0 | V118: =SUM(V119:V119) -> 0 | AG118: DIL
A119: 103 | B119: 29001 | C119: Vybudování mistnosti zařízení FVE ve 2.NP, z p.o. sádrokartonu, | D119: ks | E119: 1 | G119: =ROUND(E119*F119,2) -> 0 | I119: =ROUND(E119*H119,2) -> 0 | K119: =ROUND(E119*J119,2) -> 0 | L119: 21 | M119: =G119*(1+L119/100) -> 0 | N119: 0 | O119: =ROUND(E119*N119,2) -> 0 | P119: 0 | Q119: =ROUND(E119*P119,2) -> 0 | S119: Vlastní | T119: Indiv | U119: 0 | V119: =ROUND(E119*U119,2) -> 0 | X119: Práce | Y119: Běžná | AG119: POL1_9
A120: Díl: | B120: VRN | C120: REVIZE | G120: =SUMIF(AG121:AG125,"<>NOR",G121:G125) -> 0 | I120: =SUM(I121:I125) -> 0 | K120: =SUM(K121:K125) -> 0 | M120: =SUM(M121:M125) -> 0 | O120: =SUM(O121:O125) -> 0 | Q120: =SUM(Q121:Q125) -> 0 | V120: =SUM(V121:V125) -> 0 | AG120: DIL
A121: 104 | B121: VRN1 | C121: Spolupráce s revizním technikem | D121: hod. | E121: 6 | G121: =ROUND(E121*F121,2) -> 0 | I121: =ROUND(E121*H121,2) -> 0 | K121: =ROUND(E121*J121,2) -> 0 | L121: 21 | M121: =G121*(1+L121/100) -> 0 | N121: 0 | O121: =ROUND(E121*N121,2) -> 0 | P121: 0 | Q121: =ROUND(E121*P121,2) -> 0 | S121: Vlastní | T121: Indiv | U121: 0 | V121: =ROUND(E121*U121,2) -> 0 | X121: Agregovaná položka | Y121: Běžná | AG121: POL2_
A122: 105 | B122: VRN3 | C122: Dokumentace pro realizaci stavby | D122: kompl | E122: 1 | G122: =ROUND(E122*F122,2) -> 0 | I122: =ROUND(E122*H122,2) -> 0 | K122: =ROUND(E122*J122,2) -> 0 | L122: 21 | M122: =G122*(1+L122/100) -> 0 | N122: 0 | O122: =ROUND(E122*N122,2) -> 0 | P122: 0 | Q122: =ROUND(E122*P122,2) -> 0 | S122: Vlastní | T122: Indiv | U122: 0 | V122: =ROUND(E122*U122,2) -> 0 | X122: Agregovaná položka | Y122: Běžná | AG122: POL2_
A123: 106 | B123: VRN4 | C123: Vedlejší rozpočtové náklady, doprava, podružný materiál | D123: kompl | E123: 1 | G123: =ROUND(E123*F123,2) -> 0 | I123: =ROUND(E123*H123,2) -> 0 | K123: =ROUND(E123*J123,2) -> 0 | L123: 21 | M123: =G123*(1+L123/100) -> 0 | N123: 0 | O123: =ROUND(E123*N123,2) -> 0 | P123: 0 | Q123: =ROUND(E123*P123,2) -> 0 | S123: Vlastní | T123: Indiv | U123: 0 | V123: =ROUND(E123*U123,2) -> 0 | X123: Agregovaná položka | Y123: Běžná | AG123: POL2_
A124: 107 | B124: VRN2 | C124: Revize elektroinstalace | D124: hod. | E124: 14 | G124: =ROUND(E124*F124,2) -> 0 | I124: =ROUND(E124*H124,2) -> 0 | K124: =ROUND(E124*J124,2) -> 0 | L124: 21 | M124: =G124*(1+L124/100) -> 0 | N124: 0 | O124: =ROUND(E124*N124,2) -> 0 | P124: 0 | Q124: =ROUND(E124*P124,2) -> 0 | S124: Vlastní | T124: Indiv | U124: 0 | V124: =ROUND(E124*U124,2) -> 0 | X124: Agregovaná položka | Y124: Běžná | AG124: POL2_
A125: 108 | B125: VRN5 | C125: HZS | D125: hod | E125: 25 | G125: =ROUND(E125*F125,2) -> 0 | I125: =ROUND(E125*H125,2) -> 0 | K125: =ROUND(E125*J125,2) -> 0 | L125: 21 | M125: =G125*(1+L125/100) -> 0 | N125: 0 | O125: =ROUND(E125*N125,2) -> 0 | P125: 0 | Q125: =ROUND(E125*P125,2) -> 0 | S125: Vlastní | T125: Indiv | U125: 0 | V125: =ROUND(E125*U125,2) -> 0 | X125: Agregovaná položka | Y125: Běžná | AG125: POL2_
AE126: 12 | AF126: 21 | AG126: DPH
B127: Celkem | G127: =G8+G17+G21+G46+G71+G78+G94+G113+G118+G120 -> 0 | AE127: =SUMIF(L7:L125,AE126,G7:G125) -> 0 | AF127: =SUMIF(L7:L125,AF126,G7:G125) -> 0 | AG127: SUM
AG128: END
