Workbook
Name CelkemDPHVypocet: Stavba!$H$45
Name CenaCelkem: Stavba!$G$29
Name CenaCelkemBezDPH: Stavba!$G$28
Name CenaCelkemVypocet: Stavba!$I$45
Name cisloobjektu: Stavba!$D$3
Name CisloRozpoctu: '[1]Krycí list'!$C$2
Name CisloStavby: Stavba!$D$2
Name cislostavby: '[1]Krycí list'!$A$7
Name CisloStavebnihoRozpoctu: Stavba!$D$4
Name dadresa: Stavba!$D$12:$G$12
Name DIČ: Stavba!$I$12
Name dmisto: Stavba!$E$13:$G$13
Name DPHSni: Stavba!$G$24
Name DPHZakl: Stavba!$G$26
Name dpsc: Stavba!$D$13
Name IČO: Stavba!$I$11
Name Mena: Stavba!$J$29
Name MistoStavby: Stavba!$D$4
Name nazevobjektu: Stavba!$E$3
Name NazevRozpoctu: '[1]Krycí list'!$D$2
Name NazevStavby: Stavba!$E$2
Name nazevstavby: '[1]Krycí list'!$C$7
Name NazevStavebnihoRozpoctu: Stavba!$E$4
Name oadresa: Stavba!$D$6
Name Objednatel: Stavba!$D$5
Name Objekt: Stavba!$B$38
Name odic: Stavba!$I$6
Name oico: Stavba!$I$5
Name omisto: Stavba!$E$7
Name onazev: Stavba!$D$6
Name opsc: Stavba!$D$7
Name padresa: Stavba!$D$9
Name pdic: Stavba!$I$9
Name pico: Stavba!$I$8
Name pmisto: Stavba!$E$10
Name PocetMJ: #REF!
Name PoptavkaID: Stavba!$A$1
Name pPSC: Stavba!$D$10
Name Projektant: Stavba!$D$8
Name SazbaDPH1: Stavba!$E$23
Name SazbaDPH1: '[1]Krycí list'!$C$30
Name SazbaDPH2: Stavba!$E$25
Name SazbaDPH2: '[1]Krycí list'!$C$32
Name SloupecCC: #REF!
Name SloupecCisloPol: #REF!
Name SloupecJC: #REF!
Name SloupecMJ: #REF!
Name SloupecMnozstvi: #REF!
Name SloupecNazPol: #REF!
Name SloupecPC: #REF!
Name Vypracoval: Stavba!$D$14
Name ZakladDPHSni: Stavba!$G$23
Name ZakladDPHSniVypocet: Stavba!$F$45
Name ZakladDPHZakl: Stavba!$G$25
Name ZakladDPHZaklVypocet: Stavba!$G$45
Name ZaObjednatele: Stavba!$G$34
Name Zaokrouhleni: Stavba!$G$27
Name ZaZhotovitele: Stavba!$D$34
Name Zhotovitel: Stavba!$D$11:$G$11

Sheet Pokyny pro vyplnění
A1: Pokyny pro vyplnění
A2: Ve všech listech tohoto souboru můžete měnit pouze buňky s modrým pozadím. Jedná se o tyto údaje : - údaje o firmě - jednotkové ceny položek zadané na maximálně dvě desetinná místa

Sheet Stavba
A1: #RTSROZP# | B1: Soupis stavebních prací, dodávek a služeb
B2: Stavba: | D2: 1230802 | E2: ZŠ Francova Lhota-pavilon I.stupně výměna střešní konstrukce+FVE
B5: Zadavatel | H5: IČO:
H6: DIČ:
B8: Projektant: | H8: IČO:
H9: DIČ:
B11: Zhotovitel: | H11: IČO:
H12: DIČ:
B14: Vypracoval:
B15: Rozpis ceny | I15: Celkem
A16: HSV | B16: HSV | I16: =SUMIF(F57:F80,A16,I57:I80)+SUMIF(F57:F80,"PSU",I57:I80) -> 0
A17: PSV | B17: PSV | I17: =SUMIF(F57:F80,A17,I57:I80) -> 0
A18: MON | B18: MON | I18: =SUMIF(F57:F80,A18,I57:I80) -> 0
A19: VN | B19: Vedlejší náklady | I19: =SUMIF(F57:F80,A19,I57:I80) -> 0
A20: ON | B20: Ostatní náklady | I20: =SUMIF(F57:F80,A20,I57:I80) -> 0
B21: Celkem | I21: =SUM(I16:J20) -> 0
B22: Rekapitulace daní
A23: =ZakladDPHSni*SazbaDPH1/100 -> 0 | B23: Základ pro sníženou DPH | E23: 15 | F23: % | G23: =ZakladDPHSniVypocet -> 0 | J23: =Mena -> CZK
A24: =(A23-INT(A23))*100 -> 0 | B24: Snížená DPH | E24: =SazbaDPH1 -> 15 | F24: % | G24: =ROUNDUP(A23, 0) -> 0 | J24: =Mena -> CZK
A25: =ZakladDPHZakl*SazbaDPH2/100 -> 0 | B25: Základ pro základní DPH | E25: 21 | F25: % | G25: =ZakladDPHZaklVypocet -> 0 | J25: =Mena -> CZK
A26: =(A25-INT(A25))*100 -> 0 | B26: Základní DPH | E26: =SazbaDPH2 -> 21 | F26: % | G26: =ROUNDUP(A25, 0) -> 0 | J26: =Mena -> CZK
A27: =ZakladDPHSni+DPHSni+ZakladDPHZakl+DPHZakl -> 0 | B27: Zaokrouhlení | G27: =CenaCelkem-(ZakladDPHSni+DPHSni+ZakladDPHZakl+DPHZakl) -> 0 | J27: =Mena -> CZK
B28: Cena celkem bez DPH | G28: =ZakladDPHSniVypocet+ZakladDPHZaklVypocet -> 0 | J28: =Mena -> CZK
A29: =(A27-INT(A27))*100 -> 0 | B29: Cena celkem s DPH | G29: =ROUNDUP(A27, 0) -> 0 | J29: CZK
C32: v | F32: dne
D35: Za zhotovitele | H35: Za objednatele
B37: Rekapitulace dílčích částí
A38: #CASTI>> | B38: Číslo | C38: Název | F38: =B23 -> Základ pro sníženou DPH | G38: =B25 -> Základ pro základní DPH | H38: DPH celkem | I38: Cena celkem | J38: %
A39: 1 | B39: Stavba | F39: ='SO 01 1 Pol'!AE266+'SO 02 3 Pol'!AE127 -> 0 | G39: ='SO 01 1 Pol'!AF266+'SO 02 3 Pol'!AF127 -> 0 | H39: =(F39*SazbaDPH1/100)+(G39*SazbaDPH2/100) -> 0 | I39: =F39+G39+H39 -> 0 | J39: =IF(CenaCelkemVypocet=0,"",I39/CenaCelkemVypocet*100)
A40: 2 | C40: Stavební objekt | H40: =(F40*SazbaDPH1/100)+(G40*SazbaDPH2/100) -> 0
A41: 2 | B41: SO 01 | C41: Výměna stření konstrukce | F41: ='SO 01 1 Pol'!AE266 -> 0 | G41: ='SO 01 1 Pol'!AF266 -> 0 | H41: =(F41*SazbaDPH1/100)+(G41*SazbaDPH2/100) -> 0 | I41: =F41+G41+H41 -> 0 | J41: =IF(CenaCelkemVypocet=0,"",I41/CenaCelkemVypocet*100)
A42: 3 | B42: 1 | C42: Rozpočet výměna střešní konstrukce | F42: ='SO 01 1 Pol'!AE266 -> 0 | G42: ='SO 01 1 Pol'!AF266 -> 0 | H42: =(F42*SazbaDPH1/100)+(G42*SazbaDPH2/100) -> 0 | I42: =F42+G42+H42 -> 0 | J42: =IF(CenaCelkemVypocet=0,"",I42/CenaCelkemVypocet*100)
A43: 2 | B43: SO 02 | C43: FVE | F43: ='SO 02 3 Pol'!AE127 -> 0 | G43: ='SO 02 3 Pol'!AF127 -> 0 | H43: =(F43*SazbaDPH1/100)+(G43*SazbaDPH2/100) -> 0 | I43: =F43+G43+H43 -> 0 | J43: =IF(CenaCelkemVypocet=0,"",I43/CenaCelkemVypocet*100)
A44: 3 | B44: 3 | C44: Rozpočet FVE | F44: ='SO 02 3 Pol'!AE127 -> 0 | G44: ='SO 02 3 Pol'!AF127 -> 0 | H44: =(F44*SazbaDPH1/100)+(G44*SazbaDPH2/100) -> 0 | I44: =F44+G44+H44 -> 0 | J44: =IF(CenaCelkemVypocet=0,"",I44/CenaCelkemVypocet*100)
B45: Celkem za stavbu | F45: =SUMIF(A39:A44,"=1",F39:F44) -> 0 | G45: =SUMIF(A39:A44,"=1",G39:G44) -> 0 | H45: =SUMIF(A39:A44,"=1",H39:H44) -> 0 | I45: =SUMIF(A39:A44,"=1",I39:I44) -> 0 | J45: =SUMIF(A39:A44,"=1",J39:J44) -> 0
A47: #POPS | B47: Popis stavby: 1230802 - ZŠ Francova Lhota-pavilon I.stupně výměna střešní konstrukce+FVE
A48: #POPO | B48: Popis objektu: SO 01 - Výměna stření konstrukce
A49: #POPR | B49: Popis rozpočtu: 1 - Rozpočet výměna střešní konstrukce
A50: #POPO | B50: Popis objektu: SO 02 - FVE
A51: #POPR | B51: Popis rozpočtu: 3 - Rozpočet FVE
...

Sheet VzorPolozky
A1: Položkový rozpočet
A2: S:
A3: O:
A4: R:

Sheet SO 01 1 Pol
A1: Položkový soupis prací a dodávek | AG1: #TypZaznamu#
A2: S: | B2: 1230802 | C2: ZŠ Francova Lhota-pavilon I.stupně výměna střešní konstrukce+FVE | AG2: STA
A3: O: | B3: SO 01 | C3: Výměna stření konstrukce | AC3: STA | AG3: OBJ
A4: R: | B4: 1 | C4: Rozpočet výměna střešní konstrukce | AG4: ROZ
A6: P.č. | B6: Číslo položky | C6: Název položky | D6: MJ | E6: Množství | F6: Cena / MJ | G6: Celkem | H6: Dodávka | I6: Dodávka celk. | J6: Montáž | K6: Montáž celk. | L6: DPH | M6: Cena s DPH | N6: Hmotnost / MJ | O6: Hmotnost celk.(t) | P6: Dem. hmotnost / MJ | Q6: Dem. hmotnost celk.(t) | R6: Ceník | S6: Cen. soustava / platnost | T6: Cenová úroveň | U6: Nhod / MJ | V6: Nhod celk. | W6: Dodavatel | X6: Typ položky | Y6: Stav položky
A8: Díl: | B8: 3 | C8: Svislé a kompletní konstrukce | G8: =SUMIF(AG9:AG19,"<>NOR",G9:G19) -> 0 | I8: =SUM(I9:I19) -> 0 | K8: =SUM(K9:K19) -> 0 | M8: =SUM(M9:M19) -> 0 | O8: =SUM(O9:O19) -> 23.86 | Q8: =SUM(Q9:Q19) -> 0 | V8: =SUM(V9:V19) -> 290.43 | AG8: DIL
A9: 1 | B9: 311231116RT3 | C9: Zdivo nosné z cihel a tvarovek pálených pod omítku z cihel plných, 290x140x65 mm, P 15, na maltu MC 10 | D9: m3 | E9: 12.2391 | G9: =ROUND(E9*F9,2) -> 0 | I9: =ROUND(E9*H9,2) -> 0 | K9: =ROUND(E9*J9,2) -> 0 | L9: 21 | M9: =G9*(1+L9/100) -> 0 | N9: 1.71716 | O9: =ROUND(E9*N9,2) -> 21.02 | P9: 0 | Q9: =ROUND(E9*P9,2) -> 0 | R9: 801-1 | S9: RTS 23/ II | T9: RTS 23/ I | U9: 3.765 | V9: =ROUND(E9*U9,2) -> 46.08 | X9: Práce | Y9: Běžná | AG9: POL1_
C10: Včetně pomocného lešení o výšce podlahy do 1,90 m a pro zatížení do 1,5 kPa. | AG10: POP
C11: dozdění nadezdívky po věnec: : (25,68+25,68+19,65+19,65)*0,3*0,45 | E11: 12.2391 | AG11: VV | AH11: 0
A12: 2 | B12: 389381001RT3 | C12: Dobetonování prefabrikovaných konstrukcí betonem třídy C 25/30 | D12: m3 | E12: 1.107 | G12: =ROUND(E12*F12,2) -> 0 | I12: =ROUND(E12*H12,2) -> 0 | K12: =ROUND(E12*J12,2) -> 0 | L12: 21 | M12: =G12*(1+L12/100) -> 0 | N12: 2.56981 | O12: =ROUND(E12*N12,2) -> 2.84 | P12: 0 | Q12: =ROUND(E12*P12,2) -> 0 | R12: 801-2 | S12: RTS 23/ II | T12: RTS 23/ I | U12: 3.93 | V12: =ROUND(E12*U12,2) -> 4.35 | X12: Práce | Y12: Běžná | AG12: POL1_
C13: se zřízením a odstraněním bednění | AG13: SPI
C14: dobetonování patek: : 0,45*0,45*0,3*4 | E14: 0.243 | AG14: VV | AH14: 0
C15: 0,6*0,3*0,3*8 | E15: 0.432 | AG15: VV | AH15: 0
C16: 0,6*0,6*0,3*4 | E16: 0.432 | AG16: VV | AH16: 0
A17: 3 | B17: 900 RT1 | C17: HZS, Práce v tarifní třídě 4 (např. tesař) | D17: h | E17: 240 | G17: =ROUND(E17*F17,2) -> 0 | I17: =ROUND(E17*H17,2) -> 0 | K17: =ROUND(E17*J17,2) -> 0 | L17: 21 | M17: =G17*(1+L17/100) -> 0 | N17: 0 | O17: =ROUND(E17*N17,2) -> 0 | P17: 0 | Q17: =ROUND(E17*P17,2) -> 0 | R17: Prav.M | S17: RTS 23/ II | T17: RTS 23/ I | U17: 1 | V17: =ROUND(E17*U17,2) -> 240 | X17: HZS | Y17: Běžná | AG17: POL10_
C18: nezměřitelné práce při vyzdívání a betonování konstrukcí: : | AG18: VV | AH18: 0
C19: účtováno dle skutečnosti: : 3*8*10 | E19: 240 | AG19: VV | AH19: 0
A20: Díl: | B20: 4 | C20: Vodorovné konstrukce | G20: =SUMIF(AG21:AG45,"<>NOR",G21:G45) -> 0 | I20: =SUM(I21:I45) -> 0 | K20: =SUM(K21:K45) -> 0 | M20: =SUM(M21:M45) -> 0 | O20: =SUM(O21:O45) -> 31.28 | Q20: =SUM(Q21:Q45) -> 0 | V20: =SUM(V21:V45) -> 153.21 | AG20: DIL
A21: 4 | B21: 411351101RT1 | C21: Bednění stropů deskových, balkonových nebo plošných konzol plné, rovné, popř. s náběhy bednící materiál prkna, bez podepření, zřízení | D21: m2 | E21: 11.52 | G21: =ROUND(E21*F21,2) -> 0 | I21: =ROUND(E21*H21,2) -> 0 | K21: =ROUND(E21*J21,2) -> 0 | L21: 21 | M21: =G21*(1+L21/100) -> 0 | N21: 0.03637 | O21: =ROUND(E21*N21,2) -> 0.42 | P21: 0 | Q21: =ROUND(E21*P21,2) -> 0 | R21: 801-1 | S21: RTS 23/ II | T21: RTS 23/ I | U21: 0.734 | V21: =ROUND(E21*U21,2) -> 8.46 | X21: Práce | Y21: Běžná | AG21: POL1_
C22: s pomocným lešením | AG22: SPI
C23: bednění patek: : (0,6+0,6+0,6+0,6)*0,4*12 | E23: 11.52 | AG23: VV | AH23: 0
A24: 5 | B24: 411351102R00 | C24: Bednění stropů deskových, balkonových nebo plošných konzol plné, rovné, popř. s náběhy , odstranění | D24: m2 | E24: 11.52 | G24: =ROUND(E24*F24,2) -> 0 | I24: =ROUND(E24*H24,2) -> 0 | K24: =ROUND(E24*J24,2) -> 0 | L24: 21 | M24: =G24*(1+L24/100) -> 0 | N24: 0 | O24: =ROUND(E24*N24,2) -> 0 | P24: 0 | Q24: =ROUND(E24*P24,2) -> 0 | R24: 801-1 | S24: RTS 23/ II | T24: RTS 23/ I | U24: 0.17 | V24: =ROUND(E24*U24,2) -> 1.96 | X24: Práce | Y24: Běžná | AG24: POL1_
C25: s pomocným lešením | AG25: SPI
C26: viz.bednění: : 11,52 | E26: 11.52 | AG26: VV | AH26: 0
A27: 6 | B27: 417321315R00 | C27: Železobeton ztužujících pásů a věnců třídy C 20/25 | D27: m3 | E27: 10.19925 | G27: =ROUND(E27*F27,2) -> 0 | I27: =ROUND(E27*H27,2) -> 0 | K27: =ROUND(E27*J27,2) -> 0 | L27: 21 | M27: =G27*(1+L27/100) -> 0 | N27: 2.52511 | O27: =ROUND(E27*N27,2) -> 25.75 | P27: 0 | Q27: =ROUND(E27*P27,2) -> 0 | R27: 801-1 | S27: RTS 23/ II | T27: RTS 23/ I | U27: 1.45 | V27: =ROUND(E27*U27,2) -> 14.79 | X27: Práce | Y27: Běžná | AG27: POL1_
C28: věnec ve střeše : (25,68+25,68+19,65+19,65)*0,45*0,25 | E28: 10.19925 | AG28: VV | AH28: 0
A29: 7 | B29: 417351111R00 | C29: Bednění bočnic ztužujících pásů a věnců včetně vzpěr obě strany, zřízení | D29: m | E29: 90.66 | G29: =ROUND(E29*F29,2) -> 0 | I29: =ROUND(E29*H29,2) -> 0 | K29: =ROUND(E29*J29,2) -> 0 | L29: 21 | M29: =G29*(1+L29/100) -> 0 | N29: 0.04965 | O29: =ROUND(E29*N29,2) -> 4.5 | P29: 0 | Q29: =ROUND(E29*P29,2) -> 0 | R29: 801-1 | S29: RTS 23/ II | T29: RTS 23/ I | U29: 0.94 | V29: =ROUND(E29*U29,2) -> 85.22 | X29: Práce | Y29: Běžná | AG29: POL1_
C30: věnec ve střeše : 25,68+25,68+19,65+19,65 | E30: 90.66 | AG30: VV | AH30: 0
A31: 8 | B31: 417351113R00 | C31: Bednění bočnic ztužujících pásů a věnců včetně vzpěr obě strany, odstranění | D31: m | E31: 90.66 | G31: =ROUND(E31*F31,2) -> 0 | I31: =ROUND(E31*H31,2) -> 0 | K31: =ROUND(E31*J31,2) -> 0 | L31: 21 | M31: =G31*(1+L31/100) -> 0 | N31: 0 | O31: =ROUND(E31*N31,2) -> 0 | P31: 0 | Q31: =ROUND(E31*P31,2) -> 0 | R31: 801-1 | S31: RTS 23/ II | T31: RTS 23/ I | U31: 0.29 | V31: =ROUND(E31*U31,2) -> 26.29 | X31: Práce | Y31: Běžná | AG31: POL1_
C32: věnec ve střeše : 25,68+25,68+19,65+19,65 | E32: 90.66 | AG32: VV | AH32: 0
A33: 9 | B33: 417361821R00 | C33: Výztuž ztužujících pásů a věnců z betonářské oceli 10 505(R) | D33: t | E33: 0.59574 | G33: =ROUND(E33*F33,2) -> 0 | I33: =ROUND(E33*H33,2) -> 0 | K33: =ROUND(E33*J33,2) -> 0 | L33: 21 | M33: =G33*(1+L33/100) -> 0 | N33: 1.01665 | O33: =ROUND(E33*N33,2) -> 0.61 | P33: 0 | Q33: =ROUND(E33*P33,2) -> 0 | R33: 801-1 | S33: RTS 23/ II | T33: RTS 23/ I | U33: 27.673 | V33: =ROUND(E33*U33,2) -> 16.49 | X33: Práce | Y33: Běžná | AG33: POL1_
C34: Včetně distančních prvků. | AG34: SPI
C35: věnec ve stropě z vložek, pruty 12 mm, hmotnost 0,888 kg/mb, počet 6 ks po obvodu : | AG35: VV | AH35: 0
C36: třmínky pruty 6 mm, hmotnost 0,222 kg/mb, délka 1,32, počet 4 ks/mb : | AG36: VV | AH36: 0
C37: věnec pod střechou : (25,68+25,68+19,65+19,65)*6*0,888/1000 | E37: 0.48304 | AG37: VV | AH37: 0
C38: třmínky : ((25,68+25,68+19,65+19,65)/(0,25))*1,4*0,222/1000 | E38: 0.11271 | AG38: VV | AH38: 0
A39: 10 | B39: 080165191400R | C39: Čerpadlo betonářské kolové SCHWING | D39: Sh | E39: 8 | G39: =ROUND(E39*F39,2) -> 0 | I39: =ROUND(E39*H39,2) -> 0 | K39: =ROUND(E39*J39,2) -> 0 | L39: 21 | M39: =G39*(1+L39/100) -> 0 | N39: 0 | O39: =ROUND(E39*N39,2) -> 0 | P39: 0 | Q39: =ROUND(E39*P39,2) -> 0 | R39: STROJ | S39: RTS 23/ II | T39: RTS 23/ I | U39: 0 | V39: =ROUND(E39*U39,2) -> 0 | X39: Stroj | Y39: Běžná | AG39: POL6_
C40: výložník 27 m | AG40: POP
C41: Cenu tvoří: | AG41: POP
C42: - sazba za hodinu použití | AG42: POP
...

Sheet SO 02 3 Pol
A1: Položkový soupis prací a dodávek | AG1: #TypZaznamu#
A2: S: | B2: 1230802 | C2: ZŠ Francova Lhota-pavilon I.stupně výměna střešní konstrukce+FVE | AG2: STA
A3: O: | B3: SO 02 | C3: FVE | AC3: STA | AG3: OBJ
A4: R: | B4: 3 | C4: Rozpočet FVE | AG4: ROZ
A6: P.č. | B6: Číslo položky | C6: Název položky | D6: MJ | E6: Množství | F6: Cena / MJ | G6: Celkem | H6: Dodávka | I6: Dodávka celk. | J6: Montáž | K6: Montáž celk. | L6: DPH | M6: Cena s DPH | N6: Hmotnost / MJ | O6: Hmotnost celk.(t) | P6: Dem. hmotnost / MJ | Q6: Dem. hmotnost celk.(t) | R6: Ceník | S6: Cen. soustava / platnost | T6: Cenová úroveň | U6: Nhod / MJ | V6: Nhod celk. | W6: Dodavatel | X6: Typ položky | Y6: Stav položky
A8: Díl: | B8: M21 | C8: NAPOJENÍ R-FVE-2,3 ROZVADĚČŮM RP-2,3 | G8: =SUMIF(AG9:AG16,"<>NOR",G9:G16) -> 0 | I8: =SUM(I9:I16) -> 0 | K8: =SUM(K9:K16) -> 0 | M8: =SUM(M9:M16) -> 0 | O8: =SUM(O9:O16) -> 0 | Q8: =SUM(Q9:Q16) -> 0 | V8: =SUM(V9:V16) -> 0 | AG8: DIL
A9: 1 | B9: 21001 | C9: Pojistkový odpojovač modulový 3f-do 125A | D9: ks | E9: 1 | G9: =ROUND(E9*F9,2) -> 0 | I9: =ROUND(E9*H9,2) -> 0 | K9: =ROUND(E9*J9,2) -> 0 | L9: 21 | M9: =G9*(1+L9/100) -> 0 | N9: 0 | O9: =ROUND(E9*N9,2) -> 0 | P9: 0 | Q9: =ROUND(E9*P9,2) -> 0 | S9: Vlastní | T9: Indiv | U9: 0 | V9: =ROUND(E9*U9,2) -> 0 | X9: Práce | Y9: Běžná | AG9: POL1_9
A10: 2 | B10: 21002 | C10: Pojistkový odpojovač modulový 3f-do 63A | D10: ks | E10: 1 | G10: =ROUND(E10*F10,2) -> 0 | I10: =ROUND(E10*H10,2) -> 0 | K10: =ROUND(E10*J10,2) -> 0 | L10: 21 | M10: =G10*(1+L10/100) -> 0 | N10: 0 | O10: =ROUND(E10*N10,2) -> 0 | P10: 0 | Q10: =ROUND(E10*P10,2) -> 0 | S10: Vlastní | T10: Indiv | U10: 0 | V10: =ROUND(E10*U10,2) -> 0 | X10: Práce | Y10: Běžná | AG10: POL1_9
A11: 3 | B11: 21003 | C11: Pojistka válcová 22x58 mm-100A/gG | D11: ks | E11: 3 | G11: =ROUND(E11*F11,2) -> 0 | I11: =ROUND(E11*H11,2) -> 0 | K11: =ROUND(E11*J11,2) -> 0 | L11: 21 | M11: =G11*(1+L11/100) -> 0 | N11: 0 | O11: =ROUND(E11*N11,2) -> 0 | P11: 0 | Q11: =ROUND(E11*P11,2) -> 0 | S11: Vlastní | T11: Indiv | U11: 0 | V11: =ROUND(E11*U11,2) -> 0 | X11: Práce | Y11: Běžná | AG11: POL1_9
A12: 4 | B12: 21004 | C12: Pojistka válcová 14x51 mm-50A/gG | D12: ks | E12: 3 | G12: =ROUND(E12*F12,2) -> 0 | I12: =ROUND(E12*H12,2) -> 0 | K12: =ROUND(E12*J12,2) -> 0 | L12: 21 | M12: =G12*(1+L12/100) -> 0 | N12: 0 | O12: =ROUND(E12*N12,2) -> 0 | P12: 0 | Q12: =ROUND(E12*P12,2) -> 0 | S12: Vlastní | T12: Indiv | U12: 0 | V12: =ROUND(E12*U12,2) -> 0 | X12: Práce | Y12: Běžná | AG12: POL1_9
A13: 5 | B13: 21005 | C13: Kabel CYKY-J 5x35 mm2 | D13: m | E13: 40 | G13: =ROUND(E13*F13,2) -> 0 | I13: =ROUND(E13*H13,2) -> 0 | K13: =ROUND(E13*J13,2) -> 0 | L13: 21 | M13: =G13*(1+L13/100) -> 0 | N13: 0 | O13: =ROUND(E13*N13,2) -> 0 | P13: 0 | Q13: =ROUND(E13*P13,2) -> 0 | S13: Vlastní | T13: Indiv | U13: 0 | V13: =ROUND(E13*U13,2) -> 0 | X13: Práce | Y13: Běžná | AG13: POL1_9
A14: 6 | B14: 21006 | C14: Kabel CYKY-J 5x16 mm2 | D14: m | E14: 120 | G14: =ROUND(E14*F14,2) -> 0 | I14: =ROUND(E14*H14,2) -> 0 | K14: =ROUND(E14*J14,2) -> 0 | L14: 21 | M14: =G14*(1+L14/100) -> 0 | N14: 0 | O14: =ROUND(E14*N14,2) -> 0 | P14: 0 | Q14: =ROUND(E14*P14,2) -> 0 | S14: Vlastní | T14: Indiv | U14: 0 | V14: =ROUND(E14*U14,2) -> 0 | X14: Práce | Y14: Běžná | AG14: POL1_9
A15: 7 | B15: 21007 | C15: Ukončení kabelu CYKY-J 5x35 mm2 | D15: ks | E15: 2 | G15: =ROUND(E15*F15,2) -> 0 | I15: =ROUND(E15*H15,2) -> 0 | K15: =ROUND(E15*J15,2) -> 0 | L15: 21 | M15: =G15*(1+L15/100) -> 0 | N15: 0 | O15: =ROUND(E15*N15,2) -> 0 | P15: 0 | Q15: =ROUND(E15*P15,2) -> 0 | S15: Vlastní | T15: Indiv | U15: 0 | V15: =ROUND(E15*U15,2) -> 0 | X15: Práce | Y15: Běžná | AG15: POL1_9
A16: 8 | B16: 21008 | C16: Ukončení kabelu CYKY-J 5x16 mm2 | D16: ks | E16: 2 | G16: =ROUND(E16*F16,2) -> 0 | I16: =ROUND(E16*H16,2) -> 0 | K16: =ROUND(E16*J16,2) -> 0 | L16: 21 | M16: =G16*(1+L16/100) -> 0 | N16: 0 | O16: =ROUND(E16*N16,2) -> 0 | P16: 0 | Q16: =ROUND(E16*P16,2) -> 0 | S16: Vlastní | T16: Indiv | U16: 0 | V16: =ROUND(E16*U16,2) -> 0 | X16: Práce | Y16: Běžná | AG16: POL1_9
A17: Díl: | B17: M22 | C17: ROZVADĚČE R-DC1a, R-DC1b | G17: =SUMIF(AG18:AG20,"<>NOR",G18:G20) -> 0 | I17: =SUM(I18:I20) -> 0 | K17: =SUM(K18:K20) -> 0 | M17: =SUM(M18:M20) -> 0 | O17: =SUM(O18:O20) -> 0 | Q17: =SUM(Q18:Q20) -> 0 | V17: =SUM(V18:V20) -> 0 | AG17: DIL
A18: 9 | B18: 22001 | C18: Plastový domovní rozvaděč, 36(2x18) modulů, plná dvířka, rozměry 420x400x115 mm, IP65, včetně Cu, sběrnic N/PE | D18: ks | E18: 4 | G18: =ROUND(E18*F18,2) -> 0 | I18: =ROUND(E18*H18,2) -> 0 | K18: =ROUND(E18*J18,2) -> 0 | L18: 21 | M18: =G18*(1+L18/100) -> 0 | N18: 0 | O18: =ROUND(E18*N18,2) -> 0 | P18: 0 | Q18: =ROUND(E18*P18,2) -> 0 | S18: Vlastní | T18: Indiv | U18: 0 | V18: =ROUND(E18*U18,2) -> 0 | X18: Práce | Y18: Běžná | AG18: POL1_9
A19: 10 | B19: 22002 | C19: Pojistkový odpojovač modulový pro FVE - 2f-do 32A(1000V) | D19: ks | E19: 24 | G19: =ROUND(E19*F19,2) -> 0 | I19: =ROUND(E19*H19,2) -> 0 | K19: =ROUND(E19*J19,2) -> 0 | L19: 21 | M19: =G19*(1+L19/100) -> 0 | N19: 0 | O19: =ROUND(E19*N19,2) -> 0 | P19: 0 | Q19: =ROUND(E19*P19,2) -> 0 | S19: Vlastní | T19: Indiv | U19: 0 | V19: =ROUND(E19*U19,2) -> 0 | X19: Práce | Y19: Běžná | AG19: POL1_9
A20: 11 | B20: 22003 | C20: Svodič přepětí stupně B+C-DC, 1100/6,25 Y | D20: ks | E20: 24 | G20: =ROUND(E20*F20,2) -> 0 | I20: =ROUND(E20*H20,2) -> 0 | K20: =ROUND(E20*J20,2) -> 0 | L20: 21 | M20: =G20*(1+L20/100) -> 0 | N20: 0 | O20: =ROUND(E20*N20,2) -> 0 | P20: 0 | Q20: =ROUND(E20*P20,2) -> 0 | S20: Vlastní | T20: Indiv | U20: 0 | V20: =ROUND(E20*U20,2) -> 0 | X20: Práce | Y20: Běžná | AG20: POL1_9
A21: Díl: | B21: M23 | C21: ROZVADĚČ R-FVE-2 | G21: =SUMIF(AG22:AG45,"<>NOR",G22:G45) -> 0 | I21: =SUM(I22:I45) -> 0 | K21: =SUM(K22:K45) -> 0 | M21: =SUM(M22:M45) -> 0 | O21: =SUM(O22:O45) -> 0 | Q21: =SUM(Q22:Q45) -> 0 | V21: =SUM(V22:V45) -> 0 | AG21: DIL
A22: 12 | B22: 23001 | C22: Oceloplechový velkoobsahový rozvaděč, typ 3/72-C, oceloplechové dveře, 72(3x24) modulů, na omítku,, rozměry 600x543x140 mm, IP30, bílý | D22: ks | E22: 1 | G22: =ROUND(E22*F22,2) -> 0 | I22: =ROUND(E22*H22,2) -> 0 | K22: =ROUND(E22*J22,2) -> 0 | L22: 21 | M22: =G22*(1+L22/100) -> 0 | N22: 0 | O22: =ROUND(E22*N22,2) -> 0 | P22: 0 | Q22: =ROUND(E22*P22,2) -> 0 | S22: Vlastní | T22: Indiv | U22: 0 | V22: =ROUND(E22*U22,2) -> 0 | X22: Práce | Y22: Běžná | AG22: POL1_9
A23: 13 | B23: 23002 | C23: Izolovaná sběrnice do 16A - 3f | D23: m | E23: 0.7 | G23: =ROUND(E23*F23,2) -> 0 | I23: =ROUND(E23*H23,2) -> 0 | K23: =ROUND(E23*J23,2) -> 0 | L23: 21 | M23: =G23*(1+L23/100) -> 0 | N23: 0 | O23: =ROUND(E23*N23,2) -> 0 | P23: 0 | Q23: =ROUND(E23*P23,2) -> 0 | S23: Vlastní | T23: Indiv | U23: 0 | V23: =ROUND(E23*U23,2) -> 0 | X23: Práce | Y23: Běžná | AG23: POL1_9
A24: 14 | B24: 23003 | C24: Svorkovnice N - modrá | D24: ks | E24: 1 | G24: =ROUND(E24*F24,2) -> 0 | I24: =ROUND(E24*H24,2) -> 0 | K24: =ROUND(E24*J24,2) -> 0 | L24: 21 | M24: =G24*(1+L24/100) -> 0 | N24: 0 | O24: =ROUND(E24*N24,2) -> 0 | P24: 0 | Q24: =ROUND(E24*P24,2) -> 0 | S24: Vlastní | T24: Indiv | U24: 0 | V24: =ROUND(E24*U24,2) -> 0 | X24: Práce | Y24: Běžná | AG24: POL1_9
A25: 15 | B25: 23004 | C25: Svorkovnice PE - zelenožlutá | D25: ks | E25: 1 | G25: =ROUND(E25*F25,2) -> 0 | I25: =ROUND(E25*H25,2) -> 0 | K25: =ROUND(E25*J25,2) -> 0 | L25: 21 | M25: =G25*(1+L25/100) -> 0 | N25: 0 | O25: =ROUND(E25*N25,2) -> 0 | P25: 0 | Q25: =ROUND(E25*P25,2) -> 0 | S25: Vlastní | T25: Indiv | U25: 0 | V25: =ROUND(E25*U25,2) -> 0 | X25: Práce | Y25: Běžná | AG25: POL1_9
A26: 16 | B26: 23005 | C26: Jistič třífázový 40B/3, 10kA | D26: ks | E26: 1 | G26: =ROUND(E26*F26,2) -> 0 | I26: =ROUND(E26*H26,2) -> 0 | K26: =ROUND(E26*J26,2) -> 0 | L26: 21 | M26: =G26*(1+L26/100) -> 0 | N26: 0 | O26: =ROUND(E26*N26,2) -> 0 | P26: 0 | Q26: =ROUND(E26*P26,2) -> 0 | S26: Vlastní | T26: Indiv | U26: 0 | V26: =ROUND(E26*U26,2) -> 0 | X26: Práce | Y26: Běžná | AG26: POL1_9
A27: 17 | B27: 23006 | C27: Napěťová spoušť 230V | D27: ks | E27: 1 | G27: =ROUND(E27*F27,2) -> 0 | I27: =ROUND(E27*H27,2) -> 0 | K27: =ROUND(E27*J27,2) -> 0 | L27: 21 | M27: =G27*(1+L27/100) -> 0 | N27: 0 | O27: =ROUND(E27*N27,2) -> 0 | P27: 0 | Q27: =ROUND(E27*P27,2) -> 0 | S27: Vlastní | T27: Indiv | U27: 0 | V27: =ROUND(E27*U27,2) -> 0 | X27: Práce | Y27: Běžná | AG27: POL1_9
A28: 18 | B28: 23007 | C28: Komb. svodič přepětí stupně B+C, 12,5-3N-MZ, TNS, 4-pólový | D28: kpl. | E28: 1 | G28: =ROUND(E28*F28,2) -> 0 | I28: =ROUND(E28*H28,2) -> 0 | K28: =ROUND(E28*J28,2) -> 0 | L28: 21 | M28: =G28*(1+L28/100) -> 0 | N28: 0 | O28: =ROUND(E28*N28,2) -> 0 | P28: 0 | Q28: =ROUND(E28*P28,2) -> 0 | S28: Vlastní | T28: Indiv | U28: 0 | V28: =ROUND(E28*U28,2) -> 0 | X28: Práce | Y28: Běžná | AG28: POL1_9
A29: 19 | B29: 23008 | C29: Napěťová ochrana | D29: ks | E29: 1 | G29: =ROUND(E29*F29,2) -> 0 | I29: =ROUND(E29*H29,2) -> 0 | K29: =ROUND(E29*J29,2) -> 0 | L29: 21 | M29: =G29*(1+L29/100) -> 0 | N29: 0 | O29: =ROUND(E29*N29,2) -> 0 | P29: 0 | Q29: =ROUND(E29*P29,2) -> 0 | S29: Vlastní | T29: Indiv | U29: 0 | V29: =ROUND(E29*U29,2) -> 0 | X29: Práce | Y29: Běžná | AG29: POL1_9
A30: 20 | B30: 23009 | C30: Frekvenční ochrana | D30: ks | E30: 1 | G30: =ROUND(E30*F30,2) -> 0 | I30: =ROUND(E30*H30,2) -> 0 | K30: =ROUND(E30*J30,2) -> 0 | L30: 21 | M30: =G30*(1+L30/100) -> 0 | N30: 0 | O30: =ROUND(E30*N30,2) -> 0 | P30: 0 | Q30: =ROUND(E30*P30,2) -> 0 | S30: Vlastní | T30: Indiv | U30: 0 | V30: =ROUND(E30*U30,2) -> 0 | X30: Práce | Y30: Běžná | AG30: POL1_9
A31: 21 | B31: 23010 | C31: Stykač instalační třífázový, 400V/63A/44kW, Uc=230V, 4P | D31: ks | E31: 1 | G31: =ROUND(E31*F31,2) -> 0 | I31: =ROUND(E31*H31,2) -> 0 | K31: =ROUND(E31*J31,2) -> 0 | L31: 21 | M31: =G31*(1+L31/100) -> 0 | N31: 0 | O31: =ROUND(E31*N31,2) -> 0 | P31: 0 | Q31: =ROUND(E31*P31,2) -> 0 | S31: Vlastní | T31: Indiv | U31: 0 | V31: =ROUND(E31*U31,2) -> 0 | X31: Práce | Y31: Běžná | AG31: POL1_9
A32: 22 | B32: 23011 | C32: Relé instalační , 16A, Uc=230V, 1x spínací kontakt | D32: ks | E32: 1 | G32: =ROUND(E32*F32,2) -> 0 | I32: =ROUND(E32*H32,2) -> 0 | K32: =ROUND(E32*J32,2) -> 0 | L32: 21 | M32: =G32*(1+L32/100) -> 0 | N32: 0 | O32: =ROUND(E32*N32,2) -> 0 | P32: 0 | Q32: =ROUND(E32*P32,2) -> 0 | S32: Vlastní | T32: Indiv | U32: 0 | V32: =ROUND(E32*U32,2) -> 0 | X32: Práce | Y32: Běžná | AG32: POL1_9
A33: 23 | B33: 23012 | C33: Pojistkový odpojovač modulový, 1f-do 32A | D33: ks | E33: 1 | G33: =ROUND(E33*F33,2) -> 0 | I33: =ROUND(E33*H33,2) -> 0 | K33: =ROUND(E33*J33,2) -> 0 | L33: 21 | M33: =G33*(1+L33/100) -> 0 | N33: 0 | O33: =ROUND(E33*N33,2) -> 0 | P33: 0 | Q33: =ROUND(E33*P33,2) -> 0 | S33: Vlastní | T33: Indiv | U33: 0 | V33: =ROUND(E33*U33,2) -> 0 | X33: Práce | Y33: Běžná | AG33: POL1_9
... A45: 35 | B45: 23024 | C45: Nalepovací štítek - "Nehasit vodou" | D45: ks | E45: 1 | G45: =ROUND(E45*F45,2) -> 0 | I45: =ROUND(E45*H45,2) -> 0 | K45: =ROUND(E45*J45,2) -> 0 | L45: 21 | M45: =G45*(1+L45/100) -> 0 | N45: 0 | O45: =ROUND(E45*N45,2) -> 0 | P45: 0 | Q45: =ROUND(E45*P45,2) -> 0 | S45: Vlastní | T45: Indiv | U45: 0 | V45: =ROUND(E45*U45,2) -> 0 | X45: Práce | Y45: Běžná | AG45: POL1_9
A46: Díl: | B46: M24 | C46: ROZVADĚČ R-FVE-3 | G46: =SUMIF(AG47:AG70,"<>NOR",G47:G70) -> 0 | I46: =SUM(I47:I70) -> 0 | K46: =SUM(K47:K70) -> 0 | M46: =SUM(M47:M70) -> 0 | O46: =SUM(O47:O70) -> 0 | Q46: =SUM(Q47:Q70) -> 0 | V46: =SUM(V47:V70) -> 0 | AG46: DIL
A47: 36 | B47: 24001 | C47: Oceloplechový velkoobsahový rozvaděč, typ 3/72-C, oceloplechové dveře, 72(3x24) modulů, na omítku,, rozměry 600x543x140 mm, IP30, bílý | D47: ks | E47: 1 | G47: =ROUND(E47*F47,2) -> 0 | I47: =ROUND(E47*H47,2) -> 0 | K47: =ROUND(E47*J47,2) -> 0 | L47: 21 | M47: =G47*(1+L47/100) -> 0 | N47: 0 | O47: =ROUND(E47*N47,2) -> 0 | P47: 0 | Q47: =ROUND(E47*P47,2) -> 0 | S47: Vlastní | T47: Indiv | U47: 0 | V47: =ROUND(E47*U47,2) -> 0 | X47: Práce | Y47: Běžná | AG47: POL1_9
A48: 37 | B48: 24002 | C48: Izolovaná sběrnice do 16A - 3f | D48: m | E48: 0.7 | G48: =ROUND(E48*F48,2) -> 0 | I48: =ROUND(E48*H48,2) -> 0 | K48: =ROUND(E48*J48,2) -> 0 | L48: 21 | M48: =G48*(1+L48/100) -> 0 | N48: 0 | O48: =ROUND(E48*N48,2) -> 0 | P48: 0 | Q48: =ROUND(E48*P48,2) -> 0 | S48: Vlastní | T48: Indiv | U48: 0 | V48: =ROUND(E48*U48,2) -> 0 | X48: Práce | Y48: Běžná | AG48: POL1_9
A49: 38 | B49: 24003 | C49: Svorkovnice N - modrá | D49: ks | E49: 1 | G49: =ROUND(E49*F49,2) -> 0 | I49: =ROUND(E49*H49,2) -> 0 | K49: =ROUND(E49*J49,2) -> 0 | L49: 21 | M49: =G49*(1+L49/100) -> 0 | N49: 0 | O49: =ROUND(E49*N49,2) -> 0 | P49: 0 | Q49: =ROUND(E49*P49,2) -> 0 | S49: Vlastní | T49: Indiv | U49: 0 | V49: =ROUND(E49*U49,2) -> 0 | X49: Práce | Y49: Běžná | AG49: POL1_9
A50: 39 | B50: 24004 | C50: Svorkovnice PE - zelenožlutá | D50: ks | E50: 1 | G50: =ROUND(E50*F50,2) -> 0 | I50: =ROUND(E50*H50,2) -> 0 | K50: =ROUND(E50*J50,2) -> 0 | L50: 21 | M50: =G50*(1+L50/100) -> 0 | N50: 0 | O50: =ROUND(E50*N50,2) -> 0 | P50: 0 | Q50: =ROUND(E50*P50,2) -> 0 | S50: Vlastní | T50: Indiv | U50: 0 | V50: =ROUND(E50*U50,2) -> 0 | X50: Práce | Y50: Běžná | AG50: POL1_9
A51: 40 | B51: 24005 | C51: Jistič třífázový 100B/3, 10kA | D51: ks | E51: 1 | G51: =ROUND(E51*F51,2) -> 0 | I51: =ROUND(E51*H51,2) -> 0 | K51: =ROUND(E51*J51,2) -> 0 | L51: 21 | M51: =G51*(1+L51/100) -> 0 | N51: 0 | O51: =ROUND(E51*N51,2) -> 0 | P51: 0 | Q51: =ROUND(E51*P51,2) -> 0 | S51: Vlastní | T51: Indiv | U51: 0 | V51: =ROUND(E51*U51,2) -> 0 | X51: Práce | Y51: Běžná | AG51: POL1_9
A52: 41 | B52: 24006 | C52: Napěťová spoušť 230V | D52: ks | E52: 1 | G52: =ROUND(E52*F52,2) -> 0 | I52: =ROUND(E52*H52,2) -> 0 | K52: =ROUND(E52*J52,2) -> 0 | L52: 21 | M52: =G52*(1+L52/100) -> 0 | N52: 0 | O52: =ROUND(E52*N52,2) -> 0 | P52: 0 | Q52: =ROUND(E52*P52,2) -> 0 | S52: Vlastní | T52: Indiv | U52: 0 | V52: =ROUND(E52*U52,2) -> 0 | X52: Práce | Y52: Běžná | AG52: POL1_9
A53: 42 | B53: 24007 | C53: Komb. svodič přepětí stupně B+C, 12,5-3N-MZ, TNS, 4-pólový | D53: kpl. | E53: 1 | G53: =ROUND(E53*F53,2) -> 0 | I53: =ROUND(E53*H53,2) -> 0 | K53: =ROUND(E53*J53,2) -> 0 | L53: 21 | M53: =G53*(1+L53/100) -> 0 | N53: 0 | O53: =ROUND(E53*N53,2) -> 0 | P53: 0 | Q53: =ROUND(E53*P53,2) -> 0 | S53: Vlastní | T53: Indiv | U53: 0 | V53: =ROUND(E53*U53,2) -> 0 | X53: Práce | Y53: Běžná | AG53: POL1_9
...
