Workbook

Sheet Rekapitulace
B2: Cenová nabídka - REKAPITULACE - VYBAVENÍ pro ZŠ Luhačovice
B5: Položka | C5: celkem bez DPH | D5: celkem s DPH
B6: ='124'!B2 -> Školní družina (přízemí 1) - místnost č. 124 | C6: ='124'!H45 -> 0 | D6: ='124'!H49 -> 0
B7: ='122,123'!B2 -> Zázemí družiny (přízemí 1) - místnost 122, 123 | C7: ='122,123'!H53 -> 0 | D7: ='122,123'!H57 -> 0
B8: ='125'!B2 -> Školní družina (přízemí 2) - místnost č. 125 | C8: ='125'!H26 -> 0 | D8: ='125'!H30 -> 0
B9: ='126, 138'!B2 -> Zázemí školní družiny (přízemí 2 a 3) - místnosti č. 126, 138 | C9: ='126, 138'!H55 -> 0 | D9: ='126, 138'!H59 -> 0
B10: ='127'!B2 -> Školní družina (přízemí 3) - místnost č. 127 | C10: ='127'!H46 -> 0 | D10: ='127'!H50 -> 0
B11: ='128'!B2 -> Kabinet školní družiny (přízemí 1) - místnost č. 128 | C11: ='128'!H31 -> 0 | D11: ='128'!H35 -> 0
B12: ='225'!B2 -> Školní družina (druhé patro 1) - místnost č. 225 | C12: ='225'!H50 -> 0 | D12: ='225'!H54 -> 0
B13: ='223'!B2 -> Kabinet školní družiny (druhé patro 1) - místnost č. 223 | C13: ='223'!H35 -> 0 | D13: ='223'!H39 -> 0
B14: ='226'!B2 -> Školní družina (druhé patro 2) - místnost č. 226 | C14: ='226'!H46 -> 0 | D14: ='226'!H50 -> 0
B15: ='228,229'!B2 -> Zázemí pro družiny (druhé patro 1) - místnost č. 228, 229 | C15: ='228,229'!H62 -> 0 | D15: ='228,229'!H66 -> 0
B16: ='241'!B2 -> Zázemí školní družiny (druhé patro 2) - místnost č. 241 | C16: ='241'!H18 -> 0 | D16: ='241'!H22 -> 0
B17: ='107 Cvičná kuchyně'!B2 -> Cvičná kuchyňka - místnost č.107 | C17: ='107 Cvičná kuchyně'!H65 -> 0 | D17: ='107 Cvičná kuchyně'!H69 -> 0
B18: ='106 Kabinet ke kuchyni'!B2 -> Kabinet k cvičné kuchyňce - místnost č. 106 | C18: ='106 Kabinet ke kuchyni'!H28 -> 0 | D18: ='106 Kabinet ke kuchyni'!H32 -> 0
B19: ='Matematická učebna'!B2 -> Matematická učebna 5.B | C19: ='Matematická učebna'!H43 -> 0 | D19: ='Matematická učebna'!H47 -> 0
B20: ='Kabinet matematiky'!B2 -> Kabinet matematiky 5.B | C20: ='Kabinet matematiky'!H31 -> 0 | D20: ='Kabinet matematiky'!H35 -> 0
B21: ='Přírodovědná učebna'!B2 -> Přírodovědná učebna 5.A | C21: ='Přírodovědná učebna'!H43 -> 0 | D21: ='Přírodovědná učebna'!H47 -> 0
B22: ='Kabinet přírodovědy'!B2 -> Kabinet přírodovědy 5.A | C22: ='Kabinet přírodovědy'!H32 -> 0 | D22: ='Kabinet přírodovědy'!H36 -> 0
B23: Celkem | C23: =SUM(C6:C22) -> 0 | D23: =SUM(D6:D22) -> 0
B25: Cena celkem bez DPH | D25: =C23 -> 0
B27: DPH | D27: =D29-D25 -> 0
B29: Cena celkem vč. DPH | D29: =D23 -> 0

Sheet 124
B2: Školní družina (přízemí 1) - místnost č. 124
B4: Položka | C4: Specifikace | D4: ks | E4: jed. cena bez DPH | F4: celkem bez DPH | G4: jed. cena s DPH | H4: celkem s DPH
B5: Učitelské pracoviště
B6: Katedra multimediální s AV skříňkou, celodřevěná | C6: 760 x 1600 x 600 mm ( v x š x h ) - tolerance ±5% Pracovní deska 25 mm s PUR hranou. V pracovní desce stolu bude průchodka průměru 70 mm pro kabeláž pro monitor. Konstrukce katedry z LTD 18 mm, dvojitá záda pro vedení veškeré kabeláže. Pojezd pro klávesnici pod pracovní deskou. PC box: šíře 270 mm, ve spodní části jekl 40 x 20 mm, v horní části PC boxu police, v zadní části PC boxu odvětrování perforovaným plechem (velikost otvoru min. 7 mm max.10 mm). Roletová skříňka pro AV techniku: šíře 600 mm, ve spodní části jekl 40 x 20 mm, 2x stavitelné police, horizontální roletová dvířka se zámkem. Kovové prvky budou upraveny vypalovací barvou RAL dle výběru. | D6: 1 | F6: =SUM(D6*E6) -> 0 | G6: =SUM(E6*1.21) -> 0 | H6: =SUM(D6*G6) -> 0
B7: Učitelská židle poločalouněná skořepina | C7: Konstrukce: z kombinovaného rámu z ohýbaného plochooválu 20 x 38 mm s tvarovanou 11-ti vrstvou skořepinou s částečným čalouněním sedáku a opěráku. Fixace pomocí přítlačné desky formou skrytých závrtných šroubů. Nohy opatřené plastovým návlekem a plastová kolébka s možností vložení teflonového nebo filcového kluzáku. | D7: 1 | F7: =SUM(D7*E7) -> 0 | G7: =SUM(E7*1.21) -> 0 | H7: =SUM(D7*G7) -> 0
B8: Celkem | F8: =SUM(F6:F7) -> 0 | H8: =SUM(H6:H7) -> 0
B10: Žákovské pracoviště
B11: Dětský stůl celodřevený, půlkulatý | C11: 1200 x 600 mm ( š x h ) - tolerance ±5% Dětský půlkulatý stůl o rozměru 1200 x 600 mm. Konstrukce: deska LTD o tloušťce min. 18 mm, dřevěná podnož. Pracovní deska tl. 18mm - barevná. | D11: 2 | F11: =SUM(D11*E11) -> 0 | G11: =SUM(E11*1.21) -> 0 | H11: =SUM(D11*G11) -> 0
B12: Dětský stůl celodřevený, obdélníkový | C12: 1200 x 800 mm ( š x h ) - tolerance ±5% Dětský obdélníkový stůl o rozměru 1200 x 800 mm. Konstrukce: deska LTD o tloušťce min. 18 mm, dřevěná podnož. Pracovní deska tl. 18mm - barevná. | D12: 2 | F12: =SUM(D12*E12) -> 0 | G12: =SUM(E12*1.21) -> 0 | H12: =SUM(D12*G12) -> 0
B13: Dětská židle | C13: Kostra z bukového masivu. Sedák a opěrák z mořené bukové překližky. | D13: 16 | F13: =SUM(D13*E13) -> 0 | G13: =SUM(E13*1.21) -> 0 | H13: =SUM(D13*G13) -> 0
B14: Celkem | F14: =SUM(F11:F13) -> 0 | H14: =SUM(H11:H13) -> 0
B16: Nábytek
B17: Otevřená skříňka s úložnými boxy a dvířky | C17: 770 x 1040 x 470 mm ( v x š x h ) - tolerance ±5% Konstrukce: LTD min. 18 mm, lepená konstrukce, 2 mm ABS hrany, 4x rektifikační šrouby. Pohledová záda, kolečka pro manipulaci. Skříň s 8 úložnými boxy a dvířky. | D17: 4 | F17: =SUM(D17*E17) -> 0 | G17: =SUM(E17*1.21) -> 0 | H17: =SUM(D17*G17) -> 0
B18: Vestavná skříň | C18: 2070 x 900 x 250 mm ( v x š x h ) - tolerance ±5% Konstrukce: z LTD materiálu. Plné dveře s úchytkami a zámkem, 5x police, z toho minimálně 4x stavitelná | D18: 3 | F18: =SUM(D18*E18) -> 0 | G18: =SUM(E18*1.21) -> 0 | H18: =SUM(D18*G18) -> 0
B19: Keramická tabule | C19: 1200 x 1500 mm Tabule keramická pro popis fixem, s magnetickým keramickým vysoce odolným povrchem vůči mechanickému i tepelnému poškození, bílá. Rám tabule z hliníkového profilu s plastovými rohy. Povrch tabule je určen jak pro popis fixem tak pro projekci. | D19: 1 | F19: =SUM(D19*E19) -> 0 | G19: =SUM(E19*1.21) -> 0 | H19: =SUM(D19*G19) -> 0
B20: Skříň vysoká, kombinovaná s policemi | C20: 1800 x 900 x 430 mm ( v x š x h ) - tolerance ±5% Konstrukce: LTD min. 18 mm, lepená konstrukce, 2 mm ABS hrany. Celá konstrukce je zpevněna kovovým profilem 40 x 20 mm v horní, prostřední a spodní části. 4x rektifikační šrouby. Horní část: 2x stavitelná police Dolní část: plná dvířka s úchytkami a zámkem, 2x stavitelná police | D20: 2 | F20: =SUM(D20*E20) -> 0 | G20: =SUM(E20*1.21) -> 0 | H20: =SUM(D20*G20) -> 0
B21: Skříň kombinovaná s policemi a zásuvkami | C21: 1800 x 900 x 430 mm ( v x š x h ) - tolerance ±5% Konstrukce: LTD min. 18 mm, lepená konstrukce, 2 mm ABS hrany. Celá konstrukce je zpevněna kovovým profilem 40 x 20 mm v horní, prostřední a spodní části. 4x rektifikační šrouby. Horní část: 2x stavitelná police Dolní část: 3x zásuvka s úchytkami a zámkem | D21: 2 | F21: =SUM(D21*E21) -> 0 | G21: =SUM(E21*1.21) -> 0 | H21: =SUM(D21*G21) -> 0
B22: Nástavec uzavřený | C22: 600 x 900 x 430 mm ( v x š x h ) - tolerance ±5% Konstrukce: LTD min. 18 mm, lepená konstrukce, ABS hrany. Celá konstrukce je zpevněna kovovým profilem 40 x 20 mm v horní části, plná dvířka s úchytkami a zámkem, 1x stavitelná police. | D22: 4 | F22: =SUM(D22*E22) -> 0 | G22: =SUM(E22*1.21) -> 0 | H22: =SUM(D22*G22) -> 0
B23: Skříň s umyvadlem | C23: 2100 x 1800 x 600 mm ( v x š x h ) - tolerance ±5% Konstrukce: LTD min. 18 mm, hrany ABS alespoň 2 mm lepeny technologií PUR, jekl cca 40 x 20 mm, pracovní deska o síle 25 mm s odolnou folií HPL, min. 0,8 mm. Zádovina 600x2400 mm, LTD deska o síle min. 10mm Spodní část - 1x mycí stůl š. 600 mm s umyvadlem s nerezovou výpustí, baterie T+S, plná dvířka s úchytkami, 1x zásuvková skříňka š. 300 mm, 1x dvoudveřová skříňka š. 900 mm. Horní část - 2x výkloplná skříňka 600 x 900 x 300 ( v x š x h ). Zafrézovaný AL profil včetně LED pásku. Kovové prvky budou upraveny vypalovací barvou RAL dle výběru. | D23: 1 | F23: =SUM(D23*E23) -> 0 | G23: =SUM(E23*1.21) -> 0 | H23: =SUM(D23*G23) -> 0
B24: Odkládací parapetní pult | C24: š. 1550 mm, h. min. 400 mm (tolerance ±10%) LTD min. 18mm, lepená konstrukce, ABS hrany. | D24: 3 | F24: =SUM(D24*E24) -> 0 | G24: =SUM(E24*1.21) -> 0 | H24: =SUM(D24*G24) -> 0
B25: Kryt radiátoru | C25: š. 1550 mm - tolerance ±10% Konstrukce tvořena z LTD materiálu tloušťky min. 18mm a konzol z jeklového profilu. | D25: 3 | F25: =SUM(D25*E25) -> 0 | G25: =SUM(E25*1.21) -> 0 | H25: =SUM(D25*G25) -> 0
B26: Celkem | F26: =SUM(F17:F25) -> 0 | H26: =SUM(H17:H25) -> 0
B28: Zatemnění venkovní
B29: Roletové, elektrické venkovní zatemnění ve vodících lištách | C29: Rozměr okna 2120 x 1550 mm ( v x š ) - tolerance ±10% elektrické roletové zatemnění vedené ve vodících AL lištách, kovový tubus osazen navíjecím systémem, lamely s pěnovou výplní pro zvýšení mechanické odolnosti, roleta zajišťující absolutní tmu. Motoricky dálkově ovládané. (nutno zaměřit na místě) | D29: 3 | F29: =SUM(D29*E29) -> 0 | G29: =SUM(E29*1.21) -> 0 | H29: =SUM(D29*G29) -> 0
B30: Dálkový ovladač | C30: Umožňuje ovládání všech oken současně, nebo jednotlivě s možností zastavení v libovolné výšce | D30: 1 | F30: =SUM(D30*E30) -> 0 | G30: =SUM(E30*1.21) -> 0 | H30: =SUM(D30*G30) -> 0
B31: Montáž el. zatemnění | C31: Instalační práce | D31: 3 | F31: =SUM(D31*E31) -> 0 | G31: =SUM(E31*1.21) -> 0 | H31: =SUM(D31*G31) -> 0
B32: Celkem | F32: =SUM(F29:F31) -> 0 | H32: =SUM(H29:H31) -> 0
B34: Elektroinstalace v nábytkové části
B35: Osazení samostatné rozvodnice | C35: PVC zápustná rozvodnice uzavíratelná 24 modulová, 1x proudový chránič, 1x hlavní vypínač, 6xjistič 16B | D35: 1 | F35: =SUM(D35*E35) -> 0 | G35: =SUM(E35*1.21) -> 0 | H35: =SUM(D35*G35) -> 0
B36: Přepěťová ochrana do hlavního rozvaděče | C36: kombinovaný svodič přepětí 25A | D36: 1 | F36: =SUM(D36*E36) -> 0 | G36: =SUM(E36*1.21) -> 0 | H36: =SUM(D36*G36) -> 0
B37: El. rozvod v katedře a elektro revize | C37: CYKY 3x 2,5; zásuvky 230V, revize s vystavením revizní zprávy | D37: 1 | F37: =SUM(D37*E37) -> 0 | G37: =SUM(E37*1.21) -> 0 | H37: =SUM(D37*G37) -> 0
B38: Celkem | F38: =SUM(F35:F37) -> 0 | H38: =SUM(H35:H37) -> 0
B40: Ostatní náklady
B41: Celkové sestavení, vynošení, kotvení a montáž učebny | C41: rozmístění, pevná montáž | D41: 1 | F41: =SUM(D41*E41) -> 0 | G41: =SUM(E41*1.21) -> 0 | H41: =SUM(D41*G41) -> 0
B42: Celková doprava dle koeficientu | C42: doprava nábytku a montáže | D42: 1 | F42: =SUM(D42*E42) -> 0 | G42: =SUM(E42*1.21) -> 0 | H42: =SUM(D42*G42) -> 0
B43: Celkem | F43: =SUM(F41:F42) -> 0 | H43: =SUM(H41:H42) -> 0
B45: CELKEM bez DPH | H45: =SUM(F8,F14,F26,F32,F38,F43) -> 0
B47: DPH 21% | H47: =H49-H45 -> 0
B49: CELKEM včetně DPH | H49: =SUM(H8,H14,H26,H32,H38,H43) -> 0

Sheet 122,123
B2: Zázemí družiny (přízemí 1) - místnost 122, 123
B4: Zázemí družiny (místnost 122)
B6: Položka | C6: Specifikace | D6: ks | E6: jed. cena bez DPH | F6: celkem bez DPH | G6: jed. cena s DPH | H6: celkem s DPH
B7: Nábytek
B8: Skříň vysoká, uzavřená s policemi | C8: 1800 x 900 x 430 mm ( v x š x h ) - tolerance ±5% Konstrukce: LTD min. 18 mm, lepená konstrukce, 2 mm ABS hrany. Celá konstrukce je zpevněna kovovým profilem 40 x 20 mm v horní a spodní části. 4x rektifikační šrouby. Plné dveře s úchytkami a zámkem, 5x police, z toho minimálně 4x stavitelná | D8: 1 | F8: =SUM(D8*E8) -> 0 | G8: =SUM(E8*1.21) -> 0 | H8: =SUM(D8*G8) -> 0
B9: Nástavec uzavřený | C9: 600 x 900 x 430 mm ( v x š x h ) - tolerance ±5% Konstrukce: LTD min. 18 mm, lepená konstrukce, ABS hrany. Celá konstrukce je zpevněna kovovým profilem 40 x 20 mm v horní části, plná dvířka s úchytkami a zámkem, 1x stavitelná police. | D9: 1 | F9: =SUM(D9*E9) -> 0 | G9: =SUM(E9*1.21) -> 0 | H9: =SUM(D9*G9) -> 0
B10: Celkem | F10: =SUM(F8:F9) -> 0 | H10: =SUM(H8:H9) -> 0
B12: Ostatní náklady
B13: Celkové sestavení, vynošení, kotvení a montáž učebny | C13: rozmístění, pevná montáž | D13: 1 | F13: =SUM(D13*E13) -> 0 | G13: =SUM(E13*1.21) -> 0 | H13: =SUM(D13*G13) -> 0
B14: Celková doprava dle koeficientu | C14: doprava nábytku a montáže | D14: 1 | F14: =SUM(D14*E14) -> 0 | G14: =SUM(E14*1.21) -> 0 | H14: =SUM(D14*G14) -> 0
B15: Celkem | F15: =SUM(F13:F14) -> 0 | H15: =SUM(H13:H14) -> 0
B17: CELKEM bez DPH | H17: =SUM(F10,F15) -> 0
B19: DPH 21% | H19: =H21-H17 -> 0
B21: CELKEM včetně DPH | H21: =SUM(H10,H15) -> 0
B24: Zázemí družiny (místnost 123)
B26: Položka | C26: Specifikace | D26: ks | F26: celkem bez DPH | G26: jed. cena s DPH | H26: celkem s DPH
B27: Nábytek
B28: Skříň vysoká, uzavřená s policemi | C28: 1800 x 900 x 430 mm ( v x š x h ) - tolerance ±5% Konstrukce: LTD min. 18 mm, lepená konstrukce, 2 mm ABS hrany. Celá konstrukce je zpevněna kovovým profilem 40 x 20 mm v horní a spodní části. 4x rektifikační šrouby. Plné dveře s úchytkami a zámkem, 5x police, z toho minimálně 4x stavitelná | D28: 2 | F28: =SUM(D28*E28) -> 0 | G28: =SUM(E28*1.21) -> 0 | H28: =SUM(D28*G28) -> 0
B29: Skříň čtyřdveřová uzavřená, s policemi | C29: 1800 x 900 x 430 mm ( v x š x h) - tolerance ±5% Konstrukce: LTD min. 18 mm, lepená konstrukce, 2 mm ABS hrany. Celá konstrukce je zpevněna kovovým profilem 40 x 20 mm v horní, prostřední a spodní části. 4x rektifikační šrouby. Horní část: plná dvířka s úchytkami a zámkem, 2x stavitelná police Dolní část: plná dvířka s úchytkami a zámkem, 2x stavitelná police | D29: 4 | F29: =SUM(D29*E29) -> 0 | G29: =SUM(E29*1.21) -> 0 | H29: =SUM(D29*G29) -> 0
B30: Skříň vysoká, kombinovaná s policemi | C30: 1800 x 900 x 430 mm ( v x š x h ) - tolerance ±5% Konstrukce: LTD min. 18 mm, lepená konstrukce, 2 mm ABS hrany. Celá konstrukce je zpevněna kovovým profilem 40 x 20 mm v horní, prostřední a spodní části. 4x rektifikační šrouby. Horní část: 2x stavitelná police Dolní část: plná dvířka s úchytkami a zámkem, 2x stavitelná police | D30: 2 | F30: =SUM(D30*E30) -> 0 | G30: =SUM(E30*1.21) -> 0 | H30: =SUM(D30*G30) -> 0
B31: Nástavec uzavřený | C31: 600 x 900 x 430 mm ( v x š x h ) - tolerance ±5% Konstrukce: LTD min. 18 mm, lepená konstrukce, ABS hrany. Celá konstrukce je zpevněna kovovým profilem 40 x 20 mm v horní části, plná dvířka s úchytkami a zámkem, 1x stavitelná police. | D31: 8 | F31: =SUM(D31*E31) -> 0 | G31: =SUM(E31*1.21) -> 0 | H31: =SUM(D31*G31) -> 0
B32: Pojízdný vozík na pomůcky | C32: 870 x 700 x 450 mm ( v x š x h ) - tolerance ±5% Konstrukce: z ohýbaného plochooválu 38 x 20 mm, 2x pevná police s MDF, se zaoblenými hranami. Nohy pojízdné na kolečkách. | D32: 2 | F32: =SUM(D32*E32) -> 0 | G32: =SUM(E32*1.21) -> 0 | H32: =SUM(D32*G32) -> 0
B33: Odkládací parapetní pult | C33: š. 1550 mm, h. min. 400 mm (tolerance ±10%) LTD min. 18mm, lepená konstrukce, ABS hrany. | D33: 1 | F33: =SUM(D33*E33) -> 0 | G33: =SUM(E33*1.21) -> 0 | H33: =SUM(D33*G33) -> 0
B34: Celkem | F34: =SUM(F28:F33) -> 0 | H34: =SUM(H28:H33) -> 0
B36: Zatemnění venkovní
B37: Roletové, elektrické venkovní zatemnění ve vodících lištách | C37: Rozměr okna 2120 x 1550 mm ( v x š ) - tolerance ±10% elektrické roletové zatemnění vedené ve vodících AL lištách, kovový tubus osazen navíjecím systémem, lamely s pěnovou výplní pro zvýšení mechanické odolnosti, roleta zajišťující absolutní tmu. Motoricky dálkově ovládané. (nutno zaměřit na místě) | D37: 1 | F37: =SUM(D37*E37) -> 0 | G37: =SUM(E37*1.21) -> 0 | H37: =SUM(D37*G37) -> 0
B38: Dálkový ovladač | C38: Umožňuje ovládání všech oken současně, nebo jednotlivě s možností zastavení v libovolné výšce | D38: 1 | F38: =SUM(D38*E38) -> 0 | G38: =SUM(E38*1.21) -> 0 | H38: =SUM(D38*G38) -> 0
B39: Montáž el. zatemnění | C39: Instalační práce | D39: 1 | F39: =SUM(D39*E39) -> 0 | G39: =SUM(E39*1.21) -> 0 | H39: =SUM(D39*G39) -> 0
B40: Celkem | F40: =SUM(F37:F39) -> 0 | H40: =SUM(H37:H39) -> 0
B42: Ostatní náklady
B43: Celkové sestavení, vynošení, kotvení a montáž učebny | C43: rozmístění, pevná montáž | D43: 1 | F43: =SUM(D43*E43) -> 0 | G43: =SUM(E43*1.21) -> 0 | H43: =SUM(D43*G43) -> 0
B44: Celková doprava dle koeficientu | C44: doprava nábytku a montáže | D44: 1 | F44: =SUM(D44*E44) -> 0 | G44: =SUM(E44*1.21) -> 0 | H44: =SUM(D44*G44) -> 0
B45: Celkem | F45: =SUM(F43:F44) -> 0 | H45: =SUM(H43:H44) -> 0
B47: CELKEM bez DPH | H47: =SUM(F34,F40,F45) -> 0
B49: DPH 21% | H49: =H51-H47 -> 0
B51: CELKEM včetně DPH | H51: =SUM(H34,H40,H45) -> 0
B53: CELKEM bez DPH | H53: =H17+H47 -> 0
B55: DPH 21% | H55: =H19+H49 -> 0
B57: CELKEM včetně DPH | H57: =H21+H51 -> 0

Sheet 125
B2: Školní družina (přízemí 2) - místnost č. 125
B4: Položka | C4: Specifikace | D4: ks | E4: jed. cena bez DPH | F4: celkem bez DPH | G4: jed. cena s DPH | H4: celkem s DPH
B5: Nábytek
B6: Vestavná skříň | C6: 2040 x 1480 x 250 mm ( v x š x h ) - tolerance ±5% Konstrukce: z LTD materiálu. Rozdělena na dvě sekce šíře 740 mm. Plné dveře s úchytkami a zámkem, 5x police, z toho minimálně 4x stavitelná. | D6: 1 | F6: =SUM(D6*E6) -> 0 | G6: =SUM(E6*1.21) -> 0 | H6: =SUM(D6*G6) -> 0
B7: Odkládací parapetní pult | C7: š. 2400 mm, h. min. 400 mm (tolerance ±10%) LTD min. 18mm, lepená konstrukce, ABS hrany. | D7: 2 | F7: =SUM(D7*E7) -> 0 | G7: =SUM(E7*1.21) -> 0 | H7: =SUM(D7*G7) -> 0
B8: Odkládací parapetní pult | C8: š. 1600 mm, h. min. 400 mm (tolerance ±10%) LTD min. 18mm, lepená konstrukce, ABS hrany. | D8: 1 | F8: =SUM(D8*E8) -> 0 | G8: =SUM(E8*1.21) -> 0 | H8: =SUM(D8*G8) -> 0
B9: Kryt radiátoru | C9: š. 2400 mm - tolerance ±10% Konstrukce tvořena z LTD materiálu tloušťky min. 18mm a konzol z jeklového profilu. | D9: 2 | F9: =SUM(D9*E9) -> 0 | G9: =SUM(E9*1.21) -> 0 | H9: =SUM(D9*G9) -> 0
B10: Kryt radiátoru | C10: š. 1600 mm - tolerance ±10% Konstrukce tvořena z LTD materiálu tloušťky min. 18mm a konzol z jeklového profilu. | D10: 1 | F10: =SUM(D10*E10) -> 0 | G10: =SUM(E10*1.21) -> 0 | H10: =SUM(D10*G10) -> 0
B11: Celkem | F11: =SUM(F6:F10) -> 0 | H11: =SUM(H6:H10) -> 0
B13: Zatemnění venkovní
B14: Roletové, elektrické venkovní zatemnění ve vodících lištách | C14: Rozměr okna 2120 x 2400 mm ( v x š ) - tolerance ±10% elektrické roletové zatemnění vedené ve vodících AL lištách, kovový tubus osazen navíjecím systémem, lamely s pěnovou výplní pro zvýšení mechanické odolnosti, roleta zajišťující absolutní tmu. Motoricky dálkově ovládané. (nutno zaměřit na místě) | D14: 2 | F14: =SUM(D14*E14) -> 0 | G14: =SUM(E14*1.21) -> 0 | H14: =SUM(D14*G14) -> 0
B15: Roletové, elektrické venkovní zatemnění ve vodících lištách | C15: Rozměr okna 2900 x 800 mm ( v x š ) - tolerance ±10% elektrické roletové zatemnění vedené ve vodících AL lištách, kovový tubus osazen navíjecím systémem, lamely s pěnovou výplní pro zvýšení mechanické odolnosti, roleta zajišťující absolutní tmu. Motoricky dálkově ovládané. (nutno zaměřit na místě) | D15: 1 | F15: =SUM(D15*E15) -> 0 | G15: =SUM(E15*1.21) -> 0 | H15: =SUM(D15*G15) -> 0
B16: Roletové, elektrické venkovní zatemnění ve vodících lištách | C16: Rozměr okna 2120 x 1600 mm ( v x š ) - tolerance ±10% elektrické roletové zatemnění vedené ve vodících AL lištách, kovový tubus osazen navíjecím systémem, lamely s pěnovou výplní pro zvýšení mechanické odolnosti, roleta zajišťující absolutní tmu. Motoricky dálkově ovládané. (nutno zaměřit na místě) | D16: 1 | F16: =SUM(D16*E16) -> 0 | G16: =SUM(E16*1.21) -> 0 | H16: =SUM(D16*G16) -> 0
B17: Dálkový ovladač | C17: Umožňuje ovládání všech oken současně, nebo jednotlivě s možností zastavení v libovolné výšce | D17: 1 | F17: =SUM(D17*E17) -> 0 | G17: =SUM(E17*1.21) -> 0 | H17: =SUM(D17*G17) -> 0
B18: Montáž el. zatemnění | C18: Instalační práce | D18: 4 | F18: =SUM(D18*E18) -> 0 | G18: =SUM(E18*1.21) -> 0 | H18: =SUM(D18*G18) -> 0
B19: Celkem | F19: =SUM(F14:F18) -> 0 | H19: =SUM(H14:H18) -> 0
B21: Ostatní náklady
B22: Celkové sestavení, vynošení, kotvení a montáž učebny | C22: rozmístění, pevná montáž | D22: 1 | F22: =SUM(D22*E22) -> 0 | G22: =SUM(E22*1.21) -> 0 | H22: =SUM(D22*G22) -> 0
B23: Celková doprava dle koeficientu | C23: doprava nábytku a montáže | D23: 1 | F23: =SUM(D23*E23) -> 0 | G23: =SUM(E23*1.21) -> 0 | H23: =SUM(D23*G23) -> 0
B24: Celkem | F24: =SUM(F22:F23) -> 0 | H24: =SUM(H22:H23) -> 0
B26: CELKEM bez DPH | H26: =SUM(F11,F19,F24) -> 0
B28: DPH 21% | H28: =H30-H26 -> 0
B30: CELKEM včetně DPH | H30: =SUM(H11,H19,H24) -> 0

Sheet 126, 138
B2: Zázemí školní družiny (přízemí 2 a 3) - místnosti č. 126, 138
B4: Zázemí školní družiny (přízemí 2 a 3) - místnost č. 138
B6: Položka | C6: Specifikace | D6: ks | E6: jed. cena bez DPH | F6: celkem bez DPH | G6: jed. cena s DPH | H6: celkem s DPH
B7: Nábytek
B8: Skříň čtyřdveřová uzavřená, s policemi | C8: 1800 x 900 x 430 mm ( v x š x h) - tolerance ±5% Konstrukce: LTD min. 18 mm, lepená konstrukce, 2 mm ABS hrany. Celá konstrukce je zpevněna kovovým profilem 40 x 20 mm v horní, prostřední a spodní části. 4x rektifikační šrouby. Horní část: plná dvířka s úchytkami a zámkem, 2x stavitelná police Dolní část: plná dvířka s úchytkami a zámkem, 2x stavitelná police | D8: 2 | F8: =SUM(D8*E8) -> 0 | G8: =SUM(E8*1.21) -> 0 | H8: =SUM(D8*G8) -> 0
B9: Skříň vysoká, kombinovaná s policemi | C9: 1800 x 900 x 430 mm ( v x š x h ) - tolerance ±5% Konstrukce: LTD min. 18 mm, lepená konstrukce, 2 mm ABS hrany. Celá konstrukce je zpevněna kovovým profilem 40 x 20 mm v horní, prostřední a spodní části. 4x rektifikační šrouby. Horní část: 2x stavitelná police Dolní část: plná dvířka s úchytkami a zámkem, 2x stavitelná police | D9: 4 | F9: =SUM(D9*E9) -> 0 | G9: =SUM(E9*1.21) -> 0 | H9: =SUM(D9*G9) -> 0
B10: Nástavec uzavřený | C10: 600 x 900 x 430 mm ( v x š x h ) - tolerance ±5% Konstrukce: LTD min. 18 mm, lepená konstrukce, ABS hrany. Celá konstrukce je zpevněna kovovým profilem 40 x 20 mm v horní části, plná dvířka s úchytkami a zámkem, 1x stavitelná police. | D10: 6 | F10: =SUM(D10*E10) -> 0 | G10: =SUM(E10*1.21) -> 0 | H10: =SUM(D10*G10) -> 0
B11: Skříň kombinovaná s policemi a zásuvkami | C11: 1800 x 450 x 430 mm ( v x š x h ) - tolerance ±5% Konstrukce: LTD min. 18 mm, lepená konstrukce, 2 mm ABS hrany. Celá konstrukce je zpevněna kovovým profilem 40 x 20 mm v horní, prostřední a spodní části. 4x rektifikační šrouby. Horní část: 2x stavitelná police Dolní část: 3x zásuvka s úchytkami a zámkem | D11: 2 | F11: =SUM(D11*E11) -> 0 | G11: =SUM(E11*1.21) -> 0 | H11: =SUM(D11*G11) -> 0
B12: Skříň dvoudveřová uzavřená, s policemi | C12: 1800 x 450 x 430 mm ( v x š x h ) - tolerance ±5% Konstrukce: LTD min. 18 mm, lepená konstrukce, 2 mm ABS hrany. Celá konstrukce je zpevněna kovovým profilem 40 x 20 mm v horní, prostřední a spodní části. 4x rektifikační šrouby. Horní část: plná dvířka s úchytkou a zámkem, 2x stavitelná police Dolní část: plná dvířka s úchytkou a zámkem, 2x stavitelná police | D12: 2 | F12: =SUM(D12*E12) -> 0 | G12: =SUM(E12*1.21) -> 0 | H12: =SUM(D12*G12) -> 0
B13: Nástavec uzavřený | C13: 600 x 450 x 430 mm ( v x š x h ) - tolerance ±5% Konstrukce: LTD min. 18 mm, lepená konstrukce, ABS hrany. Celá konstrukce je zpevněna kovovým profilem 40 x 20 mm v horní části, plná dvířka s úchytkami a zámkem, 1x stavitelná police. | D13: 4 | F13: =SUM(D13*E13) -> 0 | G13: =SUM(E13*1.21) -> 0 | H13: =SUM(D13*G13) -> 0
B14: Celkem | F14: =SUM(F8:F13) -> 0 | H14: =SUM(H8:H13) -> 0
B16: Ostatní náklady
B17: Celkové sestavení, vynošení, kotvení a montáž učebny | C17: rozmístění, pevná montáž | D17: 1 | F17: =SUM(D17*E17) -> 0 | G17: =SUM(E17*1.21) -> 0 | H17: =SUM(D17*G17) -> 0
B18: Celková doprava dle koeficientu | C18: doprava nábytku a montáže | D18: 1 | F18: =SUM(D18*E18) -> 0 | G18: =SUM(E18*1.21) -> 0 | H18: =SUM(D18*G18) -> 0
B19: Celkem | F19: =SUM(F17:F18) -> 0 | H19: =SUM(H17:H18) -> 0
B21: CELKEM bez DPH | H21: =SUM(F14,F19) -> 0
B23: DPH 21% | H23: =H25-H21 -> 0
B25: CELKEM včetně DPH | H25: =SUM(H14,H19) -> 0
B28: Zázemí školní družiny (přízemí 2 a 3) - místnost č. 126 (šatna)
B30: Položka | C30: Specifikace | D30: ks | F30: celkem bez DPH | G30: jed. cena s DPH | H30: celkem s DPH
B31: Nábytek
B32: Skříň šatní 6-ti dílná | C32: 1400 x 1600 x 500 mm ( v x š x h ) - tolerance ±5% Konstrukce: LTD min. 18 mm, lepená konstrukce, ABS hrany. Celá konstrukce je zpevněna kovovým profilem 40 x 20 mm v horní a spodní části, rektifikační šrouby. Skříň rozdělena na 6 stejných dílů. Horní část uzavíratelná včetně úchytky, středová část otevřená s dvěma háčky. Ve spodní části box na uložení obuvi s horní deskou min. síly 25 mm určenou k sezení. | D32: 6 | F32: =SUM(D32*E32) -> 0 | G32: =SUM(E32*1.21) -> 0 | H32: =SUM(D32*G32) -> 0
B33: Skříň šatní 4 dílná | C33: 1400 x 1070 x 500 mm ( v x š x h ) - tolerance ±5% Konstrukce: LTD min. 18 mm, lepená konstrukce, ABS hrany. Celá konstrukce je zpevněna kovovým profilem 40 x 20 mm v horní a spodní části, rektifikační šrouby. Skříň rozdělena na 6 stejných dílů. Horní část uzavíratelná včetně úchytky, středová část otevřená s dvěma háčky. Ve spodní části box na uložení obuvi s horní deskou min. síly 25 mm určenou k sezení. | D33: 2 | F33: =SUM(D33*E33) -> 0 | G33: =SUM(E33*1.21) -> 0 | H33: =SUM(D33*G33) -> 0
B34: Odkládací parapetní pult | C34: š. 2400 mm, h. min. 400 mm (tolerance ±10%) LTD min. 18mm, lepená konstrukce, ABS hrany. | D34: 1 | F34: =SUM(D34*E34) -> 0 | G34: =SUM(E34*1.21) -> 0 | H34: =SUM(D34*G34) -> 0
B35: Kryt radiátoru | C35: š. 2400 mm - tolerance ±10% Konstrukce tvořena z LTD materiálu tloušťky min. 18mm a konzol z jeklového profilu. | D35: 1 | F35: =SUM(D35*E35) -> 0 | G35: =SUM(E35*1.21) -> 0 | H35: =SUM(D35*G35) -> 0
B36: Celkem | F36: =SUM(F32:F35) -> 0 | H36: =SUM(H32:H35) -> 0
B38: Zatemnění venkovní
B39: Roletové, elektrické venkovní zatemnění ve vodících lištách | C39: Rozměr okna 2120 x 2400 mm ( v x š ) - tolerance ±10% elektrické roletové zatemnění vedené ve vodících AL lištách, kovový tubus osazen navíjecím systémem, lamely s pěnovou výplní pro zvýšení mechanické odolnosti, roleta zajišťující absolutní tmu. Motoricky dálkově ovládané. (nutno zaměřit na místě) | D39: 1 | F39: =SUM(D39*E39) -> 0 | G39: =SUM(E39*1.21) -> 0 | H39: =SUM(D39*G39) -> 0
B40: Dálkový ovladač | C40: Umožňuje ovládání všech oken současně, nebo jednotlivě s možností zastavení v libovolné výšce | D40: 1 | F40: =SUM(D40*E40) -> 0 | G40: =SUM(E40*1.21) -> 0 | H40: =SUM(D40*G40) -> 0
B41: Montáž el. zatemnění | C41: Instalační práce | D41: 1 | F41: =SUM(D41*E41) -> 0 | G41: =SUM(E41*1.21) -> 0 | H41: =SUM(D41*G41) -> 0
B42: Celkem | F42: =SUM(F39:F41) -> 0 | H42: =SUM(H39:H41) -> 0
B44: Ostatní náklady
B45: Celkové sestavení, vynošení, kotvení a montáž učebny | C45: rozmístění, pevná montáž | D45: 1 | F45: =SUM(D45*E45) -> 0 | G45: =SUM(E45*1.21) -> 0 | H45: =SUM(D45*G45) -> 0
B46: Celková doprava dle koeficientu | C46: doprava nábytku a montáže | D46: 1 | F46: =SUM(D46*E46) -> 0 | G46: =SUM(E46*1.21) -> 0 | H46: =SUM(D46*G46) -> 0
B47: Celkem | F47: =SUM(F45:F46) -> 0 | H47: =SUM(H45:H46) -> 0
B49: CELKEM bez DPH | H49: =SUM(F36,F42,F47) -> 0
B51: DPH 21% | H51: =H53-H49 -> 0
B53: CELKEM včetně DPH | H53: =SUM(H36,H42,H47) -> 0
B55: CELKEM bez DPH | H55: =H21+H49 -> 0
B57: DPH 21% | H57: =H23+H51 -> 0
...

Sheet 127
B2: Školní družina (přízemí 3) - místnost č. 127
B4: Položka | C4: Specifikace | D4: ks | E4: jed. cena bez DPH | F4: celkem bez DPH | G4: jed. cena s DPH | H4: celkem s DPH
B5: Učitelské pracoviště
B6: Katedra multimediální s AV skříňkou, celodřevěná | C6: 760 x 1600 x 600 mm ( v x š x h ) - tolerance ±5% Pracovní deska 25 mm s PUR hranou. V pracovní desce stolu bude průchodka průměru 70 mm pro kabeláž pro monitor. Konstrukce katedry z LTD 18 mm, dvojitá záda pro vedení veškeré kabeláže. Pojezd pro klávesnici pod pracovní deskou. PC box: šíře 270 mm, ve spodní části jekl 40 x 20 mm, v horní části PC boxu police, v zadní části PC boxu odvětrování perforovaným plechem (velikost otvoru min. 7 mm max.10 mm). Roletová skříňka pro AV techniku: šíře 600 mm, ve spodní části jekl 40 x 20 mm, 2x stavitelné police, horizontální roletová dvířka se zámkem. Kovové prvky budou upraveny vypalovací barvou RAL dle výběru. | D6: 1 | F6: =SUM(D6*E6) -> 0 | G6: =SUM(E6*1.21) -> 0 | H6: =SUM(D6*G6) -> 0
B7: Učitelská židle poločalouněná skořepina | C7: Konstrukce: z kombinovaného rámu z ohýbaného plochooválu 20 x 38 mm s tvarovanou 11-ti vrstvou skořepinou s částečným čalouněním sedáku a opěráku. Fixace pomocí přítlačné desky formou skrytých závrtných šroubů. Nohy opatřené plastovým návlekem a plastová kolébka s možností vložení teflonového nebo filcového kluzáku. | D7: 1 | F7: =SUM(D7*E7) -> 0 | G7: =SUM(E7*1.21) -> 0 | H7: =SUM(D7*G7) -> 0
B8: Celkem | F8: =SUM(F6:F7) -> 0 | H8: =SUM(H6:H7) -> 0
B10: Žákovské pracoviště
B11: Dětský stůl celodřevený, půlkulatý | C11: 1200 x 600 mm ( š x h ) - tolerance ±5% Dětský půlkulatý stůl o rozměru 1200 x 600 mm. Konstrukce: deska LTD o tloušťce min. 18 mm, dřevěná podnož. Pracovní deska tl. 18mm - barevná. | D11: 2 | F11: =SUM(D11*E11) -> 0 | G11: =SUM(E11*1.21) -> 0 | H11: =SUM(D11*G11) -> 0
B12: Dětský stůl celodřevený, obdélníkový | C12: 1200 x 800 mm ( š x h ) - tolerance ±5% Dětský obdélníkový stůl o rozměru 1200 x 800 mm. Konstrukce: deska LTD o tloušťce min. 18 mm, dřevěná podnož. Pracovní deska tl. 18mm - barevná. | D12: 2 | F12: =SUM(D12*E12) -> 0 | G12: =SUM(E12*1.21) -> 0 | H12: =SUM(D12*G12) -> 0
B13: Dětská židle | C13: Kostra z bukového masivu. Sedák a opěrák z mořené bukové překližky. | D13: 16 | F13: =SUM(D13*E13) -> 0 | G13: =SUM(E13*1.21) -> 0 | H13: =SUM(D13*G13) -> 0
B14: Celkem | F14: =SUM(F11:F13) -> 0 | H14: =SUM(H11:H13) -> 0
B16: Nábytek
B17: Otevřená skříňka s úložnými boxy a dvířky | C17: 770 x 1040 x 470 mm ( v x š x h ) - tolerance ±5% Konstrukce: LTD min. 18 mm, lepená konstrukce, 2 mm ABS hrany, 4x rektifikační šrouby. Pohledová záda, kolečka pro manipulaci. Skříň s 8 úložnými boxy a dvířky. | D17: 3 | F17: =SUM(D17*E17) -> 0 | G17: =SUM(E17*1.21) -> 0 | H17: =SUM(D17*G17) -> 0
B18: Vestavná skříň | C18: 1200 x 1500 x 320 mm ( v x š x h ) - tolerance ±5% Konstrukce: z LTD materiálu. Rozdělena na dvě sekce šíře 750 mm. Plné dveře s úchytkami a zámkem, 3x police, z toho minimálně 2x stavitelná. | D18: 1 | F18: =SUM(D18*E18) -> 0 | G18: =SUM(E18*1.21) -> 0 | H18: =SUM(D18*G18) -> 0
B19: Vestavná skříň | C19: 1200 x 1150 x 320 mm ( v x š x h ) - tolerance ±5% Konstrukce: z LTD materiálu. Rozdělena na dvě sekce šíře 575 mm. 3x police, z toho minimálně 2x stavitelná. | D19: 1 | F19: =SUM(D19*E19) -> 0 | G19: =SUM(E19*1.21) -> 0 | H19: =SUM(D19*G19) -> 0
B20: Nástěnka | C20: 1500 x 1200 mm Korková nástěnka, rám z hliníkového profilu, zavěšení na stěnu. | D20: 1 | F20: =SUM(D20*E20) -> 0 | G20: =SUM(E20*1.21) -> 0 | H20: =SUM(D20*G20) -> 0
B21: Skříň čtyřdveřová uzavřená, s policemi | C21: 1800 x 900 x 600 mm ( v x š x h) - tolerance ±5% Konstrukce: LTD min. 18 mm, lepená konstrukce, 2 mm ABS hrany. Celá konstrukce je zpevněna kovovým profilem 40 x 20 mm v horní, prostřední a spodní části. 4x rektifikační šrouby. Horní část: plná dvířka s úchytkami a zámkem, 2x stavitelná police Dolní část: plná dvířka s úchytkami a zámkem, 2x stavitelná police | D21: 4 | F21: =SUM(D21*E21) -> 0 | G21: =SUM(E21*1.21) -> 0 | H21: =SUM(D21*G21) -> 0
B22: Skříň kombinovaná s policemi a zásuvkami | C22: 1800 x 900 x 600 mm ( v x š x h ) - tolerance ±5% Konstrukce: LTD min. 18 mm, lepená konstrukce, 2 mm ABS hrany. Celá konstrukce je zpevněna kovovým profilem 40 x 20 mm v horní, prostřední a spodní části. 4x rektifikační šrouby. Horní část: 2x stavitelná police Dolní část: 3x zásuvka s úchytkami a zámkem | D22: 2 | F22: =SUM(D22*E22) -> 0 | G22: =SUM(E22*1.21) -> 0 | H22: =SUM(D22*G22) -> 0
B23: Nástavec uzavřený | C23: 600 x 900 x 600 mm ( v x š x h ) - tolerance ±5% Konstrukce: LTD min. 18 mm, lepená konstrukce, ABS hrany. Celá konstrukce je zpevněna kovovým profilem 40 x 20 mm v horní části, plná dvířka s úchytkami a zámkem, 1x stavitelná police. | D23: 6 | F23: =SUM(D23*E23) -> 0 | G23: =SUM(E23*1.21) -> 0 | H23: =SUM(D23*G23) -> 0
B24: Koberec | C24: 2700 x 6000 mm - tolerance ±10% Koberec s barevným potiskem. (nutno zaměřit na místě) | D24: 1 | F24: =SUM(D24*E24) -> 0 | G24: =SUM(E24*1.21) -> 0 | H24: =SUM(D24*G24) -> 0
B25: Odkládací parapetní pult | C25: š. 2400 mm, h. min. 400 mm (tolerance ±10%) LTD min. 18mm, lepená konstrukce, ABS hrany. | D25: 3 | F25: =SUM(D25*E25) -> 0 | G25: =SUM(E25*1.21) -> 0 | H25: =SUM(D25*G25) -> 0
B26: Kryt radiátoru | C26: š. 2400 mm - tolerance ±10% Konstrukce tvořena z LTD materiálu tloušťky min. 18mm a konzol z jeklového profilu. | D26: 3 | F26: =SUM(D26*E26) -> 0 | G26: =SUM(E26*1.21) -> 0 | H26: =SUM(D26*G26) -> 0
B27: Celkem | F27: =SUM(F17:F26) -> 0 | H27: =SUM(H17:H26) -> 0
B29: Zatemnění venkovní
B30: Roletové, elektrické venkovní zatemnění ve vodících lištách | C30: Rozměr okna 2120 x 2400 mm ( v x š ) - tolerance ±10% elektrické roletové zatemnění vedené ve vodících AL lištách, kovový tubus osazen navíjecím systémem, lamely s pěnovou výplní pro zvýšení mechanické odolnosti, roleta zajišťující absolutní tmu. Motoricky dálkově ovládané. (nutno zaměřit na místě) | D30: 3 | F30: =SUM(D30*E30) -> 0 | G30: =SUM(E30*1.21) -> 0 | H30: =SUM(D30*G30) -> 0
B31: Dálkový ovladač | C31: Umožňuje ovládání všech oken současně, nebo jednotlivě s možností zastavení v libovolné výšce | D31: 1 | F31: =SUM(D31*E31) -> 0 | G31: =SUM(E31*1.21) -> 0 | H31: =SUM(D31*G31) -> 0
B32: Montáž el. zatemnění | C32: Instalační práce | D32: 3 | F32: =SUM(D32*E32) -> 0 | G32: =SUM(E32*1.21) -> 0 | H32: =SUM(D32*G32) -> 0
B33: Celkem | F33: =SUM(F30:F32) -> 0 | H33: =SUM(H30:H32) -> 0
B35: Elektroinstalace v nábytkové části
B36: Osazení samostatné rozvodnice | C36: PVC zápustná rozvodnice uzavíratelná 24 modulová, 1x proudový chránič, 1x hlavní vypínač, 6xjistič 16B | D36: 1 | F36: =SUM(D36*E36) -> 0 | G36: =SUM(E36*1.21) -> 0 | H36: =SUM(D36*G36) -> 0
B37: Přepěťová ochrana do hlavního rozvaděče | C37: kombinovaný svodič přepětí 25A | D37: 1 | F37: =SUM(D37*E37) -> 0 | G37: =SUM(E37*1.21) -> 0 | H37: =SUM(D37*G37) -> 0
B38: El. rozvod v katedře a elektro revize | C38: CYKY 3x 2,5; zásuvky 230V, revize s vystavením revizní zprávy | D38: 1 | F38: =SUM(D38*E38) -> 0 | G38: =SUM(E38*1.21) -> 0 | H38: =SUM(D38*G38) -> 0
B39: Celkem | F39: =SUM(F36:F38) -> 0 | H39: =SUM(H36:H38) -> 0
B41: Ostatní náklady
B42: Celkové sestavení, vynošení, kotvení a montáž učebny | C42: rozmístění, pevná montáž | D42: 1 | F42: =SUM(D42*E42) -> 0 | G42: =SUM(E42*1.21) -> 0 | H42: =SUM(D42*G42) -> 0
B43: Celková doprava dle koeficientu | C43: doprava nábytku a montáže | D43: 1 | F43: =SUM(D43*E43) -> 0 | G43: =SUM(E43*1.21) -> 0 | H43: =SUM(D43*G43) -> 0
B44: Celkem | F44: =SUM(F42:F43) -> 0 | H44: =SUM(H42:H43) -> 0
B46: CELKEM bez DPH | H46: =SUM(F8,F14,F27,F33,F39,F44) -> 0
B48: DPH 21% | H48: =H50-H46 -> 0
B50: CELKEM včetně DPH | H50: =SUM(H8,H14,H27,H33,H39,H44) -> 0

Sheet 128
B2: Kabinet školní družiny (přízemí 1) - místnost č. 128
B4: Položka | C4: Specifikace | D4: ks | E4: jed. cena bez DPH | F4: celkem bez DPH | G4: jed. cena s DPH | H4: celkem s DPH
B5: Vybavení kabinetu
B6: Dvojsedák do kabinetu | C6: Zakulacený kancelářský dvojsedák Konstrukce: dřevěná vnitří kostra, pěnové jádro, potah dle vzorníku, zadní zakulacená část opěráku, nízké přízemní kluzáky | D6: 1 | F6: =SUM(D6*E6) -> 0 | G6: =SUM(E6*1.21) -> 0 | H6: =SUM(D6*G6) -> 0
B7: Křeslo do kabinetu | C7: Zakulacené kancelářské křeslo Konstrukce: dřevěná vnitří kostra, pěnové jádro, potah dle vzorníku, zadní zakulacená část opěráku, nízké přízemní kluzáky | D7: 2 | F7: =SUM(D7*E7) -> 0 | G7: =SUM(E7*1.21) -> 0 | H7: =SUM(D7*G7) -> 0
B8: Konferenční stolek | C8: 500 x 1100 x 450 mm (V x Š x H ) - tolerance ±5% Konstrukce: LTD min. 18 mm, lepená konstrukce, ABS hrany. Nohy 4x kovová podnož. | D8: 1 | F8: =SUM(D8*E8) -> 0 | G8: =SUM(E8*1.21) -> 0 | H8: =SUM(D8*G8) -> 0
B9: Skříň s policovou stěnou a výsuvem na ramínko | C9: 1800 x 900 x 430 mm ( v x š x h ) - tolerance ±5% Konstrukce: LTD min. 18 mm, lepená konstrukce, 2 mm ABS hrany. Celá konstrukce je zpevněna kovovým profilem 40 x 20 mm v horní a spodní části. 4x rektifikační šrouby. Plné dveře s úchytkami a zámkem. Vnitřní vybavení: policová stěna a výsuv na ramínko | D9: 2 | F9: =SUM(D9*E9) -> 0 | G9: =SUM(E9*1.21) -> 0 | H9: =SUM(D9*G9) -> 0
B10: Skříň čtyřdveřová uzavřená, s policemi | C10: 1800 x 900 x 430 mm ( v x š x h) - tolerance ±5% Konstrukce: LTD min. 18 mm, lepená konstrukce, 2 mm ABS hrany. Celá konstrukce je zpevněna kovovým profilem 40 x 20 mm v horní, prostřední a spodní části. 4x rektifikační šrouby. Horní část: plná dvířka s úchytkami a zámkem, 2x stavitelná police Dolní část: plná dvířka s úchytkami a zámkem, 2x stavitelná police | D10: 1 | F10: =SUM(D10*E10) -> 0 | G10: =SUM(E10*1.21) -> 0 | H10: =SUM(D10*G10) -> 0
B11: Nástavec uzavřený | C11: 600 x 900 x 430 mm ( v x š x h ) - tolerance ±5% Konstrukce: LTD min. 18 mm, lepená konstrukce, ABS hrany. Celá konstrukce je zpevněna kovovým profilem 40 x 20 mm v horní části, plná dvířka s úchytkami a zámkem, 1x stavitelná police. | D11: 3 | F11: =SUM(D11*E11) -> 0 | G11: =SUM(E11*1.21) -> 0 | H11: =SUM(D11*G11) -> 0
B12: Skříň nízká, zásuvková | C12: 900 x 900 x 430 mm ( v x š x h ) - tolerance ±5% Konstrukce: LTD min. 18 mm, lepená konstrukce, 2 mm ABS hrany. Celá konstrukce je zpevněna kovovým profilem 40 x 20 mm v horní a spodní části. 4x rektifikační šrouby pro vyrovnání nerovností podlahy, skříň se třemi zásuvkami a úchytkami se zámkem. | D12: 1 | F12: =SUM(D12*E12) -> 0 | G12: =SUM(E12*1.21) -> 0 | H12: =SUM(D12*G12) -> 0
B13: Vestavná skříň s umyvadlem | C13: 2100 x 1480 x 600 mm ( v x š x h ) - tolerance ±5% Konstrukce: LTD min. 18 mm, hrany ABS alespoň 2 mm lepeny technologií PUR, jekl cca 40 x 20 mm, pracovní deska o síle 25 mm s odolnou folií HPL, min. 0,8 mm. Zádovina 600x1910 mm, LTD deska o síle min. 10mm Spodní část - 1x mycí stůl š. 600 mm s umyvadlem s nerezovou výpustí, baterie T+S, plná dvířka s úchytkami, 1x dvoudveřová skříňka š. 880 mm. Horní část - 2x výkloplná skříňka 600 x 740 x 300 ( v x š x h ). Zafrézovaný AL profil včetně LED pásku. Kovové prvky budou upraveny vypalovací barvou RAL dle výběru. | D13: 1 | F13: =SUM(D13*E13) -> 0 | G13: =SUM(E13*1.21) -> 0 | H13: =SUM(D13*G13) -> 0
B14: Odkládací parapetní pult | C14: š. 1200 mm, h. min. 400 mm (tolerance ±10%) LTD min. 18mm, lepená konstrukce, ABS hrany. | D14: 3 | F14: =SUM(D14*E14) -> 0 | G14: =SUM(E14*1.21) -> 0 | H14: =SUM(D14*G14) -> 0
B15: Celkem | F15: =SUM(F6:F14) -> 0 | H15: =SUM(H6:H14) -> 0
B17: Zatemnění
B18: Látkové vertikální zatemnění | C18: Rozměr okna 2120 x 1180 mm ( v x š ) - tolerance ±10% látkové vertikální zatemnění, šíře lamely min.120 mm, délka dle skutečného zaměření, ovládání ruční řetízkové, hustota a gramáž materiálu zabraňující prostupu slunečního svitu | D18: 3 | F18: =SUM(D18*E18) -> 0 | G18: =SUM(E18*1.21) -> 0 | H18: =SUM(D18*G18) -> 0
B19: Montáž zatemnění | C19: Instalační práce | D19: 3 | F19: =SUM(D19*E19) -> 0 | G19: =SUM(E19*1.21) -> 0 | H19: =SUM(D19*G19) -> 0
B20: Celkem | F20: =SUM(F18:F19) -> 0 | H20: =SUM(H18:H19) -> 0
B22: Elektroinstalace v nábytkové části
B23: El. rozvod v nábytku a elektro revize | C23: CYKY 3x 2,5; zásuvky 230V, revize s vystavením revizní zprávy | D23: 1 | F23: =SUM(D23*E23) -> 0 | G23: =SUM(E23*1.21) -> 0 | H23: =SUM(D23*G23) -> 0
B24: Celkem | F24: =SUM(F23:F23) -> 0 | H24: =SUM(H23:H23) -> 0
B26: Ostatní náklady
B27: Celkové sestavení, vynošení, kotvení a montáž učebny | C27: rozmístění, pevná montáž | D27: 1 | F27: =SUM(D27*E27) -> 0 | G27: =SUM(E27*1.21) -> 0 | H27: =SUM(D27*G27) -> 0
B28: Celková doprava dle koeficientu | C28: doprava nábytku a montáže | D28: 1 | F28: =SUM(D28*E28) -> 0 | G28: =SUM(E28*1.21) -> 0 | H28: =SUM(D28*G28) -> 0
B29: Celkem | F29: =SUM(F27:F28) -> 0 | H29: =SUM(H27:H28) -> 0
B31: CELKEM bez DPH | H31: =SUM(F15,F20,F24,F29) -> 0
B33: DPH 21% | H33: =H35-H31 -> 0
B35: CELKEM včetně DPH | H35: =SUM(H15,H20,H24,H29) -> 0

Sheet 225
B2: Školní družina (druhé patro 1) - místnost č. 225
B4: Položka | C4: Specifikace | D4: ks | E4: jed. cena bez DPH | F4: celkem bez DPH | G4: jed. cena s DPH | H4: celkem s DPH
B5: Učitelské pracoviště
B6: Katedra multimediální s AV skříňkou, celodřevěná | C6: 760 x 1600 x 600 mm ( v x š x h ) - tolerance ±5% Pracovní deska 25 mm s PUR hranou. V pracovní desce stolu bude průchodka průměru 70 mm pro kabeláž pro monitor. Konstrukce katedry z LTD 18 mm, dvojitá záda pro vedení veškeré kabeláže. Pojezd pro klávesnici pod pracovní deskou. PC box: šíře 270 mm, ve spodní části jekl 40 x 20 mm, v horní části PC boxu police, v zadní části PC boxu odvětrování perforovaným plechem (velikost otvoru min. 7 mm max.10 mm). Roletová skříňka pro AV techniku: šíře 600 mm, ve spodní části jekl 40 x 20 mm, 2x stavitelné police, horizontální roletová dvířka se zámkem. Kovové prvky budou upraveny vypalovací barvou RAL dle výběru. | D6: 1 | F6: =SUM(D6*E6) -> 0 | G6: =SUM(E6*1.21) -> 0 | H6: =SUM(D6*G6) -> 0
B7: Učitelská židle poločalouněná skořepina | C7: Konstrukce: z kombinovaného rámu z ohýbaného plochooválu 20 x 38 mm s tvarovanou 11-ti vrstvou skořepinou s částečným čalouněním sedáku a opěráku. Fixace pomocí přítlačné desky formou skrytých závrtných šroubů. Nohy opatřené plastovým návlekem a plastová kolébka s možností vložení teflonového nebo filcového kluzáku. | D7: 1 | F7: =SUM(D7*E7) -> 0 | G7: =SUM(E7*1.21) -> 0 | H7: =SUM(D7*G7) -> 0
B8: Celkem | F8: =SUM(F6:F7) -> 0 | H8: =SUM(H6:H7) -> 0
B10: Žákovské pracoviště
B11: Dětský stůl celodřevený, půlkulatý | C11: 1200 x 600 mm ( š x h ) - tolerance ±5% Dětský půlkulatý stůl o rozměru 1200 x 600 mm. Konstrukce: deska LTD o tloušťce min. 18 mm, dřevěná podnož. Pracovní deska tl. 18mm - barevná. | D11: 2 | F11: =SUM(D11*E11) -> 0 | G11: =SUM(E11*1.21) -> 0 | H11: =SUM(D11*G11) -> 0
B12: Dětský stůl celodřevený, obdélníkový | C12: 1200 x 800 mm ( š x h ) - tolerance ±5% Dětský obdélníkový stůl o rozměru 1200 x 800 mm. Konstrukce: deska LTD o tloušťce min. 18 mm, dřevěná podnož. Pracovní deska tl. 18mm - barevná. | D12: 2 | F12: =SUM(D12*E12) -> 0 | G12: =SUM(E12*1.21) -> 0 | H12: =SUM(D12*G12) -> 0
B13: Dětská židle | C13: Kostra z bukového masivu. Sedák a opěrák z mořené bukové překližky. | D13: 16 | F13: =SUM(D13*E13) -> 0 | G13: =SUM(E13*1.21) -> 0 | H13: =SUM(D13*G13) -> 0
B14: Celkem | F14: =SUM(F11:F13) -> 0 | H14: =SUM(H11:H13) -> 0
B16: Nábytek
B17: Otevřená skříňka s úložnými boxy a dvířky | C17: 770 x 1040 x 470 mm ( v x š x h ) - tolerance ±5% Konstrukce: LTD min. 18 mm, lepená konstrukce, 2 mm ABS hrany, 4x rektifikační šrouby. Pohledová záda, kolečka pro manipulaci. Skříň s 8 úložnými boxy a dvířky. | D17: 3 | F17: =SUM(D17*E17) -> 0 | G17: =SUM(E17*1.21) -> 0 | H17: =SUM(D17*G17) -> 0
B18: Vestavná skříň | C18: 2150 x 950 x 300 mm ( v x š x h ) - tolerance ±5% Konstrukce: z LTD materiálu. Plné dveře s úchytkami a zámkem, 5x police, z toho minimálně 4x stavitelná. | D18: 1 | F18: =SUM(D18*E18) -> 0 | G18: =SUM(E18*1.21) -> 0 | H18: =SUM(D18*G18) -> 0
B19: Vestavná skříň | C19: 2050 x 1450 x 250 mm ( v x š x h ) - tolerance ±5% Konstrukce: z LTD materiálu. Rozdělena na dvě sekce šíře 725 mm. Plné dveře s úchytkami a zámkem, 5x police, z toho minimálně 4x stavitelná. | D19: 1 | F19: =SUM(D19*E19) -> 0 | G19: =SUM(E19*1.21) -> 0 | H19: =SUM(D19*G19) -> 0
B20: Nástěnka | C20: 900 x 600 mm Korková nástěnka, rám z hliníkového profilu, zavěšení na stěnu. | D20: 1 | F20: =SUM(D20*E20) -> 0 | G20: =SUM(E20*1.21) -> 0 | H20: =SUM(D20*G20) -> 0
B21: Skříň čtyřdveřová uzavřená, s policemi | C21: 1800 x 900 x 600 mm ( v x š x h) - tolerance ±5% Konstrukce: LTD min. 18 mm, lepená konstrukce, 2 mm ABS hrany. Celá konstrukce je zpevněna kovovým profilem 40 x 20 mm v horní, prostřední a spodní části. 4x rektifikační šrouby. Horní část: plná dvířka s úchytkami a zámkem, 2x stavitelná police Dolní část: plná dvířka s úchytkami a zámkem, 2x stavitelná police | D21: 4 | F21: =SUM(D21*E21) -> 0 | G21: =SUM(E21*1.21) -> 0 | H21: =SUM(D21*G21) -> 0
B22: Skříň vysoká, kombinovaná s policemi | C22: 1800 x 900 x 600 mm ( v x š x h ) - tolerance ±5% Konstrukce: LTD min. 18 mm, lepená konstrukce, 2 mm ABS hrany. Celá konstrukce je zpevněna kovovým profilem 40 x 20 mm v horní, prostřední a spodní části. 4x rektifikační šrouby. Horní část: 2x stavitelná police Dolní část: plná dvířka s úchytkami a zámkem, 2x stavitelná police | D22: 2 | F22: =SUM(D22*E22) -> 0 | G22: =SUM(E22*1.21) -> 0 | H22: =SUM(D22*G22) -> 0
B23: Nástavec uzavřený | C23: 600 x 900 x 600 mm ( v x š x h ) - tolerance ±5% Konstrukce: LTD min. 18 mm, lepená konstrukce, ABS hrany. Celá konstrukce je zpevněna kovovým profilem 40 x 20 mm v horní části, plná dvířka s úchytkami a zámkem, 1x stavitelná police. | D23: 6 | F23: =SUM(D23*E23) -> 0 | G23: =SUM(E23*1.21) -> 0 | H23: =SUM(D23*G23) -> 0
B24: Koberec | C24: 3000 x 6000 mm - tolerance ±10% Koberec s barevným potiskem. (nutno zaměřit na místě) | D24: 1 | F24: =SUM(D24*E24) -> 0 | G24: =SUM(E24*1.21) -> 0 | H24: =SUM(D24*G24) -> 0
B25: Odkládací parapetní pult | C25: š. 2400 mm, h. min. 400 mm (tolerance ±10%) LTD min. 18mm, lepená konstrukce, ABS hrany. | D25: 2 | F25: =SUM(D25*E25) -> 0 | G25: =SUM(E25*1.21) -> 0 | H25: =SUM(D25*G25) -> 0
B26: Odkládací parapetní pult | C26: š. 1600 mm, h. min. 400 mm (tolerance ±10%) LTD min. 18mm, lepená konstrukce, ABS hrany. | D26: 1 | F26: =SUM(D26*E26) -> 0 | G26: =SUM(E26*1.21) -> 0 | H26: =SUM(D26*G26) -> 0
B27: Kryt radiátoru | C27: š. 2400 mm - tolerance ±10% Konstrukce tvořena z LTD materiálu tloušťky min. 18mm a konzol z jeklového profilu. | D27: 2 | F27: =SUM(D27*E27) -> 0 | G27: =SUM(E27*1.21) -> 0 | H27: =SUM(D27*G27) -> 0
B28: Kryt radiátoru | C28: š. 1600 mm - tolerance ±10% Konstrukce tvořena z LTD materiálu tloušťky min. 18mm a konzol z jeklového profilu. | D28: 1 | F28: =SUM(D28*E28) -> 0 | G28: =SUM(E28*1.21) -> 0 | H28: =SUM(D28*G28) -> 0
B29: Celkem | F29: =SUM(F17:F28) -> 0 | H29: =SUM(H17:H28) -> 0
B31: Zatemnění venkovní
B32: Roletové, elektrické venkovní zatemnění ve vodících lištách | C32: Rozměr okna 2120 x 2400 mm ( v x š ) - tolerance ±10% elektrické roletové zatemnění vedené ve vodících AL lištách, kovový tubus osazen navíjecím systémem, lamely s pěnovou výplní pro zvýšení mechanické odolnosti, roleta zajišťující absolutní tmu. Motoricky dálkově ovládané. (nutno zaměřit na místě) | D32: 2 | F32: =SUM(D32*E32) -> 0 | G32: =SUM(E32*1.21) -> 0 | H32: =SUM(D32*G32) -> 0
B33: Roletové, elektrické venkovní zatemnění ve vodících lištách | C33: Rozměr okna 2900 x 800 mm ( v x š ) - tolerance ±10% elektrické roletové zatemnění vedené ve vodících AL lištách, kovový tubus osazen navíjecím systémem, lamely s pěnovou výplní pro zvýšení mechanické odolnosti, roleta zajišťující absolutní tmu. Motoricky dálkově ovládané. (nutno zaměřit na místě) | D33: 1 | F33: =SUM(D33*E33) -> 0 | G33: =SUM(E33*1.21) -> 0 | H33: =SUM(D33*G33) -> 0
B34: Roletové, elektrické venkovní zatemnění ve vodících lištách | C34: Rozměr okna 2120 x 1600 mm ( v x š ) - tolerance ±10% elektrické roletové zatemnění vedené ve vodících AL lištách, kovový tubus osazen navíjecím systémem, lamely s pěnovou výplní pro zvýšení mechanické odolnosti, roleta zajišťující absolutní tmu. Motoricky dálkově ovládané. (nutno zaměřit na místě) | D34: 1 | F34: =SUM(D34*E34) -> 0 | G34: =SUM(E34*1.21) -> 0 | H34: =SUM(D34*G34) -> 0
B35: Dálkový ovladač | C35: Umožňuje ovládání všech oken současně, nebo jednotlivě s možností zastavení v libovolné výšce | D35: 1 | F35: =SUM(D35*E35) -> 0 | G35: =SUM(E35*1.21) -> 0 | H35: =SUM(D35*G35) -> 0
B36: Montáž el. zatemnění | C36: Instalační práce | D36: 4 | F36: =SUM(D36*E36) -> 0 | G36: =SUM(E36*1.21) -> 0 | H36: =SUM(D36*G36) -> 0
B37: Celkem | F37: =SUM(F32:F36) -> 0 | H37: =SUM(H32:H36) -> 0
B39: Elektroinstalace v nábytkové části
B40: Osazení samostatné rozvodnice | C40: PVC zápustná rozvodnice uzavíratelná 24 modulová, 1x proudový chránič, 1x hlavní vypínač, 6xjistič 16B | D40: 1 | F40: =SUM(D40*E40) -> 0 | G40: =SUM(E40*1.21) -> 0 | H40: =SUM(D40*G40) -> 0
B41: Přepěťová ochrana do hlavního rozvaděče | C41: kombinovaný svodič přepětí 25A | D41: 1 | F41: =SUM(D41*E41) -> 0 | G41: =SUM(E41*1.21) -> 0 | H41: =SUM(D41*G41) -> 0
B42: El. rozvod v katedře a elektro revize | C42: CYKY 3x 2,5; zásuvky 230V, revize s vystavením revizní zprávy | D42: 1 | F42: =SUM(D42*E42) -> 0 | G42: =SUM(E42*1.21) -> 0 | H42: =SUM(D42*G42) -> 0
B43: Celkem | F43: =SUM(F40:F42) -> 0 | H43: =SUM(H40:H42) -> 0
B45: Ostatní náklady
B46: Celkové sestavení, vynošení, kotvení a montáž učebny | C46: rozmístění, pevná montáž | D46: 1 | F46: =SUM(D46*E46) -> 0 | G46: =SUM(E46*1.21) -> 0 | H46: =SUM(D46*G46) -> 0
B47: Celková doprava dle koeficientu | C47: doprava nábytku a montáže | D47: 1 | F47: =SUM(D47*E47) -> 0 | G47: =SUM(E47*1.21) -> 0 | H47: =SUM(D47*G47) -> 0
...

Sheet 223
B2: Kabinet školní družiny (druhé patro 1) - místnost č. 223
B4: Položka | C4: Specifikace | D4: ks | E4: jed. cena bez DPH | F4: celkem bez DPH | G4: jed. cena s DPH | H4: celkem s DPH
B5: Vybavení kabinetu
B6: Stůl celodřevěný, pevný zásuvkový kontejner s centrálním zámkem | C6: 760 x 1600 x 680 mm ( v x š x h ) - tolerance ±5% Stůl celodřevěný s pevným zásuvkovým kontejnerem š. 400mm, uzamykání centrálním zámkem, čelní krytí, materiál LTD tl. 18 mm s ABS hranou, pracovní deska LTD tl. 25 mm s ABS hranou | D6: 1 | F6: =SUM(D6*E6) -> 0 | G6: =SUM(E6*1.21) -> 0 | H6: =SUM(D6*G6) -> 0
B7: Kancelářská židle | C7: Kancelářská židle s vyšším a ergonomickým opěrákem, mechanika e-synchro, vel. 430-530 mm, s područkami | D7: 1 | F7: =SUM(D7*E7) -> 0 | G7: =SUM(E7*1.21) -> 0 | H7: =SUM(D7*G7) -> 0
B8: Učitelský AiO | C8: LCD: min. 23.5", FullHD 1920x1080, technologie IPS, Antireflexní CPU: Passmark V10 min. 11500 bodů bez přetaktování Paměť: min. 16GB DDR4 Operační systém: plně kompatibilní s MS Windows, s podporou připojení do domény, druhotná licence není přípustná Kapacita disku: min. SSD 512GB, M.2 PCIe NVMe Grafika: integrovaná Konektivita: Wireless 802.11ac, LAN 10/100/1000, Bluetooth Porty: 1x RJ45, min. 2x USB 2.0, min. 2x USB 3.0, 1x univerzální zvukový konektor typu Jack, 1x DisplayPort nebo HDMI Klávesnice USB s českou lokalizací + optická myš USB Podpora VESA držáku kancelářský balíček MS Office Std 2019 OLP | D8: 1 | F8: =SUM(D8*E8) -> 0 | G8: =SUM(E8*1.21) -> 0 | H8: =SUM(D8*G8) -> 0
B9: Skříň nízká, zásuvková | C9: 900 x 900 x 430 mm ( v x š x h ) - tolerance ±5% Konstrukce: LTD min. 18 mm, lepená konstrukce, 2 mm ABS hrany. Celá konstrukce je zpevněna kovovým profilem 40 x 20 mm v horní a spodní části. 4x rektifikační šrouby pro vyrovnání nerovností podlahy, skříň se třemi zásuvkami a úchytkami se zámkem. | D9: 2 | F9: =SUM(D9*E9) -> 0 | G9: =SUM(E9*1.21) -> 0 | H9: =SUM(D9*G9) -> 0
B10: Vestavná skříň | C10: 3000 x 1150 x 500 mm ( v x š x h ) - tolerance ±5% Konstrukce: z LTD materiálu. Rozdělena na dvě sekce šíře 570 mm. Spodní část uzavíratelná policová v. 900 mm, prostřední část uzavíratelná v. 900 mm, horní část uzavíratelná policová v. 1200 mm, uzamykatelná sjednoceným klíčem. | D10: 1 | F10: =SUM(D10*E10) -> 0 | G10: =SUM(E10*1.21) -> 0 | H10: =SUM(D10*G10) -> 0
B11: Skříň kombinovaná s policemi a zásuvkami | C11: 1800 x 900 x 430 mm ( v x š x h ) - tolerance ±5% Konstrukce: LTD min. 18 mm, lepená konstrukce, 2 mm ABS hrany. Celá konstrukce je zpevněna kovovým profilem 40 x 20 mm v horní, prostřední a spodní části. 4x rektifikační šrouby. Horní část: 2x stavitelná police Dolní část: 3x zásuvka s úchytkami a zámkem | D11: 1 | F11: =SUM(D11*E11) -> 0 | G11: =SUM(E11*1.21) -> 0 | H11: =SUM(D11*G11) -> 0
B12: Skříň vysoká, uzavřená s policemi | C12: 1800 x 900 x 430 mm ( v x š x h ) - tolerance ±5% Konstrukce: LTD min. 18 mm, lepená konstrukce, 2 mm ABS hrany. Celá konstrukce je zpevněna kovovým profilem 40 x 20 mm v horní a spodní části. 4x rektifikační šrouby. Plné dveře s úchytkami a zámkem, 5x police, z toho minimálně 4x stavitelná | D12: 1 | F12: =SUM(D12*E12) -> 0 | G12: =SUM(E12*1.21) -> 0 | H12: =SUM(D12*G12) -> 0
B13: Skříň čtyřdveřová uzavřená, s policemi | C13: 1800 x 900 x 430 mm ( v x š x h) - tolerance ±5% Konstrukce: LTD min. 18 mm, lepená konstrukce, 2 mm ABS hrany. Celá konstrukce je zpevněna kovovým profilem 40 x 20 mm v horní, prostřední a spodní části. 4x rektifikační šrouby. Horní část: plná dvířka s úchytkami a zámkem, 2x stavitelná police Dolní část: plná dvířka s úchytkami a zámkem, 2x stavitelná police | D13: 2 | F13: =SUM(D13*E13) -> 0 | G13: =SUM(E13*1.21) -> 0 | H13: =SUM(D13*G13) -> 0
B14: Skříň vysoká, kombinovaná s policemi | C14: 1800 x 900 x 430 mm ( v x š x h ) - tolerance ±5% Konstrukce: LTD min. 18 mm, lepená konstrukce, 2 mm ABS hrany. Celá konstrukce je zpevněna kovovým profilem 40 x 20 mm v horní, prostřední a spodní části. 4x rektifikační šrouby. Horní část: 2x stavitelná police Dolní část: plná dvířka s úchytkami a zámkem, 2x stavitelná police | D14: 1 | F14: =SUM(D14*E14) -> 0 | G14: =SUM(E14*1.21) -> 0 | H14: =SUM(D14*G14) -> 0
B15: Skříň s policovou stěnou a výsuvem na ramínko | C15: 1800 x 900 x 430 mm ( v x š x h ) - tolerance ±5% Konstrukce: LTD min. 18 mm, lepená konstrukce, 2 mm ABS hrany. Celá konstrukce je zpevněna kovovým profilem 40 x 20 mm v horní a spodní části. 4x rektifikační šrouby. Plné dveře s úchytkami a zámkem. Vnitřní vybavení: policová stěna a výsuv na ramínko | D15: 1 | F15: =SUM(D15*E15) -> 0 | G15: =SUM(E15*1.21) -> 0 | H15: =SUM(D15*G15) -> 0
B16: Nástavec uzavřený | C16: 600 x 900 x 430 mm ( v x š x h ) - tolerance ±5% Konstrukce: LTD min. 18 mm, lepená konstrukce, ABS hrany. Celá konstrukce je zpevněna kovovým profilem 40 x 20 mm v horní části, plná dvířka s úchytkami a zámkem, 1x stavitelná police. | D16: 6 | F16: =SUM(D16*E16) -> 0 | G16: =SUM(E16*1.21) -> 0 | H16: =SUM(D16*G16) -> 0
B17: Odkládací parapetní pult | C17: š. 2400 mm, h. min. 400 mm (tolerance ±10%) LTD min. 18mm, lepená konstrukce, ABS hrany. | D17: 1 | F17: =SUM(D17*E17) -> 0 | G17: =SUM(E17*1.21) -> 0 | H17: =SUM(D17*G17) -> 0
B18: Celkem | F18: =SUM(F6:F17) -> 0 | H18: =SUM(H6:H17) -> 0
B20: Zatemnění venkovní
B21: Roletové, elektrické venkovní zatemnění ve vodících lištách | C21: Rozměr okna 2120 x 2400 mm ( v x š ) - tolerance ±10% elektrické roletové zatemnění vedené ve vodících AL lištách, kovový tubus osazen navíjecím systémem, lamely s pěnovou výplní pro zvýšení mechanické odolnosti, roleta zajišťující absolutní tmu. Motoricky dálkově ovládané. (nutno zaměřit na místě) | D21: 1 | F21: =SUM(D21*E21) -> 0 | G21: =SUM(E21*1.21) -> 0 | H21: =SUM(D21*G21) -> 0
B22: Dálkový ovladač | C22: Umožňuje ovládání všech oken současně, nebo jednotlivě s možností zastavení v libovolné výšce | D22: 1 | F22: =SUM(D22*E22) -> 0 | G22: =SUM(E22*1.21) -> 0 | H22: =SUM(D22*G22) -> 0
B23: Montáž zatemnění | C23: Instalační práce | D23: 1 | F23: =SUM(D23*E23) -> 0 | G23: =SUM(E23*1.21) -> 0 | H23: =SUM(D23*G23) -> 0
B24: Celkem | F24: =SUM(F21:F23) -> 0 | H24: =SUM(H21:H23) -> 0
B26: Elektroinstalace v nábytkové části
B27: El. rozvod v kancelářských stolech a elektro revize | C27: CYKY 3x 2,5; zásuvky 230V, revize s vystavením revizní zprávy | D27: 1 | F27: =SUM(D27*E27) -> 0 | G27: =SUM(E27*1.21) -> 0 | H27: =SUM(D27*G27) -> 0
B28: Celkem | F28: =SUM(F27:F27) -> 0 | H28: =SUM(H27:H27) -> 0
B30: Ostatní náklady
B31: Celkové sestavení, vynošení, kotvení a montáž učebny | C31: rozmístění, pevná montáž | D31: 1 | F31: =SUM(D31*E31) -> 0 | G31: =SUM(E31*1.21) -> 0 | H31: =SUM(D31*G31) -> 0
B32: Celková doprava dle koeficientu | C32: doprava nábytku a montáže | D32: 1 | F32: =SUM(D32*E32) -> 0 | G32: =SUM(E32*1.21) -> 0 | H32: =SUM(D32*G32) -> 0
B33: Celkem | F33: =SUM(F31:F32) -> 0 | H33: =SUM(H31:H32) -> 0
B35: CELKEM bez DPH | H35: =SUM(F18,F24,F28,F33) -> 0
B37: DPH 21% | H37: =H39-H35 -> 0
B39: CELKEM včetně DPH | H39: =SUM(H18,H24,H28,H33) -> 0

Sheet 226
B2: Školní družina (druhé patro 2) - místnost č. 226
B4: Položka | C4: Specifikace | D4: ks | E4: jed. cena bez DPH | F4: celkem bez DPH | G4: jed. cena s DPH | H4: celkem s DPH
B5: Učitelské pracoviště
B6: Katedra multimediální s AV skříňkou, celodřevěná | C6: 760 x 1600 x 600 mm ( v x š x h ) - tolerance ±5% Pracovní deska 25 mm s PUR hranou. V pracovní desce stolu bude průchodka průměru 70 mm pro kabeláž pro monitor. Konstrukce katedry z LTD 18 mm, dvojitá záda pro vedení veškeré kabeláže. Pojezd pro klávesnici pod pracovní deskou. PC box: šíře 270 mm, ve spodní části jekl 40 x 20 mm, v horní části PC boxu police, v zadní části PC boxu odvětrování perforovaným plechem (velikost otvoru min. 7 mm max.10 mm). Roletová skříňka pro AV techniku: šíře 600 mm, ve spodní části jekl 40 x 20 mm, 2x stavitelné police, horizontální roletová dvířka se zámkem. Kovové prvky budou upraveny vypalovací barvou RAL dle výběru. | D6: 1 | F6: =SUM(D6*E6) -> 0 | G6: =SUM(E6*1.21) -> 0 | H6: =SUM(D6*G6) -> 0
B7: Učitelská židle poločalouněná skořepina | C7: Konstrukce: z kombinovaného rámu z ohýbaného plochooválu 20 x 38 mm s tvarovanou 11-ti vrstvou skořepinou s částečným čalouněním sedáku a opěráku. Fixace pomocí přítlačné desky formou skrytých závrtných šroubů. Nohy opatřené plastovým návlekem a plastová kolébka s možností vložení teflonového nebo filcového kluzáku. | D7: 1 | F7: =SUM(D7*E7) -> 0 | G7: =SUM(E7*1.21) -> 0 | H7: =SUM(D7*G7) -> 0
B8: Celkem | F8: =SUM(F6:F7) -> 0 | H8: =SUM(H6:H7) -> 0
B10: Žákovské pracoviště
B11: Dětský stůl celodřevený, půlkulatý | C11: 1200 x 600 mm ( š x h ) - tolerance ±5% Dětský půlkulatý stůl o rozměru 1200 x 600 mm. Konstrukce: deska LTD o tloušťce min. 18 mm, dřevěná podnož. Pracovní deska tl. 18mm - barevná. | D11: 2 | F11: =SUM(D11*E11) -> 0 | G11: =SUM(E11*1.21) -> 0 | H11: =SUM(D11*G11) -> 0
B12: Dětský stůl celodřevený, obdélníkový | C12: 1200 x 800 mm ( š x h ) - tolerance ±5% Dětský obdélníkový stůl o rozměru 1200 x 800 mm. Konstrukce: deska LTD o tloušťce min. 18 mm, dřevěná podnož. Pracovní deska tl. 18mm - barevná. | D12: 2 | F12: =SUM(D12*E12) -> 0 | G12: =SUM(E12*1.21) -> 0 | H12: =SUM(D12*G12) -> 0
B13: Dětská židle | C13: Kostra z bukového masivu. Sedák a opěrák z mořené bukové překližky. | D13: 16 | F13: =SUM(D13*E13) -> 0 | G13: =SUM(E13*1.21) -> 0 | H13: =SUM(D13*G13) -> 0
B14: Celkem | F14: =SUM(F11:F13) -> 0 | H14: =SUM(H11:H13) -> 0
B16: Nábytek
B17: Otevřená skříňka s úložnými boxy a dvířky | C17: 770 x 1040 x 470 mm ( v x š x h ) - tolerance ±5% Konstrukce: LTD min. 18 mm, lepená konstrukce, 2 mm ABS hrany, 4x rektifikační šrouby. Pohledová záda, kolečka pro manipulaci. Skříň s 8 úložnými boxy a dvířky. | D17: 3 | F17: =SUM(D17*E17) -> 0 | G17: =SUM(E17*1.21) -> 0 | H17: =SUM(D17*G17) -> 0
B18: Vestavná skříň | C18: 1000 x 1100 x 300 mm ( v x š x h ) - tolerance ±5% Konstrukce: z LTD materiálu. Rozdělena na dvě sekce šíře 550 mm. Uzavíratelná, policová, uzamykatelná sjednoceným klíčem. | D18: 1 | F18: =SUM(D18*E18) -> 0 | G18: =SUM(E18*1.21) -> 0 | H18: =SUM(D18*G18) -> 0
B19: Vestavná skříň | C19: 2200 x 1000 x 200 mm ( v x š x h ) - tolerance ±5% Konstrukce: z LTD materiálu. Rozdělena na dvě sekce šíře 550 mm. Uzavíratelná, policová, uzamykatelná sjednoceným klíčem. | D19: 1 | F19: =SUM(D19*E19) -> 0 | G19: =SUM(E19*1.21) -> 0 | H19: =SUM(D19*G19) -> 0
B20: Nástěnka | C20: 1500 x 1200 mm Korková nástěnka, rám z hliníkového profilu, zavěšení na stěnu. | D20: 1 | F20: =SUM(D20*E20) -> 0 | G20: =SUM(E20*1.21) -> 0 | H20: =SUM(D20*G20) -> 0
B21: Skříň čtyřdveřová uzavřená, s policemi | C21: 1800 x 900 x 600 mm ( v x š x h) - tolerance ±5% Konstrukce: LTD min. 18 mm, lepená konstrukce, 2 mm ABS hrany. Celá konstrukce je zpevněna kovovým profilem 40 x 20 mm v horní, prostřední a spodní části. 4x rektifikační šrouby. Horní část: plná dvířka s úchytkami a zámkem, 2x stavitelná police Dolní část: plná dvířka s úchytkami a zámkem, 2x stavitelná police | D21: 4 | F21: =SUM(D21*E21) -> 0 | G21: =SUM(E21*1.21) -> 0 | H21: =SUM(D21*G21) -> 0
